Workbook

Sheet 2017_C_INJ_RPT_final_123020
A1: Injury Fatalities among MA Children Aged 0-17 years1 | G1: 2017
A7: Key Indicators | B7: INJURY INTENT | G7: Totals
B8: Unintentional | C8: Suicide | D8: Homicide | E8: Undetermined | F8: Other & Legal2
A11: Total Counts by Intent | B11: 49 | C11: 22 | D11: 10 | E11: 3 | F11: 0 | G11: =SUM(B11:F11) -> 84
A12: Percent by Intent | B12: =B11/G11 -> 0.58333333 | C12: =C11/G11 -> 0.26190476 | D12: =D11/G11 -> 0.11904762 | E12: =E11/G11 -> 0.035714286 | F12: 0 | G12: 1
A13: Rate per 100,000 population3 | B13: 3.5064326 | C13: 1.5743167 | D13: 0.71559849 | E13: -- | F13: 0 | G13: =(G11/1397431.6875)*100000 -> 6.0110273
A15: Injury Mechanism | B15: INJURY INTENT | G15: Total Counts | H15: Percent of Total Count
B16: Unintentional | C16: Suicide | D16: Homicide | E16: Undetermined | F16: Other & Legal2
A17: Cut/pierce | B17: 0 | C17: 0 | D17: 0 | E17: 0 | F17: 0 | G17: =SUM(B17:F17) -> 0 | H17: =G17/$G$11 -> 0
A18: Drowning/submersion | B18: 6 | C18: 1 | D18: 0 | E18: 0 | F18: 0 | G18: =SUM(B18:F18) -> 7 | H18: =G18/$G$11 -> 0.083333333
A19: Fall | B19: 1 | C19: 0 | D19: 0 | E19: 0 | G19: =SUM(B19:F19) -> 1 | H19: =G19/$G$11 -> 0.011904762
A20: Fire/flame and burns | B20: 4 | C20: 0 | D20: 0 | E20: 1 | G20: =SUM(B20:F20) -> 5 | H20: =G20/$G$11 -> 0.05952381
A21: Firearms | B21: 0 | C21: 4 | D21: 10 | E21: 1 | F21: 0 | G21: =SUM(B21:F21) -> 15 | H21: =G21/$G$11 -> 0.17857143
A22: Machinery | B22: 0 | G22: =SUM(B22:F22) -> 0 | H22: =G22/$G$11 -> 0
A23: Natural/environmental | B23: 1 | C23: 0 | E23: 0 | G23: =SUM(B23:F23) -> 1 | H23: =G23/$G$11 -> 0.011904762
A24: Poisoning/overdoses | B24: 4 | C24: 1 | D24: 0 | E24: 0 | F24: 0 | G24: =SUM(B24:F24) -> 5 | H24: =G24/$G$11 -> 0.05952381
A25: Struck by, against | B25: 0 | D25: 0 | E25: 0 | F25: 0 | G25: =SUM(B25:F25) -> 0 | H25: =G25/$G$11 -> 0
A26: Suffocation4 | B26: 6 | C26: 14 | D26: 0 | E26: 1 | F26: 0 | G26: =SUM(B26:F26) -> 21 | H26: =G26/$G$11 -> 0.25
A27: Transport Injuries:5 | B27: 27 | C27: 0 | D27: 0 | E27: 0 | G27: =SUM(B27:F27) -> 27 | H27: =G27/$G$11 -> 0.32142857
A28: Motor vehicle traffic-related | B28: 19 | G28: =SUM(B28:F28) -> 19 | H28: =G28/$G$11 -> 0.22619048
A29: MV Occupant6 | B29: 13 | G29: =SUM(B29:F29) -> 13 | H29: =G29/$G$11 -> 0.1547619
A30: Motorcyclist | B30: 0 | G30: =SUM(B30:F30) -> 0 | H30: =G30/$G$11 -> 0
A31: Pedal Cyclist | B31: 0 | G31: =SUM(B31:F31) -> 0 | H31: =G31/$G$11 -> 0
A32: Pedestrian | B32: 6 | G32: =SUM(B32:F32) -> 6 | H32: =G32/$G$11 -> 0.071428571
A33: Pedal cyclist, non-traffic | B33: 4 | G33: =SUM(B33:F33) -> 4 | H33: =G33/$G$11 -> 0.047619048
A34: Pedestrian, non-traffic | B34: 1 | G34: =SUM(B34:F34) -> 1 | H34: =G34/$G$11 -> 0.011904762
A35: Other land transport | B35: 2 | G35: =SUM(B35:F35) -> 2 | H35: =G35/$G$11 -> 0.023809524
A36: Other transport | B36: 1 | G36: =SUM(B36:F36) -> 1 | H36: =G36/$G$11 -> 0.011904762
A37: Other specified & classifiable | B37: 0 | C37: 2 | D37: 0 | E37: 0 | F37: 0 | G37: =SUM(B37:F37) -> 2 | H37: =G37/$G$11 -> 0.023809524
A38: Other specified, not classifiable | B38: 0 | C38: 0 | D38: 0 | E38: 0 | F38: 0 | G38: =SUM(B38:F38) -> 0 | H38: =G38/$G$11 -> 0
A39: Unspecified | B39: 0 | C39: 0 | D39: 0 | E39: 0 | F39: 0 | G39: =SUM(B39:F39) -> 0 | H39: =G39/$G$11 -> 0
A52: Injury Surveillance Program, Massachusetts Department of Public Health | G52: Released: January 2021

Sheet 2018_InjuryMatrices
C1: Injury Fatalities among MA Children Aged 0-17 years1 | I1: 2018
C7: Key Indicators | D7: INJURY INTENT | I7: Totals
D8: Unintentional | E8: Suicide | F8: Homicide | G8: Undetermined | H8: Other & Legal2
C11: Total Counts by Intent | D11: 35 | E11: 17 | F11: 11 | G11: 2 | H11: 0 | I11: 65
C12: Percent by Intent | D12: 0.53846154 | E12: 0.26153846 | F12: 0.16923077 | G12: 0.030769231 | H12: 0 | I12: 1
C13: Rate per 100,000 population3 | D13: 2.5136924 | E13: 1.2209363 | F13: 0.79001762 | G13: -- | H13: -- | I13: 4.668286
C15: Injury Mechanism | D15: INJURY INTENT | I15: Total Counts | J15: Percent of Total Count
D16: Unintentional | E16: Suicide | F16: Homicide | G16: Undetermined | H16: Other & Legal2
B17: CUT/PIERCE | C17: Cut/pierce | D17: 0 | E17: 0 | F17: 2 | G17: 0 | H17: 0 | I17: 2 | J17: 0.030769231
B18: DROWNING | C18: Drowning/submersion | D18: 9 | E18: 0 | F18: 0 | G18: 0 | H18: 0 | I18: 9 | J18: 0.13846154
B19: FALL | C19: Fall | D19: 1 | E19: 2 | F19: 0 | G19: 0 | I19: 3 | J19: 0.046153846
B20: FIRE/FLAME | C20: Fire/flame and burns | D20: 2 | E20: 2 | F20: 0 | G20: 0 | I20: 4 | J20: 0.061538462
B21: FIREARM | C21: Firearms | D21: 0 | E21: 2 | F21: 4 | G21: 0 | H21: 0 | I21: 6 | J21: 0.092307692
B22: MACHINERY | C22: Machinery | D22: 1 | I22: 1 | J22: 0.015384615
C23: Natural/environmental | D23: 0 | G23: 0 | I23: 0 | J23: 0
B24: POISONING | C24: Poisoning/overdoses | D24: 3 | E24: 1 | F24: 0 | G24: 1 | H24: 0 | I24: 5 | J24: 0.076923077
C25: Struck by, against | D25: 0 | F25: 0 | G25: 0 | H25: 0 | I25: 0 | J25: 0
B26: SUFFOCATION | C26: Suffocation4 | D26: 1 | E26: 10 | F26: 0 | G26: 0 | H26: 0 | I26: 11 | J26: 0.16923077
C27: Transport Injuries:5 | E27: 0 | F27: 0 | G27: 0 | I27: 0 | J27: 0
C28: Motor vehicle traffic-related | I28: 0 | J28: 0
B29: OCCUPANT | C29: MV Occupant6 | D29: 5 | I29: 5 | J29: 0.076923077
B30: UNSPECIFIED | D30: 5
C31: Motorcyclist | D31: 0 | I31: 0 | J31: 0
C32: Pedal Cyclist | D32: 1 | I32: 1 | J32: 0.015384615
B33: PEDAL CYC | C33: Pedestrian | D33: 5 | I33: 5 | J33: 0.076923077
B34: PEDEST | C34: Pedal cyclist, non-traffic | D34: 1 | I34: 1 | J34: 0.015384615
B35: OTHER PEDAL CYC | C35: Pedestrian, non-traffic | D35: 0 | I35: 0 | J35: 0
C36: Other land transport | D36: 0 | I36: 0 | J36: 0
C37: Other transport | D37: 0 | I37: 0 | J37: 0
C38: Other specified & classifiable | D38: 0 | E38: 0 | F38: 0 | G38: 0 | H38: 0 | I38: 0 | J38: 0
B39: SPECIFIED | C39: Other specified, not classifiable | D39: 0 | E39: 0 | F39: 1 | G39: 1 | H39: 0 | I39: 2 | J39: 0.030769231
B40: NEC | C40: Unspecified | D40: 1 | E40: 0 | F40: 4 | G40: 0 | H40: 0 | I40: 5 | J40: 0.076923077
B41: NOT SPECIFIED
C53: Injury Surveillance Program, Massachusetts Department of Public Health | I53: Released: January 2021

Sheet 2019_InjuryMatrices
C1: Injury Fatalities among MA Children Aged 0-17 years1 | I1: 2019
C7: Key Indicators | D7: INJURY INTENT | I7: Totals | M7: 1392374
D8: Unintentional | E8: Suicide | F8: Homicide | G8: Undetermined | H8: Other & Legal2
C11: Total Counts by Intent | D11: =SUM(D17:D26,D29:D33,D34:D40) -> 32 | E11: =SUM(E17:E26,E29:E33,E34:E40) -> 11 | F11: =SUM(F17:F26,F29:F33,F34:F40) -> 11 | G11: =SUM(G17:G26,G29:G33,G34:G40) -> 6 | H11: 0 | I11: =SUM(D11:H11) -> 60
C12: Percent by Intent | D12: =D11/I11 -> 0.53333333 | E12: =E11/I11 -> 0.18333333 | F12: =F11/I11 -> 0.18333333 | G12: =G11/I11 -> 0.1 | H12: 0 | I12: 1
C13: Rate per 100,000 population3 | D13: =(D11/$M$7)*100000 -> 2.2982331 | E13: =(E11/$M$7)*100000 -> 0.79001762 | F13: =(F11/$M$7)*100000 -> 0.79001762 | G13: =(G11/$M$7)*100000 -> 0.4309187 | H13: 0 | I13: =(I11/$M$7)*100000 -> 4.309187
C15: Injury Mechanism | D15: INJURY INTENT | I15: Total Counts | J15: Percent of Total Count
D16: Unintentional | E16: Suicide | F16: Homicide | G16: Undetermined | H16: Other & Legal2
B17: CUT/PIERCE | C17: Cut/pierce | D17: =VLOOKUP($B17, SAS_outputs!$I$4:$O$19, 3, FALSE) -> 1 | E17: =VLOOKUP($B17, SAS_outputs!$I$4:$O$19, 4, FALSE) -> 0 | F17: =VLOOKUP($B17, SAS_outputs!$I$4:$O$19, 5, FALSE) -> 2 | G17: =VLOOKUP($B17, SAS_outputs!$I$4:$O$19, 6, FALSE) -> 0 | H17: 0 | I17: =SUM(D17:H17) -> 3 | J17: =I17/$I$11 -> 0.05
B18: DROWNING | C18: Drowning/submersion | D18: =VLOOKUP($B18, SAS_outputs!$I$4:$O$19, 3, FALSE) -> 4 | E18: =VLOOKUP($B18, SAS_outputs!$I$4:$O$19, 4, FALSE) -> 0 | F18: =VLOOKUP($B18, SAS_outputs!$I$4:$O$19, 5, FALSE) -> 0 | G18: =VLOOKUP($B18, SAS_outputs!$I$4:$O$19, 6, FALSE) -> 1 | H18: 0 | I18: =SUM(D18:H18) -> 5 | J18: =I18/$I$11 -> 0.083333333
B19: FALL | C19: Fall | D19: =VLOOKUP($B19, SAS_outputs!$I$4:$O$19, 3, FALSE) -> 0 | E19: =VLOOKUP($B19, SAS_outputs!$I$4:$O$19, 4, FALSE) -> 0 | F19: =VLOOKUP($B19, SAS_outputs!$I$4:$O$19, 5, FALSE) -> 2 | G19: =VLOOKUP($B19, SAS_outputs!$I$4:$O$19, 6, FALSE) -> 0 | I19: =SUM(D19:H19) -> 2 | J19: =I19/$I$11 -> 0.033333333
B20: FIRE/FLAME | C20: Fire/flame and burns | D20: =VLOOKUP($B20, SAS_outputs!$I$4:$O$19, 3, FALSE) -> 2 | E20: =VLOOKUP($B20, SAS_outputs!$I$4:$O$19, 4, FALSE) -> 0 | F20: =VLOOKUP($B20, SAS_outputs!$I$4:$O$19, 5, FALSE) -> 0 | G20: =VLOOKUP($B20, SAS_outputs!$I$4:$O$19, 6, FALSE) -> 0 | I20: =SUM(D20:H20) -> 2 | J20: =I20/$I$11 -> 0.033333333
B21: FIREARM | C21: Firearms | D21: =VLOOKUP($B21, SAS_outputs!$I$4:$O$19, 3, FALSE) -> 0 | E21: =VLOOKUP($B21, SAS_outputs!$I$4:$O$19, 4, FALSE) -> 1 | F21: =VLOOKUP($B21, SAS_outputs!$I$4:$O$19, 5, FALSE) -> 4 | G21: =VLOOKUP($B21, SAS_outputs!$I$4:$O$19, 6, FALSE) -> 1 | H21: 0 | I21: =SUM(D21:H21) -> 6 | J21: =I21/$I$11 -> 0.1
B22: MACHINERY | C22: Machinery | D22: 0 | I22: =SUM(D22:H22) -> 0 | J22: =I22/$I$11 -> 0
B23: NATURAL/ENVIR | C23: Natural/environmental | D23: =VLOOKUP($B23, SAS_outputs!$I$4:$O$19, 3, FALSE) -> 1 | E23: =VLOOKUP($B23, SAS_outputs!$I$4:$O$19, 4, FALSE) -> 0 | G23: =VLOOKUP($B23, SAS_outputs!$I$4:$O$19, 6, FALSE) -> 0 | I23: =SUM(D23:H23) -> 1 | J23: =I23/$I$11 -> 0.016666667
B24: POISONING | C24: Poisoning/overdoses | D24: =VLOOKUP($B24, SAS_outputs!$I$4:$O$19, 3, FALSE) -> 4 | E24: =VLOOKUP($B24, SAS_outputs!$I$4:$O$19, 4, FALSE) -> 1 | F24: =VLOOKUP($B24, SAS_outputs!$I$4:$O$19, 5, FALSE) -> 0 | G24: =VLOOKUP($B24, SAS_outputs!$I$4:$O$19, 6, FALSE) -> 2 | H24: 0 | I24: =SUM(D24:H24) -> 7 | J24: =I24/$I$11 -> 0.11666667
C25: Struck by, against | D25: 0 | F25: 0 | G25: 0 | H25: 0 | I25: =SUM(D25:H25) -> 0 | J25: =I25/$I$11 -> 0
B26: SUFFOCATION | C26: Suffocation4 | D26: =VLOOKUP($B26, SAS_outputs!$I$4:$O$19, 3, FALSE) -> 3 | E26: =VLOOKUP($B26, SAS_outputs!$I$4:$O$19, 4, FALSE) -> 9 | F26: =VLOOKUP($B26, SAS_outputs!$I$4:$O$19, 5, FALSE) -> 0 | G26: =VLOOKUP($B26, SAS_outputs!$I$4:$O$19, 6, FALSE) -> 0 | H26: 0 | I26: =SUM(D26:H26) -> 12 | J26: =I26/$I$11 -> 0.2
C27: Transport Injuries:5 | D27: =SUM(D28, D34:D37) -> 16 | E27: 0 | F27: 0 | G27: 0 | I27: =SUM(D27:H27) -> 16 | J27: =I27/$I$11 -> 0.26666667
C28: Motor vehicle traffic-related | D28: =SUM(D29:D33) -> 13 | I28: =SUM(D28:H28) -> 13 | J28: =I28/$I$11 -> 0.21666667
B29: OCCUPANT | C29: MV Occupant6 | D29: =VLOOKUP(B29, SAS_outputs!$I$23:$O$30, 3, FALSE) -> 1 | I29: =SUM(D29:H29) -> 1 | J29: =I29/$I$11 -> 0.016666667
B30: UNSPECIFIED | D30: =VLOOKUP(B30, SAS_outputs!$I$23:$O$30, 3, FALSE) -> 10
C31: Motorcyclist | D31: 0 | I31: =SUM(D31:H31) -> 0 | J31: =I31/$I$11 -> 0
B32: PEDAL CYC | C32: Pedal Cyclist | D32: =VLOOKUP(B32, SAS_outputs!$I$23:$O$30, 3, FALSE) -> 1 | I32: =SUM(D32:H32) -> 1 | J32: =I32/$I$11 -> 0.016666667
B33: PEDEST | C33: Pedestrian | D33: =VLOOKUP(B33, SAS_outputs!$I$23:$O$30, 3, FALSE) -> 1 | I33: =SUM(D33:H33) -> 1 | J33: =I33/$I$11 -> 0.016666667
B34: OTHER PEDAL CYC | C34: Pedal cyclist, non-traffic | D34: 0 | I34: =SUM(D34:H34) -> 0 | J34: =I34/$I$11 -> 0
B35: OTHER PEDESTRIAN | C35: Pedestrian, non-traffic | D35: =VLOOKUP($B35, SAS_outputs!$I$4:$O$19, 3, FALSE) -> 1 | I35: =SUM(D35:H35) -> 1 | J35: =I35/$I$11 -> 0.016666667
B36: OTHER LAND TRANSPORT | C36: Other land transport | D36: =VLOOKUP($B36, SAS_outputs!$I$4:$O$19, 3, FALSE) -> 2 | I36: =SUM(D36:H36) -> 2 | J36: =I36/$I$11 -> 0.033333333
C37: Other transport | D37: 0 | I37: =SUM(D37:H37) -> 0 | J37: =I37/$I$11 -> 0
C38: Other specified & classifiable | D38: 0 | E38: 0 | F38: 0 | G38: 0 | H38: 0 | I38: =SUM(D38:H38) -> 0 | J38: =I38/$I$11 -> 0
B39: NEC | C39: Other specified, not classifiable | D39: 0 | E39: 0 | F39: 0 | G39: 0 | H39: 0 | I39: =SUM(D39:H39) -> 0 | J39: =I39/$I$11 -> 0
B40: NOT SPECIFIED | C40: Unspecified | D40: =VLOOKUP($B40, SAS_outputs!$I$4:$O$19, 3, FALSE) -> 1 | E40: =VLOOKUP($B40, SAS_outputs!$I$4:$O$19, 4, FALSE) -> 0 | F40: =VLOOKUP($B40, SAS_outputs!$I$4:$O$19, 5, FALSE) -> 3 | G40: =VLOOKUP($B40, SAS_outputs!$I$4:$O$19, 6, FALSE) -> 2 | H40: 0 | I40: =SUM(D40:H40) -> 6 | J40: =I40/$I$11 -> 0.1
C53: Injury Surveillance Program, Massachusetts Department of Public Health | I53: Released: January 2021

Sheet 2020_InjuryMatrices
C1: Injury Fatalities among MA Children Aged 0-17 years1 | I1: 2020
L6: 1279086
C7: Key Indicators | D7: INJURY INTENT | I7: Totals
D8: Unintentional | E8: Suicide | F8: Homicide | G8: Undetermined | H8: Other & Legal2
C11: Total Counts by Intent | D11: =SUM(D17:D40) -> 34 | E11: =SUM(E17:E40) -> 17 | F11: =SUM(F17:F40) -> 10 | G11: =SUM(G17:G40) -> 3 | H11: 0 | I11: =SUM(D11:H11) -> 64
C12: Percent by Intent | D12: =D11/I11 -> 0.53125 | E12: =E11/I11 -> 0.265625 | F12: =F11/I11 -> 0.15625 | G12: =G11/I11 -> 0.046875 | H12: 0 | I12: 1
C13: Rate per 100,000 population3 | D13: =(D11/$L$6)*100000 -> 2.6581481 | E13: =(E11/$L$6)*100000 -> 1.329074 | F13: =(F11/$L$6)*100000 -> 0.78180826 | G13: -- | H13: =(H11/$L$6)*100000 -> 0 | I13: =(I11/$L$6)*100000 -> 5.0035729
C15: Injury Mechanism | D15: INJURY INTENT | I15: Total Counts | J15: Percent of Total Count
D16: Unintentional | E16: Suicide | F16: Homicide | G16: Undetermined | H16: Other & Legal2
B17: CUT/PIERCE | C17: Cut/pierce | D17: =VLOOKUP($B17, SAS_outputs!$S$4:$Y$16, 3, FALSE) -> 0 | E17: =VLOOKUP($B17, SAS_outputs!$S$4:$Y$16, 4, FALSE) -> 0 | F17: =VLOOKUP($B17, SAS_outputs!$S$4:$Y$16, 5, FALSE) -> 1 | G17: =VLOOKUP($B17, SAS_outputs!$S$4:$Y$16, 6, FALSE) -> 0 | H17: 0 | I17: =SUM(D17:H17) -> 1 | J17: =I17/$I$11 -> 0.015625
B18: DROWNING | C18: Drowning/submersion | D18: =VLOOKUP($B18, SAS_outputs!$S$4:$Y$16, 3, FALSE) -> 8 | E18: =VLOOKUP($B18, SAS_outputs!$S$4:$Y$16, 4, FALSE) -> 0 | F18: =VLOOKUP($B18, SAS_outputs!$S$4:$Y$16, 5, FALSE) -> 0 | G18: =VLOOKUP($B18, SAS_outputs!$S$4:$Y$16, 6, FALSE) -> 1 | H18: 0 | I18: =SUM(D18:H18) -> 9 | J18: =I18/$I$11 -> 0.140625
B19: FALL | C19: Fall | D19: =VLOOKUP($B19, SAS_outputs!$S$4:$Y$16, 3, FALSE) -> 3 | E19: =VLOOKUP($B19, SAS_outputs!$S$4:$Y$16, 4, FALSE) -> 1 | F19: =VLOOKUP($B19, SAS_outputs!$S$4:$Y$16, 5, FALSE) -> 0 | G19: =VLOOKUP($B19, SAS_outputs!$S$4:$Y$16, 6, FALSE) -> 0 | I19: =SUM(D19:H19) -> 4 | J19: =I19/$I$11 -> 0.0625
B20: FIRE/FLAME | C20: Fire/flame and burns | D20: 0 | E20: 0 | F20: 0 | G20: 0 | I20: =SUM(D20:H20) -> 0 | J20: =I20/$I$11 -> 0
B21: FIREARM | C21: Firearms | D21: =VLOOKUP($B21, SAS_outputs!$S$4:$Y$16, 3, FALSE) -> 0 | E21: =VLOOKUP($B21, SAS_outputs!$S$4:$Y$16, 4, FALSE) -> 1 | F21: =VLOOKUP($B21, SAS_outputs!$S$4:$Y$16, 5, FALSE) -> 7 | G21: =VLOOKUP($B21, SAS_outputs!$S$4:$Y$16, 6, FALSE) -> 0 | H21: 0 | I21: =SUM(D21:H21) -> 8 | J21: =I21/$I$11 -> 0.125
B22: MACHINERY | C22: Machinery | D22: 0 | I22: =SUM(D22:H22) -> 0 | J22: =I22/$I$11 -> 0
B23: NATURAL/ENVIR | C23: Natural/environmental | D23: 0 | E23: 0 | G23: 0 | I23: =SUM(D23:H23) -> 0 | J23: =I23/$I$11 -> 0
B24: POISONING | C24: Poisoning/overdoses | D24: =VLOOKUP($B24, SAS_outputs!$S$4:$Y$16, 3, FALSE) -> 5 | E24: =VLOOKUP($B24, SAS_outputs!$S$4:$Y$16, 4, FALSE) -> 2 | F24: =VLOOKUP($B24, SAS_outputs!$S$4:$Y$16, 5, FALSE) -> 1 | G24: =VLOOKUP($B24, SAS_outputs!$S$4:$Y$16, 6, FALSE) -> 0 | H24: 0 | I24: =SUM(D24:H24) -> 8 | J24: =I24/$I$11 -> 0.125
C25: Struck by, against | D25: 0 | F25: 0 | G25: 0 | H25: 0 | I25: =SUM(D25:H25) -> 0 | J25: =I25/$I$11 -> 0
B26: SUFFOCATION | C26: Suffocation4 | D26: =VLOOKUP($B26, SAS_outputs!$S$4:$Y$16, 3, FALSE) -> 5 | E26: =VLOOKUP($B26, SAS_outputs!$S$4:$Y$16, 4, FALSE) -> 13 | F26: =VLOOKUP($B26, SAS_outputs!$S$4:$Y$16, 5, FALSE) -> 0 | G26: =VLOOKUP($B26, SAS_outputs!$S$4:$Y$16, 6, FALSE) -> 1 | H26: 0 | I26: =SUM(D26:H26) -> 19 | J26: =I26/$I$11 -> 0.296875
C27: Transport Injuries:5 | I27: =SUM(D27:H27) -> 0 | J27: =I27/$I$11 -> 0
C28: Motor vehicle traffic-related | I28: =SUM(D28:H28) -> 0 | J28: =I28/$I$11 -> 0
B29: OCCUPANT | C29: MV Occupant6 | D29: =VLOOKUP($B29, SAS_outputs!$S$23:$Y$29, 3, FALSE) -> 3 | I29: =SUM(D29:H29) -> 3 | J29: =I29/$I$11 -> 0.046875
B30: UNSPECIFIED | D30: =VLOOKUP($B30, SAS_outputs!$S$23:$Y$29, 3, FALSE) -> 6
B31: MC | C31: Motorcyclist | D31: =VLOOKUP($B31, SAS_outputs!$S$23:$Y$29, 3, FALSE) -> 1 | I31: =SUM(D31:H31) -> 1 | J31: =I31/$I$11 -> 0.015625
B32: PEDAL CYC | C32: Pedal Cyclist | D32: 0 | I32: =SUM(D32:H32) -> 0 | J32: =I32/$I$11 -> 0
B33: PEDEST | C33: Pedestrian | D33: =VLOOKUP($B33, SAS_outputs!$S$23:$Y$29, 3, FALSE) -> 2 | I33: =SUM(D33:H33) -> 2 | J33: =I33/$I$11 -> 0.03125
B34: OTHER PEDAL CYC | C34: Pedal cyclist, non-traffic | D34: 0 | I34: =SUM(D34:H34) -> 0 | J34: =I34/$I$11 -> 0
B35: OTHER PEDESTRIAN | C35: Pedestrian, non-traffic | D35: 0 | I35: =SUM(D35:H35) -> 0 | J35: =I35/$I$11 -> 0
B36: OTHER LAND TRANSPORT | C36: Other land transport | D36: 0 | I36: =SUM(D36:H36) -> 0 | J36: =I36/$I$11 -> 0
C37: Other transport | D37: 0 | I37: =SUM(D37:H37) -> 0 | J37: =I37/$I$11 -> 0
B38: OTHER SPEC | C38: Other specified & classifiable | D38: =VLOOKUP($B38, SAS_outputs!$S$4:$Y$16, 3, FALSE) -> 0 | E38: =VLOOKUP($B38, SAS_outputs!$S$4:$Y$16, 4, FALSE) -> 0 | F38: =VLOOKUP($B38, SAS_outputs!$S$4:$Y$16, 5, FALSE) -> 1 | G38: =VLOOKUP($B38, SAS_outputs!$S$4:$Y$16, 6, FALSE) -> 0 | H38: 0 | I38: =SUM(D38:H38) -> 1 | J38: =I38/$I$11 -> 0.015625
B39: NEC | C39: Other specified, not classifiable | D39: 0 | E39: 0 | F39: 0 | G39: 0 | H39: 0 | I39: =SUM(D39:H39) -> 0 | J39: =I39/$I$11 -> 0
B40: NOT SPECIFIED | C40: Unspecified | D40: =VLOOKUP($B40, SAS_outputs!$S$4:$Y$16, 3, FALSE) -> 1 | E40: =VLOOKUP($B40, SAS_outputs!$S$4:$Y$16, 4, FALSE) -> 0 | F40: =VLOOKUP($B40, SAS_outputs!$S$4:$Y$16, 5, FALSE) -> 0 | G40: =VLOOKUP($B40, SAS_outputs!$S$4:$Y$16, 6, FALSE) -> 1 | H40: 0 | I40: =SUM(D40:H40) -> 2 | J40: =I40/$I$11 -> 0.03125
C53: Injury Surveillance Program, Massachusetts Department of Public Health | I53: Released: January 2021

Sheet SAS_outputs
A3: 2018 | I3: 2019 | S3: 2020
A4: CAUSE | B4: INJS | I4: CAUSE | J4: INJS | S4: CAUSE | T4: INJS
B5: . | C5: UNINTENTIONAL | D5: SUICIDE | E5: HOMICIDE | F5: UNDETERMINED | G5: Total | J5: . | K5: UNINTENTIONAL | L5: SUICIDE | M5: HOMICIDE | N5: UNDETERMINED | O5: Total | T5: . | U5: UNINTENTIONAL | V5: SUICIDE | W5: HOMICIDE | X5: UNDETERMINED | Y5: Total
A6: . | C6: 0 | D6: 0 | E6: 0 | F6: 0 | S6: .
A7: CUT/PIERCE | C7: 0 | D7: 0 | E7: 2 | F7: 0 | I7: CUT/PIERCE | J7: 0 | K7: 1 | L7: 0 | M7: 2 | N7: 0 | O7: 3 | S7: CUT/PIERCE | T7: 0 | U7: 0 | V7: 0 | W7: 1 | X7: 0 | Y7: 1
A8: DROWNING | C8: 9 | D8: 0 | E8: 0 | F8: 0 | I8: DROWNING | J8: 0 | K8: 4 | L8: 0 | M8: 0 | N8: 1 | O8: 5 | S8: DROWNING | T8: 0 | U8: 8 | V8: 0 | W8: 0 | X8: 1 | Y8: 9
A9: FALL | C9: 1 | D9: 2 | E9: 0 | F9: 0 | I9: FALL | J9: 0 | K9: 0 | L9: 0 | M9: 2 | N9: 0 | O9: 2 | S9: FALL | T9: 0 | U9: 3 | V9: 1 | W9: 0 | X9: 0 | Y9: 4
A10: FIRE/FLAME | C10: 2 | D10: 2 | E10: 0 | F10: 0 | I10: FIRE/FLAME | J10: 0 | K10: 2 | L10: 0 | M10: 0 | N10: 0 | O10: 2 | S10: FIREARM | T10: 0 | U10: 0 | V10: 1 | W10: 7 | X10: 0 | Y10: 8
A11: FIREARM | C11: 0 | D11: 2 | E11: 4 | F11: 0 | I11: FIREARM | J11: 0 | K11: 0 | L11: 1 | M11: 4 | N11: 1 | O11: 6 | S11: MV TRAFFIC | T11: 0 | U11: 12 | V11: 0 | W11: 0 | X11: 0 | Y11: 12
A12: MACHINERY | C12: 1 | D12: 0 | E12: 0 | F12: 0 | I12: MV TRAFFIC | J12: 0 | K12: 13 | L12: 0 | M12: 0 | N12: 0 | O12: 13 | S12: POISONING | T12: 0 | U12: 5 | V12: 2 | W12: 1 | X12: 0 | Y12: 8
A13: MV TRAFFIC | C13: 16 | D13: 0 | E13: 0 | F13: 0 | I13: OTHER PEDESTRIAN | J13: 0 | K13: 1 | L13: 0 | M13: 0 | N13: 0 | O13: 1 | S13: SUFFOCATION | T13: 0 | U13: 5 | V13: 13 | W13: 0 | X13: 1 | Y13: 19
A14: OTHER PEDAL CYC | C14: 1 | D14: 0 | E14: 0 | F14: 0 | I14: OTHER LAND TRANSPORT | J14: 0 | K14: 2 | L14: 0 | M14: 0 | N14: 0 | O14: 2 | S14: OTHER SPEC | T14: 0 | U14: 0 | V14: 0 | W14: 1 | X14: 0 | Y14: 1
A15: POISONING | C15: 3 | D15: 1 | E15: 0 | F15: 1 | I15: NATURAL/ENVIR | J15: 0 | K15: 1 | L15: 0 | M15: 0 | N15: 0 | O15: 1 | S15: NOT SPECIFIED | T15: 0 | U15: 1 | V15: 0 | W15: 0 | X15: 1 | Y15: 2
A16: SUFFOCATION | C16: 1 | D16: 10 | E16: 0 | F16: 0 | I16: POISONING | J16: 0 | K16: 4 | L16: 1 | M16: 0 | N16: 2 | O16: 7 | S16: Total | T16: 327 | U16: 34 | V16: 17 | W16: 10 | X16: 3 | Y16: 391
A17: NEC | C17: 0 | D17: 0 | E17: 1 | F17: 1 | I17: SUFFOCATION | J17: 0 | K17: 3 | L17: 9 | M17: 0 | N17: 0 | O17: 12
A18: NOT SPECIFIED | C18: 1 | D18: 0 | E18: 4 | F18: 0 | I18: NOT SPECIFIED | J18: 0 | K18: 1 | L18: 0 | M18: 3 | N18: 2 | O18: 6
A19: Total | C19: 35 | D19: 17 | E19: 11 | F19: 2 | I19: Total | J19: 338 | K19: 32 | L19: 11 | M19: 11 | N19: 6 | O19: 398
A21: MVTPER | B21: INJS
B22: . | C22: UNINTENTIONAL | D22: SUICIDE | E22: HOMICIDE | F22: UNDETERMINED | G22: Total
I23: MVTPER | J23: INJS | S23: MVTPER | T23: INJS
A24: OCCUPANT | B24: 0 | C24: 5 | D24: 0 | E24: 0 | F24: 0 | G24: 5 | J24: . | K24: UNINTENTIONAL | L24: SUICIDE | M24: HOMICIDE | N24: UNDETERMINED | O24: Total | T24: . | U24: UNINTENTIONAL | V24: SUICIDE | W24: HOMICIDE | X24: UNDETERMINED | Y24: Total
A25: PEDAL CYC | B25: 0 | C25: 1 | D25: 0 | E25: 0 | F25: 0 | G25: 1 | I25: . | J25: 338 | K25: 19 | L25: 11 | M25: 11 | N25: 6 | O25: 385 | S25: . | T25: 327 | U25: 22 | V25: 17 | W25: 10 | X25: 3 | Y25: 379
A26: PEDEST | B26: 0 | C26: 5 | D26: 0 | E26: 0 | F26: 0 | G26: 5 | I26: OCCUPANT | J26: 0 | K26: 1 | L26: 0 | M26: 0 | N26: 0 | O26: 1 | S26: OCCUPANT | T26: 0 | U26: 3 | V26: 0 | W26: 0 | X26: 0 | Y26: 3
A27: UNSPECIFIED | B27: 0 | C27: 5 | D27: 0 | E27: 0 | F27: 0 | G27: 5 | I27: PEDAL CYC | J27: 0 | K27: 1 | L27: 0 | M27: 0 | N27: 0 | O27: 1 | S27: MC | T27: 0 | U27: 1 | V27: 0 | W27: 0 | X27: 0 | Y27: 1
A28: Total | B28: 384 | C28: 35 | D28: 17 | E28: 11 | F28: 2 | G28: 449 | I28: PEDEST | J28: 0 | K28: 1 | L28: 0 | M28: 0 | N28: 0 | O28: 1 | S28: PEDEST | T28: 0 | U28: 2 | V28: 0 | W28: 0 | X28: 0 | Y28: 2
I29: UNSPECIFIED | J29: 0 | K29: 10 | L29: 0 | M29: 0 | N29: 0 | O29: 10 | S29: UNSPECIFIED | T29: 0 | U29: 6 | V29: 0 | W29: 0 | X29: 0 | Y29: 6
I30: Total | J30: 338 | K30: 32 | L30: 11 | M30: 11 | N30: 6 | O30: 398

Sheet 2021_InjuryMatrices
A1: Injury Fatalities among MA Children Aged 0-17 Years | G1: 2021
A7: Key Indicators | B7: INJURY INTENT | G7: Totals
B8: Unintentional | C8: Suicide | D8: Homicide | E8: Undetermined | F8: Other & Legal2
A11: Total Counts by Intent | B11: 36 | C11: 18 | D11: 9 | E11: 2 | F11: 0 | G11: 65
A12: Percent by Intent | B12: 0.55384615 | C12: 0.27692308 | D12: 0.13846154 | E12: 0.031 | F12: 0 | G12: 1
A13: Rate per 100,000 population3 | B13: 2.8145097 | C13: 1.4072549 | D13: 0.70362743 | E13: -- | F13: 0 | G13: 5.0817537
A15: Injury Mechanism | B15: INJURY INTENT | G15: Subtotals | H15: Percent of Total Count
B16: Unintentional | C16: Suicide | D16: Homicide | E16: Undetermined | F16: Other & Legal2
A17: Cut/pierce | B17: 0 | C17: 0 | D17: 1 | E17: 0 | F17: 0 | G17: 1 | H17: =G17/65 -> 0.015384615
A18: Drowning/submersion | B18: 11 | C18: 0 | D18: 0 | E18: 0 | F18: 0 | G18: 11 | H18: =G18/65 -> 0.16923077
A19: Fall | B19: 0 | C19: 1 | D19: 0 | E19: 0 | G19: 1 | H19: =G19/65 -> 0.015384615
A20: Fire/flame and burns | B20: 0 | C20: 0 | D20: 0 | E20: 0 | G20: 0 | H20: =G20/65 -> 0
A21: Firearms | B21: 0 | C21: 2 | D21: 4 | E21: 0 | F21: 0 | G21: 6 | H21: =G21/65 -> 0.092307692
A22: Machinery | B22: 0 | G22: 0 | H22: =G22/65 -> 0
A23: Natural/environmental | B23: 0 | C23: 0 | E23: 0 | G23: 0 | H23: =G23/65 -> 0
A24: Poisoning/overdoses | B24: 10 | C24: 2 | D24: 1 | E24: 0 | F24: 0 | G24: 13 | H24: =G24/65 -> 0.2
A25: Struck by, against | B25: 1 | D25: 0 | E25: 0 | F25: 0 | G25: 1 | H25: =G25/65 -> 0.015384615
A26: Suffocation4 | B26: 3 | C26: 13 | D26: 1 | E26: 1 | F26: 0 | G26: 18 | H26: =G26/65 -> 0.27692308
A27: Transport Injuries:5 | B27: 9 | C27: 0 | D27: 0 | E27: 0 | G27: 9 | H27: =G27/65 -> 0.13846154
A28: Motor vehicle traffic-related | B28: 7 | G28: 7 | H28: =G28/65 -> 0.10769231
A29: MV Occupant6 | B29: 4 | G29: 4 | H29: =G29/65 -> 0.061538462
A30: Motorcyclist | B30: 0 | G30: 0 | H30: =G30/65 -> 0
A31: Pedal Cyclist | B31: 1 | G31: 1 | H31: =G31/65 -> 0.015384615
A32: Pedestrian | B32: 2 | G32: 2 | H32: =G32/65 -> 0.030769231
A33: Pedal cyclist, non-traffic | B33: 0 | G33: 0 | H33: =G33/65 -> 0
A34: Pedestrian, non-traffic | B34: 1 | G34: 1 | H34: =G34/65 -> 0.015384615
A35: Other land transport | B35: 0 | G35: 0 | H35: =G35/65 -> 0
A36: Other transport | B36: 1 | G36: 1 | H36: =G36/65 -> 0.015384615
A37: Other specified & classifiable | B37: 0 | C37: 0 | D37: 0 | E37: 0 | F37: 0 | G37: 0 | H37: =G37/65 -> 0
A38: Other specified, not classifiable | B38: 0 | C38: 0 | D38: 0 | E38: 0 | F38: 0 | G38: 0 | H38: =G38/65 -> 0
A39: Unspecified | B39: 2 | C39: 0 | D39: 2 | E39: 1 | F39: 0 | G39: 5 | H39: 0.076923077
A52: Injury Surveillance Program, Massachusetts Department of Public Health | G52: Released: May 2023
