Workbook

Sheet Summary
A5: Summary Sheet
A7: Type | B7: Types of Exceptions | C7: No. of Exceptions Received g(i) | D7: No. of Exceptions Authorized g(iii) | E7: Percent Authorized [g(iii)/(g(i)] | F7: No. of Exceptions Denied g(iv) | G7: Percent Denied [g(iv)/g(i)] | H7: No. of Internal Appeals Filed [g(v)] | I7: No. of Internal Appeals Approved g(vii) | J7: No. of Internal Appeals Denied | K7: Percent of Internal Appeals Denied | L7: No. Sent For External Appeal [g(v)] | M7: No. External Appeals Overturned g(vii) | N7: Percent of External Appeals Oveturned | O7: No. External Appeals Denied g(vii) | P7: Percent of External Appeals Denied
A9: Medical/ Surgical | B9: Contraindicated/ Adverse Reaction (c)(1) | C9: =SUM(ALIC!C9+CHLIC!C9+WIC!C9+UHC!C9+BMC!C9+THPP!C9+TIC!C9+HPIC!C9+TAHMO!C9+HPHC!C9+HNE!C9+BSBCMA!C9+BSBCMA!C14+'MGB-Medical Benefit'!C9+'MGB - Pharmacy Benefit'!C9+FCHP!C9) -> 11117 | D9: =SUM(ALIC!D9+CHLIC!D9+WIC!D9+UHC!D9+BMC!D9+THPP!D9+TIC!D9+HPIC!D9+TAHMO!D9+HPHC!D9+HNE!D9+BSBCMA!D9+BSBCMA!D14+'MGB-Medical Benefit'!D9+'MGB - Pharmacy Benefit'!D9+FCHP!D9) -> 7698 | E9: =D9/C9 -> 0.692453 | F9: =SUM(ALIC!F9+CHLIC!F9+WIC!F9+UHC!F9+BMC!F9+THPP!F9+TIC!F9+HPIC!F9+TAHMO!F9+HPHC!F9+HNE!F9+BSBCMA!F9+BSBCMA!F14+'MGB-Medical Benefit'!F9+'MGB - Pharmacy Benefit'!F9+FCHP!F9) -> 3421 | G9: =F9/C9 -> 0.3077269 | H9: =SUM(ALIC!H9+CHLIC!H9+WIC!H9+UHC!H9+BMC!H9+THPP!H9+TIC!H9+HPIC!H9+TAHMO!H9+HPHC!H9+HNE!H9+BSBCMA!H9+BSBCMA!H14+'MGB-Medical Benefit'!H9+'MGB - Pharmacy Benefit'!H9+FCHP!H9) -> 240 | I9: =SUM(ALIC!I9+CHLIC!I9+WIC!I9+UHC!I9+BMC!I9+THPP!I9+TIC!I9+HPIC!I9+TAHMO!I9+HPHC!I9+HNE!I9+BSBCMA!I9+BSBCMA!I14+'MGB-Medical Benefit'!I9+'MGB - Pharmacy Benefit'!I9+FCHP!I9) -> 267 | J9: =SUM(ALIC!J9+CHLIC!J9+WIC!J9+UHC!J9+BMC!J9+THPP!J9+TIC!J9+HPIC!J9+TAHMO!J9+HPHC!J9+HNE!J9+BSBCMA!J9+BSBCMA!J14+'MGB-Medical Benefit'!J9+'MGB - Pharmacy Benefit'!J9+FCHP!J9) -> 19 | K9: =J9/H9 -> 0.079166667 | L9: =SUM(ALIC!L9+CHLIC!L9+WIC!L9+UHC!L9+BMC!L9+THPP!L9+TIC!L9+HPIC!L9+TAHMO!L9+HPHC!L9+HNE!L9+BSBCMA!L9+BSBCMA!L14+'MGB-Medical Benefit'!L9+'MGB - Pharmacy Benefit'!L9+FCHP!L9) -> 0.006642352 | M9: =SUM(ALIC!M9+CHLIC!M9+WIC!M9+UHC!M9+BMC!M9+THPP!M9+TIC!M9+HPIC!M9+TAHMO!M9+HPHC!M9+HNE!M9+BSBCMA!M9+BSBCMA!M14+'MGB-Medical Benefit'!M9+'MGB - Pharmacy Benefit'!M9+FCHP!M9) -> 0.00062271242 | N9: =M9/J9 -> 3.2774338e-05 | O9: 0 | P9: =O9/L9 -> 0
A10: Medical/ Surgical | B10: Ineffective (c)(2) | C10: =SUM(ALIC!C10+CHLIC!C10+WIC!C10+UHC!C10+BMC!C10+THPP!C10+TIC!C10+HPIC!C10+TAHMO!C10+HPHC!C10+HNE!C10+BSBCMA!C10+BSBCMA!C15+'MGB-Medical Benefit'!C10+'MGB - Pharmacy Benefit'!C10+FCHP!C10) -> 13363 | D10: =SUM(ALIC!D10+CHLIC!D10+WIC!D10+UHC!D10+BMC!D10+THPP!D10+TIC!D10+HPIC!D10+TAHMO!D10+HPHC!D10+HNE!D10+BSBCMA!D10+BSBCMA!D15+'MGB-Medical Benefit'!D10+'MGB - Pharmacy Benefit'!D10+FCHP!D10) -> 8903 | E10: =D10/C10 -> 0.66624261 | F10: =SUM(ALIC!F10+CHLIC!F10+WIC!F10+UHC!F10+BMC!F10+THPP!F10+TIC!F10+HPIC!F10+TAHMO!F10+HPHC!F10+HNE!F10+BSBCMA!F10+BSBCMA!F15+'MGB-Medical Benefit'!F10+'MGB - Pharmacy Benefit'!F10+FCHP!F10) -> 4461 | G10: =F10/C10 -> 0.33383222 | H10: =SUM(ALIC!H10+CHLIC!H10+WIC!H10+UHC!H10+BMC!H10+THPP!H10+TIC!H10+HPIC!H10+TAHMO!H10+HPHC!H10+HNE!H10+BSBCMA!H10+BSBCMA!H15+'MGB-Medical Benefit'!H10+'MGB - Pharmacy Benefit'!H10+FCHP!H10) -> 215 | I10: =SUM(ALIC!I10+CHLIC!I10+WIC!I10+UHC!I10+BMC!I10+THPP!I10+TIC!I10+HPIC!I10+TAHMO!I10+HPHC!I10+HNE!I10+BSBCMA!I10+BSBCMA!I15+'MGB-Medical Benefit'!I10+'MGB - Pharmacy Benefit'!I10+FCHP!I10) -> 220 | J10: =SUM(ALIC!J10+CHLIC!J10+WIC!J10+UHC!J10+BMC!J10+THPP!J10+TIC!J10+HPIC!J10+TAHMO!J10+HPHC!J10+HNE!J10+BSBCMA!J10+BSBCMA!J15+'MGB-Medical Benefit'!J10+'MGB - Pharmacy Benefit'!J10+FCHP!J10) -> 15 | K10: =J10/H10 -> 0.069767442 | L10: =SUM(ALIC!L10+CHLIC!L10+WIC!L10+UHC!L10+BMC!L10+THPP!L10+TIC!L10+HPIC!L10+TAHMO!L10+HPHC!L10+HNE!L10+BSBCMA!L10+BSBCMA!L15+'MGB-Medical Benefit'!L10+'MGB - Pharmacy Benefit'!L10+FCHP!L10) -> 1.0121484 | M10: =SUM(ALIC!M10+CHLIC!M10+WIC!M10+UHC!M10+BMC!M10+THPP!M10+TIC!M10+HPIC!M10+TAHMO!M10+HPHC!M10+HNE!M10+BSBCMA!M10+BSBCMA!M15+'MGB-Medical Benefit'!M10+'MGB - Pharmacy Benefit'!M10+FCHP!M10) -> 1.0012345 | N10: =M10/J10 -> 0.066748967 | O10: =SUM(ALIC!O10+CHLIC!O10+WIC!O10+UHC!O10+BMC!O10+THPP!O10+TIC!O10+HPIC!O10+TAHMO!O10+HPHC!O10+HNE!O10+BSBCMA!O10+BSBCMA!O15+'MGB-Medical Benefit'!O10+'MGB - Pharmacy Benefit'!O10+FCHP!O10) -> 1.8195548e-06 | P10: 0
A11: Medical/ Surgical | B11: Previously Tried/ Ineffective (c)(3) | C11: =SUM(ALIC!C11+CHLIC!C11+WIC!C11+UHC!C11+BMC!C11+THPP!C11+TIC!C11+HPIC!C11+TAHMO!C11+HPHC!C11+HNE!C11+BSBCMA!C11+BSBCMA!C16+'MGB-Medical Benefit'!C11+'MGB - Pharmacy Benefit'!C11+FCHP!C11) -> 21133 | D11: =SUM(ALIC!D11+CHLIC!D11+WIC!D11+UHC!D11+BMC!D11+THPP!D11+TIC!D11+HPIC!D11+TAHMO!D11+HPHC!D11+HNE!D11+BSBCMA!D11+BSBCMA!D16+'MGB-Medical Benefit'!D11+'MGB - Pharmacy Benefit'!D11+FCHP!D11) -> 11884 | E11: =D11/C11 -> 0.56234325 | F11: =SUM(ALIC!F11+CHLIC!F11+WIC!F11+UHC!F11+BMC!F11+THPP!F11+TIC!F11+HPIC!F11+TAHMO!F11+HPHC!F11+HNE!F11+BSBCMA!F11+BSBCMA!F16+'MGB-Medical Benefit'!F11+'MGB - Pharmacy Benefit'!F11+FCHP!F11) -> 9251 | G11: =F11/C11 -> 0.43775138 | H11: =SUM(ALIC!H11+CHLIC!H11+WIC!H11+UHC!H11+BMC!H11+THPP!H11+TIC!H11+HPIC!H11+TAHMO!H11+HPHC!H11+HNE!H11+BSBCMA!H11+BSBCMA!H16+'MGB-Medical Benefit'!H11+'MGB - Pharmacy Benefit'!H11+FCHP!H11) -> 573 | I11: =SUM(ALIC!I11+CHLIC!I11+WIC!I11+UHC!I11+BMC!I11+THPP!I11+TIC!I11+HPIC!I11+TAHMO!I11+HPHC!I11+HNE!I11+BSBCMA!I11+BSBCMA!I16+'MGB-Medical Benefit'!I11+'MGB - Pharmacy Benefit'!I11+FCHP!I11) -> 156 | J11: =SUM(ALIC!J11+CHLIC!J11+WIC!J11+UHC!J11+BMC!J11+THPP!J11+TIC!J11+HPIC!J11+TAHMO!J11+HPHC!J11+HNE!J11+BSBCMA!J11+BSBCMA!J16+'MGB-Medical Benefit'!J11+'MGB - Pharmacy Benefit'!J11+FCHP!J11) -> 370 | K11: =J11/H11 -> 0.64572426 | L11: =SUM(ALIC!L11+CHLIC!L11+WIC!L11+UHC!L11+BMC!L11+THPP!L11+TIC!L11+HPIC!L11+TAHMO!L11+HPHC!L11+HNE!L11+BSBCMA!L11+BSBCMA!L16+'MGB-Medical Benefit'!L11+'MGB - Pharmacy Benefit'!L11+FCHP!L11) -> 0.024296865 | M11: =SUM(ALIC!M11+CHLIC!M11+WIC!M11+UHC!M11+BMC!M11+THPP!M11+TIC!M11+HPIC!M11+TAHMO!M11+HPHC!M11+HNE!M11+BSBCMA!M11+BSBCMA!M16+'MGB-Medical Benefit'!M11+'MGB - Pharmacy Benefit'!M11+FCHP!M11) -> 0.0024689983 | N11: =M11/J11 -> 6.6729684e-06 | O11: =SUM(ALIC!O11+CHLIC!O11+WIC!O11+UHC!O11+BMC!O11+THPP!O11+TIC!O11+HPIC!O11+TAHMO!O11+HPHC!O11+HNE!O11+BSBCMA!O11+BSBCMA!O16+'MGB-Medical Benefit'!O11+'MGB - Pharmacy Benefit'!O11+FCHP!O11) -> 3.6391095e-06 | P11: =O11/L11 -> 0.00014977691
A12: Medical/ Surgical | B12: Switching Adverse React (c)(4) | C12: =SUM(ALIC!C12+CHLIC!C12+WIC!C12+UHC!C12+BMC!C12+THPP!C12+TIC!C12+HPIC!C12+TAHMO!C12+HPHC!C12+HNE!C12+BSBCMA!C12+BSBCMA!C17+'MGB-Medical Benefit'!C12+'MGB - Pharmacy Benefit'!C12+FCHP!C12) -> 15653 | D12: =SUM(ALIC!D12+CHLIC!D12+WIC!D12+UHC!D12+BMC!D12+THPP!D12+TIC!D12+HPIC!D12+TAHMO!D12+HPHC!D12+HNE!D12+BSBCMA!D12+BSBCMA!D17+'MGB-Medical Benefit'!D12+'MGB - Pharmacy Benefit'!D12+FCHP!D12) -> 11487 | E12: =D12/C12 -> 0.73385294 | F12: =SUM(ALIC!F12+CHLIC!F12+WIC!F12+UHC!F12+BMC!F12+THPP!F12+TIC!F12+HPIC!F12+TAHMO!F12+HPHC!F12+HNE!F12+BSBCMA!F12+BSBCMA!F17+'MGB-Medical Benefit'!F12+'MGB - Pharmacy Benefit'!F12+FCHP!F12) -> 4168 | G12: =F12/C12 -> 0.26627484 | H12: =SUM(ALIC!H12+CHLIC!H12+WIC!H12+UHC!H12+BMC!H12+THPP!H12+TIC!H12+HPIC!H12+TAHMO!H12+HPHC!H12+HNE!H12+BSBCMA!H12+BSBCMA!H17+'MGB-Medical Benefit'!H12+'MGB - Pharmacy Benefit'!H12+FCHP!H12) -> 213 | I12: =SUM(ALIC!I12+CHLIC!I12+WIC!I12+UHC!I12+BMC!I12+THPP!I12+TIC!I12+HPIC!I12+TAHMO!I12+HPHC!I12+HNE!I12+BSBCMA!I12+BSBCMA!I17+'MGB-Medical Benefit'!I12+'MGB - Pharmacy Benefit'!I12+FCHP!I12) -> 70 | J12: =SUM(ALIC!J12+CHLIC!J12+WIC!J12+UHC!J12+BMC!J12+THPP!J12+TIC!J12+HPIC!J12+TAHMO!J12+HPHC!J12+HNE!J12+BSBCMA!J12+BSBCMA!J17+'MGB-Medical Benefit'!J12+'MGB - Pharmacy Benefit'!J12+FCHP!J12) -> 13 | K12: =J12/H12 -> 0.061032864 | L12: =SUM(ALIC!L12+CHLIC!L12+WIC!L12+UHC!L12+BMC!L12+THPP!L12+TIC!L12+HPIC!L12+TAHMO!L12+HPHC!L12+HNE!L12+BSBCMA!L12+BSBCMA!L17+'MGB-Medical Benefit'!L12+'MGB - Pharmacy Benefit'!L12+FCHP!L12) -> 0.04308765 | M12: =SUM(ALIC!M12+CHLIC!M12+WIC!M12+UHC!M12+BMC!M12+THPP!M12+TIC!M12+HPIC!M12+TAHMO!M12+HPHC!M12+HNE!M12+BSBCMA!M12+BSBCMA!M17+'MGB-Medical Benefit'!M12+'MGB - Pharmacy Benefit'!M12+FCHP!M12) -> 0.0043262099 | N12: =M12/J12 -> 0.00033278538 | O12: =SUM(ALIC!O12+CHLIC!O12+WIC!O12+UHC!O12+BMC!O12+THPP!O12+TIC!O12+HPIC!O12+TAHMO!O12+HPHC!O12+HNE!O12+BSBCMA!O12+BSBCMA!O17+'MGB-Medical Benefit'!O12+'MGB - Pharmacy Benefit'!O12+FCHP!O12) -> 5.4586643e-06 | P12: 0
A13: Medical/ Surgical | B13: Total | C13: =C9+C10+C11+C12 -> 61266 | D13: =D9+D10+D11+D12 -> 39972 | E13: =D13/C13 -> 0.65243365 | F13: =F9+F10+F11+F12 -> 21301 | G13: =F13/C13 -> 0.34768061 | H13: =H9+H10+H11+H12 -> 1241 | I13: =I9+I10+I11+I12 -> 713 | J13: =J9+J10+J11+J12 -> 417 | K13: =J13/H13 -> 0.33601934 | L13: =L9+L10+L11+L12 -> 1.0861753 | M13: =M9+M10+M11+M12 -> 1.0086524 | N13: =M13/J13 -> 0.0024188307 | O13: =O9+O10+O11+O12 -> 1.0917329e-05 | P13: =O13/L13 -> 1.0051166e-05
A14: Behavioral Health/ Substance Use | B14: Contraindicated/ Adverse Reaction (c)(1) | C14: =SUM(ALIC!C14+CHLIC!C14+WIC!C14+UHC!C14+BMC!C14+THPP!C14+TIC!C14+HPIC!C14+TAHMO!C14+HPHC!C14+HNE!C14+BSBCMA!C14+'MGB-Medical Benefit'!C14+'MGB - Pharmacy Benefit'!C14+FCHP!C14) -> 752 | D14: =SUM(ALIC!D14+CHLIC!D14+WIC!D14+UHC!D14+BMC!D14+THPP!D14+TIC!D14+HPIC!D14+TAHMO!D14+HPHC!D14+HNE!D14+BSBCMA!D14+'MGB-Medical Benefit'!D14+'MGB - Pharmacy Benefit'!D14+FCHP!D14) -> 557 | E14: =D14/C14 -> 0.74069149 | F14: =SUM(ALIC!F14+CHLIC!F14+WIC!F14+UHC!F14+BMC!F14+THPP!F14+TIC!F14+HPIC!F14+TAHMO!F14+HPHC!F14+HNE!F14+BSBCMA!F14+'MGB-Medical Benefit'!F14+'MGB - Pharmacy Benefit'!F14+FCHP!F14) -> 193 | G14: =F14/C14 -> 0.25664894 | H14: =SUM(ALIC!H14+CHLIC!H14+WIC!H14+UHC!H14+BMC!H14+THPP!H14+TIC!H14+HPIC!H14+TAHMO!H14+HPHC!H14+HNE!H14+BSBCMA!H14+'MGB-Medical Benefit'!H14+'MGB - Pharmacy Benefit'!H14+FCHP!H14) -> 6 | I14: =SUM(ALIC!I14+CHLIC!I14+WIC!I14+UHC!I14+BMC!I14+THPP!I14+TIC!I14+HPIC!I14+TAHMO!I14+HPHC!I14+HNE!I14+BSBCMA!I14+'MGB-Medical Benefit'!I14+'MGB - Pharmacy Benefit'!I14+FCHP!I14) -> 6 | J14: =SUM(ALIC!J14+CHLIC!J14+WIC!J14+UHC!J14+BMC!J14+THPP!J14+TIC!J14+HPIC!J14+TAHMO!J14+HPHC!J14+HNE!J14+BSBCMA!J14+'MGB-Medical Benefit'!J14+'MGB - Pharmacy Benefit'!J14+FCHP!J14) -> 0 | K14: =J14/H14 -> 0 | L14: =SUM(ALIC!L14+CHLIC!L14+WIC!L14+UHC!L14+BMC!L14+THPP!L14+TIC!L14+HPIC!L14+TAHMO!L14+HPHC!L14+HNE!L14+BSBCMA!L14+'MGB-Medical Benefit'!L14+'MGB - Pharmacy Benefit'!L14+FCHP!L14) -> 0.0060742163 | M14: =SUM(ALIC!M14+CHLIC!M14+WIC!M14+UHC!M14+BMC!M14+THPP!M14+TIC!M14+HPIC!M14+TAHMO!M14+HPHC!M14+HNE!M14+BSBCMA!M14+'MGB-Medical Benefit'!M14+'MGB - Pharmacy Benefit'!M14+FCHP!M14) -> 0.00061724958 | N14: 0 | O14: =SUM(ALIC!O14+CHLIC!O14+WIC!O14+UHC!O14+BMC!O14+THPP!O14+TIC!O14+HPIC!O14+TAHMO!O14+HPHC!O14+HNE!O14+BSBCMA!O14+'MGB-Medical Benefit'!O14+'MGB - Pharmacy Benefit'!O14+FCHP!O14) -> 9.0977738e-07 | P14: =O14/L14 -> 0.00014977691
A15: Behavioral Health/ Substance Use | B15: Ineffective (c)(2) | C15: =SUM(ALIC!C15+CHLIC!C15+WIC!C15+UHC!C15+BMC!C15+THPP!C15+TIC!C15+HPIC!C15+TAHMO!C15+HPHC!C15+HNE!C15+BSBCMA!C15+'MGB-Medical Benefit'!C15+'MGB - Pharmacy Benefit'!C15+FCHP!C15) -> 863 | D15: =SUM(ALIC!D15+CHLIC!D15+WIC!D15+UHC!D15+BMC!D15+THPP!D15+TIC!D15+HPIC!D15+TAHMO!D15+HPHC!D15+HNE!D15+BSBCMA!D15+'MGB-Medical Benefit'!D15+'MGB - Pharmacy Benefit'!D15+FCHP!D15) -> 649 | E15: =D15/C15 -> 0.75202781 | F15: =SUM(ALIC!F15+CHLIC!F15+WIC!F15+UHC!F15+BMC!F15+THPP!F15+TIC!F15+HPIC!F15+TAHMO!F15+HPHC!F15+HNE!F15+BSBCMA!F15+'MGB-Medical Benefit'!F15+'MGB - Pharmacy Benefit'!F15+FCHP!F15) -> 213 | G15: =F15/C15 -> 0.24681344 | H15: =SUM(ALIC!H15+CHLIC!H15+WIC!H15+UHC!H15+BMC!H15+THPP!H15+TIC!H15+HPIC!H15+TAHMO!H15+HPHC!H15+HNE!H15+BSBCMA!H15+'MGB-Medical Benefit'!H15+'MGB - Pharmacy Benefit'!H15+FCHP!H15) -> 6 | I15: =SUM(ALIC!I15+CHLIC!I15+WIC!I15+UHC!I15+BMC!I15+THPP!I15+TIC!I15+HPIC!I15+TAHMO!I15+HPHC!I15+HNE!I15+BSBCMA!I15+'MGB-Medical Benefit'!I15+'MGB - Pharmacy Benefit'!I15+FCHP!I15) -> 6 | J15: =SUM(ALIC!J15+CHLIC!J15+WIC!J15+UHC!J15+BMC!J15+THPP!J15+TIC!J15+HPIC!J15+TAHMO!J15+HPHC!J15+HNE!J15+BSBCMA!J15+'MGB-Medical Benefit'!J15+'MGB - Pharmacy Benefit'!J15+FCHP!J15) -> 0 | K15: =J15/H15 -> 0 | L15: =SUM(ALIC!L15+CHLIC!L15+WIC!L15+UHC!L15+BMC!L15+THPP!L15+TIC!L15+HPIC!L15+TAHMO!L15+HPHC!L15+HNE!L15+BSBCMA!L15+'MGB-Medical Benefit'!L15+'MGB - Pharmacy Benefit'!L15+FCHP!L15) -> 1.0121484 | M15: =SUM(ALIC!M15+CHLIC!M15+WIC!M15+UHC!M15+BMC!M15+THPP!M15+TIC!M15+HPIC!M15+TAHMO!M15+HPHC!M15+HNE!M15+BSBCMA!M15+'MGB-Medical Benefit'!M15+'MGB - Pharmacy Benefit'!M15+FCHP!M15) -> 1.0012345 | N15: 0 | O15: =SUM(ALIC!O15+CHLIC!O15+WIC!O15+UHC!O15+BMC!O15+THPP!O15+TIC!O15+HPIC!O15+TAHMO!O15+HPHC!O15+HNE!O15+BSBCMA!O15+'MGB-Medical Benefit'!O15+'MGB - Pharmacy Benefit'!O15+FCHP!O15) -> 1.8195548e-06 | P15: =O15/L15 -> 1.7977153e-06
A16: Behavioral Health/ Substance Use | B16: Previously Tried/ Ineffective (c)(3) | C16: =SUM(ALIC!C16+CHLIC!C16+WIC!C16+UHC!C16+BMC!C16+THPP!C16+TIC!C16+HPIC!C16+TAHMO!C16+HPHC!C16+HNE!C16+BSBCMA!C16+'MGB-Medical Benefit'!C16+'MGB - Pharmacy Benefit'!C16+FCHP!C16) -> 1248 | D16: =SUM(ALIC!D16+CHLIC!D16+WIC!D16+UHC!D16+BMC!D16+THPP!D16+TIC!D16+HPIC!D16+TAHMO!D16+HPHC!D16+HNE!D16+BSBCMA!D16+'MGB-Medical Benefit'!D16+'MGB - Pharmacy Benefit'!D16+FCHP!D16) -> 896 | E16: =D16/C16 -> 0.71794872 | F16: =SUM(ALIC!F16+CHLIC!F16+WIC!F16+UHC!F16+BMC!F16+THPP!F16+TIC!F16+HPIC!F16+TAHMO!F16+HPHC!F16+HNE!F16+BSBCMA!F16+'MGB-Medical Benefit'!F16+'MGB - Pharmacy Benefit'!F16+FCHP!F16) -> 350 | G16: =F16/C16 -> 0.28044872 | H16: =SUM(ALIC!H16+CHLIC!H16+WIC!H16+UHC!H16+BMC!H16+THPP!H16+TIC!H16+HPIC!H16+TAHMO!H16+HPHC!H16+HNE!H16+BSBCMA!H16+'MGB-Medical Benefit'!H16+'MGB - Pharmacy Benefit'!H16+FCHP!H16) -> 12 | I16: =SUM(ALIC!I16+CHLIC!I16+WIC!I16+UHC!I16+BMC!I16+THPP!I16+TIC!I16+HPIC!I16+TAHMO!I16+HPHC!I16+HNE!I16+BSBCMA!I16+'MGB-Medical Benefit'!I16+'MGB - Pharmacy Benefit'!I16+FCHP!I16) -> 6 | J16: =SUM(ALIC!J16+CHLIC!J16+WIC!J16+UHC!J16+BMC!J16+THPP!J16+TIC!J16+HPIC!J16+TAHMO!J16+HPHC!J16+HNE!J16+BSBCMA!J16+'MGB-Medical Benefit'!J16+'MGB - Pharmacy Benefit'!J16+FCHP!J16) -> 6 | K16: =J16/H16 -> 0.5 | L16: =SUM(ALIC!L16+CHLIC!L16+WIC!L16+UHC!L16+BMC!L16+THPP!L16+TIC!L16+HPIC!L16+TAHMO!L16+HPHC!L16+HNE!L16+BSBCMA!L16+'MGB-Medical Benefit'!L16+'MGB - Pharmacy Benefit'!L16+FCHP!L16) -> 0.021543825 | M16: =SUM(ALIC!M16+CHLIC!M16+WIC!M16+UHC!M16+BMC!M16+THPP!M16+TIC!M16+HPIC!M16+TAHMO!M16+HPHC!M16+HNE!M16+BSBCMA!M16+'MGB-Medical Benefit'!M16+'MGB - Pharmacy Benefit'!M16+FCHP!M16) -> 0.002163105 | N16: =M16/J16 -> 0.00036051749 | O16: =SUM(ALIC!O16+CHLIC!O16+WIC!O16+UHC!O16+BMC!O16+THPP!O16+TIC!O16+HPIC!O16+TAHMO!O16+HPHC!O16+HNE!O16+BSBCMA!O16+'MGB-Medical Benefit'!O16+'MGB - Pharmacy Benefit'!O16+FCHP!O16) -> 2.7293321e-06 | P16: =O16/L16 -> 0.00012668744
A17: Behavioral Health/ Substance Use | B17: Switching Adverse React (c)(4) | C17: =SUM(ALIC!C17+CHLIC!C17+WIC!C17+UHC!C17+BMC!C17+THPP!C17+TIC!C17+HPIC!C17+TAHMO!C17+HPHC!C17+HNE!C17+BSBCMA!C17+'MGB-Medical Benefit'!C17+'MGB - Pharmacy Benefit'!C17+FCHP!C17) -> 843 | D17: =SUM(ALIC!D17+CHLIC!D17+WIC!D17+UHC!D17+BMC!D17+THPP!D17+TIC!D17+HPIC!D17+TAHMO!D17+HPHC!D17+HNE!D17+BSBCMA!D17+'MGB-Medical Benefit'!D17+'MGB - Pharmacy Benefit'!D17+FCHP!D17) -> 659 | E17: =D17/C17 -> 0.78173191 | F17: =SUM(ALIC!F17+CHLIC!F17+WIC!F17+UHC!F17+BMC!F17+THPP!F17+TIC!F17+HPIC!F17+TAHMO!F17+HPHC!F17+HNE!F17+BSBCMA!F17+'MGB-Medical Benefit'!F17+'MGB - Pharmacy Benefit'!F17+FCHP!F17) -> 183 | G17: =F17/C17 -> 0.21708185 | H17: =SUM(ALIC!H17+CHLIC!H17+WIC!H17+UHC!H17+BMC!H17+THPP!H17+TIC!H17+HPIC!H17+TAHMO!H17+HPHC!H17+HNE!H17+BSBCMA!H17+'MGB-Medical Benefit'!H17+'MGB - Pharmacy Benefit'!H17+FCHP!H17) -> 6 | I17: =SUM(ALIC!I17+CHLIC!I17+WIC!I17+UHC!I17+BMC!I17+THPP!I17+TIC!I17+HPIC!I17+TAHMO!I17+HPHC!I17+HNE!I17+BSBCMA!I17+'MGB-Medical Benefit'!I17+'MGB - Pharmacy Benefit'!I17+FCHP!I17) -> 6 | J17: =SUM(ALIC!J17+CHLIC!J17+WIC!J17+UHC!J17+BMC!J17+THPP!J17+TIC!J17+HPIC!J17+TAHMO!J17+HPHC!J17+HNE!J17+BSBCMA!J17+'MGB-Medical Benefit'!J17+'MGB - Pharmacy Benefit'!J17+FCHP!J17) -> 0 | K17: =J17/H17 -> 0 | L17: =SUM(ALIC!L17+CHLIC!L17+WIC!L17+UHC!L17+BMC!L17+THPP!L17+TIC!L17+HPIC!L17+TAHMO!L17+HPHC!L17+HNE!L17+BSBCMA!L17+'MGB-Medical Benefit'!L17+'MGB - Pharmacy Benefit'!L17+FCHP!L17) -> 0.04308765 | M17: =SUM(ALIC!M17+CHLIC!M17+WIC!M17+UHC!M17+BMC!M17+THPP!M17+TIC!M17+HPIC!M17+TAHMO!M17+HPHC!M17+HNE!M17+BSBCMA!M17+'MGB-Medical Benefit'!M17+'MGB - Pharmacy Benefit'!M17+FCHP!M17) -> 0.0043262099 | N17: 0 | O17: =SUM(ALIC!O17+CHLIC!O17+WIC!O17+UHC!O17+BMC!O17+THPP!O17+TIC!O17+HPIC!O17+TAHMO!O17+HPHC!O17+HNE!O17+BSBCMA!O17+'MGB-Medical Benefit'!O17+'MGB - Pharmacy Benefit'!O17+FCHP!O17) -> 5.4586643e-06 | P17: =O17/L17 -> 0.00012668744
A18: Behavioral Health/ Substance Use | B18: Total | C18: =C14+C15+C16+C17 -> 3706 | D18: =D14+D15+D16+D17 -> 2761 | E18: =D18/C18 -> 0.74500809 | F18: =F14+F15+F16+F17 -> 939 | G18: =F18/C18 -> 0.25337291 | H18: =H14+H15+H16+H17 -> 30 | I18: =I14+I15+I16+I17 -> 24 | J18: =J14+J15+J16+J17 -> 6 | K18: =J18/H18 -> 0.2 | L18: =L14+L15+L16+L17 -> 1.0828541 | M18: =M14+M15+M16+M17 -> 1.0083411 | N18: 0 | O18: =O14+O15+O16+O17 -> 1.0917329e-05 | P18: =O18/L18 -> 1.0081994e-05
A22: Notes:

Sheet Total
A1: Carrier | B1: Total Exceptions | C1: Pharmacy Claims(30 Day Claims) | D1: % of Excemptions
A2: Aetna Life Insurance Company | B2: 220 | C2: 84534 | D2: =B2/C2 -> 0.0026025031
A3: Blue Cross and Blue Shield of Massachusetts, Inc. | B3: 6116 | C3: 9601226 | D3: =B3/C3 -> 0.00063700198
A4: Boston Medical Center Health Plan, Inc. | B4: 0 | C4: 859049 | D4: =B4/C4 -> 0
A5: Cigna Health and Life Insurance Company | B5: 1012 | C5: 272604 | D5: =B5/C5 -> 0.0037123446
A6: Fallon Community Health Plan | B6: 3133 | C6: 149855.5 | D6: =B6/C6 -> 0.020906807
A7: Harvard Pilgrim Health Care, Inc. | B7: 10 | C7: 2099995 | D7: =B7/C7 -> 4.7619161e-06
A8: Health New England, Inc. | B8: 14043 | C8: 1043858 | D8: =B8/C8 -> 0.013452979
A9: HPHC Insurance Company, Inc. | B9: 4 | C9: 300493 | D9: =B9/C9 -> 1.3311458e-05
A10: Mass General Brigham Health Plan, Inc.(Combined) | B10: 30999 | C10: 1288513 | D10: =B10/C10 -> 0.024057964
A11: Tufts Associated Health Maintenance Organization, Inc. | B11: 0 | C11: 2094779 | D11: =B11/C11 -> 0
A12: Tufts Health Public Plans, Inc. | B12: 1 | C12: 1816941 | D12: =B12/C12 -> 5.503756e-07
A13: Tufts Insurance Company | B13: 240 | C13: 326513 | D13: =B13/C13 -> 0.00073503965
A14: UnitedHealthcare Insurance Company | B14: 21076 | C14: 98204 | D14: =B14/C14 -> 0.21461448
A15: Total(Excluding Wellfleet) | B15: =SUM(B2:B14) -> 76854 | C15: =SUM(C2:C14) -> 20036564 | D15: =B15/C15 -> 0.0038356875

Sheet ALIC
A1: Carrier Name: Aetna Life Insurance Company
A2: Carrier Address: 151 Farmington Avenue, Hartford, CT 06156
A3: Contact Name and Title: Renea L Taylor, Manager, Regulatory Reporting Team
A4: Contact E-mail: TayorR6@aetna.com
A5: Contact Phone Number: (312) 928-3745
A7: Type | B7: Types of Exceptions | C7: No. of Exceptions Received g(i) | D7: No. of Exceptions Authorized g(iii) | E7: Percent Authorized [g(iii)/(g(i)] | F7: No. of Exceptions Denied g(iv) | G7: Percent Denied [g(iv)/g(i)] | H7: No. of Internal Appeals Filed [g(v)] | I7: No. of Internal Appeals Approved g(vii) | J7: No. of Internal Appeals Denied | K7: Percent of Internal Appeals Denied | L7: No. Sent For External Appeal [g(v)] | M7: No. External Appeals Overturned g(vii) | N7: Percent of External Appeals Oveturned | O7: No. External Appeals Denied g(vii) | P7: Percent of External Appeals Denied
A9: Medical/ Surgical | B9: Contraindicated/ Adverse Reaction (c)(1) | C9: 43 | D9: 43 | E9: =+D9/C9 -> 1 | F9: 0 | G9: =F9/C9 -> 0 | H9: 0 | I9: 0 | J9: 0 | K9: =J9/H9 -> #DIV/0! | L9: 0 | M9: 0 | N9: =M9/J9 -> #DIV/0! | O9: 0 | P9: =O9/L9 -> #DIV/0!
A10: Medical/ Surgical | B10: Ineffective (c)(2) | C10: 12 | D10: 12 | E10: =+D10/C10 -> 1 | F10: 0 | G10: =F10/C10 -> 0 | H10: 0 | I10: 0 | J10: 0 | K10: =J10/H10 -> #DIV/0! | L10: 0 | M10: 0 | N10: =M10/J10 -> #DIV/0! | O10: 0 | P10: =O10/L10 -> #DIV/0!
A11: Medical/ Surgical | B11: Previously Tried/ Ineffective (c)(3) | C11: 8 | D11: 8 | E11: =+D11/C11 -> 1 | F11: 0 | G11: =F11/C11 -> 0 | H11: 0 | I11: 0 | J11: 0 | K11: =J11/H11 -> #DIV/0! | L11: 0 | M11: 0 | N11: =M11/J11 -> #DIV/0! | O11: 0 | P11: =O11/L11 -> #DIV/0!
A12: Medical/ Surgical | B12: Switching Adverse React (c)(4) | C12: 4 | D12: 4 | E12: =+D12/C12 -> 1 | F12: 0 | G12: =F12/C12 -> 0 | H12: 0 | I12: 0 | J12: 0 | K12: =J12/H12 -> #DIV/0! | L12: 0 | M12: 0 | N12: =M12/J12 -> #DIV/0! | O12: 0 | P12: =O12/L12 -> #DIV/0!
A13: Medical/ Surgical | B13: Total | C13: =C9+C10+C11+C12 -> 67 | D13: =D9+D10+D11+D12 -> 67 | E13: =D13/C13 -> 1 | F13: =F9+F10+F11+F12 -> 0 | G13: =F13/C13 -> 0 | H13: =H9+H10+H11+H12 -> 0 | I13: =I9+I10+I11+I12 -> 0 | J13: =J9+J10+J11+J12 -> 0 | K13: =J13/H13 -> #DIV/0! | L13: =L9+L10+L11+L12 -> 0 | M13: =M9+M10+M11+M12 -> 0 | N13: =M13/J13 -> #DIV/0! | O13: =O9+O10+O11+O12 -> 0 | P13: =O13/L13 -> #DIV/0!
A14: Behavioral Health/ Substance Use | B14: Contraindicated/ Adverse Reaction (c)(1) | C14: 1 | D14: 1 | E14: =D14/C14 -> 1 | G14: =F14/C14 -> 0 | H14: 0 | I14: 0 | J14: 0 | K14: =J14/H14 -> #DIV/0! | L14: 0 | M14: 0 | N14: =M14/J14 -> #DIV/0! | O14: 0 | P14: =O14/L14 -> #DIV/0!
A15: Behavioral Health/ Substance Use | B15: Ineffective (c)(2) | C15: 0 | D15: 0 | E15: =D15/C15 -> #DIV/0! | G15: =F15/C15 -> #DIV/0! | H15: 0 | I15: 0 | J15: 0 | K15: =J15/H15 -> #DIV/0! | L15: 1 | M15: 1 | N15: =M15/J15 -> #DIV/0! | O15: 0 | P15: =O15/L15 -> 0
A16: Behavioral Health/ Substance Use | B16: Previously Tried/ Ineffective (c)(3) | C16: 1 | D16: 1 | E16: =D16/C16 -> 1 | G16: =F16/C16 -> 0 | H16: 0 | I16: 0 | J16: 0 | K16: =J16/H16 -> #DIV/0! | L16: 0 | M16: 0 | N16: =M16/J16 -> #DIV/0! | O16: 0 | P16: =O16/L16 -> #DIV/0!
A17: Behavioral Health/ Substance Use | B17: Switching Adverse React (c)(4) | C17: 0 | D17: 0 | E17: =D17/C17 -> #DIV/0! | G17: =F17/C17 -> #DIV/0! | H17: 0 | I17: 0 | J17: 0 | K17: =J17/H17 -> #DIV/0! | L17: 0 | M17: 0 | N17: =M17/J17 -> #DIV/0! | O17: 0 | P17: =O17/L17 -> #DIV/0!
A18: Behavioral Health/ Substance Use | B18: Total | C18: =C14+C15+C16+C17 -> 2 | D18: =D14+D15+D16+D17 -> 2 | E18: =D18/C18 -> 1 | F18: =F14+F15+F16+F17 -> 0 | G18: =F18/C18 -> 0 | H18: =H14+H15+H16+H17 -> 0 | I18: =I14+I15+I16+I17 -> 0 | J18: =J14+J15+J16+J17 -> 0 | K18: =J18/H18 -> #DIV/0! | L18: =L14+L15+L16+L17 -> 1 | M18: =M14+M15+M16+M17 -> 1 | N18: =M18/J18 -> #DIV/0! | O18: =O14+O15+O16+O17 -> 0 | P18: =O18/L18 -> 0
A22: Notes:

Sheet CHLIC
A1: Carrier Name: | C1: Cigna Health and Life Insurance Company
A2: Carrier Address: | C2: 900 Cottage Grove Rd. Bloomfield, CT 06002
A3: Contact Name and Title: | C3: Jennifer Coppock, Legal Compliance Advisor
A4: Contact E-mail: | C4: jennifer.coppock@cignahealthcare.com
A5: Contact Phone Number: | C5: 920-843-8068
A7: Type | B7: Types of Exceptions | C7: No. of Exceptions Received g(i) | D7: No. of Exceptions Authorized g(iii) | E7: Percent Authorized [g(iii)/(g(i)] | F7: No. of Exceptions Denied g(iv) | G7: Percent Denied [g(iv)/g(i)] | H7: No. of Internal Appeals Filed [g(v)] | I7: No. of Internal Appeals Approved g(vii) | J7: No. of Internal Appeals Denied | K7: Percent of Internal Appeals Denied | L7: No. Sent For External Appeal [g(v)] | M7: No. External Appeals Overturned g(vii) | N7: Percent of External Appeals Oveturned | O7: No. External Appeals Denied g(vii) | P7: Percent of External Appeals Denied
A9: Medical/ Surgical | B9: Contraindicated/ Adverse Reaction (c)(1) | C9: 118 | D9: 118 | E9: 100% | F9: 0 | G9: =F9/C9 -> 0 | H9: 3 | I9: 3 | J9: 0 | K9: =J9/H9 -> 0 | L9: 0 | M9: 0 | N9: =M9/J9 -> #DIV/0! | O9: 0 | P9: =O9/L9 -> #DIV/0!
A10: Medical/ Surgical | B10: Ineffective (c)(2) | C10: 4 | D10: 4 | E10: 100% | F10: 0 | G10: =F10/C10 -> 0 | H10: 0 | I10: 0 | J10: 0 | K10: =J10/H10 -> #DIV/0! | L10: 1 | M10: 1 | N10: =M10/J10 -> #DIV/0! | O10: 0 | P10: =O10/L10 -> 0
A11: Medical/ Surgical | B11: Previously Tried/ Ineffective (c)(3) | C11: 670 | D11: 670 | E11: 100% | F11: 0 | G11: =F11/C11 -> 0 | H11: 14 | I11: 14 | J11: 0 | K11: =J11/H11 -> 0 | L11: 0 | M11: 0 | N11: =M11/J11 -> #DIV/0! | O11: 0 | P11: =O11/L11 -> #DIV/0!
A12: Medical/ Surgical | B12: Switching Adverse React (c)(4) | C12: 96 | D12: 96 | E12: 100% | F12: 0 | G12: =F12/C12 -> 0 | H12: 7 | I12: 7 | J12: 0 | K12: =J12/H12 -> 0 | L12: 0 | M12: 0 | N12: =M12/J12 -> #DIV/0! | O12: 0 | P12: =O12/L12 -> #DIV/0!
A13: Medical/ Surgical | B13: Total | C13: =C9+C10+C11+C12 -> 888 | D13: =D9+D10+D11+D12 -> 888 | E13: =D13/C13 -> 1 | F13: =F9+F10+F11+F12 -> 0 | G13: =F13/C13 -> 0 | H13: =H9+H10+H11+H12 -> 24 | I13: =I9+I10+I11+I12 -> 24 | J13: =J9+J10+J11+J12 -> 0 | K13: =J13/H13 -> 0 | L13: =L9+L10+L11+L12 -> 1 | M13: =M9+M10+M11+M12 -> 1 | N13: =M13/J13 -> #DIV/0! | O13: =O9+O10+O11+O12 -> 0 | P13: =O13/L13 -> 0
A14: Behavioral Health/ Substance Use | B14: Contraindicated/ Adverse Reaction (c)(1) | C14: 2 | D14: 2 | E14: 100% | F14: 0 | G14: =F14/C14 -> 0 | H14: 0 | I14: 0 | J14: 0 | K14: =J14/H14 -> #DIV/0! | L14: 0 | M14: 0 | N14: =M14/J14 -> #DIV/0! | O14: 0 | P14: =O14/L14 -> #DIV/0!
A15: Behavioral Health/ Substance Use | B15: Ineffective (c)(2) | C15: 0 | D15: 0 | E15: 100% | F15: 0 | G15: =F15/C15 -> #DIV/0! | H15: 0 | I15: 0 | J15: 0 | K15: =J15/H15 -> #DIV/0! | L15: 0 | M15: 0 | N15: =M15/J15 -> #DIV/0! | O15: 0 | P15: =O15/L15 -> #DIV/0!
A16: Behavioral Health/ Substance Use | B16: Previously Tried/ Ineffective (c)(3) | C16: 108 | D16: 108 | E16: 100% | F16: 0 | G16: =F16/C16 -> 0 | H16: 0 | I16: 0 | J16: 0 | K16: =J16/H16 -> #DIV/0! | L16: 0 | M16: 0 | N16: =M16/J16 -> #DIV/0! | O16: 0 | P16: =O16/L16 -> #DIV/0!
A17: Behavioral Health/ Substance Use | B17: Switching Adverse React (c)(4) | C17: 14 | D17: 14 | E17: 100% | F17: 0 | G17: =F17/C17 -> 0 | H17: 0 | I17: 0 | J17: 0 | K17: =J17/H17 -> #DIV/0! | L17: 0 | M17: 0 | N17: =M17/J17 -> #DIV/0! | O17: 0 | P17: =O17/L17 -> #DIV/0!
A18: Behavioral Health/ Substance Use | B18: Total | C18: =C14+C15+C16+C17 -> 124 | D18: =D14+D15+D16+D17 -> 124 | E18: 100% | F18: 0 | G18: =F18/C18 -> 0 | H18: =H14+H15+H16+H17 -> 0 | I18: =I14+I15+I16+I17 -> 0 | J18: =J14+J15+J16+J17 -> 0 | K18: =J18/H18 -> #DIV/0! | L18: =L14+L15+L16+L17 -> 0 | M18: =M14+M15+M16+M17 -> 0 | N18: =M18/J18 -> #DIV/0! | O18: =O14+O15+O16+O17 -> 0 | P18: =O18/L18 -> #DIV/0!
A22: Notes:

Sheet WIC
A1: Carrier Name: | C1: Wellfleet Insurance Company
A2: Carrier Address: | C2: 5814 Reed Road, Fort Wayne, IN 46835
A3: Contact Name and Title: | C3: Jaime Kobeck, Compliance Analyst
A4: Contact E-mail: | C4: CarrierReporting@wellfleetinsurance.com
A5: Contact Phone Number: | C5: 800-633-7867 xt 592
A7: Type | B7: Types of Exceptions | C7: No. of Exceptions Received g(i) | D7: No. of Exceptions Authorized g(iii) | E7: Percent Authorized [g(iii)/(g(i)] | F7: No. of Exceptions Denied g(iv) | G7: Percent Denied [g(iv)/g(i)] | H7: No. of Internal Appeals Filed [g(v)] | I7: No. of Internal Appeals Approved g(vii) | J7: No. of Internal Appeals Denied | K7: Percent of Internal Appeals Denied | L7: No. Sent For External Appeal [g(v)] | M7: No. External Appeals Overturned g(vii) | N7: Percent of External Appeals Oveturned | O7: No. External Appeals Denied g(vii) | P7: Percent of External Appeals Denied
A9: Medical/ Surgical | B9: Contraindicated/ Adverse Reaction (c)(1) | C9: 2 | D9: 2 | E9: 1 | F9: 0 | G9: =F9/C9 -> 0 | H9: 0 | I9: 0 | J9: 0 | K9: =J9/H9 -> #DIV/0! | L9: 0 | M9: 0 | N9: =M9/J9 -> #DIV/0! | O9: 0 | P9: =O9/L9 -> #DIV/0!
A10: Medical/ Surgical | B10: Ineffective (c)(2) | C10: 5 | D10: 5 | E10: 1 | F10: 0 | G10: =F10/C10 -> 0 | H10: 0 | I10: 0 | J10: 0 | K10: =J10/H10 -> #DIV/0! | L10: 0 | M10: 0 | N10: =M10/J10 -> #DIV/0! | O10: 0 | P10: =O10/L10 -> #DIV/0!
A11: Medical/ Surgical | B11: Previously Tried/ Ineffective (c)(3) | C11: 0 | D11: 0 | E11: 0 | F11: 0 | G11: =F11/C11 -> #DIV/0! | H11: 0 | I11: 0 | J11: 0 | K11: =J11/H11 -> #DIV/0! | L11: 0 | M11: 0 | N11: =M11/J11 -> #DIV/0! | O11: 0 | P11: =O11/L11 -> #DIV/0!
A12: Medical/ Surgical | B12: Switching Adverse React (c)(4) | C12: 6 | D12: 6 | E12: 0 | F12: 0 | G12: =F12/C12 -> 0 | H12: 0 | I12: 0 | J12: 0 | K12: =J12/H12 -> #DIV/0! | L12: 0 | M12: 0 | N12: =M12/J12 -> #DIV/0! | O12: 0 | P12: =O12/L12 -> #DIV/0!
A13: Medical/ Surgical | B13: Total | C13: =C9+C10+C11+C12 -> 13 | D13: =D9+D10+D11+D12 -> 13 | E13: =D13/C13 -> 1 | F13: =F9+F10+F11+F12 -> 0 | G13: =F13/C13 -> 0 | H13: =H9+H10+H11+H12 -> 0 | I13: =I9+I10+I11+I12 -> 0 | J13: =J9+J10+J11+J12 -> 0 | K13: =J13/H13 -> #DIV/0! | L13: =L9+L10+L11+L12 -> 0 | M13: =M9+M10+M11+M12 -> 0 | N13: =M13/J13 -> #DIV/0! | O13: =O9+O10+O11+O12 -> 0 | P13: =O13/L13 -> #DIV/0!
A14: Behavioral Health/ Substance Use | B14: Contraindicated/ Adverse Reaction (c)(1) | C14: 0 | D14: 0 | E14: 0 | F14: 0 | G14: =F14/C14 -> #DIV/0! | H14: 0 | I14: 0 | J14: 0 | K14: =J14/H14 -> #DIV/0! | L14: 0 | M14: 0 | N14: =M14/J14 -> #DIV/0! | O14: 0 | P14: =O14/L14 -> #DIV/0!
A15: Behavioral Health/ Substance Use | B15: Ineffective (c)(2) | C15: 0 | D15: 0 | E15: 0 | F15: 0 | G15: =F15/C15 -> #DIV/0! | H15: 0 | I15: 0 | J15: 0 | K15: =J15/H15 -> #DIV/0! | L15: 0 | M15: 0 | N15: =M15/J15 -> #DIV/0! | O15: 0 | P15: =O15/L15 -> #DIV/0!
A16: Behavioral Health/ Substance Use | B16: Previously Tried/ Ineffective (c)(3) | C16: 2 | D16: 2 | E16: 100% | F16: 0 | G16: =F16/C16 -> 0 | H16: 0 | I16: 0 | J16: 0 | K16: =J16/H16 -> #DIV/0! | L16: 0 | M16: 0 | N16: =M16/J16 -> #DIV/0! | O16: 0 | P16: =O16/L16 -> #DIV/0!
A17: Behavioral Health/ Substance Use | B17: Switching Adverse React (c)(4) | C17: 1 | D17: 1 | E17: 100% | F17: 0 | G17: =F17/C17 -> 0 | H17: 0 | I17: 0 | J17: 0 | K17: =J17/H17 -> #DIV/0! | L17: 0 | M17: 0 | N17: =M17/J17 -> #DIV/0! | O17: 0 | P17: =O17/L17 -> #DIV/0!
A18: Behavioral Health/ Substance Use | B18: Total | C18: =C14+C15+C16+C17 -> 3 | D18: =D14+D15+D16+D17 -> 3 | E18: =D18/C18 -> 1 | F18: =F14+F15+F16+F17 -> 0 | G18: =F18/C18 -> 0 | H18: =H14+H15+H16+H17 -> 0 | I18: =I14+I15+I16+I17 -> 0 | J18: =J14+J15+J16+J17 -> 0 | K18: =J18/H18 -> #DIV/0! | L18: =L14+L15+L16+L17 -> 0 | M18: =M14+M15+M16+M17 -> 0 | N18: =M18/J18 -> #DIV/0! | O18: =O14+O15+O16+O17 -> 0 | P18: =O18/L18 -> #DIV/0!
A22: Notes:

Sheet UHC
A1: Carrier Name: UnitedHealthcare Insurance Company
A2: Carrier Address: 185 Asylum, Hartford, CT 06103-0450
A3: Contact Name and Title: Tonja Donato, Sr. Regulatory Analyst
A4: Contact E-mail: tonja_r_donato@uhc.com
A5: Contact Phone Number: 612-642-7717
A7: Type | B7: Types of Exceptions | C7: No. of Exceptions Received g(i) | D7: No. of Exceptions Authorized g(iii) | E7: Percent Authorized [g(iii)/(g(i)] | F7: No. of Exceptions Denied g(iv) | G7: Percent Denied [g(iv)/g(i)] | H7: No. of Internal Appeals Filed [g(v)] | I7: No. of Appeals Approved g(vii) | J7: No. of Appeals Denied | K7: Percent of Appeals Denied | L7: No. Sent For External Appeal [g(v)] | M7: No. External Appeals Overturned g(vii) | N7: Percent of External Appeals Oveturned | O7: No. External Appeals Denied g(vii) | P7: Percent of External Appeals Denied
A9: Medical/ Surgical | B9: Contraindicated/ Adverse Reaction (c)(1) | C9: =[1]INFO!D3 -> 1614 | D9: =[1]INFO!E3 -> 595 | E9: =IF(C9<>0,D9/C9,0) -> 0.36864932 | F9: =[1]INFO!F3 -> 1019 | G9: =IF(F9<>0,F9/C9,0) -> 0.63135068 | H9: =[1]INFO!J3 -> 111 | I9: =[1]INFO!K4 -> 157 | J9: =[1]INFO!L3 -> 0 | K9: =IF(J9<>0,J9/H9,0) -> 0 | L9: =[1]INFO!P3 -> 0 | M9: =[1]INFO!Q3 -> 0 | N9: =IF(M9<>0,M9/L9,0) -> 0 | O9: =[1]INFO!R3 -> 0 | P9: =IF(O9<>0,O9/L9,0) -> 0
A10: Medical/ Surgical | B10: Ineffective (c)(2) | C10: =[1]INFO!D4 -> 2239 | D10: =[1]INFO!E4 -> 818 | E10: =IF(C10<>0,D10/C10,0) -> 0.36534167 | F10: =[1]INFO!F4 -> 1421 | G10: =IF(F10<>0,F10/C10,0) -> 0.63465833 | H10: =[1]INFO!J4 -> 157 | I10: =[1]INFO!K5 -> 177 | J10: =[1]INFO!L4 -> 0 | K10: =IF(J10<>0,J10/H10,0) -> 0 | L10: =[1]INFO!P4 -> 0 | M10: =[1]INFO!Q4 -> 0 | N10: =IF(M10<>0,M10/L10,0) -> 0 | O10: =[1]INFO!R4 -> 0 | P10: =IF(O10<>0,O10/L10,0) -> 0
A11: Medical/ Surgical | B11: Previously Tried/ Ineffective (c)(3) | C11: =[1]INFO!D5 -> 2782 | D11: =[1]INFO!E5 -> 1039 | E11: =IF(C11<>0,D11/C11,0) -> 0.37347232 | F11: =[1]INFO!F5 -> 1743 | G11: =IF(F11<>0,F11/C11,0) -> 0.62652768 | H11: =[1]INFO!J5 -> 177 | I11: =[1]INFO!K6 -> 130 | J11: =[1]INFO!L5 -> 0 | K11: =IF(J11<>0,J11/H11,0) -> 0 | L11: =[1]INFO!P5 -> 0 | M11: =[1]INFO!Q5 -> 0 | N11: =IF(M11<>0,M11/L11,0) -> 0 | O11: =[1]INFO!R5 -> 0 | P11: =IF(O11<>0,O11/L11,0) -> 0
A12: Medical/ Surgical | B12: Switching Adverse React (c)(4) | C12: =[1]INFO!D6 -> 2186 | D12: =[1]INFO!E6 -> 897 | E12: =IF(C12<>0,D12/C12,0) -> 0.41033852 | F12: =[1]INFO!F6 -> 1289 | G12: =IF(F12<>0,F12/C12,0) -> 0.58966148 | H12: =[1]INFO!J6 -> 130 | I12: =[1]INFO!K7 -> 0 | J12: =[1]INFO!L6 -> 0 | K12: =IF(J12<>0,J12/H12,0) -> 0 | L12: =[1]INFO!P6 -> 0 | M12: =[1]INFO!Q6 -> 0 | N12: =IF(M12<>0,M12/L12,0) -> 0 | O12: =[1]INFO!R6 -> 0 | P12: =IF(O12<>0,O12/L12,0) -> 0
A13: Medical/ Surgical | B13: Total | C13: =C9+C10+C11+C12 -> 8821 | D13: =D9+D10+D11+D12 -> 3349 | E13: =IF(C13<>0,D13/C13,0) -> 0.37966217 | F13: =F9+F10+F11+F12 -> 5472 | G13: =IF(F13<>0,F13/C13,0) -> 0.62033783 | H13: =H9+H10+H11+H12 -> 575 | I13: =I9+I10+I11+I12 -> 464 | J13: =J9+J10+J11+J12 -> 0 | K13: =IF(J13<>0,J13/H13,0) -> 0 | L13: =L9+L10+L11+L12 -> 0 | M13: =M9+M10+M11+M12 -> 0 | N13: =IF(M13<>0,M13/L13,0) -> 0 | O13: =O9+O10+O11+O12 -> 0 | P13: =IF(O13<>0,O13/L13,0) -> 0
A14: Behavioral Health/ Substance Use | B14: Contraindicated/ Adverse Reaction (c)(1) | C14: =[1]INFO!D9 -> 101 | D14: =[1]INFO!E9 -> 39 | E14: =IF(D14<>0,D14/C14,0) -> 0.38613861 | F14: =[1]INFO!F9 -> 62 | G14: =IF(F14<>0,F14/C14,0) -> 0.61386139 | H14: =[1]INFO!J9 -> 4 | I14: =[1]INFO!K9 -> 4 | J14: =[1]INFO!L9 -> 0 | K14: =IF(J14<>0,J14/H14,0) -> 0 | L14: =[1]INFO!P9 -> 0 | M14: =[1]INFO!P10 -> 0 | N14: =IF(M14<>0,M14/L14,0) -> 0 | O14: =[1]INFO!R9 -> 0 | P14: =IF(O14<>0,O14/L14,0) -> 0
A15: Behavioral Health/ Substance Use | B15: Ineffective (c)(2) | C15: =[1]INFO!D10 -> 113 | D15: =[1]INFO!E10 -> 42 | E15: =IF(D15<>0,D15/C15,0) -> 0.37168142 | F15: =[1]INFO!F10 -> 71 | G15: =IF(F15<>0,F15/C15,0) -> 0.62831858 | H15: =[1]INFO!J10 -> 3 | I15: =[1]INFO!K10 -> 3 | J15: =[1]INFO!L10 -> 0 | K15: =IF(J15<>0,J15/H15,0) -> 0 | L15: =[1]INFO!P9 -> 0 | M15: =[1]INFO!P10 -> 0 | N15: =IF(M15<>0,M15/L15,0) -> 0 | O15: =[1]INFO!R10 -> 0 | P15: =IF(O15<>0,O15/L15,0) -> 0
A16: Behavioral Health/ Substance Use | B16: Previously Tried/ Ineffective (c)(3) | C16: =[1]INFO!D11 -> 143 | D16: =[1]INFO!E11 -> 56 | E16: =IF(D16<>0,D16/C16,0) -> 0.39160839 | F16: =[1]INFO!F11 -> 87 | G16: =IF(F16<>0,F16/C16,0) -> 0.60839161 | H16: =[1]INFO!J11 -> 4 | I16: =[1]INFO!K11 -> 4 | J16: =[1]INFO!L11 -> 0 | K16: =IF(J16<>0,J16/H16,0) -> 0 | L16: =[1]INFO!P9 -> 0 | M16: =[1]INFO!P10 -> 0 | N16: =IF(M16<>0,M16/L16,0) -> 0 | O16: =[1]INFO!R11 -> 0 | P16: =IF(O16<>0,O16/L16,0) -> 0
A17: Behavioral Health/ Substance Use | B17: Switching Adverse React (c)(4) | C17: =[1]INFO!D12 -> 101 | D17: =[1]INFO!E12 -> 34 | E17: =IF(D17<>0,D17/C17,0) -> 0.33663366 | F17: =[1]INFO!F12 -> 67 | G17: =IF(F17<>0,F17/C17,0) -> 0.66336634 | H17: =[1]INFO!J12 -> 4 | I17: =[1]INFO!K12 -> 4 | J17: =[1]INFO!L12 -> 0 | K17: =IF(J17<>0,J17/H17,0) -> 0 | L17: =[1]INFO!P9 -> 0 | M17: =[1]INFO!P10 -> 0 | N17: =IF(M17<>0,M17/L17,0) -> 0 | O17: =[1]INFO!R12 -> 0 | P17: =IF(O17<>0,O17/L17,0) -> 0
A18: Behavioral Health/ Substance Use | B18: Total | C18: =C14+C15+C16+C17 -> 458 | D18: =D14+D15+D16+D17 -> 171 | E18: =IF(D18<>0,D18/C18,0) -> 0.37336245 | F18: =F14+F15+F16+F17 -> 287 | G18: =IF(F18<>0,F18/C18,0) -> 0.62663755 | H18: =H14+H15+H16+H17 -> 15 | I18: =I14+I15+I16+I17 -> 15 | J18: =J14+J15+J16+J17 -> 0 | K18: =IF(J18<>0,J18/H18,0) -> 0 | L18: =L14+L15+L16+L17 -> 0 | M18: =M14+M15+M16+M17 -> 0 | N18: =IF(M18<>0,M18/L18,0) -> 0 | O18: =O14+O15+O16+O17 -> 0 | P18: =IF(O18<>0,O18/L18,0) -> 0
A23: Notes:

Sheet BMC
A1: Carrier Name: | C1: WellSense Health Plan
A2: Carrier Address: | C2: 100 City Square Suite 200 Charlestown, MA 02129
A3: Contact Name and Title:
A4: Contact E-mail:
A5: Contact Phone Number:
A7: Type | B7: Types of Exceptions | C7: No. of Exceptions Received g(i) | D7: No. of Exceptions Authorized g(iii) | E7: Percent Authorized [g(iii)/(g(i)] | F7: No. of Exceptions Denied g(iv) | G7: Percent Denied [g(iv)/g(i)] | H7: No. of Internal Appeals Filed [g(v)] | I7: No. of Internal Appeals Approved g(vii) | J7: No. of Internal Appeals Denied | K7: Percent of Internal Appeals Denied | L7: No. Sent For External Appeal [g(v)] | M7: No. External Appeals Overturned g(vii) | N7: Percent of External Appeals Oveturned | O7: No. External Appeals Denied g(vii) | P7: Percent of External Appeals Denied
A9: Medical/ Surgical | B9: Contraindicated/ Adverse Reaction (c)(1) | C9: 0 | G9: =F9/C9 -> #DIV/0! | K9: =J9/H9 -> #DIV/0! | N9: =M9/J9 -> #DIV/0! | P9: =O9/L9 -> #DIV/0!
A10: Medical/ Surgical | B10: Ineffective (c)(2) | C10: 0 | G10: =F10/C10 -> #DIV/0! | K10: =J10/H10 -> #DIV/0! | N10: =M10/J10 -> #DIV/0! | P10: =O10/L10 -> #DIV/0!
A11: Medical/ Surgical | B11: Previously Tried/ Ineffective (c)(3) | C11: 0 | G11: =F11/C11 -> #DIV/0! | K11: =J11/H11 -> #DIV/0! | N11: =M11/J11 -> #DIV/0! | P11: =O11/L11 -> #DIV/0!
A12: Medical/ Surgical | B12: Switching Adverse React (c)(4) | C12: 0 | G12: =F12/C12 -> #DIV/0! | K12: =J12/H12 -> #DIV/0! | N12: =M12/J12 -> #DIV/0! | P12: =O12/L12 -> #DIV/0!
A13: Medical/ Surgical | B13: Total | C13: =C9+C10+C11+C12 -> 0 | D13: =D9+D10+D11+D12 -> 0 | E13: =D13/C13 -> #DIV/0! | F13: =F9+F10+F11+F12 -> 0 | G13: =F13/C13 -> #DIV/0! | H13: =H9+H10+H11+H12 -> 0 | I13: =I9+I10+I11+I12 -> 0 | J13: =J9+J10+J11+J12 -> 0 | K13: =J13/H13 -> #DIV/0! | L13: =L9+L10+L11+L12 -> 0 | M13: =M9+M10+M11+M12 -> 0 | N13: =M13/J13 -> #DIV/0! | O13: =O9+O10+O11+O12 -> 0 | P13: =O13/L13 -> #DIV/0!
A14: Behavioral Health/ Substance Use | B14: Contraindicated/ Adverse Reaction (c)(1) | C14: 0 | G14: =F14/C14 -> #DIV/0! | K14: =J14/H14 -> #DIV/0! | N14: =M14/J14 -> #DIV/0! | P14: =O14/L14 -> #DIV/0!
A15: Behavioral Health/ Substance Use | B15: Ineffective (c)(2) | C15: 0 | G15: =F15/C15 -> #DIV/0! | K15: =J15/H15 -> #DIV/0! | N15: =M15/J15 -> #DIV/0! | P15: =O15/L15 -> #DIV/0!
A16: Behavioral Health/ Substance Use | B16: Previously Tried/ Ineffective (c)(3) | C16: 0 | G16: =F16/C16 -> #DIV/0! | K16: =J16/H16 -> #DIV/0! | N16: =M16/J16 -> #DIV/0! | P16: =O16/L16 -> #DIV/0!
A17: Behavioral Health/ Substance Use | B17: Switching Adverse React (c)(4) | C17: 0 | G17: =F17/C17 -> #DIV/0! | K17: =J17/H17 -> #DIV/0! | N17: =M17/J17 -> #DIV/0! | P17: =O17/L17 -> #DIV/0!
A18: Behavioral Health/ Substance Use | B18: Total | C18: =C14+C15+C16+C17 -> 0 | D18: =D14+D15+D16+D17 -> 0 | E18: =D18/C18 -> #DIV/0! | F18: =F14+F15+F16+F17 -> 0 | G18: =F18/C18 -> #DIV/0! | H18: =H14+H15+H16+H17 -> 0 | I18: =I14+I15+I16+I17 -> 0 | J18: =J14+J15+J16+J17 -> 0 | K18: =J18/H18 -> #DIV/0! | L18: =L14+L15+L16+L17 -> 0 | M18: =M14+M15+M16+M17 -> 0 | N18: =M18/J18 -> #DIV/0! | O18: =O14+O15+O16+O17 -> 0 | P18: =O18/L18 -> #DIV/0!
A22: Notes:

Sheet THPP
A1: Carrier Name: | B1: Tufts Health Public Plans
A2: Carrier Address: | B2: 1 Wellness Way, Canton, MA 02021
A3: Contact Name and Title: | B3: Jonathan Bove, Manager, Regulatory Licensing & Reporting
A4: Contact E-mail: | B4: jonathan.bove@point32health.org
A5: Contact Phone Number: | B5: (781) 612-3328
A7: Type | B7: Types of Exceptions | C7: No. of Exceptions Received g(i) | D7: No. of Exceptions Authorized g(iii) | E7: Percent Authorized [g(iii)/(g(i)] | F7: No. of Exceptions Denied g(iv) | G7: Percent Denied [g(iv)/g(i)] | H7: No. of Internal Appeals Filed [g(v)] | I7: No. of Internal Appeals Approved g(vii) | J7: No. of Internal Appeals Denied | K7: Percent of Internal Appeals Denied | L7: No. Sent For External Appeal [g(v)] | M7: No. External Appeals Overturned g(vii) | N7: Percent of External Appeals Oveturned | O7: No. External Appeals Denied g(vii) | P7: Percent of External Appeals Denied
A9: Medical/ Surgical | B9: Contraindicated/ Adverse Reaction (c)(1) | C9: 1 | D9: 1 | E9: 100% | F9: 0 | G9: =F9/C9 -> 0 | H9: 0 | I9: 0 | J9: 0 | K9: 0 | L9: 0 | M9: 0 | N9: 0 | O9: 0 | P9: 0
A10: Medical/ Surgical | B10: Ineffective (c)(2) | C10: 0 | D10: 0 | E10: 0% | F10: 0 | G10: 0 | H10: 0 | I10: 0 | J10: 0 | K10: 0 | L10: 0 | M10: 0 | N10: 0 | O10: 0 | P10: 0
A11: Medical/ Surgical | B11: Previously Tried/ Ineffective (c)(3) | C11: 0 | D11: 0 | E11: 0% | F11: 0 | G11: 0 | H11: 0 | I11: 0 | J11: 0 | K11: 0 | L11: 0 | M11: 0 | N11: 0 | O11: 0 | P11: 0
A12: Medical/ Surgical | B12: Switching Adverse React (c)(4) | C12: 0 | D12: 0 | E12: 0% | F12: 0 | G12: 0 | H12: 0 | I12: 0 | J12: 0 | K12: 0 | L12: 0 | M12: 0 | N12: 0 | O12: 0 | P12: 0
A13: Medical/ Surgical | B13: Total | C13: =C9+C10+C11+C12 -> 1 | D13: =D9+D10+D11+D12 -> 1 | E13: =D13/C13 -> 1 | F13: =F9+F10+F11+F12 -> 0 | G13: =F13/C13 -> 0 | H13: 0 | I13: 0 | J13: 0 | K13: 0 | L13: 0 | M13: 0 | N13: 0 | O13: 0 | P13: 0
A14: Behavioral Health/ Substance Use | B14: Contraindicated/ Adverse Reaction (c)(1) | C14: 1 | D14: 0 | E14: 0% | F14: 1 | G14: =F14/C14 -> 1 | H14: 0 | I14: 0 | J14: 0 | K14: 0 | L14: 0 | M14: 0 | N14: 0 | O14: 0 | P14: 0
A15: Behavioral Health/ Substance Use | B15: Ineffective (c)(2) | C15: 0 | D15: 0 | E15: 0% | F15: 0 | G15: 0 | H15: 0 | I15: 0 | J15: 0 | K15: 0 | L15: 0 | M15: 0 | N15: 0 | O15: 0 | P15: 0
A16: Behavioral Health/ Substance Use | B16: Previously Tried/ Ineffective (c)(3) | C16: 0 | D16: 0 | E16: 0% | F16: 0 | G16: 0 | H16: 0 | I16: 0 | J16: 0 | K16: 0 | L16: 0 | M16: 0 | N16: 0 | O16: 0 | P16: 0
A17: Behavioral Health/ Substance Use | B17: Switching Adverse React (c)(4) | C17: 0 | D17: 0 | E17: 0% | F17: 0 | G17: 0 | H17: 0 | I17: 0 | J17: 0 | K17: 0 | L17: 0 | M17: 0 | N17: 0 | O17: 0 | P17: 0
A18: Behavioral Health/ Substance Use | B18: Total | C18: =C14+C15+C16+C17 -> 1 | D18: =D14+D15+D16+D17 -> 0 | E18: =D18/C18 -> 0 | F18: =F14+F15+F16+F17 -> 1 | G18: =F18/C18 -> 1 | H18: 0 | I18: 0 | J18: 0 | K18: 0 | L18: 0 | M18: 0 | N18: 0 | O18: 0 | P18: 0
A22: Notes:

Sheet TIC
A1: Carrier Name: | C1: Tufts Insurance Company
A2: Carrier Address: | C2: 1 Wellness Way, Canton, MA 02021
A3: Contact Name and Title: | C3: Jonathan Bove, Manager, Regulatory Licensing & Reporting
A4: Contact E-mail: | C4: jonathan.bove@point32health.org
A5: Contact Phone Number: | C5: (781) 612-3328
A7: Type | B7: Types of Exceptions | C7: No. of Exceptions Received g(i) | D7: No. of Exceptions Authorized g(iii) | E7: Percent Authorized [g(iii)/(g(i)] | F7: No. of Exceptions Denied g(iv) | G7: Percent Denied [g(iv)/g(i)] | H7: No. of Internal Appeals Filed [g(v)] | I7: No. of Appeals Approved g(vii) | J7: No. of Appeals Denied | K7: Percent of Appeals Denied | L7: No. Sent For External Appeal [g(v)] | M7: No. External Appeals Overturned g(vii) | N7: Percent of External Appeals Oveturned | O7: No. External Appeals Denied g(vii) | P7: Percent of External Appeals Denied
A9: Medical/ Surgical | B9: Contraindicated/ Adverse Reaction (c)(1) | C9: 43 | D9: 30 | E9: =IF(C9<>0,D9/C9,0) -> 0.69767442 | F9: 13 | G9: =IF(F9<>0,F9/C9,0) -> 0.30232558 | H9: 5 | I9: 2 | J9: 3 | K9: =IF(J9<>0,J9/H9,0) -> 0.6 | L9: =[2]INFO!P3 -> 0 | M9: =[2]INFO!Q3 -> 0 | N9: =IF(M9<>0,M9/L9,0) -> 0 | O9: =[2]INFO!R3 -> 0 | P9: =IF(O9<>0,O9/L9,0) -> 0
A10: Medical/ Surgical | B10: Ineffective (c)(2) | C10: 65 | D10: 49 | E10: =IF(C10<>0,D10/C10,0) -> 0.75384615 | F10: 16 | G10: =IF(F10<>0,F10/C10,0) -> 0.24615385 | H10: 6 | I10: 3 | J10: 3 | K10: =IF(J10<>0,J10/H10,0) -> 0.5 | L10: =[2]INFO!P4 -> 0 | M10: =[2]INFO!Q4 -> 0 | N10: =IF(M10<>0,M10/L10,0) -> 0 | O10: =[2]INFO!R4 -> 0 | P10: =IF(O10<>0,O10/L10,0) -> 0
A11: Medical/ Surgical | B11: Previously Tried/ Ineffective (c)(3) | C11: 80 | D11: 58 | E11: =IF(C11<>0,D11/C11,0) -> 0.725 | F11: 22 | G11: =IF(F11<>0,F11/C11,0) -> 0.275 | H11: 5 | I11: 2 | J11: 3 | K11: =IF(J11<>0,J11/H11,0) -> 0.6 | L11: =[2]INFO!P5 -> 0 | M11: =[2]INFO!Q5 -> 0 | N11: =IF(M11<>0,M11/L11,0) -> 0 | O11: =[2]INFO!R5 -> 0 | P11: =IF(O11<>0,O11/L11,0) -> 0
A12: Medical/ Surgical | B12: Switching Adverse React (c)(4) | C12: 52 | D12: 37 | E12: =IF(C12<>0,D12/C12,0) -> 0.71153846 | F12: 15 | G12: =IF(F12<>0,F12/C12,0) -> 0.28846154 | H12: 5 | I12: 3 | J12: 2 | K12: =IF(J12<>0,J12/H12,0) -> 0.4 | L12: =[2]INFO!P6 -> 0 | M12: =[2]INFO!Q6 -> 0 | N12: =IF(M12<>0,M12/L12,0) -> 0 | O12: =[2]INFO!R6 -> 0 | P12: =IF(O12<>0,O12/L12,0) -> 0
A13: Medical/ Surgical | B13: Total | C13: =C9+C10+C11+C12 -> 240 | D13: =D9+D10+D11+D12 -> 174 | E13: =IF(C13<>0,D13/C13,0) -> 0.725 | F13: =F9+F10+F11+F12 -> 66 | G13: =IF(F13<>0,F13/C13,0) -> 0.275 | H13: =H9+H10+H11+H12 -> 21 | I13: =I9+I10+I11+I12 -> 10 | J13: =J9+J10+J11+J12 -> 11 | K13: =IF(J13<>0,J13/H13,0) -> 0.52380952 | L13: =L9+L10+L11+L12 -> 0 | M13: =M9+M10+M11+M12 -> 0 | N13: =IF(M13<>0,M13/L13,0) -> 0 | O13: =O9+O10+O11+O12 -> 0 | P13: =IF(O13<>0,O13/L13,0) -> 0
A14: Behavioral Health/ Substance Use | B14: Contraindicated/ Adverse Reaction (c)(1) | C14: 4 | D14: 4 | E14: =IF(D14<>0,D14/C14,0) -> 1 | F14: =[2]INFO!F9 -> 0 | G14: =IF(F14<>0,F14/C14,0) -> 0 | H14: 2 | I14: 2 | J14: 0 | K14: =IF(J14<>0,J14/H14,0) -> 0 | L14: =[2]INFO!P9 -> 0 | M14: =[2]INFO!P10 -> 0 | N14: =IF(M14<>0,M14/L14,0) -> 0 | O14: =[2]INFO!R9 -> 0 | P14: =IF(O14<>0,O14/L14,0) -> 0
A15: Behavioral Health/ Substance Use | B15: Ineffective (c)(2) | C15: 6 | D15: 5 | E15: =IF(D15<>0,D15/C15,0) -> 0.83333333 | F15: =[2]INFO!F10 -> 1 | G15: =IF(F15<>0,F15/C15,0) -> 0.16666667 | H15: 3 | I15: 3 | J15: 0 | K15: =IF(J15<>0,J15/H15,0) -> 0 | L15: =[2]INFO!P9 -> 0 | M15: =[2]INFO!P10 -> 0 | N15: =IF(M15<>0,M15/L15,0) -> 0 | O15: =[2]INFO!R10 -> 0 | P15: =IF(O15<>0,O15/L15,0) -> 0
A16: Behavioral Health/ Substance Use | B16: Previously Tried/ Ineffective (c)(3) | C16: 6 | D16: 6 | E16: =IF(D16<>0,D16/C16,0) -> 1 | F16: =[2]INFO!F11 -> 0 | G16: =IF(F16<>0,F16/C16,0) -> 0 | H16: 2 | I16: 2 | J16: 0 | K16: =IF(J16<>0,J16/H16,0) -> 0 | L16: =[2]INFO!P9 -> 0 | M16: =[2]INFO!P10 -> 0 | N16: =IF(M16<>0,M16/L16,0) -> 0 | O16: =[2]INFO!R11 -> 0 | P16: =IF(O16<>0,O16/L16,0) -> 0
A17: Behavioral Health/ Substance Use | B17: Switching Adverse React (c)(4) | C17: 5 | D17: 5 | E17: =IF(D17<>0,D17/C17,0) -> 1 | F17: =[2]INFO!F12 -> 0 | G17: =IF(F17<>0,F17/C17,0) -> 0 | H17: 2 | I17: 2 | J17: 0 | K17: =IF(J17<>0,J17/H17,0) -> 0 | L17: =[2]INFO!P9 -> 0 | M17: =[2]INFO!P10 -> 0 | N17: =IF(M17<>0,M17/L17,0) -> 0 | O17: =[2]INFO!R12 -> 0 | P17: =IF(O17<>0,O17/L17,0) -> 0
A18: Behavioral Health/ Substance Use | B18: Total | C18: =C14+C15+C16+C17 -> 21 | D18: =D14+D15+D16+D17 -> 20 | E18: =IF(D18<>0,D18/C18,0) -> 0.95238095 | F18: =F14+F15+F16+F17 -> 1 | G18: =IF(F18<>0,F18/C18,0) -> 0.047619048 | H18: =H14+H15+H16+H17 -> 9 | I18: =I14+I15+I16+I17 -> 9 | J18: =J14+J15+J16+J17 -> 0 | K18: =IF(J18<>0,J18/H18,0) -> 0 | L18: =L14+L15+L16+L17 -> 0 | M18: =M14+M15+M16+M17 -> 0 | N18: =IF(M18<>0,M18/L18,0) -> 0 | O18: =O14+O15+O16+O17 -> 0 | P18: =IF(O18<>0,O18/L18,0) -> 0
A23: Notes: | B23: For calendar year 2024, pharmacy utilization management and appeals were delegated to OptumRx for Carelink plans under Tufts Insurance Company only. In reviewing the 2024 Step Therapy Exceptions Reporting data, OptumRx identified a system issue that caused cases to be categorized multiple times, resulting in inflated counts. OptumRx advised they consulted with the Massachusetts Division of Insurance (DOI) to seek guidance on how to classify denials when a provider requests multiple step therapy exceptions for the same member, leading to records falling into multiple exception types. Based on the DOI’s guidance, OptumRx chose to report the number of actual exceptions requested by the provider based on the four questions answered during the step therapy exception process, rather than the total number of authorization requests submitted. As a result, the above reported data does not accurately reflect the total number of authorization requests submitted by providers.

Sheet HPIC
A1: Carrier Name: | B1: HPHC Insurance Company Inc.
A2: Carrier Address: | B2: 1 Wellness Way, Canton, MA 02021
A3: Contact Name and Title: | B3: Jonathan Bove, Manager, Regulatory Licensing & Reporting
A4: Contact E-mail: | B4: jonathan.bove@point32health.org
A5: Contact Phone Number: | B5: (781) 612-3328
A7: Type | B7: Types of Exceptions | C7: No. of Exceptions Received g(i) | D7: No. of Exceptions Authorized g(iii) | E7: Percent Authorized [g(iii)/(g(i)] | F7: No. of Exceptions Denied g(iv) | G7: Percent Denied [g(iv)/g(i)] | H7: No. of Internal Appeals Filed [g(v)] | I7: No. of Internal Appeals Approved g(vii) | J7: No. of Internal Appeals Denied | K7: Percent of Internal Appeals Denied | L7: No. Sent For External Appeal [g(v)] | M7: No. External Appeals Overturned g(vii) | N7: Percent of External Appeals Oveturned | O7: No. External Appeals Denied g(vii) | P7: Percent of External Appeals Denied
A9: Medical/ Surgical | B9: Contraindicated/ Adverse Reaction (c)(1) | C9: 3 | D9: 3 | E9: 1 | F9: 0 | G9: =F9/C9 -> 0 | H9: 0 | I9: 0 | J9: 0 | K9: 0 | L9: 0 | M9: 0 | N9: 0 | O9: 0 | P9: 0
A10: Medical/ Surgical | B10: Ineffective (c)(2) | C10: 0 | D10: 0 | E10: 0 | F10: 0 | G10: 0 | H10: 0 | I10: 0 | J10: 0 | K10: 0 | L10: 0 | M10: 0 | N10: 0 | O10: 0 | P10: 0
A11: Medical/ Surgical | B11: Previously Tried/ Ineffective (c)(3) | C11: 1 | D11: 1 | E11: 1 | F11: 0 | G11: =F11/C11 -> 0 | H11: 0 | I11: 0 | J11: 0 | K11: 0 | L11: 0 | M11: 0 | N11: 0 | O11: 0 | P11: 0
A12: Medical/ Surgical | B12: Switching Adverse React (c)(4) | C12: 0 | D12: 0 | E12: 0 | F12: 0 | G12: 0 | H12: 0 | I12: 0 | J12: 0 | K12: 0 | L12: 0 | M12: 0 | N12: 0 | O12: 0 | P12: 0
A13: Medical/ Surgical | B13: Total | C13: =C9+C10+C11+C12 -> 4 | D13: =D9+D10+D11+D12 -> 4 | E13: =D13/C13 -> 1 | F13: =F9+F10+F11+F12 -> 0 | G13: =F13/C13 -> 0 | H13: =H9+H10+H11+H12 -> 0 | I13: =I9+I10+I11+I12 -> 0 | J13: =J9+J10+J11+J12 -> 0 | K13: 0 | L13: =L9+L10+L11+L12 -> 0 | M13: =M9+M10+M11+M12 -> 0 | N13: 0 | O13: =O9+O10+O11+O12 -> 0 | P13: 0
A14: Behavioral Health/ Substance Use | B14: Contraindicated/ Adverse Reaction (c)(1) | C14: 0 | D14: 0 | E14: 0 | F14: 0 | G14: 0 | H14: 0 | I14: 0 | J14: 0 | K14: 0 | L14: 0 | M14: 0 | N14: 0 | O14: 0 | P14: 0
A15: Behavioral Health/ Substance Use | B15: Ineffective (c)(2) | C15: 0 | D15: 0 | E15: 0 | F15: 0 | G15: 0 | H15: 0 | I15: 0 | J15: 0 | K15: 0 | L15: 0 | M15: 0 | N15: 0 | O15: 0 | P15: 0
A16: Behavioral Health/ Substance Use | B16: Previously Tried/ Ineffective (c)(3) | C16: 0 | D16: 0 | E16: 0 | F16: 0 | G16: 0 | H16: 0 | I16: 0 | J16: 0 | K16: 0 | L16: 0 | M16: 0 | N16: 0 | O16: 0 | P16: 0
A17: Behavioral Health/ Substance Use | B17: Switching Adverse React (c)(4) | C17: 0 | D17: 0 | E17: 0 | F17: 0 | G17: 0 | H17: 0 | I17: 0 | J17: 0 | K17: 0 | L17: 0 | M17: 0 | N17: 0 | O17: 0 | P17: 0
A18: Behavioral Health/ Substance Use | B18: Total | C18: =C14+C15+C16+C17 -> 0 | D18: =D14+D15+D16+D17 -> 0 | E18: 0 | F18: =F14+F15+F16+F17 -> 0 | G18: 0 | H18: =H14+H15+H16+H17 -> 0 | I18: =I14+I15+I16+I17 -> 0 | J18: =J14+J15+J16+J17 -> 0 | K18: 0 | L18: =L14+L15+L16+L17 -> 0 | M18: =M14+M15+M16+M17 -> 0 | N18: 0 | O18: =O14+O15+O16+O17 -> 0 | P18: 0
A22: Notes:

Sheet TAHMO
A1: Carrier Name: | B1: Tufts Associated Health Maintenance Organization, Inc
A2: Carrier Address: | B2: 1 Wellness Way, Canton, MA 02021
A3: Contact Name and Title: | B3: Jonathan Bove, Manager, Regulatory Licensing & Reporting
A4: Contact E-mail: | B4: jonathan.bove@point32health.org
A5: Contact Phone Number: | B5: (781) 612-3328
A7: Type | B7: Types of Exceptions | C7: No. of Exceptions Received g(i) | D7: No. of Exceptions Authorized g(iii) | E7: Percent Authorized [g(iii)/(g(i)] | F7: No. of Exceptions Denied g(iv) | G7: Percent Denied [g(iv)/g(i)] | H7: No. of Internal Appeals Filed [g(v)] | I7: No. of Internal Appeals Approved g(vii) | J7: No. of Internal Appeals Denied | K7: Percent of Internal Appeals Denied | L7: No. Sent For External Appeal [g(v)] | M7: No. External Appeals Overturned g(vii) | N7: Percent of External Appeals Oveturned | O7: No. External Appeals Denied g(vii) | P7: Percent of External Appeals Denied
A9: Medical/ Surgical | B9: Contraindicated/ Adverse Reaction (c)(1) | C9: 0 | D9: 0 | E9: 0 | F9: 0 | G9: 0 | H9: 0 | I9: 0 | J9: 0 | K9: 0 | L9: 0 | M9: 0 | N9: 0 | O9: 0 | P9: 0
A10: Medical/ Surgical | B10: Ineffective (c)(2) | C10: 0 | D10: 0 | E10: 0 | F10: 0 | G10: 0 | H10: 0 | I10: 0 | J10: 0 | K10: 0 | L10: 0 | M10: 0 | N10: 0 | O10: 0 | P10: 0
A11: Medical/ Surgical | B11: Previously Tried/ Ineffective (c)(3) | C11: 0 | D11: 0 | E11: 0 | F11: 0 | G11: 0 | H11: 0 | I11: 0 | J11: 0 | K11: 0 | L11: 0 | M11: 0 | N11: 0 | O11: 0 | P11: 0
A12: Medical/ Surgical | B12: Switching Adverse React (c)(4) | C12: 0 | D12: 0 | E12: 0 | F12: 0 | G12: 0 | H12: 0 | I12: 0 | J12: 0 | K12: 0 | L12: 0 | M12: 0 | N12: 0 | O12: 0 | P12: 0
A13: Medical/ Surgical | B13: Total | C13: 0 | D13: 0 | E13: 0 | F13: 0 | G13: 0 | H13: 0 | I13: 0 | J13: 0 | K13: 0 | L13: 0 | M13: 0 | N13: 0 | O13: 0 | P13: 0
A14: Behavioral Health/ Substance Use | B14: Contraindicated/ Adverse Reaction (c)(1) | C14: 0 | D14: 0 | E14: 0 | F14: 0 | G14: 0 | H14: 0 | I14: 0 | J14: 0 | K14: 0 | L14: 0 | M14: 0 | N14: 0 | O14: 0 | P14: 0
A15: Behavioral Health/ Substance Use | B15: Ineffective (c)(2) | C15: 0 | D15: 0 | E15: 0 | F15: 0 | G15: 0 | H15: 0 | I15: 0 | J15: 0 | K15: 0 | L15: 0 | M15: 0 | N15: 0 | O15: 0 | P15: 0
A16: Behavioral Health/ Substance Use | B16: Previously Tried/ Ineffective (c)(3) | C16: 0 | D16: 0 | E16: 0 | F16: 0 | G16: 0 | H16: 0 | I16: 0 | J16: 0 | K16: 0 | L16: 0 | M16: 0 | N16: 0 | O16: 0 | P16: 0
A17: Behavioral Health/ Substance Use | B17: Switching Adverse React (c)(4) | C17: 0 | D17: 0 | E17: 0 | F17: 0 | G17: 0 | H17: 0 | I17: 0 | J17: 0 | K17: 0 | L17: 0 | M17: 0 | N17: 0 | O17: 0 | P17: 0
A18: Behavioral Health/ Substance Use | B18: Total | C18: 0 | D18: 0 | E18: 0 | F18: 0 | G18: 0 | H18: 0 | I18: 0 | J18: 0 | K18: 0 | L18: 0 | M18: 0 | N18: 0 | O18: 0 | P18: 0
A22: Notes:

Sheet HPHC
A1: Carrier Name: | B1: Harvard Pilgrim Health Care
A2: Carrier Address: | B2: 1 Wellness Way, Canton, MA 02021
A3: Contact Name and Title: | B3: Jonathan Bove, Manager, Regulatory Licensing & Reporting
A4: Contact E-mail: | B4: jonathan.bove@point32health.org
A5: Contact Phone Number: | B5: (781) 612-3328
A7: Type | B7: Types of Exceptions | C7: No. of Exceptions Received g(i) | D7: No. of Exceptions Authorized g(iii) | E7: Percent Authorized [g(iii)/(g(i)] | F7: No. of Exceptions Denied g(iv) | G7: Percent Denied [g(iv)/g(i)] | H7: No. of Internal Appeals Filed [g(v)] | I7: No. of Internal Appeals Approved g(vii) | J7: No. of Internal Appeals Denied | K7: Percent of Internal Appeals Denied | L7: No. Sent For External Appeal [g(v)] | M7: No. External Appeals Overturned g(vii) | N7: Percent of External Appeals Oveturned | O7: No. External Appeals Denied g(vii) | P7: Percent of External Appeals Denied
A9: Medical/ Surgical | B9: Contraindicated/ Adverse Reaction (c)(1) | C9: 23 | D9: 23 | E9: 1 | F9: 0 | G9: =F9/C9 -> 0 | H9: 0 | I9: 0 | J9: 0 | K9: 0 | L9: 0 | M9: 0 | N9: =M9/J9 -> #DIV/0! | O9: 0 | P9: 0
A10: Medical/ Surgical | B10: Ineffective (c)(2) | C10: 0 | D10: 0 | E10: 0 | F10: 0 | G10: 0 | H10: 0 | I10: 0 | J10: 0 | K10: 0 | L10: 0 | M10: 0 | N10: 0 | O10: 0 | P10: 0
A11: Medical/ Surgical | B11: Previously Tried/ Ineffective (c)(3) | C11: 4 | D11: 4 | E11: 0 | F11: 0 | G11: =F11/C11 -> 0 | H11: 0 | I11: 0 | J11: 0 | K11: 0 | L11: 0 | M11: 0 | N11: 0 | O11: 0 | P11: 0
A12: Medical/ Surgical | B12: Switching Adverse React (c)(4) | C12: 3 | D12: 1 | E12: 0 | F12: 2 | G12: =F12/C12 -> 0.66666667 | H12: 1 | I12: 0 | J12: 1 | K12: 0 | L12: 0 | M12: 0 | N12: 0 | O12: 0 | P12: 0
A13: Medical/ Surgical | B13: Total | C13: =C9+C10+C11+C12 -> 30 | D13: =D9+D10+D11+D12 -> 28 | E13: =D13/C13 -> 0.93333333 | F13: =F9+F10+F11+F12 -> 2 | G13: =F13/C13 -> 0.066666667 | H13: =H9+H10+H11+H12 -> 1 | I13: =I9+I10+I11+I12 -> 0 | J13: =J9+J10+J11+J12 -> 1 | K13: =J13/H13 -> 1 | L13: =L9+L10+L11+L12 -> 0 | M13: =M9+M10+M11+M12 -> 0 | N13: =M13/J13 -> 0 | O13: =O9+O10+O11+O12 -> 0 | P13: 0
A14: Behavioral Health/ Substance Use | B14: Contraindicated/ Adverse Reaction (c)(1) | C14: 0 | D14: 0 | E14: 0 | F14: 0 | G14: 0 | H14: 0 | I14: 0 | J14: 0 | K14: 0 | L14: 0 | M14: 0 | N14: 0 | O14: 0 | P14: 0
A15: Behavioral Health/ Substance Use | B15: Ineffective (c)(2) | C15: 0 | D15: 0 | E15: 0 | F15: 0 | G15: 0 | H15: 0 | I15: 0 | J15: 0 | K15: 0 | L15: 0 | M15: 0 | N15: 0 | O15: 0 | P15: 0
A16: Behavioral Health/ Substance Use | B16: Previously Tried/ Ineffective (c)(3) | C16: 0 | D16: 0 | E16: 0 | F16: 0 | G16: 0 | H16: 0 | I16: 0 | J16: 0 | K16: 0 | L16: 0 | M16: 0 | N16: 0 | O16: 0 | P16: 0
A17: Behavioral Health/ Substance Use | B17: Switching Adverse React (c)(4) | C17: 1 | D17: 1 | E17: 1 | F17: 0 | G17: =F17/C17 -> 0 | H17: 0 | I17: 0 | J17: 0 | K17: 0 | L17: 0 | M17: 0 | N17: 0 | O17: 0 | P17: 0
A18: Behavioral Health/ Substance Use | B18: Total | C18: =C14+C15+C16+C17 -> 1 | D18: =D14+D15+D16+D17 -> 1 | E18: =D18/C18 -> 1 | F18: =F14+F15+F16+F17 -> 0 | G18: =F18/C18 -> 0 | H18: =H14+H15+H16+H17 -> 0 | I18: =I14+I15+I16+I17 -> 0 | J18: =J14+J15+J16+J17 -> 0 | K18: 0 | L18: =L14+L15+L16+L17 -> 0 | M18: =M14+M15+M16+M17 -> 0 | N18: 0 | O18: =O14+O15+O16+O17 -> 0 | P18: 0
A22: Notes:

Sheet HNE
A1: Carrier Name:
A2: Carrier Address:
A3: Contact Name and Title:
A4: Contact E-mail:
A5: Contact Phone Number:
A7: Type | B7: Types of Exceptions | C7: No. of Exceptions Received g(i) | D7: No. of Exceptions Authorized g(iii) | E7: Percent Authorized [g(iii)/(g(i)] | F7: No. of Exceptions Denied g(iv) | G7: Percent Denied [g(iv)/g(i)] | H7: No. of Internal Appeals Filed [g(v)] | I7: No. of Appeals Approved g(vii) | J7: No. of Appeals Denied | K7: Percent of Appeals Denied | L7: No. Sent For External Appeal [g(v)] | M7: No. External Appeals Overturned g(vii) | N7: Percent of External Appeals Oveturned | O7: No. External Appeals Denied g(vii) | P7: Percent of External Appeals Denied
A9: Medical/ Surgical | B9: Contraindicated/ Adverse Reaction (c)(1) | C9: =[3]INFO!D3 -> 2536 | D9: =[3]INFO!E3 -> 1688 | E9: =IF(C9<>0,D9/C9,0) -> 0.66561514 | F9: =[3]INFO!F3 -> 848 | G9: =IF(F9<>0,F9/C9,0) -> 0.33438486 | H9: =[3]INFO!J3 -> 0 | I9: =[3]INFO!K4 -> 0 | J9: =[3]INFO!L3 -> 0 | K9: =IF(J9<>0,J9/H9,0) -> 0 | L9: =[3]INFO!P3 -> 0 | M9: =[3]INFO!Q3 -> 0 | N9: =IF(M9<>0,M9/L9,0) -> 0 | O9: =[3]INFO!R3 -> 0 | P9: =IF(O9<>0,O9/L9,0) -> 0
A10: Medical/ Surgical | B10: Ineffective (c)(2) | C10: =[3]INFO!D4 -> 3310 | D10: =[3]INFO!E4 -> 2130 | E10: =IF(C10<>0,D10/C10,0) -> 0.64350453 | F10: =[3]INFO!F4 -> 1180 | G10: =IF(F10<>0,F10/C10,0) -> 0.35649547 | H10: =[3]INFO!J4 -> 0 | I10: =[3]INFO!K5 -> 0 | J10: =[3]INFO!L4 -> 0 | K10: =IF(J10<>0,J10/H10,0) -> 0 | L10: =[3]INFO!P4 -> 0 | M10: =[3]INFO!Q4 -> 0 | N10: =IF(M10<>0,M10/L10,0) -> 0 | O10: =[3]INFO!R4 -> 0 | P10: =IF(O10<>0,O10/L10,0) -> 0
A11: Medical/ Surgical | B11: Previously Tried/ Ineffective (c)(3) | C11: =[3]INFO!D5 -> 4277 | D11: =[3]INFO!E5 -> 2817 | E11: =IF(C11<>0,D11/C11,0) -> 0.65863923 | F11: =[3]INFO!F5 -> 1460 | G11: =IF(F11<>0,F11/C11,0) -> 0.34136077 | H11: =[3]INFO!J5 -> 0 | I11: =[3]INFO!K6 -> 0 | J11: =[3]INFO!L5 -> 0 | K11: =IF(J11<>0,J11/H11,0) -> 0 | L11: =[3]INFO!P5 -> 0 | M11: =[3]INFO!Q5 -> 0 | N11: =IF(M11<>0,M11/L11,0) -> 0 | O11: =[3]INFO!R5 -> 0 | P11: =IF(O11<>0,O11/L11,0) -> 0
