Workbook
Name break: '[1]Tech Stuff'!$E$5
Name break: '[2]Tech Stuff'!$E$5

Sheet Budget tool - AWC
A1: Agency with Choice Budget Tool
J2: No
B3: Agency: | E3: ASD | G3: Start Date: | J3: Yes
B5: Participant: | G5: End Date:
E6: T22 Fiscal Years
B7: Area Office: | G7: # of Weeks (current):
B9: DDS SC: | G9: # of Weeks (annualized):
B11: Instructions: | D11: Enter manually | F11: Choose from a drop down
B13: Staffing Support
B14: Activity Code | C14: Service Name | D14: Hours/week | E14: Pay Rate | F14: Billable Rate | G14: Fringe, worker's comp, payroll taxes | H14: Total Amount | J14: Annualized amount | K14: Activity Code | L14: Service Name | M14: Maximum Billable Rate*
C15: =IFERROR(INDEX(Lookup!$C$2:$C$4,MATCH(B15,Lookup!$A$2:$A$4,0)),"") | G15: =IFERROR(ROUND((F15-E15)/E15,4),0) -> 0 | H15: =D15*F15*($H$7) -> 0 | I15: =IFERROR(INDEX(Lookup!$D$10:$D$11,MATCH(B15,Lookup!$B$10:$B$11,0)),0) -> 0 | J15: =D15*F15*H9 -> 0 | K15: 6703 | L15: Individualized Home Supports | M15: $57.40/hour
C16: =IFERROR(INDEX(Lookup!$C$2:$C$4,MATCH(B16,Lookup!$A$2:$A$4,0)),"") | G16: =IFERROR(ROUND((F16-E16)/E16,4),0) -> 0 | H16: =D16*F16*($H$7) -> 0 | I16: =IFERROR(INDEX(Lookup!$D$10:$D$11,MATCH(B16,Lookup!$B$10:$B$11,0)),0) -> 0 | J16: =D16*F16*H9 -> 0 | K16: 6704 | L16: Individualized Day Supports | M16: $80.24/hour
C17: =IFERROR(INDEX(Lookup!$C$2:$C$4,MATCH(B17,Lookup!$A$2:$A$4,0)),"") | G17: =IFERROR(ROUND((F17-E17)/E17,4),0) -> 0 | H17: =D17*F17*($H$7) -> 0 | I17: =IFERROR(INDEX(Lookup!$D$10:$D$11,MATCH(B17,Lookup!$B$10:$B$11,0)),0) -> 0 | J17: =D17*F17*H9 -> 0
C18: =IFERROR(INDEX(Lookup!$C$2:$C$4,MATCH(B18,Lookup!$A$2:$A$4,0)),"") | G18: =IFERROR(ROUND((F18-E18)/E18,4),0) -> 0 | H18: =D18*F18*($H$7) -> 0 | I18: =IFERROR(INDEX(Lookup!$D$10:$D$11,MATCH(B18,Lookup!$B$10:$B$11,0)),0) -> 0 | J18: =D18*F18*H9 -> 0
I19: =IFERROR(INDEX(Lookup!$D$10:$D$11,MATCH(B19,Lookup!$B$10:$B$11,0)),0) -> 0 | J19: =D19*F19*H9 -> 0
E20: Mileage Rate | F20: Annualized Amount | I20: =IFERROR(INDEX(Lookup!$D$10:$D$11,MATCH(B20,Lookup!$B$10:$B$11,0)),0) -> 0
C21: Staff Mileage | I21: =IFERROR(INDEX(Lookup!$D$10:$D$11,MATCH(B21,Lookup!$B$10:$B$11,0)),0) -> 0 | J21: =F21 -> 0
G22: Staffing - Total | H22: =SUM(H15:H21) -> 0 | J22: =SUM(J15:J21) -> 0
B24: Non-Staffing Support
B25: Activity Code | C25: Service Name | D25: Annual Amount | F25: Current Year Total Amount
B26: 6780 | C26: =IFERROR(INDEX(Lookup!$C$2:$C$4,MATCH(B26,Lookup!$A$2:$A$4,0)),"") -> Flexible Funding
C27: =IFERROR(INDEX(Lookup!$C$2:$C$4,MATCH(B27,Lookup!$A$2:$A$4,0)),"")
C28: =IFERROR(INDEX(Lookup!$C$2:$C$4,MATCH(B28,Lookup!$A$2:$A$4,0)),"")
C29: =IFERROR(INDEX(Lookup!$C$2:$C$4,MATCH(B29,Lookup!$A$2:$A$4,0)),"")
D30: Non-Staffing -Total | F30: =SUM(F26:F29) -> 0 | J30: =SUM(D26:D29) -> 0
B32: Other Expenses
B33: Activity Code | C33: Service Name | D33: Hours | E33: Pay Rate | F33: Months | G33: Total Amount
B34: 6753 | C34: Service Navigation | E34: 83.72 | G34: =D34*E34*F34 -> 0 | J34: =D34*E34*12 -> 0
B35: 6753 | C35: Admin Fee | E35: 420.63 | G35: =E35*F35 -> 0 | J35: =E35*12 -> 5047.56
G36: =D36*E36*$H$7 -> 0 | J36: =D36*E36*12 -> 0
G37: =D37*E37*$H$7 -> 0 | J37: =D37*E37*12 -> 0
G38: =D38*E38*$H$7 -> 0 | J38: =D38*E38*12 -> 0
E39: Other Expenses - Total | G39: =SUM(G34:G38) -> 0 | J39: =SUM(J34:J38) -> 5047.56
E41: Current FY Budget*: | G41: =SUM(H22,F30,G39) -> 0
E43: Annualized Budget: | G43: =SUM(J22,J30,J39) -> 5047.56
B46: *Prorated budgets are provided for those participants who start part way through a fiscal year. If you are starting AWC services after July, then a prorated budget will be outlined on this worksheet. | L46: Version: July 22, 2026
J47: Version: 7/1/26

Sheet Lookup
A2: 6703 | C2: Individualized Home Supports | E2: Yes | H2: Provider | I2: VC
A3: 6704 | C3: Individualized Day Supports | E3: No | H3: ADVOCATES INC | I3: VC6000230419
A4: 6780 | C4: Flexible Funding | H4: ATTLEBORO ENTERPRISES INC | I4: VC6000165472
H5: BAKUCARE, LLC | I5: VC0000963295
H6: BAY COVE HUMAN SERVICES INC | I6: VC6000162461
H7: BETTER COMMUNITY LIVING INC | I7: VC6000174177
H8: BRIDGES HOMEWARD, INC. | I8: VC6000157068
B9: Activity Code | C9: Service Name | D9: Maximum Billable Rate* | H9: BROCKTON AREA ARC, INC. | I9: VC6000159523
B10: 6703 | C10: Individualized Home Supports | D10: 57.4 | H10: CAPE ABILITIES INC | I10: VC6000160849
B11: 6704 | C11: Individualized Day Supports | D11: 80.24 | H11: CHARLES RIVER ASSOCIATION FOR | I11: VC6000160033
H12: CHARLES RIVER CENTER, INC | I12: VC6000160033
H13: CHOICE COMMUNITY SUPPORTS INC | I13: VC0000837290
H14: COMMUNITAS, INC. | I14: VC6000158475
H15: FIDELITY HOUSE INC | I15: VC6000162018
H16: FRIENDSHIP HOME INC. | I16: VC0000177630
H17: INCOMPASS HUMAN SERVICES | I17: VC6000192523
H18: LIFESTREAM INCORPORATED | I18: VC6000167658
H19: MULTICULTURAL COMMUNITY SERS | I19: VC6000165616
H20: NEMASKET GROUP | I20: VC6000227153
H21: NORTHEAST ARC, INC. | I21: VC6000158389
H22: PATHLIGHT, INC | I22: VC6000158164
H23: PEOPLE INCORPORATED | I23: VC6000160726
... H37: WRAPAROUND FAMILY SERVICES INC. | I37: VC0000412456

Sheet Regional Office lookup
A2: 1st 2 CRS | B2: Unit | C2: 4-character area | D2: Area Office | E2: Mid 2 char of area | F2: Area Office Name | G2: Region | H2: Regional Office Name | I2: Division | J2: Director | K2: Assistant Director
A3: =MID(D3,2,2) -> 11 | B3: 1110 - Berkshire AO | C3: CWBK | D3: 1110 | E3: 11 | F3: Berkshire | G3: 1 | H3: Central West | I3: 1100 | J3: Melissa Guyer
A4: 11 | B4: 1120 - Franklin/Hampshire AO | C4: CWFH | D4: 1120 | E4: 12 | F4: Franklin/Hampshire | G4: 1 | H4: Central West | I4: 1100 | J4: Keri Purcell | K4: Teka Harris
A5: 11 | B5: 1140 - Springfield/Westfield AO | C5: CWSW | D5: 1140 | E5: 14 | F5: Springfield/Westfield | G5: 1 | H5: Central West | I5: 1100 | J5: Dan Donermeyer | K5: Elaine Baillargeon
A6: 11 | B6: 1150 - Holyoke Chicopee AO | C6: CWHC | D6: 1150 | E6: 15 | F6: Holyoke Chicopee | G6: 1 | H6: Central West | I6: 1100 | J6: Eliana Clinton | K6: Angela Nunez-Vazquez
A7: 11 | B7: 1170 - North Central AO | C7: CWNC | D7: 1170 | E7: 17 | F7: North Central | G7: 1 | H7: Central West | I7: 1100 | J7: Sharon Brown | K7: Lenny Beaton
A8: 21 | B8: 1170 - North Central AO | D8: 1170 | E8: 21 | F8: North Central | G8: 1 | H8: Central West | I8: 1100
A9: 11 | B9: 1180 - South Valley AO (Milford & Southbridge) | C9: CWSV | D9: 1180 | E9: 18 | F9: South Valley | G9: 1 | H9: Central West | I9: 1100 | J9: Jill Walulak
A10: 22 | B10: 1180 - South Valley AO (Milford & Southbridge) | D10: 1180 | E10: 22 | F10: South Valley | G10: 1 | H10: Central West | I10: 1100
A11: 11 | B11: 1190 - Worcester AO | C11: CWWO | D11: 1190 | E11: 19 | F11: Worcester | G11: 1 | H11: Central West | I11: 1100 | J11: Denise Haley | K11: Sandra Honig
A12: 24 | B12: 1190 - Worcester AO | D12: 1190 | E12: 24 | F12: Worcester | G12: 1 | H12: Central West | I12: 1100
A13: 33 | B13: 3310 - Lowell AO | C13: NELO | D13: 3310 | E13: 31 | F13: Lowell | G13: 3 | H13: Northeast | I13: 3000 | J13: Tom Marshall | K13: Beverly McGovern
A14: 33 | B14: 3320 - Merrimack Valley AO | C14: NEMV | D14: 3320 | E14: 32 | F14: Merrimack Valley | G14: 3 | H14: Northeast | I14: 3000 | J14: Michelle Vercellone | K14: Ann Lorenzo
A15: 33 | B15: 3340 - Central Middlesex Area Office | C15: NECM | D15: 3340 | E15: 34 | F15: Central Middlesex | G15: 3 | H15: Northeast | I15: 3000 | J15: LynnLee Jordan | K15: Ken Underwood
A16: 33 | B16: 3350 - NORTH SHORE | C16: NENS | D16: 3350 | E16: 35 | F16: North Shore | G16: 3 | H16: Northeast | I16: 3000 | J16: Jennifer Killeen | K16: Rebecca Anderson
A17: 33 | B17: 3380 - METRO NORTH | C17: NEMN | D17: 3380 | E17: 38 | F17: Metro North | G17: 3 | H17: Northeast | I17: 3000 | J17: Bonnie Hungler | K17: Joann Koni
A18: 55 | B18: 5520 - BROCKTON | C18: SEBR | D18: 5520 | E18: 52 | F18: Brockton | G18: 5 | H18: Southeast | I18: 5000 | J18: Beth Moran Liuzzo
A19: 55 | B19: 5540 - TAUNTON/ATTLEBORO | C19: SETA | D19: 5540 | E19: 54 | F19: Taunton | G19: 5 | H19: Southeast | I19: 5000 | J19: Barbara Curley | K19: Heather Miller
A20: 55 | B20: 5550 - FALL RIVER | C20: SEFR | D20: 5550 | E20: 55 | F20: Fall River | G20: 5 | H20: Southeast | I20: 5000 | J20: Kelly McNaughton | K20: Kelly McNaughton (Interim)
A21: 55 | B21: 5560 - NEW BEDFORD | C21: SENB | D21: 5560 | E21: 56 | F21: New Bedford | G21: 5 | H21: Southeast | I21: 5000 | J21: Elizabeth Duffy | K21: Selena Roberson
A22: 55 | B22: 5570 - CAPE & ISLANDS | C22: SECI | D22: 5570 | E22: 57 | F22: Cape & Islands | G22: 5 | H22: Southeast | I22: 5000 | J22: Rick Cavicchi | K22: Tracy Maher
A23: 55 | B23: 5580 - PLYMOUTH | C23: SEPL | D23: 5580 | E23: 58 | F23: Plymouth | G23: 5 | H23: Southeast | I23: 5000 | J23: Lisa Saba | K23: Margaret Holmes
A24: 55 | B24: 5590 - South Coastal Area Office | C24: SESC | D24: 5590 | E24: 59 | F24: South Coastal | G24: 5 | H24: Southeast | I24: 5000 | J24: Stephen Abreu | K24: Stephen Abreu (Interim)
A25: 66 | B25: 6610 - CHARLES RIVER WEST | C25: MCRW | D25: 6610 | E25: 61 | F25: Charles River West | G25: 6 | H25: Metro | I25: 6000 | J25: Joan Thompson | K25: Jessica Belcher
A26: 66 | B26: 6620 - GREATER BOSTON | C26: MGRB | D26: 6620 | E26: 62 | F26: Greater Boston | G26: 6 | H26: Metro | I26: 6000 | J26: Kaitlyn Spencer | K26: Jeffrey Hetrick
A27: 66 | B27: 6660 - MIDDLESEX WEST | C27: MMXW | D27: 6660 | E27: 66 | F27: Middlesex West | G27: 6 | H27: Metro | I27: 6000 | J27: Deb Johnson | K27: Karen Poutre
A28: 66 | B28: 6670 - NEWTON/NORFOLK | C28: MNSN | D28: 6670 | E28: 67 | F28: Newton/Norfolk | G28: 6 | H28: Metro | I28: 6000 | J28: Jane Fuller
A29: 12 | B29: 1120 - Franklin/Hampshire AO | C29: CWFH | D29: 1120 | E29: 12 | F29: Franklin/Hampshire | G29: 1 | H29: Central West | I29: 1100 | J29: Keri Purcell | K29: Teka Harris
A30: 14 | B30: 1140 - SPRINGFIELD/WESTFIELD AO | C30: CWSW | D30: 1140 | E30: 14 | F30: Springfield/Westfield | G30: 1 | H30: Central West | I30: 1100 | J30: Dan Donermeyer | K30: Elaine Baillargeon
A31: 15 | B31: 1150 - HOLYOKE CHICOPEE AO | C31: CWHC | D31: 1150 | E31: 15 | F31: Holyoke Chicopee | G31: 1 | H31: Central West | I31: 1100 | J31: Eliana Clinton | K31: Angela Nunez-Vazquez
A32: 32 | B32: 3320 - MERRIMACK VALLEY | C32: NEMV | D32: 3320 | E32: 32 | F32: Merrimack Valley | G32: 3 | H32: Northeast | I32: 3000 | J32: Michelle Vercellone | K32: Ann Lorenzo
A33: 38 | B33: 3380 - METRO NORTH | C33: NEMN | D33: 3380 | E33: 38 | F33: Metro North | G33: 3 | H33: Northeast | I33: 3000 | J33: Bonnie Hungler | K33: Joann Koni
A34: 31 | B34: 3310 - LOWELL | C34: NELO | D34: 3310 | E34: 31 | F34: Lowell | G34: 3 | H34: Northeast | I34: 3000 | J34: Tom Marshall | K34: Beverly McGovern
A35: 35 | B35: 3350 - NORTH SHORE | C35: NENS | D35: 3350 | E35: 35 | F35: North Shore | G35: 3 | H35: Northeast | I35: 3000 | J35: Jennifer Killeen | K35: Rebecca Anderson
A36: 34 | B36: 3340 - Central Middlesex Area Office | C36: NECM | D36: 3340 | E36: 34 | F36: Central Middlesex | G36: 3 | H36: Northeast | I36: 3000 | J36: LynnLee Jordan | K36: Ken Underwood
A37: 52 | B37: 5520 - BROCKTON | C37: SEBR | D37: 5520 | E37: 52 | F37: Brockton | G37: 5 | H37: Southeast | I37: 5000 | J37: Beth Moran Liuzzo
A38: 54 | B38: 5540 - TAUNTON/ATTLEBORO | C38: SETA | D38: 5540 | E38: 54 | F38: Taunton | G38: 5 | H38: Southeast | I38: 5000 | J38: Barbara Curley | K38: Heather Miller
A39: 58 | B39: 5580 - PLYMOUTH | C39: SEPL | D39: 5580 | E39: 58 | F39: Plymouth | G39: 5 | H39: Southeast | I39: 5000 | J39: Lisa Saba | K39: Margaret Holmes
A40: 56 | B40: 5560 - NEW BEDFORD | C40: SENB | D40: 5560 | E40: 56 | F40: New Bedford | G40: 5 | H40: Southeast | I40: 5000 | J40: Elizabeth Duffy | K40: Selena Roberson
A41: 62 | B41: 6620 - GREATER BOSTON | C41: MGRB | D41: 6620 | E41: 62 | F41: Greater Boston | G41: 6 | H41: Metro | I41: 6000 | J41: Kaitlyn Spencer | K41: Jeffrey Hetrick
...
