{"text_format":"1","workbook":"xlsx","n_sheets":20,"sheets":["INSTRUCTIONS","CAT Z GUIDANCE","COST SUMMARY RECORD","PAYROLL RECORD","NewLaborTemplate","LABOR-EQUIP","ELIGIBLE ACTIVITIES","DROP DOWN LIST VALUES","FRINGE","MATERIALS","EQUIPMENT INVENTORY","CONTRACTS","FEMA COST CODE","Labor Template","Payroll Record Add In","Contract Add","Material Add","VOL LABOR ADD","VOL RECORD ADD","Equip Add"],"not_rendered":{"charts":0,"images":65,"macros":1,"external_links":1,"defined_names":18,"comments":6,"pivot_tables":0},"unopened":[],"bounds":{"document_bytes":16777216,"sheet_cells":100000,"rows_first":2000,"rows_last":500,"rows_between":2000,"halvings":0,"cell_chars":16384,"cell_head_chars":4096},"cells_cut":0,"cells_raw":0,"read":"whole","date_system":"1900"}

{"sheet":"INSTRUCTIONS","index":0,"n_rows":30,"n_cols":4,"rows_kept":30,"cut":false,"hidden":false,"merged":[[18,3,18,14],[20,3,20,14],[23,3,23,14],[26,3,26,14],[29,3,29,14],[16,3,16,14],[6,2,6,14],[9,3,9,14],[1,1,1,15],[2,1,2,15],[11,3,11,14],[13,3,13,14],[7,3,7,14],[4,2,4,14],[14,3,14,14]]}
[]
[]
[null,"CAT Z WORKBOOK INSTRUCTIONS"]
[]
[null,null,"Before beginning, please review the CAT Z GUIDANCE sheet for guidelines on eligible costs."]
[]
[null,null,"PAYROLL RECORD"]
[null,null,"§  ","Please use this section to enter all employees claiming management costs. This tab should be the first section completed as \"APPLICANT NAME\", \"DISASTER #\", and \"DISASTER TITLE\" auto fill in all other sections from this tab."]
[]
[null,null,"§  ","Choose either individual or average fringe rate.  If individual fringe rate calculations are to be used, all applicable columns must be filled for each employee claiming management costs.  If the average fringe rate is to be applied, please check the appropriate box on this page and complete the FRINGE tab."]
[]
[null,null,"§  ","OT1 pay rate is set at 1.5x the regular rate,  OT2 pay rate is set at 2x the regular pay rate."]
[]
[null,null,"§  ","Please contact your Project Administrator for changes to these pre-determined rate structures."]
[]
[null,null,"LABOR-EQUIP "]
[null,null,"§  ","Use the drop down menu to select employee and equipment where appropriate. Select the appropriate Version in column E.  Enter the appropriate month/day and year in columns H through V, rows 6 and 7."]
[]
[null,null,"§  ","It may be necessary to have more than one entry per employee to encompass all date ranges and associated Versions."]
[]
[null,null,"§  ","It is not necessary for the dates to be consecutive."]
[]
[null,null,"EQUIPMENT INVENTORY"]
[null,null,"§  ","Use this tab to create an inventory for all equipment claimed under management costs.  Use the FEMA COST CODE tab to lookup the appropriate cost code and enter it in column H.  Associated rate will auto-fill."]
[]
[null,null,"MATERIALS"]
[null,null,"§  ","Enter all materials claimed for management costs on this tab.  Select the associated Version in column D."]
[]
[null,null,"CONTRACTS"]
[null,null,"§  ","Enter all contract costs claimed for management costs on this tab.  Select the associated Version in column D."]

{"sheet":"CAT Z GUIDANCE","index":1,"n_rows":35,"n_cols":5,"rows_kept":35,"cut":false,"hidden":false,"merged":[[8,3,8,9],[10,3,10,9],[12,3,12,9],[14,3,14,9],[1,1,1,10],[2,1,2,10],[16,3,16,9],[17,4,17,9],[18,4,18,9],[19,4,19,9],[20,4,20,9],[21,4,21,9],[22,4,22,9],[23,4,23,9],[24,4,24,9],[25,4,25,9],[34,3,34,9],[26,4,26,9],[27,4,27,9],[28,4,28,9],[29,4,29,9],[32,3,32,9]]}
[]
[]
[null,"SUB-RECIPIENT MANAGEMENT COST GUIDANCE"]
[]
[]
[]
[]
[]
[null,null,"§  ","One Cat Z project will be written (per disaster) for management costs both direct and indirect.  The eligible Cat Z amount is capped at 5% of the sum total of ALL obligated projects."]
[]
[null,null,"§  ","Management costs are funded at 100% Federal cost share."]
[]
[null,null,"§  ","Use of Management Cost Funds"]
[]
[null,null,"§  ","Outcome: To establish activities eligible for management cost contributions and the deadlines to use the contributions."]
[]
[null,null,null,"Activities eligible as management costs include those related to developing eligible PA projects and receiving reimbursement.  These activities may include, but are not limited to:"]
[null,null,null,"§  ","Preliminary Damage Assessments"]
[null,null,null,"§  ","Meetings regarding the PA Program or overall PA damage claim"]
[null,null,null,"§  ","Organizing PA damage sites into logical groups"]
[null,null,null,"§  ","Preparing correspondence"]
[null,null,null,"§  ","Site inspections"]
[null,null,null,"§  ","Travel expenses"]
[null,null,null,"§  ","Developing the detailed site-specific damage description"]
[null,null,null,"§  ","Evaluating Section 406 hazard mitigation measures"]
[null,null,null,"§  ","Preparing Small and Large Projects"]
[null,null,null,"§  ","Reviewing PWs"]
[null,null,null,"§  ","Collecting copying, filing, or submitting documents to support a claim"]
[null,null,null,"§  ","Requesting disbursement of PA funds"]
[null,null,null,"§  ","Training "]
[]
[null,null,"DOCUMENTATION REQUIREMENTS"]
[null,null,"§  ","Actual cost documentation must include information necessary to demonstrate eligibility of costs and activities claimed as management costs, including but not limited to payroll data, procurement procedures, contracts, invoices, and an explanation of the activities performed."]
[]
[null,null,"§  ","Documentation must also include information to demonstrate that costs are reasonable.  FEMA's established procedures for evaluating reasonable costs are described in FEMA's Public Assistance Reasonable Cost Evaluation Job Aid. 3 www.fema.gov/media-library/assets/documents/90743"]

{"sheet":"COST SUMMARY RECORD","index":2,"n_rows":19,"n_cols":15,"rows_kept":19,"cut":false,"hidden":false,"merged":[[5,4,5,8],[6,4,6,8],[6,9,6,12],[6,13,6,14],[5,9,5,14],[13,1,14,3],[1,1,1,14],[3,1,3,5],[4,1,4,5],[3,6,3,8],[3,9,3,14],[4,6,4,8],[4,9,4,14],[2,1,2,14],[8,1,8,3],[9,1,9,3],[7,1,7,3],[10,1,10,3],[11,1,11,3],[5,1,5,3],[6,1,6,3],[18,1,18,14],[19,1,22,14],[12,1,12,3],[15,1,15,14],[17,1,17,5],[13,4,13,7],[13,8,13,11],[13,12,13,13],[14,8,14,11],[14,12,14,13],[17,6,17,10],[17,11,17,14],[14,4,14,7],[16,1,16,5],[16,6,16,10],[16,11,16,14]]}
[]
[]
[null,"CATEGORY Z COST SUMMARY "]
[null,"APPLICANT NAME",null,null,null,null,"DISASTER #",null,null,"DISASTER TITLE"]
[null,{"$f":"IF('PAYROLL RECORD'!B5=\"\",\"\",'PAYROLL RECORD'!B5)","v":""},null,null,null,null,{"$f":"IF('PAYROLL RECORD'!D5=\"\",\"\",'PAYROLL RECORD'!D5)","v":""},null,null,{"$f":"IF('PAYROLL RECORD'!G5=\"\",\"\",'PAYROLL RECORD'!G5)","v":""}]
[null,"FINAL REQUEST #",null,null,"FINAL CAT Z AMOUNT REQUESTED",null,null,null,null,"REQUESTOR NAME/DATE:"]
[null,{"$f":"IF(E15=\"\",\"\",E15)","v":""},null,null,{"$f":"O15","v":0},null,null,null,null,{"$f":"IF(I15=\"\",\"\",I15)","v":""},null,null,null,{"$f":"IF(M15=\"\",\"\",M15)","v":""}]
[null,"COST CATEGORY",null,null,"REQUEST 1","REQUEST 2","REQUEST 3","REQUEST 4","REQUEST 5","REQUEST 6","REQUEST 7","REQUEST 8","REQUEST 9","REQUEST 10","TOTAL ALL ELIGIBLE COSTS"]
[null,"FORCE ACCOUNT                                   LABOR ",null,null,{"$f":"SUMIFS('LABOR-EQUIP'!R:R,'LABOR-EQUIP'!E:E,'COST SUMMARY RECORD'!E8,'LABOR-EQUIP'!U:U,0)+SUMIFS('LABOR-EQUIP'!S:S,'LABOR-EQUIP'!E:E,'COST SUMMARY RECORD'!E8,'LABOR-EQUIP'!U:U,0)+SUMIFS('LABOR-EQUIP'!T:T,'LABOR-EQUIP'!E:E,'COST SUMMARY RECORD'!E8,'LABOR-EQUIP'!U:U,0)","v":0},{"$f":"SUMIFS('LABOR-EQUIP'!R:R,'LABOR-EQUIP'!E:E,'COST SUMMARY RECORD'!F8,'LABOR-EQUIP'!U:U,0)+SUMIFS('LABOR-EQUIP'!S:S,'LABOR-EQUIP'!E:E,'COST SUMMARY RECORD'!F8,'LABOR-EQUIP'!U:U,0)+SUMIFS('LABOR-EQUIP'!T:T,'LABOR-EQUIP'!E:E,'COST SUMMARY RECORD'!F8,'LABOR-EQUIP'!U:U,0)","v":0},{"$f":"SUMIFS('LABOR-EQUIP'!R:R,'LABOR-EQUIP'!E:E,'COST SUMMARY RECORD'!G8,'LABOR-EQUIP'!U:U,0)+SUMIFS('LABOR-EQUIP'!S:S,'LABOR-EQUIP'!E:E,'COST SUMMARY RECORD'!G8,'LABOR-EQUIP'!U:U,0)+SUMIFS('LABOR-EQUIP'!T:T,'LABOR-EQUIP'!E:E,'COST SUMMARY RECORD'!G8,'LABOR-EQUIP'!U:U,0)","v":0},{"$f":"SUMIFS('LABOR-EQUIP'!R:R,'LABOR-EQUIP'!E:E,'COST SUMMARY RECORD'!H8,'LABOR-EQUIP'!U:U,0)+SUMIFS('LABOR-EQUIP'!S:S,'LABOR-EQUIP'!E:E,'COST SUMMARY RECORD'!H8,'LABOR-EQUIP'!U:U,0)+SUMIFS('LABOR-EQUIP'!T:T,'LABOR-EQUIP'!E:E,'COST SUMMARY RECORD'!H8,'LABOR-EQUIP'!U:U,0)","v":0},{"$f":"SUMIFS('LABOR-EQUIP'!R:R,'LABOR-EQUIP'!E:E,'COST SUMMARY RECORD'!I8,'LABOR-EQUIP'!U:U,0)+SUMIFS('LABOR-EQUIP'!S:S,'LABOR-EQUIP'!E:E,'COST SUMMARY RECORD'!I8,'LABOR-EQUIP'!U:U,0)+SUMIFS('LABOR-EQUIP'!T:T,'LABOR-EQUIP'!E:E,'COST SUMMARY RECORD'!I8,'LABOR-EQUIP'!U:U,0)","v":0},{"$f":"SUMIFS('LABOR-EQUIP'!R:R,'LABOR-EQUIP'!E:E,'COST SUMMARY RECORD'!J8,'LABOR-EQUIP'!U:U,0)+SUMIFS('LABOR-EQUIP'!S:S,'LABOR-EQUIP'!E:E,'COST SUMMARY RECORD'!J8,'LABOR-EQUIP'!U:U,0)+SUMIFS('LABOR-EQUIP'!T:T,'LABOR-EQUIP'!E:E,'COST SUMMARY RECORD'!J8,'LABOR-EQUIP'!U:U,0)","v":0},{"$f":"SUMIFS('LABOR-EQUIP'!R:R,'LABOR-EQUIP'!E:E,'COST SUMMARY RECORD'!K8,'LABOR-EQUIP'!U:U,0)+SUMIFS('LABOR-EQUIP'!S:S,'LABOR-EQUIP'!E:E,'COST SUMMARY RECORD'!K8,'LABOR-EQUIP'!U:U,0)+SUMIFS('LABOR-EQUIP'!T:T,'LABOR-EQUIP'!E:E,'COST SUMMARY RECORD'!K8,'LABOR-EQUIP'!U:U,0)","v":0},{"$f":"SUMIFS('LABOR-EQUIP'!R:R,'LABOR-EQUIP'!E:E,'COST SUMMARY RECORD'!L8,'LABOR-EQUIP'!U:U,0)+SUMIFS('LABOR-EQUIP'!S:S,'LABOR-EQUIP'!E:E,'COST SUMMARY RECORD'!L8,'LABOR-EQUIP'!U:U,0)+SUMIFS('LABOR-EQUIP'!T:T,'LABOR-EQUIP'!E:E,'COST SUMMARY RECORD'!L8,'LABOR-EQUIP'!U:U,0)","v":0},{"$f":"SUMIFS('LABOR-EQUIP'!R:R,'LABOR-EQUIP'!E:E,'COST SUMMARY RECORD'!M8,'LABOR-EQUIP'!U:U,0)+SUMIFS('LABOR-EQUIP'!S:S,'LABOR-EQUIP'!E:E,'COST SUMMARY RECORD'!M8,'LABOR-EQUIP'!U:U,0)+SUMIFS('LABOR-EQUIP'!T:T,'LABOR-EQUIP'!E:E,'COST SUMMARY RECORD'!M8,'LABOR-EQUIP'!U:U,0)","v":0},{"$f":"SUMIFS('LABOR-EQUIP'!R:R,'LABOR-EQUIP'!E:E,'COST SUMMARY RECORD'!F8,'LABOR-EQUIP'!U:U,0)+SUMIFS('LABOR-EQUIP'!S:S,'LABOR-EQUIP'!E:E,'COST SUMMARY RECORD'!F8,'LABOR-EQUIP'!U:U,0)+SUMIFS('LABOR-EQUIP'!T:T,'LABOR-EQUIP'!E:E,'COST SUMMARY RECORD'!F8,'LABOR-EQUIP'!U:U,0)","v":0},{"$f":"'LABOR-EQUIP'!$R$53+'LABOR-EQUIP'!$S$53+'LABOR-EQUIP'!$T$53","v":0}]
[null,"FORCE ACCOUNT EQUIPMENT",null,null,{"$f":"SUMIFS('LABOR-EQUIP'!R:R,'LABOR-EQUIP'!E:E,'COST SUMMARY RECORD'!E8,'LABOR-EQUIP'!U:U,1)+SUMIFS('LABOR-EQUIP'!S:S,'LABOR-EQUIP'!E:E,'COST SUMMARY RECORD'!E8,'LABOR-EQUIP'!U:U,1)+SUMIFS('LABOR-EQUIP'!T:T,'LABOR-EQUIP'!E:E,'COST SUMMARY RECORD'!E8,'LABOR-EQUIP'!U:U,1)","v":0},{"$f":"SUMIFS('LABOR-EQUIP'!R:R,'LABOR-EQUIP'!E:E,'COST SUMMARY RECORD'!F8,'LABOR-EQUIP'!U:U,1)+SUMIFS('LABOR-EQUIP'!S:S,'LABOR-EQUIP'!E:E,'COST SUMMARY RECORD'!F8,'LABOR-EQUIP'!U:U,1)+SUMIFS('LABOR-EQUIP'!T:T,'LABOR-EQUIP'!E:E,'COST SUMMARY RECORD'!F8,'LABOR-EQUIP'!U:U,1)","v":0},{"$f":"SUMIFS('LABOR-EQUIP'!R:R,'LABOR-EQUIP'!E:E,'COST SUMMARY RECORD'!G8,'LABOR-EQUIP'!U:U,1)+SUMIFS('LABOR-EQUIP'!S:S,'LABOR-EQUIP'!E:E,'COST SUMMARY RECORD'!G8,'LABOR-EQUIP'!U:U,1)+SUMIFS('LABOR-EQUIP'!T:T,'LABOR-EQUIP'!E:E,'COST SUMMARY RECORD'!G8,'LABOR-EQUIP'!U:U,1)","v":0},{"$f":"SUMIFS('LABOR-EQUIP'!R:R,'LABOR-EQUIP'!E:E,'COST SUMMARY RECORD'!H8,'LABOR-EQUIP'!U:U,1)+SUMIFS('LABOR-EQUIP'!S:S,'LABOR-EQUIP'!E:E,'COST SUMMARY RECORD'!H8,'LABOR-EQUIP'!U:U,1)+SUMIFS('LABOR-EQUIP'!T:T,'LABOR-EQUIP'!E:E,'COST SUMMARY RECORD'!H8,'LABOR-EQUIP'!U:U,1)","v":0},{"$f":"SUMIFS('LABOR-EQUIP'!R:R,'LABOR-EQUIP'!E:E,'COST SUMMARY RECORD'!I8,'LABOR-EQUIP'!U:U,1)+SUMIFS('LABOR-EQUIP'!S:S,'LABOR-EQUIP'!E:E,'COST SUMMARY RECORD'!I8,'LABOR-EQUIP'!U:U,1)+SUMIFS('LABOR-EQUIP'!T:T,'LABOR-EQUIP'!E:E,'COST SUMMARY RECORD'!I8,'LABOR-EQUIP'!U:U,1)","v":0},{"$f":"SUMIFS('LABOR-EQUIP'!R:R,'LABOR-EQUIP'!E:E,'COST SUMMARY RECORD'!J8,'LABOR-EQUIP'!U:U,1)+SUMIFS('LABOR-EQUIP'!S:S,'LABOR-EQUIP'!E:E,'COST SUMMARY RECORD'!J8,'LABOR-EQUIP'!U:U,1)+SUMIFS('LABOR-EQUIP'!T:T,'LABOR-EQUIP'!E:E,'COST SUMMARY RECORD'!J8,'LABOR-EQUIP'!U:U,1)","v":0},{"$f":"SUMIFS('LABOR-EQUIP'!R:R,'LABOR-EQUIP'!E:E,'COST SUMMARY RECORD'!K8,'LABOR-EQUIP'!U:U,1)+SUMIFS('LABOR-EQUIP'!S:S,'LABOR-EQUIP'!E:E,'COST SUMMARY RECORD'!K8,'LABOR-EQUIP'!U:U,1)+SUMIFS('LABOR-EQUIP'!T:T,'LABOR-EQUIP'!E:E,'COST SUMMARY RECORD'!K8,'LABOR-EQUIP'!U:U,1)","v":0},{"$f":"SUMIFS('LABOR-EQUIP'!R:R,'LABOR-EQUIP'!E:E,'COST SUMMARY RECORD'!L8,'LABOR-EQUIP'!U:U,1)+SUMIFS('LABOR-EQUIP'!S:S,'LABOR-EQUIP'!E:E,'COST SUMMARY RECORD'!L8,'LABOR-EQUIP'!U:U,1)+SUMIFS('LABOR-EQUIP'!T:T,'LABOR-EQUIP'!E:E,'COST SUMMARY RECORD'!L8,'LABOR-EQUIP'!U:U,1)","v":0},{"$f":"SUMIFS('LABOR-EQUIP'!R:R,'LABOR-EQUIP'!E:E,'COST SUMMARY RECORD'!M8,'LABOR-EQUIP'!U:U,1)+SUMIFS('LABOR-EQUIP'!S:S,'LABOR-EQUIP'!E:E,'COST SUMMARY RECORD'!M8,'LABOR-EQUIP'!U:U,1)+SUMIFS('LABOR-EQUIP'!T:T,'LABOR-EQUIP'!E:E,'COST SUMMARY RECORD'!M8,'LABOR-EQUIP'!U:U,1)","v":0},{"$f":"SUMIFS('LABOR-EQUIP'!R:R,'LABOR-EQUIP'!E:E,'COST SUMMARY RECORD'!N8,'LABOR-EQUIP'!U:U,1)+SUMIFS('LABOR-EQUIP'!S:S,'LABOR-EQUIP'!E:E,'COST SUMMARY RECORD'!N8,'LABOR-EQUIP'!U:U,1)+SUMIFS('LABOR-EQUIP'!T:T,'LABOR-EQUIP'!E:E,'COST SUMMARY RECORD'!N8,'LABOR-EQUIP'!U:U,1)","v":0},{"$f":"'LABOR-EQUIP'!$R$54","v":0}]
[null,"MATERIALS",null,null,{"$f":"SUMIF(MATERIALS!D:D,'COST SUMMARY RECORD'!E8,MATERIALS!I:I)","v":0},{"$f":"SUMIF(MATERIALS!D:D,'COST SUMMARY RECORD'!F8,MATERIALS!I:I)","v":0},{"$f":"SUMIF(MATERIALS!D:D,'COST SUMMARY RECORD'!G8,MATERIALS!I:I)","v":0},{"$f":"SUMIF(MATERIALS!D:D,'COST SUMMARY RECORD'!H8,MATERIALS!I:I)","v":0},{"$f":"SUMIF(MATERIALS!D:D,'COST SUMMARY RECORD'!I8,MATERIALS!I:I)","v":0},{"$f":"SUMIF(MATERIALS!D:D,'COST SUMMARY RECORD'!J8,MATERIALS!I:I)","v":0},{"$f":"SUMIF(MATERIALS!D:D,'COST SUMMARY RECORD'!K8,MATERIALS!I:I)","v":0},{"$f":"SUMIF(MATERIALS!D:D,'COST SUMMARY RECORD'!L8,MATERIALS!I:I)","v":0},{"$f":"SUMIF(MATERIALS!D:D,'COST SUMMARY RECORD'!M8,MATERIALS!I:I)","v":0},{"$f":"SUMIF(MATERIALS!D:D,'COST SUMMARY RECORD'!N8,MATERIALS!I:I)","v":0},{"$f":"MATERIALS!I68","v":0}]
[null,"CONTRACTS",null,null,{"$f":"SUMIF(CONTRACTS!D:D,'COST SUMMARY RECORD'!E8,CONTRACTS!H:H)","v":0},{"$f":"SUMIF(CONTRACTS!D:D,'COST SUMMARY RECORD'!F8,CONTRACTS!H:H)","v":0},{"$f":"SUMIF(CONTRACTS!D:D,'COST SUMMARY RECORD'!G8,CONTRACTS!H:H)","v":0},{"$f":"SUMIF(CONTRACTS!D:D,'COST SUMMARY RECORD'!H8,CONTRACTS!H:H)","v":0},{"$f":"SUMIF(CONTRACTS!D:D,'COST SUMMARY RECORD'!I8,CONTRACTS!H:H)","v":0},{"$f":"SUMIF(CONTRACTS!D:D,'COST SUMMARY RECORD'!J8,CONTRACTS!H:H)","v":0},{"$f":"SUMIF(CONTRACTS!D:D,'COST SUMMARY RECORD'!K8,CONTRACTS!H:H)","v":0},{"$f":"SUMIF(CONTRACTS!D:D,'COST SUMMARY RECORD'!L8,CONTRACTS!H:H)","v":0},{"$f":"SUMIF(CONTRACTS!D:D,'COST SUMMARY RECORD'!M8,CONTRACTS!H:H)","v":0},{"$f":"SUMIF(CONTRACTS!D:D,'COST SUMMARY RECORD'!N8,CONTRACTS!H:H)","v":0},{"$f":"CONTRACTS!H40","v":0}]
[null,"TOTALS",null,null,{"$f":"SUM(E9:E12)","v":0},{"$f":"SUM(F9:F12)","v":0},0,0,0,0,0,0,0,0,0]
[null,"FINAL CAT Z AMOUNT REQUESTED",null,null,"I certify that REQUEST # ___ is the final CAT Z REQUEST.",null,null,null,"Requestor's Name:",null,null,null,"DATE:"]
[null,null,null,null,null,null,null,null,null,null,null,null,null,null,{"$f":"SUM(O9:O12)","v":0}]
[null,"I certify that the above information was transcribed from timesheets, payroll record, equipment log, invoices, stock records or other documents which are available for audit"]
[null,"Certified by:",null,null,null,null,"Title:",null,null,null,null,"Date:"]
[]
[null,"Applicant's records have been reviewed and found correct with the exceptions as noted."]

{"sheet":"PAYROLL RECORD","index":3,"n_rows":329,"n_cols":22,"rows_kept":329,"cut":false,"hidden":false,"merged":[[1,1,1,17],[2,1,2,17],[5,11,5,17],[3,1,3,2],[3,3,3,5],[4,1,4,2],[4,3,4,5],[3,6,3,17],[4,6,4,17],[6,18,6,19],[5,1,5,2],[5,3,5,9],[6,4,7,4],[7,5,7,7],[7,12,7,13],[6,16,6,17],[6,1,7,1],[6,2,7,2],[6,3,7,3]]}
[]
[]
[null,"PAYROLL RECORD"]
[null,"APPLICANT NAME",null,"DISASTER #:",null,null,"DISASTER TITLE"]
[]
[null,null,null,"IS THE AVERAGE FROM FRINGE SHEET TO BE USED?",null,null,null,null,null,null,false]
[null,"NAME\nLAST, FIRST","TITLE","STATUS","BASE PAY\nRATE","VAC","SICK","HOL","RET","SS","MEDC","UNEMP","HEALTH","LIFE","WC","OTHER","FRINGE BENEFITS",null,"RATE w/FRINGE"]
[null,null,null,null,null,"DAYS / YEAR",null,null,"%","%","%","%","$ / MONTH",null,"%","%","REG","OT","REG","OT1","OT2","OT3"]
[null,null,null,null,null,null,null,null,null,null,null,null,null,null,null,null,{"$f":"IF(E9>0,IF(K$6=TRUE,FRINGE!$G$38,(SUM(I9:L9)+SUM(O9:P9)+SUM(F9:H9)*8/2080+SUM(M9:N9)*12/(E9*2080))),0)","v":0},{"$f":"IF($E9>0,IF(K$6=TRUE,FRINGE!$L$38,(SUM(I9:L9)+O9)),0)","v":0},{"$f":"IF(E9<=0,\"\",(E9*(1+Q9)))","v":""},{"$f":"IF(E9<=0,\"\",(E9*1.5*(1+R9)))","v":""},{"$f":"IF(E9<=0,\"\",(E9*2*(1+R9)))","v":""},{"$f":"IF(E9<=0,\"\",(E9/2*(1+Q9)))","v":""}]
[null,null,null,null,null,null,null,null,null,null,null,null,null,null,null,null,{"$f":"IF(E10>0,IF(K$6=TRUE,FRINGE!$G$38,(SUM(I10:L10)+SUM(O10:P10)+SUM(F10:H10)*8/2080+SUM(M10:N10)*12/(E10*2080))),0)","v":0},{"$f":"IF($E10>0,IF(K$6=TRUE,FRINGE!$L$38,(SUM(I10:L10)+O10)),0)","v":0},{"$f":"IF(E10<=0,\"\",(E10*(1+Q10)))","v":""},{"$f":"IF(E10<=0,\"\",(E10*1.5*(1+R10)))","v":""},{"$f":"IF(E10<=0,\"\",(E10*2*(1+R10)))","v":""},{"$f":"IF(E10<=0,\"\",(E10/2*(1+Q10)))","v":""}]
[null,null,null,null,null,null,null,null,null,null,null,null,null,null,null,null,{"$f":"IF(E11>0,IF(K$6=TRUE,FRINGE!$G$38,(SUM(I11:L11)+SUM(O11:P11)+SUM(F11:H11)*8/2080+SUM(M11:N11)*12/(E11*2080))),0)","v":0},{"$f":"IF($E11>0,IF(K$6=TRUE,FRINGE!$L$38,(SUM(I11:L11)+O11)),0)","v":0},{"$f":"IF(E11<=0,\"\",(E11*(1+Q11)))","v":""},{"$f":"IF(E11<=0,\"\",(E11*1.5*(1+R11)))","v":""},"",""]
[null,null,null,null,null,null,null,null,null,null,null,null,null,null,null,null,{"$f":"IF(E12>0,IF(K$6=TRUE,FRINGE!$G$38,(SUM(I12:L12)+SUM(O12:P12)+SUM(F12:H12)*8/2080+SUM(M12:N12)*12/(E12*2080))),0)","v":0},{"$f":"IF($E12>0,IF(K$6=TRUE,FRINGE!$L$38,(SUM(I12:L12)+O12)),0)","v":0},{"$f":"IF(E12<=0,\"\",(E12*(1+Q12)))","v":""},{"$f":"IF(E12<=0,\"\",(E12*1.5*(1+R12)))","v":""},"",""]
[null,null,null,null,null,null,null,null,null,null,null,null,null,null,null,null,{"$f":"IF(E13>0,IF(K$6=TRUE,FRINGE!$G$38,(SUM(I13:L13)+SUM(O13:P13)+SUM(F13:H13)*8/2080+SUM(M13:N13)*12/(E13*2080))),0)","v":0},{"$f":"IF($E13>0,IF(K$6=TRUE,FRINGE!$L$38,(SUM(I13:L13)+O13)),0)","v":0},{"$f":"IF(E13<=0,\"\",(E13*(1+Q13)))","v":""},{"$f":"IF(E13<=0,\"\",(E13*1.5*(1+R13)))","v":""},"",""]
[null,null,null,null,null,null,null,null,null,null,null,null,null,null,null,null,{"$f":"IF(E14>0,IF(K$6=TRUE,FRINGE!$G$38,(SUM(I14:L14)+SUM(O14:P14)+SUM(F14:H14)*8/2080+SUM(M14:N14)*12/(E14*2080))),0)","v":0},{"$f":"IF($E14>0,IF(K$6=TRUE,FRINGE!$L$38,(SUM(I14:L14)+O14)),0)","v":0},{"$f":"IF(E14<=0,\"\",(E14*(1+Q14)))","v":""},{"$f":"IF(E14<=0,\"\",(E14*1.5*(1+R14)))","v":""},"",""]
[null,null,null,null,null,null,null,null,null,null,null,null,null,null,null,null,{"$f":"IF(E15>0,IF(K$6=TRUE,FRINGE!$G$38,(SUM(I15:L15)+SUM(O15:P15)+SUM(F15:H15)*8/2080+SUM(M15:N15)*12/(E15*2080))),0)","v":0},{"$f":"IF($E15>0,IF(K$6=TRUE,FRINGE!$L$38,(SUM(I15:L15)+O15)),0)","v":0},"","","",""]
[null,null,null,null,null,null,null,null,null,null,null,null,null,null,null,null,{"$f":"IF(E16>0,IF(K$6=TRUE,FRINGE!$G$38,(SUM(I16:L16)+SUM(O16:P16)+SUM(F16:H16)*8/2080+SUM(M16:N16)*12/(E16*2080))),0)","v":0},{"$f":"IF($E16>0,IF(K$6=TRUE,FRINGE!$L$38,(SUM(I16:L16)+O16)),0)","v":0},"","","",""]
[null,null,null,null,null,null,null,null,null,null,null,null,null,null,null,null,{"$f":"IF(E17>0,IF(K$6=TRUE,FRINGE!$G$38,(SUM(I17:L17)+SUM(O17:P17)+SUM(F17:H17)*8/2080+SUM(M17:N17)*12/(E17*2080))),0)","v":0},{"$f":"IF($E17>0,IF(K$6=TRUE,FRINGE!$L$38,(SUM(I17:L17)+O17)),0)","v":0},"","","",""]
[null,null,null,null,null,null,null,null,null,null,null,null,null,null,null,null,{"$f":"IF(E18>0,IF(K$6=TRUE,FRINGE!$G$38,(SUM(I18:L18)+SUM(O18:P18)+SUM(F18:H18)*8/2080+SUM(M18:N18)*12/(E18*2080))),0)","v":0},{"$f":"IF($E18>0,IF(K$6=TRUE,FRINGE!$L$38,(SUM(I18:L18)+O18)),0)","v":0},"","","",""]
[null,null,null,null,null,null,null,null,null,null,null,null,null,null,null,null,{"$f":"IF(E19>0,IF(K$6=TRUE,FRINGE!$G$38,(SUM(I19:L19)+SUM(O19:P19)+SUM(F19:H19)*8/2080+SUM(M19:N19)*12/(E19*2080))),0)","v":0},{"$f":"IF($E19>0,IF(K$6=TRUE,FRINGE!$L$38,(SUM(I19:L19)+O19)),0)","v":0},{"$f":"IF(E19<=0,\"\",(E19*(1+Q19)))","v":""},{"$f":"IF(E19<=0,\"\",(E19*1.5*(1+R19)))","v":""},"",""]
[null,null,null,null,null,null,null,null,null,null,null,null,null,null,null,null,{"$f":"IF(E20>0,IF(K$6=TRUE,FRINGE!$G$38,(SUM(I20:L20)+SUM(O20:P20)+SUM(F20:H20)*8/2080+SUM(M20:N20)*12/(E20*2080))),0)","v":0},{"$f":"IF($E20>0,IF(K$6=TRUE,FRINGE!$L$38,(SUM(I20:L20)+O20)),0)","v":0},"","","",""]
[null,null,null,null,null,null,null,null,null,null,null,null,null,null,null,null,{"$f":"IF(E21>0,IF(K$6=TRUE,FRINGE!$G$38,(SUM(I21:L21)+SUM(O21:P21)+SUM(F21:H21)*8/2080+SUM(M21:N21)*12/(E21*2080))),0)","v":0},{"$f":"IF($E21>0,IF(K$6=TRUE,FRINGE!$L$38,(SUM(I21:L21)+O21)),0)","v":0},"","","",""]
[null,null,null,null,null,null,null,null,null,null,null,null,null,null,null,null,{"$f":"IF(E22>0,IF(K$6=TRUE,FRINGE!$G$38,(SUM(I22:L22)+SUM(O22:P22)+SUM(F22:H22)*8/2080+SUM(M22:N22)*12/(E22*2080))),0)","v":0},{"$f":"IF($E22>0,IF(K$6=TRUE,FRINGE!$L$38,(SUM(I22:L22)+O22)),0)","v":0},"","","",""]
[null,null,null,null,null,null,null,null,null,null,null,null,null,null,null,null,{"$f":"IF(E23>0,IF(K$6=TRUE,FRINGE!$G$38,(SUM(I23:L23)+SUM(O23:P23)+SUM(F23:H23)*8/2080+SUM(M23:N23)*12/(E23*2080))),0)","v":0},{"$f":"IF($E23>0,IF(K$6=TRUE,FRINGE!$L$38,(SUM(I23:L23)+O23)),0)","v":0},"","","",""]
[null,null,null,null,null,null,null,null,null,null,null,null,null,null,null,null,{"$f":"IF(E24>0,IF(K$6=TRUE,FRINGE!$G$38,(SUM(I24:L24)+SUM(O24:P24)+SUM(F24:H24)*8/2080+SUM(M24:N24)*12/(E24*2080))),0)","v":0},{"$f":"IF($E24>0,IF(K$6=TRUE,FRINGE!$L$38,(SUM(I24:L24)+O24)),0)","v":0},"","","",""]
[null,null,null,null,null,null,null,null,null,null,null,null,null,null,null,null,{"$f":"IF(E25>0,IF(K$6=TRUE,FRINGE!$G$38,(SUM(I25:L25)+SUM(O25:P25)+SUM(F25:H25)*8/2080+SUM(M25:N25)*12/(E25*2080))),0)","v":0},{"$f":"IF($E25>0,IF(K$6=TRUE,FRINGE!$L$38,(SUM(I25:L25)+O25)),0)","v":0},"","","",""]
[null,null,null,null,null,null,null,null,null,null,null,null,null,null,null,null,{"$f":"IF(E26>0,IF(K$6=TRUE,FRINGE!$G$38,(SUM(I26:L26)+SUM(O26:P26)+SUM(F26:H26)*8/2080+SUM(M26:N26)*12/(E26*2080))),0)","v":0},{"$f":"IF($E26>0,IF(K$6=TRUE,FRINGE!$L$38,(SUM(I26:L26)+O26)),0)","v":0},"","","",""]
[null,null,null,null,null,null,null,null,null,null,null,null,null,null,null,null,{"$f":"IF(E27>0,IF(K$6=TRUE,FRINGE!$G$38,(SUM(I27:L27)+SUM(O27:P27)+SUM(F27:H27)*8/2080+SUM(M27:N27)*12/(E27*2080))),0)","v":0},{"$f":"IF($E27>0,IF(K$6=TRUE,FRINGE!$L$38,(SUM(I27:L27)+O27)),0)","v":0},{"$f":"IF(E27<=0,\"\",(E27*(1+Q27)))","v":""},{"$f":"IF(E27<=0,\"\",(E27*1.5*(1+R27)))","v":""},"",""]
[null,null,null,null,null,null,null,null,null,null,null,null,null,null,null,null,{"$f":"IF(E28>0,IF(K$6=TRUE,FRINGE!$G$38,(SUM(I28:L28)+SUM(O28:P28)+SUM(F28:H28)*8/2080+SUM(M28:N28)*12/(E28*2080))),0)","v":0},{"$f":"IF($E28>0,IF(K$6=TRUE,FRINGE!$L$38,(SUM(I28:L28)+O28)),0)","v":0},"","","",""]
[null,null,null,null,null,null,null,null,null,null,null,null,null,null,null,null,{"$f":"IF(E29>0,IF(K$6=TRUE,FRINGE!$G$38,(SUM(I29:L29)+SUM(O29:P29)+SUM(F29:H29)*8/2080+SUM(M29:N29)*12/(E29*2080))),0)","v":0},{"$f":"IF($E29>0,IF(K$6=TRUE,FRINGE!$L$38,(SUM(I29:L29)+O29)),0)","v":0},"","","",""]
[null,null,null,null,null,null,null,null,null,null,null,null,null,null,null,null,{"$f":"IF(E30>0,IF(K$6=TRUE,FRINGE!$G$38,(SUM(I30:L30)+SUM(O30:P30)+SUM(F30:H30)*8/2080+SUM(M30:N30)*12/(E30*2080))),0)","v":0},{"$f":"IF($E30>0,IF(K$6=TRUE,FRINGE!$L$38,(SUM(I30:L30)+O30)),0)","v":0},"","","",""]
[null,null,null,null,null,null,null,null,null,null,null,null,null,null,null,null,{"$f":"IF(E31>0,IF(K$6=TRUE,FRINGE!$G$38,(SUM(I31:L31)+SUM(O31:P31)+SUM(F31:H31)*8/2080+SUM(M31:N31)*12/(E31*2080))),0)","v":0},{"$f":"IF($E31>0,IF(K$6=TRUE,FRINGE!$L$38,(SUM(I31:L31)+O31)),0)","v":0},"","","",""]
[null,null,null,null,null,null,null,null,null,null,null,null,null,null,null,null,{"$f":"IF(E32>0,IF(K$6=TRUE,FRINGE!$G$38,(SUM(I32:L32)+SUM(O32:P32)+SUM(F32:H32)*8/2080+SUM(M32:N32)*12/(E32*2080))),0)","v":0},{"$f":"IF($E32>0,IF(K$6=TRUE,FRINGE!$L$38,(SUM(I32:L32)+O32)),0)","v":0},"","","",""]
[null,null,null,null,null,null,null,null,null,null,null,null,null,null,null,null,{"$f":"IF(E33>0,IF(K$6=TRUE,FRINGE!$G$38,(SUM(I33:L33)+SUM(O33:P33)+SUM(F33:H33)*8/2080+SUM(M33:N33)*12/(E33*2080))),0)","v":0},{"$f":"IF($E33>0,IF(K$6=TRUE,FRINGE!$L$38,(SUM(I33:L33)+O33)),0)","v":0},"","","",""]
[null,null,null,null,null,null,null,null,null,null,null,null,null,null,null,null,{"$f":"IF(E34>0,IF(K$6=TRUE,FRINGE!$G$38,(SUM(I34:L34)+SUM(O34:P34)+SUM(F34:H34)*8/2080+SUM(M34:N34)*12/(E34*2080))),0)","v":0},{"$f":"IF($E34>0,IF(K$6=TRUE,FRINGE!$L$38,(SUM(I34:L34)+O34)),0)","v":0},"","","",""]
[null,null,null,null,null,null,null,null,null,null,null,null,null,null,null,null,{"$f":"IF(E35>0,IF(K$6=TRUE,FRINGE!$G$38,(SUM(I35:L35)+SUM(O35:P35)+SUM(F35:H35)*8/2080+SUM(M35:N35)*12/(E35*2080))),0)","v":0},{"$f":"IF($E35>0,IF(K$6=TRUE,FRINGE!$L$38,(SUM(I35:L35)+O35)),0)","v":0},"","","",""]
[null,null,null,null,null,null,null,null,null,null,null,null,null,null,null,null,{"$f":"IF(E36>0,IF(K$6=TRUE,FRINGE!$G$38,(SUM(I36:L36)+SUM(O36:P36)+SUM(F36:H36)*8/2080+SUM(M36:N36)*12/(E36*2080))),0)","v":0},{"$f":"IF($E36>0,IF(K$6=TRUE,FRINGE!$L$38,(SUM(I36:L36)+O36)),0)","v":0},"","","",""]
[null,null,null,null,null,null,null,null,null,null,null,null,null,null,null,null,{"$f":"IF(E37>0,IF(K$6=TRUE,FRINGE!$G$38,(SUM(I37:L37)+SUM(O37:P37)+SUM(F37:H37)*8/2080+SUM(M37:N37)*12/(E37*2080))),0)","v":0},{"$f":"IF($E37>0,IF(K$6=TRUE,FRINGE!$L$38,(SUM(I37:L37)+O37)),0)","v":0},"","","",""]
[null,null,null,null,null,null,null,null,null,null,null,null,null,null,null,null,{"$f":"IF(E38>0,IF(K$6=TRUE,FRINGE!$G$38,(SUM(I38:L38)+SUM(O38:P38)+SUM(F38:H38)*8/2080+SUM(M38:N38)*12/(E38*2080))),0)","v":0},{"$f":"IF($E38>0,IF(K$6=TRUE,FRINGE!$L$38,(SUM(I38:L38)+O38)),0)","v":0},"","","",""]
[null,null,null,null,null,null,null,null,null,null,null,null,null,null,null,null,{"$f":"IF(E39>0,IF(K$6=TRUE,FRINGE!$G$38,(SUM(I39:L39)+SUM(O39:P39)+SUM(F39:H39)*8/2080+SUM(M39:N39)*12/(E39*2080))),0)","v":0},{"$f":"IF($E39>0,IF(K$6=TRUE,FRINGE!$L$38,(SUM(I39:L39)+O39)),0)","v":0},{"$f":"IF(E39<=0,\"\",(E39*(1+Q39)))","v":""},{"$f":"IF(E39<=0,\"\",(E39*1.5*(1+R39)))","v":""},"",""]
[null,null,null,null,null,null,null,null,null,null,null,null,null,null,null,null,{"$f":"IF(E40>0,IF(K$6=TRUE,FRINGE!$G$38,(SUM(I40:L40)+SUM(O40:P40)+SUM(F40:H40)*8/2080+SUM(M40:N40)*12/(E40*2080))),0)","v":0},{"$f":"IF($E40>0,IF(K$6=TRUE,FRINGE!$L$38,(SUM(I40:L40)+O40)),0)","v":0},{"$f":"IF(E40<=0,\"\",(E40*(1+Q40)))","v":""},{"$f":"IF(E40<=0,\"\",(E40*1.5*(1+R40)))","v":""},"",""]
[null,null,null,null,null,null,null,null,null,null,null,null,null,null,null,null,{"$f":"IF(E41>0,IF(K$6=TRUE,FRINGE!$G$38,(SUM(I41:L41)+SUM(O41:P41)+SUM(F41:H41)*8/2080+SUM(M41:N41)*12/(E41*2080))),0)","v":0},{"$f":"IF($E41>0,IF(K$6=TRUE,FRINGE!$L$38,(SUM(I41:L41)+O41)),0)","v":0},{"$f":"IF(E41<=0,\"\",(E41*(1+Q41)))","v":""},{"$f":"IF(E41<=0,\"\",(E41*1.5*(1+R41)))","v":""},"",""]
[null,null,null,null,null,null,null,null,null,null,null,null,null,null,null,null,{"$f":"IF(E42>0,IF(K$6=TRUE,FRINGE!$G$38,(SUM(I42:L42)+SUM(O42:P42)+SUM(F42:H42)*8/2080+SUM(M42:N42)*12/(E42*2080))),0)","v":0},{"$f":"IF($E42>0,IF(K$6=TRUE,FRINGE!$L$38,(SUM(I42:L42)+O42)),0)","v":0},"","","",""]
[null,null,null,null,null,null,null,null,null,null,null,null,null,null,null,null,{"$f":"IF(E43>0,IF(K$6=TRUE,FRINGE!$G$38,(SUM(I43:L43)+SUM(O43:P43)+SUM(F43:H43)*8/2080+SUM(M43:N43)*12/(E43*2080))),0)","v":0},{"$f":"IF($E43>0,IF(K$6=TRUE,FRINGE!$L$38,(SUM(I43:L43)+O43)),0)","v":0},"","","",""]
[null,null,null,null,null,null,null,null,null,null,null,null,null,null,null,null,{"$f":"IF(E44>0,IF(K$6=TRUE,FRINGE!$G$38,(SUM(I44:L44)+SUM(O44:P44)+SUM(F44:H44)*8/2080+SUM(M44:N44)*12/(E44*2080))),0)","v":0},{"$f":"IF($E44>0,IF(K$6=TRUE,FRINGE!$L$38,(SUM(I44:L44)+O44)),0)","v":0},"","","",""]
[null,null,null,null,null,null,null,null,null,null,null,null,null,null,null,null,{"$f":"IF(E45>0,IF(K$6=TRUE,FRINGE!$G$38,(SUM(I45:L45)+SUM(O45:P45)+SUM(F45:H45)*8/2080+SUM(M45:N45)*12/(E45*2080))),0)","v":0},{"$f":"IF($E45>0,IF(K$6=TRUE,FRINGE!$L$38,(SUM(I45:L45)+O45)),0)","v":0},"","","",""]
[null,null,null,null,null,null,null,null,null,null,null,null,null,null,null,null,{"$f":"IF(E46>0,IF(K$6=TRUE,FRINGE!$G$38,(SUM(I46:L46)+SUM(O46:P46)+SUM(F46:H46)*8/2080+SUM(M46:N46)*12/(E46*2080))),0)","v":0},{"$f":"IF($E46>0,IF(K$6=TRUE,FRINGE!$L$38,(SUM(I46:L46)+O46)),0)","v":0},"","","",""]
[null,null,null,null,null,null,null,null,null,null,null,null,null,null,null,null,{"$f":"IF(E47>0,IF(K$6=TRUE,FRINGE!$G$38,(SUM(I47:L47)+SUM(O47:P47)+SUM(F47:H47)*8/2080+SUM(M47:N47)*12/(E47*2080))),0)","v":0},{"$f":"IF($E47>0,IF(K$6=TRUE,FRINGE!$L$38,(SUM(I47:L47)+O47)),0)","v":0},{"$f":"IF(E47<=0,\"\",(E47*(1+Q47)))","v":""},{"$f":"IF(E47<=0,\"\",(E47*1.5*(1+R47)))","v":""},"",""]
[null,null,null,null,null,null,null,null,null,null,null,null,null,null,null,null,{"$f":"IF(E48>0,IF(K$6=TRUE,FRINGE!$G$38,(SUM(I48:L48)+SUM(O48:P48)+SUM(F48:H48)*8/2080+SUM(M48:N48)*12/(E48*2080))),0)","v":0},{"$f":"IF($E48>0,IF(K$6=TRUE,FRINGE!$L$38,(SUM(I48:L48)+O48)),0)","v":0},{"$f":"IF(E48<=0,\"\",(E48*(1+Q48)))","v":""},{"$f":"IF(E48<=0,\"\",(E48*1.5*(1+R48)))","v":""},"",""]
[null,null,null,null,null,null,null,null,null,null,null,null,null,null,null,null,{"$f":"IF(E49>0,IF(K$6=TRUE,FRINGE!$G$38,(SUM(I49:L49)+SUM(O49:P49)+SUM(F49:H49)*8/2080+SUM(M49:N49)*12/(E49*2080))),0)","v":0},{"$f":"IF($E49>0,IF(K$6=TRUE,FRINGE!$L$38,(SUM(I49:L49)+O49)),0)","v":0},{"$f":"IF(E49<=0,\"\",(E49*(1+Q49)))","v":""},{"$f":"IF(E49<=0,\"\",(E49*1.5*(1+R49)))","v":""},"",""]
[null,null,null,null,null,null,null,null,null,null,null,null,null,null,null,null,{"$f":"IF(E50>0,IF(K$6=TRUE,FRINGE!$G$38,(SUM(I50:L50)+SUM(O50:P50)+SUM(F50:H50)*8/2080+SUM(M50:N50)*12/(E50*2080))),0)","v":0},{"$f":"IF($E50>0,IF(K$6=TRUE,FRINGE!$L$38,(SUM(I50:L50)+O50)),0)","v":0},"","","",""]
[null,null,null,null,null,null,null,null,null,null,null,null,null,null,null,null,{"$f":"IF(E51>0,IF(K$6=TRUE,FRINGE!$G$38,(SUM(I51:L51)+SUM(O51:P51)+SUM(F51:H51)*8/2080+SUM(M51:N51)*12/(E51*2080))),0)","v":0},{"$f":"IF($E51>0,IF(K$6=TRUE,FRINGE!$L$38,(SUM(I51:L51)+O51)),0)","v":0},"","","",""]
[null,null,null,null,null,null,null,null,null,null,null,null,null,null,null,null,{"$f":"IF(E52>0,IF(K$6=TRUE,FRINGE!$G$38,(SUM(I52:L52)+SUM(O52:P52)+SUM(F52:H52)*8/2080+SUM(M52:N52)*12/(E52*2080))),0)","v":0},{"$f":"IF($E52>0,IF(K$6=TRUE,FRINGE!$L$38,(SUM(I52:L52)+O52)),0)","v":0},"","","",""]
[null,null,null,null,null,null,null,null,null,null,null,null,null,null,null,null,{"$f":"IF(E53>0,IF(K$6=TRUE,FRINGE!$G$38,(SUM(I53:L53)+SUM(O53:P53)+SUM(F53:H53)*8/2080+SUM(M53:N53)*12/(E53*2080))),0)","v":0},{"$f":"IF($E53>0,IF(K$6=TRUE,FRINGE!$L$38,(SUM(I53:L53)+O53)),0)","v":0},"","","",""]
[null,null,null,null,null,null,null,null,null,null,null,null,null,null,null,null,{"$f":"IF(E54>0,IF(K$6=TRUE,FRINGE!$G$38,(SUM(I54:L54)+SUM(O54:P54)+SUM(F54:H54)*8/2080+SUM(M54:N54)*12/(E54*2080))),0)","v":0},{"$f":"IF($E54>0,IF(K$6=TRUE,FRINGE!$L$38,(SUM(I54:L54)+O54)),0)","v":0},"","","",""]
[null,null,null,null,null,null,null,null,null,null,null,null,null,null,null,null,{"$f":"IF(E55>0,IF(K$6=TRUE,FRINGE!$G$38,(SUM(I55:L55)+SUM(O55:P55)+SUM(F55:H55)*8/2080+SUM(M55:N55)*12/(E55*2080))),0)","v":0},{"$f":"IF($E55>0,IF(K$6=TRUE,FRINGE!$L$38,(SUM(I55:L55)+O55)),0)","v":0},"","","",""]
[null,null,null,null,null,null,null,null,null,null,null,null,null,null,null,null,{"$f":"IF(E56>0,IF(K$6=TRUE,FRINGE!$G$38,(SUM(I56:L56)+SUM(O56:P56)+SUM(F56:H56)*8/2080+SUM(M56:N56)*12/(E56*2080))),0)","v":0},{"$f":"IF($E56>0,IF(K$6=TRUE,FRINGE!$L$38,(SUM(I56:L56)+O56)),0)","v":0},"","","",""]
[null,null,null,null,null,null,null,null,null,null,null,null,null,null,null,null,{"$f":"IF(E57>0,IF(K$6=TRUE,FRINGE!$G$38,(SUM(I57:L57)+SUM(O57:P57)+SUM(F57:H57)*8/2080+SUM(M57:N57)*12/(E57*2080))),0)","v":0},{"$f":"IF($E57>0,IF(K$6=TRUE,FRINGE!$L$38,(SUM(I57:L57)+O57)),0)","v":0},"","","",""]
[null,null,null,null,null,null,null,null,null,null,null,null,null,null,null,null,{"$f":"IF(E58>0,IF(K$6=TRUE,FRINGE!$G$38,(SUM(I58:L58)+SUM(O58:P58)+SUM(F58:H58)*8/2080+SUM(M58:N58)*12/(E58*2080))),0)","v":0},{"$f":"IF($E58>0,IF(K$6=TRUE,FRINGE!$L$38,(SUM(I58:L58)+O58)),0)","v":0},"","","",""]
[null,null,null,null,null,null,null,null,null,null,null,null,null,null,null,null,{"$f":"IF(E59>0,IF(K$6=TRUE,FRINGE!$G$38,(SUM(I59:L59)+SUM(O59:P59)+SUM(F59:H59)*8/2080+SUM(M59:N59)*12/(E59*2080))),0)","v":0},{"$f":"IF($E59>0,IF(K$6=TRUE,FRINGE!$L$38,(SUM(I59:L59)+O59)),0)","v":0},"","","",""]
[null,null,null,null,null,null,null,null,null,null,null,null,null,null,null,null,{"$f":"IF(E60>0,IF(K$6=TRUE,FRINGE!$G$38,(SUM(I60:L60)+SUM(O60:P60)+SUM(F60:H60)*8/2080+SUM(M60:N60)*12/(E60*2080))),0)","v":0},{"$f":"IF($E60>0,IF(K$6=TRUE,FRINGE!$L$38,(SUM(I60:L60)+O60)),0)","v":0},"","","",""]
[null,null,null,null,null,null,null,null,null,null,null,null,null,null,null,null,{"$f":"IF(E61>0,IF(K$6=TRUE,FRINGE!$G$38,(SUM(I61:L61)+SUM(O61:P61)+SUM(F61:H61)*8/2080+SUM(M61:N61)*12/(E61*2080))),0)","v":0},{"$f":"IF($E61>0,IF(K$6=TRUE,FRINGE!$L$38,(SUM(I61:L61)+O61)),0)","v":0},"","","",""]
[null,null,null,null,null,null,null,null,null,null,null,null,null,null,null,null,{"$f":"IF(E62>0,IF(K$6=TRUE,FRINGE!$G$38,(SUM(I62:L62)+SUM(O62:P62)+SUM(F62:H62)*8/2080+SUM(M62:N62)*12/(E62*2080))),0)","v":0},{"$f":"IF($E62>0,IF(K$6=TRUE,FRINGE!$L$38,(SUM(I62:L62)+O62)),0)","v":0},"","","",""]
[null,null,null,null,null,null,null,null,null,null,null,null,null,null,null,null,{"$f":"IF(E63>0,IF(K$6=TRUE,FRINGE!$G$38,(SUM(I63:L63)+SUM(O63:P63)+SUM(F63:H63)*8/2080+SUM(M63:N63)*12/(E63*2080))),0)","v":0},{"$f":"IF($E63>0,IF(K$6=TRUE,FRINGE!$L$38,(SUM(I63:L63)+O63)),0)","v":0},"","","",""]
[null,null,null,null,null,null,null,null,null,null,null,null,null,null,null,null,{"$f":"IF(E64>0,IF(K$6=TRUE,FRINGE!$G$38,(SUM(I64:L64)+SUM(O64:P64)+SUM(F64:H64)*8/2080+SUM(M64:N64)*12/(E64*2080))),0)","v":0},{"$f":"IF($E64>0,IF(K$6=TRUE,FRINGE!$L$38,(SUM(I64:L64)+O64)),0)","v":0},"","","",""]
[null,null,null,null,null,null,null,null,null,null,null,null,null,null,null,null,{"$f":"IF(E65>0,IF(K$6=TRUE,FRINGE!$G$38,(SUM(I65:L65)+SUM(O65:P65)+SUM(F65:H65)*8/2080+SUM(M65:N65)*12/(E65*2080))),0)","v":0},{"$f":"IF($E65>0,IF(K$6=TRUE,FRINGE!$L$38,(SUM(I65:L65)+O65)),0)","v":0},"","","",""]
[null,null,null,null,null,null,null,null,null,null,null,null,null,null,null,null,{"$f":"IF(E66>0,IF(K$6=TRUE,FRINGE!$G$38,(SUM(I66:L66)+SUM(O66:P66)+SUM(F66:H66)*8/2080+SUM(M66:N66)*12/(E66*2080))),0)","v":0},{"$f":"IF($E66>0,IF(K$6=TRUE,FRINGE!$L$38,(SUM(I66:L66)+O66)),0)","v":0},"","","",""]
[null,null,null,null,null,null,null,null,null,null,null,null,null,null,null,null,{"$f":"IF(E67>0,IF(K$6=TRUE,FRINGE!$G$38,(SUM(I67:L67)+SUM(O67:P67)+SUM(F67:H67)*8/2080+SUM(M67:N67)*12/(E67*2080))),0)","v":0},{"$f":"IF($E67>0,IF(K$6=TRUE,FRINGE!$L$38,(SUM(I67:L67)+O67)),0)","v":0},"","","",""]
[null,null,null,null,null,null,null,null,null,null,null,null,null,null,null,null,{"$f":"IF(E68>0,IF(K$6=TRUE,FRINGE!$G$38,(SUM(I68:L68)+SUM(O68:P68)+SUM(F68:H68)*8/2080+SUM(M68:N68)*12/(E68*2080))),0)","v":0},{"$f":"IF($E68>0,IF(K$6=TRUE,FRINGE!$L$38,(SUM(I68:L68)+O68)),0)","v":0},"","","",""]
[null,null,null,null,null,null,null,null,null,null,null,null,null,null,null,null,{"$f":"IF(E69>0,IF(K$6=TRUE,FRINGE!$G$38,(SUM(I69:L69)+SUM(O69:P69)+SUM(F69:H69)*8/2080+SUM(M69:N69)*12/(E69*2080))),0)","v":0},{"$f":"IF($E69>0,IF(K$6=TRUE,FRINGE!$L$38,(SUM(I69:L69)+O69)),0)","v":0},"","","",""]
[null,null,null,null,null,null,null,null,null,null,null,null,null,null,null,null,{"$f":"IF(E70>0,IF(K$6=TRUE,FRINGE!$G$38,(SUM(I70:L70)+SUM(O70:P70)+SUM(F70:H70)*8/2080+SUM(M70:N70)*12/(E70*2080))),0)","v":0},{"$f":"IF($E70>0,IF(K$6=TRUE,FRINGE!$L$38,(SUM(I70:L70)+O70)),0)","v":0},"","","",""]
[null,null,null,null,null,null,null,null,null,null,null,null,null,null,null,null,{"$f":"IF(E71>0,IF(K$6=TRUE,FRINGE!$G$38,(SUM(I71:L71)+SUM(O71:P71)+SUM(F71:H71)*8/2080+SUM(M71:N71)*12/(E71*2080))),0)","v":0},{"$f":"IF($E71>0,IF(K$6=TRUE,FRINGE!$L$38,(SUM(I71:L71)+O71)),0)","v":0},"","","",""]
[null,null,null,null,null,null,null,null,null,null,null,null,null,null,null,null,{"$f":"IF(E72>0,IF(K$6=TRUE,FRINGE!$G$38,(SUM(I72:L72)+SUM(O72:P72)+SUM(F72:H72)*8/2080+SUM(M72:N72)*12/(E72*2080))),0)","v":0},{"$f":"IF($E72>0,IF(K$6=TRUE,FRINGE!$L$38,(SUM(I72:L72)+O72)),0)","v":0},"","","",""]
[null,null,null,null,null,null,null,null,null,null,null,null,null,null,null,null,{"$f":"IF(E73>0,IF(K$6=TRUE,FRINGE!$G$38,(SUM(I73:L73)+SUM(O73:P73)+SUM(F73:H73)*8/2080+SUM(M73:N73)*12/(E73*2080))),0)","v":0},{"$f":"IF($E73>0,IF(K$6=TRUE,FRINGE!$L$38,(SUM(I73:L73)+O73)),0)","v":0},"","",{"$f":"IF(E73<=0,\"\",(E73*2*(1+R73)))","v":""},{"$f":"IF(E73<=0,\"\",(E73/2*(1+Q73)))","v":""}]
[null,null,null,null,null,null,null,null,null,null,null,null,null,null,null,null,{"$f":"IF(E74>0,IF(K$6=TRUE,FRINGE!$G$38,(SUM(I74:L74)+SUM(O74:P74)+SUM(F74:H74)*8/2080+SUM(M74:N74)*12/(E74*2080))),0)","v":0},{"$f":"IF($E74>0,IF(K$6=TRUE,FRINGE!$L$38,(SUM(I74:L74)+O74)),0)","v":0},"","","",""]
[null,null,null,null,null,null,null,null,null,null,null,null,null,null,null,null,{"$f":"IF(E75>0,IF(K$6=TRUE,FRINGE!$G$38,(SUM(I75:L75)+SUM(O75:P75)+SUM(F75:H75)*8/2080+SUM(M75:N75)*12/(E75*2080))),0)","v":0},{"$f":"IF($E75>0,IF(K$6=TRUE,FRINGE!$L$38,(SUM(I75:L75)+O75)),0)","v":0},"","","",""]
[null,null,null,null,null,null,null,null,null,null,null,null,null,null,null,null,{"$f":"IF(E76>0,IF(K$6=TRUE,FRINGE!$G$38,(SUM(I76:L76)+SUM(O76:P76)+SUM(F76:H76)*8/2080+SUM(M76:N76)*12/(E76*2080))),0)","v":0},{"$f":"IF($E76>0,IF(K$6=TRUE,FRINGE!$L$38,(SUM(I76:L76)+O76)),0)","v":0},"","","",""]
[null,null,null,null,null,null,null,null,null,null,null,null,null,null,null,null,{"$f":"IF(E77>0,IF(K$6=TRUE,FRINGE!$G$38,(SUM(I77:L77)+SUM(O77:P77)+SUM(F77:H77)*8/2080+SUM(M77:N77)*12/(E77*2080))),0)","v":0},{"$f":"IF($E77>0,IF(K$6=TRUE,FRINGE!$L$38,(SUM(I77:L77)+O77)),0)","v":0},"","","",""]
[null,null,null,null,null,null,null,null,null,null,null,null,null,null,null,null,{"$f":"IF(E78>0,IF(K$6=TRUE,FRINGE!$G$38,(SUM(I78:L78)+SUM(O78:P78)+SUM(F78:H78)*8/2080+SUM(M78:N78)*12/(E78*2080))),0)","v":0},{"$f":"IF($E78>0,IF(K$6=TRUE,FRINGE!$L$38,(SUM(I78:L78)+O78)),0)","v":0},"","","",""]
[null,null,null,null,null,null,null,null,null,null,null,null,null,null,null,null,{"$f":"IF(E79>0,IF(K$6=TRUE,FRINGE!$G$38,(SUM(I79:L79)+SUM(O79:P79)+SUM(F79:H79)*8/2080+SUM(M79:N79)*12/(E79*2080))),0)","v":0},{"$f":"IF($E79>0,IF(K$6=TRUE,FRINGE!$L$38,(SUM(I79:L79)+O79)),0)","v":0},"","","",""]
[null,null,null,null,null,null,null,null,null,null,null,null,null,null,null,null,{"$f":"IF(E80>0,IF(K$6=TRUE,FRINGE!$G$38,(SUM(I80:L80)+SUM(O80:P80)+SUM(F80:H80)*8/2080+SUM(M80:N80)*12/(E80*2080))),0)","v":0},{"$f":"IF($E80>0,IF(K$6=TRUE,FRINGE!$L$38,(SUM(I80:L80)+O80)),0)","v":0},"","","",""]
[null,null,null,null,null,null,null,null,null,null,null,null,null,null,null,null,{"$f":"IF(E81>0,IF(K$6=TRUE,FRINGE!$G$38,(SUM(I81:L81)+SUM(O81:P81)+SUM(F81:H81)*8/2080+SUM(M81:N81)*12/(E81*2080))),0)","v":0},{"$f":"IF($E81>0,IF(K$6=TRUE,FRINGE!$L$38,(SUM(I81:L81)+O81)),0)","v":0},"","","",""]
[null,null,null,null,null,null,null,null,null,null,null,null,null,null,null,null,{"$f":"IF(E82>0,IF(K$6=TRUE,FRINGE!$G$38,(SUM(I82:L82)+SUM(O82:P82)+SUM(F82:H82)*8/2080+SUM(M82:N82)*12/(E82*2080))),0)","v":0},{"$f":"IF($E82>0,IF(K$6=TRUE,FRINGE!$L$38,(SUM(I82:L82)+O82)),0)","v":0},"","","",""]
[null,null,null,null,null,null,null,null,null,null,null,null,null,null,null,null,{"$f":"IF(E83>0,IF(K$6=TRUE,FRINGE!$G$38,(SUM(I83:L83)+SUM(O83:P83)+SUM(F83:H83)*8/2080+SUM(M83:N83)*12/(E83*2080))),0)","v":0},{"$f":"IF($E83>0,IF(K$6=TRUE,FRINGE!$L$38,(SUM(I83:L83)+O83)),0)","v":0},"","","",""]
[null,null,null,null,null,null,null,null,null,null,null,null,null,null,null,null,{"$f":"IF(E84>0,IF(K$6=TRUE,FRINGE!$G$38,(SUM(I84:L84)+SUM(O84:P84)+SUM(F84:H84)*8/2080+SUM(M84:N84)*12/(E84*2080))),0)","v":0},{"$f":"IF($E84>0,IF(K$6=TRUE,FRINGE!$L$38,(SUM(I84:L84)+O84)),0)","v":0},"","","",""]
[null,null,null,null,null,null,null,null,null,null,null,null,null,null,null,null,{"$f":"IF(E85>0,IF(K$6=TRUE,FRINGE!$G$38,(SUM(I85:L85)+SUM(O85:P85)+SUM(F85:H85)*8/2080+SUM(M85:N85)*12/(E85*2080))),0)","v":0},{"$f":"IF($E85>0,IF(K$6=TRUE,FRINGE!$L$38,(SUM(I85:L85)+O85)),0)","v":0},"","","",""]
[null,null,null,null,null,null,null,null,null,null,null,null,null,null,null,null,{"$f":"IF(E86>0,IF(K$6=TRUE,FRINGE!$G$38,(SUM(I86:L86)+SUM(O86:P86)+SUM(F86:H86)*8/2080+SUM(M86:N86)*12/(E86*2080))),0)","v":0},{"$f":"IF($E86>0,IF(K$6=TRUE,FRINGE!$L$38,(SUM(I86:L86)+O86)),0)","v":0},"","","",""]
[null,null,null,null,null,null,null,null,null,null,null,null,null,null,null,null,{"$f":"IF(E87>0,IF(K$6=TRUE,FRINGE!$G$38,(SUM(I87:L87)+SUM(O87:P87)+SUM(F87:H87)*8/2080+SUM(M87:N87)*12/(E87*2080))),0)","v":0},{"$f":"IF($E87>0,IF(K$6=TRUE,FRINGE!$L$38,(SUM(I87:L87)+O87)),0)","v":0},"","","",""]
[null,null,null,null,null,null,null,null,null,null,null,null,null,null,null,null,{"$f":"IF(E88>0,IF(K$6=TRUE,FRINGE!$G$38,(SUM(I88:L88)+SUM(O88:P88)+SUM(F88:H88)*8/2080+SUM(M88:N88)*12/(E88*2080))),0)","v":0},{"$f":"IF($E88>0,IF(K$6=TRUE,FRINGE!$L$38,(SUM(I88:L88)+O88)),0)","v":0},"","","",""]
[null,null,null,null,null,null,null,null,null,null,null,null,null,null,null,null,{"$f":"IF(E89>0,IF(K$6=TRUE,FRINGE!$G$38,(SUM(I89:L89)+SUM(O89:P89)+SUM(F89:H89)*8/2080+SUM(M89:N89)*12/(E89*2080))),0)","v":0},{"$f":"IF($E89>0,IF(K$6=TRUE,FRINGE!$L$38,(SUM(I89:L89)+O89)),0)","v":0},"","","",""]
[null,null,null,null,null,null,null,null,null,null,null,null,null,null,null,null,{"$f":"IF(E90>0,IF(K$6=TRUE,FRINGE!$G$38,(SUM(I90:L90)+SUM(O90:P90)+SUM(F90:H90)*8/2080+SUM(M90:N90)*12/(E90*2080))),0)","v":0},{"$f":"IF($E90>0,IF(K$6=TRUE,FRINGE!$L$38,(SUM(I90:L90)+O90)),0)","v":0},"","","",""]
[null,null,null,null,null,null,null,null,null,null,null,null,null,null,null,null,{"$f":"IF(E91>0,IF(K$6=TRUE,FRINGE!$G$38,(SUM(I91:L91)+SUM(O91:P91)+SUM(F91:H91)*8/2080+SUM(M91:N91)*12/(E91*2080))),0)","v":0},{"$f":"IF($E91>0,IF(K$6=TRUE,FRINGE!$L$38,(SUM(I91:L91)+O91)),0)","v":0},"","","",""]
[null,null,null,null,null,null,null,null,null,null,null,null,null,null,null,null,{"$f":"IF(E92>0,IF(K$6=TRUE,FRINGE!$G$38,(SUM(I92:L92)+SUM(O92:P92)+SUM(F92:H92)*8/2080+SUM(M92:N92)*12/(E92*2080))),0)","v":0},{"$f":"IF($E92>0,IF(K$6=TRUE,FRINGE!$L$38,(SUM(I92:L92)+O92)),0)","v":0},"","","",""]
[null,null,null,null,null,null,null,null,null,null,null,null,null,null,null,null,{"$f":"IF(E93>0,IF(K$6=TRUE,FRINGE!$G$38,(SUM(I93:L93)+SUM(O93:P93)+SUM(F93:H93)*8/2080+SUM(M93:N93)*12/(E93*2080))),0)","v":0},{"$f":"IF($E93>0,IF(K$6=TRUE,FRINGE!$L$38,(SUM(I93:L93)+O93)),0)","v":0},"","","",""]
[null,null,null,null,null,null,null,null,null,null,null,null,null,null,null,null,{"$f":"IF(E94>0,IF(K$6=TRUE,FRINGE!$G$38,(SUM(I94:L94)+SUM(O94:P94)+SUM(F94:H94)*8/2080+SUM(M94:N94)*12/(E94*2080))),0)","v":0},{"$f":"IF($E94>0,IF(K$6=TRUE,FRINGE!$L$38,(SUM(I94:L94)+O94)),0)","v":0},"","","",""]
[null,null,null,null,null,null,null,null,null,null,null,null,null,null,null,null,{"$f":"IF(E95>0,IF(K$6=TRUE,FRINGE!$G$38,(SUM(I95:L95)+SUM(O95:P95)+SUM(F95:H95)*8/2080+SUM(M95:N95)*12/(E95*2080))),0)","v":0},{"$f":"IF($E95>0,IF(K$6=TRUE,FRINGE!$L$38,(SUM(I95:L95)+O95)),0)","v":0},"","","",""]
[null,null,null,null,null,null,null,null,null,null,null,null,null,null,null,null,{"$f":"IF(E96>0,IF(K$6=TRUE,FRINGE!$G$38,(SUM(I96:L96)+SUM(O96:P96)+SUM(F96:H96)*8/2080+SUM(M96:N96)*12/(E96*2080))),0)","v":0},{"$f":"IF($E96>0,IF(K$6=TRUE,FRINGE!$L$38,(SUM(I96:L96)+O96)),0)","v":0},"","","",""]
[null,null,null,null,null,null,null,null,null,null,null,null,null,null,null,null,{"$f":"IF(E97>0,IF(K$6=TRUE,FRINGE!$G$38,(SUM(I97:L97)+SUM(O97:P97)+SUM(F97:H97)*8/2080+SUM(M97:N97)*12/(E97*2080))),0)","v":0},{"$f":"IF($E97>0,IF(K$6=TRUE,FRINGE!$L$38,(SUM(I97:L97)+O97)),0)","v":0},"","","",""]
[null,null,null,null,null,null,null,null,null,null,null,null,null,null,null,null,{"$f":"IF(E98>0,IF(K$6=TRUE,FRINGE!$G$38,(SUM(I98:L98)+SUM(O98:P98)+SUM(F98:H98)*8/2080+SUM(M98:N98)*12/(E98*2080))),0)","v":0},{"$f":"IF($E98>0,IF(K$6=TRUE,FRINGE!$L$38,(SUM(I98:L98)+O98)),0)","v":0},"","","",""]
[null,null,null,null,null,null,null,null,null,null,null,null,null,null,null,null,{"$f":"IF(E99>0,IF(K$6=TRUE,FRINGE!$G$38,(SUM(I99:L99)+SUM(O99:P99)+SUM(F99:H99)*8/2080+SUM(M99:N99)*12/(E99*2080))),0)","v":0},{"$f":"IF($E99>0,IF(K$6=TRUE,FRINGE!$L$38,(SUM(I99:L99)+O99)),0)","v":0},"","","",""]
[null,null,null,null,null,null,null,null,null,null,null,null,null,null,null,null,{"$f":"IF(E100>0,IF(K$6=TRUE,FRINGE!$G$38,(SUM(I100:L100)+SUM(O100:P100)+SUM(F100:H100)*8/2080+SUM(M100:N100)*12/(E100*2080))),0)","v":0},{"$f":"IF($E100>0,IF(K$6=TRUE,FRINGE!$L$38,(SUM(I100:L100)+O100)),0)","v":0},"","","",""]
[null,null,null,null,null,null,null,null,null,null,null,null,null,null,null,null,{"$f":"IF(E101>0,IF(K$6=TRUE,FRINGE!$G$38,(SUM(I101:L101)+SUM(O101:P101)+SUM(F101:H101)*8/2080+SUM(M101:N101)*12/(E101*2080))),0)","v":0},{"$f":"IF($E101>0,IF(K$6=TRUE,FRINGE!$L$38,(SUM(I101:L101)+O101)),0)","v":0},"","","",""]
[null,null,null,null,null,null,null,null,null,null,null,null,null,null,null,null,{"$f":"IF(E102>0,IF(K$6=TRUE,FRINGE!$G$38,(SUM(I102:L102)+SUM(O102:P102)+SUM(F102:H102)*8/2080+SUM(M102:N102)*12/(E102*2080))),0)","v":0},{"$f":"IF($E102>0,IF(K$6=TRUE,FRINGE!$L$38,(SUM(I102:L102)+O102)),0)","v":0},"","","",""]
[null,null,null,null,null,null,null,null,null,null,null,null,null,null,null,null,{"$f":"IF(E103>0,IF(K$6=TRUE,FRINGE!$G$38,(SUM(I103:L103)+SUM(O103:P103)+SUM(F103:H103)*8/2080+SUM(M103:N103)*12/(E103*2080))),0)","v":0},{"$f":"IF($E103>0,IF(K$6=TRUE,FRINGE!$L$38,(SUM(I103:L103)+O103)),0)","v":0},"","","",""]
[null,null,null,null,null,null,null,null,null,null,null,null,null,null,null,null,{"$f":"IF(E104>0,IF(K$6=TRUE,FRINGE!$G$38,(SUM(I104:L104)+SUM(O104:P104)+SUM(F104:H104)*8/2080+SUM(M104:N104)*12/(E104*2080))),0)","v":0},{"$f":"IF($E104>0,IF(K$6=TRUE,FRINGE!$L$38,(SUM(I104:L104)+O104)),0)","v":0},"","","",""]
[null,null,null,null,null,null,null,null,null,null,null,null,null,null,null,null,{"$f":"IF(E105>0,IF(K$6=TRUE,FRINGE!$G$38,(SUM(I105:L105)+SUM(O105:P105)+SUM(F105:H105)*8/2080+SUM(M105:N105)*12/(E105*2080))),0)","v":0},{"$f":"IF($E105>0,IF(K$6=TRUE,FRINGE!$L$38,(SUM(I105:L105)+O105)),0)","v":0},"","","",""]
[null,null,null,null,null,null,null,null,null,null,null,null,null,null,null,null,{"$f":"IF(E106>0,IF(K$6=TRUE,FRINGE!$G$38,(SUM(I106:L106)+SUM(O106:P106)+SUM(F106:H106)*8/2080+SUM(M106:N106)*12/(E106*2080))),0)","v":0},{"$f":"IF($E106>0,IF(K$6=TRUE,FRINGE!$L$38,(SUM(I106:L106)+O106)),0)","v":0},"","","",""]
[null,null,null,null,null,null,null,null,null,null,null,null,null,null,null,null,{"$f":"IF(E107>0,IF(K$6=TRUE,FRINGE!$G$38,(SUM(I107:L107)+SUM(O107:P107)+SUM(F107:H107)*8/2080+SUM(M107:N107)*12/(E107*2080))),0)","v":0},{"$f":"IF($E107>0,IF(K$6=TRUE,FRINGE!$L$38,(SUM(I107:L107)+O107)),0)","v":0},"","","",""]
[null,null,null,null,null,null,null,null,null,null,null,null,null,null,null,null,{"$f":"IF(E108>0,IF(K$6=TRUE,FRINGE!$G$38,(SUM(I108:L108)+SUM(O108:P108)+SUM(F108:H108)*8/2080+SUM(M108:N108)*12/(E108*2080))),0)","v":0},{"$f":"IF($E108>0,IF(K$6=TRUE,FRINGE!$L$38,(SUM(I108:L108)+O108)),0)","v":0},"","","",""]
[null,null,null,null,null,null,null,null,null,null,null,null,null,null,null,null,{"$f":"IF(E109>0,IF(K$6=TRUE,FRINGE!$G$38,(SUM(I109:L109)+SUM(O109:P109)+SUM(F109:H109)*8/2080+SUM(M109:N109)*12/(E109*2080))),0)","v":0},{"$f":"IF($E109>0,IF(K$6=TRUE,FRINGE!$L$38,(SUM(I109:L109)+O109)),0)","v":0},"","","",""]
[null,null,null,null,null,null,null,null,null,null,null,null,null,null,null,null,{"$f":"IF(E110>0,IF(K$6=TRUE,FRINGE!$G$38,(SUM(I110:L110)+SUM(O110:P110)+SUM(F110:H110)*8/2080+SUM(M110:N110)*12/(E110*2080))),0)","v":0},{"$f":"IF($E110>0,IF(K$6=TRUE,FRINGE!$L$38,(SUM(I110:L110)+O110)),0)","v":0},"","","",""]
[null,null,null,null,null,null,null,null,null,null,null,null,null,null,null,null,{"$f":"IF(E111>0,IF(K$6=TRUE,FRINGE!$G$38,(SUM(I111:L111)+SUM(O111:P111)+SUM(F111:H111)*8/2080+SUM(M111:N111)*12/(E111*2080))),0)","v":0},{"$f":"IF($E111>0,IF(K$6=TRUE,FRINGE!$L$38,(SUM(I111:L111)+O111)),0)","v":0},"","","",""]
[null,null,null,null,null,null,null,null,null,null,null,null,null,null,null,null,{"$f":"IF(E112>0,IF(K$6=TRUE,FRINGE!$G$38,(SUM(I112:L112)+SUM(O112:P112)+SUM(F112:H112)*8/2080+SUM(M112:N112)*12/(E112*2080))),0)","v":0},{"$f":"IF($E112>0,IF(K$6=TRUE,FRINGE!$L$38,(SUM(I112:L112)+O112)),0)","v":0},"","","",""]
[null,null,null,null,null,null,null,null,null,null,null,null,null,null,null,null,{"$f":"IF(E113>0,IF(K$6=TRUE,FRINGE!$G$38,(SUM(I113:L113)+SUM(O113:P113)+SUM(F113:H113)*8/2080+SUM(M113:N113)*12/(E113*2080))),0)","v":0},{"$f":"IF($E113>0,IF(K$6=TRUE,FRINGE!$L$38,(SUM(I113:L113)+O113)),0)","v":0},{"$f":"IF(E113<=0,\"\",(E113*(1+Q113)))","v":""},{"$f":"IF(E113<=0,\"\",(E113*1.5*(1+R113)))","v":""},"",""]
[null,null,null,null,null,null,null,null,null,null,null,null,null,null,null,null,{"$f":"IF(E114>0,IF(K$6=TRUE,FRINGE!$G$38,(SUM(I114:L114)+SUM(O114:P114)+SUM(F114:H114)*8/2080+SUM(M114:N114)*12/(E114*2080))),0)","v":0},{"$f":"IF($E114>0,IF(K$6=TRUE,FRINGE!$L$38,(SUM(I114:L114)+O114)),0)","v":0},"","","",""]
[null,null,null,null,null,null,null,null,null,null,null,null,null,null,null,null,{"$f":"IF(E115>0,IF(K$6=TRUE,FRINGE!$G$38,(SUM(I115:L115)+SUM(O115:P115)+SUM(F115:H115)*8/2080+SUM(M115:N115)*12/(E115*2080))),0)","v":0},{"$f":"IF($E115>0,IF(K$6=TRUE,FRINGE!$L$38,(SUM(I115:L115)+O115)),0)","v":0},"","","",""]
[null,null,null,null,null,null,null,null,null,null,null,null,null,null,null,null,{"$f":"IF(E116>0,IF(K$6=TRUE,FRINGE!$G$38,(SUM(I116:L116)+SUM(O116:P116)+SUM(F116:H116)*8/2080+SUM(M116:N116)*12/(E116*2080))),0)","v":0},{"$f":"IF($E116>0,IF(K$6=TRUE,FRINGE!$L$38,(SUM(I116:L116)+O116)),0)","v":0},"","","",""]
[null,null,null,null,null,null,null,null,null,null,null,null,null,null,null,null,{"$f":"IF(E117>0,IF(K$6=TRUE,FRINGE!$G$38,(SUM(I117:L117)+SUM(O117:P117)+SUM(F117:H117)*8/2080+SUM(M117:N117)*12/(E117*2080))),0)","v":0},{"$f":"IF($E117>0,IF(K$6=TRUE,FRINGE!$L$38,(SUM(I117:L117)+O117)),0)","v":0},"","","",""]
[null,null,null,null,null,null,null,null,null,null,null,null,null,null,null,null,{"$f":"IF(E118>0,IF(K$6=TRUE,FRINGE!$G$38,(SUM(I118:L118)+SUM(O118:P118)+SUM(F118:H118)*8/2080+SUM(M118:N118)*12/(E118*2080))),0)","v":0},{"$f":"IF($E118>0,IF(K$6=TRUE,FRINGE!$L$38,(SUM(I118:L118)+O118)),0)","v":0},"","","",""]
[null,null,null,null,null,null,null,null,null,null,null,null,null,null,null,null,{"$f":"IF(E119>0,IF(K$6=TRUE,FRINGE!$G$38,(SUM(I119:L119)+SUM(O119:P119)+SUM(F119:H119)*8/2080+SUM(M119:N119)*12/(E119*2080))),0)","v":0},{"$f":"IF($E119>0,IF(K$6=TRUE,FRINGE!$L$38,(SUM(I119:L119)+O119)),0)","v":0},"","","",""]
[null,null,null,null,null,null,null,null,null,null,null,null,null,null,null,null,{"$f":"IF(E120>0,IF(K$6=TRUE,FRINGE!$G$38,(SUM(I120:L120)+SUM(O120:P120)+SUM(F120:H120)*8/2080+SUM(M120:N120)*12/(E120*2080))),0)","v":0},{"$f":"IF($E120>0,IF(K$6=TRUE,FRINGE!$L$38,(SUM(I120:L120)+O120)),0)","v":0},"","","",""]
[null,null,null,null,null,null,null,null,null,null,null,null,null,null,null,null,{"$f":"IF(E121>0,IF(K$6=TRUE,FRINGE!$G$38,(SUM(I121:L121)+SUM(O121:P121)+SUM(F121:H121)*8/2080+SUM(M121:N121)*12/(E121*2080))),0)","v":0},{"$f":"IF($E121>0,IF(K$6=TRUE,FRINGE!$L$38,(SUM(I121:L121)+O121)),0)","v":0},"","","",""]
[null,null,null,null,null,null,null,null,null,null,null,null,null,null,null,null,{"$f":"IF(E122>0,IF(K$6=TRUE,FRINGE!$G$38,(SUM(I122:L122)+SUM(O122:P122)+SUM(F122:H122)*8/2080+SUM(M122:N122)*12/(E122*2080))),0)","v":0},{"$f":"IF($E122>0,IF(K$6=TRUE,FRINGE!$L$38,(SUM(I122:L122)+O122)),0)","v":0},"","","",""]
[null,null,null,null,null,null,null,null,null,null,null,null,null,null,null,null,{"$f":"IF(E123>0,IF(K$6=TRUE,FRINGE!$G$38,(SUM(I123:L123)+SUM(O123:P123)+SUM(F123:H123)*8/2080+SUM(M123:N123)*12/(E123*2080))),0)","v":0},{"$f":"IF($E123>0,IF(K$6=TRUE,FRINGE!$L$38,(SUM(I123:L123)+O123)),0)","v":0},"","","",""]
[null,null,null,null,null,null,null,null,null,null,null,null,null,null,null,null,{"$f":"IF(E124>0,IF(K$6=TRUE,FRINGE!$G$38,(SUM(I124:L124)+SUM(O124:P124)+SUM(F124:H124)*8/2080+SUM(M124:N124)*12/(E124*2080))),0)","v":0},{"$f":"IF($E124>0,IF(K$6=TRUE,FRINGE!$L$38,(SUM(I124:L124)+O124)),0)","v":0},"","","",""]
[null,null,null,null,null,null,null,null,null,null,null,null,null,null,null,null,{"$f":"IF(E125>0,IF(K$6=TRUE,FRINGE!$G$38,(SUM(I125:L125)+SUM(O125:P125)+SUM(F125:H125)*8/2080+SUM(M125:N125)*12/(E125*2080))),0)","v":0},{"$f":"IF($E125>0,IF(K$6=TRUE,FRINGE!$L$38,(SUM(I125:L125)+O125)),0)","v":0},"","","",""]
[null,null,null,null,null,null,null,null,null,null,null,null,null,null,null,null,{"$f":"IF(E126>0,IF(K$6=TRUE,FRINGE!$G$38,(SUM(I126:L126)+SUM(O126:P126)+SUM(F126:H126)*8/2080+SUM(M126:N126)*12/(E126*2080))),0)","v":0},{"$f":"IF($E126>0,IF(K$6=TRUE,FRINGE!$L$38,(SUM(I126:L126)+O126)),0)","v":0},"","","",""]
[null,null,null,null,null,null,null,null,null,null,null,null,null,null,null,null,{"$f":"IF(E127>0,IF(K$6=TRUE,FRINGE!$G$38,(SUM(I127:L127)+SUM(O127:P127)+SUM(F127:H127)*8/2080+SUM(M127:N127)*12/(E127*2080))),0)","v":0},{"$f":"IF($E127>0,IF(K$6=TRUE,FRINGE!$L$38,(SUM(I127:L127)+O127)),0)","v":0},"","","",""]
[null,null,null,null,null,null,null,null,null,null,null,null,null,null,null,null,{"$f":"IF(E128>0,IF(K$6=TRUE,FRINGE!$G$38,(SUM(I128:L128)+SUM(O128:P128)+SUM(F128:H128)*8/2080+SUM(M128:N128)*12/(E128*2080))),0)","v":0},{"$f":"IF($E128>0,IF(K$6=TRUE,FRINGE!$L$38,(SUM(I128:L128)+O128)),0)","v":0},"","","",""]
[null,null,null,null,null,null,null,null,null,null,null,null,null,null,null,null,{"$f":"IF(E129>0,IF(K$6=TRUE,FRINGE!$G$38,(SUM(I129:L129)+SUM(O129:P129)+SUM(F129:H129)*8/2080+SUM(M129:N129)*12/(E129*2080))),0)","v":0},{"$f":"IF($E129>0,IF(K$6=TRUE,FRINGE!$L$38,(SUM(I129:L129)+O129)),0)","v":0},"","","",""]
[null,null,null,null,null,null,null,null,null,null,null,null,null,null,null,null,{"$f":"IF(E130>0,IF(K$6=TRUE,FRINGE!$G$38,(SUM(I130:L130)+SUM(O130:P130)+SUM(F130:H130)*8/2080+SUM(M130:N130)*12/(E130*2080))),0)","v":0},{"$f":"IF($E130>0,IF(K$6=TRUE,FRINGE!$L$38,(SUM(I130:L130)+O130)),0)","v":0},"","","",""]
[null,null,null,null,null,null,null,null,null,null,null,null,null,null,null,null,{"$f":"IF(E131>0,IF(K$6=TRUE,FRINGE!$G$38,(SUM(I131:L131)+SUM(O131:P131)+SUM(F131:H131)*8/2080+SUM(M131:N131)*12/(E131*2080))),0)","v":0},{"$f":"IF($E131>0,IF(K$6=TRUE,FRINGE!$L$38,(SUM(I131:L131)+O131)),0)","v":0},"","","",""]
[null,null,null,null,null,null,null,null,null,null,null,null,null,null,null,null,{"$f":"IF(E132>0,IF(K$6=TRUE,FRINGE!$G$38,(SUM(I132:L132)+SUM(O132:P132)+SUM(F132:H132)*8/2080+SUM(M132:N132)*12/(E132*2080))),0)","v":0},{"$f":"IF($E132>0,IF(K$6=TRUE,FRINGE!$L$38,(SUM(I132:L132)+O132)),0)","v":0},"","","",""]
[null,null,null,null,null,null,null,null,null,null,null,null,null,null,null,null,{"$f":"IF(E133>0,IF(K$6=TRUE,FRINGE!$G$38,(SUM(I133:L133)+SUM(O133:P133)+SUM(F133:H133)*8/2080+SUM(M133:N133)*12/(E133*2080))),0)","v":0},{"$f":"IF($E133>0,IF(K$6=TRUE,FRINGE!$L$38,(SUM(I133:L133)+O133)),0)","v":0},"","","",""]
[null,null,null,null,null,null,null,null,null,null,null,null,null,null,null,null,{"$f":"IF(E134>0,IF(K$6=TRUE,FRINGE!$G$38,(SUM(I134:L134)+SUM(O134:P134)+SUM(F134:H134)*8/2080+SUM(M134:N134)*12/(E134*2080))),0)","v":0},{"$f":"IF($E134>0,IF(K$6=TRUE,FRINGE!$L$38,(SUM(I134:L134)+O134)),0)","v":0},"","","",""]
[null,null,null,null,null,null,null,null,null,null,null,null,null,null,null,null,{"$f":"IF(E135>0,IF(K$6=TRUE,FRINGE!$G$38,(SUM(I135:L135)+SUM(O135:P135)+SUM(F135:H135)*8/2080+SUM(M135:N135)*12/(E135*2080))),0)","v":0},{"$f":"IF($E135>0,IF(K$6=TRUE,FRINGE!$L$38,(SUM(I135:L135)+O135)),0)","v":0},"","","",""]
[null,null,null,null,null,null,null,null,null,null,null,null,null,null,null,null,{"$f":"IF(E136>0,IF(K$6=TRUE,FRINGE!$G$38,(SUM(I136:L136)+SUM(O136:P136)+SUM(F136:H136)*8/2080+SUM(M136:N136)*12/(E136*2080))),0)","v":0},{"$f":"IF($E136>0,IF(K$6=TRUE,FRINGE!$L$38,(SUM(I136:L136)+O136)),0)","v":0},"","","",""]
[null,null,null,null,null,null,null,null,null,null,null,null,null,null,null,null,{"$f":"IF(E137>0,IF(K$6=TRUE,FRINGE!$G$38,(SUM(I137:L137)+SUM(O137:P137)+SUM(F137:H137)*8/2080+SUM(M137:N137)*12/(E137*2080))),0)","v":0},{"$f":"IF($E137>0,IF(K$6=TRUE,FRINGE!$L$38,(SUM(I137:L137)+O137)),0)","v":0},"","",{"$f":"IF(E137<=0,\"\",(E137*2*(1+R137)))","v":""},{"$f":"IF(E137<=0,\"\",(E137/2*(1+Q137)))","v":""}]
[null,null,null,null,null,null,null,null,null,null,null,null,null,null,null,null,{"$f":"IF(E138>0,IF(K$6=TRUE,FRINGE!$G$38,(SUM(I138:L138)+SUM(O138:P138)+SUM(F138:H138)*8/2080+SUM(M138:N138)*12/(E138*2080))),0)","v":0},{"$f":"IF($E138>0,IF(K$6=TRUE,FRINGE!$L$38,(SUM(I138:L138)+O138)),0)","v":0},"","","",""]
[null,null,null,null,null,null,null,null,null,null,null,null,null,null,null,null,{"$f":"IF(E139>0,IF(K$6=TRUE,FRINGE!$G$38,(SUM(I139:L139)+SUM(O139:P139)+SUM(F139:H139)*8/2080+SUM(M139:N139)*12/(E139*2080))),0)","v":0},{"$f":"IF($E139>0,IF(K$6=TRUE,FRINGE!$L$38,(SUM(I139:L139)+O139)),0)","v":0},"","","",""]
[null,null,null,null,null,null,null,null,null,null,null,null,null,null,null,null,{"$f":"IF(E140>0,IF(K$6=TRUE,FRINGE!$G$38,(SUM(I140:L140)+SUM(O140:P140)+SUM(F140:H140)*8/2080+SUM(M140:N140)*12/(E140*2080))),0)","v":0},{"$f":"IF($E140>0,IF(K$6=TRUE,FRINGE!$L$38,(SUM(I140:L140)+O140)),0)","v":0},"","","",""]
[null,null,null,null,null,null,null,null,null,null,null,null,null,null,null,null,{"$f":"IF(E141>0,IF(K$6=TRUE,FRINGE!$G$38,(SUM(I141:L141)+SUM(O141:P141)+SUM(F141:H141)*8/2080+SUM(M141:N141)*12/(E141*2080))),0)","v":0},{"$f":"IF($E141>0,IF(K$6=TRUE,FRINGE!$L$38,(SUM(I141:L141)+O141)),0)","v":0},"","","",""]
[null,null,null,null,null,null,null,null,null,null,null,null,null,null,null,null,{"$f":"IF(E142>0,IF(K$6=TRUE,FRINGE!$G$38,(SUM(I142:L142)+SUM(O142:P142)+SUM(F142:H142)*8/2080+SUM(M142:N142)*12/(E142*2080))),0)","v":0},{"$f":"IF($E142>0,IF(K$6=TRUE,FRINGE!$L$38,(SUM(I142:L142)+O142)),0)","v":0},"","","",""]
[null,null,null,null,null,null,null,null,null,null,null,null,null,null,null,null,{"$f":"IF(E143>0,IF(K$6=TRUE,FRINGE!$G$38,(SUM(I143:L143)+SUM(O143:P143)+SUM(F143:H143)*8/2080+SUM(M143:N143)*12/(E143*2080))),0)","v":0},{"$f":"IF($E143>0,IF(K$6=TRUE,FRINGE!$L$38,(SUM(I143:L143)+O143)),0)","v":0},"","","",""]
[null,null,null,null,null,null,null,null,null,null,null,null,null,null,null,null,{"$f":"IF(E144>0,IF(K$6=TRUE,FRINGE!$G$38,(SUM(I144:L144)+SUM(O144:P144)+SUM(F144:H144)*8/2080+SUM(M144:N144)*12/(E144*2080))),0)","v":0},{"$f":"IF($E144>0,IF(K$6=TRUE,FRINGE!$L$38,(SUM(I144:L144)+O144)),0)","v":0},"","","",""]
[null,null,null,null,null,null,null,null,null,null,null,null,null,null,null,null,{"$f":"IF(E145>0,IF(K$6=TRUE,FRINGE!$G$38,(SUM(I145:L145)+SUM(O145:P145)+SUM(F145:H145)*8/2080+SUM(M145:N145)*12/(E145*2080))),0)","v":0},{"$f":"IF($E145>0,IF(K$6=TRUE,FRINGE!$L$38,(SUM(I145:L145)+O145)),0)","v":0},"","","",""]
[null,null,null,null,null,null,null,null,null,null,null,null,null,null,null,null,{"$f":"IF(E146>0,IF(K$6=TRUE,FRINGE!$G$38,(SUM(I146:L146)+SUM(O146:P146)+SUM(F146:H146)*8/2080+SUM(M146:N146)*12/(E146*2080))),0)","v":0},{"$f":"IF($E146>0,IF(K$6=TRUE,FRINGE!$L$38,(SUM(I146:L146)+O146)),0)","v":0},"","","",""]
[null,null,null,null,null,null,null,null,null,null,null,null,null,null,null,null,{"$f":"IF(E147>0,IF(K$6=TRUE,FRINGE!$G$38,(SUM(I147:L147)+SUM(O147:P147)+SUM(F147:H147)*8/2080+SUM(M147:N147)*12/(E147*2080))),0)","v":0},{"$f":"IF($E147>0,IF(K$6=TRUE,FRINGE!$L$38,(SUM(I147:L147)+O147)),0)","v":0},"","","",""]
[null,null,null,null,null,null,null,null,null,null,null,null,null,null,null,null,{"$f":"IF(E148>0,IF(K$6=TRUE,FRINGE!$G$38,(SUM(I148:L148)+SUM(O148:P148)+SUM(F148:H148)*8/2080+SUM(M148:N148)*12/(E148*2080))),0)","v":0},{"$f":"IF($E148>0,IF(K$6=TRUE,FRINGE!$L$38,(SUM(I148:L148)+O148)),0)","v":0},"","","",""]
[null,null,null,null,null,null,null,null,null,null,null,null,null,null,null,null,{"$f":"IF(E149>0,IF(K$6=TRUE,FRINGE!$G$38,(SUM(I149:L149)+SUM(O149:P149)+SUM(F149:H149)*8/2080+SUM(M149:N149)*12/(E149*2080))),0)","v":0},{"$f":"IF($E149>0,IF(K$6=TRUE,FRINGE!$L$38,(SUM(I149:L149)+O149)),0)","v":0},"","","",""]
[null,null,null,null,null,null,null,null,null,null,null,null,null,null,null,null,{"$f":"IF(E150>0,IF(K$6=TRUE,FRINGE!$G$38,(SUM(I150:L150)+SUM(O150:P150)+SUM(F150:H150)*8/2080+SUM(M150:N150)*12/(E150*2080))),0)","v":0},{"$f":"IF($E150>0,IF(K$6=TRUE,FRINGE!$L$38,(SUM(I150:L150)+O150)),0)","v":0},"","","",""]
[null,null,null,null,null,null,null,null,null,null,null,null,null,null,null,null,{"$f":"IF(E151>0,IF(K$6=TRUE,FRINGE!$G$38,(SUM(I151:L151)+SUM(O151:P151)+SUM(F151:H151)*8/2080+SUM(M151:N151)*12/(E151*2080))),0)","v":0},{"$f":"IF($E151>0,IF(K$6=TRUE,FRINGE!$L$38,(SUM(I151:L151)+O151)),0)","v":0},"","","",""]
[null,null,null,null,null,null,null,null,null,null,null,null,null,null,null,null,{"$f":"IF(E152>0,IF(K$6=TRUE,FRINGE!$G$38,(SUM(I152:L152)+SUM(O152:P152)+SUM(F152:H152)*8/2080+SUM(M152:N152)*12/(E152*2080))),0)","v":0},{"$f":"IF($E152>0,IF(K$6=TRUE,FRINGE!$L$38,(SUM(I152:L152)+O152)),0)","v":0},"","","",""]
[null,null,null,null,null,null,null,null,null,null,null,null,null,null,null,null,{"$f":"IF(E153>0,IF(K$6=TRUE,FRINGE!$G$38,(SUM(I153:L153)+SUM(O153:P153)+SUM(F153:H153)*8/2080+SUM(M153:N153)*12/(E153*2080))),0)","v":0},{"$f":"IF($E153>0,IF(K$6=TRUE,FRINGE!$L$38,(SUM(I153:L153)+O153)),0)","v":0},"","","",""]
[null,null,null,null,null,null,null,null,null,null,null,null,null,null,null,null,{"$f":"IF(E154>0,IF(K$6=TRUE,FRINGE!$G$38,(SUM(I154:L154)+SUM(O154:P154)+SUM(F154:H154)*8/2080+SUM(M154:N154)*12/(E154*2080))),0)","v":0},{"$f":"IF($E154>0,IF(K$6=TRUE,FRINGE!$L$38,(SUM(I154:L154)+O154)),0)","v":0},"","","",""]
[null,null,null,null,null,null,null,null,null,null,null,null,null,null,null,null,{"$f":"IF(E155>0,IF(K$6=TRUE,FRINGE!$G$38,(SUM(I155:L155)+SUM(O155:P155)+SUM(F155:H155)*8/2080+SUM(M155:N155)*12/(E155*2080))),0)","v":0},{"$f":"IF($E155>0,IF(K$6=TRUE,FRINGE!$L$38,(SUM(I155:L155)+O155)),0)","v":0},"","","",""]
[null,null,null,null,null,null,null,null,null,null,null,null,null,null,null,null,{"$f":"IF(E156>0,IF(K$6=TRUE,FRINGE!$G$38,(SUM(I156:L156)+SUM(O156:P156)+SUM(F156:H156)*8/2080+SUM(M156:N156)*12/(E156*2080))),0)","v":0},{"$f":"IF($E156>0,IF(K$6=TRUE,FRINGE!$L$38,(SUM(I156:L156)+O156)),0)","v":0},"","","",""]
[null,null,null,null,null,null,null,null,null,null,null,null,null,null,null,null,{"$f":"IF(E157>0,IF(K$6=TRUE,FRINGE!$G$38,(SUM(I157:L157)+SUM(O157:P157)+SUM(F157:H157)*8/2080+SUM(M157:N157)*12/(E157*2080))),0)","v":0},{"$f":"IF($E157>0,IF(K$6=TRUE,FRINGE!$L$38,(SUM(I157:L157)+O157)),0)","v":0},"","","",""]
[null,null,null,null,null,null,null,null,null,null,null,null,null,null,null,null,{"$f":"IF(E158>0,IF(K$6=TRUE,FRINGE!$G$38,(SUM(I158:L158)+SUM(O158:P158)+SUM(F158:H158)*8/2080+SUM(M158:N158)*12/(E158*2080))),0)","v":0},{"$f":"IF($E158>0,IF(K$6=TRUE,FRINGE!$L$38,(SUM(I158:L158)+O158)),0)","v":0},"","","",""]
[null,null,null,null,null,null,null,null,null,null,null,null,null,null,null,null,{"$f":"IF(E159>0,IF(K$6=TRUE,FRINGE!$G$38,(SUM(I159:L159)+SUM(O159:P159)+SUM(F159:H159)*8/2080+SUM(M159:N159)*12/(E159*2080))),0)","v":0},{"$f":"IF($E159>0,IF(K$6=TRUE,FRINGE!$L$38,(SUM(I159:L159)+O159)),0)","v":0},"","","",""]
[null,null,null,null,null,null,null,null,null,null,null,null,null,null,null,null,{"$f":"IF(E160>0,IF(K$6=TRUE,FRINGE!$G$38,(SUM(I160:L160)+SUM(O160:P160)+SUM(F160:H160)*8/2080+SUM(M160:N160)*12/(E160*2080))),0)","v":0},{"$f":"IF($E160>0,IF(K$6=TRUE,FRINGE!$L$38,(SUM(I160:L160)+O160)),0)","v":0},"","","",""]
[null,null,null,null,null,null,null,null,null,null,null,null,null,null,null,null,{"$f":"IF(E161>0,IF(K$6=TRUE,FRINGE!$G$38,(SUM(I161:L161)+SUM(O161:P161)+SUM(F161:H161)*8/2080+SUM(M161:N161)*12/(E161*2080))),0)","v":0},{"$f":"IF($E161>0,IF(K$6=TRUE,FRINGE!$L$38,(SUM(I161:L161)+O161)),0)","v":0},"","","",""]
[null,null,null,null,null,null,null,null,null,null,null,null,null,null,null,null,{"$f":"IF(E162>0,IF(K$6=TRUE,FRINGE!$G$38,(SUM(I162:L162)+SUM(O162:P162)+SUM(F162:H162)*8/2080+SUM(M162:N162)*12/(E162*2080))),0)","v":0},{"$f":"IF($E162>0,IF(K$6=TRUE,FRINGE!$L$38,(SUM(I162:L162)+O162)),0)","v":0},"","","",""]
[null,null,null,null,null,null,null,null,null,null,null,null,null,null,null,null,{"$f":"IF(E163>0,IF(K$6=TRUE,FRINGE!$G$38,(SUM(I163:L163)+SUM(O163:P163)+SUM(F163:H163)*8/2080+SUM(M163:N163)*12/(E163*2080))),0)","v":0},{"$f":"IF($E163>0,IF(K$6=TRUE,FRINGE!$L$38,(SUM(I163:L163)+O163)),0)","v":0},"","","",""]
[null,null,null,null,null,null,null,null,null,null,null,null,null,null,null,null,{"$f":"IF(E164>0,IF(K$6=TRUE,FRINGE!$G$38,(SUM(I164:L164)+SUM(O164:P164)+SUM(F164:H164)*8/2080+SUM(M164:N164)*12/(E164*2080))),0)","v":0},{"$f":"IF($E164>0,IF(K$6=TRUE,FRINGE!$L$38,(SUM(I164:L164)+O164)),0)","v":0},"","","",""]
[null,null,null,null,null,null,null,null,null,null,null,null,null,null,null,null,{"$f":"IF(E165>0,IF(K$6=TRUE,FRINGE!$G$38,(SUM(I165:L165)+SUM(O165:P165)+SUM(F165:H165)*8/2080+SUM(M165:N165)*12/(E165*2080))),0)","v":0},{"$f":"IF($E165>0,IF(K$6=TRUE,FRINGE!$L$38,(SUM(I165:L165)+O165)),0)","v":0},"","","",""]
[null,null,null,null,null,null,null,null,null,null,null,null,null,null,null,null,{"$f":"IF(E166>0,IF(K$6=TRUE,FRINGE!$G$38,(SUM(I166:L166)+SUM(O166:P166)+SUM(F166:H166)*8/2080+SUM(M166:N166)*12/(E166*2080))),0)","v":0},{"$f":"IF($E166>0,IF(K$6=TRUE,FRINGE!$L$38,(SUM(I166:L166)+O166)),0)","v":0},"","","",""]
[null,null,null,null,null,null,null,null,null,null,null,null,null,null,null,null,{"$f":"IF(E167>0,IF(K$6=TRUE,FRINGE!$G$38,(SUM(I167:L167)+SUM(O167:P167)+SUM(F167:H167)*8/2080+SUM(M167:N167)*12/(E167*2080))),0)","v":0},{"$f":"IF($E167>0,IF(K$6=TRUE,FRINGE!$L$38,(SUM(I167:L167)+O167)),0)","v":0},"","","",""]
[null,null,null,null,null,null,null,null,null,null,null,null,null,null,null,null,{"$f":"IF(E168>0,IF(K$6=TRUE,FRINGE!$G$38,(SUM(I168:L168)+SUM(O168:P168)+SUM(F168:H168)*8/2080+SUM(M168:N168)*12/(E168*2080))),0)","v":0},{"$f":"IF($E168>0,IF(K$6=TRUE,FRINGE!$L$38,(SUM(I168:L168)+O168)),0)","v":0},"","","",""]
[null,null,null,null,null,null,null,null,null,null,null,null,null,null,null,null,{"$f":"IF(E169>0,IF(K$6=TRUE,FRINGE!$G$38,(SUM(I169:L169)+SUM(O169:P169)+SUM(F169:H169)*8/2080+SUM(M169:N169)*12/(E169*2080))),0)","v":0},{"$f":"IF($E169>0,IF(K$6=TRUE,FRINGE!$L$38,(SUM(I169:L169)+O169)),0)","v":0},"","","",""]
[null,null,null,null,null,null,null,null,null,null,null,null,null,null,null,null,{"$f":"IF(E170>0,IF(K$6=TRUE,FRINGE!$G$38,(SUM(I170:L170)+SUM(O170:P170)+SUM(F170:H170)*8/2080+SUM(M170:N170)*12/(E170*2080))),0)","v":0},{"$f":"IF($E170>0,IF(K$6=TRUE,FRINGE!$L$38,(SUM(I170:L170)+O170)),0)","v":0},"","","",""]
[null,null,null,null,null,null,null,null,null,null,null,null,null,null,null,null,{"$f":"IF(E171>0,IF(K$6=TRUE,FRINGE!$G$38,(SUM(I171:L171)+SUM(O171:P171)+SUM(F171:H171)*8/2080+SUM(M171:N171)*12/(E171*2080))),0)","v":0},{"$f":"IF($E171>0,IF(K$6=TRUE,FRINGE!$L$38,(SUM(I171:L171)+O171)),0)","v":0},"","","",""]
[null,null,null,null,null,null,null,null,null,null,null,null,null,null,null,null,{"$f":"IF(E172>0,IF(K$6=TRUE,FRINGE!$G$38,(SUM(I172:L172)+SUM(O172:P172)+SUM(F172:H172)*8/2080+SUM(M172:N172)*12/(E172*2080))),0)","v":0},{"$f":"IF($E172>0,IF(K$6=TRUE,FRINGE!$L$38,(SUM(I172:L172)+O172)),0)","v":0},"","","",""]
[null,null,null,null,null,null,null,null,null,null,null,null,null,null,null,null,{"$f":"IF(E173>0,IF(K$6=TRUE,FRINGE!$G$38,(SUM(I173:L173)+SUM(O173:P173)+SUM(F173:H173)*8/2080+SUM(M173:N173)*12/(E173*2080))),0)","v":0},{"$f":"IF($E173>0,IF(K$6=TRUE,FRINGE!$L$38,(SUM(I173:L173)+O173)),0)","v":0},"","","",""]
[null,null,null,null,null,null,null,null,null,null,null,null,null,null,null,null,{"$f":"IF(E174>0,IF(K$6=TRUE,FRINGE!$G$38,(SUM(I174:L174)+SUM(O174:P174)+SUM(F174:H174)*8/2080+SUM(M174:N174)*12/(E174*2080))),0)","v":0},{"$f":"IF($E174>0,IF(K$6=TRUE,FRINGE!$L$38,(SUM(I174:L174)+O174)),0)","v":0},"","","",""]
[null,null,null,null,null,null,null,null,null,null,null,null,null,null,null,null,{"$f":"IF(E175>0,IF(K$6=TRUE,FRINGE!$G$38,(SUM(I175:L175)+SUM(O175:P175)+SUM(F175:H175)*8/2080+SUM(M175:N175)*12/(E175*2080))),0)","v":0},{"$f":"IF($E175>0,IF(K$6=TRUE,FRINGE!$L$38,(SUM(I175:L175)+O175)),0)","v":0},"","","",""]
[null,null,null,null,null,null,null,null,null,null,null,null,null,null,null,null,{"$f":"IF(E176>0,IF(K$6=TRUE,FRINGE!$G$38,(SUM(I176:L176)+SUM(O176:P176)+SUM(F176:H176)*8/2080+SUM(M176:N176)*12/(E176*2080))),0)","v":0},{"$f":"IF($E176>0,IF(K$6=TRUE,FRINGE!$L$38,(SUM(I176:L176)+O176)),0)","v":0},"","","",""]
[null,null,null,null,null,null,null,null,null,null,null,null,null,null,null,null,{"$f":"IF(E177>0,IF(K$6=TRUE,FRINGE!$G$38,(SUM(I177:L177)+SUM(O177:P177)+SUM(F177:H177)*8/2080+SUM(M177:N177)*12/(E177*2080))),0)","v":0},{"$f":"IF($E177>0,IF(K$6=TRUE,FRINGE!$L$38,(SUM(I177:L177)+O177)),0)","v":0},{"$f":"IF(E177<=0,\"\",(E177*(1+Q177)))","v":""},{"$f":"IF(E177<=0,\"\",(E177*1.5*(1+R177)))","v":""},"",""]
[null,null,null,null,null,null,null,null,null,null,null,null,null,null,null,null,{"$f":"IF(E178>0,IF(K$6=TRUE,FRINGE!$G$38,(SUM(I178:L178)+SUM(O178:P178)+SUM(F178:H178)*8/2080+SUM(M178:N178)*12/(E178*2080))),0)","v":0},{"$f":"IF($E178>0,IF(K$6=TRUE,FRINGE!$L$38,(SUM(I178:L178)+O178)),0)","v":0},"","","",""]
[null,null,null,null,null,null,null,null,null,null,null,null,null,null,null,null,{"$f":"IF(E179>0,IF(K$6=TRUE,FRINGE!$G$38,(SUM(I179:L179)+SUM(O179:P179)+SUM(F179:H179)*8/2080+SUM(M179:N179)*12/(E179*2080))),0)","v":0},{"$f":"IF($E179>0,IF(K$6=TRUE,FRINGE!$L$38,(SUM(I179:L179)+O179)),0)","v":0},"","","",""]
[null,null,null,null,null,null,null,null,null,null,null,null,null,null,null,null,{"$f":"IF(E180>0,IF(K$6=TRUE,FRINGE!$G$38,(SUM(I180:L180)+SUM(O180:P180)+SUM(F180:H180)*8/2080+SUM(M180:N180)*12/(E180*2080))),0)","v":0},{"$f":"IF($E180>0,IF(K$6=TRUE,FRINGE!$L$38,(SUM(I180:L180)+O180)),0)","v":0},"","","",""]
[null,null,null,null,null,null,null,null,null,null,null,null,null,null,null,null,{"$f":"IF(E181>0,IF(K$6=TRUE,FRINGE!$G$38,(SUM(I181:L181)+SUM(O181:P181)+SUM(F181:H181)*8/2080+SUM(M181:N181)*12/(E181*2080))),0)","v":0},{"$f":"IF($E181>0,IF(K$6=TRUE,FRINGE!$L$38,(SUM(I181:L181)+O181)),0)","v":0},"","","",""]
[null,null,null,null,null,null,null,null,null,null,null,null,null,null,null,null,{"$f":"IF(E182>0,IF(K$6=TRUE,FRINGE!$G$38,(SUM(I182:L182)+SUM(O182:P182)+SUM(F182:H182)*8/2080+SUM(M182:N182)*12/(E182*2080))),0)","v":0},{"$f":"IF($E182>0,IF(K$6=TRUE,FRINGE!$L$38,(SUM(I182:L182)+O182)),0)","v":0},"","","",""]
[null,null,null,null,null,null,null,null,null,null,null,null,null,null,null,null,{"$f":"IF(E183>0,IF(K$6=TRUE,FRINGE!$G$38,(SUM(I183:L183)+SUM(O183:P183)+SUM(F183:H183)*8/2080+SUM(M183:N183)*12/(E183*2080))),0)","v":0},{"$f":"IF($E183>0,IF(K$6=TRUE,FRINGE!$L$38,(SUM(I183:L183)+O183)),0)","v":0},"","","",""]
[null,null,null,null,null,null,null,null,null,null,null,null,null,null,null,null,{"$f":"IF(E184>0,IF(K$6=TRUE,FRINGE!$G$38,(SUM(I184:L184)+SUM(O184:P184)+SUM(F184:H184)*8/2080+SUM(M184:N184)*12/(E184*2080))),0)","v":0},{"$f":"IF($E184>0,IF(K$6=TRUE,FRINGE!$L$38,(SUM(I184:L184)+O184)),0)","v":0},"","","",""]
[null,null,null,null,null,null,null,null,null,null,null,null,null,null,null,null,{"$f":"IF(E185>0,IF(K$6=TRUE,FRINGE!$G$38,(SUM(I185:L185)+SUM(O185:P185)+SUM(F185:H185)*8/2080+SUM(M185:N185)*12/(E185*2080))),0)","v":0},{"$f":"IF($E185>0,IF(K$6=TRUE,FRINGE!$L$38,(SUM(I185:L185)+O185)),0)","v":0},"","","",""]
[null,null,null,null,null,null,null,null,null,null,null,null,null,null,null,null,{"$f":"IF(E186>0,IF(K$6=TRUE,FRINGE!$G$38,(SUM(I186:L186)+SUM(O186:P186)+SUM(F186:H186)*8/2080+SUM(M186:N186)*12/(E186*2080))),0)","v":0},{"$f":"IF($E186>0,IF(K$6=TRUE,FRINGE!$L$38,(SUM(I186:L186)+O186)),0)","v":0},"","","",""]
[null,null,null,null,null,null,null,null,null,null,null,null,null,null,null,null,{"$f":"IF(E187>0,IF(K$6=TRUE,FRINGE!$G$38,(SUM(I187:L187)+SUM(O187:P187)+SUM(F187:H187)*8/2080+SUM(M187:N187)*12/(E187*2080))),0)","v":0},{"$f":"IF($E187>0,IF(K$6=TRUE,FRINGE!$L$38,(SUM(I187:L187)+O187)),0)","v":0},"","","",""]
[null,null,null,null,null,null,null,null,null,null,null,null,null,null,null,null,{"$f":"IF(E188>0,IF(K$6=TRUE,FRINGE!$G$38,(SUM(I188:L188)+SUM(O188:P188)+SUM(F188:H188)*8/2080+SUM(M188:N188)*12/(E188*2080))),0)","v":0},{"$f":"IF($E188>0,IF(K$6=TRUE,FRINGE!$L$38,(SUM(I188:L188)+O188)),0)","v":0},"","","",""]
[null,null,null,null,null,null,null,null,null,null,null,null,null,null,null,null,{"$f":"IF(E189>0,IF(K$6=TRUE,FRINGE!$G$38,(SUM(I189:L189)+SUM(O189:P189)+SUM(F189:H189)*8/2080+SUM(M189:N189)*12/(E189*2080))),0)","v":0},{"$f":"IF($E189>0,IF(K$6=TRUE,FRINGE!$L$38,(SUM(I189:L189)+O189)),0)","v":0},"","","",""]
[null,null,null,null,null,null,null,null,null,null,null,null,null,null,null,null,{"$f":"IF(E190>0,IF(K$6=TRUE,FRINGE!$G$38,(SUM(I190:L190)+SUM(O190:P190)+SUM(F190:H190)*8/2080+SUM(M190:N190)*12/(E190*2080))),0)","v":0},{"$f":"IF($E190>0,IF(K$6=TRUE,FRINGE!$L$38,(SUM(I190:L190)+O190)),0)","v":0},"","","",""]
[null,null,null,null,null,null,null,null,null,null,null,null,null,null,null,null,{"$f":"IF(E191>0,IF(K$6=TRUE,FRINGE!$G$38,(SUM(I191:L191)+SUM(O191:P191)+SUM(F191:H191)*8/2080+SUM(M191:N191)*12/(E191*2080))),0)","v":0},{"$f":"IF($E191>0,IF(K$6=TRUE,FRINGE!$L$38,(SUM(I191:L191)+O191)),0)","v":0},"","","",""]
[null,null,null,null,null,null,null,null,null,null,null,null,null,null,null,null,{"$f":"IF(E192>0,IF(K$6=TRUE,FRINGE!$G$38,(SUM(I192:L192)+SUM(O192:P192)+SUM(F192:H192)*8/2080+SUM(M192:N192)*12/(E192*2080))),0)","v":0},{"$f":"IF($E192>0,IF(K$6=TRUE,FRINGE!$L$38,(SUM(I192:L192)+O192)),0)","v":0},"","","",""]
[null,null,null,null,null,null,null,null,null,null,null,null,null,null,null,null,{"$f":"IF(E193>0,IF(K$6=TRUE,FRINGE!$G$38,(SUM(I193:L193)+SUM(O193:P193)+SUM(F193:H193)*8/2080+SUM(M193:N193)*12/(E193*2080))),0)","v":0},{"$f":"IF($E193>0,IF(K$6=TRUE,FRINGE!$L$38,(SUM(I193:L193)+O193)),0)","v":0},"","","",""]
[null,null,null,null,null,null,null,null,null,null,null,null,null,null,null,null,{"$f":"IF(E194>0,IF(K$6=TRUE,FRINGE!$G$38,(SUM(I194:L194)+SUM(O194:P194)+SUM(F194:H194)*8/2080+SUM(M194:N194)*12/(E194*2080))),0)","v":0},{"$f":"IF($E194>0,IF(K$6=TRUE,FRINGE!$L$38,(SUM(I194:L194)+O194)),0)","v":0},"","","",""]
[null,null,null,null,null,null,null,null,null,null,null,null,null,null,null,null,{"$f":"IF(E195>0,IF(K$2=TRUE,FRINGE!$G$38,(SUM(J195:L195)+SUM(O195:P195)+SUM(F195:H195)*8/2080+SUM(M195:N195)*12/(E195*2080))),0)","v":0},{"$f":"IF($E195>0,IF(K$6=TRUE,FRINGE!$L$38,(SUM(I195:L195)+O195)),0)","v":0},"","","",""]
[null,null,null,null,null,null,null,null,null,null,null,null,null,null,null,null,{"$f":"IF(E196>0,IF(K$2=TRUE,FRINGE!$G$38,(SUM(J196:L196)+SUM(O196:P196)+SUM(F196:H196)*8/2080+SUM(M196:N196)*12/(E196*2080))),0)","v":0},{"$f":"IF($E196>0,IF(K$6=TRUE,FRINGE!$L$38,(SUM(I196:L196)+O196)),0)","v":0},"","","",""]
[null,null,null,null,null,null,null,null,null,null,null,null,null,null,null,null,{"$f":"IF(E197>0,IF(K$2=TRUE,FRINGE!$G$38,(SUM(J197:L197)+SUM(O197:P197)+SUM(F197:H197)*8/2080+SUM(M197:N197)*12/(E197*2080))),0)","v":0},{"$f":"IF($E197>0,IF(K$6=TRUE,FRINGE!$L$38,(SUM(I197:L197)+O197)),0)","v":0},"","","",""]
[null,null,null,null,null,null,null,null,null,null,null,null,null,null,null,null,{"$f":"IF(E198>0,IF(K$2=TRUE,FRINGE!$G$38,(SUM(J198:L198)+SUM(O198:P198)+SUM(F198:H198)*8/2080+SUM(M198:N198)*12/(E198*2080))),0)","v":0},{"$f":"IF($E198>0,IF(K$6=TRUE,FRINGE!$L$38,(SUM(I198:L198)+O198)),0)","v":0},"","","",""]
[null,null,null,null,null,null,null,null,null,null,null,null,null,null,null,null,{"$f":"IF(E199>0,IF(K$2=TRUE,FRINGE!$G$38,(SUM(J199:L199)+SUM(O199:P199)+SUM(F199:H199)*8/2080+SUM(M199:N199)*12/(E199*2080))),0)","v":0},{"$f":"IF($E199>0,IF(K$6=TRUE,FRINGE!$L$38,(SUM(I199:L199)+O199)),0)","v":0},"","","",""]
[null,null,null,null,null,null,null,null,null,null,null,null,null,null,null,null,{"$f":"IF(E200>0,IF(K$2=TRUE,FRINGE!$G$38,(SUM(J200:L200)+SUM(O200:P200)+SUM(F200:H200)*8/2080+SUM(M200:N200)*12/(E200*2080))),0)","v":0},{"$f":"IF($E200>0,IF(K$6=TRUE,FRINGE!$L$38,(SUM(I200:L200)+O200)),0)","v":0},"","","",""]
[null,null,null,null,null,null,null,null,null,null,null,null,null,null,null,null,{"$f":"IF(E201>0,IF(K$2=TRUE,FRINGE!$G$38,(SUM(J201:L201)+SUM(O201:P201)+SUM(F201:H201)*8/2080+SUM(M201:N201)*12/(E201*2080))),0)","v":0},{"$f":"IF($E201>0,IF(K$6=TRUE,FRINGE!$L$38,(SUM(I201:L201)+O201)),0)","v":0},"","",{"$f":"IF(E201<=0,\"\",(E201*2*(1+R201)))","v":""},{"$f":"IF(E201<=0,\"\",(E201/2*(1+Q201)))","v":""}]
[null,null,null,null,null,null,null,null,null,null,null,null,null,null,null,null,{"$f":"IF(E202>0,IF(K$2=TRUE,FRINGE!$G$38,(SUM(J202:L202)+SUM(O202:P202)+SUM(F202:H202)*8/2080+SUM(M202:N202)*12/(E202*2080))),0)","v":0},{"$f":"IF($E202>0,IF(K$6=TRUE,FRINGE!$L$38,(SUM(I202:L202)+O202)),0)","v":0},"","","",""]
[null,null,null,null,null,null,null,null,null,null,null,null,null,null,null,null,{"$f":"IF(E203>0,IF(K$2=TRUE,FRINGE!$G$38,(SUM(J203:L203)+SUM(O203:P203)+SUM(F203:H203)*8/2080+SUM(M203:N203)*12/(E203*2080))),0)","v":0},{"$f":"IF($E203>0,IF(K$6=TRUE,FRINGE!$L$38,(SUM(I203:L203)+O203)),0)","v":0},"","","",""]
[null,null,null,null,null,null,null,null,null,null,null,null,null,null,null,null,{"$f":"IF(E204>0,IF(K$2=TRUE,FRINGE!$G$38,(SUM(J204:L204)+SUM(O204:P204)+SUM(F204:H204)*8/2080+SUM(M204:N204)*12/(E204*2080))),0)","v":0},{"$f":"IF($E204>0,IF(K$6=TRUE,FRINGE!$L$38,(SUM(I204:L204)+O204)),0)","v":0},"","","",""]
[null,null,null,null,null,null,null,null,null,null,null,null,null,null,null,null,{"$f":"IF(E205>0,IF(K$2=TRUE,FRINGE!$G$38,(SUM(J205:L205)+SUM(O205:P205)+SUM(F205:H205)*8/2080+SUM(M205:N205)*12/(E205*2080))),0)","v":0},{"$f":"IF($E205>0,IF(K$6=TRUE,FRINGE!$L$38,(SUM(I205:L205)+O205)),0)","v":0},"","","",""]
[null,null,null,null,null,null,null,null,null,null,null,null,null,null,null,null,{"$f":"IF(E206>0,IF(K$2=TRUE,FRINGE!$G$38,(SUM(J206:L206)+SUM(O206:P206)+SUM(F206:H206)*8/2080+SUM(M206:N206)*12/(E206*2080))),0)","v":0},{"$f":"IF($E206>0,IF(K$6=TRUE,FRINGE!$L$38,(SUM(I206:L206)+O206)),0)","v":0},"","","",""]
[null,null,null,null,null,null,null,null,null,null,null,null,null,null,null,null,{"$f":"IF(E207>0,IF(K$2=TRUE,FRINGE!$G$38,(SUM(J207:L207)+SUM(O207:P207)+SUM(F207:H207)*8/2080+SUM(M207:N207)*12/(E207*2080))),0)","v":0},{"$f":"IF($E207>0,IF(K$6=TRUE,FRINGE!$L$38,(SUM(I207:L207)+O207)),0)","v":0},"","","",""]
[null,null,null,null,null,null,null,null,null,null,null,null,null,null,null,null,{"$f":"IF(E208>0,IF(K$2=TRUE,FRINGE!$G$38,(SUM(J208:L208)+SUM(O208:P208)+SUM(F208:H208)*8/2080+SUM(M208:N208)*12/(E208*2080))),0)","v":0},{"$f":"IF($E208>0,IF(K$6=TRUE,FRINGE!$L$38,(SUM(I208:L208)+O208)),0)","v":0},"","","",""]
[null,null,null,null,null,null,null,null,null,null,null,null,null,null,null,null,{"$f":"IF(E209>0,IF(K$2=TRUE,FRINGE!$G$38,(SUM(J209:L209)+SUM(O209:P209)+SUM(F209:H209)*8/2080+SUM(M209:N209)*12/(E209*2080))),0)","v":0},{"$f":"IF($E209>0,IF(K$6=TRUE,FRINGE!$L$38,(SUM(I209:L209)+O209)),0)","v":0},"","","",""]
[null,null,null,null,null,null,null,null,null,null,null,null,null,null,null,null,{"$f":"IF(E210>0,IF(K$5=TRUE,FRINGE!$G$38,(SUM(I210:L210)+SUM(O210:P210)+SUM(F210:H210)*8/2080+SUM(M210:N210)*12/(E210*2080))),0)","v":0},{"$f":"IF($E210>0,IF(K$6=TRUE,FRINGE!$L$38,(SUM(I210:L210)+O210)),0)","v":0},"","","",""]
[null,null,null,null,null,null,null,null,null,null,null,null,null,null,null,null,{"$f":"IF(E211>0,IF(K$2=TRUE,FRINGE!$G$38,(SUM(I211:L211)+SUM(O211:P211)+SUM(F211:H211)*8/2080+SUM(M211:N211)*12/(E211*2080))),0)","v":0},{"$f":"IF($E211>0,IF(K$6=TRUE,FRINGE!$L$38,(SUM(I211:L211)+O211)),0)","v":0},"","","",""]
[null,null,null,null,null,null,null,null,null,null,null,null,null,null,null,null,{"$f":"IF(E212>0,IF(K$2=TRUE,FRINGE!$G$38,(SUM(I212:L212)+SUM(O212:P212)+SUM(F212:H212)*8/2080+SUM(M212:N212)*12/(E212*2080))),0)","v":0},{"$f":"IF($E212>0,IF(K$6=TRUE,FRINGE!$L$38,(SUM(I212:L212)+O212)),0)","v":0},"","","",""]
[null,null,null,null,null,null,null,null,null,null,null,null,null,null,null,null,{"$f":"IF(E213>0,IF(K$2=TRUE,FRINGE!$G$38,(SUM(I213:L213)+SUM(O213:P213)+SUM(F213:H213)*8/2080+SUM(M213:N213)*12/(E213*2080))),0)","v":0},{"$f":"IF($E213>0,IF(K$6=TRUE,FRINGE!$L$38,(SUM(I213:L213)+O213)),0)","v":0},"","","",""]
[null,null,null,null,null,null,null,null,null,null,null,null,null,null,null,null,{"$f":"IF(E214>0,IF(K$2=TRUE,FRINGE!$G$38,(SUM(J214:L214)+SUM(O214:P214)+SUM(F214:H214)*8/2080+SUM(M214:N214)*12/(E214*2080))),0)","v":0},{"$f":"IF($E214>0,IF(K$6=TRUE,FRINGE!$L$38,(SUM(I214:L214)+O214)),0)","v":0},"","","",""]
[null,null,null,null,null,null,null,null,null,null,null,null,null,null,null,null,{"$f":"IF(E215>0,IF(K$2=TRUE,FRINGE!$G$38,(SUM(J215:L215)+SUM(O215:P215)+SUM(F215:H215)*8/2080+SUM(M215:N215)*12/(E215*2080))),0)","v":0},{"$f":"IF($E215>0,IF(K$6=TRUE,FRINGE!$L$38,(SUM(I215:L215)+O215)),0)","v":0},"","","",""]
[null,null,null,null,null,null,null,null,null,null,null,null,null,null,null,null,{"$f":"IF(E216>0,IF(K$2=TRUE,FRINGE!$G$38,(SUM(J216:L216)+SUM(O216:P216)+SUM(F216:H216)*8/2080+SUM(M216:N216)*12/(E216*2080))),0)","v":0},{"$f":"IF($E216>0,IF(K$6=TRUE,FRINGE!$L$38,(SUM(I216:L216)+O216)),0)","v":0},"","","",""]
[null,null,null,null,null,null,null,null,null,null,null,null,null,null,null,null,{"$f":"IF(E217>0,IF(K$2=TRUE,FRINGE!$G$38,(SUM(J217:L217)+SUM(O217:P217)+SUM(F217:H217)*8/2080+SUM(M217:N217)*12/(E217*2080))),0)","v":0},{"$f":"IF($E217>0,IF(K$6=TRUE,FRINGE!$L$38,(SUM(I217:L217)+O217)),0)","v":0},"","","",""]
[null,null,null,null,null,null,null,null,null,null,null,null,null,null,null,null,{"$f":"IF(E218>0,IF(K$2=TRUE,FRINGE!$G$38,(SUM(J218:L218)+SUM(O218:P218)+SUM(F218:H218)*8/2080+SUM(M218:N218)*12/(E218*2080))),0)","v":0},{"$f":"IF($E218>0,IF(K$6=TRUE,FRINGE!$L$38,(SUM(I218:L218)+O218)),0)","v":0},"","","",""]
[null,null,null,null,null,null,null,null,null,null,null,null,null,null,null,null,{"$f":"IF(E219>0,IF(K$2=TRUE,FRINGE!$G$38,(SUM(J219:L219)+SUM(O219:P219)+SUM(F219:H219)*8/2080+SUM(M219:N219)*12/(E219*2080))),0)","v":0},{"$f":"IF($E219>0,IF(K$6=TRUE,FRINGE!$L$38,(SUM(I219:L219)+O219)),0)","v":0},"","","",""]
[null,null,null,null,null,null,null,null,null,null,null,null,null,null,null,null,{"$f":"IF(E220>0,IF(K$2=TRUE,FRINGE!$G$38,(SUM(J220:L220)+SUM(O220:P220)+SUM(F220:H220)*8/2080+SUM(M220:N220)*12/(E220*2080))),0)","v":0},{"$f":"IF($E220>0,IF(K$6=TRUE,FRINGE!$L$38,(SUM(I220:L220)+O220)),0)","v":0},"","","",""]
[null,null,null,null,null,null,null,null,null,null,null,null,null,null,null,null,{"$f":"IF(E221>0,IF(K$2=TRUE,FRINGE!$G$38,(SUM(J221:L221)+SUM(O221:P221)+SUM(F221:H221)*8/2080+SUM(M221:N221)*12/(E221*2080))),0)","v":0},{"$f":"IF($E221>0,IF(K$6=TRUE,FRINGE!$L$38,(SUM(I221:L221)+O221)),0)","v":0},"","","",""]
[null,null,null,null,null,null,null,null,null,null,null,null,null,null,null,null,{"$f":"IF(E222>0,IF(K$2=TRUE,FRINGE!$G$38,(SUM(J222:L222)+SUM(O222:P222)+SUM(F222:H222)*8/2080+SUM(M222:N222)*12/(E222*2080))),0)","v":0},{"$f":"IF($E222>0,IF(K$6=TRUE,FRINGE!$L$38,(SUM(I222:L222)+O222)),0)","v":0},"","","",""]
[null,null,null,null,null,null,null,null,null,null,null,null,null,null,null,null,{"$f":"IF(E223>0,IF(K$2=TRUE,FRINGE!$G$38,(SUM(J223:L223)+SUM(O223:P223)+SUM(F223:H223)*8/2080+SUM(M223:N223)*12/(E223*2080))),0)","v":0},{"$f":"IF($E223>0,IF(K$6=TRUE,FRINGE!$L$38,(SUM(I223:L223)+O223)),0)","v":0},"","","",""]
[null,null,null,null,null,null,null,null,null,null,null,null,null,null,null,null,{"$f":"IF(E224>0,IF(K$2=TRUE,FRINGE!$G$38,(SUM(J224:L224)+SUM(O224:P224)+SUM(F224:H224)*8/2080+SUM(M224:N224)*12/(E224*2080))),0)","v":0},{"$f":"IF($E224>0,IF(K$6=TRUE,FRINGE!$L$38,(SUM(I224:L224)+O224)),0)","v":0},"","","",""]
[null,null,null,null,null,null,null,null,null,null,null,null,null,null,null,null,{"$f":"IF(E225>0,IF(K$2=TRUE,FRINGE!$G$38,(SUM(J225:L225)+SUM(O225:P225)+SUM(F225:H225)*8/2080+SUM(M225:N225)*12/(E225*2080))),0)","v":0},{"$f":"IF($E225>0,IF(K$6=TRUE,FRINGE!$L$38,(SUM(I225:L225)+O225)),0)","v":0},"","","",""]
[null,null,null,null,null,null,null,null,null,null,null,null,null,null,null,null,{"$f":"IF(E226>0,IF(K$2=TRUE,FRINGE!$G$38,(SUM(J226:L226)+SUM(O226:P226)+SUM(F226:H226)*8/2080+SUM(M226:N226)*12/(E226*2080))),0)","v":0},{"$f":"IF($E226>0,IF(K$6=TRUE,FRINGE!$L$38,(SUM(I226:L226)+O226)),0)","v":0},"","","",""]
[null,null,null,null,null,null,null,null,null,null,null,null,null,null,null,null,{"$f":"IF(E227>0,IF(K$2=TRUE,FRINGE!$G$38,(SUM(J227:L227)+SUM(O227:P227)+SUM(F227:H227)*8/2080+SUM(M227:N227)*12/(E227*2080))),0)","v":0},{"$f":"IF($E227>0,IF(K$6=TRUE,FRINGE!$L$38,(SUM(I227:L227)+O227)),0)","v":0},"","","",""]
[null,null,null,null,null,null,null,null,null,null,null,null,null,null,null,null,{"$f":"IF(E228>0,IF(K$2=TRUE,FRINGE!$G$38,(SUM(J228:L228)+SUM(O228:P228)+SUM(F228:H228)*8/2080+SUM(M228:N228)*12/(E228*2080))),0)","v":0},{"$f":"IF($E228>0,IF(K$6=TRUE,FRINGE!$L$38,(SUM(I228:L228)+O228)),0)","v":0},"","","",""]
[null,null,null,null,null,null,null,null,null,null,null,null,null,null,null,null,{"$f":"IF(E229>0,IF(K$2=TRUE,FRINGE!$G$38,(SUM(J229:L229)+SUM(O229:P229)+SUM(F229:H229)*8/2080+SUM(M229:N229)*12/(E229*2080))),0)","v":0},{"$f":"IF($E229>0,IF(K$6=TRUE,FRINGE!$L$38,(SUM(I229:L229)+O229)),0)","v":0},"","","",""]
[null,null,null,null,null,null,null,null,null,null,null,null,null,null,null,null,{"$f":"IF(E230>0,IF(K$5=TRUE,FRINGE!$G$38,(SUM(I230:L230)+SUM(O230:P230)+SUM(F230:H230)*8/2080+SUM(M230:N230)*12/(E230*2080))),0)","v":0},{"$f":"IF($E230>0,IF(K$6=TRUE,FRINGE!$L$38,(SUM(I230:L230)+O230)),0)","v":0},"","","",""]
[null,null,null,null,null,null,null,null,null,null,null,null,null,null,null,null,{"$f":"IF(E231>0,IF(K$2=TRUE,FRINGE!$G$38,(SUM(I231:L231)+SUM(O231:P231)+SUM(F231:H231)*8/2080+SUM(M231:N231)*12/(E231*2080))),0)","v":0},{"$f":"IF($E231>0,IF(K$6=TRUE,FRINGE!$L$38,(SUM(I231:L231)+O231)),0)","v":0},"","","",""]
[null,null,null,null,null,null,null,null,null,null,null,null,null,null,null,null,{"$f":"IF(E232>0,IF(K$2=TRUE,FRINGE!$G$38,(SUM(I232:L232)+SUM(O232:P232)+SUM(F232:H232)*8/2080+SUM(M232:N232)*12/(E232*2080))),0)","v":0},{"$f":"IF($E232>0,IF(K$6=TRUE,FRINGE!$L$38,(SUM(I232:L232)+O232)),0)","v":0},"","","",""]
[null,null,null,null,null,null,null,null,null,null,null,null,null,null,null,null,{"$f":"IF(E233>0,IF(K$2=TRUE,FRINGE!$G$38,(SUM(I233:L233)+SUM(O233:P233)+SUM(F233:H233)*8/2080+SUM(M233:N233)*12/(E233*2080))),0)","v":0},{"$f":"IF($E233>0,IF(K$6=TRUE,FRINGE!$L$38,(SUM(I233:L233)+O233)),0)","v":0},"","","",""]
[null,null,null,null,null,null,null,null,null,null,null,null,null,null,null,null,{"$f":"IF(E234>0,IF(K$2=TRUE,FRINGE!$G$38,(SUM(J234:L234)+SUM(O234:P234)+SUM(F234:H234)*8/2080+SUM(M234:N234)*12/(E234*2080))),0)","v":0},{"$f":"IF($E234>0,IF(K$6=TRUE,FRINGE!$L$38,(SUM(I234:L234)+O234)),0)","v":0},"","","",""]
[null,null,null,null,null,null,null,null,null,null,null,null,null,null,null,null,{"$f":"IF(E235>0,IF(K$2=TRUE,FRINGE!$G$38,(SUM(J235:L235)+SUM(O235:P235)+SUM(F235:H235)*8/2080+SUM(M235:N235)*12/(E235*2080))),0)","v":0},{"$f":"IF($E235>0,IF(K$6=TRUE,FRINGE!$L$38,(SUM(I235:L235)+O235)),0)","v":0},"","","",""]
[null,null,null,null,null,null,null,null,null,null,null,null,null,null,null,null,{"$f":"IF(E236>0,IF(K$2=TRUE,FRINGE!$G$38,(SUM(J236:L236)+SUM(O236:P236)+SUM(F236:H236)*8/2080+SUM(M236:N236)*12/(E236*2080))),0)","v":0},{"$f":"IF($E236>0,IF(K$6=TRUE,FRINGE!$L$38,(SUM(I236:L236)+O236)),0)","v":0},"","","",""]
[null,null,null,null,null,null,null,null,null,null,null,null,null,null,null,null,{"$f":"IF(E237>0,IF(K$2=TRUE,FRINGE!$G$38,(SUM(J237:L237)+SUM(O237:P237)+SUM(F237:H237)*8/2080+SUM(M237:N237)*12/(E237*2080))),0)","v":0},{"$f":"IF($E237>0,IF(K$6=TRUE,FRINGE!$L$38,(SUM(I237:L237)+O237)),0)","v":0},"","","",""]
[null,null,null,null,null,null,null,null,null,null,null,null,null,null,null,null,{"$f":"IF(E238>0,IF(K$2=TRUE,FRINGE!$G$38,(SUM(J238:L238)+SUM(O238:P238)+SUM(F238:H238)*8/2080+SUM(M238:N238)*12/(E238*2080))),0)","v":0},{"$f":"IF($E238>0,IF(K$6=TRUE,FRINGE!$L$38,(SUM(I238:L238)+O238)),0)","v":0},"","","",""]
[null,null,null,null,null,null,null,null,null,null,null,null,null,null,null,null,{"$f":"IF(E239>0,IF(K$2=TRUE,FRINGE!$G$38,(SUM(J239:L239)+SUM(O239:P239)+SUM(F239:H239)*8/2080+SUM(M239:N239)*12/(E239*2080))),0)","v":0},{"$f":"IF($E239>0,IF(K$6=TRUE,FRINGE!$L$38,(SUM(I239:L239)+O239)),0)","v":0},"","","",""]
[null,null,null,null,null,null,null,null,null,null,null,null,null,null,null,null,{"$f":"IF(E240>0,IF(K$2=TRUE,FRINGE!$G$38,(SUM(J240:L240)+SUM(O240:P240)+SUM(F240:H240)*8/2080+SUM(M240:N240)*12/(E240*2080))),0)","v":0},{"$f":"IF($E240>0,IF(K$6=TRUE,FRINGE!$L$38,(SUM(I240:L240)+O240)),0)","v":0},"","","",""]
[null,null,null,null,null,null,null,null,null,null,null,null,null,null,null,null,{"$f":"IF(E241>0,IF(K$2=TRUE,FRINGE!$G$38,(SUM(J241:L241)+SUM(O241:P241)+SUM(F241:H241)*8/2080+SUM(M241:N241)*12/(E241*2080))),0)","v":0},{"$f":"IF($E241>0,IF(K$6=TRUE,FRINGE!$L$38,(SUM(I241:L241)+O241)),0)","v":0},{"$f":"IF(E241<=0,\"\",(E241*(1+Q241)))","v":""},{"$f":"IF(E241<=0,\"\",(E241*1.5*(1+R241)))","v":""},"",""]
[null,null,null,null,null,null,null,null,null,null,null,null,null,null,null,null,{"$f":"IF(E242>0,IF(K$2=TRUE,FRINGE!$G$38,(SUM(J242:L242)+SUM(O242:P242)+SUM(F242:H242)*8/2080+SUM(M242:N242)*12/(E242*2080))),0)","v":0},{"$f":"IF($E242>0,IF(K$6=TRUE,FRINGE!$L$38,(SUM(I242:L242)+O242)),0)","v":0},"","","",""]
[null,null,null,null,null,null,null,null,null,null,null,null,null,null,null,null,{"$f":"IF(E243>0,IF(K$2=TRUE,FRINGE!$G$38,(SUM(J243:L243)+SUM(O243:P243)+SUM(F243:H243)*8/2080+SUM(M243:N243)*12/(E243*2080))),0)","v":0},{"$f":"IF($E243>0,IF(K$6=TRUE,FRINGE!$L$38,(SUM(I243:L243)+O243)),0)","v":0},"","","",""]
[null,null,null,null,null,null,null,null,null,null,null,null,null,null,null,null,{"$f":"IF(E244>0,IF(K$2=TRUE,FRINGE!$G$38,(SUM(J244:L244)+SUM(O244:P244)+SUM(F244:H244)*8/2080+SUM(M244:N244)*12/(E244*2080))),0)","v":0},{"$f":"IF($E244>0,IF(K$6=TRUE,FRINGE!$L$38,(SUM(I244:L244)+O244)),0)","v":0},"","","",""]
[null,null,null,null,null,null,null,null,null,null,null,null,null,null,null,null,{"$f":"IF(E245>0,IF(K$2=TRUE,FRINGE!$G$38,(SUM(J245:L245)+SUM(O245:P245)+SUM(F245:H245)*8/2080+SUM(M245:N245)*12/(E245*2080))),0)","v":0},{"$f":"IF($E245>0,IF(K$6=TRUE,FRINGE!$L$38,(SUM(I245:L245)+O245)),0)","v":0},"","","",""]
[null,null,null,null,null,null,null,null,null,null,null,null,null,null,null,null,{"$f":"IF(E246>0,IF(K$2=TRUE,FRINGE!$G$38,(SUM(J246:L246)+SUM(O246:P246)+SUM(F246:H246)*8/2080+SUM(M246:N246)*12/(E246*2080))),0)","v":0},{"$f":"IF($E246>0,IF(K$6=TRUE,FRINGE!$L$38,(SUM(I246:L246)+O246)),0)","v":0},"","","",""]
[null,null,null,null,null,null,null,null,null,null,null,null,null,null,null,null,{"$f":"IF(E247>0,IF(K$2=TRUE,FRINGE!$G$38,(SUM(J247:L247)+SUM(O247:P247)+SUM(F247:H247)*8/2080+SUM(M247:N247)*12/(E247*2080))),0)","v":0},{"$f":"IF($E247>0,IF(K$6=TRUE,FRINGE!$L$38,(SUM(I247:L247)+O247)),0)","v":0},"","","",""]
[null,null,null,null,null,null,null,null,null,null,null,null,null,null,null,null,{"$f":"IF(E248>0,IF(K$2=TRUE,FRINGE!$G$38,(SUM(J248:L248)+SUM(O248:P248)+SUM(F248:H248)*8/2080+SUM(M248:N248)*12/(E248*2080))),0)","v":0},{"$f":"IF($E248>0,IF(K$6=TRUE,FRINGE!$L$38,(SUM(I248:L248)+O248)),0)","v":0},"","","",""]
[null,null,null,null,null,null,null,null,null,null,null,null,null,null,null,null,{"$f":"IF(E249>0,IF(K$2=TRUE,FRINGE!$G$38,(SUM(J249:L249)+SUM(O249:P249)+SUM(F249:H249)*8/2080+SUM(M249:N249)*12/(E249*2080))),0)","v":0},{"$f":"IF($E249>0,IF(K$6=TRUE,FRINGE!$L$38,(SUM(I249:L249)+O249)),0)","v":0},"","","",""]
[null,null,null,null,null,null,null,null,null,null,null,null,null,null,null,null,{"$f":"IF(E250>0,IF(K$5=TRUE,FRINGE!$G$38,(SUM(I250:L250)+SUM(O250:P250)+SUM(F250:H250)*8/2080+SUM(M250:N250)*12/(E250*2080))),0)","v":0},{"$f":"IF($E250>0,IF(K$6=TRUE,FRINGE!$L$38,(SUM(I250:L250)+O250)),0)","v":0},{"$f":"IF(E250<=0,\"\",(E250*(1+Q250)))","v":""},{"$f":"IF(E250<=0,\"\",(E250*1.5*(1+R250)))","v":""},"",""]
[null,null,null,null,null,null,null,null,null,null,null,null,null,null,null,null,{"$f":"IF(E251>0,IF(K$2=TRUE,FRINGE!$G$38,(SUM(I251:L251)+SUM(O251:P251)+SUM(F251:H251)*8/2080+SUM(M251:N251)*12/(E251*2080))),0)","v":0},{"$f":"IF($E251>0,IF(K$6=TRUE,FRINGE!$L$38,(SUM(I251:L251)+O251)),0)","v":0},{"$f":"IF(E251<=0,\"\",(E251*(1+Q251)))","v":""},{"$f":"IF(E251<=0,\"\",(E251*1.5*(1+R251)))","v":""},"",""]
[null,null,null,null,null,null,null,null,null,null,null,null,null,null,null,null,{"$f":"IF(E252>0,IF(K$2=TRUE,FRINGE!$G$38,(SUM(I252:L252)+SUM(O252:P252)+SUM(F252:H252)*8/2080+SUM(M252:N252)*12/(E252*2080))),0)","v":0},{"$f":"IF($E252>0,IF(K$6=TRUE,FRINGE!$L$38,(SUM(I252:L252)+O252)),0)","v":0},"","","",""]
[null,null,null,null,null,null,null,null,null,null,null,null,null,null,null,null,{"$f":"IF(E253>0,IF(K$2=TRUE,FRINGE!$G$38,(SUM(I253:L253)+SUM(O253:P253)+SUM(F253:H253)*8/2080+SUM(M253:N253)*12/(E253*2080))),0)","v":0},{"$f":"IF($E253>0,IF(K$6=TRUE,FRINGE!$L$38,(SUM(I253:L253)+O253)),0)","v":0},"","","",""]
[null,null,null,null,null,null,null,null,null,null,null,null,null,null,null,null,{"$f":"IF(E254>0,IF(K$2=TRUE,FRINGE!$G$38,(SUM(J254:L254)+SUM(O254:P254)+SUM(F254:H254)*8/2080+SUM(M254:N254)*12/(E254*2080))),0)","v":0},{"$f":"IF($E254>0,IF(K$6=TRUE,FRINGE!$L$38,(SUM(I254:L254)+O254)),0)","v":0},"","","",""]
[null,null,null,null,null,null,null,null,null,null,null,null,null,null,null,null,{"$f":"IF(E255>0,IF(K$2=TRUE,FRINGE!$G$38,(SUM(J255:L255)+SUM(O255:P255)+SUM(F255:H255)*8/2080+SUM(M255:N255)*12/(E255*2080))),0)","v":0},{"$f":"IF($E255>0,IF(K$6=TRUE,FRINGE!$L$38,(SUM(I255:L255)+O255)),0)","v":0},"","","",""]
[null,null,null,null,null,null,null,null,null,null,null,null,null,null,null,null,{"$f":"IF(E256>0,IF(K$2=TRUE,FRINGE!$G$38,(SUM(J256:L256)+SUM(O256:P256)+SUM(F256:H256)*8/2080+SUM(M256:N256)*12/(E256*2080))),0)","v":0},{"$f":"IF($E256>0,IF(K$6=TRUE,FRINGE!$L$38,(SUM(I256:L256)+O256)),0)","v":0},"","","",""]
[null,null,null,null,null,null,null,null,null,null,null,null,null,null,null,null,{"$f":"IF(E257>0,IF(K$2=TRUE,FRINGE!$G$38,(SUM(J257:L257)+SUM(O257:P257)+SUM(F257:H257)*8/2080+SUM(M257:N257)*12/(E257*2080))),0)","v":0},{"$f":"IF($E257>0,IF(K$6=TRUE,FRINGE!$L$38,(SUM(I257:L257)+O257)),0)","v":0},"","","",""]
[null,null,null,null,null,null,null,null,null,null,null,null,null,null,null,null,{"$f":"IF(E258>0,IF(K$2=TRUE,FRINGE!$G$38,(SUM(J258:L258)+SUM(O258:P258)+SUM(F258:H258)*8/2080+SUM(M258:N258)*12/(E258*2080))),0)","v":0},{"$f":"IF($E258>0,IF(K$6=TRUE,FRINGE!$L$38,(SUM(I258:L258)+O258)),0)","v":0},"","","",""]
[null,null,null,null,null,null,null,null,null,null,null,null,null,null,null,null,{"$f":"IF(E259>0,IF(K$2=TRUE,FRINGE!$G$38,(SUM(J259:L259)+SUM(O259:P259)+SUM(F259:H259)*8/2080+SUM(M259:N259)*12/(E259*2080))),0)","v":0},{"$f":"IF($E259>0,IF(K$6=TRUE,FRINGE!$L$38,(SUM(I259:L259)+O259)),0)","v":0},"","","",""]
[null,null,null,null,null,null,null,null,null,null,null,null,null,null,null,null,{"$f":"IF(E260>0,IF(K$2=TRUE,FRINGE!$G$38,(SUM(J260:L260)+SUM(O260:P260)+SUM(F260:H260)*8/2080+SUM(M260:N260)*12/(E260*2080))),0)","v":0},{"$f":"IF($E260>0,IF(K$6=TRUE,FRINGE!$L$38,(SUM(I260:L260)+O260)),0)","v":0},"","","",""]
[null,null,null,null,null,null,null,null,null,null,null,null,null,null,null,null,{"$f":"IF(E261>0,IF(K$2=TRUE,FRINGE!$G$38,(SUM(J261:L261)+SUM(O261:P261)+SUM(F261:H261)*8/2080+SUM(M261:N261)*12/(E261*2080))),0)","v":0},{"$f":"IF($E261>0,IF(K$6=TRUE,FRINGE!$L$38,(SUM(I261:L261)+O261)),0)","v":0},"","","",""]
[null,null,null,null,null,null,null,null,null,null,null,null,null,null,null,null,{"$f":"IF(E262>0,IF(K$2=TRUE,FRINGE!$G$38,(SUM(J262:L262)+SUM(O262:P262)+SUM(F262:H262)*8/2080+SUM(M262:N262)*12/(E262*2080))),0)","v":0},{"$f":"IF($E262>0,IF(K$6=TRUE,FRINGE!$L$38,(SUM(I262:L262)+O262)),0)","v":0},"","","",""]
[null,null,null,null,null,null,null,null,null,null,null,null,null,null,null,null,{"$f":"IF(E263>0,IF(K$2=TRUE,FRINGE!$G$38,(SUM(J263:L263)+SUM(O263:P263)+SUM(F263:H263)*8/2080+SUM(M263:N263)*12/(E263*2080))),0)","v":0},{"$f":"IF($E263>0,IF(K$6=TRUE,FRINGE!$L$38,(SUM(I263:L263)+O263)),0)","v":0},"","","",""]
[null,null,null,null,null,null,null,null,null,null,null,null,null,null,null,null,{"$f":"IF(E264>0,IF(K$2=TRUE,FRINGE!$G$38,(SUM(J264:L264)+SUM(O264:P264)+SUM(F264:H264)*8/2080+SUM(M264:N264)*12/(E264*2080))),0)","v":0},{"$f":"IF($E264>0,IF(K$6=TRUE,FRINGE!$L$38,(SUM(I264:L264)+O264)),0)","v":0},"","","",""]
[null,null,null,null,null,null,null,null,null,null,null,null,null,null,null,null,{"$f":"IF(E265>0,IF(K$2=TRUE,FRINGE!$G$38,(SUM(J265:L265)+SUM(O265:P265)+SUM(F265:H265)*8/2080+SUM(M265:N265)*12/(E265*2080))),0)","v":0},{"$f":"IF($E265>0,IF(K$6=TRUE,FRINGE!$L$38,(SUM(I265:L265)+O265)),0)","v":0},{"$f":"IF(E265<=0,\"\",(E265*(1+Q265)))","v":""},{"$f":"IF(E265<=0,\"\",(E265*1.5*(1+R265)))","v":""},{"$f":"IF(E265<=0,\"\",(E265*2*(1+R265)))","v":""},{"$f":"IF(E265<=0,\"\",(E265/2*(1+Q265)))","v":""}]
[null,null,null,null,null,null,null,null,null,null,null,null,null,null,null,null,{"$f":"IF(E266>0,IF(K$2=TRUE,FRINGE!$G$38,(SUM(J266:L266)+SUM(O266:P266)+SUM(F266:H266)*8/2080+SUM(M266:N266)*12/(E266*2080))),0)","v":0},{"$f":"IF($E266>0,IF(K$6=TRUE,FRINGE!$L$38,(SUM(I266:L266)+O266)),0)","v":0},"","","",""]
[null,null,null,null,null,null,null,null,null,null,null,null,null,null,null,null,{"$f":"IF(E267>0,IF(K$2=TRUE,FRINGE!$G$38,(SUM(J267:L267)+SUM(O267:P267)+SUM(F267:H267)*8/2080+SUM(M267:N267)*12/(E267*2080))),0)","v":0},{"$f":"IF($E267>0,IF(K$6=TRUE,FRINGE!$L$38,(SUM(I267:L267)+O267)),0)","v":0},"","","",""]
[null,null,null,null,null,null,null,null,null,null,null,null,null,null,null,null,{"$f":"IF(E268>0,IF(K$2=TRUE,FRINGE!$G$38,(SUM(J268:L268)+SUM(O268:P268)+SUM(F268:H268)*8/2080+SUM(M268:N268)*12/(E268*2080))),0)","v":0},{"$f":"IF($E268>0,IF(K$6=TRUE,FRINGE!$L$38,(SUM(I268:L268)+O268)),0)","v":0},"","","",""]
[null,null,null,null,null,null,null,null,null,null,null,null,null,null,null,null,{"$f":"IF(E269>0,IF(K$2=TRUE,FRINGE!$G$38,(SUM(J269:L269)+SUM(O269:P269)+SUM(F269:H269)*8/2080+SUM(M269:N269)*12/(E269*2080))),0)","v":0},{"$f":"IF($E269>0,IF(K$6=TRUE,FRINGE!$L$38,(SUM(I269:L269)+O269)),0)","v":0},"","","",""]
[null,null,null,null,null,null,null,null,null,null,null,null,null,null,null,null,{"$f":"IF(E270>0,IF(K$5=TRUE,FRINGE!$G$38,(SUM(I270:L270)+SUM(O270:P270)+SUM(F270:H270)*8/2080+SUM(M270:N270)*12/(E270*2080))),0)","v":0},{"$f":"IF($E270>0,IF(K$6=TRUE,FRINGE!$L$38,(SUM(I270:L270)+O270)),0)","v":0},"","","",""]
[null,null,null,null,null,null,null,null,null,null,null,null,null,null,null,null,{"$f":"IF(E271>0,IF(K$2=TRUE,FRINGE!$G$38,(SUM(I271:L271)+SUM(O271:P271)+SUM(F271:H271)*8/2080+SUM(M271:N271)*12/(E271*2080))),0)","v":0},{"$f":"IF($E271>0,IF(K$6=TRUE,FRINGE!$L$38,(SUM(I271:L271)+O271)),0)","v":0},{"$f":"IF(E271<=0,\"\",(E271*(1+Q271)))","v":""},{"$f":"IF(E271<=0,\"\",(E271*1.5*(1+R271)))","v":""},"",""]
[null,null,null,null,null,null,null,null,null,null,null,null,null,null,null,null,{"$f":"IF(E272>0,IF(K$2=TRUE,FRINGE!$G$38,(SUM(I272:L272)+SUM(O272:P272)+SUM(F272:H272)*8/2080+SUM(M272:N272)*12/(E272*2080))),0)","v":0},{"$f":"IF($E272>0,IF(K$6=TRUE,FRINGE!$L$38,(SUM(I272:L272)+O272)),0)","v":0},"","","",""]
[null,null,null,null,null,null,null,null,null,null,null,null,null,null,null,null,{"$f":"IF(E273>0,IF(K$2=TRUE,FRINGE!$G$38,(SUM(I273:L273)+SUM(O273:P273)+SUM(F273:H273)*8/2080+SUM(M273:N273)*12/(E273*2080))),0)","v":0},{"$f":"IF($E273>0,IF(K$6=TRUE,FRINGE!$L$38,(SUM(I273:L273)+O273)),0)","v":0},"","","",""]
[null,null,null,null,null,null,null,null,null,null,null,null,null,null,null,null,{"$f":"IF(E274>0,IF(K$2=TRUE,FRINGE!$G$38,(SUM(J274:L274)+SUM(O274:P274)+SUM(F274:H274)*8/2080+SUM(M274:N274)*12/(E274*2080))),0)","v":0},{"$f":"IF($E274>0,IF(K$6=TRUE,FRINGE!$L$38,(SUM(I274:L274)+O274)),0)","v":0},"","","",""]
[null,null,null,null,null,null,null,null,null,null,null,null,null,null,null,null,{"$f":"IF(E275>0,IF(K$2=TRUE,FRINGE!$G$38,(SUM(J275:L275)+SUM(O275:P275)+SUM(F275:H275)*8/2080+SUM(M275:N275)*12/(E275*2080))),0)","v":0},{"$f":"IF($E275>0,IF(K$6=TRUE,FRINGE!$L$38,(SUM(I275:L275)+O275)),0)","v":0},"","","",""]
[null,null,null,null,null,null,null,null,null,null,null,null,null,null,null,null,{"$f":"IF(E276>0,IF(K$2=TRUE,FRINGE!$G$38,(SUM(J276:L276)+SUM(O276:P276)+SUM(F276:H276)*8/2080+SUM(M276:N276)*12/(E276*2080))),0)","v":0},{"$f":"IF($E276>0,IF(K$6=TRUE,FRINGE!$L$38,(SUM(I276:L276)+O276)),0)","v":0},"","","",""]
[null,null,null,null,null,null,null,null,null,null,null,null,null,null,null,null,{"$f":"IF(E277>0,IF(K$2=TRUE,FRINGE!$G$38,(SUM(J277:L277)+SUM(O277:P277)+SUM(F277:H277)*8/2080+SUM(M277:N277)*12/(E277*2080))),0)","v":0},{"$f":"IF($E277>0,IF(K$6=TRUE,FRINGE!$L$38,(SUM(I277:L277)+O277)),0)","v":0},"","","",""]
[null,null,null,null,null,null,null,null,null,null,null,null,null,null,null,null,{"$f":"IF(E278>0,IF(K$2=TRUE,FRINGE!$G$38,(SUM(J278:L278)+SUM(O278:P278)+SUM(F278:H278)*8/2080+SUM(M278:N278)*12/(E278*2080))),0)","v":0},{"$f":"IF($E278>0,IF(K$6=TRUE,FRINGE!$L$38,(SUM(I278:L278)+O278)),0)","v":0},"","","",""]
[null,null,null,null,null,null,null,null,null,null,null,null,null,null,null,null,{"$f":"IF(E279>0,IF(K$2=TRUE,FRINGE!$G$38,(SUM(J279:L279)+SUM(O279:P279)+SUM(F279:H279)*8/2080+SUM(M279:N279)*12/(E279*2080))),0)","v":0},{"$f":"IF($E279>0,IF(K$6=TRUE,FRINGE!$L$38,(SUM(I279:L279)+O279)),0)","v":0},"","","",""]
[null,null,null,null,null,null,null,null,null,null,null,null,null,null,null,null,{"$f":"IF(E280>0,IF(K$2=TRUE,FRINGE!$G$38,(SUM(J280:L280)+SUM(O280:P280)+SUM(F280:H280)*8/2080+SUM(M280:N280)*12/(E280*2080))),0)","v":0},{"$f":"IF($E280>0,IF(K$6=TRUE,FRINGE!$L$38,(SUM(I280:L280)+O280)),0)","v":0},"","","",""]
[null,null,null,null,null,null,null,null,null,null,null,null,null,null,null,null,{"$f":"IF(E281>0,IF(K$2=TRUE,FRINGE!$G$38,(SUM(J281:L281)+SUM(O281:P281)+SUM(F281:H281)*8/2080+SUM(M281:N281)*12/(E281*2080))),0)","v":0},{"$f":"IF($E281>0,IF(K$6=TRUE,FRINGE!$L$38,(SUM(I281:L281)+O281)),0)","v":0},"","","",""]
[null,null,null,null,null,null,null,null,null,null,null,null,null,null,null,null,{"$f":"IF(E282>0,IF(K$2=TRUE,FRINGE!$G$38,(SUM(J282:L282)+SUM(O282:P282)+SUM(F282:H282)*8/2080+SUM(M282:N282)*12/(E282*2080))),0)","v":0},{"$f":"IF($E282>0,IF(K$6=TRUE,FRINGE!$L$38,(SUM(I282:L282)+O282)),0)","v":0},"","","",""]
[null,null,null,null,null,null,null,null,null,null,null,null,null,null,null,null,{"$f":"IF(E283>0,IF(K$2=TRUE,FRINGE!$G$38,(SUM(J283:L283)+SUM(O283:P283)+SUM(F283:H283)*8/2080+SUM(M283:N283)*12/(E283*2080))),0)","v":0},{"$f":"IF($E283>0,IF(K$6=TRUE,FRINGE!$L$38,(SUM(I283:L283)+O283)),0)","v":0},"","","",""]
[null,null,null,null,null,null,null,null,null,null,null,null,null,null,null,null,{"$f":"IF(E284>0,IF(K$2=TRUE,FRINGE!$G$38,(SUM(J284:L284)+SUM(O284:P284)+SUM(F284:H284)*8/2080+SUM(M284:N284)*12/(E284*2080))),0)","v":0},{"$f":"IF($E284>0,IF(K$6=TRUE,FRINGE!$L$38,(SUM(I284:L284)+O284)),0)","v":0},"","","",""]
[null,null,null,null,null,null,null,null,null,null,null,null,null,null,null,null,{"$f":"IF(E285>0,IF(K$2=TRUE,FRINGE!$G$38,(SUM(J285:L285)+SUM(O285:P285)+SUM(F285:H285)*8/2080+SUM(M285:N285)*12/(E285*2080))),0)","v":0},{"$f":"IF($E285>0,IF(K$6=TRUE,FRINGE!$L$38,(SUM(I285:L285)+O285)),0)","v":0},{"$f":"IF(E285<=0,\"\",(E285*(1+Q285)))","v":""},{"$f":"IF(E285<=0,\"\",(E285*1.5*(1+R285)))","v":""},"",""]
[null,null,null,null,null,null,null,null,null,null,null,null,null,null,null,null,{"$f":"IF(E286>0,IF(K$2=TRUE,FRINGE!$G$38,(SUM(J286:L286)+SUM(O286:P286)+SUM(F286:H286)*8/2080+SUM(M286:N286)*12/(E286*2080))),0)","v":0},{"$f":"IF($E286>0,IF(K$6=TRUE,FRINGE!$L$38,(SUM(I286:L286)+O286)),0)","v":0},"","","",""]
[null,null,null,null,null,null,null,null,null,null,null,null,null,null,null,null,{"$f":"IF(E287>0,IF(K$2=TRUE,FRINGE!$G$38,(SUM(J287:L287)+SUM(O287:P287)+SUM(F287:H287)*8/2080+SUM(M287:N287)*12/(E287*2080))),0)","v":0},{"$f":"IF($E287>0,IF(K$6=TRUE,FRINGE!$L$38,(SUM(I287:L287)+O287)),0)","v":0},"","","",""]
[null,null,null,null,null,null,null,null,null,null,null,null,null,null,null,null,{"$f":"IF(E288>0,IF(K$2=TRUE,FRINGE!$G$38,(SUM(J288:L288)+SUM(O288:P288)+SUM(F288:H288)*8/2080+SUM(M288:N288)*12/(E288*2080))),0)","v":0},{"$f":"IF($E288>0,IF(K$6=TRUE,FRINGE!$L$38,(SUM(I288:L288)+O288)),0)","v":0},"","","",""]
[null,null,null,null,null,null,null,null,null,null,null,null,null,null,null,null,{"$f":"IF(E289>0,IF(K$2=TRUE,FRINGE!$G$38,(SUM(J289:L289)+SUM(O289:P289)+SUM(F289:H289)*8/2080+SUM(M289:N289)*12/(E289*2080))),0)","v":0},{"$f":"IF($E289>0,IF(K$6=TRUE,FRINGE!$L$38,(SUM(I289:L289)+O289)),0)","v":0},"","","",""]
[null,null,null,null,null,null,null,null,null,null,null,null,null,null,null,null,{"$f":"IF(E290>0,IF(K$5=TRUE,FRINGE!$G$38,(SUM(I290:L290)+SUM(O290:P290)+SUM(F290:H290)*8/2080+SUM(M290:N290)*12/(E290*2080))),0)","v":0},{"$f":"IF($E290>0,IF(K$6=TRUE,FRINGE!$L$38,(SUM(I290:L290)+O290)),0)","v":0},"","","",""]
[null,null,null,null,null,null,null,null,null,null,null,null,null,null,null,null,{"$f":"IF(E291>0,IF(K$2=TRUE,FRINGE!$G$38,(SUM(I291:L291)+SUM(O291:P291)+SUM(F291:H291)*8/2080+SUM(M291:N291)*12/(E291*2080))),0)","v":0},{"$f":"IF($E291>0,IF(K$6=TRUE,FRINGE!$L$38,(SUM(I291:L291)+O291)),0)","v":0},{"$f":"IF(E291<=0,\"\",(E291*(1+Q291)))","v":""},{"$f":"IF(E291<=0,\"\",(E291*1.5*(1+R291)))","v":""},"",""]
[null,null,null,null,null,null,null,null,null,null,null,null,null,null,null,null,{"$f":"IF(E292>0,IF(K$2=TRUE,FRINGE!$G$38,(SUM(I292:L292)+SUM(O292:P292)+SUM(F292:H292)*8/2080+SUM(M292:N292)*12/(E292*2080))),0)","v":0},{"$f":"IF($E292>0,IF(K$6=TRUE,FRINGE!$L$38,(SUM(I292:L292)+O292)),0)","v":0},"","","",""]
[null,null,null,null,null,null,null,null,null,null,null,null,null,null,null,null,{"$f":"IF(E293>0,IF(K$2=TRUE,FRINGE!$G$38,(SUM(I293:L293)+SUM(O293:P293)+SUM(F293:H293)*8/2080+SUM(M293:N293)*12/(E293*2080))),0)","v":0},{"$f":"IF($E293>0,IF(K$6=TRUE,FRINGE!$L$38,(SUM(I293:L293)+O293)),0)","v":0},"","","",""]
[null,null,null,null,null,null,null,null,null,null,null,null,null,null,null,null,{"$f":"IF(E294>0,IF(K$2=TRUE,FRINGE!$G$38,(SUM(J294:L294)+SUM(O294:P294)+SUM(F294:H294)*8/2080+SUM(M294:N294)*12/(E294*2080))),0)","v":0},{"$f":"IF($E294>0,IF(K$6=TRUE,FRINGE!$L$38,(SUM(I294:L294)+O294)),0)","v":0},"","","",""]
[null,null,null,null,null,null,null,null,null,null,null,null,null,null,null,null,{"$f":"IF(E295>0,IF(K$2=TRUE,FRINGE!$G$38,(SUM(J295:L295)+SUM(O295:P295)+SUM(F295:H295)*8/2080+SUM(M295:N295)*12/(E295*2080))),0)","v":0},{"$f":"IF($E295>0,IF(K$6=TRUE,FRINGE!$L$38,(SUM(I295:L295)+O295)),0)","v":0},"","","",""]
[null,null,null,null,null,null,null,null,null,null,null,null,null,null,null,null,{"$f":"IF(E296>0,IF(K$2=TRUE,FRINGE!$G$38,(SUM(J296:L296)+SUM(O296:P296)+SUM(F296:H296)*8/2080+SUM(M296:N296)*12/(E296*2080))),0)","v":0},{"$f":"IF($E296>0,IF(K$6=TRUE,FRINGE!$L$38,(SUM(I296:L296)+O296)),0)","v":0},"","","",""]
[null,null,null,null,null,null,null,null,null,null,null,null,null,null,null,null,{"$f":"IF(E297>0,IF(K$2=TRUE,FRINGE!$G$38,(SUM(J297:L297)+SUM(O297:P297)+SUM(F297:H297)*8/2080+SUM(M297:N297)*12/(E297*2080))),0)","v":0},{"$f":"IF($E297>0,IF(K$6=TRUE,FRINGE!$L$38,(SUM(I297:L297)+O297)),0)","v":0},"","","",""]
[null,null,null,null,null,null,null,null,null,null,null,null,null,null,null,null,{"$f":"IF(E298>0,IF(K$2=TRUE,FRINGE!$G$38,(SUM(J298:L298)+SUM(O298:P298)+SUM(F298:H298)*8/2080+SUM(M298:N298)*12/(E298*2080))),0)","v":0},{"$f":"IF($E298>0,IF(K$6=TRUE,FRINGE!$L$38,(SUM(I298:L298)+O298)),0)","v":0},"","","",""]
[null,null,null,null,null,null,null,null,null,null,null,null,null,null,null,null,{"$f":"IF(E299>0,IF(K$2=TRUE,FRINGE!$G$38,(SUM(J299:L299)+SUM(O299:P299)+SUM(F299:H299)*8/2080+SUM(M299:N299)*12/(E299*2080))),0)","v":0},{"$f":"IF($E299>0,IF(K$6=TRUE,FRINGE!$L$38,(SUM(I299:L299)+O299)),0)","v":0},"","","",""]
[null,null,null,null,null,null,null,null,null,null,null,null,null,null,null,null,{"$f":"IF(E300>0,IF(K$2=TRUE,FRINGE!$G$38,(SUM(J300:L300)+SUM(O300:P300)+SUM(F300:H300)*8/2080+SUM(M300:N300)*12/(E300*2080))),0)","v":0},{"$f":"IF($E300>0,IF(K$6=TRUE,FRINGE!$L$38,(SUM(I300:L300)+O300)),0)","v":0},"","","",""]
[null,null,null,null,null,null,null,null,null,null,null,null,null,null,null,null,{"$f":"IF(E301>0,IF(K$2=TRUE,FRINGE!$G$38,(SUM(J301:L301)+SUM(O301:P301)+SUM(F301:H301)*8/2080+SUM(M301:N301)*12/(E301*2080))),0)","v":0},{"$f":"IF($E301>0,IF(K$6=TRUE,FRINGE!$L$38,(SUM(I301:L301)+O301)),0)","v":0},"","","",""]
[null,null,null,null,null,null,null,null,null,null,null,null,null,null,null,null,{"$f":"IF(E302>0,IF(K$2=TRUE,FRINGE!$G$38,(SUM(J302:L302)+SUM(O302:P302)+SUM(F302:H302)*8/2080+SUM(M302:N302)*12/(E302*2080))),0)","v":0},{"$f":"IF($E302>0,IF(K$6=TRUE,FRINGE!$L$38,(SUM(I302:L302)+O302)),0)","v":0},"","","",""]
[null,null,null,null,null,null,null,null,null,null,null,null,null,null,null,null,{"$f":"IF(E303>0,IF(K$2=TRUE,FRINGE!$G$38,(SUM(J303:L303)+SUM(O303:P303)+SUM(F303:H303)*8/2080+SUM(M303:N303)*12/(E303*2080))),0)","v":0},{"$f":"IF($E303>0,IF(K$6=TRUE,FRINGE!$L$38,(SUM(I303:L303)+O303)),0)","v":0},"","","",""]
[null,null,null,null,null,null,null,null,null,null,null,null,null,null,null,null,{"$f":"IF(E304>0,IF(K$2=TRUE,FRINGE!$G$38,(SUM(J304:L304)+SUM(O304:P304)+SUM(F304:H304)*8/2080+SUM(M304:N304)*12/(E304*2080))),0)","v":0},{"$f":"IF($E304>0,IF(K$6=TRUE,FRINGE!$L$38,(SUM(I304:L304)+O304)),0)","v":0},"","","",""]
[null,null,null,null,null,null,null,null,null,null,null,null,null,null,null,null,{"$f":"IF(E305>0,IF(K$2=TRUE,FRINGE!$G$38,(SUM(J305:L305)+SUM(O305:P305)+SUM(F305:H305)*8/2080+SUM(M305:N305)*12/(E305*2080))),0)","v":0},{"$f":"IF($E305>0,IF(K$6=TRUE,FRINGE!$L$38,(SUM(I305:L305)+O305)),0)","v":0},{"$f":"IF(E305<=0,\"\",(E305*(1+Q305)))","v":""},{"$f":"IF(E305<=0,\"\",(E305*1.5*(1+R305)))","v":""},"",""]
[null,null,null,null,null,null,null,null,null,null,null,null,null,null,null,null,{"$f":"IF(E306>0,IF(K$2=TRUE,FRINGE!$G$38,(SUM(J306:L306)+SUM(O306:P306)+SUM(F306:H306)*8/2080+SUM(M306:N306)*12/(E306*2080))),0)","v":0},{"$f":"IF($E306>0,IF(K$6=TRUE,FRINGE!$L$38,(SUM(I306:L306)+O306)),0)","v":0},"","","",""]
[null,null,null,null,null,null,null,null,null,null,null,null,null,null,null,null,{"$f":"IF(E307>0,IF(K$2=TRUE,FRINGE!$G$38,(SUM(J307:L307)+SUM(O307:P307)+SUM(F307:H307)*8/2080+SUM(M307:N307)*12/(E307*2080))),0)","v":0},{"$f":"IF($E307>0,IF(K$6=TRUE,FRINGE!$L$38,(SUM(I307:L307)+O307)),0)","v":0},"","","",""]
[null,null,null,null,null,null,null,null,null,null,null,null,null,null,null,null,{"$f":"IF(E308>0,IF(K$2=TRUE,FRINGE!$G$38,(SUM(J308:L308)+SUM(O308:P308)+SUM(F308:H308)*8/2080+SUM(M308:N308)*12/(E308*2080))),0)","v":0},{"$f":"IF($E308>0,IF(K$6=TRUE,FRINGE!$L$38,(SUM(I308:L308)+O308)),0)","v":0},"","","",""]
[null,null,null,null,null,null,null,null,null,null,null,null,null,null,null,null,{"$f":"IF(E309>0,IF(K$2=TRUE,FRINGE!$G$38,(SUM(J309:L309)+SUM(O309:P309)+SUM(F309:H309)*8/2080+SUM(M309:N309)*12/(E309*2080))),0)","v":0},{"$f":"IF($E309>0,IF(K$6=TRUE,FRINGE!$L$38,(SUM(I309:L309)+O309)),0)","v":0},"","","",""]
[null,null,null,null,null,null,null,null,null,null,null,null,null,null,null,null,{"$f":"IF(E310>0,IF(K$5=TRUE,FRINGE!$G$38,(SUM(I310:L310)+SUM(O310:P310)+SUM(F310:H310)*8/2080+SUM(M310:N310)*12/(E310*2080))),0)","v":0},{"$f":"IF($E310>0,IF(K$6=TRUE,FRINGE!$L$38,(SUM(I310:L310)+O310)),0)","v":0},"","","",""]
[null,null,null,null,null,null,null,null,null,null,null,null,null,null,null,null,{"$f":"IF(E311>0,IF(K$2=TRUE,FRINGE!$G$38,(SUM(I311:L311)+SUM(O311:P311)+SUM(F311:H311)*8/2080+SUM(M311:N311)*12/(E311*2080))),0)","v":0},{"$f":"IF($E311>0,IF(K$6=TRUE,FRINGE!$L$38,(SUM(I311:L311)+O311)),0)","v":0},{"$f":"IF(E311<=0,\"\",(E311*(1+Q311)))","v":""},{"$f":"IF(E311<=0,\"\",(E311*1.5*(1+R311)))","v":""},"",""]
[null,null,null,null,null,null,null,null,null,null,null,null,null,null,null,null,{"$f":"IF(E312>0,IF(K$2=TRUE,FRINGE!$G$38,(SUM(I312:L312)+SUM(O312:P312)+SUM(F312:H312)*8/2080+SUM(M312:N312)*12/(E312*2080))),0)","v":0},{"$f":"IF($E312>0,IF(K$6=TRUE,FRINGE!$L$38,(SUM(I312:L312)+O312)),0)","v":0},"","","",""]
[null,null,null,null,null,null,null,null,null,null,null,null,null,null,null,null,{"$f":"IF(E313>0,IF(K$2=TRUE,FRINGE!$G$38,(SUM(I313:L313)+SUM(O313:P313)+SUM(F313:H313)*8/2080+SUM(M313:N313)*12/(E313*2080))),0)","v":0},{"$f":"IF($E313>0,IF(K$6=TRUE,FRINGE!$L$38,(SUM(I313:L313)+O313)),0)","v":0},"","","",""]
[null,null,null,null,null,null,null,null,null,null,null,null,null,null,null,null,{"$f":"IF(E314>0,IF(K$2=TRUE,FRINGE!$G$38,(SUM(J314:L314)+SUM(O314:P314)+SUM(F314:H314)*8/2080+SUM(M314:N314)*12/(E314*2080))),0)","v":0},{"$f":"IF($E314>0,IF(K$6=TRUE,FRINGE!$L$38,(SUM(I314:L314)+O314)),0)","v":0},"","","",""]
[null,null,null,null,null,null,null,null,null,null,null,null,null,null,null,null,{"$f":"IF(E315>0,IF(K$2=TRUE,FRINGE!$G$38,(SUM(J315:L315)+SUM(O315:P315)+SUM(F315:H315)*8/2080+SUM(M315:N315)*12/(E315*2080))),0)","v":0},{"$f":"IF($E315>0,IF(K$6=TRUE,FRINGE!$L$38,(SUM(I315:L315)+O315)),0)","v":0},"","","",""]
[null,null,null,null,null,null,null,null,null,null,null,null,null,null,null,null,{"$f":"IF(E316>0,IF(K$2=TRUE,FRINGE!$G$38,(SUM(J316:L316)+SUM(O316:P316)+SUM(F316:H316)*8/2080+SUM(M316:N316)*12/(E316*2080))),0)","v":0},{"$f":"IF($E316>0,IF(K$6=TRUE,FRINGE!$L$38,(SUM(I316:L316)+O316)),0)","v":0},"","","",""]
[null,null,null,null,null,null,null,null,null,null,null,null,null,null,null,null,{"$f":"IF(E317>0,IF(K$2=TRUE,FRINGE!$G$38,(SUM(J317:L317)+SUM(O317:P317)+SUM(F317:H317)*8/2080+SUM(M317:N317)*12/(E317*2080))),0)","v":0},{"$f":"IF($E317>0,IF(K$6=TRUE,FRINGE!$L$38,(SUM(I317:L317)+O317)),0)","v":0},"","","",""]
[null,null,null,null,null,null,null,null,null,null,null,null,null,null,null,null,{"$f":"IF(E318>0,IF(K$2=TRUE,FRINGE!$G$38,(SUM(J318:L318)+SUM(O318:P318)+SUM(F318:H318)*8/2080+SUM(M318:N318)*12/(E318*2080))),0)","v":0},{"$f":"IF($E318>0,IF(K$6=TRUE,FRINGE!$L$38,(SUM(I318:L318)+O318)),0)","v":0},"","","",""]
[null,null,null,null,null,null,null,null,null,null,null,null,null,null,null,null,{"$f":"IF(E319>0,IF(K$2=TRUE,FRINGE!$G$38,(SUM(J319:L319)+SUM(O319:P319)+SUM(F319:H319)*8/2080+SUM(M319:N319)*12/(E319*2080))),0)","v":0},{"$f":"IF($E319>0,IF(K$6=TRUE,FRINGE!$L$38,(SUM(I319:L319)+O319)),0)","v":0},"","","",""]
[null,null,null,null,null,null,null,null,null,null,null,null,null,null,null,null,{"$f":"IF(E320>0,IF(K$2=TRUE,FRINGE!$G$38,(SUM(J320:L320)+SUM(O320:P320)+SUM(F320:H320)*8/2080+SUM(M320:N320)*12/(E320*2080))),0)","v":0},{"$f":"IF($E320>0,IF(K$6=TRUE,FRINGE!$L$38,(SUM(I320:L320)+O320)),0)","v":0},"","","",""]
[null,null,null,null,null,null,null,null,null,null,null,null,null,null,null,null,{"$f":"IF(E321>0,IF(K$2=TRUE,FRINGE!$G$38,(SUM(J321:L321)+SUM(O321:P321)+SUM(F321:H321)*8/2080+SUM(M321:N321)*12/(E321*2080))),0)","v":0},{"$f":"IF($E321>0,IF(K$6=TRUE,FRINGE!$L$38,(SUM(I321:L321)+O321)),0)","v":0},"","","",""]
[null,null,null,null,null,null,null,null,null,null,null,null,null,null,null,null,{"$f":"IF(E322>0,IF(K$2=TRUE,FRINGE!$G$38,(SUM(J322:L322)+SUM(O322:P322)+SUM(F322:H322)*8/2080+SUM(M322:N322)*12/(E322*2080))),0)","v":0},{"$f":"IF($E322>0,IF(K$6=TRUE,FRINGE!$L$38,(SUM(I322:L322)+O322)),0)","v":0},"","","",""]
[null,null,null,null,null,null,null,null,null,null,null,null,null,null,null,null,{"$f":"IF(E323>0,IF(K$2=TRUE,FRINGE!$G$38,(SUM(J323:L323)+SUM(O323:P323)+SUM(F323:H323)*8/2080+SUM(M323:N323)*12/(E323*2080))),0)","v":0},{"$f":"IF($E323>0,IF(K$6=TRUE,FRINGE!$L$38,(SUM(I323:L323)+O323)),0)","v":0},"","","",""]
[null,null,null,null,null,null,null,null,null,null,null,null,null,null,null,null,{"$f":"IF(E324>0,IF(K$2=TRUE,FRINGE!$G$38,(SUM(J324:L324)+SUM(O324:P324)+SUM(F324:H324)*8/2080+SUM(M324:N324)*12/(E324*2080))),0)","v":0},{"$f":"IF($E324>0,IF(K$2=TRUE,FRINGE!$L$38,(SUM(I324:L324)+O324)),0)","v":0},"","","",""]
[null,null,null,null,null,null,null,null,null,null,null,null,null,null,null,null,{"$f":"IF(E325>0,IF(K$2=TRUE,FRINGE!$G$38,(SUM(J325:L325)+SUM(O325:P325)+SUM(F325:H325)*8/2080+SUM(M325:N325)*12/(E325*2080))),0)","v":0},{"$f":"IF($E325>0,IF(K$2=TRUE,FRINGE!$L$38,(SUM(I325:L325)+O325)),0)","v":0},{"$f":"IF(E325<=0,\"\",(E325*(1+Q325)))","v":""},{"$f":"IF(E325<=0,\"\",(E325*1.5*(1+R325)))","v":""},"",""]
[null,null,null,null,null,null,null,null,null,null,null,null,null,null,null,null,{"$f":"IF(E326>0,IF(K$2=TRUE,FRINGE!$G$38,(SUM(J326:L326)+SUM(O326:P326)+SUM(F326:H326)*8/2080+SUM(M326:N326)*12/(E326*2080))),0)","v":0},{"$f":"IF($E326>0,IF(K$2=TRUE,FRINGE!$L$38,(SUM(I326:L326)+O326)),0)","v":0},{"$f":"IF(E326<=0,\"\",(E326*(1+Q326)))","v":""},{"$f":"IF(E326<=0,\"\",(E326*1.5*(1+R326)))","v":""},"",""]
[null,null,null,null,null,null,null,null,null,null,null,null,null,null,null,null,{"$f":"IF(E327>0,IF(K$2=TRUE,FRINGE!$G$38,(SUM(J327:L327)+SUM(O327:P327)+SUM(F327:H327)*8/2080+SUM(M327:N327)*12/(E327*2080))),0)","v":0},{"$f":"IF($E327>0,IF(K$2=TRUE,FRINGE!$L$38,(SUM(I327:L327)+O327)),0)","v":0},{"$f":"IF(E327<=0,\"\",(E327*(1+Q327)))","v":""},{"$f":"IF(E327<=0,\"\",(E327*1.5*(1+R327)))","v":""},"",""]
[null,null,null,null,null,null,null,null,null,null,null,null,null,null,null,null,{"$f":"IF(E328>0,IF(K$2=TRUE,FRINGE!$G$38,(SUM(J328:L328)+SUM(O328:P328)+SUM(F328:H328)*8/2080+SUM(M328:N328)*12/(E328*2080))),0)","v":0},{"$f":"IF($E328>0,IF(K$2=TRUE,FRINGE!$L$38,(SUM(I328:L328)+O328)),0)","v":0},{"$f":"IF(E328<=0,\"\",(E328*(1+Q328)))","v":""},{"$f":"IF(E328<=0,\"\",(E328*1.5*(1+R328)))","v":""},"",""]
[null,null,null,null,null,null,null,null,null,null,null,null,null,null,null,null,{"$f":"IF(E329>0,IF(K$2=TRUE,FRINGE!$G$38,(SUM(J329:L329)+SUM(O329:P329)+SUM(F329:H329)*8/2080+SUM(M329:N329)*12/(E329*2080))),0)","v":0},{"$f":"IF($E329>0,IF(K$2=TRUE,FRINGE!$L$38,(SUM(I329:L329)+O329)),0)","v":0},{"$f":"IF(E329<=0,\"\",(E329*(1+Q329)))","v":""},{"$f":"IF(E329<=0,\"\",(E329*1.5*(1+R329)))","v":""},{"$f":"IF(E329<=0,\"\",(E329*2*(1+R329)))","v":""},{"$f":"IF(E329<=0,\"\",(E329/2*(1+Q329)))","v":""}]

{"sheet":"NewLaborTemplate","index":4,"n_rows":1355,"n_cols":35,"rows_kept":1355,"cut":false,"hidden":true,"merged":[[1,15,1,18],[2,0,2,3],[2,4,2,6],[2,7,2,11],[2,12,2,14],[2,15,2,18],[3,24,4,24],[3,26,4,26],[3,25,4,25],[3,21,4,21],[3,22,4,22],[3,23,4,23],[2,19,2,22],[2,23,2,26],[3,0,4,0],[3,3,4,3],[3,4,4,4],[3,5,4,5],[62,23,63,23],[62,24,63,24],[62,25,63,25],[61,19,61,22],[61,23,61,26],[62,26,63,26],[60,15,60,18],[61,0,61,3],[61,4,61,6],[61,7,61,11],[61,12,61,14],[61,15,61,18],[121,26,122,26],[119,15,119,18],[120,0,120,3],[120,4,120,6],[120,7,120,11],[120,12,120,14],[120,15,120,18],[62,3,63,3],[62,4,63,4],[62,5,63,5],[62,21,63,21],[62,22,63,22],[121,0,122,0],[121,3,122,3],[121,4,122,4],[121,5,122,5],[121,21,122,21],[121,22,122,22],[121,23,122,23],[121,24,122,24],[121,25,122,25],[120,19,120,22],[120,23,120,26],[62,0,63,0],[178,15,178,18],[179,0,179,3],[179,4,179,6],[179,7,179,11],[179,12,179,14],[179,15,179,18],[179,19,179,22],[179,23,179,26],[180,0,181,0],[180,3,181,3],[180,4,181,4],[180,5,181,5],[180,21,181,21],[180,22,181,22],[180,23,181,23],[180,24,181,24],[180,25,181,25],[180,26,181,26],[237,15,237,18],[238,0,238,3],[238,4,238,6],[238,7,238,11],[238,12,238,14],[238,15,238,18],[238,19,238,22],[238,23,238,26],[239,0,240,0],[239,3,240,3],[239,4,240,4],[239,5,240,5],[239,21,240,21],[239,22,240,22],[239,23,240,23],[239,24,240,24],[239,25,240,25],[239,26,240,26],[296,15,296,18],[297,0,297,3],[297,4,297,6],[297,7,297,11],[297,12,297,14],[297,15,297,18],[297,19,297,22],[297,23,297,26],[298,0,299,0],[298,3,299,3],[298,4,299,4],[298,5,299,5],[298,21,299,21],[298,22,299,22],[298,23,299,23],[298,24,299,24],[298,25,299,25],[298,26,299,26],[355,15,355,18],[356,0,356,3],[356,4,356,6],[356,7,356,11],[356,12,356,14],[356,15,356,18],[356,19,356,22],[356,23,356,26],[357,0,358,0],[357,3,358,3],[357,4,358,4],[357,5,358,5],[357,21,358,21],[357,22,358,22],[357,23,358,23],[357,24,358,24],[357,25,358,25],[357,26,358,26],[414,15,414,18],[415,0,415,3],[415,4,415,6],[415,7,415,11],[415,12,415,14],[415,15,415,18],[415,19,415,22],[415,23,415,26],[416,0,417,0],[416,3,417,3],[416,4,417,4],[416,5,417,5],[416,21,417,21],[416,22,417,22],[416,23,417,23],[416,24,417,24],[416,25,417,25],[416,26,417,26],[473,15,473,18],[474,0,474,3],[474,4,474,6],[474,7,474,11],[474,12,474,14],[474,15,474,18],[474,19,474,22],[474,23,474,26],[475,0,476,0],[475,3,476,3],[475,4,476,4],[475,5,476,5],[475,21,476,21],[475,22,476,22],[475,23,476,23],[475,24,476,24],[475,25,476,25],[475,26,476,26],[532,15,532,18],[533,0,533,3],[533,4,533,6],[533,7,533,11],[533,12,533,14],[533,15,533,18],[533,19,533,22],[533,23,533,26],[534,0,535,0],[534,3,535,3],[534,4,535,4],[534,5,535,5],[534,21,535,21],[534,22,535,22],[534,23,535,23],[534,24,535,24],[534,25,535,25],[534,26,535,26],[591,15,591,18],[592,0,592,3],[592,4,592,6],[592,7,592,11],[592,12,592,14],[592,15,592,18],[592,19,592,22],[592,23,592,26],[593,0,594,0],[593,3,594,3],[593,4,594,4],[593,5,594,5],[593,21,594,21],[593,22,594,22],[593,23,594,23],[593,24,594,24],[593,25,594,25],[593,26,594,26],[650,15,650,18],[651,0,651,3],[651,4,651,6],[651,7,651,11],[651,12,651,14],[651,15,651,18],[651,19,651,22],[651,23,651,26],[652,0,653,0],[652,3,653,3],[652,4,653,4],[652,5,653,5],[652,21,653,21],[652,22,653,22],[652,23,653,23],[652,24,653,24],[652,25,653,25],[652,26,653,26],[709,15,709,18],[710,0,710,3],[710,4,710,6],[710,7,710,11],[710,12,710,14],[710,15,710,18],[710,19,710,22],[710,23,710,26],[711,0,712,0],[711,3,712,3],[711,4,712,4],[711,5,712,5],[711,21,712,21],[711,22,712,22],[711,23,712,23],[711,24,712,24],[711,25,712,25],[711,26,712,26],[768,15,768,18],[769,0,769,3],[769,4,769,6],[769,7,769,11],[769,12,769,14],[769,15,769,18],[769,19,769,22],[769,23,769,26],[770,0,771,0],[770,3,771,3],[770,4,771,4],[770,5,771,5],[770,21,771,21],[770,22,771,22],[770,23,771,23],[770,24,771,24],[770,25,771,25],[770,26,771,26],[827,15,827,18],[828,0,828,3],[828,4,828,6],[828,7,828,11],[828,12,828,14],[828,19,828,22],[828,23,828,26],[829,0,830,0],[829,3,830,3],[829,4,830,4],[829,5,830,5],[829,21,830,21],[829,22,830,22],[829,23,830,23],[829,24,830,24],[829,25,830,25],[829,26,830,26],[828,15,828,18],[886,15,886,18],[887,0,887,3],[887,4,887,6],[887,7,887,11],[887,12,887,14],[887,19,887,22],[887,23,887,26],[888,0,889,0],[888,3,889,3],[888,4,889,4],[888,5,889,5],[888,21,889,21],[888,22,889,22],[888,23,889,23],[888,24,889,24],[888,25,889,25],[888,26,889,26],[887,15,887,18],[945,15,945,18],[946,0,946,3],[946,4,946,6],[946,7,946,11],[946,12,946,14],[946,19,946,22],[946,23,946,26],[947,0,948,0],[947,3,948,3],[947,4,948,4],[947,5,948,5],[947,21,948,21],[947,22,948,22],[947,23,948,23],[947,24,948,24],[947,25,948,25],[947,26,948,26],[946,15,946,18],[1004,15,1004,18],[1005,0,1005,3],[1005,4,1005,6],[1005,7,1005,11],[1005,12,1005,14],[1005,19,1005,22],[1005,23,1005,26],[1006,0,1007,0],[1006,3,1007,3],[1006,4,1007,4],[1006,5,1007,5],[1006,21,1007,21],[1006,22,1007,22],[1006,23,1007,23],[1006,24,1007,24],[1006,25,1007,25],[1006,26,1007,26],[1005,15,1005,18],[1063,15,1063,18],[1064,0,1064,3],[1064,4,1064,6],[1064,7,1064,11],[1064,12,1064,14],[1064,19,1064,22],[1064,23,1064,26],[1065,0,1066,0],[1065,3,1066,3],[1065,4,1066,4],[1065,5,1066,5],[1065,21,1066,21],[1065,22,1066,22],[1065,23,1066,23],[1065,24,1066,24],[1065,25,1066,25],[1065,26,1066,26],[1064,15,1064,18],[1122,15,1122,18],[1123,0,1123,3],[1123,4,1123,6],[1123,7,1123,11],[1123,12,1123,14],[1123,19,1123,22],[1123,23,1123,26],[1124,0,1125,0],[1124,3,1125,3],[1124,4,1125,4],[1124,5,1125,5],[1124,21,1125,21],[1124,22,1125,22],[1124,23,1125,23],[1124,24,1125,24],[1124,25,1125,25],[1124,26,1125,26],[1123,15,1123,18],[1181,15,1181,18],[1182,0,1182,3],[1182,4,1182,6],[1182,7,1182,11],[1182,12,1182,14],[1182,19,1182,22],[1182,23,1182,26],[1182,15,1182,18],[1183,0,1184,0],[1183,3,1184,3],[1183,4,1184,4],[1183,5,1184,5],[1183,21,1184,21],[1183,22,1184,22],[1183,23,1184,23],[1183,24,1184,24],[1183,25,1184,25],[1183,26,1184,26],[1300,7,1300,11],[1300,12,1300,14],[1300,19,1300,22],[1242,0,1243,0],[1242,3,1243,3],[1242,4,1243,4],[1242,5,1243,5],[1242,21,1243,21],[1242,26,1243,26],[1299,15,1299,18],[1242,22,1243,22],[1300,15,1300,18],[1301,26,1302,26],[1300,23,1300,26],[1301,23,1302,23],[1301,24,1302,24],[1240,15,1240,18],[1301,0,1302,0],[1301,3,1302,3],[1301,4,1302,4],[1301,5,1302,5],[1301,21,1302,21],[1301,22,1302,22],[1301,25,1302,25],[1242,23,1243,23],[1242,24,1243,24],[1242,25,1243,25],[1241,0,1241,3],[1241,4,1241,6],[1241,7,1241,11],[1241,12,1241,14],[1241,19,1241,22],[1241,23,1241,26],[1241,15,1241,18],[1300,0,1300,3],[1300,4,1300,6]]}
["COST SUMMARY FOR LABOR/EQUIPMENT"]
["APPLICANT - FIPS#",null,null,null,"DISASTER #:",null,null,"PROJECT #:",null,null,null,null,"FEMA CAT A-G",null,null,"EMMIE #",null,null,null,"Work Completion Date"]
[{"$f":"IF('PAYROLL RECORD'!$B$5=\"START HERE\",\"\",'PAYROLL RECORD'!$B$5)","v":0},null,null,null,{"$f":"IF('PAYROLL RECORD'!$F$5=\"\",\"\",'PAYROLL RECORD'!$F$5)","v":""},null,null,{"$f":"'PAYROLL RECORD'!I2:L2","v":{"$error":"#VALUE!"}},null,null,null,null,{"$f":"IF('PAYROLL RECORD'!$M$5=\"CATEGORY\",\"\",'PAYROLL RECORD'!$M$5)","v":0},null,null,{"$f":"IF('PAYROLL RECORD'!$O$5=\"EMMIE #\",\"\",'PAYROLL RECORD'!$O$5)","v":0},null,null,null,{"$f":"IF('PAYROLL RECORD'!$Q$5=\"DATE\",\"\",'PAYROLL RECORD'!$Q$5)","v":"00:00:00"}]
["Employee/\nEquipment",null,"RATE w/","STATUS","COST CODE","RATE","2018-10-31",{"$f":"+G4+1","v":"2018-11-01"},{"$f":"H4+1","v":"2018-11-02"},"2018-11-03","2018-11-04","2018-11-05","2018-11-06","2018-11-07","2018-11-08","2018-11-09","2018-11-10","2018-11-11","2018-11-12","2018-11-13","2018-11-14","REG","OT1","OT2","REG TIME\nCOST","OT1\nCOST","OT2\nCOST"]
[null,null,"FRINGE",null,null,null,{"$f":"IF(G4<=0,\"\",TEXT(WEEKDAY(G4),\"ddd\"))","v":"Wed"},{"$f":"IF(H4<=0,\"\",TEXT(WEEKDAY(H4),\"ddd\"))","v":"Thu"},"Fri","Sat","Sun","Mon","Tue","Wed","Thu","Fri","Sat","Sun","Mon","Tue","Wed"]
[null,"REG",{"$f":"IF(ISBLANK(A6),0,VLOOKUP(A6,'PAYROLL RECORD'!$B$8:$U$2005,18,FALSE))","v":0},{"$f":"IF(ISBLANK(A6),0,VLOOKUP(A6,'PAYROLL RECORD'!$B$8:$D$2005,3,FALSE))","v":0},null,null,null,null,null,null,null,null,null,null,null,null,null,null,null,null,null,{"$f":"SUM($G6:$U6)","v":0},null,null,{"$f":"IF(AND($M$5=\"A\",D6<>\"FT\"),C6*V6,0)+IF(AND($M$5=\"B\",D6<>\"FT\"),C6*V6,0)+IF(AND($M$5=\"AP\"),C6*V6,0)+IF($M$5>=\"C\",C6*V6)","v":0}]
[{"$f":"IF(ISBLANK(A6),\" \",VLOOKUP(A6,'PAYROLL RECORD'!$B$9:$C$10740,2,FALSE))","v":" "},"OT1",{"$f":"IF(ISBLANK(A6),0,VLOOKUP(A6,'PAYROLL RECORD'!$B$8:$U$2005,19,FALSE))","v":0},{"$f":"+D6","v":0},null,null,null,null,null,null,null,null,null,null,null,null,null,null,null,null,null,null,{"$f":"SUM(G7:U7)","v":0},null,null,{"$f":"W7*C7","v":0}]
[null,"OT2",{"$f":"IF(ISBLANK(A6),0,VLOOKUP(A6,'PAYROLL RECORD'!$B$8:$U$2005,20,FALSE))","v":0},{"$f":"+D7","v":0},null,null,null,null,null,null,null,null,null,null,null,null,null,null,null,null,null,null,null,{"$f":"SUM(G8:U8)","v":0},null,null,{"$f":"X8*C8","v":0}]
[null,null,null,null,{"$f":"IF(ISBLANK(A9),0,VLOOKUP(A9,'EQUIPMENT INVENTORY'!$B$7:$AK$1021,7,0))","v":0},{"$f":"IF(ISBLANK(A9),0,VLOOKUP(A9,'EQUIPMENT INVENTORY'!$B$7:$AK$1021,8,0))","v":0},null,null,null,null,null,null,null,null,null,null,null,null,null,null,null,{"$f":"SUM($G9:$U9)","v":0},null,null,{"$f":"V9*F9","v":0}]
[null,null,null,null,{"$f":"IF(ISBLANK(A10),0,VLOOKUP(A10,'EQUIPMENT INVENTORY'!$B$7:$AK$1021,7,0))","v":0},{"$f":"IF(ISBLANK(A10),0,VLOOKUP(A10,'EQUIPMENT INVENTORY'!$B$7:$AK$1021,8,0))","v":0},null,null,null,null,null,null,null,null,null,null,null,null,null,null,null,{"$f":"SUM($G10:$U10)","v":0},null,null,{"$f":"V10*F10","v":0}]
[null,null,null,null,{"$f":"IF(ISBLANK(A11),0,VLOOKUP(A11,'EQUIPMENT INVENTORY'!$B$7:$AK$1021,7,0))","v":0},{"$f":"IF(ISBLANK(A11),0,VLOOKUP(A11,'EQUIPMENT INVENTORY'!$B$7:$AK$1021,8,0))","v":0},null,null,null,null,null,null,null,null,null,null,null,null,null,null,null,{"$f":"SUM($G11:$U11)","v":0},null,null,{"$f":"V11*F11","v":0}]
[null,"REG",{"$f":"IF(ISBLANK(A12),0,VLOOKUP(A12,'PAYROLL RECORD'!$B$8:$U$2005,18,FALSE))","v":0},{"$f":"IF(ISBLANK(A12),0,VLOOKUP(A12,'PAYROLL RECORD'!$B$8:$D$2005,3,FALSE))","v":0},null,null,null,null,null,null,null,null,null,null,null,null,null,null,null,null,null,{"$f":"SUM($G12:$U12)","v":0},null,null,{"$f":"IF(AND($M$5=\"A\",D12<>\"FT\"),C12*V12,0)+IF(AND($M$5=\"B\",D12<>\"FT\"),C12*V12,0)+IF(AND($M$5=\"AP\"),C12*V12,0)+IF($M$5>=\"C\",C12*V12)","v":0}]
[{"$f":"IF(ISBLANK(A12),\" \",VLOOKUP(A12,'PAYROLL RECORD'!$B$9:$C$10740,2,FALSE))","v":" "},"OT1",{"$f":"IF(ISBLANK(A12),0,VLOOKUP(A12,'PAYROLL RECORD'!$B$8:$U$2005,19,FALSE))","v":0},{"$f":"+D12","v":0},null,null,null,null,null,null,null,null,null,null,null,null,null,null,null,null,null,null,{"$f":"SUM(G13:U13)","v":0},null,null,{"$f":"W13*C13","v":0}]
[null,"OT2",{"$f":"IF(ISBLANK(A12),0,VLOOKUP(A12,'PAYROLL RECORD'!$B$8:$U$2005,20,FALSE))","v":0},{"$f":"+D13","v":0},null,null,null,null,null,null,null,null,null,null,null,null,null,null,null,null,null,null,null,{"$f":"SUM(G14:U14)","v":0},null,null,{"$f":"X14*C14","v":0}]
[null,null,null,null,{"$f":"IF(ISBLANK(A15),0,VLOOKUP(A15,'EQUIPMENT INVENTORY'!$B$7:$AK$1021,7,0))","v":0},{"$f":"IF(ISBLANK(A15),0,VLOOKUP(A15,'EQUIPMENT INVENTORY'!$B$7:$AK$1021,8,0))","v":0},null,null,null,null,null,null,null,null,null,null,null,null,null,null,null,{"$f":"SUM($G15:$U15)","v":0},null,null,{"$f":"V15*F15","v":0}]
[null,null,null,null,{"$f":"IF(ISBLANK(A16),0,VLOOKUP(A16,'EQUIPMENT INVENTORY'!$B$7:$AK$1021,7,0))","v":0},{"$f":"IF(ISBLANK(A16),0,VLOOKUP(A16,'EQUIPMENT INVENTORY'!$B$7:$AK$1021,8,0))","v":0},null,null,null,null,null,null,null,null,null,null,null,null,null,null,null,{"$f":"SUM($G16:$U16)","v":0},null,null,{"$f":"V16*F16","v":0}]
[null,null,null,null,{"$f":"IF(ISBLANK(A17),0,VLOOKUP(A17,'EQUIPMENT INVENTORY'!$B$7:$AK$1021,7,0))","v":0},{"$f":"IF(ISBLANK(A17),0,VLOOKUP(A17,'EQUIPMENT INVENTORY'!$B$7:$AK$1021,8,0))","v":0},null,null,null,null,null,null,null,null,null,null,null,null,null,null,null,{"$f":"SUM($G17:$U17)","v":0},null,null,{"$f":"V17*F17","v":0}]
[null,"REG",{"$f":"IF(ISBLANK(A18),0,VLOOKUP(A18,'PAYROLL RECORD'!$B$8:$U$2005,18,FALSE))","v":0},{"$f":"IF(ISBLANK(A18),0,VLOOKUP(A18,'PAYROLL RECORD'!$B$8:$D$2005,3,FALSE))","v":0},null,null,null,null,null,null,null,null,null,null,null,null,null,null,null,null,null,{"$f":"SUM($G18:$U18)","v":0},null,null,{"$f":"IF(AND($M$5=\"A\",D18<>\"FT\"),C18*V18,0)+IF(AND($M$5=\"B\",D18<>\"FT\"),C18*V18,0)+IF(AND($M$5=\"AP\"),C18*V18,0)+IF($M$5>=\"C\",C18*V18)","v":0}]
[{"$f":"IF(ISBLANK(A18),\" \",VLOOKUP(A18,'PAYROLL RECORD'!$B$9:$C$10740,2,FALSE))","v":" "},"OT1",{"$f":"IF(ISBLANK(A18),0,VLOOKUP(A18,'PAYROLL RECORD'!$B$8:$U$2005,19,FALSE))","v":0},{"$f":"+D18","v":0},null,null,null,null,null,null,null,null,null,null,null,null,null,null,null,null,null,null,{"$f":"SUM(G19:U19)","v":0},null,null,{"$f":"W19*C19","v":0}]
[null,"OT2",{"$f":"IF(ISBLANK(A18),0,VLOOKUP(A18,'PAYROLL RECORD'!$B$8:$U$2005,20,FALSE))","v":0},{"$f":"+D19","v":0},null,null,null,null,null,null,null,null,null,null,null,null,null,null,null,null,null,null,null,{"$f":"SUM(G20:U20)","v":0},null,null,{"$f":"X20*C20","v":0}]
[null,null,null,null,{"$f":"IF(ISBLANK(A21),0,VLOOKUP(A21,'EQUIPMENT INVENTORY'!$B$7:$AK$1021,7,0))","v":0},{"$f":"IF(ISBLANK(A21),0,VLOOKUP(A21,'EQUIPMENT INVENTORY'!$B$7:$AK$1021,8,0))","v":0},null,null,null,null,null,null,null,null,null,null,null,null,null,null,null,{"$f":"SUM($G21:$U21)","v":0},null,null,{"$f":"V21*F21","v":0}]
[null,null,null,null,{"$f":"IF(ISBLANK(A22),0,VLOOKUP(A22,'EQUIPMENT INVENTORY'!$B$7:$AK$1021,7,0))","v":0},{"$f":"IF(ISBLANK(A22),0,VLOOKUP(A22,'EQUIPMENT INVENTORY'!$B$7:$AK$1021,8,0))","v":0},null,null,null,null,null,null,null,null,null,null,null,null,null,null,null,{"$f":"SUM($G22:$U22)","v":0},null,null,{"$f":"V22*F22","v":0}]
[null,null,null,null,{"$f":"IF(ISBLANK(A23),0,VLOOKUP(A23,'EQUIPMENT INVENTORY'!$B$7:$AK$1021,7,0))","v":0},{"$f":"IF(ISBLANK(A23),0,VLOOKUP(A23,'EQUIPMENT INVENTORY'!$B$7:$AK$1021,8,0))","v":0},null,null,null,null,null,null,null,null,null,null,null,null,null,null,null,{"$f":"SUM($G23:$U23)","v":0},null,null,{"$f":"V23*F23","v":0}]
[null,"REG",{"$f":"IF(ISBLANK(A24),0,VLOOKUP(A24,'PAYROLL RECORD'!$B$8:$U$2005,18,FALSE))","v":0},{"$f":"IF(ISBLANK(A24),0,VLOOKUP(A24,'PAYROLL RECORD'!$B$8:$D$2005,3,FALSE))","v":0},null,null,null,null,null,null,null,null,null,null,null,null,null,null,null,null,null,{"$f":"SUM($G24:$U24)","v":0},null,null,{"$f":"IF(AND($M$5=\"A\",D24<>\"FT\"),C24*V24,0)+IF(AND($M$5=\"B\",D24<>\"FT\"),C24*V24,0)+IF(AND($M$5=\"AP\"),C24*V24,0)+IF($M$5>=\"C\",C24*V24)","v":0}]
[{"$f":"IF(ISBLANK(A24),\" \",VLOOKUP(A24,'PAYROLL RECORD'!$B$9:$C$10740,2,FALSE))","v":" "},"OT1",{"$f":"IF(ISBLANK(A24),0,VLOOKUP(A24,'PAYROLL RECORD'!$B$8:$U$2005,19,FALSE))","v":0},{"$f":"+D24","v":0},null,null,null,null,null,null,null,null,null,null,null,null,null,null,null,null,null,null,{"$f":"SUM(G25:U25)","v":0},null,null,{"$f":"W25*C25","v":0}]
[null,"OT2",{"$f":"IF(ISBLANK(A24),0,VLOOKUP(A24,'PAYROLL RECORD'!$B$8:$U$2005,20,FALSE))","v":0},{"$f":"+D25","v":0},null,null,null,null,null,null,null,null,null,null,null,null,null,null,null,null,null,null,null,{"$f":"SUM(G26:U26)","v":0},null,null,{"$f":"X26*C26","v":0}]
[null,null,null,null,{"$f":"IF(ISBLANK(A27),0,VLOOKUP(A27,'EQUIPMENT INVENTORY'!$B$7:$AK$1021,7,0))","v":0},{"$f":"IF(ISBLANK(A27),0,VLOOKUP(A27,'EQUIPMENT INVENTORY'!$B$7:$AK$1021,8,0))","v":0},null,null,null,null,null,null,null,null,null,null,null,null,null,null,null,{"$f":"SUM($G27:$U27)","v":0},null,null,{"$f":"V27*F27","v":0}]
[null,null,null,null,{"$f":"IF(ISBLANK(A28),0,VLOOKUP(A28,'EQUIPMENT INVENTORY'!$B$7:$AK$1021,7,0))","v":0},{"$f":"IF(ISBLANK(A28),0,VLOOKUP(A28,'EQUIPMENT INVENTORY'!$B$7:$AK$1021,8,0))","v":0},null,null,null,null,null,null,null,null,null,null,null,null,null,null,null,{"$f":"SUM($G28:$U28)","v":0},null,null,{"$f":"V28*F28","v":0}]
[null,null,null,null,{"$f":"IF(ISBLANK(A29),0,VLOOKUP(A29,'EQUIPMENT INVENTORY'!$B$7:$AK$1021,7,0))","v":0},{"$f":"IF(ISBLANK(A29),0,VLOOKUP(A29,'EQUIPMENT INVENTORY'!$B$7:$AK$1021,8,0))","v":0},null,null,null,null,null,null,null,null,null,null,null,null,null,null,null,{"$f":"SUM($G29:$U29)","v":0},null,null,{"$f":"V29*F29","v":0}]
[null,"REG",{"$f":"IF(ISBLANK(A30),0,VLOOKUP(A30,'PAYROLL RECORD'!$B$8:$U$2005,18,FALSE))","v":0},{"$f":"IF(ISBLANK(A30),0,VLOOKUP(A30,'PAYROLL RECORD'!$B$8:$D$2005,3,FALSE))","v":0},null,null,null,null,null,null,null,null,null,null,null,null,null,null,null,null,null,{"$f":"SUM($G30:$U30)","v":0},null,null,{"$f":"IF(AND($M$5=\"A\",D30<>\"FT\"),C30*V30,0)+IF(AND($M$5=\"B\",D30<>\"FT\"),C30*V30,0)+IF(AND($M$5=\"AP\"),C30*V30,0)+IF($M$5>=\"C\",C30*V30)","v":0}]
[{"$f":"IF(ISBLANK(A30),\" \",VLOOKUP(A30,'PAYROLL RECORD'!$B$9:$C$10740,2,FALSE))","v":" "},"OT1",{"$f":"IF(ISBLANK(A30),0,VLOOKUP(A30,'PAYROLL RECORD'!$B$8:$U$2005,19,FALSE))","v":0},{"$f":"+D30","v":0},null,null,null,null,null,null,null,null,null,null,null,null,null,null,null,null,null,null,{"$f":"SUM(G31:U31)","v":0},null,null,{"$f":"W31*C31","v":0}]
[null,"OT2",{"$f":"IF(ISBLANK(A30),0,VLOOKUP(A30,'PAYROLL RECORD'!$B$8:$U$2005,20,FALSE))","v":0},{"$f":"+D31","v":0},null,null,null,null,null,null,null,null,null,null,null,null,null,null,null,null,null,null,null,{"$f":"SUM(G32:U32)","v":0},null,null,{"$f":"X32*C32","v":0}]
[null,null,null,null,{"$f":"IF(ISBLANK(A33),0,VLOOKUP(A33,'EQUIPMENT INVENTORY'!$B$7:$AK$1021,7,0))","v":0},{"$f":"IF(ISBLANK(A33),0,VLOOKUP(A33,'EQUIPMENT INVENTORY'!$B$7:$AK$1021,8,0))","v":0},null,null,null,null,null,null,null,null,null,null,null,null,null,null,null,{"$f":"SUM($G33:$U33)","v":0},null,null,{"$f":"V33*F33","v":0}]
[null,null,null,null,{"$f":"IF(ISBLANK(A34),0,VLOOKUP(A34,'EQUIPMENT INVENTORY'!$B$7:$AK$1021,7,0))","v":0},{"$f":"IF(ISBLANK(A34),0,VLOOKUP(A34,'EQUIPMENT INVENTORY'!$B$7:$AK$1021,8,0))","v":0},null,null,null,null,null,null,null,null,null,null,null,null,null,null,null,{"$f":"SUM($G34:$U34)","v":0},null,null,{"$f":"V34*F34","v":0}]
[null,null,null,null,{"$f":"IF(ISBLANK(A35),0,VLOOKUP(A35,'EQUIPMENT INVENTORY'!$B$7:$AK$1021,7,0))","v":0},{"$f":"IF(ISBLANK(A35),0,VLOOKUP(A35,'EQUIPMENT INVENTORY'!$B$7:$AK$1021,8,0))","v":0},null,null,null,null,null,null,null,null,null,null,null,null,null,null,null,{"$f":"SUM($G35:$U35)","v":0},null,null,{"$f":"V35*F35","v":0}]
[null,"REG",{"$f":"IF(ISBLANK(A36),0,VLOOKUP(A36,'PAYROLL RECORD'!$B$8:$U$2005,18,FALSE))","v":0},{"$f":"IF(ISBLANK(A36),0,VLOOKUP(A36,'PAYROLL RECORD'!$B$8:$D$2005,3,FALSE))","v":0},null,null,null,null,null,null,null,null,null,null,null,null,null,null,null,null,null,{"$f":"SUM($G36:$U36)","v":0},null,null,{"$f":"IF(AND($M$5=\"A\",D36<>\"FT\"),C36*V36,0)+IF(AND($M$5=\"B\",D36<>\"FT\"),C36*V36,0)+IF(AND($M$5=\"AP\"),C36*V36,0)+IF($M$5>=\"C\",C36*V36)","v":0}]
[{"$f":"IF(ISBLANK(A36),\" \",VLOOKUP(A36,'PAYROLL RECORD'!$B$9:$C$10740,2,FALSE))","v":" "},"OT1",{"$f":"IF(ISBLANK(A36),0,VLOOKUP(A36,'PAYROLL RECORD'!$B$8:$U$2005,19,FALSE))","v":0},{"$f":"+D36","v":0},null,null,null,null,null,null,null,null,null,null,null,null,null,null,null,null,null,null,{"$f":"SUM(G37:U37)","v":0},null,null,{"$f":"W37*C37","v":0}]
[null,"OT2",{"$f":"IF(ISBLANK(A36),0,VLOOKUP(A36,'PAYROLL RECORD'!$B$8:$U$2005,20,FALSE))","v":0},{"$f":"+D37","v":0},null,null,null,null,null,null,null,null,null,null,null,null,null,null,null,null,null,null,null,{"$f":"SUM(G38:U38)","v":0},null,null,{"$f":"X38*C38","v":0}]
[null,null,null,null,{"$f":"IF(ISBLANK(A39),0,VLOOKUP(A39,'EQUIPMENT INVENTORY'!$B$7:$AK$1021,7,0))","v":0},{"$f":"IF(ISBLANK(A39),0,VLOOKUP(A39,'EQUIPMENT INVENTORY'!$B$7:$AK$1021,8,0))","v":0},null,null,null,null,null,null,null,null,null,null,null,null,null,null,null,{"$f":"SUM($G39:$U39)","v":0},null,null,{"$f":"V39*F39","v":0}]
[null,null,null,null,{"$f":"IF(ISBLANK(A40),0,VLOOKUP(A40,'EQUIPMENT INVENTORY'!$B$7:$AK$1021,7,0))","v":0},{"$f":"IF(ISBLANK(A40),0,VLOOKUP(A40,'EQUIPMENT INVENTORY'!$B$7:$AK$1021,8,0))","v":0},null,null,null,null,null,null,null,null,null,null,null,null,null,null,null,{"$f":"SUM($G40:$U40)","v":0},null,null,{"$f":"V40*F40","v":0}]
[null,null,null,null,{"$f":"IF(ISBLANK(A41),0,VLOOKUP(A41,'EQUIPMENT INVENTORY'!$B$7:$AK$1021,7,0))","v":0},{"$f":"IF(ISBLANK(A41),0,VLOOKUP(A41,'EQUIPMENT INVENTORY'!$B$7:$AK$1021,8,0))","v":0},null,null,null,null,null,null,null,null,null,null,null,null,null,null,null,{"$f":"SUM($G41:$U41)","v":0},null,null,{"$f":"V41*F41","v":0}]
[null,"REG",{"$f":"IF(ISBLANK(A42),0,VLOOKUP(A42,'PAYROLL RECORD'!$B$8:$U$2005,18,FALSE))","v":0},{"$f":"IF(ISBLANK(A42),0,VLOOKUP(A42,'PAYROLL RECORD'!$B$8:$D$2005,3,FALSE))","v":0},null,null,null,null,null,null,null,null,null,null,null,null,null,null,null,null,null,{"$f":"SUM($G42:$U42)","v":0},null,null,{"$f":"IF(AND($M$5=\"A\",D42<>\"FT\"),C42*V42,0)+IF(AND($M$5=\"B\",D42<>\"FT\"),C42*V42,0)+IF(AND($M$5=\"AP\"),C42*V42,0)+IF($M$5>=\"C\",C42*V42)","v":0}]
[{"$f":"IF(ISBLANK(A42),\" \",VLOOKUP(A42,'PAYROLL RECORD'!$B$9:$C$10740,2,FALSE))","v":" "},"OT1",{"$f":"IF(ISBLANK(A42),0,VLOOKUP(A42,'PAYROLL RECORD'!$B$8:$U$2005,19,FALSE))","v":0},{"$f":"+D42","v":0},null,null,null,null,null,null,null,null,null,null,null,null,null,null,null,null,null,null,{"$f":"SUM(G43:U43)","v":0},null,null,{"$f":"W43*C43","v":0}]
[null,"OT2",{"$f":"IF(ISBLANK(A42),0,VLOOKUP(A42,'PAYROLL RECORD'!$B$8:$U$2005,20,FALSE))","v":0},{"$f":"+D43","v":0},null,null,null,null,null,null,null,null,null,null,null,null,null,null,null,null,null,null,null,{"$f":"SUM(G44:U44)","v":0},null,null,{"$f":"X44*C44","v":0}]
[null,null,null,null,{"$f":"IF(ISBLANK(A45),0,VLOOKUP(A45,'EQUIPMENT INVENTORY'!$B$7:$AK$1021,7,0))","v":0},{"$f":"IF(ISBLANK(A45),0,VLOOKUP(A45,'EQUIPMENT INVENTORY'!$B$7:$AK$1021,8,0))","v":0},null,null,null,null,null,null,null,null,null,null,null,null,null,null,null,{"$f":"SUM($G45:$U45)","v":0},null,null,{"$f":"V45*F45","v":0}]
[null,null,null,null,{"$f":"IF(ISBLANK(A46),0,VLOOKUP(A46,'EQUIPMENT INVENTORY'!$B$7:$AK$1021,7,0))","v":0},{"$f":"IF(ISBLANK(A46),0,VLOOKUP(A46,'EQUIPMENT INVENTORY'!$B$7:$AK$1021,8,0))","v":0},null,null,null,null,null,null,null,null,null,null,null,null,null,null,null,{"$f":"SUM($G46:$U46)","v":0},null,null,{"$f":"V46*F46","v":0}]
[null,null,null,null,{"$f":"IF(ISBLANK(A47),0,VLOOKUP(A47,'EQUIPMENT INVENTORY'!$B$7:$AK$1021,7,0))","v":0},{"$f":"IF(ISBLANK(A47),0,VLOOKUP(A47,'EQUIPMENT INVENTORY'!$B$7:$AK$1021,8,0))","v":0},null,null,null,null,null,null,null,null,null,null,null,null,null,null,null,{"$f":"SUM($G47:$U47)","v":0},null,null,{"$f":"V47*F47","v":0}]
[null,"REG",{"$f":"IF(ISBLANK(A48),0,VLOOKUP(A48,'PAYROLL RECORD'!$B$8:$U$2005,18,FALSE))","v":0},{"$f":"IF(ISBLANK(A48),0,VLOOKUP(A48,'PAYROLL RECORD'!$B$8:$D$2005,3,FALSE))","v":0},null,null,null,null,null,null,null,null,null,null,null,null,null,null,null,null,null,{"$f":"SUM($G48:$U48)","v":0},null,null,{"$f":"IF(AND($M$5=\"A\",D48<>\"FT\"),C48*V48,0)+IF(AND($M$5=\"B\",D48<>\"FT\"),C48*V48,0)+IF(AND($M$5=\"AP\"),C48*V48,0)+IF($M$5>=\"C\",C48*V48)","v":0}]
[{"$f":"IF(ISBLANK(A48),\" \",VLOOKUP(A48,'PAYROLL RECORD'!$B$9:$C$10740,2,FALSE))","v":" "},"OT1",{"$f":"IF(ISBLANK(A48),0,VLOOKUP(A48,'PAYROLL RECORD'!$B$8:$U$2005,19,FALSE))","v":0},{"$f":"+D48","v":0},null,null,null,null,null,null,null,null,null,null,null,null,null,null,null,null,null,null,{"$f":"SUM(G49:U49)","v":0},null,null,{"$f":"W49*C49","v":0}]
[null,"OT2",{"$f":"IF(ISBLANK(A48),0,VLOOKUP(A48,'PAYROLL RECORD'!$B$8:$U$2005,20,FALSE))","v":0},{"$f":"+D49","v":0},null,null,null,null,null,null,null,null,null,null,null,null,null,null,null,null,null,null,null,{"$f":"SUM(G50:U50)","v":0},null,null,{"$f":"X50*C50","v":0}]
[null,null,null,null,{"$f":"IF(ISBLANK(A51),0,VLOOKUP(A51,'EQUIPMENT INVENTORY'!$B$7:$AK$1021,7,0))","v":0},{"$f":"IF(ISBLANK(A51),0,VLOOKUP(A51,'EQUIPMENT INVENTORY'!$B$7:$AK$1021,8,0))","v":0},null,null,null,null,null,null,null,null,null,null,null,null,null,null,null,{"$f":"SUM($G51:$U51)","v":0},null,null,{"$f":"V51*F51","v":0}]
[null,null,null,null,{"$f":"IF(ISBLANK(A52),0,VLOOKUP(A52,'EQUIPMENT INVENTORY'!$B$7:$AK$1021,7,0))","v":0},{"$f":"IF(ISBLANK(A52),0,VLOOKUP(A52,'EQUIPMENT INVENTORY'!$B$7:$AK$1021,8,0))","v":0},null,null,null,null,null,null,null,null,null,null,null,null,null,null,null,{"$f":"SUM($G52:$U52)","v":0},null,null,{"$f":"V52*F52","v":0}]
[null,null,null,null,{"$f":"IF(ISBLANK(A53),0,VLOOKUP(A53,'EQUIPMENT INVENTORY'!$B$7:$AK$1021,7,0))","v":0},{"$f":"IF(ISBLANK(A53),0,VLOOKUP(A53,'EQUIPMENT INVENTORY'!$B$7:$AK$1021,8,0))","v":0},null,null,null,null,null,null,null,null,null,null,null,null,null,null,null,{"$f":"SUM($G53:$U53)","v":0},null,null,{"$f":"V53*F53","v":0},null,null,"Reg hrs","ot1 hrs","ot2 hrs","equip hrs"]
[null,null,null,null,null,null,null,null,null,null,null,null,null,null,null,null,"LABOR - Page Total",null,null,null,null,{"$f":"V6+V12+V18+V30+V36+V48+V24+V42","v":0},{"$f":"SUM(W6:W53)","v":0},{"$f":"SUM(X6:X53)","v":0},{"$f":"Y6+Y12+Y18+Y30+Y36+Y48+Y24+Y42","v":0},{"$f":"SUM(Z7:Z53)","v":0},{"$f":"SUM(AA7:AA53)","v":0},{"$f":"V54","v":0},{"$f":"W54","v":0},{"$f":"X54","v":0},{"$f":"V55","v":0},{"$f":"Y54","v":0},{"$f":"Z54","v":0},{"$f":"AA54","v":0},{"$f":"Y55","v":0}]
[null,null,null,null,null,null,null,null,null,null,null,null,null,null,null,null,"EQUIPMENT - Page Total",null,null,null,null,{"$f":"V9+V10+V11+V15+V16+V17+V21+V22+V23+V27+V28+V29+V33+V34+V35+V39+V40+V41+V51+V52+V53+V45+V46+V47","v":0},null,null,{"$f":"Y9+Y10+Y11+Y15+Y16+Y17+Y21+Y22+Y23+Y27+Y28+Y29+Y33+Y34+Y35+Y39+Y40+Y41+Y51+Y52+Y53+Y45+Y46+Y47","v":0}]
[null,null,null,null,null,null,null,null,null,null,null,null,null,null,null,null,"LABOR - Grand Total",null,null,null,null,{"$f":"SUM($AB:$AB)","v":0},{"$f":"SUM($AC:$AC)","v":0},{"$f":"SUM($AD:$AD)","v":0},{"$f":"SUM(AF:AF)","v":0},{"$f":"SUM($AG:$AG)","v":0},{"$f":"SUM($AH:$AH)","v":0}]
[null,null,null,null,null,null,null,null,null,null,null,null,null,null,null,null,"EQUIPMENT - Grand Total",null,null,null,null,{"$f":"SUM($AE:$AE)","v":0},null,null,{"$f":"SUM($AI:$AI)","v":0}]
[]
[]
["COST SUMMARY FOR LABOR/EQUIPMENT"]
["APPLICANT - FIPS#",null,null,null,"DISASTER #:",null,null,"PROJECT #:",null,null,null,null,"FEMA CAT A-G",null,null,"EMMIE #",null,null,null,"Work Completion Date"]
[{"$f":"IF('PAYROLL RECORD'!$B$5=\"START HERE\",\"\",'PAYROLL RECORD'!$B$5)","v":0},null,null,null,{"$f":"IF('PAYROLL RECORD'!$F$5=\"\",\"\",'PAYROLL RECORD'!$F$5)","v":""},null,null,{"$f":"'PAYROLL RECORD'!I61:L61","v":{"$error":"#VALUE!"}},null,null,null,null,{"$f":"IF('PAYROLL RECORD'!$M$5=\"CATEGORY\",\"\",'PAYROLL RECORD'!$M$5)","v":0},null,null,{"$f":"IF('PAYROLL RECORD'!$O$5=\"EMMIE #\",\"\",'PAYROLL RECORD'!$O$5)","v":0},null,null,null,{"$f":"IF('PAYROLL RECORD'!$Q$5=\"DATE\",\"\",'PAYROLL RECORD'!$Q$5)","v":"00:00:00"}]
["Employee/\nEquipment",null,"RATE w/","STATUS","COST CODE","RATE","2018-10-31",{"$f":"+G63+1","v":"2018-11-01"},{"$f":"H63+1","v":"2018-11-02"},"2018-11-03","2018-11-04","2018-11-05","2018-11-06","2018-11-07","2018-11-08","2018-11-09","2018-11-10","2018-11-11","2018-11-12","2018-11-13","2018-11-14","REG","OT1","OT2","REG TIME\nCOST","OT1\nCOST","OT2\nCOST"]
[null,null,"FRINGE",null,null,null,{"$f":"IF(G63<=0,\"\",TEXT(WEEKDAY(G63),\"ddd\"))","v":"Wed"},{"$f":"IF(H63<=0,\"\",TEXT(WEEKDAY(H63),\"ddd\"))","v":"Thu"},"Fri","Sat","Sun","Mon","Tue","Wed","Thu","Fri","Sat","Sun","Mon","Tue","Wed"]
[null,"REG",{"$f":"IF(ISBLANK(A65),0,VLOOKUP(A65,'PAYROLL RECORD'!$B$8:$U$2005,18,FALSE))","v":0},{"$f":"IF(ISBLANK(A65),0,VLOOKUP(A65,'PAYROLL RECORD'!$B$8:$D$2005,3,FALSE))","v":0},null,null,null,null,null,null,null,null,null,null,null,null,null,null,null,null,null,{"$f":"SUM($G65:$U65)","v":0},null,null,{"$f":"IF(AND($M$5=\"A\",D65<>\"FT\"),C65*V65,0)+IF(AND($M$5=\"B\",D65<>\"FT\"),C65*V65,0)+IF(AND($M$5=\"AP\"),C65*V65,0)+IF($M$5>=\"C\",C65*V65)","v":0}]
[{"$f":"IF(ISBLANK(A65),\" \",VLOOKUP(A65,'PAYROLL RECORD'!$B$9:$C$10740,2,FALSE))","v":" "},"OT1",{"$f":"IF(ISBLANK(A65),0,VLOOKUP(A65,'PAYROLL RECORD'!$B$8:$U$2005,19,FALSE))","v":0},{"$f":"+D65","v":0},null,null,null,null,null,null,null,null,null,null,null,null,null,null,null,null,null,null,{"$f":"SUM(G66:U66)","v":0},null,null,{"$f":"W66*C66","v":0}]
[null,"OT2",{"$f":"IF(ISBLANK(A65),0,VLOOKUP(A65,'PAYROLL RECORD'!$B$8:$U$2005,20,FALSE))","v":0},{"$f":"+D66","v":0},null,null,null,null,null,null,null,null,null,null,null,null,null,null,null,null,null,null,null,{"$f":"SUM(G67:U67)","v":0},null,null,{"$f":"X67*C67","v":0}]
[null,null,null,null,{"$f":"IF(ISBLANK(A68),0,VLOOKUP(A68,'EQUIPMENT INVENTORY'!$B$7:$AK$1021,7,0))","v":0},{"$f":"IF(ISBLANK(A68),0,VLOOKUP(A68,'EQUIPMENT INVENTORY'!$B$7:$AK$1021,8,0))","v":0},null,null,null,null,null,null,null,null,null,null,null,null,null,null,null,{"$f":"SUM($G68:$U68)","v":0},null,null,{"$f":"V68*F68","v":0}]
[null,null,null,null,{"$f":"IF(ISBLANK(A69),0,VLOOKUP(A69,'EQUIPMENT INVENTORY'!$B$7:$AK$1021,7,0))","v":0},{"$f":"IF(ISBLANK(A69),0,VLOOKUP(A69,'EQUIPMENT INVENTORY'!$B$7:$AK$1021,8,0))","v":0},null,null,null,null,null,null,null,null,null,null,null,null,null,null,null,{"$f":"SUM($G69:$U69)","v":0},null,null,{"$f":"V69*F69","v":0}]
[null,null,null,null,{"$f":"IF(ISBLANK(A70),0,VLOOKUP(A70,'EQUIPMENT INVENTORY'!$B$7:$AK$1021,7,0))","v":0},{"$f":"IF(ISBLANK(A70),0,VLOOKUP(A70,'EQUIPMENT INVENTORY'!$B$7:$AK$1021,8,0))","v":0},null,null,null,null,null,null,null,null,null,null,null,null,null,null,null,{"$f":"SUM($G70:$U70)","v":0},null,null,{"$f":"V70*F70","v":0}]
[null,"REG",{"$f":"IF(ISBLANK(A71),0,VLOOKUP(A71,'PAYROLL RECORD'!$B$8:$U$2005,18,FALSE))","v":0},{"$f":"IF(ISBLANK(A71),0,VLOOKUP(A71,'PAYROLL RECORD'!$B$8:$D$2005,3,FALSE))","v":0},null,null,null,null,null,null,null,null,null,null,null,null,null,null,null,null,null,{"$f":"SUM($G71:$U71)","v":0},null,null,{"$f":"IF(AND($M$5=\"A\",D71<>\"FT\"),C71*V71,0)+IF(AND($M$5=\"B\",D71<>\"FT\"),C71*V71,0)+IF(AND($M$5=\"AP\"),C71*V71,0)+IF($M$5>=\"C\",C71*V71)","v":0}]
[{"$f":"IF(ISBLANK(A71),\" \",VLOOKUP(A71,'PAYROLL RECORD'!$B$9:$C$10740,2,FALSE))","v":" "},"OT1",{"$f":"IF(ISBLANK(A71),0,VLOOKUP(A71,'PAYROLL RECORD'!$B$8:$U$2005,19,FALSE))","v":0},{"$f":"+D71","v":0},null,null,null,null,null,null,null,null,null,null,null,null,null,null,null,null,null,null,{"$f":"SUM(G72:U72)","v":0},null,null,{"$f":"W72*C72","v":0}]
[null,"OT2",{"$f":"IF(ISBLANK(A71),0,VLOOKUP(A71,'PAYROLL RECORD'!$B$8:$U$2005,20,FALSE))","v":0},{"$f":"+D72","v":0},null,null,null,null,null,null,null,null,null,null,null,null,null,null,null,null,null,null,null,{"$f":"SUM(G73:U73)","v":0},null,null,{"$f":"X73*C73","v":0}]
[null,null,null,null,{"$f":"IF(ISBLANK(A74),0,VLOOKUP(A74,'EQUIPMENT INVENTORY'!$B$7:$AK$1021,7,0))","v":0},{"$f":"IF(ISBLANK(A74),0,VLOOKUP(A74,'EQUIPMENT INVENTORY'!$B$7:$AK$1021,8,0))","v":0},null,null,null,null,null,null,null,null,null,null,null,null,null,null,null,{"$f":"SUM($G74:$U74)","v":0},null,null,{"$f":"V74*F74","v":0}]
[null,null,null,null,{"$f":"IF(ISBLANK(A75),0,VLOOKUP(A75,'EQUIPMENT INVENTORY'!$B$7:$AK$1021,7,0))","v":0},{"$f":"IF(ISBLANK(A75),0,VLOOKUP(A75,'EQUIPMENT INVENTORY'!$B$7:$AK$1021,8,0))","v":0},null,null,null,null,null,null,null,null,null,null,null,null,null,null,null,{"$f":"SUM($G75:$U75)","v":0},null,null,{"$f":"V75*F75","v":0}]
[null,null,null,null,{"$f":"IF(ISBLANK(A76),0,VLOOKUP(A76,'EQUIPMENT INVENTORY'!$B$7:$AK$1021,7,0))","v":0},{"$f":"IF(ISBLANK(A76),0,VLOOKUP(A76,'EQUIPMENT INVENTORY'!$B$7:$AK$1021,8,0))","v":0},null,null,null,null,null,null,null,null,null,null,null,null,null,null,null,{"$f":"SUM($G76:$U76)","v":0},null,null,{"$f":"V76*F76","v":0}]
[null,"REG",{"$f":"IF(ISBLANK(A77),0,VLOOKUP(A77,'PAYROLL RECORD'!$B$8:$U$2005,18,FALSE))","v":0},{"$f":"IF(ISBLANK(A77),0,VLOOKUP(A77,'PAYROLL RECORD'!$B$8:$D$2005,3,FALSE))","v":0},null,null,null,null,null,null,null,null,null,null,null,null,null,null,null,null,null,{"$f":"SUM($G77:$U77)","v":0},null,null,{"$f":"IF(AND($M$5=\"A\",D77<>\"FT\"),C77*V77,0)+IF(AND($M$5=\"B\",D77<>\"FT\"),C77*V77,0)+IF(AND($M$5=\"AP\"),C77*V77,0)+IF($M$5>=\"C\",C77*V77)","v":0}]
[{"$f":"IF(ISBLANK(A77),\" \",VLOOKUP(A77,'PAYROLL RECORD'!$B$9:$C$10740,2,FALSE))","v":" "},"OT1",{"$f":"IF(ISBLANK(A77),0,VLOOKUP(A77,'PAYROLL RECORD'!$B$8:$U$2005,19,FALSE))","v":0},{"$f":"+D77","v":0},null,null,null,null,null,null,null,null,null,null,null,null,null,null,null,null,null,null,{"$f":"SUM(G78:U78)","v":0},null,null,{"$f":"W78*C78","v":0}]
[null,"OT2",{"$f":"IF(ISBLANK(A77),0,VLOOKUP(A77,'PAYROLL RECORD'!$B$8:$U$2005,20,FALSE))","v":0},{"$f":"+D78","v":0},null,null,null,null,null,null,null,null,null,null,null,null,null,null,null,null,null,null,null,{"$f":"SUM(G79:U79)","v":0},null,null,{"$f":"X79*C79","v":0}]
[null,null,null,null,{"$f":"IF(ISBLANK(A80),0,VLOOKUP(A80,'EQUIPMENT INVENTORY'!$B$7:$AK$1021,7,0))","v":0},{"$f":"IF(ISBLANK(A80),0,VLOOKUP(A80,'EQUIPMENT INVENTORY'!$B$7:$AK$1021,8,0))","v":0},null,null,null,null,null,null,null,null,null,null,null,null,null,null,null,{"$f":"SUM($G80:$U80)","v":0},null,null,{"$f":"V80*F80","v":0}]
[null,null,null,null,{"$f":"IF(ISBLANK(A81),0,VLOOKUP(A81,'EQUIPMENT INVENTORY'!$B$7:$AK$1021,7,0))","v":0},{"$f":"IF(ISBLANK(A81),0,VLOOKUP(A81,'EQUIPMENT INVENTORY'!$B$7:$AK$1021,8,0))","v":0},null,null,null,null,null,null,null,null,null,null,null,null,null,null,null,{"$f":"SUM($G81:$U81)","v":0},null,null,{"$f":"V81*F81","v":0}]
[null,null,null,null,{"$f":"IF(ISBLANK(A82),0,VLOOKUP(A82,'EQUIPMENT INVENTORY'!$B$7:$AK$1021,7,0))","v":0},{"$f":"IF(ISBLANK(A82),0,VLOOKUP(A82,'EQUIPMENT INVENTORY'!$B$7:$AK$1021,8,0))","v":0},null,null,null,null,null,null,null,null,null,null,null,null,null,null,null,{"$f":"SUM($G82:$U82)","v":0},null,null,{"$f":"V82*F82","v":0}]
[null,"REG",{"$f":"IF(ISBLANK(A83),0,VLOOKUP(A83,'PAYROLL RECORD'!$B$8:$U$2005,18,FALSE))","v":0},{"$f":"IF(ISBLANK(A83),0,VLOOKUP(A83,'PAYROLL RECORD'!$B$8:$D$2005,3,FALSE))","v":0},null,null,null,null,null,null,null,null,null,null,null,null,null,null,null,null,null,{"$f":"SUM($G83:$U83)","v":0},null,null,{"$f":"IF(AND($M$5=\"A\",D83<>\"FT\"),C83*V83,0)+IF(AND($M$5=\"B\",D83<>\"FT\"),C83*V83,0)+IF(AND($M$5=\"AP\"),C83*V83,0)+IF($M$5>=\"C\",C83*V83)","v":0}]
[{"$f":"IF(ISBLANK(A83),\" \",VLOOKUP(A83,'PAYROLL RECORD'!$B$9:$C$10740,2,FALSE))","v":" "},"OT1",{"$f":"IF(ISBLANK(A83),0,VLOOKUP(A83,'PAYROLL RECORD'!$B$8:$U$2005,19,FALSE))","v":0},{"$f":"+D83","v":0},null,null,null,null,null,null,null,null,null,null,null,null,null,null,null,null,null,null,{"$f":"SUM(G84:U84)","v":0},null,null,{"$f":"W84*C84","v":0}]
[null,"OT2",{"$f":"IF(ISBLANK(A83),0,VLOOKUP(A83,'PAYROLL RECORD'!$B$8:$U$2005,20,FALSE))","v":0},{"$f":"+D84","v":0},null,null,null,null,null,null,null,null,null,null,null,null,null,null,null,null,null,null,null,{"$f":"SUM(G85:U85)","v":0},null,null,{"$f":"X85*C85","v":0}]
[null,null,null,null,{"$f":"IF(ISBLANK(A86),0,VLOOKUP(A86,'EQUIPMENT INVENTORY'!$B$7:$AK$1021,7,0))","v":0},{"$f":"IF(ISBLANK(A86),0,VLOOKUP(A86,'EQUIPMENT INVENTORY'!$B$7:$AK$1021,8,0))","v":0},null,null,null,null,null,null,null,null,null,null,null,null,null,null,null,{"$f":"SUM($G86:$U86)","v":0},null,null,{"$f":"V86*F86","v":0}]
[null,null,null,null,{"$f":"IF(ISBLANK(A87),0,VLOOKUP(A87,'EQUIPMENT INVENTORY'!$B$7:$AK$1021,7,0))","v":0},{"$f":"IF(ISBLANK(A87),0,VLOOKUP(A87,'EQUIPMENT INVENTORY'!$B$7:$AK$1021,8,0))","v":0},null,null,null,null,null,null,null,null,null,null,null,null,null,null,null,{"$f":"SUM($G87:$U87)","v":0},null,null,{"$f":"V87*F87","v":0}]
[null,null,null,null,{"$f":"IF(ISBLANK(A88),0,VLOOKUP(A88,'EQUIPMENT INVENTORY'!$B$7:$AK$1021,7,0))","v":0},{"$f":"IF(ISBLANK(A88),0,VLOOKUP(A88,'EQUIPMENT INVENTORY'!$B$7:$AK$1021,8,0))","v":0},null,null,null,null,null,null,null,null,null,null,null,null,null,null,null,{"$f":"SUM($G88:$U88)","v":0},null,null,{"$f":"V88*F88","v":0}]
[null,"REG",{"$f":"IF(ISBLANK(A89),0,VLOOKUP(A89,'PAYROLL RECORD'!$B$8:$U$2005,18,FALSE))","v":0},{"$f":"IF(ISBLANK(A89),0,VLOOKUP(A89,'PAYROLL RECORD'!$B$8:$D$2005,3,FALSE))","v":0},null,null,null,null,null,null,null,null,null,null,null,null,null,null,null,null,null,{"$f":"SUM($G89:$U89)","v":0},null,null,{"$f":"IF(AND($M$5=\"A\",D89<>\"FT\"),C89*V89,0)+IF(AND($M$5=\"B\",D89<>\"FT\"),C89*V89,0)+IF(AND($M$5=\"AP\"),C89*V89,0)+IF($M$5>=\"C\",C89*V89)","v":0}]
[{"$f":"IF(ISBLANK(A89),\" \",VLOOKUP(A89,'PAYROLL RECORD'!$B$9:$C$10740,2,FALSE))","v":" "},"OT1",{"$f":"IF(ISBLANK(A89),0,VLOOKUP(A89,'PAYROLL RECORD'!$B$8:$U$2005,19,FALSE))","v":0},{"$f":"+D89","v":0},null,null,null,null,null,null,null,null,null,null,null,null,null,null,null,null,null,null,{"$f":"SUM(G90:U90)","v":0},null,null,{"$f":"W90*C90","v":0}]
[null,"OT2",{"$f":"IF(ISBLANK(A89),0,VLOOKUP(A89,'PAYROLL RECORD'!$B$8:$U$2005,20,FALSE))","v":0},{"$f":"+D90","v":0},null,null,null,null,null,null,null,null,null,null,null,null,null,null,null,null,null,null,null,{"$f":"SUM(G91:U91)","v":0},null,null,{"$f":"X91*C91","v":0}]
[null,null,null,null,{"$f":"IF(ISBLANK(A92),0,VLOOKUP(A92,'EQUIPMENT INVENTORY'!$B$7:$AK$1021,7,0))","v":0},{"$f":"IF(ISBLANK(A92),0,VLOOKUP(A92,'EQUIPMENT INVENTORY'!$B$7:$AK$1021,8,0))","v":0},null,null,null,null,null,null,null,null,null,null,null,null,null,null,null,{"$f":"SUM($G92:$U92)","v":0},null,null,{"$f":"V92*F92","v":0}]
[null,null,null,null,{"$f":"IF(ISBLANK(A93),0,VLOOKUP(A93,'EQUIPMENT INVENTORY'!$B$7:$AK$1021,7,0))","v":0},{"$f":"IF(ISBLANK(A93),0,VLOOKUP(A93,'EQUIPMENT INVENTORY'!$B$7:$AK$1021,8,0))","v":0},null,null,null,null,null,null,null,null,null,null,null,null,null,null,null,{"$f":"SUM($G93:$U93)","v":0},null,null,{"$f":"V93*F93","v":0}]
[null,null,null,null,{"$f":"IF(ISBLANK(A94),0,VLOOKUP(A94,'EQUIPMENT INVENTORY'!$B$7:$AK$1021,7,0))","v":0},{"$f":"IF(ISBLANK(A94),0,VLOOKUP(A94,'EQUIPMENT INVENTORY'!$B$7:$AK$1021,8,0))","v":0},null,null,null,null,null,null,null,null,null,null,null,null,null,null,null,{"$f":"SUM($G94:$U94)","v":0},null,null,{"$f":"V94*F94","v":0}]
[null,"REG",{"$f":"IF(ISBLANK(A95),0,VLOOKUP(A95,'PAYROLL RECORD'!$B$8:$U$2005,18,FALSE))","v":0},{"$f":"IF(ISBLANK(A95),0,VLOOKUP(A95,'PAYROLL RECORD'!$B$8:$D$2005,3,FALSE))","v":0},null,null,null,null,null,null,null,null,null,null,null,null,null,null,null,null,null,{"$f":"SUM($G95:$U95)","v":0},null,null,{"$f":"IF(AND($M$5=\"A\",D95<>\"FT\"),C95*V95,0)+IF(AND($M$5=\"B\",D95<>\"FT\"),C95*V95,0)+IF(AND($M$5=\"AP\"),C95*V95,0)+IF($M$5>=\"C\",C95*V95)","v":0}]
[{"$f":"IF(ISBLANK(A95),\" \",VLOOKUP(A95,'PAYROLL RECORD'!$B$9:$C$10740,2,FALSE))","v":" "},"OT1",{"$f":"IF(ISBLANK(A95),0,VLOOKUP(A95,'PAYROLL RECORD'!$B$8:$U$2005,19,FALSE))","v":0},{"$f":"+D95","v":0},null,null,null,null,null,null,null,null,null,null,null,null,null,null,null,null,null,null,{"$f":"SUM(G96:U96)","v":0},null,null,{"$f":"W96*C96","v":0}]
[null,"OT2",{"$f":"IF(ISBLANK(A95),0,VLOOKUP(A95,'PAYROLL RECORD'!$B$8:$U$2005,20,FALSE))","v":0},{"$f":"+D96","v":0},null,null,null,null,null,null,null,null,null,null,null,null,null,null,null,null,null,null,null,{"$f":"SUM(G97:U97)","v":0},null,null,{"$f":"X97*C97","v":0}]
[null,null,null,null,{"$f":"IF(ISBLANK(A98),0,VLOOKUP(A98,'EQUIPMENT INVENTORY'!$B$7:$AK$1021,7,0))","v":0},{"$f":"IF(ISBLANK(A98),0,VLOOKUP(A98,'EQUIPMENT INVENTORY'!$B$7:$AK$1021,8,0))","v":0},null,null,null,null,null,null,null,null,null,null,null,null,null,null,null,{"$f":"SUM($G98:$U98)","v":0},null,null,{"$f":"V98*F98","v":0}]
[null,null,null,null,{"$f":"IF(ISBLANK(A99),0,VLOOKUP(A99,'EQUIPMENT INVENTORY'!$B$7:$AK$1021,7,0))","v":0},{"$f":"IF(ISBLANK(A99),0,VLOOKUP(A99,'EQUIPMENT INVENTORY'!$B$7:$AK$1021,8,0))","v":0},null,null,null,null,null,null,null,null,null,null,null,null,null,null,null,{"$f":"SUM($G99:$U99)","v":0},null,null,{"$f":"V99*F99","v":0}]
[null,null,null,null,{"$f":"IF(ISBLANK(A100),0,VLOOKUP(A100,'EQUIPMENT INVENTORY'!$B$7:$AK$1021,7,0))","v":0},{"$f":"IF(ISBLANK(A100),0,VLOOKUP(A100,'EQUIPMENT INVENTORY'!$B$7:$AK$1021,8,0))","v":0},null,null,null,null,null,null,null,null,null,null,null,null,null,null,null,{"$f":"SUM($G100:$U100)","v":0},null,null,{"$f":"V100*F100","v":0}]
[null,"REG",{"$f":"IF(ISBLANK(A101),0,VLOOKUP(A101,'PAYROLL RECORD'!$B$8:$U$2005,18,FALSE))","v":0},{"$f":"IF(ISBLANK(A101),0,VLOOKUP(A101,'PAYROLL RECORD'!$B$8:$D$2005,3,FALSE))","v":0},null,null,null,null,null,null,null,null,null,null,null,null,null,null,null,null,null,{"$f":"SUM($G101:$U101)","v":0},null,null,{"$f":"IF(AND($M$5=\"A\",D101<>\"FT\"),C101*V101,0)+IF(AND($M$5=\"B\",D101<>\"FT\"),C101*V101,0)+IF(AND($M$5=\"AP\"),C101*V101,0)+IF($M$5>=\"C\",C101*V101)","v":0}]
[{"$f":"IF(ISBLANK(A101),\" \",VLOOKUP(A101,'PAYROLL RECORD'!$B$9:$C$10740,2,FALSE))","v":" "},"OT1",{"$f":"IF(ISBLANK(A101),0,VLOOKUP(A101,'PAYROLL RECORD'!$B$8:$U$2005,19,FALSE))","v":0},{"$f":"+D101","v":0},null,null,null,null,null,null,null,null,null,null,null,null,null,null,null,null,null,null,{"$f":"SUM(G102:U102)","v":0},null,null,{"$f":"W102*C102","v":0}]
[null,"OT2",{"$f":"IF(ISBLANK(A101),0,VLOOKUP(A101,'PAYROLL RECORD'!$B$8:$U$2005,20,FALSE))","v":0},{"$f":"+D102","v":0},null,null,null,null,null,null,null,null,null,null,null,null,null,null,null,null,null,null,null,{"$f":"SUM(G103:U103)","v":0},null,null,{"$f":"X103*C103","v":0}]
[null,null,null,null,{"$f":"IF(ISBLANK(A104),0,VLOOKUP(A104,'EQUIPMENT INVENTORY'!$B$7:$AK$1021,7,0))","v":0},{"$f":"IF(ISBLANK(A104),0,VLOOKUP(A104,'EQUIPMENT INVENTORY'!$B$7:$AK$1021,8,0))","v":0},null,null,null,null,null,null,null,null,null,null,null,null,null,null,null,{"$f":"SUM($G104:$U104)","v":0},null,null,{"$f":"V104*F104","v":0}]
[null,null,null,null,{"$f":"IF(ISBLANK(A105),0,VLOOKUP(A105,'EQUIPMENT INVENTORY'!$B$7:$AK$1021,7,0))","v":0},{"$f":"IF(ISBLANK(A105),0,VLOOKUP(A105,'EQUIPMENT INVENTORY'!$B$7:$AK$1021,8,0))","v":0},null,null,null,null,null,null,null,null,null,null,null,null,null,null,null,{"$f":"SUM($G105:$U105)","v":0},null,null,{"$f":"V105*F105","v":0}]
[null,null,null,null,{"$f":"IF(ISBLANK(A106),0,VLOOKUP(A106,'EQUIPMENT INVENTORY'!$B$7:$AK$1021,7,0))","v":0},{"$f":"IF(ISBLANK(A106),0,VLOOKUP(A106,'EQUIPMENT INVENTORY'!$B$7:$AK$1021,8,0))","v":0},null,null,null,null,null,null,null,null,null,null,null,null,null,null,null,{"$f":"SUM($G106:$U106)","v":0},null,null,{"$f":"V106*F106","v":0}]
[null,"REG",{"$f":"IF(ISBLANK(A107),0,VLOOKUP(A107,'PAYROLL RECORD'!$B$8:$U$2005,18,FALSE))","v":0},{"$f":"IF(ISBLANK(A107),0,VLOOKUP(A107,'PAYROLL RECORD'!$B$8:$D$2005,3,FALSE))","v":0},null,null,null,null,null,null,null,null,null,null,null,null,null,null,null,null,null,{"$f":"SUM($G107:$U107)","v":0},null,null,{"$f":"IF(AND($M$5=\"A\",D107<>\"FT\"),C107*V107,0)+IF(AND($M$5=\"B\",D107<>\"FT\"),C107*V107,0)+IF(AND($M$5=\"AP\"),C107*V107,0)+IF($M$5>=\"C\",C107*V107)","v":0}]
[{"$f":"IF(ISBLANK(A107),\" \",VLOOKUP(A107,'PAYROLL RECORD'!$B$9:$C$10740,2,FALSE))","v":" "},"OT1",{"$f":"IF(ISBLANK(A107),0,VLOOKUP(A107,'PAYROLL RECORD'!$B$8:$U$2005,19,FALSE))","v":0},{"$f":"+D107","v":0},null,null,null,null,null,null,null,null,null,null,null,null,null,null,null,null,null,null,{"$f":"SUM(G108:U108)","v":0},null,null,{"$f":"W108*C108","v":0}]
[null,"OT2",{"$f":"IF(ISBLANK(A107),0,VLOOKUP(A107,'PAYROLL RECORD'!$B$8:$U$2005,20,FALSE))","v":0},{"$f":"+D108","v":0},null,null,null,null,null,null,null,null,null,null,null,null,null,null,null,null,null,null,null,{"$f":"SUM(G109:U109)","v":0},null,null,{"$f":"X109*C109","v":0}]
[null,null,null,null,{"$f":"IF(ISBLANK(A110),0,VLOOKUP(A110,'EQUIPMENT INVENTORY'!$B$7:$AK$1021,7,0))","v":0},{"$f":"IF(ISBLANK(A110),0,VLOOKUP(A110,'EQUIPMENT INVENTORY'!$B$7:$AK$1021,8,0))","v":0},null,null,null,null,null,null,null,null,null,null,null,null,null,null,null,{"$f":"SUM($G110:$U110)","v":0},null,null,{"$f":"V110*F110","v":0}]
[null,null,null,null,{"$f":"IF(ISBLANK(A111),0,VLOOKUP(A111,'EQUIPMENT INVENTORY'!$B$7:$AK$1021,7,0))","v":0},{"$f":"IF(ISBLANK(A111),0,VLOOKUP(A111,'EQUIPMENT INVENTORY'!$B$7:$AK$1021,8,0))","v":0},null,null,null,null,null,null,null,null,null,null,null,null,null,null,null,{"$f":"SUM($G111:$U111)","v":0},null,null,{"$f":"V111*F111","v":0}]
[null,null,null,null,{"$f":"IF(ISBLANK(A112),0,VLOOKUP(A112,'EQUIPMENT INVENTORY'!$B$7:$AK$1021,7,0))","v":0},{"$f":"IF(ISBLANK(A112),0,VLOOKUP(A112,'EQUIPMENT INVENTORY'!$B$7:$AK$1021,8,0))","v":0},null,null,null,null,null,null,null,null,null,null,null,null,null,null,null,{"$f":"SUM($G112:$U112)","v":0},null,null,{"$f":"V112*F112","v":0},null,null,"Reg hrs","ot1 hrs","ot2 hrs","equip hrs"]
[null,null,null,null,null,null,null,null,null,null,null,null,null,null,null,null,"LABOR - Page Total",null,null,null,null,{"$f":"V65+V71+V77+V89+V95+V107+V83+V101","v":0},{"$f":"SUM(W65:W112)","v":0},{"$f":"SUM(X65:X112)","v":0},{"$f":"Y65+Y71+Y77+Y89+Y95+Y107+Y83+Y101","v":0},{"$f":"SUM(Z66:Z112)","v":0},{"$f":"SUM(AA66:AA112)","v":0},{"$f":"V113","v":0},{"$f":"W113","v":0},{"$f":"X113","v":0},{"$f":"V114","v":0},{"$f":"Y113","v":0},{"$f":"Z113","v":0},{"$f":"AA113","v":0},{"$f":"Y114","v":0}]
[null,null,null,null,null,null,null,null,null,null,null,null,null,null,null,null,"EQUIPMENT - Page Total",null,null,null,null,{"$f":"V68+V69+V70+V74+V75+V76+V80+V81+V82+V86+V87+V88+V92+V93+V94+V98+V99+V100+V110+V111+V112+V104+V105+V106","v":0},null,null,{"$f":"Y68+Y69+Y70+Y74+Y75+Y76+Y80+Y81+Y82+Y86+Y87+Y88+Y92+Y93+Y94+Y98+Y99+Y100+Y110+Y111+Y112+Y104+Y105+Y106","v":0}]
[null,null,null,null,null,null,null,null,null,null,null,null,null,null,null,null,"LABOR - Grand Total",null,null,null,null,{"$f":"SUM($AB:$AB)","v":0},{"$f":"SUM($AC:$AC)","v":0},{"$f":"SUM($AD:$AD)","v":0},{"$f":"SUM(AF:AF)","v":0},{"$f":"SUM($AG:$AG)","v":0},{"$f":"SUM($AH:$AH)","v":0}]
[null,null,null,null,null,null,null,null,null,null,null,null,null,null,null,null,"EQUIPMENT - Grand Total",null,null,null,null,{"$f":"SUM($AE:$AE)","v":0},null,null,{"$f":"SUM($AI:$AI)","v":0}]
[]
[]
["COST SUMMARY FOR LABOR/EQUIPMENT"]
["APPLICANT - FIPS#",null,null,null,"DISASTER #:",null,null,"PROJECT #:",null,null,null,null,"FEMA CAT A-G",null,null,"EMMIE #",null,null,null,"Work Completion Date"]
[{"$f":"IF('PAYROLL RECORD'!$B$5=\"START HERE\",\"\",'PAYROLL RECORD'!$B$5)","v":0},null,null,null,{"$f":"IF('PAYROLL RECORD'!$F$5=\"\",\"\",'PAYROLL RECORD'!$F$5)","v":""},null,null,{"$f":"'PAYROLL RECORD'!I120:L120","v":{"$error":"#VALUE!"}},null,null,null,null,{"$f":"IF('PAYROLL RECORD'!$M$5=\"CATEGORY\",\"\",'PAYROLL RECORD'!$M$5)","v":0},null,null,{"$f":"IF('PAYROLL RECORD'!$O$5=\"EMMIE #\",\"\",'PAYROLL RECORD'!$O$5)","v":0},null,null,null,{"$f":"IF('PAYROLL RECORD'!$Q$5=\"DATE\",\"\",'PAYROLL RECORD'!$Q$5)","v":"00:00:00"}]
["Employee/\nEquipment",null,"RATE w/","STATUS","COST CODE","RATE","2018-10-31",{"$f":"+G122+1","v":"2018-11-01"},{"$f":"H122+1","v":"2018-11-02"},"2018-11-03","2018-11-04","2018-11-05","2018-11-06","2018-11-07","2018-11-08","2018-11-09","2018-11-10","2018-11-11","2018-11-12","2018-11-13","2018-11-14","REG","OT1","OT2","REG TIME\nCOST","OT1\nCOST","OT2\nCOST"]
[null,null,"FRINGE",null,null,null,{"$f":"IF(G122<=0,\"\",TEXT(WEEKDAY(G122),\"ddd\"))","v":"Wed"},{"$f":"IF(H122<=0,\"\",TEXT(WEEKDAY(H122),\"ddd\"))","v":"Thu"},"Fri","Sat","Sun","Mon","Tue","Wed","Thu","Fri","Sat","Sun","Mon","Tue","Wed"]
[null,"REG",{"$f":"IF(ISBLANK(A124),0,VLOOKUP(A124,'PAYROLL RECORD'!$B$8:$U$2005,18,FALSE))","v":0},{"$f":"IF(ISBLANK(A124),0,VLOOKUP(A124,'PAYROLL RECORD'!$B$8:$D$2005,3,FALSE))","v":0},null,null,null,null,null,null,null,null,null,null,null,null,null,null,null,null,null,{"$f":"SUM($G124:$U124)","v":0},null,null,{"$f":"IF(AND($M$5=\"A\",D124<>\"FT\"),C124*V124,0)+IF(AND($M$5=\"B\",D124<>\"FT\"),C124*V124,0)+IF(AND($M$5=\"AP\"),C124*V124,0)+IF($M$5>=\"C\",C124*V124)","v":0}]
[{"$f":"IF(ISBLANK(A124),\" \",VLOOKUP(A124,'PAYROLL RECORD'!$B$9:$C$10740,2,FALSE))","v":" "},"OT1",{"$f":"IF(ISBLANK(A124),0,VLOOKUP(A124,'PAYROLL RECORD'!$B$8:$U$2005,19,FALSE))","v":0},{"$f":"+D124","v":0},null,null,null,null,null,null,null,null,null,null,null,null,null,null,null,null,null,null,{"$f":"SUM(G125:U125)","v":0},null,null,{"$f":"W125*C125","v":0}]
[null,"OT2",{"$f":"IF(ISBLANK(A124),0,VLOOKUP(A124,'PAYROLL RECORD'!$B$8:$U$2005,20,FALSE))","v":0},{"$f":"+D125","v":0},null,null,null,null,null,null,null,null,null,null,null,null,null,null,null,null,null,null,null,{"$f":"SUM(G126:U126)","v":0},null,null,{"$f":"X126*C126","v":0}]
[null,null,null,null,{"$f":"IF(ISBLANK(A127),0,VLOOKUP(A127,'EQUIPMENT INVENTORY'!$B$7:$AK$1021,7,0))","v":0},{"$f":"IF(ISBLANK(A127),0,VLOOKUP(A127,'EQUIPMENT INVENTORY'!$B$7:$AK$1021,8,0))","v":0},null,null,null,null,null,null,null,null,null,null,null,null,null,null,null,{"$f":"SUM($G127:$U127)","v":0},null,null,{"$f":"V127*F127","v":0}]
[null,null,null,null,{"$f":"IF(ISBLANK(A128),0,VLOOKUP(A128,'EQUIPMENT INVENTORY'!$B$7:$AK$1021,7,0))","v":0},{"$f":"IF(ISBLANK(A128),0,VLOOKUP(A128,'EQUIPMENT INVENTORY'!$B$7:$AK$1021,8,0))","v":0},null,null,null,null,null,null,null,null,null,null,null,null,null,null,null,{"$f":"SUM($G128:$U128)","v":0},null,null,{"$f":"V128*F128","v":0}]
[null,null,null,null,{"$f":"IF(ISBLANK(A129),0,VLOOKUP(A129,'EQUIPMENT INVENTORY'!$B$7:$AK$1021,7,0))","v":0},{"$f":"IF(ISBLANK(A129),0,VLOOKUP(A129,'EQUIPMENT INVENTORY'!$B$7:$AK$1021,8,0))","v":0},null,null,null,null,null,null,null,null,null,null,null,null,null,null,null,{"$f":"SUM($G129:$U129)","v":0},null,null,{"$f":"V129*F129","v":0}]
[null,"REG",{"$f":"IF(ISBLANK(A130),0,VLOOKUP(A130,'PAYROLL RECORD'!$B$8:$U$2005,18,FALSE))","v":0},{"$f":"IF(ISBLANK(A130),0,VLOOKUP(A130,'PAYROLL RECORD'!$B$8:$D$2005,3,FALSE))","v":0},null,null,null,null,null,null,null,null,null,null,null,null,null,null,null,null,null,{"$f":"SUM($G130:$U130)","v":0},null,null,{"$f":"IF(AND($M$5=\"A\",D130<>\"FT\"),C130*V130,0)+IF(AND($M$5=\"B\",D130<>\"FT\"),C130*V130,0)+IF(AND($M$5=\"AP\"),C130*V130,0)+IF($M$5>=\"C\",C130*V130)","v":0}]
[{"$f":"IF(ISBLANK(A130),\" \",VLOOKUP(A130,'PAYROLL RECORD'!$B$9:$C$10740,2,FALSE))","v":" "},"OT1",{"$f":"IF(ISBLANK(A130),0,VLOOKUP(A130,'PAYROLL RECORD'!$B$8:$U$2005,19,FALSE))","v":0},{"$f":"+D130","v":0},null,null,null,null,null,null,null,null,null,null,null,null,null,null,null,null,null,null,{"$f":"SUM(G131:U131)","v":0},null,null,{"$f":"W131*C131","v":0}]
[null,"OT2",{"$f":"IF(ISBLANK(A130),0,VLOOKUP(A130,'PAYROLL RECORD'!$B$8:$U$2005,20,FALSE))","v":0},{"$f":"+D131","v":0},null,null,null,null,null,null,null,null,null,null,null,null,null,null,null,null,null,null,null,{"$f":"SUM(G132:U132)","v":0},null,null,{"$f":"X132*C132","v":0}]
[null,null,null,null,{"$f":"IF(ISBLANK(A133),0,VLOOKUP(A133,'EQUIPMENT INVENTORY'!$B$7:$AK$1021,7,0))","v":0},{"$f":"IF(ISBLANK(A133),0,VLOOKUP(A133,'EQUIPMENT INVENTORY'!$B$7:$AK$1021,8,0))","v":0},null,null,null,null,null,null,null,null,null,null,null,null,null,null,null,{"$f":"SUM($G133:$U133)","v":0},null,null,{"$f":"V133*F133","v":0}]
[null,null,null,null,{"$f":"IF(ISBLANK(A134),0,VLOOKUP(A134,'EQUIPMENT INVENTORY'!$B$7:$AK$1021,7,0))","v":0},{"$f":"IF(ISBLANK(A134),0,VLOOKUP(A134,'EQUIPMENT INVENTORY'!$B$7:$AK$1021,8,0))","v":0},null,null,null,null,null,null,null,null,null,null,null,null,null,null,null,{"$f":"SUM($G134:$U134)","v":0},null,null,{"$f":"V134*F134","v":0}]
[null,null,null,null,{"$f":"IF(ISBLANK(A135),0,VLOOKUP(A135,'EQUIPMENT INVENTORY'!$B$7:$AK$1021,7,0))","v":0},{"$f":"IF(ISBLANK(A135),0,VLOOKUP(A135,'EQUIPMENT INVENTORY'!$B$7:$AK$1021,8,0))","v":0},null,null,null,null,null,null,null,null,null,null,null,null,null,null,null,{"$f":"SUM($G135:$U135)","v":0},null,null,{"$f":"V135*F135","v":0}]
[null,"REG",{"$f":"IF(ISBLANK(A136),0,VLOOKUP(A136,'PAYROLL RECORD'!$B$8:$U$2005,18,FALSE))","v":0},{"$f":"IF(ISBLANK(A136),0,VLOOKUP(A136,'PAYROLL RECORD'!$B$8:$D$2005,3,FALSE))","v":0},null,null,null,null,null,null,null,null,null,null,null,null,null,null,null,null,null,{"$f":"SUM($G136:$U136)","v":0},null,null,{"$f":"IF(AND($M$5=\"A\",D136<>\"FT\"),C136*V136,0)+IF(AND($M$5=\"B\",D136<>\"FT\"),C136*V136,0)+IF(AND($M$5=\"AP\"),C136*V136,0)+IF($M$5>=\"C\",C136*V136)","v":0}]
[{"$f":"IF(ISBLANK(A136),\" \",VLOOKUP(A136,'PAYROLL RECORD'!$B$9:$C$10740,2,FALSE))","v":" "},"OT1",{"$f":"IF(ISBLANK(A136),0,VLOOKUP(A136,'PAYROLL RECORD'!$B$8:$U$2005,19,FALSE))","v":0},{"$f":"+D136","v":0},null,null,null,null,null,null,null,null,null,null,null,null,null,null,null,null,null,null,{"$f":"SUM(G137:U137)","v":0},null,null,{"$f":"W137*C137","v":0}]
[null,"OT2",{"$f":"IF(ISBLANK(A136),0,VLOOKUP(A136,'PAYROLL RECORD'!$B$8:$U$2005,20,FALSE))","v":0},{"$f":"+D137","v":0},null,null,null,null,null,null,null,null,null,null,null,null,null,null,null,null,null,null,null,{"$f":"SUM(G138:U138)","v":0},null,null,{"$f":"X138*C138","v":0}]
[null,null,null,null,{"$f":"IF(ISBLANK(A139),0,VLOOKUP(A139,'EQUIPMENT INVENTORY'!$B$7:$AK$1021,7,0))","v":0},{"$f":"IF(ISBLANK(A139),0,VLOOKUP(A139,'EQUIPMENT INVENTORY'!$B$7:$AK$1021,8,0))","v":0},null,null,null,null,null,null,null,null,null,null,null,null,null,null,null,{"$f":"SUM($G139:$U139)","v":0},null,null,{"$f":"V139*F139","v":0}]
[null,null,null,null,{"$f":"IF(ISBLANK(A140),0,VLOOKUP(A140,'EQUIPMENT INVENTORY'!$B$7:$AK$1021,7,0))","v":0},{"$f":"IF(ISBLANK(A140),0,VLOOKUP(A140,'EQUIPMENT INVENTORY'!$B$7:$AK$1021,8,0))","v":0},null,null,null,null,null,null,null,null,null,null,null,null,null,null,null,{"$f":"SUM($G140:$U140)","v":0},null,null,{"$f":"V140*F140","v":0}]
[null,null,null,null,{"$f":"IF(ISBLANK(A141),0,VLOOKUP(A141,'EQUIPMENT INVENTORY'!$B$7:$AK$1021,7,0))","v":0},{"$f":"IF(ISBLANK(A141),0,VLOOKUP(A141,'EQUIPMENT INVENTORY'!$B$7:$AK$1021,8,0))","v":0},null,null,null,null,null,null,null,null,null,null,null,null,null,null,null,{"$f":"SUM($G141:$U141)","v":0},null,null,{"$f":"V141*F141","v":0}]
[null,"REG",{"$f":"IF(ISBLANK(A142),0,VLOOKUP(A142,'PAYROLL RECORD'!$B$8:$U$2005,18,FALSE))","v":0},{"$f":"IF(ISBLANK(A142),0,VLOOKUP(A142,'PAYROLL RECORD'!$B$8:$D$2005,3,FALSE))","v":0},null,null,null,null,null,null,null,null,null,null,null,null,null,null,null,null,null,{"$f":"SUM($G142:$U142)","v":0},null,null,{"$f":"IF(AND($M$5=\"A\",D142<>\"FT\"),C142*V142,0)+IF(AND($M$5=\"B\",D142<>\"FT\"),C142*V142,0)+IF(AND($M$5=\"AP\"),C142*V142,0)+IF($M$5>=\"C\",C142*V142)","v":0}]
[{"$f":"IF(ISBLANK(A142),\" \",VLOOKUP(A142,'PAYROLL RECORD'!$B$9:$C$10740,2,FALSE))","v":" "},"OT1",{"$f":"IF(ISBLANK(A142),0,VLOOKUP(A142,'PAYROLL RECORD'!$B$8:$U$2005,19,FALSE))","v":0},{"$f":"+D142","v":0},null,null,null,null,null,null,null,null,null,null,null,null,null,null,null,null,null,null,{"$f":"SUM(G143:U143)","v":0},null,null,{"$f":"W143*C143","v":0}]
[null,"OT2",{"$f":"IF(ISBLANK(A142),0,VLOOKUP(A142,'PAYROLL RECORD'!$B$8:$U$2005,20,FALSE))","v":0},{"$f":"+D143","v":0},null,null,null,null,null,null,null,null,null,null,null,null,null,null,null,null,null,null,null,{"$f":"SUM(G144:U144)","v":0},null,null,{"$f":"X144*C144","v":0}]
[null,null,null,null,{"$f":"IF(ISBLANK(A145),0,VLOOKUP(A145,'EQUIPMENT INVENTORY'!$B$7:$AK$1021,7,0))","v":0},{"$f":"IF(ISBLANK(A145),0,VLOOKUP(A145,'EQUIPMENT INVENTORY'!$B$7:$AK$1021,8,0))","v":0},null,null,null,null,null,null,null,null,null,null,null,null,null,null,null,{"$f":"SUM($G145:$U145)","v":0},null,null,{"$f":"V145*F145","v":0}]
[null,null,null,null,{"$f":"IF(ISBLANK(A146),0,VLOOKUP(A146,'EQUIPMENT INVENTORY'!$B$7:$AK$1021,7,0))","v":0},{"$f":"IF(ISBLANK(A146),0,VLOOKUP(A146,'EQUIPMENT INVENTORY'!$B$7:$AK$1021,8,0))","v":0},null,null,null,null,null,null,null,null,null,null,null,null,null,null,null,{"$f":"SUM($G146:$U146)","v":0},null,null,{"$f":"V146*F146","v":0}]
[null,null,null,null,{"$f":"IF(ISBLANK(A147),0,VLOOKUP(A147,'EQUIPMENT INVENTORY'!$B$7:$AK$1021,7,0))","v":0},{"$f":"IF(ISBLANK(A147),0,VLOOKUP(A147,'EQUIPMENT INVENTORY'!$B$7:$AK$1021,8,0))","v":0},null,null,null,null,null,null,null,null,null,null,null,null,null,null,null,{"$f":"SUM($G147:$U147)","v":0},null,null,{"$f":"V147*F147","v":0}]
[null,"REG",{"$f":"IF(ISBLANK(A148),0,VLOOKUP(A148,'PAYROLL RECORD'!$B$8:$U$2005,18,FALSE))","v":0},{"$f":"IF(ISBLANK(A148),0,VLOOKUP(A148,'PAYROLL RECORD'!$B$8:$D$2005,3,FALSE))","v":0},null,null,null,null,null,null,null,null,null,null,null,null,null,null,null,null,null,{"$f":"SUM($G148:$U148)","v":0},null,null,{"$f":"IF(AND($M$5=\"A\",D148<>\"FT\"),C148*V148,0)+IF(AND($M$5=\"B\",D148<>\"FT\"),C148*V148,0)+IF(AND($M$5=\"AP\"),C148*V148,0)+IF($M$5>=\"C\",C148*V148)","v":0}]
[{"$f":"IF(ISBLANK(A148),\" \",VLOOKUP(A148,'PAYROLL RECORD'!$B$9:$C$10740,2,FALSE))","v":" "},"OT1",{"$f":"IF(ISBLANK(A148),0,VLOOKUP(A148,'PAYROLL RECORD'!$B$8:$U$2005,19,FALSE))","v":0},{"$f":"+D148","v":0},null,null,null,null,null,null,null,null,null,null,null,null,null,null,null,null,null,null,{"$f":"SUM(G149:U149)","v":0},null,null,{"$f":"W149*C149","v":0}]
[null,"OT2",{"$f":"IF(ISBLANK(A148),0,VLOOKUP(A148,'PAYROLL RECORD'!$B$8:$U$2005,20,FALSE))","v":0},{"$f":"+D149","v":0},null,null,null,null,null,null,null,null,null,null,null,null,null,null,null,null,null,null,null,{"$f":"SUM(G150:U150)","v":0},null,null,{"$f":"X150*C150","v":0}]
[null,null,null,null,{"$f":"IF(ISBLANK(A151),0,VLOOKUP(A151,'EQUIPMENT INVENTORY'!$B$7:$AK$1021,7,0))","v":0},{"$f":"IF(ISBLANK(A151),0,VLOOKUP(A151,'EQUIPMENT INVENTORY'!$B$7:$AK$1021,8,0))","v":0},null,null,null,null,null,null,null,null,null,null,null,null,null,null,null,{"$f":"SUM($G151:$U151)","v":0},null,null,{"$f":"V151*F151","v":0}]
[null,null,null,null,{"$f":"IF(ISBLANK(A152),0,VLOOKUP(A152,'EQUIPMENT INVENTORY'!$B$7:$AK$1021,7,0))","v":0},{"$f":"IF(ISBLANK(A152),0,VLOOKUP(A152,'EQUIPMENT INVENTORY'!$B$7:$AK$1021,8,0))","v":0},null,null,null,null,null,null,null,null,null,null,null,null,null,null,null,{"$f":"SUM($G152:$U152)","v":0},null,null,{"$f":"V152*F152","v":0}]
[null,null,null,null,{"$f":"IF(ISBLANK(A153),0,VLOOKUP(A153,'EQUIPMENT INVENTORY'!$B$7:$AK$1021,7,0))","v":0},{"$f":"IF(ISBLANK(A153),0,VLOOKUP(A153,'EQUIPMENT INVENTORY'!$B$7:$AK$1021,8,0))","v":0},null,null,null,null,null,null,null,null,null,null,null,null,null,null,null,{"$f":"SUM($G153:$U153)","v":0},null,null,{"$f":"V153*F153","v":0}]
[null,"REG",{"$f":"IF(ISBLANK(A154),0,VLOOKUP(A154,'PAYROLL RECORD'!$B$8:$U$2005,18,FALSE))","v":0},{"$f":"IF(ISBLANK(A154),0,VLOOKUP(A154,'PAYROLL RECORD'!$B$8:$D$2005,3,FALSE))","v":0},null,null,null,null,null,null,null,null,null,null,null,null,null,null,null,null,null,{"$f":"SUM($G154:$U154)","v":0},null,null,{"$f":"IF(AND($M$5=\"A\",D154<>\"FT\"),C154*V154,0)+IF(AND($M$5=\"B\",D154<>\"FT\"),C154*V154,0)+IF(AND($M$5=\"AP\"),C154*V154,0)+IF($M$5>=\"C\",C154*V154)","v":0}]
[{"$f":"IF(ISBLANK(A154),\" \",VLOOKUP(A154,'PAYROLL RECORD'!$B$9:$C$10740,2,FALSE))","v":" "},"OT1",{"$f":"IF(ISBLANK(A154),0,VLOOKUP(A154,'PAYROLL RECORD'!$B$8:$U$2005,19,FALSE))","v":0},{"$f":"+D154","v":0},null,null,null,null,null,null,null,null,null,null,null,null,null,null,null,null,null,null,{"$f":"SUM(G155:U155)","v":0},null,null,{"$f":"W155*C155","v":0}]
[null,"OT2",{"$f":"IF(ISBLANK(A154),0,VLOOKUP(A154,'PAYROLL RECORD'!$B$8:$U$2005,20,FALSE))","v":0},{"$f":"+D155","v":0},null,null,null,null,null,null,null,null,null,null,null,null,null,null,null,null,null,null,null,{"$f":"SUM(G156:U156)","v":0},null,null,{"$f":"X156*C156","v":0}]
[null,null,null,null,{"$f":"IF(ISBLANK(A157),0,VLOOKUP(A157,'EQUIPMENT INVENTORY'!$B$7:$AK$1021,7,0))","v":0},{"$f":"IF(ISBLANK(A157),0,VLOOKUP(A157,'EQUIPMENT INVENTORY'!$B$7:$AK$1021,8,0))","v":0},null,null,null,null,null,null,null,null,null,null,null,null,null,null,null,{"$f":"SUM($G157:$U157)","v":0},null,null,{"$f":"V157*F157","v":0}]
[null,null,null,null,{"$f":"IF(ISBLANK(A158),0,VLOOKUP(A158,'EQUIPMENT INVENTORY'!$B$7:$AK$1021,7,0))","v":0},{"$f":"IF(ISBLANK(A158),0,VLOOKUP(A158,'EQUIPMENT INVENTORY'!$B$7:$AK$1021,8,0))","v":0},null,null,null,null,null,null,null,null,null,null,null,null,null,null,null,{"$f":"SUM($G158:$U158)","v":0},null,null,{"$f":"V158*F158","v":0}]
[null,null,null,null,{"$f":"IF(ISBLANK(A159),0,VLOOKUP(A159,'EQUIPMENT INVENTORY'!$B$7:$AK$1021,7,0))","v":0},{"$f":"IF(ISBLANK(A159),0,VLOOKUP(A159,'EQUIPMENT INVENTORY'!$B$7:$AK$1021,8,0))","v":0},null,null,null,null,null,null,null,null,null,null,null,null,null,null,null,{"$f":"SUM($G159:$U159)","v":0},null,null,{"$f":"V159*F159","v":0}]
[null,"REG",{"$f":"IF(ISBLANK(A160),0,VLOOKUP(A160,'PAYROLL RECORD'!$B$8:$U$2005,18,FALSE))","v":0},{"$f":"IF(ISBLANK(A160),0,VLOOKUP(A160,'PAYROLL RECORD'!$B$8:$D$2005,3,FALSE))","v":0},null,null,null,null,null,null,null,null,null,null,null,null,null,null,null,null,null,{"$f":"SUM($G160:$U160)","v":0},null,null,{"$f":"IF(AND($M$5=\"A\",D160<>\"FT\"),C160*V160,0)+IF(AND($M$5=\"B\",D160<>\"FT\"),C160*V160,0)+IF(AND($M$5=\"AP\"),C160*V160,0)+IF($M$5>=\"C\",C160*V160)","v":0}]
[{"$f":"IF(ISBLANK(A160),\" \",VLOOKUP(A160,'PAYROLL RECORD'!$B$9:$C$10740,2,FALSE))","v":" "},"OT1",{"$f":"IF(ISBLANK(A160),0,VLOOKUP(A160,'PAYROLL RECORD'!$B$8:$U$2005,19,FALSE))","v":0},{"$f":"+D160","v":0},null,null,null,null,null,null,null,null,null,null,null,null,null,null,null,null,null,null,{"$f":"SUM(G161:U161)","v":0},null,null,{"$f":"W161*C161","v":0}]
[null,"OT2",{"$f":"IF(ISBLANK(A160),0,VLOOKUP(A160,'PAYROLL RECORD'!$B$8:$U$2005,20,FALSE))","v":0},{"$f":"+D161","v":0},null,null,null,null,null,null,null,null,null,null,null,null,null,null,null,null,null,null,null,{"$f":"SUM(G162:U162)","v":0},null,null,{"$f":"X162*C162","v":0}]
[null,null,null,null,{"$f":"IF(ISBLANK(A163),0,VLOOKUP(A163,'EQUIPMENT INVENTORY'!$B$7:$AK$1021,7,0))","v":0},{"$f":"IF(ISBLANK(A163),0,VLOOKUP(A163,'EQUIPMENT INVENTORY'!$B$7:$AK$1021,8,0))","v":0},null,null,null,null,null,null,null,null,null,null,null,null,null,null,null,{"$f":"SUM($G163:$U163)","v":0},null,null,{"$f":"V163*F163","v":0}]
[null,null,null,null,{"$f":"IF(ISBLANK(A164),0,VLOOKUP(A164,'EQUIPMENT INVENTORY'!$B$7:$AK$1021,7,0))","v":0},{"$f":"IF(ISBLANK(A164),0,VLOOKUP(A164,'EQUIPMENT INVENTORY'!$B$7:$AK$1021,8,0))","v":0},null,null,null,null,null,null,null,null,null,null,null,null,null,null,null,{"$f":"SUM($G164:$U164)","v":0},null,null,{"$f":"V164*F164","v":0}]
[null,null,null,null,{"$f":"IF(ISBLANK(A165),0,VLOOKUP(A165,'EQUIPMENT INVENTORY'!$B$7:$AK$1021,7,0))","v":0},{"$f":"IF(ISBLANK(A165),0,VLOOKUP(A165,'EQUIPMENT INVENTORY'!$B$7:$AK$1021,8,0))","v":0},null,null,null,null,null,null,null,null,null,null,null,null,null,null,null,{"$f":"SUM($G165:$U165)","v":0},null,null,{"$f":"V165*F165","v":0}]
[null,"REG",{"$f":"IF(ISBLANK(A166),0,VLOOKUP(A166,'PAYROLL RECORD'!$B$8:$U$2005,18,FALSE))","v":0},{"$f":"IF(ISBLANK(A166),0,VLOOKUP(A166,'PAYROLL RECORD'!$B$8:$D$2005,3,FALSE))","v":0},null,null,null,null,null,null,null,null,null,null,null,null,null,null,null,null,null,{"$f":"SUM($G166:$U166)","v":0},null,null,{"$f":"IF(AND($M$5=\"A\",D166<>\"FT\"),C166*V166,0)+IF(AND($M$5=\"B\",D166<>\"FT\"),C166*V166,0)+IF(AND($M$5=\"AP\"),C166*V166,0)+IF($M$5>=\"C\",C166*V166)","v":0}]
[{"$f":"IF(ISBLANK(A166),\" \",VLOOKUP(A166,'PAYROLL RECORD'!$B$9:$C$10740,2,FALSE))","v":" "},"OT1",{"$f":"IF(ISBLANK(A166),0,VLOOKUP(A166,'PAYROLL RECORD'!$B$8:$U$2005,19,FALSE))","v":0},{"$f":"+D166","v":0},null,null,null,null,null,null,null,null,null,null,null,null,null,null,null,null,null,null,{"$f":"SUM(G167:U167)","v":0},null,null,{"$f":"W167*C167","v":0}]
[null,"OT2",{"$f":"IF(ISBLANK(A166),0,VLOOKUP(A166,'PAYROLL RECORD'!$B$8:$U$2005,20,FALSE))","v":0},{"$f":"+D167","v":0},null,null,null,null,null,null,null,null,null,null,null,null,null,null,null,null,null,null,null,{"$f":"SUM(G168:U168)","v":0},null,null,{"$f":"X168*C168","v":0}]
[null,null,null,null,{"$f":"IF(ISBLANK(A169),0,VLOOKUP(A169,'EQUIPMENT INVENTORY'!$B$7:$AK$1021,7,0))","v":0},{"$f":"IF(ISBLANK(A169),0,VLOOKUP(A169,'EQUIPMENT INVENTORY'!$B$7:$AK$1021,8,0))","v":0},null,null,null,null,null,null,null,null,null,null,null,null,null,null,null,{"$f":"SUM($G169:$U169)","v":0},null,null,{"$f":"V169*F169","v":0}]
[null,null,null,null,{"$f":"IF(ISBLANK(A170),0,VLOOKUP(A170,'EQUIPMENT INVENTORY'!$B$7:$AK$1021,7,0))","v":0},{"$f":"IF(ISBLANK(A170),0,VLOOKUP(A170,'EQUIPMENT INVENTORY'!$B$7:$AK$1021,8,0))","v":0},null,null,null,null,null,null,null,null,null,null,null,null,null,null,null,{"$f":"SUM($G170:$U170)","v":0},null,null,{"$f":"V170*F170","v":0}]
[null,null,null,null,{"$f":"IF(ISBLANK(A171),0,VLOOKUP(A171,'EQUIPMENT INVENTORY'!$B$7:$AK$1021,7,0))","v":0},{"$f":"IF(ISBLANK(A171),0,VLOOKUP(A171,'EQUIPMENT INVENTORY'!$B$7:$AK$1021,8,0))","v":0},null,null,null,null,null,null,null,null,null,null,null,null,null,null,null,{"$f":"SUM($G171:$U171)","v":0},null,null,{"$f":"V171*F171","v":0},null,null,"Reg hrs","ot1 hrs","ot2 hrs","equip hrs"]
[null,null,null,null,null,null,null,null,null,null,null,null,null,null,null,null,"LABOR - Page Total",null,null,null,null,{"$f":"V124+V130+V136+V148+V154+V166+V142+V160","v":0},{"$f":"SUM(W124:W171)","v":0},{"$f":"SUM(X124:X171)","v":0},{"$f":"Y124+Y130+Y136+Y148+Y154+Y166+Y142+Y160","v":0},{"$f":"SUM(Z125:Z171)","v":0},{"$f":"SUM(AA125:AA171)","v":0},{"$f":"V172","v":0},{"$f":"W172","v":0},{"$f":"X172","v":0},{"$f":"V173","v":0},{"$f":"Y172","v":0},{"$f":"Z172","v":0},{"$f":"AA172","v":0},{"$f":"Y173","v":0}]
[null,null,null,null,null,null,null,null,null,null,null,null,null,null,null,null,"EQUIPMENT - Page Total",null,null,null,null,{"$f":"V127+V128+V129+V133+V134+V135+V139+V140+V141+V145+V146+V147+V151+V152+V153+V157+V158+V159+V169+V170+V171+V163+V164+V165","v":0},null,null,{"$f":"Y127+Y128+Y129+Y133+Y134+Y135+Y139+Y140+Y141+Y145+Y146+Y147+Y151+Y152+Y153+Y157+Y158+Y159+Y169+Y170+Y171+Y163+Y164+Y165","v":0}]
[null,null,null,null,null,null,null,null,null,null,null,null,null,null,null,null,"LABOR - Grand Total",null,null,null,null,{"$f":"SUM($AB:$AB)","v":0},{"$f":"SUM($AC:$AC)","v":0},{"$f":"SUM($AD:$AD)","v":0},{"$f":"SUM(AF:AF)","v":0},{"$f":"SUM($AG:$AG)","v":0},{"$f":"SUM($AH:$AH)","v":0}]
[null,null,null,null,null,null,null,null,null,null,null,null,null,null,null,null,"EQUIPMENT - Grand Total",null,null,null,null,{"$f":"SUM($AE:$AE)","v":0},null,null,{"$f":"SUM($AI:$AI)","v":0}]
[]
[]
["COST SUMMARY FOR LABOR/EQUIPMENT"]
["APPLICANT - FIPS#",null,null,null,"DISASTER #:",null,null,"PROJECT #:",null,null,null,null,"FEMA CAT A-G",null,null,"EMMIE #",null,null,null,"Work Completion Date"]
[{"$f":"IF('PAYROLL RECORD'!$B$5=\"START HERE\",\"\",'PAYROLL RECORD'!$B$5)","v":0},null,null,null,{"$f":"IF('PAYROLL RECORD'!$F$5=\"\",\"\",'PAYROLL RECORD'!$F$5)","v":""},null,null,{"$f":"'PAYROLL RECORD'!I179:L179","v":{"$error":"#VALUE!"}},null,null,null,null,{"$f":"IF('PAYROLL RECORD'!$M$5=\"CATEGORY\",\"\",'PAYROLL RECORD'!$M$5)","v":0},null,null,{"$f":"IF('PAYROLL RECORD'!$O$5=\"EMMIE #\",\"\",'PAYROLL RECORD'!$O$5)","v":0},null,null,null,{"$f":"IF('PAYROLL RECORD'!$Q$5=\"DATE\",\"\",'PAYROLL RECORD'!$Q$5)","v":"00:00:00"}]
["Employee/\nEquipment",null,"RATE w/","STATUS","COST CODE","RATE","2018-10-31",{"$f":"+G181+1","v":"2018-11-01"},{"$f":"H181+1","v":"2018-11-02"},"2018-11-03","2018-11-04","2018-11-05","2018-11-06","2018-11-07","2018-11-08","2018-11-09","2018-11-10","2018-11-11","2018-11-12","2018-11-13","2018-11-14","REG","OT1","OT2","REG TIME\nCOST","OT1\nCOST","OT2\nCOST"]
[null,null,"FRINGE",null,null,null,{"$f":"IF(G181<=0,\"\",TEXT(WEEKDAY(G181),\"ddd\"))","v":"Wed"},{"$f":"IF(H181<=0,\"\",TEXT(WEEKDAY(H181),\"ddd\"))","v":"Thu"},"Fri","Sat","Sun","Mon","Tue","Wed","Thu","Fri","Sat","Sun","Mon","Tue","Wed"]
[null,"REG",{"$f":"IF(ISBLANK(A183),0,VLOOKUP(A183,'PAYROLL RECORD'!$B$8:$U$2005,18,FALSE))","v":0},{"$f":"IF(ISBLANK(A183),0,VLOOKUP(A183,'PAYROLL RECORD'!$B$8:$D$2005,3,FALSE))","v":0},null,null,null,null,null,null,null,null,null,null,null,null,null,null,null,null,null,{"$f":"SUM($G183:$U183)","v":0},null,null,{"$f":"IF(AND($M$5=\"A\",D183<>\"FT\"),C183*V183,0)+IF(AND($M$5=\"B\",D183<>\"FT\"),C183*V183,0)+IF(AND($M$5=\"AP\"),C183*V183,0)+IF($M$5>=\"C\",C183*V183)","v":0}]
[{"$f":"IF(ISBLANK(A183),\" \",VLOOKUP(A183,'PAYROLL RECORD'!$B$9:$C$10740,2,FALSE))","v":" "},"OT1",{"$f":"IF(ISBLANK(A183),0,VLOOKUP(A183,'PAYROLL RECORD'!$B$8:$U$2005,19,FALSE))","v":0},{"$f":"+D183","v":0},null,null,null,null,null,null,null,null,null,null,null,null,null,null,null,null,null,null,{"$f":"SUM(G184:U184)","v":0},null,null,{"$f":"W184*C184","v":0}]
[null,"OT2",{"$f":"IF(ISBLANK(A183),0,VLOOKUP(A183,'PAYROLL RECORD'!$B$8:$U$2005,20,FALSE))","v":0},{"$f":"+D184","v":0},null,null,null,null,null,null,null,null,null,null,null,null,null,null,null,null,null,null,null,{"$f":"SUM(G185:U185)","v":0},null,null,{"$f":"X185*C185","v":0}]
[null,null,null,null,{"$f":"IF(ISBLANK(A186),0,VLOOKUP(A186,'EQUIPMENT INVENTORY'!$B$7:$AK$1021,7,0))","v":0},{"$f":"IF(ISBLANK(A186),0,VLOOKUP(A186,'EQUIPMENT INVENTORY'!$B$7:$AK$1021,8,0))","v":0},null,null,null,null,null,null,null,null,null,null,null,null,null,null,null,{"$f":"SUM($G186:$U186)","v":0},null,null,{"$f":"V186*F186","v":0}]
[null,null,null,null,{"$f":"IF(ISBLANK(A187),0,VLOOKUP(A187,'EQUIPMENT INVENTORY'!$B$7:$AK$1021,7,0))","v":0},{"$f":"IF(ISBLANK(A187),0,VLOOKUP(A187,'EQUIPMENT INVENTORY'!$B$7:$AK$1021,8,0))","v":0},null,null,null,null,null,null,null,null,null,null,null,null,null,null,null,{"$f":"SUM($G187:$U187)","v":0},null,null,{"$f":"V187*F187","v":0}]
[null,null,null,null,{"$f":"IF(ISBLANK(A188),0,VLOOKUP(A188,'EQUIPMENT INVENTORY'!$B$7:$AK$1021,7,0))","v":0},{"$f":"IF(ISBLANK(A188),0,VLOOKUP(A188,'EQUIPMENT INVENTORY'!$B$7:$AK$1021,8,0))","v":0},null,null,null,null,null,null,null,null,null,null,null,null,null,null,null,{"$f":"SUM($G188:$U188)","v":0},null,null,{"$f":"V188*F188","v":0}]
[null,"REG",{"$f":"IF(ISBLANK(A189),0,VLOOKUP(A189,'PAYROLL RECORD'!$B$8:$U$2005,18,FALSE))","v":0},{"$f":"IF(ISBLANK(A189),0,VLOOKUP(A189,'PAYROLL RECORD'!$B$8:$D$2005,3,FALSE))","v":0},null,null,null,null,null,null,null,null,null,null,null,null,null,null,null,null,null,{"$f":"SUM($G189:$U189)","v":0},null,null,{"$f":"IF(AND($M$5=\"A\",D189<>\"FT\"),C189*V189,0)+IF(AND($M$5=\"B\",D189<>\"FT\"),C189*V189,0)+IF(AND($M$5=\"AP\"),C189*V189,0)+IF($M$5>=\"C\",C189*V189)","v":0}]
[{"$f":"IF(ISBLANK(A189),\" \",VLOOKUP(A189,'PAYROLL RECORD'!$B$9:$C$10740,2,FALSE))","v":" "},"OT1",{"$f":"IF(ISBLANK(A189),0,VLOOKUP(A189,'PAYROLL RECORD'!$B$8:$U$2005,19,FALSE))","v":0},{"$f":"+D189","v":0},null,null,null,null,null,null,null,null,null,null,null,null,null,null,null,null,null,null,{"$f":"SUM(G190:U190)","v":0},null,null,{"$f":"W190*C190","v":0}]
[null,"OT2",{"$f":"IF(ISBLANK(A189),0,VLOOKUP(A189,'PAYROLL RECORD'!$B$8:$U$2005,20,FALSE))","v":0},{"$f":"+D190","v":0},null,null,null,null,null,null,null,null,null,null,null,null,null,null,null,null,null,null,null,{"$f":"SUM(G191:U191)","v":0},null,null,{"$f":"X191*C191","v":0}]
[null,null,null,null,{"$f":"IF(ISBLANK(A192),0,VLOOKUP(A192,'EQUIPMENT INVENTORY'!$B$7:$AK$1021,7,0))","v":0},{"$f":"IF(ISBLANK(A192),0,VLOOKUP(A192,'EQUIPMENT INVENTORY'!$B$7:$AK$1021,8,0))","v":0},null,null,null,null,null,null,null,null,null,null,null,null,null,null,null,{"$f":"SUM($G192:$U192)","v":0},null,null,{"$f":"V192*F192","v":0}]
[null,null,null,null,{"$f":"IF(ISBLANK(A193),0,VLOOKUP(A193,'EQUIPMENT INVENTORY'!$B$7:$AK$1021,7,0))","v":0},{"$f":"IF(ISBLANK(A193),0,VLOOKUP(A193,'EQUIPMENT INVENTORY'!$B$7:$AK$1021,8,0))","v":0},null,null,null,null,null,null,null,null,null,null,null,null,null,null,null,{"$f":"SUM($G193:$U193)","v":0},null,null,{"$f":"V193*F193","v":0}]
[null,null,null,null,{"$f":"IF(ISBLANK(A194),0,VLOOKUP(A194,'EQUIPMENT INVENTORY'!$B$7:$AK$1021,7,0))","v":0},{"$f":"IF(ISBLANK(A194),0,VLOOKUP(A194,'EQUIPMENT INVENTORY'!$B$7:$AK$1021,8,0))","v":0},null,null,null,null,null,null,null,null,null,null,null,null,null,null,null,{"$f":"SUM($G194:$U194)","v":0},null,null,{"$f":"V194*F194","v":0}]
[null,"REG",{"$f":"IF(ISBLANK(A195),0,VLOOKUP(A195,'PAYROLL RECORD'!$B$8:$U$2005,18,FALSE))","v":0},{"$f":"IF(ISBLANK(A195),0,VLOOKUP(A195,'PAYROLL RECORD'!$B$8:$D$2005,3,FALSE))","v":0},null,null,null,null,null,null,null,null,null,null,null,null,null,null,null,null,null,{"$f":"SUM($G195:$U195)","v":0},null,null,{"$f":"IF(AND($M$5=\"A\",D195<>\"FT\"),C195*V195,0)+IF(AND($M$5=\"B\",D195<>\"FT\"),C195*V195,0)+IF(AND($M$5=\"AP\"),C195*V195,0)+IF($M$5>=\"C\",C195*V195)","v":0}]
[{"$f":"IF(ISBLANK(A195),\" \",VLOOKUP(A195,'PAYROLL RECORD'!$B$9:$C$10740,2,FALSE))","v":" "},"OT1",{"$f":"IF(ISBLANK(A195),0,VLOOKUP(A195,'PAYROLL RECORD'!$B$8:$U$2005,19,FALSE))","v":0},{"$f":"+D195","v":0},null,null,null,null,null,null,null,null,null,null,null,null,null,null,null,null,null,null,{"$f":"SUM(G196:U196)","v":0},null,null,{"$f":"W196*C196","v":0}]
[null,"OT2",{"$f":"IF(ISBLANK(A195),0,VLOOKUP(A195,'PAYROLL RECORD'!$B$8:$U$2005,20,FALSE))","v":0},{"$f":"+D196","v":0},null,null,null,null,null,null,null,null,null,null,null,null,null,null,null,null,null,null,null,{"$f":"SUM(G197:U197)","v":0},null,null,{"$f":"X197*C197","v":0}]
[null,null,null,null,{"$f":"IF(ISBLANK(A198),0,VLOOKUP(A198,'EQUIPMENT INVENTORY'!$B$7:$AK$1021,7,0))","v":0},{"$f":"IF(ISBLANK(A198),0,VLOOKUP(A198,'EQUIPMENT INVENTORY'!$B$7:$AK$1021,8,0))","v":0},null,null,null,null,null,null,null,null,null,null,null,null,null,null,null,{"$f":"SUM($G198:$U198)","v":0},null,null,{"$f":"V198*F198","v":0}]
[null,null,null,null,{"$f":"IF(ISBLANK(A199),0,VLOOKUP(A199,'EQUIPMENT INVENTORY'!$B$7:$AK$1021,7,0))","v":0},{"$f":"IF(ISBLANK(A199),0,VLOOKUP(A199,'EQUIPMENT INVENTORY'!$B$7:$AK$1021,8,0))","v":0},null,null,null,null,null,null,null,null,null,null,null,null,null,null,null,{"$f":"SUM($G199:$U199)","v":0},null,null,{"$f":"V199*F199","v":0}]
[null,null,null,null,{"$f":"IF(ISBLANK(A200),0,VLOOKUP(A200,'EQUIPMENT INVENTORY'!$B$7:$AK$1021,7,0))","v":0},{"$f":"IF(ISBLANK(A200),0,VLOOKUP(A200,'EQUIPMENT INVENTORY'!$B$7:$AK$1021,8,0))","v":0},null,null,null,null,null,null,null,null,null,null,null,null,null,null,null,{"$f":"SUM($G200:$U200)","v":0},null,null,{"$f":"V200*F200","v":0}]
[null,"REG",{"$f":"IF(ISBLANK(A201),0,VLOOKUP(A201,'PAYROLL RECORD'!$B$8:$U$2005,18,FALSE))","v":0},{"$f":"IF(ISBLANK(A201),0,VLOOKUP(A201,'PAYROLL RECORD'!$B$8:$D$2005,3,FALSE))","v":0},null,null,null,null,null,null,null,null,null,null,null,null,null,null,null,null,null,{"$f":"SUM($G201:$U201)","v":0},null,null,{"$f":"IF(AND($M$5=\"A\",D201<>\"FT\"),C201*V201,0)+IF(AND($M$5=\"B\",D201<>\"FT\"),C201*V201,0)+IF(AND($M$5=\"AP\"),C201*V201,0)+IF($M$5>=\"C\",C201*V201)","v":0}]
[{"$f":"IF(ISBLANK(A201),\" \",VLOOKUP(A201,'PAYROLL RECORD'!$B$9:$C$10740,2,FALSE))","v":" "},"OT1",{"$f":"IF(ISBLANK(A201),0,VLOOKUP(A201,'PAYROLL RECORD'!$B$8:$U$2005,19,FALSE))","v":0},{"$f":"+D201","v":0},null,null,null,null,null,null,null,null,null,null,null,null,null,null,null,null,null,null,{"$f":"SUM(G202:U202)","v":0},null,null,{"$f":"W202*C202","v":0}]
[null,"OT2",{"$f":"IF(ISBLANK(A201),0,VLOOKUP(A201,'PAYROLL RECORD'!$B$8:$U$2005,20,FALSE))","v":0},{"$f":"+D202","v":0},null,null,null,null,null,null,null,null,null,null,null,null,null,null,null,null,null,null,null,{"$f":"SUM(G203:U203)","v":0},null,null,{"$f":"X203*C203","v":0}]
[null,null,null,null,{"$f":"IF(ISBLANK(A204),0,VLOOKUP(A204,'EQUIPMENT INVENTORY'!$B$7:$AK$1021,7,0))","v":0},{"$f":"IF(ISBLANK(A204),0,VLOOKUP(A204,'EQUIPMENT INVENTORY'!$B$7:$AK$1021,8,0))","v":0},null,null,null,null,null,null,null,null,null,null,null,null,null,null,null,{"$f":"SUM($G204:$U204)","v":0},null,null,{"$f":"V204*F204","v":0}]
[null,null,null,null,{"$f":"IF(ISBLANK(A205),0,VLOOKUP(A205,'EQUIPMENT INVENTORY'!$B$7:$AK$1021,7,0))","v":0},{"$f":"IF(ISBLANK(A205),0,VLOOKUP(A205,'EQUIPMENT INVENTORY'!$B$7:$AK$1021,8,0))","v":0},null,null,null,null,null,null,null,null,null,null,null,null,null,null,null,{"$f":"SUM($G205:$U205)","v":0},null,null,{"$f":"V205*F205","v":0}]
[null,null,null,null,{"$f":"IF(ISBLANK(A206),0,VLOOKUP(A206,'EQUIPMENT INVENTORY'!$B$7:$AK$1021,7,0))","v":0},{"$f":"IF(ISBLANK(A206),0,VLOOKUP(A206,'EQUIPMENT INVENTORY'!$B$7:$AK$1021,8,0))","v":0},null,null,null,null,null,null,null,null,null,null,null,null,null,null,null,{"$f":"SUM($G206:$U206)","v":0},null,null,{"$f":"V206*F206","v":0}]
[null,"REG",{"$f":"IF(ISBLANK(A207),0,VLOOKUP(A207,'PAYROLL RECORD'!$B$8:$U$2005,18,FALSE))","v":0},{"$f":"IF(ISBLANK(A207),0,VLOOKUP(A207,'PAYROLL RECORD'!$B$8:$D$2005,3,FALSE))","v":0},null,null,null,null,null,null,null,null,null,null,null,null,null,null,null,null,null,{"$f":"SUM($G207:$U207)","v":0},null,null,{"$f":"IF(AND($M$5=\"A\",D207<>\"FT\"),C207*V207,0)+IF(AND($M$5=\"B\",D207<>\"FT\"),C207*V207,0)+IF(AND($M$5=\"AP\"),C207*V207,0)+IF($M$5>=\"C\",C207*V207)","v":0}]
[{"$f":"IF(ISBLANK(A207),\" \",VLOOKUP(A207,'PAYROLL RECORD'!$B$9:$C$10740,2,FALSE))","v":" "},"OT1",{"$f":"IF(ISBLANK(A207),0,VLOOKUP(A207,'PAYROLL RECORD'!$B$8:$U$2005,19,FALSE))","v":0},{"$f":"+D207","v":0},null,null,null,null,null,null,null,null,null,null,null,null,null,null,null,null,null,null,{"$f":"SUM(G208:U208)","v":0},null,null,{"$f":"W208*C208","v":0}]
[null,"OT2",{"$f":"IF(ISBLANK(A207),0,VLOOKUP(A207,'PAYROLL RECORD'!$B$8:$U$2005,20,FALSE))","v":0},{"$f":"+D208","v":0},null,null,null,null,null,null,null,null,null,null,null,null,null,null,null,null,null,null,null,{"$f":"SUM(G209:U209)","v":0},null,null,{"$f":"X209*C209","v":0}]
[null,null,null,null,{"$f":"IF(ISBLANK(A210),0,VLOOKUP(A210,'EQUIPMENT INVENTORY'!$B$7:$AK$1021,7,0))","v":0},{"$f":"IF(ISBLANK(A210),0,VLOOKUP(A210,'EQUIPMENT INVENTORY'!$B$7:$AK$1021,8,0))","v":0},null,null,null,null,null,null,null,null,null,null,null,null,null,null,null,{"$f":"SUM($G210:$U210)","v":0},null,null,{"$f":"V210*F210","v":0}]
[null,null,null,null,{"$f":"IF(ISBLANK(A211),0,VLOOKUP(A211,'EQUIPMENT INVENTORY'!$B$7:$AK$1021,7,0))","v":0},{"$f":"IF(ISBLANK(A211),0,VLOOKUP(A211,'EQUIPMENT INVENTORY'!$B$7:$AK$1021,8,0))","v":0},null,null,null,null,null,null,null,null,null,null,null,null,null,null,null,{"$f":"SUM($G211:$U211)","v":0},null,null,{"$f":"V211*F211","v":0}]
[null,null,null,null,{"$f":"IF(ISBLANK(A212),0,VLOOKUP(A212,'EQUIPMENT INVENTORY'!$B$7:$AK$1021,7,0))","v":0},{"$f":"IF(ISBLANK(A212),0,VLOOKUP(A212,'EQUIPMENT INVENTORY'!$B$7:$AK$1021,8,0))","v":0},null,null,null,null,null,null,null,null,null,null,null,null,null,null,null,{"$f":"SUM($G212:$U212)","v":0},null,null,{"$f":"V212*F212","v":0}]
[null,"REG",{"$f":"IF(ISBLANK(A213),0,VLOOKUP(A213,'PAYROLL RECORD'!$B$8:$U$2005,18,FALSE))","v":0},{"$f":"IF(ISBLANK(A213),0,VLOOKUP(A213,'PAYROLL RECORD'!$B$8:$D$2005,3,FALSE))","v":0},null,null,null,null,null,null,null,null,null,null,null,null,null,null,null,null,null,{"$f":"SUM($G213:$U213)","v":0},null,null,{"$f":"IF(AND($M$5=\"A\",D213<>\"FT\"),C213*V213,0)+IF(AND($M$5=\"B\",D213<>\"FT\"),C213*V213,0)+IF(AND($M$5=\"AP\"),C213*V213,0)+IF($M$5>=\"C\",C213*V213)","v":0}]
[{"$f":"IF(ISBLANK(A213),\" \",VLOOKUP(A213,'PAYROLL RECORD'!$B$9:$C$10740,2,FALSE))","v":" "},"OT1",{"$f":"IF(ISBLANK(A213),0,VLOOKUP(A213,'PAYROLL RECORD'!$B$8:$U$2005,19,FALSE))","v":0},{"$f":"+D213","v":0},null,null,null,null,null,null,null,null,null,null,null,null,null,null,null,null,null,null,{"$f":"SUM(G214:U214)","v":0},null,null,{"$f":"W214*C214","v":0}]
[null,"OT2",{"$f":"IF(ISBLANK(A213),0,VLOOKUP(A213,'PAYROLL RECORD'!$B$8:$U$2005,20,FALSE))","v":0},{"$f":"+D214","v":0},null,null,null,null,null,null,null,null,null,null,null,null,null,null,null,null,null,null,null,{"$f":"SUM(G215:U215)","v":0},null,null,{"$f":"X215*C215","v":0}]
[null,null,null,null,{"$f":"IF(ISBLANK(A216),0,VLOOKUP(A216,'EQUIPMENT INVENTORY'!$B$7:$AK$1021,7,0))","v":0},{"$f":"IF(ISBLANK(A216),0,VLOOKUP(A216,'EQUIPMENT INVENTORY'!$B$7:$AK$1021,8,0))","v":0},null,null,null,null,null,null,null,null,null,null,null,null,null,null,null,{"$f":"SUM($G216:$U216)","v":0},null,null,{"$f":"V216*F216","v":0}]
[null,null,null,null,{"$f":"IF(ISBLANK(A217),0,VLOOKUP(A217,'EQUIPMENT INVENTORY'!$B$7:$AK$1021,7,0))","v":0},{"$f":"IF(ISBLANK(A217),0,VLOOKUP(A217,'EQUIPMENT INVENTORY'!$B$7:$AK$1021,8,0))","v":0},null,null,null,null,null,null,null,null,null,null,null,null,null,null,null,{"$f":"SUM($G217:$U217)","v":0},null,null,{"$f":"V217*F217","v":0}]
[null,null,null,null,{"$f":"IF(ISBLANK(A218),0,VLOOKUP(A218,'EQUIPMENT INVENTORY'!$B$7:$AK$1021,7,0))","v":0},{"$f":"IF(ISBLANK(A218),0,VLOOKUP(A218,'EQUIPMENT INVENTORY'!$B$7:$AK$1021,8,0))","v":0},null,null,null,null,null,null,null,null,null,null,null,null,null,null,null,{"$f":"SUM($G218:$U218)","v":0},null,null,{"$f":"V218*F218","v":0}]
[null,"REG",{"$f":"IF(ISBLANK(A219),0,VLOOKUP(A219,'PAYROLL RECORD'!$B$8:$U$2005,18,FALSE))","v":0},{"$f":"IF(ISBLANK(A219),0,VLOOKUP(A219,'PAYROLL RECORD'!$B$8:$D$2005,3,FALSE))","v":0},null,null,null,null,null,null,null,null,null,null,null,null,null,null,null,null,null,{"$f":"SUM($G219:$U219)","v":0},null,null,{"$f":"IF(AND($M$5=\"A\",D219<>\"FT\"),C219*V219,0)+IF(AND($M$5=\"B\",D219<>\"FT\"),C219*V219,0)+IF(AND($M$5=\"AP\"),C219*V219,0)+IF($M$5>=\"C\",C219*V219)","v":0}]
[{"$f":"IF(ISBLANK(A219),\" \",VLOOKUP(A219,'PAYROLL RECORD'!$B$9:$C$10740,2,FALSE))","v":" "},"OT1",{"$f":"IF(ISBLANK(A219),0,VLOOKUP(A219,'PAYROLL RECORD'!$B$8:$U$2005,19,FALSE))","v":0},{"$f":"+D219","v":0},null,null,null,null,null,null,null,null,null,null,null,null,null,null,null,null,null,null,{"$f":"SUM(G220:U220)","v":0},null,null,{"$f":"W220*C220","v":0}]
[null,"OT2",{"$f":"IF(ISBLANK(A219),0,VLOOKUP(A219,'PAYROLL RECORD'!$B$8:$U$2005,20,FALSE))","v":0},{"$f":"+D220","v":0},null,null,null,null,null,null,null,null,null,null,null,null,null,null,null,null,null,null,null,{"$f":"SUM(G221:U221)","v":0},null,null,{"$f":"X221*C221","v":0}]
[null,null,null,null,{"$f":"IF(ISBLANK(A222),0,VLOOKUP(A222,'EQUIPMENT INVENTORY'!$B$7:$AK$1021,7,0))","v":0},{"$f":"IF(ISBLANK(A222),0,VLOOKUP(A222,'EQUIPMENT INVENTORY'!$B$7:$AK$1021,8,0))","v":0},null,null,null,null,null,null,null,null,null,null,null,null,null,null,null,{"$f":"SUM($G222:$U222)","v":0},null,null,{"$f":"V222*F222","v":0}]
[null,null,null,null,{"$f":"IF(ISBLANK(A223),0,VLOOKUP(A223,'EQUIPMENT INVENTORY'!$B$7:$AK$1021,7,0))","v":0},{"$f":"IF(ISBLANK(A223),0,VLOOKUP(A223,'EQUIPMENT INVENTORY'!$B$7:$AK$1021,8,0))","v":0},null,null,null,null,null,null,null,null,null,null,null,null,null,null,null,{"$f":"SUM($G223:$U223)","v":0},null,null,{"$f":"V223*F223","v":0}]
[null,null,null,null,{"$f":"IF(ISBLANK(A224),0,VLOOKUP(A224,'EQUIPMENT INVENTORY'!$B$7:$AK$1021,7,0))","v":0},{"$f":"IF(ISBLANK(A224),0,VLOOKUP(A224,'EQUIPMENT INVENTORY'!$B$7:$AK$1021,8,0))","v":0},null,null,null,null,null,null,null,null,null,null,null,null,null,null,null,{"$f":"SUM($G224:$U224)","v":0},null,null,{"$f":"V224*F224","v":0}]
[null,"REG",{"$f":"IF(ISBLANK(A225),0,VLOOKUP(A225,'PAYROLL RECORD'!$B$8:$U$2005,18,FALSE))","v":0},{"$f":"IF(ISBLANK(A225),0,VLOOKUP(A225,'PAYROLL RECORD'!$B$8:$D$2005,3,FALSE))","v":0},null,null,null,null,null,null,null,null,null,null,null,null,null,null,null,null,null,{"$f":"SUM($G225:$U225)","v":0},null,null,{"$f":"IF(AND($M$5=\"A\",D225<>\"FT\"),C225*V225,0)+IF(AND($M$5=\"B\",D225<>\"FT\"),C225*V225,0)+IF(AND($M$5=\"AP\"),C225*V225,0)+IF($M$5>=\"C\",C225*V225)","v":0}]
[{"$f":"IF(ISBLANK(A225),\" \",VLOOKUP(A225,'PAYROLL RECORD'!$B$9:$C$10740,2,FALSE))","v":" "},"OT1",{"$f":"IF(ISBLANK(A225),0,VLOOKUP(A225,'PAYROLL RECORD'!$B$8:$U$2005,19,FALSE))","v":0},{"$f":"+D225","v":0},null,null,null,null,null,null,null,null,null,null,null,null,null,null,null,null,null,null,{"$f":"SUM(G226:U226)","v":0},null,null,{"$f":"W226*C226","v":0}]
[null,"OT2",{"$f":"IF(ISBLANK(A225),0,VLOOKUP(A225,'PAYROLL RECORD'!$B$8:$U$2005,20,FALSE))","v":0},{"$f":"+D226","v":0},null,null,null,null,null,null,null,null,null,null,null,null,null,null,null,null,null,null,null,{"$f":"SUM(G227:U227)","v":0},null,null,{"$f":"X227*C227","v":0}]
[null,null,null,null,{"$f":"IF(ISBLANK(A228),0,VLOOKUP(A228,'EQUIPMENT INVENTORY'!$B$7:$AK$1021,7,0))","v":0},{"$f":"IF(ISBLANK(A228),0,VLOOKUP(A228,'EQUIPMENT INVENTORY'!$B$7:$AK$1021,8,0))","v":0},null,null,null,null,null,null,null,null,null,null,null,null,null,null,null,{"$f":"SUM($G228:$U228)","v":0},null,null,{"$f":"V228*F228","v":0}]
[null,null,null,null,{"$f":"IF(ISBLANK(A229),0,VLOOKUP(A229,'EQUIPMENT INVENTORY'!$B$7:$AK$1021,7,0))","v":0},{"$f":"IF(ISBLANK(A229),0,VLOOKUP(A229,'EQUIPMENT INVENTORY'!$B$7:$AK$1021,8,0))","v":0},null,null,null,null,null,null,null,null,null,null,null,null,null,null,null,{"$f":"SUM($G229:$U229)","v":0},null,null,{"$f":"V229*F229","v":0}]
[null,null,null,null,{"$f":"IF(ISBLANK(A230),0,VLOOKUP(A230,'EQUIPMENT INVENTORY'!$B$7:$AK$1021,7,0))","v":0},{"$f":"IF(ISBLANK(A230),0,VLOOKUP(A230,'EQUIPMENT INVENTORY'!$B$7:$AK$1021,8,0))","v":0},null,null,null,null,null,null,null,null,null,null,null,null,null,null,null,{"$f":"SUM($G230:$U230)","v":0},null,null,{"$f":"V230*F230","v":0},null,null,"Reg hrs","ot1 hrs","ot2 hrs","equip hrs"]
[null,null,null,null,null,null,null,null,null,null,null,null,null,null,null,null,"LABOR - Page Total",null,null,null,null,{"$f":"V183+V189+V195+V207+V213+V225+V201+V219","v":0},{"$f":"SUM(W183:W230)","v":0},{"$f":"SUM(X183:X230)","v":0},{"$f":"Y183+Y189+Y195+Y207+Y213+Y225+Y201+Y219","v":0},{"$f":"SUM(Z184:Z230)","v":0},{"$f":"SUM(AA184:AA230)","v":0},{"$f":"V231","v":0},{"$f":"W231","v":0},{"$f":"X231","v":0},{"$f":"V232","v":0},{"$f":"Y231","v":0},{"$f":"Z231","v":0},{"$f":"AA231","v":0},{"$f":"Y232","v":0}]
[null,null,null,null,null,null,null,null,null,null,null,null,null,null,null,null,"EQUIPMENT - Page Total",null,null,null,null,{"$f":"V186+V187+V188+V192+V193+V194+V198+V199+V200+V204+V205+V206+V210+V211+V212+V216+V217+V218+V228+V229+V230+V222+V223+V224","v":0},null,null,{"$f":"Y186+Y187+Y188+Y192+Y193+Y194+Y198+Y199+Y200+Y204+Y205+Y206+Y210+Y211+Y212+Y216+Y217+Y218+Y228+Y229+Y230+Y222+Y223+Y224","v":0}]
[null,null,null,null,null,null,null,null,null,null,null,null,null,null,null,null,"LABOR - Grand Total",null,null,null,null,{"$f":"SUM($AB:$AB)","v":0},{"$f":"SUM($AC:$AC)","v":0},{"$f":"SUM($AD:$AD)","v":0},{"$f":"SUM(AF:AF)","v":0},{"$f":"SUM($AG:$AG)","v":0},{"$f":"SUM($AH:$AH)","v":0}]
[null,null,null,null,null,null,null,null,null,null,null,null,null,null,null,null,"EQUIPMENT - Grand Total",null,null,null,null,{"$f":"SUM($AE:$AE)","v":0},null,null,{"$f":"SUM($AI:$AI)","v":0}]
[]
[]
["COST SUMMARY FOR LABOR/EQUIPMENT"]
["APPLICANT - FIPS#",null,null,null,"DISASTER #:",null,null,"PROJECT #:",null,null,null,null,"FEMA CAT A-G",null,null,"EMMIE #",null,null,null,"Work Completion Date"]
[{"$f":"IF('PAYROLL RECORD'!$B$5=\"START HERE\",\"\",'PAYROLL RECORD'!$B$5)","v":0},null,null,null,{"$f":"IF('PAYROLL RECORD'!$F$5=\"\",\"\",'PAYROLL RECORD'!$F$5)","v":""},null,null,{"$f":"'PAYROLL RECORD'!I238:L238","v":{"$error":"#VALUE!"}},null,null,null,null,{"$f":"IF('PAYROLL RECORD'!$M$5=\"CATEGORY\",\"\",'PAYROLL RECORD'!$M$5)","v":0},null,null,{"$f":"IF('PAYROLL RECORD'!$O$5=\"EMMIE #\",\"\",'PAYROLL RECORD'!$O$5)","v":0},null,null,null,{"$f":"IF('PAYROLL RECORD'!$Q$5=\"DATE\",\"\",'PAYROLL RECORD'!$Q$5)","v":"00:00:00"}]
["Employee/\nEquipment",null,"RATE w/","STATUS","COST CODE","RATE","2018-10-31",{"$f":"+G240+1","v":"2018-11-01"},{"$f":"H240+1","v":"2018-11-02"},"2018-11-03","2018-11-04","2018-11-05","2018-11-06","2018-11-07","2018-11-08","2018-11-09","2018-11-10","2018-11-11","2018-11-12","2018-11-13","2018-11-14","REG","OT1","OT2","REG TIME\nCOST","OT1\nCOST","OT2\nCOST"]
[null,null,"FRINGE",null,null,null,{"$f":"IF(G240<=0,\"\",TEXT(WEEKDAY(G240),\"ddd\"))","v":"Wed"},{"$f":"IF(H240<=0,\"\",TEXT(WEEKDAY(H240),\"ddd\"))","v":"Thu"},"Fri","Sat","Sun","Mon","Tue","Wed","Thu","Fri","Sat","Sun","Mon","Tue","Wed"]
[null,"REG",{"$f":"IF(ISBLANK(A242),0,VLOOKUP(A242,'PAYROLL RECORD'!$B$8:$U$2005,18,FALSE))","v":0},{"$f":"IF(ISBLANK(A242),0,VLOOKUP(A242,'PAYROLL RECORD'!$B$8:$D$2005,3,FALSE))","v":0},null,null,null,null,null,null,null,null,null,null,null,null,null,null,null,null,null,{"$f":"SUM($G242:$U242)","v":0},null,null,{"$f":"IF(AND($M$5=\"A\",D242<>\"FT\"),C242*V242,0)+IF(AND($M$5=\"B\",D242<>\"FT\"),C242*V242,0)+IF(AND($M$5=\"AP\"),C242*V242,0)+IF($M$5>=\"C\",C242*V242)","v":0}]
[{"$f":"IF(ISBLANK(A242),\" \",VLOOKUP(A242,'PAYROLL RECORD'!$B$9:$C$10740,2,FALSE))","v":" "},"OT1",{"$f":"IF(ISBLANK(A242),0,VLOOKUP(A242,'PAYROLL RECORD'!$B$8:$U$2005,19,FALSE))","v":0},{"$f":"+D242","v":0},null,null,null,null,null,null,null,null,null,null,null,null,null,null,null,null,null,null,{"$f":"SUM(G243:U243)","v":0},null,null,{"$f":"W243*C243","v":0}]
[null,"OT2",{"$f":"IF(ISBLANK(A242),0,VLOOKUP(A242,'PAYROLL RECORD'!$B$8:$U$2005,20,FALSE))","v":0},{"$f":"+D243","v":0},null,null,null,null,null,null,null,null,null,null,null,null,null,null,null,null,null,null,null,{"$f":"SUM(G244:U244)","v":0},null,null,{"$f":"X244*C244","v":0}]
[null,null,null,null,{"$f":"IF(ISBLANK(A245),0,VLOOKUP(A245,'EQUIPMENT INVENTORY'!$B$7:$AK$1021,7,0))","v":0},{"$f":"IF(ISBLANK(A245),0,VLOOKUP(A245,'EQUIPMENT INVENTORY'!$B$7:$AK$1021,8,0))","v":0},null,null,null,null,null,null,null,null,null,null,null,null,null,null,null,{"$f":"SUM($G245:$U245)","v":0},null,null,{"$f":"V245*F245","v":0}]
[null,null,null,null,{"$f":"IF(ISBLANK(A246),0,VLOOKUP(A246,'EQUIPMENT INVENTORY'!$B$7:$AK$1021,7,0))","v":0},{"$f":"IF(ISBLANK(A246),0,VLOOKUP(A246,'EQUIPMENT INVENTORY'!$B$7:$AK$1021,8,0))","v":0},null,null,null,null,null,null,null,null,null,null,null,null,null,null,null,{"$f":"SUM($G246:$U246)","v":0},null,null,{"$f":"V246*F246","v":0}]
[null,null,null,null,{"$f":"IF(ISBLANK(A247),0,VLOOKUP(A247,'EQUIPMENT INVENTORY'!$B$7:$AK$1021,7,0))","v":0},{"$f":"IF(ISBLANK(A247),0,VLOOKUP(A247,'EQUIPMENT INVENTORY'!$B$7:$AK$1021,8,0))","v":0},null,null,null,null,null,null,null,null,null,null,null,null,null,null,null,{"$f":"SUM($G247:$U247)","v":0},null,null,{"$f":"V247*F247","v":0}]
[null,"REG",{"$f":"IF(ISBLANK(A248),0,VLOOKUP(A248,'PAYROLL RECORD'!$B$8:$U$2005,18,FALSE))","v":0},{"$f":"IF(ISBLANK(A248),0,VLOOKUP(A248,'PAYROLL RECORD'!$B$8:$D$2005,3,FALSE))","v":0},null,null,null,null,null,null,null,null,null,null,null,null,null,null,null,null,null,{"$f":"SUM($G248:$U248)","v":0},null,null,{"$f":"IF(AND($M$5=\"A\",D248<>\"FT\"),C248*V248,0)+IF(AND($M$5=\"B\",D248<>\"FT\"),C248*V248,0)+IF(AND($M$5=\"AP\"),C248*V248,0)+IF($M$5>=\"C\",C248*V248)","v":0}]
[{"$f":"IF(ISBLANK(A248),\" \",VLOOKUP(A248,'PAYROLL RECORD'!$B$9:$C$10740,2,FALSE))","v":" "},"OT1",{"$f":"IF(ISBLANK(A248),0,VLOOKUP(A248,'PAYROLL RECORD'!$B$8:$U$2005,19,FALSE))","v":0},{"$f":"+D248","v":0},null,null,null,null,null,null,null,null,null,null,null,null,null,null,null,null,null,null,{"$f":"SUM(G249:U249)","v":0},null,null,{"$f":"W249*C249","v":0}]
[null,"OT2",{"$f":"IF(ISBLANK(A248),0,VLOOKUP(A248,'PAYROLL RECORD'!$B$8:$U$2005,20,FALSE))","v":0},{"$f":"+D249","v":0},null,null,null,null,null,null,null,null,null,null,null,null,null,null,null,null,null,null,null,{"$f":"SUM(G250:U250)","v":0},null,null,{"$f":"X250*C250","v":0}]
[null,null,null,null,{"$f":"IF(ISBLANK(A251),0,VLOOKUP(A251,'EQUIPMENT INVENTORY'!$B$7:$AK$1021,7,0))","v":0},{"$f":"IF(ISBLANK(A251),0,VLOOKUP(A251,'EQUIPMENT INVENTORY'!$B$7:$AK$1021,8,0))","v":0},null,null,null,null,null,null,null,null,null,null,null,null,null,null,null,{"$f":"SUM($G251:$U251)","v":0},null,null,{"$f":"V251*F251","v":0}]
[null,null,null,null,{"$f":"IF(ISBLANK(A252),0,VLOOKUP(A252,'EQUIPMENT INVENTORY'!$B$7:$AK$1021,7,0))","v":0},{"$f":"IF(ISBLANK(A252),0,VLOOKUP(A252,'EQUIPMENT INVENTORY'!$B$7:$AK$1021,8,0))","v":0},null,null,null,null,null,null,null,null,null,null,null,null,null,null,null,{"$f":"SUM($G252:$U252)","v":0},null,null,{"$f":"V252*F252","v":0}]
[null,null,null,null,{"$f":"IF(ISBLANK(A253),0,VLOOKUP(A253,'EQUIPMENT INVENTORY'!$B$7:$AK$1021,7,0))","v":0},{"$f":"IF(ISBLANK(A253),0,VLOOKUP(A253,'EQUIPMENT INVENTORY'!$B$7:$AK$1021,8,0))","v":0},null,null,null,null,null,null,null,null,null,null,null,null,null,null,null,{"$f":"SUM($G253:$U253)","v":0},null,null,{"$f":"V253*F253","v":0}]
[null,"REG",{"$f":"IF(ISBLANK(A254),0,VLOOKUP(A254,'PAYROLL RECORD'!$B$8:$U$2005,18,FALSE))","v":0},{"$f":"IF(ISBLANK(A254),0,VLOOKUP(A254,'PAYROLL RECORD'!$B$8:$D$2005,3,FALSE))","v":0},null,null,null,null,null,null,null,null,null,null,null,null,null,null,null,null,null,{"$f":"SUM($G254:$U254)","v":0},null,null,{"$f":"IF(AND($M$5=\"A\",D254<>\"FT\"),C254*V254,0)+IF(AND($M$5=\"B\",D254<>\"FT\"),C254*V254,0)+IF(AND($M$5=\"AP\"),C254*V254,0)+IF($M$5>=\"C\",C254*V254)","v":0}]
[{"$f":"IF(ISBLANK(A254),\" \",VLOOKUP(A254,'PAYROLL RECORD'!$B$9:$C$10740,2,FALSE))","v":" "},"OT1",{"$f":"IF(ISBLANK(A254),0,VLOOKUP(A254,'PAYROLL RECORD'!$B$8:$U$2005,19,FALSE))","v":0},{"$f":"+D254","v":0},null,null,null,null,null,null,null,null,null,null,null,null,null,null,null,null,null,null,{"$f":"SUM(G255:U255)","v":0},null,null,{"$f":"W255*C255","v":0}]
[null,"OT2",{"$f":"IF(ISBLANK(A254),0,VLOOKUP(A254,'PAYROLL RECORD'!$B$8:$U$2005,20,FALSE))","v":0},{"$f":"+D255","v":0},null,null,null,null,null,null,null,null,null,null,null,null,null,null,null,null,null,null,null,{"$f":"SUM(G256:U256)","v":0},null,null,{"$f":"X256*C256","v":0}]
[null,null,null,null,{"$f":"IF(ISBLANK(A257),0,VLOOKUP(A257,'EQUIPMENT INVENTORY'!$B$7:$AK$1021,7,0))","v":0},{"$f":"IF(ISBLANK(A257),0,VLOOKUP(A257,'EQUIPMENT INVENTORY'!$B$7:$AK$1021,8,0))","v":0},null,null,null,null,null,null,null,null,null,null,null,null,null,null,null,{"$f":"SUM($G257:$U257)","v":0},null,null,{"$f":"V257*F257","v":0}]
[null,null,null,null,{"$f":"IF(ISBLANK(A258),0,VLOOKUP(A258,'EQUIPMENT INVENTORY'!$B$7:$AK$1021,7,0))","v":0},{"$f":"IF(ISBLANK(A258),0,VLOOKUP(A258,'EQUIPMENT INVENTORY'!$B$7:$AK$1021,8,0))","v":0},null,null,null,null,null,null,null,null,null,null,null,null,null,null,null,{"$f":"SUM($G258:$U258)","v":0},null,null,{"$f":"V258*F258","v":0}]
[null,null,null,null,{"$f":"IF(ISBLANK(A259),0,VLOOKUP(A259,'EQUIPMENT INVENTORY'!$B$7:$AK$1021,7,0))","v":0},{"$f":"IF(ISBLANK(A259),0,VLOOKUP(A259,'EQUIPMENT INVENTORY'!$B$7:$AK$1021,8,0))","v":0},null,null,null,null,null,null,null,null,null,null,null,null,null,null,null,{"$f":"SUM($G259:$U259)","v":0},null,null,{"$f":"V259*F259","v":0}]
[null,"REG",{"$f":"IF(ISBLANK(A260),0,VLOOKUP(A260,'PAYROLL RECORD'!$B$8:$U$2005,18,FALSE))","v":0},{"$f":"IF(ISBLANK(A260),0,VLOOKUP(A260,'PAYROLL RECORD'!$B$8:$D$2005,3,FALSE))","v":0},null,null,null,null,null,null,null,null,null,null,null,null,null,null,null,null,null,{"$f":"SUM($G260:$U260)","v":0},null,null,{"$f":"IF(AND($M$5=\"A\",D260<>\"FT\"),C260*V260,0)+IF(AND($M$5=\"B\",D260<>\"FT\"),C260*V260,0)+IF(AND($M$5=\"AP\"),C260*V260,0)+IF($M$5>=\"C\",C260*V260)","v":0}]
[{"$f":"IF(ISBLANK(A260),\" \",VLOOKUP(A260,'PAYROLL RECORD'!$B$9:$C$10740,2,FALSE))","v":" "},"OT1",{"$f":"IF(ISBLANK(A260),0,VLOOKUP(A260,'PAYROLL RECORD'!$B$8:$U$2005,19,FALSE))","v":0},{"$f":"+D260","v":0},null,null,null,null,null,null,null,null,null,null,null,null,null,null,null,null,null,null,{"$f":"SUM(G261:U261)","v":0},null,null,{"$f":"W261*C261","v":0}]
[null,"OT2",{"$f":"IF(ISBLANK(A260),0,VLOOKUP(A260,'PAYROLL RECORD'!$B$8:$U$2005,20,FALSE))","v":0},{"$f":"+D261","v":0},null,null,null,null,null,null,null,null,null,null,null,null,null,null,null,null,null,null,null,{"$f":"SUM(G262:U262)","v":0},null,null,{"$f":"X262*C262","v":0}]
[null,null,null,null,{"$f":"IF(ISBLANK(A263),0,VLOOKUP(A263,'EQUIPMENT INVENTORY'!$B$7:$AK$1021,7,0))","v":0},{"$f":"IF(ISBLANK(A263),0,VLOOKUP(A263,'EQUIPMENT INVENTORY'!$B$7:$AK$1021,8,0))","v":0},null,null,null,null,null,null,null,null,null,null,null,null,null,null,null,{"$f":"SUM($G263:$U263)","v":0},null,null,{"$f":"V263*F263","v":0}]
[null,null,null,null,{"$f":"IF(ISBLANK(A264),0,VLOOKUP(A264,'EQUIPMENT INVENTORY'!$B$7:$AK$1021,7,0))","v":0},{"$f":"IF(ISBLANK(A264),0,VLOOKUP(A264,'EQUIPMENT INVENTORY'!$B$7:$AK$1021,8,0))","v":0},null,null,null,null,null,null,null,null,null,null,null,null,null,null,null,{"$f":"SUM($G264:$U264)","v":0},null,null,{"$f":"V264*F264","v":0}]
[null,null,null,null,{"$f":"IF(ISBLANK(A265),0,VLOOKUP(A265,'EQUIPMENT INVENTORY'!$B$7:$AK$1021,7,0))","v":0},{"$f":"IF(ISBLANK(A265),0,VLOOKUP(A265,'EQUIPMENT INVENTORY'!$B$7:$AK$1021,8,0))","v":0},null,null,null,null,null,null,null,null,null,null,null,null,null,null,null,{"$f":"SUM($G265:$U265)","v":0},null,null,{"$f":"V265*F265","v":0}]
[null,"REG",{"$f":"IF(ISBLANK(A266),0,VLOOKUP(A266,'PAYROLL RECORD'!$B$8:$U$2005,18,FALSE))","v":0},{"$f":"IF(ISBLANK(A266),0,VLOOKUP(A266,'PAYROLL RECORD'!$B$8:$D$2005,3,FALSE))","v":0},null,null,null,null,null,null,null,null,null,null,null,null,null,null,null,null,null,{"$f":"SUM($G266:$U266)","v":0},null,null,{"$f":"IF(AND($M$5=\"A\",D266<>\"FT\"),C266*V266,0)+IF(AND($M$5=\"B\",D266<>\"FT\"),C266*V266,0)+IF(AND($M$5=\"AP\"),C266*V266,0)+IF($M$5>=\"C\",C266*V266)","v":0}]
[{"$f":"IF(ISBLANK(A266),\" \",VLOOKUP(A266,'PAYROLL RECORD'!$B$9:$C$10740,2,FALSE))","v":" "},"OT1",{"$f":"IF(ISBLANK(A266),0,VLOOKUP(A266,'PAYROLL RECORD'!$B$8:$U$2005,19,FALSE))","v":0},{"$f":"+D266","v":0},null,null,null,null,null,null,null,null,null,null,null,null,null,null,null,null,null,null,{"$f":"SUM(G267:U267)","v":0},null,null,{"$f":"W267*C267","v":0}]
[null,"OT2",{"$f":"IF(ISBLANK(A266),0,VLOOKUP(A266,'PAYROLL RECORD'!$B$8:$U$2005,20,FALSE))","v":0},{"$f":"+D267","v":0},null,null,null,null,null,null,null,null,null,null,null,null,null,null,null,null,null,null,null,{"$f":"SUM(G268:U268)","v":0},null,null,{"$f":"X268*C268","v":0}]
[null,null,null,null,{"$f":"IF(ISBLANK(A269),0,VLOOKUP(A269,'EQUIPMENT INVENTORY'!$B$7:$AK$1021,7,0))","v":0},{"$f":"IF(ISBLANK(A269),0,VLOOKUP(A269,'EQUIPMENT INVENTORY'!$B$7:$AK$1021,8,0))","v":0},null,null,null,null,null,null,null,null,null,null,null,null,null,null,null,{"$f":"SUM($G269:$U269)","v":0},null,null,{"$f":"V269*F269","v":0}]
[null,null,null,null,{"$f":"IF(ISBLANK(A270),0,VLOOKUP(A270,'EQUIPMENT INVENTORY'!$B$7:$AK$1021,7,0))","v":0},{"$f":"IF(ISBLANK(A270),0,VLOOKUP(A270,'EQUIPMENT INVENTORY'!$B$7:$AK$1021,8,0))","v":0},null,null,null,null,null,null,null,null,null,null,null,null,null,null,null,{"$f":"SUM($G270:$U270)","v":0},null,null,{"$f":"V270*F270","v":0}]
[null,null,null,null,{"$f":"IF(ISBLANK(A271),0,VLOOKUP(A271,'EQUIPMENT INVENTORY'!$B$7:$AK$1021,7,0))","v":0},{"$f":"IF(ISBLANK(A271),0,VLOOKUP(A271,'EQUIPMENT INVENTORY'!$B$7:$AK$1021,8,0))","v":0},null,null,null,null,null,null,null,null,null,null,null,null,null,null,null,{"$f":"SUM($G271:$U271)","v":0},null,null,{"$f":"V271*F271","v":0}]
[null,"REG",{"$f":"IF(ISBLANK(A272),0,VLOOKUP(A272,'PAYROLL RECORD'!$B$8:$U$2005,18,FALSE))","v":0},{"$f":"IF(ISBLANK(A272),0,VLOOKUP(A272,'PAYROLL RECORD'!$B$8:$D$2005,3,FALSE))","v":0},null,null,null,null,null,null,null,null,null,null,null,null,null,null,null,null,null,{"$f":"SUM($G272:$U272)","v":0},null,null,{"$f":"IF(AND($M$5=\"A\",D272<>\"FT\"),C272*V272,0)+IF(AND($M$5=\"B\",D272<>\"FT\"),C272*V272,0)+IF(AND($M$5=\"AP\"),C272*V272,0)+IF($M$5>=\"C\",C272*V272)","v":0}]
[{"$f":"IF(ISBLANK(A272),\" \",VLOOKUP(A272,'PAYROLL RECORD'!$B$9:$C$10740,2,FALSE))","v":" "},"OT1",{"$f":"IF(ISBLANK(A272),0,VLOOKUP(A272,'PAYROLL RECORD'!$B$8:$U$2005,19,FALSE))","v":0},{"$f":"+D272","v":0},null,null,null,null,null,null,null,null,null,null,null,null,null,null,null,null,null,null,{"$f":"SUM(G273:U273)","v":0},null,null,{"$f":"W273*C273","v":0}]
[null,"OT2",{"$f":"IF(ISBLANK(A272),0,VLOOKUP(A272,'PAYROLL RECORD'!$B$8:$U$2005,20,FALSE))","v":0},{"$f":"+D273","v":0},null,null,null,null,null,null,null,null,null,null,null,null,null,null,null,null,null,null,null,{"$f":"SUM(G274:U274)","v":0},null,null,{"$f":"X274*C274","v":0}]
[null,null,null,null,{"$f":"IF(ISBLANK(A275),0,VLOOKUP(A275,'EQUIPMENT INVENTORY'!$B$7:$AK$1021,7,0))","v":0},{"$f":"IF(ISBLANK(A275),0,VLOOKUP(A275,'EQUIPMENT INVENTORY'!$B$7:$AK$1021,8,0))","v":0},null,null,null,null,null,null,null,null,null,null,null,null,null,null,null,{"$f":"SUM($G275:$U275)","v":0},null,null,{"$f":"V275*F275","v":0}]
[null,null,null,null,{"$f":"IF(ISBLANK(A276),0,VLOOKUP(A276,'EQUIPMENT INVENTORY'!$B$7:$AK$1021,7,0))","v":0},{"$f":"IF(ISBLANK(A276),0,VLOOKUP(A276,'EQUIPMENT INVENTORY'!$B$7:$AK$1021,8,0))","v":0},null,null,null,null,null,null,null,null,null,null,null,null,null,null,null,{"$f":"SUM($G276:$U276)","v":0},null,null,{"$f":"V276*F276","v":0}]
[null,null,null,null,{"$f":"IF(ISBLANK(A277),0,VLOOKUP(A277,'EQUIPMENT INVENTORY'!$B$7:$AK$1021,7,0))","v":0},{"$f":"IF(ISBLANK(A277),0,VLOOKUP(A277,'EQUIPMENT INVENTORY'!$B$7:$AK$1021,8,0))","v":0},null,null,null,null,null,null,null,null,null,null,null,null,null,null,null,{"$f":"SUM($G277:$U277)","v":0},null,null,{"$f":"V277*F277","v":0}]
[null,"REG",{"$f":"IF(ISBLANK(A278),0,VLOOKUP(A278,'PAYROLL RECORD'!$B$8:$U$2005,18,FALSE))","v":0},{"$f":"IF(ISBLANK(A278),0,VLOOKUP(A278,'PAYROLL RECORD'!$B$8:$D$2005,3,FALSE))","v":0},null,null,null,null,null,null,null,null,null,null,null,null,null,null,null,null,null,{"$f":"SUM($G278:$U278)","v":0},null,null,{"$f":"IF(AND($M$5=\"A\",D278<>\"FT\"),C278*V278,0)+IF(AND($M$5=\"B\",D278<>\"FT\"),C278*V278,0)+IF(AND($M$5=\"AP\"),C278*V278,0)+IF($M$5>=\"C\",C278*V278)","v":0}]
[{"$f":"IF(ISBLANK(A278),\" \",VLOOKUP(A278,'PAYROLL RECORD'!$B$9:$C$10740,2,FALSE))","v":" "},"OT1",{"$f":"IF(ISBLANK(A278),0,VLOOKUP(A278,'PAYROLL RECORD'!$B$8:$U$2005,19,FALSE))","v":0},{"$f":"+D278","v":0},null,null,null,null,null,null,null,null,null,null,null,null,null,null,null,null,null,null,{"$f":"SUM(G279:U279)","v":0},null,null,{"$f":"W279*C279","v":0}]
[null,"OT2",{"$f":"IF(ISBLANK(A278),0,VLOOKUP(A278,'PAYROLL RECORD'!$B$8:$U$2005,20,FALSE))","v":0},{"$f":"+D279","v":0},null,null,null,null,null,null,null,null,null,null,null,null,null,null,null,null,null,null,null,{"$f":"SUM(G280:U280)","v":0},null,null,{"$f":"X280*C280","v":0}]
[null,null,null,null,{"$f":"IF(ISBLANK(A281),0,VLOOKUP(A281,'EQUIPMENT INVENTORY'!$B$7:$AK$1021,7,0))","v":0},{"$f":"IF(ISBLANK(A281),0,VLOOKUP(A281,'EQUIPMENT INVENTORY'!$B$7:$AK$1021,8,0))","v":0},null,null,null,null,null,null,null,null,null,null,null,null,null,null,null,{"$f":"SUM($G281:$U281)","v":0},null,null,{"$f":"V281*F281","v":0}]
[null,null,null,null,{"$f":"IF(ISBLANK(A282),0,VLOOKUP(A282,'EQUIPMENT INVENTORY'!$B$7:$AK$1021,7,0))","v":0},{"$f":"IF(ISBLANK(A282),0,VLOOKUP(A282,'EQUIPMENT INVENTORY'!$B$7:$AK$1021,8,0))","v":0},null,null,null,null,null,null,null,null,null,null,null,null,null,null,null,{"$f":"SUM($G282:$U282)","v":0},null,null,{"$f":"V282*F282","v":0}]
[null,null,null,null,{"$f":"IF(ISBLANK(A283),0,VLOOKUP(A283,'EQUIPMENT INVENTORY'!$B$7:$AK$1021,7,0))","v":0},{"$f":"IF(ISBLANK(A283),0,VLOOKUP(A283,'EQUIPMENT INVENTORY'!$B$7:$AK$1021,8,0))","v":0},null,null,null,null,null,null,null,null,null,null,null,null,null,null,null,{"$f":"SUM($G283:$U283)","v":0},null,null,{"$f":"V283*F283","v":0}]
[null,"REG",{"$f":"IF(ISBLANK(A284),0,VLOOKUP(A284,'PAYROLL RECORD'!$B$8:$U$2005,18,FALSE))","v":0},{"$f":"IF(ISBLANK(A284),0,VLOOKUP(A284,'PAYROLL RECORD'!$B$8:$D$2005,3,FALSE))","v":0},null,null,null,null,null,null,null,null,null,null,null,null,null,null,null,null,null,{"$f":"SUM($G284:$U284)","v":0},null,null,{"$f":"IF(AND($M$5=\"A\",D284<>\"FT\"),C284*V284,0)+IF(AND($M$5=\"B\",D284<>\"FT\"),C284*V284,0)+IF(AND($M$5=\"AP\"),C284*V284,0)+IF($M$5>=\"C\",C284*V284)","v":0}]
[{"$f":"IF(ISBLANK(A284),\" \",VLOOKUP(A284,'PAYROLL RECORD'!$B$9:$C$10740,2,FALSE))","v":" "},"OT1",{"$f":"IF(ISBLANK(A284),0,VLOOKUP(A284,'PAYROLL RECORD'!$B$8:$U$2005,19,FALSE))","v":0},{"$f":"+D284","v":0},null,null,null,null,null,null,null,null,null,null,null,null,null,null,null,null,null,null,{"$f":"SUM(G285:U285)","v":0},null,null,{"$f":"W285*C285","v":0}]
[null,"OT2",{"$f":"IF(ISBLANK(A284),0,VLOOKUP(A284,'PAYROLL RECORD'!$B$8:$U$2005,20,FALSE))","v":0},{"$f":"+D285","v":0},null,null,null,null,null,null,null,null,null,null,null,null,null,null,null,null,null,null,null,{"$f":"SUM(G286:U286)","v":0},null,null,{"$f":"X286*C286","v":0}]
[null,null,null,null,{"$f":"IF(ISBLANK(A287),0,VLOOKUP(A287,'EQUIPMENT INVENTORY'!$B$7:$AK$1021,7,0))","v":0},{"$f":"IF(ISBLANK(A287),0,VLOOKUP(A287,'EQUIPMENT INVENTORY'!$B$7:$AK$1021,8,0))","v":0},null,null,null,null,null,null,null,null,null,null,null,null,null,null,null,{"$f":"SUM($G287:$U287)","v":0},null,null,{"$f":"V287*F287","v":0}]
[null,null,null,null,{"$f":"IF(ISBLANK(A288),0,VLOOKUP(A288,'EQUIPMENT INVENTORY'!$B$7:$AK$1021,7,0))","v":0},{"$f":"IF(ISBLANK(A288),0,VLOOKUP(A288,'EQUIPMENT INVENTORY'!$B$7:$AK$1021,8,0))","v":0},null,null,null,null,null,null,null,null,null,null,null,null,null,null,null,{"$f":"SUM($G288:$U288)","v":0},null,null,{"$f":"V288*F288","v":0}]
[null,null,null,null,{"$f":"IF(ISBLANK(A289),0,VLOOKUP(A289,'EQUIPMENT INVENTORY'!$B$7:$AK$1021,7,0))","v":0},{"$f":"IF(ISBLANK(A289),0,VLOOKUP(A289,'EQUIPMENT INVENTORY'!$B$7:$AK$1021,8,0))","v":0},null,null,null,null,null,null,null,null,null,null,null,null,null,null,null,{"$f":"SUM($G289:$U289)","v":0},null,null,{"$f":"V289*F289","v":0},null,null,"Reg hrs","ot1 hrs","ot2 hrs","equip hrs"]
[null,null,null,null,null,null,null,null,null,null,null,null,null,null,null,null,"LABOR - Page Total",null,null,null,null,{"$f":"V242+V248+V254+V266+V272+V284+V260+V278","v":0},{"$f":"SUM(W242:W289)","v":0},{"$f":"SUM(X242:X289)","v":0},{"$f":"Y242+Y248+Y254+Y266+Y272+Y284+Y260+Y278","v":0},{"$f":"SUM(Z243:Z289)","v":0},{"$f":"SUM(AA243:AA289)","v":0},{"$f":"V290","v":0},{"$f":"W290","v":0},{"$f":"X290","v":0},{"$f":"V291","v":0},{"$f":"Y290","v":0},{"$f":"Z290","v":0},{"$f":"AA290","v":0},{"$f":"Y291","v":0}]
[null,null,null,null,null,null,null,null,null,null,null,null,null,null,null,null,"EQUIPMENT - Page Total",null,null,null,null,{"$f":"V245+V246+V247+V251+V252+V253+V257+V258+V259+V263+V264+V265+V269+V270+V271+V275+V276+V277+V287+V288+V289+V281+V282+V283","v":0},null,null,{"$f":"Y245+Y246+Y247+Y251+Y252+Y253+Y257+Y258+Y259+Y263+Y264+Y265+Y269+Y270+Y271+Y275+Y276+Y277+Y287+Y288+Y289+Y281+Y282+Y283","v":0}]
[null,null,null,null,null,null,null,null,null,null,null,null,null,null,null,null,"LABOR - Grand Total",null,null,null,null,{"$f":"SUM($AB:$AB)","v":0},{"$f":"SUM($AC:$AC)","v":0},{"$f":"SUM($AD:$AD)","v":0},{"$f":"SUM(AF:AF)","v":0},{"$f":"SUM($AG:$AG)","v":0},{"$f":"SUM($AH:$AH)","v":0}]
[null,null,null,null,null,null,null,null,null,null,null,null,null,null,null,null,"EQUIPMENT - Grand Total",null,null,null,null,{"$f":"SUM($AE:$AE)","v":0},null,null,{"$f":"SUM($AI:$AI)","v":0}]
[]
[]
["COST SUMMARY FOR LABOR/EQUIPMENT"]
["APPLICANT - FIPS#",null,null,null,"DISASTER #:",null,null,"PROJECT #:",null,null,null,null,"FEMA CAT A-G",null,null,"EMMIE #",null,null,null,"Work Completion Date"]
[{"$f":"IF('PAYROLL RECORD'!$B$5=\"START HERE\",\"\",'PAYROLL RECORD'!$B$5)","v":0},null,null,null,{"$f":"IF('PAYROLL RECORD'!$F$5=\"\",\"\",'PAYROLL RECORD'!$F$5)","v":""},null,null,{"$f":"'PAYROLL RECORD'!I297:L297","v":{"$error":"#VALUE!"}},null,null,null,null,{"$f":"IF('PAYROLL RECORD'!$M$5=\"CATEGORY\",\"\",'PAYROLL RECORD'!$M$5)","v":0},null,null,{"$f":"IF('PAYROLL RECORD'!$O$5=\"EMMIE #\",\"\",'PAYROLL RECORD'!$O$5)","v":0},null,null,null,{"$f":"IF('PAYROLL RECORD'!$Q$5=\"DATE\",\"\",'PAYROLL RECORD'!$Q$5)","v":"00:00:00"}]
["Employee/\nEquipment",null,"RATE w/","STATUS","COST CODE","RATE","2018-10-31",{"$f":"+G299+1","v":"2018-11-01"},{"$f":"H299+1","v":"2018-11-02"},"2018-11-03","2018-11-04","2018-11-05","2018-11-06","2018-11-07","2018-11-08","2018-11-09","2018-11-10","2018-11-11","2018-11-12","2018-11-13","2018-11-14","REG","OT1","OT2","REG TIME\nCOST","OT1\nCOST","OT2\nCOST"]
[null,null,"FRINGE",null,null,null,{"$f":"IF(G299<=0,\"\",TEXT(WEEKDAY(G299),\"ddd\"))","v":"Wed"},{"$f":"IF(H299<=0,\"\",TEXT(WEEKDAY(H299),\"ddd\"))","v":"Thu"},"Fri","Sat","Sun","Mon","Tue","Wed","Thu","Fri","Sat","Sun","Mon","Tue","Wed"]
[null,"REG",{"$f":"IF(ISBLANK(A301),0,VLOOKUP(A301,'PAYROLL RECORD'!$B$8:$U$2005,18,FALSE))","v":0},{"$f":"IF(ISBLANK(A301),0,VLOOKUP(A301,'PAYROLL RECORD'!$B$8:$D$2005,3,FALSE))","v":0},null,null,null,null,null,null,null,null,null,null,null,null,null,null,null,null,null,{"$f":"SUM($G301:$U301)","v":0},null,null,{"$f":"IF(AND($M$5=\"A\",D301<>\"FT\"),C301*V301,0)+IF(AND($M$5=\"B\",D301<>\"FT\"),C301*V301,0)+IF(AND($M$5=\"AP\"),C301*V301,0)+IF($M$5>=\"C\",C301*V301)","v":0}]
[{"$f":"IF(ISBLANK(A301),\" \",VLOOKUP(A301,'PAYROLL RECORD'!$B$9:$C$10740,2,FALSE))","v":" "},"OT1",{"$f":"IF(ISBLANK(A301),0,VLOOKUP(A301,'PAYROLL RECORD'!$B$8:$U$2005,19,FALSE))","v":0},{"$f":"+D301","v":0},null,null,null,null,null,null,null,null,null,null,null,null,null,null,null,null,null,null,{"$f":"SUM(G302:U302)","v":0},null,null,{"$f":"W302*C302","v":0}]
[null,"OT2",{"$f":"IF(ISBLANK(A301),0,VLOOKUP(A301,'PAYROLL RECORD'!$B$8:$U$2005,20,FALSE))","v":0},{"$f":"+D302","v":0},null,null,null,null,null,null,null,null,null,null,null,null,null,null,null,null,null,null,null,{"$f":"SUM(G303:U303)","v":0},null,null,{"$f":"X303*C303","v":0}]
[null,null,null,null,{"$f":"IF(ISBLANK(A304),0,VLOOKUP(A304,'EQUIPMENT INVENTORY'!$B$7:$AK$1021,7,0))","v":0},{"$f":"IF(ISBLANK(A304),0,VLOOKUP(A304,'EQUIPMENT INVENTORY'!$B$7:$AK$1021,8,0))","v":0},null,null,null,null,null,null,null,null,null,null,null,null,null,null,null,{"$f":"SUM($G304:$U304)","v":0},null,null,{"$f":"V304*F304","v":0}]
[null,null,null,null,{"$f":"IF(ISBLANK(A305),0,VLOOKUP(A305,'EQUIPMENT INVENTORY'!$B$7:$AK$1021,7,0))","v":0},{"$f":"IF(ISBLANK(A305),0,VLOOKUP(A305,'EQUIPMENT INVENTORY'!$B$7:$AK$1021,8,0))","v":0},null,null,null,null,null,null,null,null,null,null,null,null,null,null,null,{"$f":"SUM($G305:$U305)","v":0},null,null,{"$f":"V305*F305","v":0}]
[null,null,null,null,{"$f":"IF(ISBLANK(A306),0,VLOOKUP(A306,'EQUIPMENT INVENTORY'!$B$7:$AK$1021,7,0))","v":0},{"$f":"IF(ISBLANK(A306),0,VLOOKUP(A306,'EQUIPMENT INVENTORY'!$B$7:$AK$1021,8,0))","v":0},null,null,null,null,null,null,null,null,null,null,null,null,null,null,null,{"$f":"SUM($G306:$U306)","v":0},null,null,{"$f":"V306*F306","v":0}]
[null,"REG",{"$f":"IF(ISBLANK(A307),0,VLOOKUP(A307,'PAYROLL RECORD'!$B$8:$U$2005,18,FALSE))","v":0},{"$f":"IF(ISBLANK(A307),0,VLOOKUP(A307,'PAYROLL RECORD'!$B$8:$D$2005,3,FALSE))","v":0},null,null,null,null,null,null,null,null,null,null,null,null,null,null,null,null,null,{"$f":"SUM($G307:$U307)","v":0},null,null,{"$f":"IF(AND($M$5=\"A\",D307<>\"FT\"),C307*V307,0)+IF(AND($M$5=\"B\",D307<>\"FT\"),C307*V307,0)+IF(AND($M$5=\"AP\"),C307*V307,0)+IF($M$5>=\"C\",C307*V307)","v":0}]
[{"$f":"IF(ISBLANK(A307),\" \",VLOOKUP(A307,'PAYROLL RECORD'!$B$9:$C$10740,2,FALSE))","v":" "},"OT1",{"$f":"IF(ISBLANK(A307),0,VLOOKUP(A307,'PAYROLL RECORD'!$B$8:$U$2005,19,FALSE))","v":0},{"$f":"+D307","v":0},null,null,null,null,null,null,null,null,null,null,null,null,null,null,null,null,null,null,{"$f":"SUM(G308:U308)","v":0},null,null,{"$f":"W308*C308","v":0}]
[null,"OT2",{"$f":"IF(ISBLANK(A307),0,VLOOKUP(A307,'PAYROLL RECORD'!$B$8:$U$2005,20,FALSE))","v":0},{"$f":"+D308","v":0},null,null,null,null,null,null,null,null,null,null,null,null,null,null,null,null,null,null,null,{"$f":"SUM(G309:U309)","v":0},null,null,{"$f":"X309*C309","v":0}]
[null,null,null,null,{"$f":"IF(ISBLANK(A310),0,VLOOKUP(A310,'EQUIPMENT INVENTORY'!$B$7:$AK$1021,7,0))","v":0},{"$f":"IF(ISBLANK(A310),0,VLOOKUP(A310,'EQUIPMENT INVENTORY'!$B$7:$AK$1021,8,0))","v":0},null,null,null,null,null,null,null,null,null,null,null,null,null,null,null,{"$f":"SUM($G310:$U310)","v":0},null,null,{"$f":"V310*F310","v":0}]
[null,null,null,null,{"$f":"IF(ISBLANK(A311),0,VLOOKUP(A311,'EQUIPMENT INVENTORY'!$B$7:$AK$1021,7,0))","v":0},{"$f":"IF(ISBLANK(A311),0,VLOOKUP(A311,'EQUIPMENT INVENTORY'!$B$7:$AK$1021,8,0))","v":0},null,null,null,null,null,null,null,null,null,null,null,null,null,null,null,{"$f":"SUM($G311:$U311)","v":0},null,null,{"$f":"V311*F311","v":0}]
[null,null,null,null,{"$f":"IF(ISBLANK(A312),0,VLOOKUP(A312,'EQUIPMENT INVENTORY'!$B$7:$AK$1021,7,0))","v":0},{"$f":"IF(ISBLANK(A312),0,VLOOKUP(A312,'EQUIPMENT INVENTORY'!$B$7:$AK$1021,8,0))","v":0},null,null,null,null,null,null,null,null,null,null,null,null,null,null,null,{"$f":"SUM($G312:$U312)","v":0},null,null,{"$f":"V312*F312","v":0}]
[null,"REG",{"$f":"IF(ISBLANK(A313),0,VLOOKUP(A313,'PAYROLL RECORD'!$B$8:$U$2005,18,FALSE))","v":0},{"$f":"IF(ISBLANK(A313),0,VLOOKUP(A313,'PAYROLL RECORD'!$B$8:$D$2005,3,FALSE))","v":0},null,null,null,null,null,null,null,null,null,null,null,null,null,null,null,null,null,{"$f":"SUM($G313:$U313)","v":0},null,null,{"$f":"IF(AND($M$5=\"A\",D313<>\"FT\"),C313*V313,0)+IF(AND($M$5=\"B\",D313<>\"FT\"),C313*V313,0)+IF(AND($M$5=\"AP\"),C313*V313,0)+IF($M$5>=\"C\",C313*V313)","v":0}]
[{"$f":"IF(ISBLANK(A313),\" \",VLOOKUP(A313,'PAYROLL RECORD'!$B$9:$C$10740,2,FALSE))","v":" "},"OT1",{"$f":"IF(ISBLANK(A313),0,VLOOKUP(A313,'PAYROLL RECORD'!$B$8:$U$2005,19,FALSE))","v":0},{"$f":"+D313","v":0},null,null,null,null,null,null,null,null,null,null,null,null,null,null,null,null,null,null,{"$f":"SUM(G314:U314)","v":0},null,null,{"$f":"W314*C314","v":0}]
[null,"OT2",{"$f":"IF(ISBLANK(A313),0,VLOOKUP(A313,'PAYROLL RECORD'!$B$8:$U$2005,20,FALSE))","v":0},{"$f":"+D314","v":0},null,null,null,null,null,null,null,null,null,null,null,null,null,null,null,null,null,null,null,{"$f":"SUM(G315:U315)","v":0},null,null,{"$f":"X315*C315","v":0}]
[null,null,null,null,{"$f":"IF(ISBLANK(A316),0,VLOOKUP(A316,'EQUIPMENT INVENTORY'!$B$7:$AK$1021,7,0))","v":0},{"$f":"IF(ISBLANK(A316),0,VLOOKUP(A316,'EQUIPMENT INVENTORY'!$B$7:$AK$1021,8,0))","v":0},null,null,null,null,null,null,null,null,null,null,null,null,null,null,null,{"$f":"SUM($G316:$U316)","v":0},null,null,{"$f":"V316*F316","v":0}]
[null,null,null,null,{"$f":"IF(ISBLANK(A317),0,VLOOKUP(A317,'EQUIPMENT INVENTORY'!$B$7:$AK$1021,7,0))","v":0},{"$f":"IF(ISBLANK(A317),0,VLOOKUP(A317,'EQUIPMENT INVENTORY'!$B$7:$AK$1021,8,0))","v":0},null,null,null,null,null,null,null,null,null,null,null,null,null,null,null,{"$f":"SUM($G317:$U317)","v":0},null,null,{"$f":"V317*F317","v":0}]
[null,null,null,null,{"$f":"IF(ISBLANK(A318),0,VLOOKUP(A318,'EQUIPMENT INVENTORY'!$B$7:$AK$1021,7,0))","v":0},{"$f":"IF(ISBLANK(A318),0,VLOOKUP(A318,'EQUIPMENT INVENTORY'!$B$7:$AK$1021,8,0))","v":0},null,null,null,null,null,null,null,null,null,null,null,null,null,null,null,{"$f":"SUM($G318:$U318)","v":0},null,null,{"$f":"V318*F318","v":0}]
[null,"REG",{"$f":"IF(ISBLANK(A319),0,VLOOKUP(A319,'PAYROLL RECORD'!$B$8:$U$2005,18,FALSE))","v":0},{"$f":"IF(ISBLANK(A319),0,VLOOKUP(A319,'PAYROLL RECORD'!$B$8:$D$2005,3,FALSE))","v":0},null,null,null,null,null,null,null,null,null,null,null,null,null,null,null,null,null,{"$f":"SUM($G319:$U319)","v":0},null,null,{"$f":"IF(AND($M$5=\"A\",D319<>\"FT\"),C319*V319,0)+IF(AND($M$5=\"B\",D319<>\"FT\"),C319*V319,0)+IF(AND($M$5=\"AP\"),C319*V319,0)+IF($M$5>=\"C\",C319*V319)","v":0}]
[{"$f":"IF(ISBLANK(A319),\" \",VLOOKUP(A319,'PAYROLL RECORD'!$B$9:$C$10740,2,FALSE))","v":" "},"OT1",{"$f":"IF(ISBLANK(A319),0,VLOOKUP(A319,'PAYROLL RECORD'!$B$8:$U$2005,19,FALSE))","v":0},{"$f":"+D319","v":0},null,null,null,null,null,null,null,null,null,null,null,null,null,null,null,null,null,null,{"$f":"SUM(G320:U320)","v":0},null,null,{"$f":"W320*C320","v":0}]
[null,"OT2",{"$f":"IF(ISBLANK(A319),0,VLOOKUP(A319,'PAYROLL RECORD'!$B$8:$U$2005,20,FALSE))","v":0},{"$f":"+D320","v":0},null,null,null,null,null,null,null,null,null,null,null,null,null,null,null,null,null,null,null,{"$f":"SUM(G321:U321)","v":0},null,null,{"$f":"X321*C321","v":0}]
[null,null,null,null,{"$f":"IF(ISBLANK(A322),0,VLOOKUP(A322,'EQUIPMENT INVENTORY'!$B$7:$AK$1021,7,0))","v":0},{"$f":"IF(ISBLANK(A322),0,VLOOKUP(A322,'EQUIPMENT INVENTORY'!$B$7:$AK$1021,8,0))","v":0},null,null,null,null,null,null,null,null,null,null,null,null,null,null,null,{"$f":"SUM($G322:$U322)","v":0},null,null,{"$f":"V322*F322","v":0}]
[null,null,null,null,{"$f":"IF(ISBLANK(A323),0,VLOOKUP(A323,'EQUIPMENT INVENTORY'!$B$7:$AK$1021,7,0))","v":0},{"$f":"IF(ISBLANK(A323),0,VLOOKUP(A323,'EQUIPMENT INVENTORY'!$B$7:$AK$1021,8,0))","v":0},null,null,null,null,null,null,null,null,null,null,null,null,null,null,null,{"$f":"SUM($G323:$U323)","v":0},null,null,{"$f":"V323*F323","v":0}]
[null,null,null,null,{"$f":"IF(ISBLANK(A324),0,VLOOKUP(A324,'EQUIPMENT INVENTORY'!$B$7:$AK$1021,7,0))","v":0},{"$f":"IF(ISBLANK(A324),0,VLOOKUP(A324,'EQUIPMENT INVENTORY'!$B$7:$AK$1021,8,0))","v":0},null,null,null,null,null,null,null,null,null,null,null,null,null,null,null,{"$f":"SUM($G324:$U324)","v":0},null,null,{"$f":"V324*F324","v":0}]
[null,"REG",{"$f":"IF(ISBLANK(A325),0,VLOOKUP(A325,'PAYROLL RECORD'!$B$8:$U$2005,18,FALSE))","v":0},{"$f":"IF(ISBLANK(A325),0,VLOOKUP(A325,'PAYROLL RECORD'!$B$8:$D$2005,3,FALSE))","v":0},null,null,null,null,null,null,null,null,null,null,null,null,null,null,null,null,null,{"$f":"SUM($G325:$U325)","v":0},null,null,{"$f":"IF(AND($M$5=\"A\",D325<>\"FT\"),C325*V325,0)+IF(AND($M$5=\"B\",D325<>\"FT\"),C325*V325,0)+IF(AND($M$5=\"AP\"),C325*V325,0)+IF($M$5>=\"C\",C325*V325)","v":0}]
[{"$f":"IF(ISBLANK(A325),\" \",VLOOKUP(A325,'PAYROLL RECORD'!$B$9:$C$10740,2,FALSE))","v":" "},"OT1",{"$f":"IF(ISBLANK(A325),0,VLOOKUP(A325,'PAYROLL RECORD'!$B$8:$U$2005,19,FALSE))","v":0},{"$f":"+D325","v":0},null,null,null,null,null,null,null,null,null,null,null,null,null,null,null,null,null,null,{"$f":"SUM(G326:U326)","v":0},null,null,{"$f":"W326*C326","v":0}]
[null,"OT2",{"$f":"IF(ISBLANK(A325),0,VLOOKUP(A325,'PAYROLL RECORD'!$B$8:$U$2005,20,FALSE))","v":0},{"$f":"+D326","v":0},null,null,null,null,null,null,null,null,null,null,null,null,null,null,null,null,null,null,null,{"$f":"SUM(G327:U327)","v":0},null,null,{"$f":"X327*C327","v":0}]
[null,null,null,null,{"$f":"IF(ISBLANK(A328),0,VLOOKUP(A328,'EQUIPMENT INVENTORY'!$B$7:$AK$1021,7,0))","v":0},{"$f":"IF(ISBLANK(A328),0,VLOOKUP(A328,'EQUIPMENT INVENTORY'!$B$7:$AK$1021,8,0))","v":0},null,null,null,null,null,null,null,null,null,null,null,null,null,null,null,{"$f":"SUM($G328:$U328)","v":0},null,null,{"$f":"V328*F328","v":0}]
[null,null,null,null,{"$f":"IF(ISBLANK(A329),0,VLOOKUP(A329,'EQUIPMENT INVENTORY'!$B$7:$AK$1021,7,0))","v":0},{"$f":"IF(ISBLANK(A329),0,VLOOKUP(A329,'EQUIPMENT INVENTORY'!$B$7:$AK$1021,8,0))","v":0},null,null,null,null,null,null,null,null,null,null,null,null,null,null,null,{"$f":"SUM($G329:$U329)","v":0},null,null,{"$f":"V329*F329","v":0}]
[null,null,null,null,{"$f":"IF(ISBLANK(A330),0,VLOOKUP(A330,'EQUIPMENT INVENTORY'!$B$7:$AK$1021,7,0))","v":0},{"$f":"IF(ISBLANK(A330),0,VLOOKUP(A330,'EQUIPMENT INVENTORY'!$B$7:$AK$1021,8,0))","v":0},null,null,null,null,null,null,null,null,null,null,null,null,null,null,null,{"$f":"SUM($G330:$U330)","v":0},null,null,{"$f":"V330*F330","v":0}]
[null,"REG",{"$f":"IF(ISBLANK(A331),0,VLOOKUP(A331,'PAYROLL RECORD'!$B$8:$U$2005,18,FALSE))","v":0},{"$f":"IF(ISBLANK(A331),0,VLOOKUP(A331,'PAYROLL RECORD'!$B$8:$D$2005,3,FALSE))","v":0},null,null,null,null,null,null,null,null,null,null,null,null,null,null,null,null,null,{"$f":"SUM($G331:$U331)","v":0},null,null,{"$f":"IF(AND($M$5=\"A\",D331<>\"FT\"),C331*V331,0)+IF(AND($M$5=\"B\",D331<>\"FT\"),C331*V331,0)+IF(AND($M$5=\"AP\"),C331*V331,0)+IF($M$5>=\"C\",C331*V331)","v":0}]
[{"$f":"IF(ISBLANK(A331),\" \",VLOOKUP(A331,'PAYROLL RECORD'!$B$9:$C$10740,2,FALSE))","v":" "},"OT1",{"$f":"IF(ISBLANK(A331),0,VLOOKUP(A331,'PAYROLL RECORD'!$B$8:$U$2005,19,FALSE))","v":0},{"$f":"+D331","v":0},null,null,null,null,null,null,null,null,null,null,null,null,null,null,null,null,null,null,{"$f":"SUM(G332:U332)","v":0},null,null,{"$f":"W332*C332","v":0}]
[null,"OT2",{"$f":"IF(ISBLANK(A331),0,VLOOKUP(A331,'PAYROLL RECORD'!$B$8:$U$2005,20,FALSE))","v":0},{"$f":"+D332","v":0},null,null,null,null,null,null,null,null,null,null,null,null,null,null,null,null,null,null,null,{"$f":"SUM(G333:U333)","v":0},null,null,{"$f":"X333*C333","v":0}]
[null,null,null,null,{"$f":"IF(ISBLANK(A334),0,VLOOKUP(A334,'EQUIPMENT INVENTORY'!$B$7:$AK$1021,7,0))","v":0},{"$f":"IF(ISBLANK(A334),0,VLOOKUP(A334,'EQUIPMENT INVENTORY'!$B$7:$AK$1021,8,0))","v":0},null,null,null,null,null,null,null,null,null,null,null,null,null,null,null,{"$f":"SUM($G334:$U334)","v":0},null,null,{"$f":"V334*F334","v":0}]
[null,null,null,null,{"$f":"IF(ISBLANK(A335),0,VLOOKUP(A335,'EQUIPMENT INVENTORY'!$B$7:$AK$1021,7,0))","v":0},{"$f":"IF(ISBLANK(A335),0,VLOOKUP(A335,'EQUIPMENT INVENTORY'!$B$7:$AK$1021,8,0))","v":0},null,null,null,null,null,null,null,null,null,null,null,null,null,null,null,{"$f":"SUM($G335:$U335)","v":0},null,null,{"$f":"V335*F335","v":0}]
[null,null,null,null,{"$f":"IF(ISBLANK(A336),0,VLOOKUP(A336,'EQUIPMENT INVENTORY'!$B$7:$AK$1021,7,0))","v":0},{"$f":"IF(ISBLANK(A336),0,VLOOKUP(A336,'EQUIPMENT INVENTORY'!$B$7:$AK$1021,8,0))","v":0},null,null,null,null,null,null,null,null,null,null,null,null,null,null,null,{"$f":"SUM($G336:$U336)","v":0},null,null,{"$f":"V336*F336","v":0}]
[null,"REG",{"$f":"IF(ISBLANK(A337),0,VLOOKUP(A337,'PAYROLL RECORD'!$B$8:$U$2005,18,FALSE))","v":0},{"$f":"IF(ISBLANK(A337),0,VLOOKUP(A337,'PAYROLL RECORD'!$B$8:$D$2005,3,FALSE))","v":0},null,null,null,null,null,null,null,null,null,null,null,null,null,null,null,null,null,{"$f":"SUM($G337:$U337)","v":0},null,null,{"$f":"IF(AND($M$5=\"A\",D337<>\"FT\"),C337*V337,0)+IF(AND($M$5=\"B\",D337<>\"FT\"),C337*V337,0)+IF(AND($M$5=\"AP\"),C337*V337,0)+IF($M$5>=\"C\",C337*V337)","v":0}]
[{"$f":"IF(ISBLANK(A337),\" \",VLOOKUP(A337,'PAYROLL RECORD'!$B$9:$C$10740,2,FALSE))","v":" "},"OT1",{"$f":"IF(ISBLANK(A337),0,VLOOKUP(A337,'PAYROLL RECORD'!$B$8:$U$2005,19,FALSE))","v":0},{"$f":"+D337","v":0},null,null,null,null,null,null,null,null,null,null,null,null,null,null,null,null,null,null,{"$f":"SUM(G338:U338)","v":0},null,null,{"$f":"W338*C338","v":0}]
[null,"OT2",{"$f":"IF(ISBLANK(A337),0,VLOOKUP(A337,'PAYROLL RECORD'!$B$8:$U$2005,20,FALSE))","v":0},{"$f":"+D338","v":0},null,null,null,null,null,null,null,null,null,null,null,null,null,null,null,null,null,null,null,{"$f":"SUM(G339:U339)","v":0},null,null,{"$f":"X339*C339","v":0}]
[null,null,null,null,{"$f":"IF(ISBLANK(A340),0,VLOOKUP(A340,'EQUIPMENT INVENTORY'!$B$7:$AK$1021,7,0))","v":0},{"$f":"IF(ISBLANK(A340),0,VLOOKUP(A340,'EQUIPMENT INVENTORY'!$B$7:$AK$1021,8,0))","v":0},null,null,null,null,null,null,null,null,null,null,null,null,null,null,null,{"$f":"SUM($G340:$U340)","v":0},null,null,{"$f":"V340*F340","v":0}]
[null,null,null,null,{"$f":"IF(ISBLANK(A341),0,VLOOKUP(A341,'EQUIPMENT INVENTORY'!$B$7:$AK$1021,7,0))","v":0},{"$f":"IF(ISBLANK(A341),0,VLOOKUP(A341,'EQUIPMENT INVENTORY'!$B$7:$AK$1021,8,0))","v":0},null,null,null,null,null,null,null,null,null,null,null,null,null,null,null,{"$f":"SUM($G341:$U341)","v":0},null,null,{"$f":"V341*F341","v":0}]
[null,null,null,null,{"$f":"IF(ISBLANK(A342),0,VLOOKUP(A342,'EQUIPMENT INVENTORY'!$B$7:$AK$1021,7,0))","v":0},{"$f":"IF(ISBLANK(A342),0,VLOOKUP(A342,'EQUIPMENT INVENTORY'!$B$7:$AK$1021,8,0))","v":0},null,null,null,null,null,null,null,null,null,null,null,null,null,null,null,{"$f":"SUM($G342:$U342)","v":0},null,null,{"$f":"V342*F342","v":0}]
[null,"REG",{"$f":"IF(ISBLANK(A343),0,VLOOKUP(A343,'PAYROLL RECORD'!$B$8:$U$2005,18,FALSE))","v":0},{"$f":"IF(ISBLANK(A343),0,VLOOKUP(A343,'PAYROLL RECORD'!$B$8:$D$2005,3,FALSE))","v":0},null,null,null,null,null,null,null,null,null,null,null,null,null,null,null,null,null,{"$f":"SUM($G343:$U343)","v":0},null,null,{"$f":"IF(AND($M$5=\"A\",D343<>\"FT\"),C343*V343,0)+IF(AND($M$5=\"B\",D343<>\"FT\"),C343*V343,0)+IF(AND($M$5=\"AP\"),C343*V343,0)+IF($M$5>=\"C\",C343*V343)","v":0}]
[{"$f":"IF(ISBLANK(A343),\" \",VLOOKUP(A343,'PAYROLL RECORD'!$B$9:$C$10740,2,FALSE))","v":" "},"OT1",{"$f":"IF(ISBLANK(A343),0,VLOOKUP(A343,'PAYROLL RECORD'!$B$8:$U$2005,19,FALSE))","v":0},{"$f":"+D343","v":0},null,null,null,null,null,null,null,null,null,null,null,null,null,null,null,null,null,null,{"$f":"SUM(G344:U344)","v":0},null,null,{"$f":"W344*C344","v":0}]
[null,"OT2",{"$f":"IF(ISBLANK(A343),0,VLOOKUP(A343,'PAYROLL RECORD'!$B$8:$U$2005,20,FALSE))","v":0},{"$f":"+D344","v":0},null,null,null,null,null,null,null,null,null,null,null,null,null,null,null,null,null,null,null,{"$f":"SUM(G345:U345)","v":0},null,null,{"$f":"X345*C345","v":0}]
[null,null,null,null,{"$f":"IF(ISBLANK(A346),0,VLOOKUP(A346,'EQUIPMENT INVENTORY'!$B$7:$AK$1021,7,0))","v":0},{"$f":"IF(ISBLANK(A346),0,VLOOKUP(A346,'EQUIPMENT INVENTORY'!$B$7:$AK$1021,8,0))","v":0},null,null,null,null,null,null,null,null,null,null,null,null,null,null,null,{"$f":"SUM($G346:$U346)","v":0},null,null,{"$f":"V346*F346","v":0}]
[null,null,null,null,{"$f":"IF(ISBLANK(A347),0,VLOOKUP(A347,'EQUIPMENT INVENTORY'!$B$7:$AK$1021,7,0))","v":0},{"$f":"IF(ISBLANK(A347),0,VLOOKUP(A347,'EQUIPMENT INVENTORY'!$B$7:$AK$1021,8,0))","v":0},null,null,null,null,null,null,null,null,null,null,null,null,null,null,null,{"$f":"SUM($G347:$U347)","v":0},null,null,{"$f":"V347*F347","v":0}]
[null,null,null,null,{"$f":"IF(ISBLANK(A348),0,VLOOKUP(A348,'EQUIPMENT INVENTORY'!$B$7:$AK$1021,7,0))","v":0},{"$f":"IF(ISBLANK(A348),0,VLOOKUP(A348,'EQUIPMENT INVENTORY'!$B$7:$AK$1021,8,0))","v":0},null,null,null,null,null,null,null,null,null,null,null,null,null,null,null,{"$f":"SUM($G348:$U348)","v":0},null,null,{"$f":"V348*F348","v":0},null,null,"Reg hrs","ot1 hrs","ot2 hrs","equip hrs"]
[null,null,null,null,null,null,null,null,null,null,null,null,null,null,null,null,"LABOR - Page Total",null,null,null,null,{"$f":"V301+V307+V313+V325+V331+V343+V319+V337","v":0},{"$f":"SUM(W301:W348)","v":0},{"$f":"SUM(X301:X348)","v":0},{"$f":"Y301+Y307+Y313+Y325+Y331+Y343+Y319+Y337","v":0},{"$f":"SUM(Z302:Z348)","v":0},{"$f":"SUM(AA302:AA348)","v":0},{"$f":"V349","v":0},{"$f":"W349","v":0},{"$f":"X349","v":0},{"$f":"V350","v":0},{"$f":"Y349","v":0},{"$f":"Z349","v":0},{"$f":"AA349","v":0},{"$f":"Y350","v":0}]
[null,null,null,null,null,null,null,null,null,null,null,null,null,null,null,null,"EQUIPMENT - Page Total",null,null,null,null,{"$f":"V304+V305+V306+V310+V311+V312+V316+V317+V318+V322+V323+V324+V328+V329+V330+V334+V335+V336+V346+V347+V348+V340+V341+V342","v":0},null,null,{"$f":"Y304+Y305+Y306+Y310+Y311+Y312+Y316+Y317+Y318+Y322+Y323+Y324+Y328+Y329+Y330+Y334+Y335+Y336+Y346+Y347+Y348+Y340+Y341+Y342","v":0}]
[null,null,null,null,null,null,null,null,null,null,null,null,null,null,null,null,"LABOR - Grand Total",null,null,null,null,{"$f":"SUM($AB:$AB)","v":0},{"$f":"SUM($AC:$AC)","v":0},{"$f":"SUM($AD:$AD)","v":0},{"$f":"SUM(AF:AF)","v":0},{"$f":"SUM($AG:$AG)","v":0},{"$f":"SUM($AH:$AH)","v":0}]
[null,null,null,null,null,null,null,null,null,null,null,null,null,null,null,null,"EQUIPMENT - Grand Total",null,null,null,null,{"$f":"SUM($AE:$AE)","v":0},null,null,{"$f":"SUM($AI:$AI)","v":0}]
[]
[]
["COST SUMMARY FOR LABOR/EQUIPMENT"]
["APPLICANT - FIPS#",null,null,null,"DISASTER #:",null,null,"PROJECT #:",null,null,null,null,"FEMA CAT A-G",null,null,"EMMIE #",null,null,null,"Work Completion Date"]
[{"$f":"IF('PAYROLL RECORD'!$B$5=\"START HERE\",\"\",'PAYROLL RECORD'!$B$5)","v":0},null,null,null,{"$f":"IF('PAYROLL RECORD'!$F$5=\"\",\"\",'PAYROLL RECORD'!$F$5)","v":""},null,null,{"$f":"'PAYROLL RECORD'!I356:L356","v":{"$error":"#VALUE!"}},null,null,null,null,{"$f":"IF('PAYROLL RECORD'!$M$5=\"CATEGORY\",\"\",'PAYROLL RECORD'!$M$5)","v":0},null,null,{"$f":"IF('PAYROLL RECORD'!$O$5=\"EMMIE #\",\"\",'PAYROLL RECORD'!$O$5)","v":0},null,null,null,{"$f":"IF('PAYROLL RECORD'!$Q$5=\"DATE\",\"\",'PAYROLL RECORD'!$Q$5)","v":"00:00:00"}]
["Employee/\nEquipment",null,"RATE w/","STATUS","COST CODE","RATE","2018-10-31",{"$f":"+G358+1","v":"2018-11-01"},{"$f":"H358+1","v":"2018-11-02"},"2018-11-03","2018-11-04","2018-11-05","2018-11-06","2018-11-07","2018-11-08","2018-11-09","2018-11-10","2018-11-11","2018-11-12","2018-11-13","2018-11-14","REG","OT1","OT2","REG TIME\nCOST","OT1\nCOST","OT2\nCOST"]
[null,null,"FRINGE",null,null,null,{"$f":"IF(G358<=0,\"\",TEXT(WEEKDAY(G358),\"ddd\"))","v":"Wed"},{"$f":"IF(H358<=0,\"\",TEXT(WEEKDAY(H358),\"ddd\"))","v":"Thu"},"Fri","Sat","Sun","Mon","Tue","Wed","Thu","Fri","Sat","Sun","Mon","Tue","Wed"]
[null,"REG",{"$f":"IF(ISBLANK(A360),0,VLOOKUP(A360,'PAYROLL RECORD'!$B$8:$U$2005,18,FALSE))","v":0},{"$f":"IF(ISBLANK(A360),0,VLOOKUP(A360,'PAYROLL RECORD'!$B$8:$D$2005,3,FALSE))","v":0},null,null,null,null,null,null,null,null,null,null,null,null,null,null,null,null,null,{"$f":"SUM($G360:$U360)","v":0},null,null,{"$f":"IF(AND($M$5=\"A\",D360<>\"FT\"),C360*V360,0)+IF(AND($M$5=\"B\",D360<>\"FT\"),C360*V360,0)+IF(AND($M$5=\"AP\"),C360*V360,0)+IF($M$5>=\"C\",C360*V360)","v":0}]
[{"$f":"IF(ISBLANK(A360),\" \",VLOOKUP(A360,'PAYROLL RECORD'!$B$9:$C$10740,2,FALSE))","v":" "},"OT1",{"$f":"IF(ISBLANK(A360),0,VLOOKUP(A360,'PAYROLL RECORD'!$B$8:$U$2005,19,FALSE))","v":0},{"$f":"+D360","v":0},null,null,null,null,null,null,null,null,null,null,null,null,null,null,null,null,null,null,{"$f":"SUM(G361:U361)","v":0},null,null,{"$f":"W361*C361","v":0}]
[null,"OT2",{"$f":"IF(ISBLANK(A360),0,VLOOKUP(A360,'PAYROLL RECORD'!$B$8:$U$2005,20,FALSE))","v":0},{"$f":"+D361","v":0},null,null,null,null,null,null,null,null,null,null,null,null,null,null,null,null,null,null,null,{"$f":"SUM(G362:U362)","v":0},null,null,{"$f":"X362*C362","v":0}]
[null,null,null,null,{"$f":"IF(ISBLANK(A363),0,VLOOKUP(A363,'EQUIPMENT INVENTORY'!$B$7:$AK$1021,7,0))","v":0},{"$f":"IF(ISBLANK(A363),0,VLOOKUP(A363,'EQUIPMENT INVENTORY'!$B$7:$AK$1021,8,0))","v":0},null,null,null,null,null,null,null,null,null,null,null,null,null,null,null,{"$f":"SUM($G363:$U363)","v":0},null,null,{"$f":"V363*F363","v":0}]
[null,null,null,null,{"$f":"IF(ISBLANK(A364),0,VLOOKUP(A364,'EQUIPMENT INVENTORY'!$B$7:$AK$1021,7,0))","v":0},{"$f":"IF(ISBLANK(A364),0,VLOOKUP(A364,'EQUIPMENT INVENTORY'!$B$7:$AK$1021,8,0))","v":0},null,null,null,null,null,null,null,null,null,null,null,null,null,null,null,{"$f":"SUM($G364:$U364)","v":0},null,null,{"$f":"V364*F364","v":0}]
[null,null,null,null,{"$f":"IF(ISBLANK(A365),0,VLOOKUP(A365,'EQUIPMENT INVENTORY'!$B$7:$AK$1021,7,0))","v":0},{"$f":"IF(ISBLANK(A365),0,VLOOKUP(A365,'EQUIPMENT INVENTORY'!$B$7:$AK$1021,8,0))","v":0},null,null,null,null,null,null,null,null,null,null,null,null,null,null,null,{"$f":"SUM($G365:$U365)","v":0},null,null,{"$f":"V365*F365","v":0}]
[null,"REG",{"$f":"IF(ISBLANK(A366),0,VLOOKUP(A366,'PAYROLL RECORD'!$B$8:$U$2005,18,FALSE))","v":0},{"$f":"IF(ISBLANK(A366),0,VLOOKUP(A366,'PAYROLL RECORD'!$B$8:$D$2005,3,FALSE))","v":0},null,null,null,null,null,null,null,null,null,null,null,null,null,null,null,null,null,{"$f":"SUM($G366:$U366)","v":0},null,null,{"$f":"IF(AND($M$5=\"A\",D366<>\"FT\"),C366*V366,0)+IF(AND($M$5=\"B\",D366<>\"FT\"),C366*V366,0)+IF(AND($M$5=\"AP\"),C366*V366,0)+IF($M$5>=\"C\",C366*V366)","v":0}]
[{"$f":"IF(ISBLANK(A366),\" \",VLOOKUP(A366,'PAYROLL RECORD'!$B$9:$C$10740,2,FALSE))","v":" "},"OT1",{"$f":"IF(ISBLANK(A366),0,VLOOKUP(A366,'PAYROLL RECORD'!$B$8:$U$2005,19,FALSE))","v":0},{"$f":"+D366","v":0},null,null,null,null,null,null,null,null,null,null,null,null,null,null,null,null,null,null,{"$f":"SUM(G367:U367)","v":0},null,null,{"$f":"W367*C367","v":0}]
[null,"OT2",{"$f":"IF(ISBLANK(A366),0,VLOOKUP(A366,'PAYROLL RECORD'!$B$8:$U$2005,20,FALSE))","v":0},{"$f":"+D367","v":0},null,null,null,null,null,null,null,null,null,null,null,null,null,null,null,null,null,null,null,{"$f":"SUM(G368:U368)","v":0},null,null,{"$f":"X368*C368","v":0}]
[null,null,null,null,{"$f":"IF(ISBLANK(A369),0,VLOOKUP(A369,'EQUIPMENT INVENTORY'!$B$7:$AK$1021,7,0))","v":0},{"$f":"IF(ISBLANK(A369),0,VLOOKUP(A369,'EQUIPMENT INVENTORY'!$B$7:$AK$1021,8,0))","v":0},null,null,null,null,null,null,null,null,null,null,null,null,null,null,null,{"$f":"SUM($G369:$U369)","v":0},null,null,{"$f":"V369*F369","v":0}]
[null,null,null,null,{"$f":"IF(ISBLANK(A370),0,VLOOKUP(A370,'EQUIPMENT INVENTORY'!$B$7:$AK$1021,7,0))","v":0},{"$f":"IF(ISBLANK(A370),0,VLOOKUP(A370,'EQUIPMENT INVENTORY'!$B$7:$AK$1021,8,0))","v":0},null,null,null,null,null,null,null,null,null,null,null,null,null,null,null,{"$f":"SUM($G370:$U370)","v":0},null,null,{"$f":"V370*F370","v":0}]
[null,null,null,null,{"$f":"IF(ISBLANK(A371),0,VLOOKUP(A371,'EQUIPMENT INVENTORY'!$B$7:$AK$1021,7,0))","v":0},{"$f":"IF(ISBLANK(A371),0,VLOOKUP(A371,'EQUIPMENT INVENTORY'!$B$7:$AK$1021,8,0))","v":0},null,null,null,null,null,null,null,null,null,null,null,null,null,null,null,{"$f":"SUM($G371:$U371)","v":0},null,null,{"$f":"V371*F371","v":0}]
[null,"REG",{"$f":"IF(ISBLANK(A372),0,VLOOKUP(A372,'PAYROLL RECORD'!$B$8:$U$2005,18,FALSE))","v":0},{"$f":"IF(ISBLANK(A372),0,VLOOKUP(A372,'PAYROLL RECORD'!$B$8:$D$2005,3,FALSE))","v":0},null,null,null,null,null,null,null,null,null,null,null,null,null,null,null,null,null,{"$f":"SUM($G372:$U372)","v":0},null,null,{"$f":"IF(AND($M$5=\"A\",D372<>\"FT\"),C372*V372,0)+IF(AND($M$5=\"B\",D372<>\"FT\"),C372*V372,0)+IF(AND($M$5=\"AP\"),C372*V372,0)+IF($M$5>=\"C\",C372*V372)","v":0}]
[{"$f":"IF(ISBLANK(A372),\" \",VLOOKUP(A372,'PAYROLL RECORD'!$B$9:$C$10740,2,FALSE))","v":" "},"OT1",{"$f":"IF(ISBLANK(A372),0,VLOOKUP(A372,'PAYROLL RECORD'!$B$8:$U$2005,19,FALSE))","v":0},{"$f":"+D372","v":0},null,null,null,null,null,null,null,null,null,null,null,null,null,null,null,null,null,null,{"$f":"SUM(G373:U373)","v":0},null,null,{"$f":"W373*C373","v":0}]
[null,"OT2",{"$f":"IF(ISBLANK(A372),0,VLOOKUP(A372,'PAYROLL RECORD'!$B$8:$U$2005,20,FALSE))","v":0},{"$f":"+D373","v":0},null,null,null,null,null,null,null,null,null,null,null,null,null,null,null,null,null,null,null,{"$f":"SUM(G374:U374)","v":0},null,null,{"$f":"X374*C374","v":0}]
[null,null,null,null,{"$f":"IF(ISBLANK(A375),0,VLOOKUP(A375,'EQUIPMENT INVENTORY'!$B$7:$AK$1021,7,0))","v":0},{"$f":"IF(ISBLANK(A375),0,VLOOKUP(A375,'EQUIPMENT INVENTORY'!$B$7:$AK$1021,8,0))","v":0},null,null,null,null,null,null,null,null,null,null,null,null,null,null,null,{"$f":"SUM($G375:$U375)","v":0},null,null,{"$f":"V375*F375","v":0}]
[null,null,null,null,{"$f":"IF(ISBLANK(A376),0,VLOOKUP(A376,'EQUIPMENT INVENTORY'!$B$7:$AK$1021,7,0))","v":0},{"$f":"IF(ISBLANK(A376),0,VLOOKUP(A376,'EQUIPMENT INVENTORY'!$B$7:$AK$1021,8,0))","v":0},null,null,null,null,null,null,null,null,null,null,null,null,null,null,null,{"$f":"SUM($G376:$U376)","v":0},null,null,{"$f":"V376*F376","v":0}]
[null,null,null,null,{"$f":"IF(ISBLANK(A377),0,VLOOKUP(A377,'EQUIPMENT INVENTORY'!$B$7:$AK$1021,7,0))","v":0},{"$f":"IF(ISBLANK(A377),0,VLOOKUP(A377,'EQUIPMENT INVENTORY'!$B$7:$AK$1021,8,0))","v":0},null,null,null,null,null,null,null,null,null,null,null,null,null,null,null,{"$f":"SUM($G377:$U377)","v":0},null,null,{"$f":"V377*F377","v":0}]
[null,"REG",{"$f":"IF(ISBLANK(A378),0,VLOOKUP(A378,'PAYROLL RECORD'!$B$8:$U$2005,18,FALSE))","v":0},{"$f":"IF(ISBLANK(A378),0,VLOOKUP(A378,'PAYROLL RECORD'!$B$8:$D$2005,3,FALSE))","v":0},null,null,null,null,null,null,null,null,null,null,null,null,null,null,null,null,null,{"$f":"SUM($G378:$U378)","v":0},null,null,{"$f":"IF(AND($M$5=\"A\",D378<>\"FT\"),C378*V378,0)+IF(AND($M$5=\"B\",D378<>\"FT\"),C378*V378,0)+IF(AND($M$5=\"AP\"),C378*V378,0)+IF($M$5>=\"C\",C378*V378)","v":0}]
[{"$f":"IF(ISBLANK(A378),\" \",VLOOKUP(A378,'PAYROLL RECORD'!$B$9:$C$10740,2,FALSE))","v":" "},"OT1",{"$f":"IF(ISBLANK(A378),0,VLOOKUP(A378,'PAYROLL RECORD'!$B$8:$U$2005,19,FALSE))","v":0},{"$f":"+D378","v":0},null,null,null,null,null,null,null,null,null,null,null,null,null,null,null,null,null,null,{"$f":"SUM(G379:U379)","v":0},null,null,{"$f":"W379*C379","v":0}]
[null,"OT2",{"$f":"IF(ISBLANK(A378),0,VLOOKUP(A378,'PAYROLL RECORD'!$B$8:$U$2005,20,FALSE))","v":0},{"$f":"+D379","v":0},null,null,null,null,null,null,null,null,null,null,null,null,null,null,null,null,null,null,null,{"$f":"SUM(G380:U380)","v":0},null,null,{"$f":"X380*C380","v":0}]
[null,null,null,null,{"$f":"IF(ISBLANK(A381),0,VLOOKUP(A381,'EQUIPMENT INVENTORY'!$B$7:$AK$1021,7,0))","v":0},{"$f":"IF(ISBLANK(A381),0,VLOOKUP(A381,'EQUIPMENT INVENTORY'!$B$7:$AK$1021,8,0))","v":0},null,null,null,null,null,null,null,null,null,null,null,null,null,null,null,{"$f":"SUM($G381:$U381)","v":0},null,null,{"$f":"V381*F381","v":0}]
[null,null,null,null,{"$f":"IF(ISBLANK(A382),0,VLOOKUP(A382,'EQUIPMENT INVENTORY'!$B$7:$AK$1021,7,0))","v":0},{"$f":"IF(ISBLANK(A382),0,VLOOKUP(A382,'EQUIPMENT INVENTORY'!$B$7:$AK$1021,8,0))","v":0},null,null,null,null,null,null,null,null,null,null,null,null,null,null,null,{"$f":"SUM($G382:$U382)","v":0},null,null,{"$f":"V382*F382","v":0}]
[null,null,null,null,{"$f":"IF(ISBLANK(A383),0,VLOOKUP(A383,'EQUIPMENT INVENTORY'!$B$7:$AK$1021,7,0))","v":0},{"$f":"IF(ISBLANK(A383),0,VLOOKUP(A383,'EQUIPMENT INVENTORY'!$B$7:$AK$1021,8,0))","v":0},null,null,null,null,null,null,null,null,null,null,null,null,null,null,null,{"$f":"SUM($G383:$U383)","v":0},null,null,{"$f":"V383*F383","v":0}]
[null,"REG",{"$f":"IF(ISBLANK(A384),0,VLOOKUP(A384,'PAYROLL RECORD'!$B$8:$U$2005,18,FALSE))","v":0},{"$f":"IF(ISBLANK(A384),0,VLOOKUP(A384,'PAYROLL RECORD'!$B$8:$D$2005,3,FALSE))","v":0},null,null,null,null,null,null,null,null,null,null,null,null,null,null,null,null,null,{"$f":"SUM($G384:$U384)","v":0},null,null,{"$f":"IF(AND($M$5=\"A\",D384<>\"FT\"),C384*V384,0)+IF(AND($M$5=\"B\",D384<>\"FT\"),C384*V384,0)+IF(AND($M$5=\"AP\"),C384*V384,0)+IF($M$5>=\"C\",C384*V384)","v":0}]
[{"$f":"IF(ISBLANK(A384),\" \",VLOOKUP(A384,'PAYROLL RECORD'!$B$9:$C$10740,2,FALSE))","v":" "},"OT1",{"$f":"IF(ISBLANK(A384),0,VLOOKUP(A384,'PAYROLL RECORD'!$B$8:$U$2005,19,FALSE))","v":0},{"$f":"+D384","v":0},null,null,null,null,null,null,null,null,null,null,null,null,null,null,null,null,null,null,{"$f":"SUM(G385:U385)","v":0},null,null,{"$f":"W385*C385","v":0}]
[null,"OT2",{"$f":"IF(ISBLANK(A384),0,VLOOKUP(A384,'PAYROLL RECORD'!$B$8:$U$2005,20,FALSE))","v":0},{"$f":"+D385","v":0},null,null,null,null,null,null,null,null,null,null,null,null,null,null,null,null,null,null,null,{"$f":"SUM(G386:U386)","v":0},null,null,{"$f":"X386*C386","v":0}]
[null,null,null,null,{"$f":"IF(ISBLANK(A387),0,VLOOKUP(A387,'EQUIPMENT INVENTORY'!$B$7:$AK$1021,7,0))","v":0},{"$f":"IF(ISBLANK(A387),0,VLOOKUP(A387,'EQUIPMENT INVENTORY'!$B$7:$AK$1021,8,0))","v":0},null,null,null,null,null,null,null,null,null,null,null,null,null,null,null,{"$f":"SUM($G387:$U387)","v":0},null,null,{"$f":"V387*F387","v":0}]
[null,null,null,null,{"$f":"IF(ISBLANK(A388),0,VLOOKUP(A388,'EQUIPMENT INVENTORY'!$B$7:$AK$1021,7,0))","v":0},{"$f":"IF(ISBLANK(A388),0,VLOOKUP(A388,'EQUIPMENT INVENTORY'!$B$7:$AK$1021,8,0))","v":0},null,null,null,null,null,null,null,null,null,null,null,null,null,null,null,{"$f":"SUM($G388:$U388)","v":0},null,null,{"$f":"V388*F388","v":0}]
[null,null,null,null,{"$f":"IF(ISBLANK(A389),0,VLOOKUP(A389,'EQUIPMENT INVENTORY'!$B$7:$AK$1021,7,0))","v":0},{"$f":"IF(ISBLANK(A389),0,VLOOKUP(A389,'EQUIPMENT INVENTORY'!$B$7:$AK$1021,8,0))","v":0},null,null,null,null,null,null,null,null,null,null,null,null,null,null,null,{"$f":"SUM($G389:$U389)","v":0},null,null,{"$f":"V389*F389","v":0}]
[null,"REG",{"$f":"IF(ISBLANK(A390),0,VLOOKUP(A390,'PAYROLL RECORD'!$B$8:$U$2005,18,FALSE))","v":0},{"$f":"IF(ISBLANK(A390),0,VLOOKUP(A390,'PAYROLL RECORD'!$B$8:$D$2005,3,FALSE))","v":0},null,null,null,null,null,null,null,null,null,null,null,null,null,null,null,null,null,{"$f":"SUM($G390:$U390)","v":0},null,null,{"$f":"IF(AND($M$5=\"A\",D390<>\"FT\"),C390*V390,0)+IF(AND($M$5=\"B\",D390<>\"FT\"),C390*V390,0)+IF(AND($M$5=\"AP\"),C390*V390,0)+IF($M$5>=\"C\",C390*V390)","v":0}]
[{"$f":"IF(ISBLANK(A390),\" \",VLOOKUP(A390,'PAYROLL RECORD'!$B$9:$C$10740,2,FALSE))","v":" "},"OT1",{"$f":"IF(ISBLANK(A390),0,VLOOKUP(A390,'PAYROLL RECORD'!$B$8:$U$2005,19,FALSE))","v":0},{"$f":"+D390","v":0},null,null,null,null,null,null,null,null,null,null,null,null,null,null,null,null,null,null,{"$f":"SUM(G391:U391)","v":0},null,null,{"$f":"W391*C391","v":0}]
[null,"OT2",{"$f":"IF(ISBLANK(A390),0,VLOOKUP(A390,'PAYROLL RECORD'!$B$8:$U$2005,20,FALSE))","v":0},{"$f":"+D391","v":0},null,null,null,null,null,null,null,null,null,null,null,null,null,null,null,null,null,null,null,{"$f":"SUM(G392:U392)","v":0},null,null,{"$f":"X392*C392","v":0}]
[null,null,null,null,{"$f":"IF(ISBLANK(A393),0,VLOOKUP(A393,'EQUIPMENT INVENTORY'!$B$7:$AK$1021,7,0))","v":0},{"$f":"IF(ISBLANK(A393),0,VLOOKUP(A393,'EQUIPMENT INVENTORY'!$B$7:$AK$1021,8,0))","v":0},null,null,null,null,null,null,null,null,null,null,null,null,null,null,null,{"$f":"SUM($G393:$U393)","v":0},null,null,{"$f":"V393*F393","v":0}]
[null,null,null,null,{"$f":"IF(ISBLANK(A394),0,VLOOKUP(A394,'EQUIPMENT INVENTORY'!$B$7:$AK$1021,7,0))","v":0},{"$f":"IF(ISBLANK(A394),0,VLOOKUP(A394,'EQUIPMENT INVENTORY'!$B$7:$AK$1021,8,0))","v":0},null,null,null,null,null,null,null,null,null,null,null,null,null,null,null,{"$f":"SUM($G394:$U394)","v":0},null,null,{"$f":"V394*F394","v":0}]
[null,null,null,null,{"$f":"IF(ISBLANK(A395),0,VLOOKUP(A395,'EQUIPMENT INVENTORY'!$B$7:$AK$1021,7,0))","v":0},{"$f":"IF(ISBLANK(A395),0,VLOOKUP(A395,'EQUIPMENT INVENTORY'!$B$7:$AK$1021,8,0))","v":0},null,null,null,null,null,null,null,null,null,null,null,null,null,null,null,{"$f":"SUM($G395:$U395)","v":0},null,null,{"$f":"V395*F395","v":0}]
[null,"REG",{"$f":"IF(ISBLANK(A396),0,VLOOKUP(A396,'PAYROLL RECORD'!$B$8:$U$2005,18,FALSE))","v":0},{"$f":"IF(ISBLANK(A396),0,VLOOKUP(A396,'PAYROLL RECORD'!$B$8:$D$2005,3,FALSE))","v":0},null,null,null,null,null,null,null,null,null,null,null,null,null,null,null,null,null,{"$f":"SUM($G396:$U396)","v":0},null,null,{"$f":"IF(AND($M$5=\"A\",D396<>\"FT\"),C396*V396,0)+IF(AND($M$5=\"B\",D396<>\"FT\"),C396*V396,0)+IF(AND($M$5=\"AP\"),C396*V396,0)+IF($M$5>=\"C\",C396*V396)","v":0}]
[{"$f":"IF(ISBLANK(A396),\" \",VLOOKUP(A396,'PAYROLL RECORD'!$B$9:$C$10740,2,FALSE))","v":" "},"OT1",{"$f":"IF(ISBLANK(A396),0,VLOOKUP(A396,'PAYROLL RECORD'!$B$8:$U$2005,19,FALSE))","v":0},{"$f":"+D396","v":0},null,null,null,null,null,null,null,null,null,null,null,null,null,null,null,null,null,null,{"$f":"SUM(G397:U397)","v":0},null,null,{"$f":"W397*C397","v":0}]
[null,"OT2",{"$f":"IF(ISBLANK(A396),0,VLOOKUP(A396,'PAYROLL RECORD'!$B$8:$U$2005,20,FALSE))","v":0},{"$f":"+D397","v":0},null,null,null,null,null,null,null,null,null,null,null,null,null,null,null,null,null,null,null,{"$f":"SUM(G398:U398)","v":0},null,null,{"$f":"X398*C398","v":0}]
[null,null,null,null,{"$f":"IF(ISBLANK(A399),0,VLOOKUP(A399,'EQUIPMENT INVENTORY'!$B$7:$AK$1021,7,0))","v":0},{"$f":"IF(ISBLANK(A399),0,VLOOKUP(A399,'EQUIPMENT INVENTORY'!$B$7:$AK$1021,8,0))","v":0},null,null,null,null,null,null,null,null,null,null,null,null,null,null,null,{"$f":"SUM($G399:$U399)","v":0},null,null,{"$f":"V399*F399","v":0}]
[null,null,null,null,{"$f":"IF(ISBLANK(A400),0,VLOOKUP(A400,'EQUIPMENT INVENTORY'!$B$7:$AK$1021,7,0))","v":0},{"$f":"IF(ISBLANK(A400),0,VLOOKUP(A400,'EQUIPMENT INVENTORY'!$B$7:$AK$1021,8,0))","v":0},null,null,null,null,null,null,null,null,null,null,null,null,null,null,null,{"$f":"SUM($G400:$U400)","v":0},null,null,{"$f":"V400*F400","v":0}]
[null,null,null,null,{"$f":"IF(ISBLANK(A401),0,VLOOKUP(A401,'EQUIPMENT INVENTORY'!$B$7:$AK$1021,7,0))","v":0},{"$f":"IF(ISBLANK(A401),0,VLOOKUP(A401,'EQUIPMENT INVENTORY'!$B$7:$AK$1021,8,0))","v":0},null,null,null,null,null,null,null,null,null,null,null,null,null,null,null,{"$f":"SUM($G401:$U401)","v":0},null,null,{"$f":"V401*F401","v":0}]
[null,"REG",{"$f":"IF(ISBLANK(A402),0,VLOOKUP(A402,'PAYROLL RECORD'!$B$8:$U$2005,18,FALSE))","v":0},{"$f":"IF(ISBLANK(A402),0,VLOOKUP(A402,'PAYROLL RECORD'!$B$8:$D$2005,3,FALSE))","v":0},null,null,null,null,null,null,null,null,null,null,null,null,null,null,null,null,null,{"$f":"SUM($G402:$U402)","v":0},null,null,{"$f":"IF(AND($M$5=\"A\",D402<>\"FT\"),C402*V402,0)+IF(AND($M$5=\"B\",D402<>\"FT\"),C402*V402,0)+IF(AND($M$5=\"AP\"),C402*V402,0)+IF($M$5>=\"C\",C402*V402)","v":0}]
[{"$f":"IF(ISBLANK(A402),\" \",VLOOKUP(A402,'PAYROLL RECORD'!$B$9:$C$10740,2,FALSE))","v":" "},"OT1",{"$f":"IF(ISBLANK(A402),0,VLOOKUP(A402,'PAYROLL RECORD'!$B$8:$U$2005,19,FALSE))","v":0},{"$f":"+D402","v":0},null,null,null,null,null,null,null,null,null,null,null,null,null,null,null,null,null,null,{"$f":"SUM(G403:U403)","v":0},null,null,{"$f":"W403*C403","v":0}]
[null,"OT2",{"$f":"IF(ISBLANK(A402),0,VLOOKUP(A402,'PAYROLL RECORD'!$B$8:$U$2005,20,FALSE))","v":0},{"$f":"+D403","v":0},null,null,null,null,null,null,null,null,null,null,null,null,null,null,null,null,null,null,null,{"$f":"SUM(G404:U404)","v":0},null,null,{"$f":"X404*C404","v":0}]
[null,null,null,null,{"$f":"IF(ISBLANK(A405),0,VLOOKUP(A405,'EQUIPMENT INVENTORY'!$B$7:$AK$1021,7,0))","v":0},{"$f":"IF(ISBLANK(A405),0,VLOOKUP(A405,'EQUIPMENT INVENTORY'!$B$7:$AK$1021,8,0))","v":0},null,null,null,null,null,null,null,null,null,null,null,null,null,null,null,{"$f":"SUM($G405:$U405)","v":0},null,null,{"$f":"V405*F405","v":0}]
[null,null,null,null,{"$f":"IF(ISBLANK(A406),0,VLOOKUP(A406,'EQUIPMENT INVENTORY'!$B$7:$AK$1021,7,0))","v":0},{"$f":"IF(ISBLANK(A406),0,VLOOKUP(A406,'EQUIPMENT INVENTORY'!$B$7:$AK$1021,8,0))","v":0},null,null,null,null,null,null,null,null,null,null,null,null,null,null,null,{"$f":"SUM($G406:$U406)","v":0},null,null,{"$f":"V406*F406","v":0}]
[null,null,null,null,{"$f":"IF(ISBLANK(A407),0,VLOOKUP(A407,'EQUIPMENT INVENTORY'!$B$7:$AK$1021,7,0))","v":0},{"$f":"IF(ISBLANK(A407),0,VLOOKUP(A407,'EQUIPMENT INVENTORY'!$B$7:$AK$1021,8,0))","v":0},null,null,null,null,null,null,null,null,null,null,null,null,null,null,null,{"$f":"SUM($G407:$U407)","v":0},null,null,{"$f":"V407*F407","v":0},null,null,"Reg hrs","ot1 hrs","ot2 hrs","equip hrs"]
[null,null,null,null,null,null,null,null,null,null,null,null,null,null,null,null,"LABOR - Page Total",null,null,null,null,{"$f":"V360+V366+V372+V384+V390+V402+V378+V396","v":0},{"$f":"SUM(W360:W407)","v":0},{"$f":"SUM(X360:X407)","v":0},{"$f":"Y360+Y366+Y372+Y384+Y390+Y402+Y378+Y396","v":0},{"$f":"SUM(Z361:Z407)","v":0},{"$f":"SUM(AA361:AA407)","v":0},{"$f":"V408","v":0},{"$f":"W408","v":0},{"$f":"X408","v":0},{"$f":"V409","v":0},{"$f":"Y408","v":0},{"$f":"Z408","v":0},{"$f":"AA408","v":0},{"$f":"Y409","v":0}]
[null,null,null,null,null,null,null,null,null,null,null,null,null,null,null,null,"EQUIPMENT - Page Total",null,null,null,null,{"$f":"V363+V364+V365+V369+V370+V371+V375+V376+V377+V381+V382+V383+V387+V388+V389+V393+V394+V395+V405+V406+V407+V399+V400+V401","v":0},null,null,{"$f":"Y363+Y364+Y365+Y369+Y370+Y371+Y375+Y376+Y377+Y381+Y382+Y383+Y387+Y388+Y389+Y393+Y394+Y395+Y405+Y406+Y407+Y399+Y400+Y401","v":0}]
[null,null,null,null,null,null,null,null,null,null,null,null,null,null,null,null,"LABOR - Grand Total",null,null,null,null,{"$f":"SUM($AB:$AB)","v":0},{"$f":"SUM($AC:$AC)","v":0},{"$f":"SUM($AD:$AD)","v":0},{"$f":"SUM(AF:AF)","v":0},{"$f":"SUM($AG:$AG)","v":0},{"$f":"SUM($AH:$AH)","v":0}]
[null,null,null,null,null,null,null,null,null,null,null,null,null,null,null,null,"EQUIPMENT - Grand Total",null,null,null,null,{"$f":"SUM($AE:$AE)","v":0},null,null,{"$f":"SUM($AI:$AI)","v":0}]
[]
[]
["COST SUMMARY FOR LABOR/EQUIPMENT"]
["APPLICANT - FIPS#",null,null,null,"DISASTER #:",null,null,"PROJECT #:",null,null,null,null,"FEMA CAT A-G",null,null,"EMMIE #",null,null,null,"Work Completion Date"]
[{"$f":"IF('PAYROLL RECORD'!$B$5=\"START HERE\",\"\",'PAYROLL RECORD'!$B$5)","v":0},null,null,null,{"$f":"IF('PAYROLL RECORD'!$F$5=\"\",\"\",'PAYROLL RECORD'!$F$5)","v":""},null,null,{"$f":"'PAYROLL RECORD'!I415:L415","v":{"$error":"#VALUE!"}},null,null,null,null,{"$f":"IF('PAYROLL RECORD'!$M$5=\"CATEGORY\",\"\",'PAYROLL RECORD'!$M$5)","v":0},null,null,{"$f":"IF('PAYROLL RECORD'!$O$5=\"EMMIE #\",\"\",'PAYROLL RECORD'!$O$5)","v":0},null,null,null,{"$f":"IF('PAYROLL RECORD'!$Q$5=\"DATE\",\"\",'PAYROLL RECORD'!$Q$5)","v":"00:00:00"}]
["Employee/\nEquipment",null,"RATE w/","STATUS","COST CODE","RATE","2018-10-31",{"$f":"+G417+1","v":"2018-11-01"},{"$f":"H417+1","v":"2018-11-02"},"2018-11-03","2018-11-04","2018-11-05","2018-11-06","2018-11-07","2018-11-08","2018-11-09","2018-11-10","2018-11-11","2018-11-12","2018-11-13","2018-11-14","REG","OT1","OT2","REG TIME\nCOST","OT1\nCOST","OT2\nCOST"]
[null,null,"FRINGE",null,null,null,{"$f":"IF(G417<=0,\"\",TEXT(WEEKDAY(G417),\"ddd\"))","v":"Wed"},{"$f":"IF(H417<=0,\"\",TEXT(WEEKDAY(H417),\"ddd\"))","v":"Thu"},"Fri","Sat","Sun","Mon","Tue","Wed","Thu","Fri","Sat","Sun","Mon","Tue","Wed"]
[null,"REG",{"$f":"IF(ISBLANK(A419),0,VLOOKUP(A419,'PAYROLL RECORD'!$B$8:$U$2005,18,FALSE))","v":0},{"$f":"IF(ISBLANK(A419),0,VLOOKUP(A419,'PAYROLL RECORD'!$B$8:$D$2005,3,FALSE))","v":0},null,null,null,null,null,null,null,null,null,null,null,null,null,null,null,null,null,{"$f":"SUM($G419:$U419)","v":0},null,null,{"$f":"IF(AND($M$5=\"A\",D419<>\"FT\"),C419*V419,0)+IF(AND($M$5=\"B\",D419<>\"FT\"),C419*V419,0)+IF(AND($M$5=\"AP\"),C419*V419,0)+IF($M$5>=\"C\",C419*V419)","v":0}]
[{"$f":"IF(ISBLANK(A419),\" \",VLOOKUP(A419,'PAYROLL RECORD'!$B$9:$C$10740,2,FALSE))","v":" "},"OT1",{"$f":"IF(ISBLANK(A419),0,VLOOKUP(A419,'PAYROLL RECORD'!$B$8:$U$2005,19,FALSE))","v":0},{"$f":"+D419","v":0},null,null,null,null,null,null,null,null,null,null,null,null,null,null,null,null,null,null,{"$f":"SUM(G420:U420)","v":0},null,null,{"$f":"W420*C420","v":0}]
[null,"OT2",{"$f":"IF(ISBLANK(A419),0,VLOOKUP(A419,'PAYROLL RECORD'!$B$8:$U$2005,20,FALSE))","v":0},{"$f":"+D420","v":0},null,null,null,null,null,null,null,null,null,null,null,null,null,null,null,null,null,null,null,{"$f":"SUM(G421:U421)","v":0},null,null,{"$f":"X421*C421","v":0}]
[null,null,null,null,{"$f":"IF(ISBLANK(A422),0,VLOOKUP(A422,'EQUIPMENT INVENTORY'!$B$7:$AK$1021,7,0))","v":0},{"$f":"IF(ISBLANK(A422),0,VLOOKUP(A422,'EQUIPMENT INVENTORY'!$B$7:$AK$1021,8,0))","v":0},null,null,null,null,null,null,null,null,null,null,null,null,null,null,null,{"$f":"SUM($G422:$U422)","v":0},null,null,{"$f":"V422*F422","v":0}]
[null,null,null,null,{"$f":"IF(ISBLANK(A423),0,VLOOKUP(A423,'EQUIPMENT INVENTORY'!$B$7:$AK$1021,7,0))","v":0},{"$f":"IF(ISBLANK(A423),0,VLOOKUP(A423,'EQUIPMENT INVENTORY'!$B$7:$AK$1021,8,0))","v":0},null,null,null,null,null,null,null,null,null,null,null,null,null,null,null,{"$f":"SUM($G423:$U423)","v":0},null,null,{"$f":"V423*F423","v":0}]
[null,null,null,null,{"$f":"IF(ISBLANK(A424),0,VLOOKUP(A424,'EQUIPMENT INVENTORY'!$B$7:$AK$1021,7,0))","v":0},{"$f":"IF(ISBLANK(A424),0,VLOOKUP(A424,'EQUIPMENT INVENTORY'!$B$7:$AK$1021,8,0))","v":0},null,null,null,null,null,null,null,null,null,null,null,null,null,null,null,{"$f":"SUM($G424:$U424)","v":0},null,null,{"$f":"V424*F424","v":0}]
[null,"REG",{"$f":"IF(ISBLANK(A425),0,VLOOKUP(A425,'PAYROLL RECORD'!$B$8:$U$2005,18,FALSE))","v":0},{"$f":"IF(ISBLANK(A425),0,VLOOKUP(A425,'PAYROLL RECORD'!$B$8:$D$2005,3,FALSE))","v":0},null,null,null,null,null,null,null,null,null,null,null,null,null,null,null,null,null,{"$f":"SUM($G425:$U425)","v":0},null,null,{"$f":"IF(AND($M$5=\"A\",D425<>\"FT\"),C425*V425,0)+IF(AND($M$5=\"B\",D425<>\"FT\"),C425*V425,0)+IF(AND($M$5=\"AP\"),C425*V425,0)+IF($M$5>=\"C\",C425*V425)","v":0}]
[{"$f":"IF(ISBLANK(A425),\" \",VLOOKUP(A425,'PAYROLL RECORD'!$B$9:$C$10740,2,FALSE))","v":" "},"OT1",{"$f":"IF(ISBLANK(A425),0,VLOOKUP(A425,'PAYROLL RECORD'!$B$8:$U$2005,19,FALSE))","v":0},{"$f":"+D425","v":0},null,null,null,null,null,null,null,null,null,null,null,null,null,null,null,null,null,null,{"$f":"SUM(G426:U426)","v":0},null,null,{"$f":"W426*C426","v":0}]
[null,"OT2",{"$f":"IF(ISBLANK(A425),0,VLOOKUP(A425,'PAYROLL RECORD'!$B$8:$U$2005,20,FALSE))","v":0},{"$f":"+D426","v":0},null,null,null,null,null,null,null,null,null,null,null,null,null,null,null,null,null,null,null,{"$f":"SUM(G427:U427)","v":0},null,null,{"$f":"X427*C427","v":0}]
[null,null,null,null,{"$f":"IF(ISBLANK(A428),0,VLOOKUP(A428,'EQUIPMENT INVENTORY'!$B$7:$AK$1021,7,0))","v":0},{"$f":"IF(ISBLANK(A428),0,VLOOKUP(A428,'EQUIPMENT INVENTORY'!$B$7:$AK$1021,8,0))","v":0},null,null,null,null,null,null,null,null,null,null,null,null,null,null,null,{"$f":"SUM($G428:$U428)","v":0},null,null,{"$f":"V428*F428","v":0}]
[null,null,null,null,{"$f":"IF(ISBLANK(A429),0,VLOOKUP(A429,'EQUIPMENT INVENTORY'!$B$7:$AK$1021,7,0))","v":0},{"$f":"IF(ISBLANK(A429),0,VLOOKUP(A429,'EQUIPMENT INVENTORY'!$B$7:$AK$1021,8,0))","v":0},null,null,null,null,null,null,null,null,null,null,null,null,null,null,null,{"$f":"SUM($G429:$U429)","v":0},null,null,{"$f":"V429*F429","v":0}]
[null,null,null,null,{"$f":"IF(ISBLANK(A430),0,VLOOKUP(A430,'EQUIPMENT INVENTORY'!$B$7:$AK$1021,7,0))","v":0},{"$f":"IF(ISBLANK(A430),0,VLOOKUP(A430,'EQUIPMENT INVENTORY'!$B$7:$AK$1021,8,0))","v":0},null,null,null,null,null,null,null,null,null,null,null,null,null,null,null,{"$f":"SUM($G430:$U430)","v":0},null,null,{"$f":"V430*F430","v":0}]
[null,"REG",{"$f":"IF(ISBLANK(A431),0,VLOOKUP(A431,'PAYROLL RECORD'!$B$8:$U$2005,18,FALSE))","v":0},{"$f":"IF(ISBLANK(A431),0,VLOOKUP(A431,'PAYROLL RECORD'!$B$8:$D$2005,3,FALSE))","v":0},null,null,null,null,null,null,null,null,null,null,null,null,null,null,null,null,null,{"$f":"SUM($G431:$U431)","v":0},null,null,{"$f":"IF(AND($M$5=\"A\",D431<>\"FT\"),C431*V431,0)+IF(AND($M$5=\"B\",D431<>\"FT\"),C431*V431,0)+IF(AND($M$5=\"AP\"),C431*V431,0)+IF($M$5>=\"C\",C431*V431)","v":0}]
[{"$f":"IF(ISBLANK(A431),\" \",VLOOKUP(A431,'PAYROLL RECORD'!$B$9:$C$10740,2,FALSE))","v":" "},"OT1",{"$f":"IF(ISBLANK(A431),0,VLOOKUP(A431,'PAYROLL RECORD'!$B$8:$U$2005,19,FALSE))","v":0},{"$f":"+D431","v":0},null,null,null,null,null,null,null,null,null,null,null,null,null,null,null,null,null,null,{"$f":"SUM(G432:U432)","v":0},null,null,{"$f":"W432*C432","v":0}]
[null,"OT2",{"$f":"IF(ISBLANK(A431),0,VLOOKUP(A431,'PAYROLL RECORD'!$B$8:$U$2005,20,FALSE))","v":0},{"$f":"+D432","v":0},null,null,null,null,null,null,null,null,null,null,null,null,null,null,null,null,null,null,null,{"$f":"SUM(G433:U433)","v":0},null,null,{"$f":"X433*C433","v":0}]
[null,null,null,null,{"$f":"IF(ISBLANK(A434),0,VLOOKUP(A434,'EQUIPMENT INVENTORY'!$B$7:$AK$1021,7,0))","v":0},{"$f":"IF(ISBLANK(A434),0,VLOOKUP(A434,'EQUIPMENT INVENTORY'!$B$7:$AK$1021,8,0))","v":0},null,null,null,null,null,null,null,null,null,null,null,null,null,null,null,{"$f":"SUM($G434:$U434)","v":0},null,null,{"$f":"V434*F434","v":0}]
[null,null,null,null,{"$f":"IF(ISBLANK(A435),0,VLOOKUP(A435,'EQUIPMENT INVENTORY'!$B$7:$AK$1021,7,0))","v":0},{"$f":"IF(ISBLANK(A435),0,VLOOKUP(A435,'EQUIPMENT INVENTORY'!$B$7:$AK$1021,8,0))","v":0},null,null,null,null,null,null,null,null,null,null,null,null,null,null,null,{"$f":"SUM($G435:$U435)","v":0},null,null,{"$f":"V435*F435","v":0}]
[null,null,null,null,{"$f":"IF(ISBLANK(A436),0,VLOOKUP(A436,'EQUIPMENT INVENTORY'!$B$7:$AK$1021,7,0))","v":0},{"$f":"IF(ISBLANK(A436),0,VLOOKUP(A436,'EQUIPMENT INVENTORY'!$B$7:$AK$1021,8,0))","v":0},null,null,null,null,null,null,null,null,null,null,null,null,null,null,null,{"$f":"SUM($G436:$U436)","v":0},null,null,{"$f":"V436*F436","v":0}]
[null,"REG",{"$f":"IF(ISBLANK(A437),0,VLOOKUP(A437,'PAYROLL RECORD'!$B$8:$U$2005,18,FALSE))","v":0},{"$f":"IF(ISBLANK(A437),0,VLOOKUP(A437,'PAYROLL RECORD'!$B$8:$D$2005,3,FALSE))","v":0},null,null,null,null,null,null,null,null,null,null,null,null,null,null,null,null,null,{"$f":"SUM($G437:$U437)","v":0},null,null,{"$f":"IF(AND($M$5=\"A\",D437<>\"FT\"),C437*V437,0)+IF(AND($M$5=\"B\",D437<>\"FT\"),C437*V437,0)+IF(AND($M$5=\"AP\"),C437*V437,0)+IF($M$5>=\"C\",C437*V437)","v":0}]
[{"$f":"IF(ISBLANK(A437),\" \",VLOOKUP(A437,'PAYROLL RECORD'!$B$9:$C$10740,2,FALSE))","v":" "},"OT1",{"$f":"IF(ISBLANK(A437),0,VLOOKUP(A437,'PAYROLL RECORD'!$B$8:$U$2005,19,FALSE))","v":0},{"$f":"+D437","v":0},null,null,null,null,null,null,null,null,null,null,null,null,null,null,null,null,null,null,{"$f":"SUM(G438:U438)","v":0},null,null,{"$f":"W438*C438","v":0}]
[null,"OT2",{"$f":"IF(ISBLANK(A437),0,VLOOKUP(A437,'PAYROLL RECORD'!$B$8:$U$2005,20,FALSE))","v":0},{"$f":"+D438","v":0},null,null,null,null,null,null,null,null,null,null,null,null,null,null,null,null,null,null,null,{"$f":"SUM(G439:U439)","v":0},null,null,{"$f":"X439*C439","v":0}]
[null,null,null,null,{"$f":"IF(ISBLANK(A440),0,VLOOKUP(A440,'EQUIPMENT INVENTORY'!$B$7:$AK$1021,7,0))","v":0},{"$f":"IF(ISBLANK(A440),0,VLOOKUP(A440,'EQUIPMENT INVENTORY'!$B$7:$AK$1021,8,0))","v":0},null,null,null,null,null,null,null,null,null,null,null,null,null,null,null,{"$f":"SUM($G440:$U440)","v":0},null,null,{"$f":"V440*F440","v":0}]
[null,null,null,null,{"$f":"IF(ISBLANK(A441),0,VLOOKUP(A441,'EQUIPMENT INVENTORY'!$B$7:$AK$1021,7,0))","v":0},{"$f":"IF(ISBLANK(A441),0,VLOOKUP(A441,'EQUIPMENT INVENTORY'!$B$7:$AK$1021,8,0))","v":0},null,null,null,null,null,null,null,null,null,null,null,null,null,null,null,{"$f":"SUM($G441:$U441)","v":0},null,null,{"$f":"V441*F441","v":0}]
[null,null,null,null,{"$f":"IF(ISBLANK(A442),0,VLOOKUP(A442,'EQUIPMENT INVENTORY'!$B$7:$AK$1021,7,0))","v":0},{"$f":"IF(ISBLANK(A442),0,VLOOKUP(A442,'EQUIPMENT INVENTORY'!$B$7:$AK$1021,8,0))","v":0},null,null,null,null,null,null,null,null,null,null,null,null,null,null,null,{"$f":"SUM($G442:$U442)","v":0},null,null,{"$f":"V442*F442","v":0}]
[null,"REG",{"$f":"IF(ISBLANK(A443),0,VLOOKUP(A443,'PAYROLL RECORD'!$B$8:$U$2005,18,FALSE))","v":0},{"$f":"IF(ISBLANK(A443),0,VLOOKUP(A443,'PAYROLL RECORD'!$B$8:$D$2005,3,FALSE))","v":0},null,null,null,null,null,null,null,null,null,null,null,null,null,null,null,null,null,{"$f":"SUM($G443:$U443)","v":0},null,null,{"$f":"IF(AND($M$5=\"A\",D443<>\"FT\"),C443*V443,0)+IF(AND($M$5=\"B\",D443<>\"FT\"),C443*V443,0)+IF(AND($M$5=\"AP\"),C443*V443,0)+IF($M$5>=\"C\",C443*V443)","v":0}]
[{"$f":"IF(ISBLANK(A443),\" \",VLOOKUP(A443,'PAYROLL RECORD'!$B$9:$C$10740,2,FALSE))","v":" "},"OT1",{"$f":"IF(ISBLANK(A443),0,VLOOKUP(A443,'PAYROLL RECORD'!$B$8:$U$2005,19,FALSE))","v":0},{"$f":"+D443","v":0},null,null,null,null,null,null,null,null,null,null,null,null,null,null,null,null,null,null,{"$f":"SUM(G444:U444)","v":0},null,null,{"$f":"W444*C444","v":0}]
[null,"OT2",{"$f":"IF(ISBLANK(A443),0,VLOOKUP(A443,'PAYROLL RECORD'!$B$8:$U$2005,20,FALSE))","v":0},{"$f":"+D444","v":0},null,null,null,null,null,null,null,null,null,null,null,null,null,null,null,null,null,null,null,{"$f":"SUM(G445:U445)","v":0},null,null,{"$f":"X445*C445","v":0}]
[null,null,null,null,{"$f":"IF(ISBLANK(A446),0,VLOOKUP(A446,'EQUIPMENT INVENTORY'!$B$7:$AK$1021,7,0))","v":0},{"$f":"IF(ISBLANK(A446),0,VLOOKUP(A446,'EQUIPMENT INVENTORY'!$B$7:$AK$1021,8,0))","v":0},null,null,null,null,null,null,null,null,null,null,null,null,null,null,null,{"$f":"SUM($G446:$U446)","v":0},null,null,{"$f":"V446*F446","v":0}]
[null,null,null,null,{"$f":"IF(ISBLANK(A447),0,VLOOKUP(A447,'EQUIPMENT INVENTORY'!$B$7:$AK$1021,7,0))","v":0},{"$f":"IF(ISBLANK(A447),0,VLOOKUP(A447,'EQUIPMENT INVENTORY'!$B$7:$AK$1021,8,0))","v":0},null,null,null,null,null,null,null,null,null,null,null,null,null,null,null,{"$f":"SUM($G447:$U447)","v":0},null,null,{"$f":"V447*F447","v":0}]
[null,null,null,null,{"$f":"IF(ISBLANK(A448),0,VLOOKUP(A448,'EQUIPMENT INVENTORY'!$B$7:$AK$1021,7,0))","v":0},{"$f":"IF(ISBLANK(A448),0,VLOOKUP(A448,'EQUIPMENT INVENTORY'!$B$7:$AK$1021,8,0))","v":0},null,null,null,null,null,null,null,null,null,null,null,null,null,null,null,{"$f":"SUM($G448:$U448)","v":0},null,null,{"$f":"V448*F448","v":0}]
[null,"REG",{"$f":"IF(ISBLANK(A449),0,VLOOKUP(A449,'PAYROLL RECORD'!$B$8:$U$2005,18,FALSE))","v":0},{"$f":"IF(ISBLANK(A449),0,VLOOKUP(A449,'PAYROLL RECORD'!$B$8:$D$2005,3,FALSE))","v":0},null,null,null,null,null,null,null,null,null,null,null,null,null,null,null,null,null,{"$f":"SUM($G449:$U449)","v":0},null,null,{"$f":"IF(AND($M$5=\"A\",D449<>\"FT\"),C449*V449,0)+IF(AND($M$5=\"B\",D449<>\"FT\"),C449*V449,0)+IF(AND($M$5=\"AP\"),C449*V449,0)+IF($M$5>=\"C\",C449*V449)","v":0}]
[{"$f":"IF(ISBLANK(A449),\" \",VLOOKUP(A449,'PAYROLL RECORD'!$B$9:$C$10740,2,FALSE))","v":" "},"OT1",{"$f":"IF(ISBLANK(A449),0,VLOOKUP(A449,'PAYROLL RECORD'!$B$8:$U$2005,19,FALSE))","v":0},{"$f":"+D449","v":0},null,null,null,null,null,null,null,null,null,null,null,null,null,null,null,null,null,null,{"$f":"SUM(G450:U450)","v":0},null,null,{"$f":"W450*C450","v":0}]
[null,"OT2",{"$f":"IF(ISBLANK(A449),0,VLOOKUP(A449,'PAYROLL RECORD'!$B$8:$U$2005,20,FALSE))","v":0},{"$f":"+D450","v":0},null,null,null,null,null,null,null,null,null,null,null,null,null,null,null,null,null,null,null,{"$f":"SUM(G451:U451)","v":0},null,null,{"$f":"X451*C451","v":0}]
[null,null,null,null,{"$f":"IF(ISBLANK(A452),0,VLOOKUP(A452,'EQUIPMENT INVENTORY'!$B$7:$AK$1021,7,0))","v":0},{"$f":"IF(ISBLANK(A452),0,VLOOKUP(A452,'EQUIPMENT INVENTORY'!$B$7:$AK$1021,8,0))","v":0},null,null,null,null,null,null,null,null,null,null,null,null,null,null,null,{"$f":"SUM($G452:$U452)","v":0},null,null,{"$f":"V452*F452","v":0}]
[null,null,null,null,{"$f":"IF(ISBLANK(A453),0,VLOOKUP(A453,'EQUIPMENT INVENTORY'!$B$7:$AK$1021,7,0))","v":0},{"$f":"IF(ISBLANK(A453),0,VLOOKUP(A453,'EQUIPMENT INVENTORY'!$B$7:$AK$1021,8,0))","v":0},null,null,null,null,null,null,null,null,null,null,null,null,null,null,null,{"$f":"SUM($G453:$U453)","v":0},null,null,{"$f":"V453*F453","v":0}]
[null,null,null,null,{"$f":"IF(ISBLANK(A454),0,VLOOKUP(A454,'EQUIPMENT INVENTORY'!$B$7:$AK$1021,7,0))","v":0},{"$f":"IF(ISBLANK(A454),0,VLOOKUP(A454,'EQUIPMENT INVENTORY'!$B$7:$AK$1021,8,0))","v":0},null,null,null,null,null,null,null,null,null,null,null,null,null,null,null,{"$f":"SUM($G454:$U454)","v":0},null,null,{"$f":"V454*F454","v":0}]
[null,"REG",{"$f":"IF(ISBLANK(A455),0,VLOOKUP(A455,'PAYROLL RECORD'!$B$8:$U$2005,18,FALSE))","v":0},{"$f":"IF(ISBLANK(A455),0,VLOOKUP(A455,'PAYROLL RECORD'!$B$8:$D$2005,3,FALSE))","v":0},null,null,null,null,null,null,null,null,null,null,null,null,null,null,null,null,null,{"$f":"SUM($G455:$U455)","v":0},null,null,{"$f":"IF(AND($M$5=\"A\",D455<>\"FT\"),C455*V455,0)+IF(AND($M$5=\"B\",D455<>\"FT\"),C455*V455,0)+IF(AND($M$5=\"AP\"),C455*V455,0)+IF($M$5>=\"C\",C455*V455)","v":0}]
[{"$f":"IF(ISBLANK(A455),\" \",VLOOKUP(A455,'PAYROLL RECORD'!$B$9:$C$10740,2,FALSE))","v":" "},"OT1",{"$f":"IF(ISBLANK(A455),0,VLOOKUP(A455,'PAYROLL RECORD'!$B$8:$U$2005,19,FALSE))","v":0},{"$f":"+D455","v":0},null,null,null,null,null,null,null,null,null,null,null,null,null,null,null,null,null,null,{"$f":"SUM(G456:U456)","v":0},null,null,{"$f":"W456*C456","v":0}]
[null,"OT2",{"$f":"IF(ISBLANK(A455),0,VLOOKUP(A455,'PAYROLL RECORD'!$B$8:$U$2005,20,FALSE))","v":0},{"$f":"+D456","v":0},null,null,null,null,null,null,null,null,null,null,null,null,null,null,null,null,null,null,null,{"$f":"SUM(G457:U457)","v":0},null,null,{"$f":"X457*C457","v":0}]
[null,null,null,null,{"$f":"IF(ISBLANK(A458),0,VLOOKUP(A458,'EQUIPMENT INVENTORY'!$B$7:$AK$1021,7,0))","v":0},{"$f":"IF(ISBLANK(A458),0,VLOOKUP(A458,'EQUIPMENT INVENTORY'!$B$7:$AK$1021,8,0))","v":0},null,null,null,null,null,null,null,null,null,null,null,null,null,null,null,{"$f":"SUM($G458:$U458)","v":0},null,null,{"$f":"V458*F458","v":0}]
[null,null,null,null,{"$f":"IF(ISBLANK(A459),0,VLOOKUP(A459,'EQUIPMENT INVENTORY'!$B$7:$AK$1021,7,0))","v":0},{"$f":"IF(ISBLANK(A459),0,VLOOKUP(A459,'EQUIPMENT INVENTORY'!$B$7:$AK$1021,8,0))","v":0},null,null,null,null,null,null,null,null,null,null,null,null,null,null,null,{"$f":"SUM($G459:$U459)","v":0},null,null,{"$f":"V459*F459","v":0}]
[null,null,null,null,{"$f":"IF(ISBLANK(A460),0,VLOOKUP(A460,'EQUIPMENT INVENTORY'!$B$7:$AK$1021,7,0))","v":0},{"$f":"IF(ISBLANK(A460),0,VLOOKUP(A460,'EQUIPMENT INVENTORY'!$B$7:$AK$1021,8,0))","v":0},null,null,null,null,null,null,null,null,null,null,null,null,null,null,null,{"$f":"SUM($G460:$U460)","v":0},null,null,{"$f":"V460*F460","v":0}]
[null,"REG",{"$f":"IF(ISBLANK(A461),0,VLOOKUP(A461,'PAYROLL RECORD'!$B$8:$U$2005,18,FALSE))","v":0},{"$f":"IF(ISBLANK(A461),0,VLOOKUP(A461,'PAYROLL RECORD'!$B$8:$D$2005,3,FALSE))","v":0},null,null,null,null,null,null,null,null,null,null,null,null,null,null,null,null,null,{"$f":"SUM($G461:$U461)","v":0},null,null,{"$f":"IF(AND($M$5=\"A\",D461<>\"FT\"),C461*V461,0)+IF(AND($M$5=\"B\",D461<>\"FT\"),C461*V461,0)+IF(AND($M$5=\"AP\"),C461*V461,0)+IF($M$5>=\"C\",C461*V461)","v":0}]
[{"$f":"IF(ISBLANK(A461),\" \",VLOOKUP(A461,'PAYROLL RECORD'!$B$9:$C$10740,2,FALSE))","v":" "},"OT1",{"$f":"IF(ISBLANK(A461),0,VLOOKUP(A461,'PAYROLL RECORD'!$B$8:$U$2005,19,FALSE))","v":0},{"$f":"+D461","v":0},null,null,null,null,null,null,null,null,null,null,null,null,null,null,null,null,null,null,{"$f":"SUM(G462:U462)","v":0},null,null,{"$f":"W462*C462","v":0}]
[null,"OT2",{"$f":"IF(ISBLANK(A461),0,VLOOKUP(A461,'PAYROLL RECORD'!$B$8:$U$2005,20,FALSE))","v":0},{"$f":"+D462","v":0},null,null,null,null,null,null,null,null,null,null,null,null,null,null,null,null,null,null,null,{"$f":"SUM(G463:U463)","v":0},null,null,{"$f":"X463*C463","v":0}]
[null,null,null,null,{"$f":"IF(ISBLANK(A464),0,VLOOKUP(A464,'EQUIPMENT INVENTORY'!$B$7:$AK$1021,7,0))","v":0},{"$f":"IF(ISBLANK(A464),0,VLOOKUP(A464,'EQUIPMENT INVENTORY'!$B$7:$AK$1021,8,0))","v":0},null,null,null,null,null,null,null,null,null,null,null,null,null,null,null,{"$f":"SUM($G464:$U464)","v":0},null,null,{"$f":"V464*F464","v":0}]
[null,null,null,null,{"$f":"IF(ISBLANK(A465),0,VLOOKUP(A465,'EQUIPMENT INVENTORY'!$B$7:$AK$1021,7,0))","v":0},{"$f":"IF(ISBLANK(A465),0,VLOOKUP(A465,'EQUIPMENT INVENTORY'!$B$7:$AK$1021,8,0))","v":0},null,null,null,null,null,null,null,null,null,null,null,null,null,null,null,{"$f":"SUM($G465:$U465)","v":0},null,null,{"$f":"V465*F465","v":0}]
[null,null,null,null,{"$f":"IF(ISBLANK(A466),0,VLOOKUP(A466,'EQUIPMENT INVENTORY'!$B$7:$AK$1021,7,0))","v":0},{"$f":"IF(ISBLANK(A466),0,VLOOKUP(A466,'EQUIPMENT INVENTORY'!$B$7:$AK$1021,8,0))","v":0},null,null,null,null,null,null,null,null,null,null,null,null,null,null,null,{"$f":"SUM($G466:$U466)","v":0},null,null,{"$f":"V466*F466","v":0},null,null,"Reg hrs","ot1 hrs","ot2 hrs","equip hrs"]
[null,null,null,null,null,null,null,null,null,null,null,null,null,null,null,null,"LABOR - Page Total",null,null,null,null,{"$f":"V419+V425+V431+V443+V449+V461+V437+V455","v":0},{"$f":"SUM(W419:W466)","v":0},{"$f":"SUM(X419:X466)","v":0},{"$f":"Y419+Y425+Y431+Y443+Y449+Y461+Y437+Y455","v":0},{"$f":"SUM(Z420:Z466)","v":0},{"$f":"SUM(AA420:AA466)","v":0},{"$f":"V467","v":0},{"$f":"W467","v":0},{"$f":"X467","v":0},{"$f":"V468","v":0},{"$f":"Y467","v":0},{"$f":"Z467","v":0},{"$f":"AA467","v":0},{"$f":"Y468","v":0}]
[null,null,null,null,null,null,null,null,null,null,null,null,null,null,null,null,"EQUIPMENT - Page Total",null,null,null,null,{"$f":"V422+V423+V424+V428+V429+V430+V434+V435+V436+V440+V441+V442+V446+V447+V448+V452+V453+V454+V464+V465+V466+V458+V459+V460","v":0},null,null,{"$f":"Y422+Y423+Y424+Y428+Y429+Y430+Y434+Y435+Y436+Y440+Y441+Y442+Y446+Y447+Y448+Y452+Y453+Y454+Y464+Y465+Y466+Y458+Y459+Y460","v":0}]
[null,null,null,null,null,null,null,null,null,null,null,null,null,null,null,null,"LABOR - Grand Total",null,null,null,null,{"$f":"SUM($AB:$AB)","v":0},{"$f":"SUM($AC:$AC)","v":0},{"$f":"SUM($AD:$AD)","v":0},{"$f":"SUM(AF:AF)","v":0},{"$f":"SUM($AG:$AG)","v":0},{"$f":"SUM($AH:$AH)","v":0}]
[null,null,null,null,null,null,null,null,null,null,null,null,null,null,null,null,"EQUIPMENT - Grand Total",null,null,null,null,{"$f":"SUM($AE:$AE)","v":0},null,null,{"$f":"SUM($AI:$AI)","v":0}]
[]
[]
["COST SUMMARY FOR LABOR/EQUIPMENT"]
["APPLICANT - FIPS#",null,null,null,"DISASTER #:",null,null,"PROJECT #:",null,null,null,null,"FEMA CAT A-G",null,null,"EMMIE #",null,null,null,"Work Completion Date"]
[{"$f":"IF('PAYROLL RECORD'!$B$5=\"START HERE\",\"\",'PAYROLL RECORD'!$B$5)","v":0},null,null,null,{"$f":"IF('PAYROLL RECORD'!$F$5=\"\",\"\",'PAYROLL RECORD'!$F$5)","v":""},null,null,{"$f":"'PAYROLL RECORD'!I474:L474","v":{"$error":"#VALUE!"}},null,null,null,null,{"$f":"IF('PAYROLL RECORD'!$M$5=\"CATEGORY\",\"\",'PAYROLL RECORD'!$M$5)","v":0},null,null,{"$f":"IF('PAYROLL RECORD'!$O$5=\"EMMIE #\",\"\",'PAYROLL RECORD'!$O$5)","v":0},null,null,null,{"$f":"IF('PAYROLL RECORD'!$Q$5=\"DATE\",\"\",'PAYROLL RECORD'!$Q$5)","v":"00:00:00"}]
["Employee/\nEquipment",null,"RATE w/","STATUS","COST CODE","RATE","2018-10-31",{"$f":"+G476+1","v":"2018-11-01"},{"$f":"H476+1","v":"2018-11-02"},"2018-11-03","2018-11-04","2018-11-05","2018-11-06","2018-11-07","2018-11-08","2018-11-09","2018-11-10","2018-11-11","2018-11-12","2018-11-13","2018-11-14","REG","OT1","OT2","REG TIME\nCOST","OT1\nCOST","OT2\nCOST"]
[null,null,"FRINGE",null,null,null,{"$f":"IF(G476<=0,\"\",TEXT(WEEKDAY(G476),\"ddd\"))","v":"Wed"},{"$f":"IF(H476<=0,\"\",TEXT(WEEKDAY(H476),\"ddd\"))","v":"Thu"},"Fri","Sat","Sun","Mon","Tue","Wed","Thu","Fri","Sat","Sun","Mon","Tue","Wed"]
[null,"REG",{"$f":"IF(ISBLANK(A478),0,VLOOKUP(A478,'PAYROLL RECORD'!$B$8:$U$2005,18,FALSE))","v":0},{"$f":"IF(ISBLANK(A478),0,VLOOKUP(A478,'PAYROLL RECORD'!$B$8:$D$2005,3,FALSE))","v":0},null,null,null,null,null,null,null,null,null,null,null,null,null,null,null,null,null,{"$f":"SUM($G478:$U478)","v":0},null,null,{"$f":"IF(AND($M$5=\"A\",D478<>\"FT\"),C478*V478,0)+IF(AND($M$5=\"B\",D478<>\"FT\"),C478*V478,0)+IF(AND($M$5=\"AP\"),C478*V478,0)+IF($M$5>=\"C\",C478*V478)","v":0}]
[{"$f":"IF(ISBLANK(A478),\" \",VLOOKUP(A478,'PAYROLL RECORD'!$B$9:$C$10740,2,FALSE))","v":" "},"OT1",{"$f":"IF(ISBLANK(A478),0,VLOOKUP(A478,'PAYROLL RECORD'!$B$8:$U$2005,19,FALSE))","v":0},{"$f":"+D478","v":0},null,null,null,null,null,null,null,null,null,null,null,null,null,null,null,null,null,null,{"$f":"SUM(G479:U479)","v":0},null,null,{"$f":"W479*C479","v":0}]
[null,"OT2",{"$f":"IF(ISBLANK(A478),0,VLOOKUP(A478,'PAYROLL RECORD'!$B$8:$U$2005,20,FALSE))","v":0},{"$f":"+D479","v":0},null,null,null,null,null,null,null,null,null,null,null,null,null,null,null,null,null,null,null,{"$f":"SUM(G480:U480)","v":0},null,null,{"$f":"X480*C480","v":0}]
[null,null,null,null,{"$f":"IF(ISBLANK(A481),0,VLOOKUP(A481,'EQUIPMENT INVENTORY'!$B$7:$AK$1021,7,0))","v":0},{"$f":"IF(ISBLANK(A481),0,VLOOKUP(A481,'EQUIPMENT INVENTORY'!$B$7:$AK$1021,8,0))","v":0},null,null,null,null,null,null,null,null,null,null,null,null,null,null,null,{"$f":"SUM($G481:$U481)","v":0},null,null,{"$f":"V481*F481","v":0}]
[null,null,null,null,{"$f":"IF(ISBLANK(A482),0,VLOOKUP(A482,'EQUIPMENT INVENTORY'!$B$7:$AK$1021,7,0))","v":0},{"$f":"IF(ISBLANK(A482),0,VLOOKUP(A482,'EQUIPMENT INVENTORY'!$B$7:$AK$1021,8,0))","v":0},null,null,null,null,null,null,null,null,null,null,null,null,null,null,null,{"$f":"SUM($G482:$U482)","v":0},null,null,{"$f":"V482*F482","v":0}]
[null,null,null,null,{"$f":"IF(ISBLANK(A483),0,VLOOKUP(A483,'EQUIPMENT INVENTORY'!$B$7:$AK$1021,7,0))","v":0},{"$f":"IF(ISBLANK(A483),0,VLOOKUP(A483,'EQUIPMENT INVENTORY'!$B$7:$AK$1021,8,0))","v":0},null,null,null,null,null,null,null,null,null,null,null,null,null,null,null,{"$f":"SUM($G483:$U483)","v":0},null,null,{"$f":"V483*F483","v":0}]
[null,"REG",{"$f":"IF(ISBLANK(A484),0,VLOOKUP(A484,'PAYROLL RECORD'!$B$8:$U$2005,18,FALSE))","v":0},{"$f":"IF(ISBLANK(A484),0,VLOOKUP(A484,'PAYROLL RECORD'!$B$8:$D$2005,3,FALSE))","v":0},null,null,null,null,null,null,null,null,null,null,null,null,null,null,null,null,null,{"$f":"SUM($G484:$U484)","v":0},null,null,{"$f":"IF(AND($M$5=\"A\",D484<>\"FT\"),C484*V484,0)+IF(AND($M$5=\"B\",D484<>\"FT\"),C484*V484,0)+IF(AND($M$5=\"AP\"),C484*V484,0)+IF($M$5>=\"C\",C484*V484)","v":0}]
[{"$f":"IF(ISBLANK(A484),\" \",VLOOKUP(A484,'PAYROLL RECORD'!$B$9:$C$10740,2,FALSE))","v":" "},"OT1",{"$f":"IF(ISBLANK(A484),0,VLOOKUP(A484,'PAYROLL RECORD'!$B$8:$U$2005,19,FALSE))","v":0},{"$f":"+D484","v":0},null,null,null,null,null,null,null,null,null,null,null,null,null,null,null,null,null,null,{"$f":"SUM(G485:U485)","v":0},null,null,{"$f":"W485*C485","v":0}]
[null,"OT2",{"$f":"IF(ISBLANK(A484),0,VLOOKUP(A484,'PAYROLL RECORD'!$B$8:$U$2005,20,FALSE))","v":0},{"$f":"+D485","v":0},null,null,null,null,null,null,null,null,null,null,null,null,null,null,null,null,null,null,null,{"$f":"SUM(G486:U486)","v":0},null,null,{"$f":"X486*C486","v":0}]
[null,null,null,null,{"$f":"IF(ISBLANK(A487),0,VLOOKUP(A487,'EQUIPMENT INVENTORY'!$B$7:$AK$1021,7,0))","v":0},{"$f":"IF(ISBLANK(A487),0,VLOOKUP(A487,'EQUIPMENT INVENTORY'!$B$7:$AK$1021,8,0))","v":0},null,null,null,null,null,null,null,null,null,null,null,null,null,null,null,{"$f":"SUM($G487:$U487)","v":0},null,null,{"$f":"V487*F487","v":0}]
[null,null,null,null,{"$f":"IF(ISBLANK(A488),0,VLOOKUP(A488,'EQUIPMENT INVENTORY'!$B$7:$AK$1021,7,0))","v":0},{"$f":"IF(ISBLANK(A488),0,VLOOKUP(A488,'EQUIPMENT INVENTORY'!$B$7:$AK$1021,8,0))","v":0},null,null,null,null,null,null,null,null,null,null,null,null,null,null,null,{"$f":"SUM($G488:$U488)","v":0},null,null,{"$f":"V488*F488","v":0}]
[null,null,null,null,{"$f":"IF(ISBLANK(A489),0,VLOOKUP(A489,'EQUIPMENT INVENTORY'!$B$7:$AK$1021,7,0))","v":0},{"$f":"IF(ISBLANK(A489),0,VLOOKUP(A489,'EQUIPMENT INVENTORY'!$B$7:$AK$1021,8,0))","v":0},null,null,null,null,null,null,null,null,null,null,null,null,null,null,null,{"$f":"SUM($G489:$U489)","v":0},null,null,{"$f":"V489*F489","v":0}]
[null,"REG",{"$f":"IF(ISBLANK(A490),0,VLOOKUP(A490,'PAYROLL RECORD'!$B$8:$U$2005,18,FALSE))","v":0},{"$f":"IF(ISBLANK(A490),0,VLOOKUP(A490,'PAYROLL RECORD'!$B$8:$D$2005,3,FALSE))","v":0},null,null,null,null,null,null,null,null,null,null,null,null,null,null,null,null,null,{"$f":"SUM($G490:$U490)","v":0},null,null,{"$f":"IF(AND($M$5=\"A\",D490<>\"FT\"),C490*V490,0)+IF(AND($M$5=\"B\",D490<>\"FT\"),C490*V490,0)+IF(AND($M$5=\"AP\"),C490*V490,0)+IF($M$5>=\"C\",C490*V490)","v":0}]
[{"$f":"IF(ISBLANK(A490),\" \",VLOOKUP(A490,'PAYROLL RECORD'!$B$9:$C$10740,2,FALSE))","v":" "},"OT1",{"$f":"IF(ISBLANK(A490),0,VLOOKUP(A490,'PAYROLL RECORD'!$B$8:$U$2005,19,FALSE))","v":0},{"$f":"+D490","v":0},null,null,null,null,null,null,null,null,null,null,null,null,null,null,null,null,null,null,{"$f":"SUM(G491:U491)","v":0},null,null,{"$f":"W491*C491","v":0}]
[null,"OT2",{"$f":"IF(ISBLANK(A490),0,VLOOKUP(A490,'PAYROLL RECORD'!$B$8:$U$2005,20,FALSE))","v":0},{"$f":"+D491","v":0},null,null,null,null,null,null,null,null,null,null,null,null,null,null,null,null,null,null,null,{"$f":"SUM(G492:U492)","v":0},null,null,{"$f":"X492*C492","v":0}]
[null,null,null,null,{"$f":"IF(ISBLANK(A493),0,VLOOKUP(A493,'EQUIPMENT INVENTORY'!$B$7:$AK$1021,7,0))","v":0},{"$f":"IF(ISBLANK(A493),0,VLOOKUP(A493,'EQUIPMENT INVENTORY'!$B$7:$AK$1021,8,0))","v":0},null,null,null,null,null,null,null,null,null,null,null,null,null,null,null,{"$f":"SUM($G493:$U493)","v":0},null,null,{"$f":"V493*F493","v":0}]
[null,null,null,null,{"$f":"IF(ISBLANK(A494),0,VLOOKUP(A494,'EQUIPMENT INVENTORY'!$B$7:$AK$1021,7,0))","v":0},{"$f":"IF(ISBLANK(A494),0,VLOOKUP(A494,'EQUIPMENT INVENTORY'!$B$7:$AK$1021,8,0))","v":0},null,null,null,null,null,null,null,null,null,null,null,null,null,null,null,{"$f":"SUM($G494:$U494)","v":0},null,null,{"$f":"V494*F494","v":0}]
[null,null,null,null,{"$f":"IF(ISBLANK(A495),0,VLOOKUP(A495,'EQUIPMENT INVENTORY'!$B$7:$AK$1021,7,0))","v":0},{"$f":"IF(ISBLANK(A495),0,VLOOKUP(A495,'EQUIPMENT INVENTORY'!$B$7:$AK$1021,8,0))","v":0},null,null,null,null,null,null,null,null,null,null,null,null,null,null,null,{"$f":"SUM($G495:$U495)","v":0},null,null,{"$f":"V495*F495","v":0}]
[null,"REG",{"$f":"IF(ISBLANK(A496),0,VLOOKUP(A496,'PAYROLL RECORD'!$B$8:$U$2005,18,FALSE))","v":0},{"$f":"IF(ISBLANK(A496),0,VLOOKUP(A496,'PAYROLL RECORD'!$B$8:$D$2005,3,FALSE))","v":0},null,null,null,null,null,null,null,null,null,null,null,null,null,null,null,null,null,{"$f":"SUM($G496:$U496)","v":0},null,null,{"$f":"IF(AND($M$5=\"A\",D496<>\"FT\"),C496*V496,0)+IF(AND($M$5=\"B\",D496<>\"FT\"),C496*V496,0)+IF(AND($M$5=\"AP\"),C496*V496,0)+IF($M$5>=\"C\",C496*V496)","v":0}]
[{"$f":"IF(ISBLANK(A496),\" \",VLOOKUP(A496,'PAYROLL RECORD'!$B$9:$C$10740,2,FALSE))","v":" "},"OT1",{"$f":"IF(ISBLANK(A496),0,VLOOKUP(A496,'PAYROLL RECORD'!$B$8:$U$2005,19,FALSE))","v":0},{"$f":"+D496","v":0},null,null,null,null,null,null,null,null,null,null,null,null,null,null,null,null,null,null,{"$f":"SUM(G497:U497)","v":0},null,null,{"$f":"W497*C497","v":0}]
[null,"OT2",{"$f":"IF(ISBLANK(A496),0,VLOOKUP(A496,'PAYROLL RECORD'!$B$8:$U$2005,20,FALSE))","v":0},{"$f":"+D497","v":0},null,null,null,null,null,null,null,null,null,null,null,null,null,null,null,null,null,null,null,{"$f":"SUM(G498:U498)","v":0},null,null,{"$f":"X498*C498","v":0}]
[null,null,null,null,{"$f":"IF(ISBLANK(A499),0,VLOOKUP(A499,'EQUIPMENT INVENTORY'!$B$7:$AK$1021,7,0))","v":0},{"$f":"IF(ISBLANK(A499),0,VLOOKUP(A499,'EQUIPMENT INVENTORY'!$B$7:$AK$1021,8,0))","v":0},null,null,null,null,null,null,null,null,null,null,null,null,null,null,null,{"$f":"SUM($G499:$U499)","v":0},null,null,{"$f":"V499*F499","v":0}]
[null,null,null,null,{"$f":"IF(ISBLANK(A500),0,VLOOKUP(A500,'EQUIPMENT INVENTORY'!$B$7:$AK$1021,7,0))","v":0},{"$f":"IF(ISBLANK(A500),0,VLOOKUP(A500,'EQUIPMENT INVENTORY'!$B$7:$AK$1021,8,0))","v":0},null,null,null,null,null,null,null,null,null,null,null,null,null,null,null,{"$f":"SUM($G500:$U500)","v":0},null,null,{"$f":"V500*F500","v":0}]
[null,null,null,null,{"$f":"IF(ISBLANK(A501),0,VLOOKUP(A501,'EQUIPMENT INVENTORY'!$B$7:$AK$1021,7,0))","v":0},{"$f":"IF(ISBLANK(A501),0,VLOOKUP(A501,'EQUIPMENT INVENTORY'!$B$7:$AK$1021,8,0))","v":0},null,null,null,null,null,null,null,null,null,null,null,null,null,null,null,{"$f":"SUM($G501:$U501)","v":0},null,null,{"$f":"V501*F501","v":0}]
[null,"REG",{"$f":"IF(ISBLANK(A502),0,VLOOKUP(A502,'PAYROLL RECORD'!$B$8:$U$2005,18,FALSE))","v":0},{"$f":"IF(ISBLANK(A502),0,VLOOKUP(A502,'PAYROLL RECORD'!$B$8:$D$2005,3,FALSE))","v":0},null,null,null,null,null,null,null,null,null,null,null,null,null,null,null,null,null,{"$f":"SUM($G502:$U502)","v":0},null,null,{"$f":"IF(AND($M$5=\"A\",D502<>\"FT\"),C502*V502,0)+IF(AND($M$5=\"B\",D502<>\"FT\"),C502*V502,0)+IF(AND($M$5=\"AP\"),C502*V502,0)+IF($M$5>=\"C\",C502*V502)","v":0}]
[{"$f":"IF(ISBLANK(A502),\" \",VLOOKUP(A502,'PAYROLL RECORD'!$B$9:$C$10740,2,FALSE))","v":" "},"OT1",{"$f":"IF(ISBLANK(A502),0,VLOOKUP(A502,'PAYROLL RECORD'!$B$8:$U$2005,19,FALSE))","v":0},{"$f":"+D502","v":0},null,null,null,null,null,null,null,null,null,null,null,null,null,null,null,null,null,null,{"$f":"SUM(G503:U503)","v":0},null,null,{"$f":"W503*C503","v":0}]
[null,"OT2",{"$f":"IF(ISBLANK(A502),0,VLOOKUP(A502,'PAYROLL RECORD'!$B$8:$U$2005,20,FALSE))","v":0},{"$f":"+D503","v":0},null,null,null,null,null,null,null,null,null,null,null,null,null,null,null,null,null,null,null,{"$f":"SUM(G504:U504)","v":0},null,null,{"$f":"X504*C504","v":0}]
[null,null,null,null,{"$f":"IF(ISBLANK(A505),0,VLOOKUP(A505,'EQUIPMENT INVENTORY'!$B$7:$AK$1021,7,0))","v":0},{"$f":"IF(ISBLANK(A505),0,VLOOKUP(A505,'EQUIPMENT INVENTORY'!$B$7:$AK$1021,8,0))","v":0},null,null,null,null,null,null,null,null,null,null,null,null,null,null,null,{"$f":"SUM($G505:$U505)","v":0},null,null,{"$f":"V505*F505","v":0}]
[null,null,null,null,{"$f":"IF(ISBLANK(A506),0,VLOOKUP(A506,'EQUIPMENT INVENTORY'!$B$7:$AK$1021,7,0))","v":0},{"$f":"IF(ISBLANK(A506),0,VLOOKUP(A506,'EQUIPMENT INVENTORY'!$B$7:$AK$1021,8,0))","v":0},null,null,null,null,null,null,null,null,null,null,null,null,null,null,null,{"$f":"SUM($G506:$U506)","v":0},null,null,{"$f":"V506*F506","v":0}]
[null,null,null,null,{"$f":"IF(ISBLANK(A507),0,VLOOKUP(A507,'EQUIPMENT INVENTORY'!$B$7:$AK$1021,7,0))","v":0},{"$f":"IF(ISBLANK(A507),0,VLOOKUP(A507,'EQUIPMENT INVENTORY'!$B$7:$AK$1021,8,0))","v":0},null,null,null,null,null,null,null,null,null,null,null,null,null,null,null,{"$f":"SUM($G507:$U507)","v":0},null,null,{"$f":"V507*F507","v":0}]
[null,"REG",{"$f":"IF(ISBLANK(A508),0,VLOOKUP(A508,'PAYROLL RECORD'!$B$8:$U$2005,18,FALSE))","v":0},{"$f":"IF(ISBLANK(A508),0,VLOOKUP(A508,'PAYROLL RECORD'!$B$8:$D$2005,3,FALSE))","v":0},null,null,null,null,null,null,null,null,null,null,null,null,null,null,null,null,null,{"$f":"SUM($G508:$U508)","v":0},null,null,{"$f":"IF(AND($M$5=\"A\",D508<>\"FT\"),C508*V508,0)+IF(AND($M$5=\"B\",D508<>\"FT\"),C508*V508,0)+IF(AND($M$5=\"AP\"),C508*V508,0)+IF($M$5>=\"C\",C508*V508)","v":0}]
[{"$f":"IF(ISBLANK(A508),\" \",VLOOKUP(A508,'PAYROLL RECORD'!$B$9:$C$10740,2,FALSE))","v":" "},"OT1",{"$f":"IF(ISBLANK(A508),0,VLOOKUP(A508,'PAYROLL RECORD'!$B$8:$U$2005,19,FALSE))","v":0},{"$f":"+D508","v":0},null,null,null,null,null,null,null,null,null,null,null,null,null,null,null,null,null,null,{"$f":"SUM(G509:U509)","v":0},null,null,{"$f":"W509*C509","v":0}]
[null,"OT2",{"$f":"IF(ISBLANK(A508),0,VLOOKUP(A508,'PAYROLL RECORD'!$B$8:$U$2005,20,FALSE))","v":0},{"$f":"+D509","v":0},null,null,null,null,null,null,null,null,null,null,null,null,null,null,null,null,null,null,null,{"$f":"SUM(G510:U510)","v":0},null,null,{"$f":"X510*C510","v":0}]
[null,null,null,null,{"$f":"IF(ISBLANK(A511),0,VLOOKUP(A511,'EQUIPMENT INVENTORY'!$B$7:$AK$1021,7,0))","v":0},{"$f":"IF(ISBLANK(A511),0,VLOOKUP(A511,'EQUIPMENT INVENTORY'!$B$7:$AK$1021,8,0))","v":0},null,null,null,null,null,null,null,null,null,null,null,null,null,null,null,{"$f":"SUM($G511:$U511)","v":0},null,null,{"$f":"V511*F511","v":0}]
[null,null,null,null,{"$f":"IF(ISBLANK(A512),0,VLOOKUP(A512,'EQUIPMENT INVENTORY'!$B$7:$AK$1021,7,0))","v":0},{"$f":"IF(ISBLANK(A512),0,VLOOKUP(A512,'EQUIPMENT INVENTORY'!$B$7:$AK$1021,8,0))","v":0},null,null,null,null,null,null,null,null,null,null,null,null,null,null,null,{"$f":"SUM($G512:$U512)","v":0},null,null,{"$f":"V512*F512","v":0}]
[null,null,null,null,{"$f":"IF(ISBLANK(A513),0,VLOOKUP(A513,'EQUIPMENT INVENTORY'!$B$7:$AK$1021,7,0))","v":0},{"$f":"IF(ISBLANK(A513),0,VLOOKUP(A513,'EQUIPMENT INVENTORY'!$B$7:$AK$1021,8,0))","v":0},null,null,null,null,null,null,null,null,null,null,null,null,null,null,null,{"$f":"SUM($G513:$U513)","v":0},null,null,{"$f":"V513*F513","v":0}]
[null,"REG",{"$f":"IF(ISBLANK(A514),0,VLOOKUP(A514,'PAYROLL RECORD'!$B$8:$U$2005,18,FALSE))","v":0},{"$f":"IF(ISBLANK(A514),0,VLOOKUP(A514,'PAYROLL RECORD'!$B$8:$D$2005,3,FALSE))","v":0},null,null,null,null,null,null,null,null,null,null,null,null,null,null,null,null,null,{"$f":"SUM($G514:$U514)","v":0},null,null,{"$f":"IF(AND($M$5=\"A\",D514<>\"FT\"),C514*V514,0)+IF(AND($M$5=\"B\",D514<>\"FT\"),C514*V514,0)+IF(AND($M$5=\"AP\"),C514*V514,0)+IF($M$5>=\"C\",C514*V514)","v":0}]
[{"$f":"IF(ISBLANK(A514),\" \",VLOOKUP(A514,'PAYROLL RECORD'!$B$9:$C$10740,2,FALSE))","v":" "},"OT1",{"$f":"IF(ISBLANK(A514),0,VLOOKUP(A514,'PAYROLL RECORD'!$B$8:$U$2005,19,FALSE))","v":0},{"$f":"+D514","v":0},null,null,null,null,null,null,null,null,null,null,null,null,null,null,null,null,null,null,{"$f":"SUM(G515:U515)","v":0},null,null,{"$f":"W515*C515","v":0}]
[null,"OT2",{"$f":"IF(ISBLANK(A514),0,VLOOKUP(A514,'PAYROLL RECORD'!$B$8:$U$2005,20,FALSE))","v":0},{"$f":"+D515","v":0},null,null,null,null,null,null,null,null,null,null,null,null,null,null,null,null,null,null,null,{"$f":"SUM(G516:U516)","v":0},null,null,{"$f":"X516*C516","v":0}]
[null,null,null,null,{"$f":"IF(ISBLANK(A517),0,VLOOKUP(A517,'EQUIPMENT INVENTORY'!$B$7:$AK$1021,7,0))","v":0},{"$f":"IF(ISBLANK(A517),0,VLOOKUP(A517,'EQUIPMENT INVENTORY'!$B$7:$AK$1021,8,0))","v":0},null,null,null,null,null,null,null,null,null,null,null,null,null,null,null,{"$f":"SUM($G517:$U517)","v":0},null,null,{"$f":"V517*F517","v":0}]
[null,null,null,null,{"$f":"IF(ISBLANK(A518),0,VLOOKUP(A518,'EQUIPMENT INVENTORY'!$B$7:$AK$1021,7,0))","v":0},{"$f":"IF(ISBLANK(A518),0,VLOOKUP(A518,'EQUIPMENT INVENTORY'!$B$7:$AK$1021,8,0))","v":0},null,null,null,null,null,null,null,null,null,null,null,null,null,null,null,{"$f":"SUM($G518:$U518)","v":0},null,null,{"$f":"V518*F518","v":0}]
[null,null,null,null,{"$f":"IF(ISBLANK(A519),0,VLOOKUP(A519,'EQUIPMENT INVENTORY'!$B$7:$AK$1021,7,0))","v":0},{"$f":"IF(ISBLANK(A519),0,VLOOKUP(A519,'EQUIPMENT INVENTORY'!$B$7:$AK$1021,8,0))","v":0},null,null,null,null,null,null,null,null,null,null,null,null,null,null,null,{"$f":"SUM($G519:$U519)","v":0},null,null,{"$f":"V519*F519","v":0}]
[null,"REG",{"$f":"IF(ISBLANK(A520),0,VLOOKUP(A520,'PAYROLL RECORD'!$B$8:$U$2005,18,FALSE))","v":0},{"$f":"IF(ISBLANK(A520),0,VLOOKUP(A520,'PAYROLL RECORD'!$B$8:$D$2005,3,FALSE))","v":0},null,null,null,null,null,null,null,null,null,null,null,null,null,null,null,null,null,{"$f":"SUM($G520:$U520)","v":0},null,null,{"$f":"IF(AND($M$5=\"A\",D520<>\"FT\"),C520*V520,0)+IF(AND($M$5=\"B\",D520<>\"FT\"),C520*V520,0)+IF(AND($M$5=\"AP\"),C520*V520,0)+IF($M$5>=\"C\",C520*V520)","v":0}]
[{"$f":"IF(ISBLANK(A520),\" \",VLOOKUP(A520,'PAYROLL RECORD'!$B$9:$C$10740,2,FALSE))","v":" "},"OT1",{"$f":"IF(ISBLANK(A520),0,VLOOKUP(A520,'PAYROLL RECORD'!$B$8:$U$2005,19,FALSE))","v":0},{"$f":"+D520","v":0},null,null,null,null,null,null,null,null,null,null,null,null,null,null,null,null,null,null,{"$f":"SUM(G521:U521)","v":0},null,null,{"$f":"W521*C521","v":0}]
[null,"OT2",{"$f":"IF(ISBLANK(A520),0,VLOOKUP(A520,'PAYROLL RECORD'!$B$8:$U$2005,20,FALSE))","v":0},{"$f":"+D521","v":0},null,null,null,null,null,null,null,null,null,null,null,null,null,null,null,null,null,null,null,{"$f":"SUM(G522:U522)","v":0},null,null,{"$f":"X522*C522","v":0}]
[null,null,null,null,{"$f":"IF(ISBLANK(A523),0,VLOOKUP(A523,'EQUIPMENT INVENTORY'!$B$7:$AK$1021,7,0))","v":0},{"$f":"IF(ISBLANK(A523),0,VLOOKUP(A523,'EQUIPMENT INVENTORY'!$B$7:$AK$1021,8,0))","v":0},null,null,null,null,null,null,null,null,null,null,null,null,null,null,null,{"$f":"SUM($G523:$U523)","v":0},null,null,{"$f":"V523*F523","v":0}]
[null,null,null,null,{"$f":"IF(ISBLANK(A524),0,VLOOKUP(A524,'EQUIPMENT INVENTORY'!$B$7:$AK$1021,7,0))","v":0},{"$f":"IF(ISBLANK(A524),0,VLOOKUP(A524,'EQUIPMENT INVENTORY'!$B$7:$AK$1021,8,0))","v":0},null,null,null,null,null,null,null,null,null,null,null,null,null,null,null,{"$f":"SUM($G524:$U524)","v":0},null,null,{"$f":"V524*F524","v":0}]
[null,null,null,null,{"$f":"IF(ISBLANK(A525),0,VLOOKUP(A525,'EQUIPMENT INVENTORY'!$B$7:$AK$1021,7,0))","v":0},{"$f":"IF(ISBLANK(A525),0,VLOOKUP(A525,'EQUIPMENT INVENTORY'!$B$7:$AK$1021,8,0))","v":0},null,null,null,null,null,null,null,null,null,null,null,null,null,null,null,{"$f":"SUM($G525:$U525)","v":0},null,null,{"$f":"V525*F525","v":0},null,null,"Reg hrs","ot1 hrs","ot2 hrs","equip hrs"]
[null,null,null,null,null,null,null,null,null,null,null,null,null,null,null,null,"LABOR - Page Total",null,null,null,null,{"$f":"V478+V484+V490+V502+V508+V520+V496+V514","v":0},{"$f":"SUM(W478:W525)","v":0},{"$f":"SUM(X478:X525)","v":0},{"$f":"Y478+Y484+Y490+Y502+Y508+Y520+Y496+Y514","v":0},{"$f":"SUM(Z479:Z525)","v":0},{"$f":"SUM(AA479:AA525)","v":0},{"$f":"V526","v":0},{"$f":"W526","v":0},{"$f":"X526","v":0},{"$f":"V527","v":0},{"$f":"Y526","v":0},{"$f":"Z526","v":0},{"$f":"AA526","v":0},{"$f":"Y527","v":0}]
[null,null,null,null,null,null,null,null,null,null,null,null,null,null,null,null,"EQUIPMENT - Page Total",null,null,null,null,{"$f":"V481+V482+V483+V487+V488+V489+V493+V494+V495+V499+V500+V501+V505+V506+V507+V511+V512+V513+V523+V524+V525+V517+V518+V519","v":0},null,null,{"$f":"Y481+Y482+Y483+Y487+Y488+Y489+Y493+Y494+Y495+Y499+Y500+Y501+Y505+Y506+Y507+Y511+Y512+Y513+Y523+Y524+Y525+Y517+Y518+Y519","v":0}]
[null,null,null,null,null,null,null,null,null,null,null,null,null,null,null,null,"LABOR - Grand Total",null,null,null,null,{"$f":"SUM($AB:$AB)","v":0},{"$f":"SUM($AC:$AC)","v":0},{"$f":"SUM($AD:$AD)","v":0},{"$f":"SUM(AF:AF)","v":0},{"$f":"SUM($AG:$AG)","v":0},{"$f":"SUM($AH:$AH)","v":0}]
[null,null,null,null,null,null,null,null,null,null,null,null,null,null,null,null,"EQUIPMENT - Grand Total",null,null,null,null,{"$f":"SUM($AE:$AE)","v":0},null,null,{"$f":"SUM($AI:$AI)","v":0}]
[]
[]
["COST SUMMARY FOR LABOR/EQUIPMENT"]
["APPLICANT - FIPS#",null,null,null,"DISASTER #:",null,null,"PROJECT #:",null,null,null,null,"FEMA CAT A-G",null,null,"EMMIE #",null,null,null,"Work Completion Date"]
[{"$f":"IF('PAYROLL RECORD'!$B$5=\"START HERE\",\"\",'PAYROLL RECORD'!$B$5)","v":0},null,null,null,{"$f":"IF('PAYROLL RECORD'!$F$5=\"\",\"\",'PAYROLL RECORD'!$F$5)","v":""},null,null,{"$f":"'PAYROLL RECORD'!I533:L533","v":{"$error":"#VALUE!"}},null,null,null,null,{"$f":"IF('PAYROLL RECORD'!$M$5=\"CATEGORY\",\"\",'PAYROLL RECORD'!$M$5)","v":0},null,null,{"$f":"IF('PAYROLL RECORD'!$O$5=\"EMMIE #\",\"\",'PAYROLL RECORD'!$O$5)","v":0},null,null,null,{"$f":"IF('PAYROLL RECORD'!$Q$5=\"DATE\",\"\",'PAYROLL RECORD'!$Q$5)","v":"00:00:00"}]
["Employee/\nEquipment",null,"RATE w/","STATUS","COST CODE","RATE","2018-10-31",{"$f":"+G535+1","v":"2018-11-01"},{"$f":"H535+1","v":"2018-11-02"},"2018-11-03","2018-11-04","2018-11-05","2018-11-06","2018-11-07","2018-11-08","2018-11-09","2018-11-10","2018-11-11","2018-11-12","2018-11-13","2018-11-14","REG","OT1","OT2","REG TIME\nCOST","OT1\nCOST","OT2\nCOST"]
[null,null,"FRINGE",null,null,null,{"$f":"IF(G535<=0,\"\",TEXT(WEEKDAY(G535),\"ddd\"))","v":"Wed"},{"$f":"IF(H535<=0,\"\",TEXT(WEEKDAY(H535),\"ddd\"))","v":"Thu"},"Fri","Sat","Sun","Mon","Tue","Wed","Thu","Fri","Sat","Sun","Mon","Tue","Wed"]
[null,"REG",{"$f":"IF(ISBLANK(A537),0,VLOOKUP(A537,'PAYROLL RECORD'!$B$8:$U$2005,18,FALSE))","v":0},{"$f":"IF(ISBLANK(A537),0,VLOOKUP(A537,'PAYROLL RECORD'!$B$8:$D$2005,3,FALSE))","v":0},null,null,null,null,null,null,null,null,null,null,null,null,null,null,null,null,null,{"$f":"SUM($G537:$U537)","v":0},null,null,{"$f":"IF(AND($M$5=\"A\",D537<>\"FT\"),C537*V537,0)+IF(AND($M$5=\"B\",D537<>\"FT\"),C537*V537,0)+IF(AND($M$5=\"AP\"),C537*V537,0)+IF($M$5>=\"C\",C537*V537)","v":0}]
[{"$f":"IF(ISBLANK(A537),\" \",VLOOKUP(A537,'PAYROLL RECORD'!$B$9:$C$10740,2,FALSE))","v":" "},"OT1",{"$f":"IF(ISBLANK(A537),0,VLOOKUP(A537,'PAYROLL RECORD'!$B$8:$U$2005,19,FALSE))","v":0},{"$f":"+D537","v":0},null,null,null,null,null,null,null,null,null,null,null,null,null,null,null,null,null,null,{"$f":"SUM(G538:U538)","v":0},null,null,{"$f":"W538*C538","v":0}]
[null,"OT2",{"$f":"IF(ISBLANK(A537),0,VLOOKUP(A537,'PAYROLL RECORD'!$B$8:$U$2005,20,FALSE))","v":0},{"$f":"+D538","v":0},null,null,null,null,null,null,null,null,null,null,null,null,null,null,null,null,null,null,null,{"$f":"SUM(G539:U539)","v":0},null,null,{"$f":"X539*C539","v":0}]
[null,null,null,null,{"$f":"IF(ISBLANK(A540),0,VLOOKUP(A540,'EQUIPMENT INVENTORY'!$B$7:$AK$1021,7,0))","v":0},{"$f":"IF(ISBLANK(A540),0,VLOOKUP(A540,'EQUIPMENT INVENTORY'!$B$7:$AK$1021,8,0))","v":0},null,null,null,null,null,null,null,null,null,null,null,null,null,null,null,{"$f":"SUM($G540:$U540)","v":0},null,null,{"$f":"V540*F540","v":0}]
[null,null,null,null,{"$f":"IF(ISBLANK(A541),0,VLOOKUP(A541,'EQUIPMENT INVENTORY'!$B$7:$AK$1021,7,0))","v":0},{"$f":"IF(ISBLANK(A541),0,VLOOKUP(A541,'EQUIPMENT INVENTORY'!$B$7:$AK$1021,8,0))","v":0},null,null,null,null,null,null,null,null,null,null,null,null,null,null,null,{"$f":"SUM($G541:$U541)","v":0},null,null,{"$f":"V541*F541","v":0}]
[null,null,null,null,{"$f":"IF(ISBLANK(A542),0,VLOOKUP(A542,'EQUIPMENT INVENTORY'!$B$7:$AK$1021,7,0))","v":0},{"$f":"IF(ISBLANK(A542),0,VLOOKUP(A542,'EQUIPMENT INVENTORY'!$B$7:$AK$1021,8,0))","v":0},null,null,null,null,null,null,null,null,null,null,null,null,null,null,null,{"$f":"SUM($G542:$U542)","v":0},null,null,{"$f":"V542*F542","v":0}]
[null,"REG",{"$f":"IF(ISBLANK(A543),0,VLOOKUP(A543,'PAYROLL RECORD'!$B$8:$U$2005,18,FALSE))","v":0},{"$f":"IF(ISBLANK(A543),0,VLOOKUP(A543,'PAYROLL RECORD'!$B$8:$D$2005,3,FALSE))","v":0},null,null,null,null,null,null,null,null,null,null,null,null,null,null,null,null,null,{"$f":"SUM($G543:$U543)","v":0},null,null,{"$f":"IF(AND($M$5=\"A\",D543<>\"FT\"),C543*V543,0)+IF(AND($M$5=\"B\",D543<>\"FT\"),C543*V543,0)+IF(AND($M$5=\"AP\"),C543*V543,0)+IF($M$5>=\"C\",C543*V543)","v":0}]
[{"$f":"IF(ISBLANK(A543),\" \",VLOOKUP(A543,'PAYROLL RECORD'!$B$9:$C$10740,2,FALSE))","v":" "},"OT1",{"$f":"IF(ISBLANK(A543),0,VLOOKUP(A543,'PAYROLL RECORD'!$B$8:$U$2005,19,FALSE))","v":0},{"$f":"+D543","v":0},null,null,null,null,null,null,null,null,null,null,null,null,null,null,null,null,null,null,{"$f":"SUM(G544:U544)","v":0},null,null,{"$f":"W544*C544","v":0}]
[null,"OT2",{"$f":"IF(ISBLANK(A543),0,VLOOKUP(A543,'PAYROLL RECORD'!$B$8:$U$2005,20,FALSE))","v":0},{"$f":"+D544","v":0},null,null,null,null,null,null,null,null,null,null,null,null,null,null,null,null,null,null,null,{"$f":"SUM(G545:U545)","v":0},null,null,{"$f":"X545*C545","v":0}]
[null,null,null,null,{"$f":"IF(ISBLANK(A546),0,VLOOKUP(A546,'EQUIPMENT INVENTORY'!$B$7:$AK$1021,7,0))","v":0},{"$f":"IF(ISBLANK(A546),0,VLOOKUP(A546,'EQUIPMENT INVENTORY'!$B$7:$AK$1021,8,0))","v":0},null,null,null,null,null,null,null,null,null,null,null,null,null,null,null,{"$f":"SUM($G546:$U546)","v":0},null,null,{"$f":"V546*F546","v":0}]
[null,null,null,null,{"$f":"IF(ISBLANK(A547),0,VLOOKUP(A547,'EQUIPMENT INVENTORY'!$B$7:$AK$1021,7,0))","v":0},{"$f":"IF(ISBLANK(A547),0,VLOOKUP(A547,'EQUIPMENT INVENTORY'!$B$7:$AK$1021,8,0))","v":0},null,null,null,null,null,null,null,null,null,null,null,null,null,null,null,{"$f":"SUM($G547:$U547)","v":0},null,null,{"$f":"V547*F547","v":0}]
[null,null,null,null,{"$f":"IF(ISBLANK(A548),0,VLOOKUP(A548,'EQUIPMENT INVENTORY'!$B$7:$AK$1021,7,0))","v":0},{"$f":"IF(ISBLANK(A548),0,VLOOKUP(A548,'EQUIPMENT INVENTORY'!$B$7:$AK$1021,8,0))","v":0},null,null,null,null,null,null,null,null,null,null,null,null,null,null,null,{"$f":"SUM($G548:$U548)","v":0},null,null,{"$f":"V548*F548","v":0}]
[null,"REG",{"$f":"IF(ISBLANK(A549),0,VLOOKUP(A549,'PAYROLL RECORD'!$B$8:$U$2005,18,FALSE))","v":0},{"$f":"IF(ISBLANK(A549),0,VLOOKUP(A549,'PAYROLL RECORD'!$B$8:$D$2005,3,FALSE))","v":0},null,null,null,null,null,null,null,null,null,null,null,null,null,null,null,null,null,{"$f":"SUM($G549:$U549)","v":0},null,null,{"$f":"IF(AND($M$5=\"A\",D549<>\"FT\"),C549*V549,0)+IF(AND($M$5=\"B\",D549<>\"FT\"),C549*V549,0)+IF(AND($M$5=\"AP\"),C549*V549,0)+IF($M$5>=\"C\",C549*V549)","v":0}]
[{"$f":"IF(ISBLANK(A549),\" \",VLOOKUP(A549,'PAYROLL RECORD'!$B$9:$C$10740,2,FALSE))","v":" "},"OT1",{"$f":"IF(ISBLANK(A549),0,VLOOKUP(A549,'PAYROLL RECORD'!$B$8:$U$2005,19,FALSE))","v":0},{"$f":"+D549","v":0},null,null,null,null,null,null,null,null,null,null,null,null,null,null,null,null,null,null,{"$f":"SUM(G550:U550)","v":0},null,null,{"$f":"W550*C550","v":0}]
[null,"OT2",{"$f":"IF(ISBLANK(A549),0,VLOOKUP(A549,'PAYROLL RECORD'!$B$8:$U$2005,20,FALSE))","v":0},{"$f":"+D550","v":0},null,null,null,null,null,null,null,null,null,null,null,null,null,null,null,null,null,null,null,{"$f":"SUM(G551:U551)","v":0},null,null,{"$f":"X551*C551","v":0}]
[null,null,null,null,{"$f":"IF(ISBLANK(A552),0,VLOOKUP(A552,'EQUIPMENT INVENTORY'!$B$7:$AK$1021,7,0))","v":0},{"$f":"IF(ISBLANK(A552),0,VLOOKUP(A552,'EQUIPMENT INVENTORY'!$B$7:$AK$1021,8,0))","v":0},null,null,null,null,null,null,null,null,null,null,null,null,null,null,null,{"$f":"SUM($G552:$U552)","v":0},null,null,{"$f":"V552*F552","v":0}]
[null,null,null,null,{"$f":"IF(ISBLANK(A553),0,VLOOKUP(A553,'EQUIPMENT INVENTORY'!$B$7:$AK$1021,7,0))","v":0},{"$f":"IF(ISBLANK(A553),0,VLOOKUP(A553,'EQUIPMENT INVENTORY'!$B$7:$AK$1021,8,0))","v":0},null,null,null,null,null,null,null,null,null,null,null,null,null,null,null,{"$f":"SUM($G553:$U553)","v":0},null,null,{"$f":"V553*F553","v":0}]
[null,null,null,null,{"$f":"IF(ISBLANK(A554),0,VLOOKUP(A554,'EQUIPMENT INVENTORY'!$B$7:$AK$1021,7,0))","v":0},{"$f":"IF(ISBLANK(A554),0,VLOOKUP(A554,'EQUIPMENT INVENTORY'!$B$7:$AK$1021,8,0))","v":0},null,null,null,null,null,null,null,null,null,null,null,null,null,null,null,{"$f":"SUM($G554:$U554)","v":0},null,null,{"$f":"V554*F554","v":0}]
[null,"REG",{"$f":"IF(ISBLANK(A555),0,VLOOKUP(A555,'PAYROLL RECORD'!$B$8:$U$2005,18,FALSE))","v":0},{"$f":"IF(ISBLANK(A555),0,VLOOKUP(A555,'PAYROLL RECORD'!$B$8:$D$2005,3,FALSE))","v":0},null,null,null,null,null,null,null,null,null,null,null,null,null,null,null,null,null,{"$f":"SUM($G555:$U555)","v":0},null,null,{"$f":"IF(AND($M$5=\"A\",D555<>\"FT\"),C555*V555,0)+IF(AND($M$5=\"B\",D555<>\"FT\"),C555*V555,0)+IF(AND($M$5=\"AP\"),C555*V555,0)+IF($M$5>=\"C\",C555*V555)","v":0}]
[{"$f":"IF(ISBLANK(A555),\" \",VLOOKUP(A555,'PAYROLL RECORD'!$B$9:$C$10740,2,FALSE))","v":" "},"OT1",{"$f":"IF(ISBLANK(A555),0,VLOOKUP(A555,'PAYROLL RECORD'!$B$8:$U$2005,19,FALSE))","v":0},{"$f":"+D555","v":0},null,null,null,null,null,null,null,null,null,null,null,null,null,null,null,null,null,null,{"$f":"SUM(G556:U556)","v":0},null,null,{"$f":"W556*C556","v":0}]
[null,"OT2",{"$f":"IF(ISBLANK(A555),0,VLOOKUP(A555,'PAYROLL RECORD'!$B$8:$U$2005,20,FALSE))","v":0},{"$f":"+D556","v":0},null,null,null,null,null,null,null,null,null,null,null,null,null,null,null,null,null,null,null,{"$f":"SUM(G557:U557)","v":0},null,null,{"$f":"X557*C557","v":0}]
[null,null,null,null,{"$f":"IF(ISBLANK(A558),0,VLOOKUP(A558,'EQUIPMENT INVENTORY'!$B$7:$AK$1021,7,0))","v":0},{"$f":"IF(ISBLANK(A558),0,VLOOKUP(A558,'EQUIPMENT INVENTORY'!$B$7:$AK$1021,8,0))","v":0},null,null,null,null,null,null,null,null,null,null,null,null,null,null,null,{"$f":"SUM($G558:$U558)","v":0},null,null,{"$f":"V558*F558","v":0}]
[null,null,null,null,{"$f":"IF(ISBLANK(A559),0,VLOOKUP(A559,'EQUIPMENT INVENTORY'!$B$7:$AK$1021,7,0))","v":0},{"$f":"IF(ISBLANK(A559),0,VLOOKUP(A559,'EQUIPMENT INVENTORY'!$B$7:$AK$1021,8,0))","v":0},null,null,null,null,null,null,null,null,null,null,null,null,null,null,null,{"$f":"SUM($G559:$U559)","v":0},null,null,{"$f":"V559*F559","v":0}]
[null,null,null,null,{"$f":"IF(ISBLANK(A560),0,VLOOKUP(A560,'EQUIPMENT INVENTORY'!$B$7:$AK$1021,7,0))","v":0},{"$f":"IF(ISBLANK(A560),0,VLOOKUP(A560,'EQUIPMENT INVENTORY'!$B$7:$AK$1021,8,0))","v":0},null,null,null,null,null,null,null,null,null,null,null,null,null,null,null,{"$f":"SUM($G560:$U560)","v":0},null,null,{"$f":"V560*F560","v":0}]
[null,"REG",{"$f":"IF(ISBLANK(A561),0,VLOOKUP(A561,'PAYROLL RECORD'!$B$8:$U$2005,18,FALSE))","v":0},{"$f":"IF(ISBLANK(A561),0,VLOOKUP(A561,'PAYROLL RECORD'!$B$8:$D$2005,3,FALSE))","v":0},null,null,null,null,null,null,null,null,null,null,null,null,null,null,null,null,null,{"$f":"SUM($G561:$U561)","v":0},null,null,{"$f":"IF(AND($M$5=\"A\",D561<>\"FT\"),C561*V561,0)+IF(AND($M$5=\"B\",D561<>\"FT\"),C561*V561,0)+IF(AND($M$5=\"AP\"),C561*V561,0)+IF($M$5>=\"C\",C561*V561)","v":0}]
[{"$f":"IF(ISBLANK(A561),\" \",VLOOKUP(A561,'PAYROLL RECORD'!$B$9:$C$10740,2,FALSE))","v":" "},"OT1",{"$f":"IF(ISBLANK(A561),0,VLOOKUP(A561,'PAYROLL RECORD'!$B$8:$U$2005,19,FALSE))","v":0},{"$f":"+D561","v":0},null,null,null,null,null,null,null,null,null,null,null,null,null,null,null,null,null,null,{"$f":"SUM(G562:U562)","v":0},null,null,{"$f":"W562*C562","v":0}]
[null,"OT2",{"$f":"IF(ISBLANK(A561),0,VLOOKUP(A561,'PAYROLL RECORD'!$B$8:$U$2005,20,FALSE))","v":0},{"$f":"+D562","v":0},null,null,null,null,null,null,null,null,null,null,null,null,null,null,null,null,null,null,null,{"$f":"SUM(G563:U563)","v":0},null,null,{"$f":"X563*C563","v":0}]
[null,null,null,null,{"$f":"IF(ISBLANK(A564),0,VLOOKUP(A564,'EQUIPMENT INVENTORY'!$B$7:$AK$1021,7,0))","v":0},{"$f":"IF(ISBLANK(A564),0,VLOOKUP(A564,'EQUIPMENT INVENTORY'!$B$7:$AK$1021,8,0))","v":0},null,null,null,null,null,null,null,null,null,null,null,null,null,null,null,{"$f":"SUM($G564:$U564)","v":0},null,null,{"$f":"V564*F564","v":0}]
[null,null,null,null,{"$f":"IF(ISBLANK(A565),0,VLOOKUP(A565,'EQUIPMENT INVENTORY'!$B$7:$AK$1021,7,0))","v":0},{"$f":"IF(ISBLANK(A565),0,VLOOKUP(A565,'EQUIPMENT INVENTORY'!$B$7:$AK$1021,8,0))","v":0},null,null,null,null,null,null,null,null,null,null,null,null,null,null,null,{"$f":"SUM($G565:$U565)","v":0},null,null,{"$f":"V565*F565","v":0}]
[null,null,null,null,{"$f":"IF(ISBLANK(A566),0,VLOOKUP(A566,'EQUIPMENT INVENTORY'!$B$7:$AK$1021,7,0))","v":0},{"$f":"IF(ISBLANK(A566),0,VLOOKUP(A566,'EQUIPMENT INVENTORY'!$B$7:$AK$1021,8,0))","v":0},null,null,null,null,null,null,null,null,null,null,null,null,null,null,null,{"$f":"SUM($G566:$U566)","v":0},null,null,{"$f":"V566*F566","v":0}]
[null,"REG",{"$f":"IF(ISBLANK(A567),0,VLOOKUP(A567,'PAYROLL RECORD'!$B$8:$U$2005,18,FALSE))","v":0},{"$f":"IF(ISBLANK(A567),0,VLOOKUP(A567,'PAYROLL RECORD'!$B$8:$D$2005,3,FALSE))","v":0},null,null,null,null,null,null,null,null,null,null,null,null,null,null,null,null,null,{"$f":"SUM($G567:$U567)","v":0},null,null,{"$f":"IF(AND($M$5=\"A\",D567<>\"FT\"),C567*V567,0)+IF(AND($M$5=\"B\",D567<>\"FT\"),C567*V567,0)+IF(AND($M$5=\"AP\"),C567*V567,0)+IF($M$5>=\"C\",C567*V567)","v":0}]
[{"$f":"IF(ISBLANK(A567),\" \",VLOOKUP(A567,'PAYROLL RECORD'!$B$9:$C$10740,2,FALSE))","v":" "},"OT1",{"$f":"IF(ISBLANK(A567),0,VLOOKUP(A567,'PAYROLL RECORD'!$B$8:$U$2005,19,FALSE))","v":0},{"$f":"+D567","v":0},null,null,null,null,null,null,null,null,null,null,null,null,null,null,null,null,null,null,{"$f":"SUM(G568:U568)","v":0},null,null,{"$f":"W568*C568","v":0}]
[null,"OT2",{"$f":"IF(ISBLANK(A567),0,VLOOKUP(A567,'PAYROLL RECORD'!$B$8:$U$2005,20,FALSE))","v":0},{"$f":"+D568","v":0},null,null,null,null,null,null,null,null,null,null,null,null,null,null,null,null,null,null,null,{"$f":"SUM(G569:U569)","v":0},null,null,{"$f":"X569*C569","v":0}]
[null,null,null,null,{"$f":"IF(ISBLANK(A570),0,VLOOKUP(A570,'EQUIPMENT INVENTORY'!$B$7:$AK$1021,7,0))","v":0},{"$f":"IF(ISBLANK(A570),0,VLOOKUP(A570,'EQUIPMENT INVENTORY'!$B$7:$AK$1021,8,0))","v":0},null,null,null,null,null,null,null,null,null,null,null,null,null,null,null,{"$f":"SUM($G570:$U570)","v":0},null,null,{"$f":"V570*F570","v":0}]
[null,null,null,null,{"$f":"IF(ISBLANK(A571),0,VLOOKUP(A571,'EQUIPMENT INVENTORY'!$B$7:$AK$1021,7,0))","v":0},{"$f":"IF(ISBLANK(A571),0,VLOOKUP(A571,'EQUIPMENT INVENTORY'!$B$7:$AK$1021,8,0))","v":0},null,null,null,null,null,null,null,null,null,null,null,null,null,null,null,{"$f":"SUM($G571:$U571)","v":0},null,null,{"$f":"V571*F571","v":0}]
[null,null,null,null,{"$f":"IF(ISBLANK(A572),0,VLOOKUP(A572,'EQUIPMENT INVENTORY'!$B$7:$AK$1021,7,0))","v":0},{"$f":"IF(ISBLANK(A572),0,VLOOKUP(A572,'EQUIPMENT INVENTORY'!$B$7:$AK$1021,8,0))","v":0},null,null,null,null,null,null,null,null,null,null,null,null,null,null,null,{"$f":"SUM($G572:$U572)","v":0},null,null,{"$f":"V572*F572","v":0}]
[null,"REG",{"$f":"IF(ISBLANK(A573),0,VLOOKUP(A573,'PAYROLL RECORD'!$B$8:$U$2005,18,FALSE))","v":0},{"$f":"IF(ISBLANK(A573),0,VLOOKUP(A573,'PAYROLL RECORD'!$B$8:$D$2005,3,FALSE))","v":0},null,null,null,null,null,null,null,null,null,null,null,null,null,null,null,null,null,{"$f":"SUM($G573:$U573)","v":0},null,null,{"$f":"IF(AND($M$5=\"A\",D573<>\"FT\"),C573*V573,0)+IF(AND($M$5=\"B\",D573<>\"FT\"),C573*V573,0)+IF(AND($M$5=\"AP\"),C573*V573,0)+IF($M$5>=\"C\",C573*V573)","v":0}]
[{"$f":"IF(ISBLANK(A573),\" \",VLOOKUP(A573,'PAYROLL RECORD'!$B$9:$C$10740,2,FALSE))","v":" "},"OT1",{"$f":"IF(ISBLANK(A573),0,VLOOKUP(A573,'PAYROLL RECORD'!$B$8:$U$2005,19,FALSE))","v":0},{"$f":"+D573","v":0},null,null,null,null,null,null,null,null,null,null,null,null,null,null,null,null,null,null,{"$f":"SUM(G574:U574)","v":0},null,null,{"$f":"W574*C574","v":0}]
[null,"OT2",{"$f":"IF(ISBLANK(A573),0,VLOOKUP(A573,'PAYROLL RECORD'!$B$8:$U$2005,20,FALSE))","v":0},{"$f":"+D574","v":0},null,null,null,null,null,null,null,null,null,null,null,null,null,null,null,null,null,null,null,{"$f":"SUM(G575:U575)","v":0},null,null,{"$f":"X575*C575","v":0}]
[null,null,null,null,{"$f":"IF(ISBLANK(A576),0,VLOOKUP(A576,'EQUIPMENT INVENTORY'!$B$7:$AK$1021,7,0))","v":0},{"$f":"IF(ISBLANK(A576),0,VLOOKUP(A576,'EQUIPMENT INVENTORY'!$B$7:$AK$1021,8,0))","v":0},null,null,null,null,null,null,null,null,null,null,null,null,null,null,null,{"$f":"SUM($G576:$U576)","v":0},null,null,{"$f":"V576*F576","v":0}]
[null,null,null,null,{"$f":"IF(ISBLANK(A577),0,VLOOKUP(A577,'EQUIPMENT INVENTORY'!$B$7:$AK$1021,7,0))","v":0},{"$f":"IF(ISBLANK(A577),0,VLOOKUP(A577,'EQUIPMENT INVENTORY'!$B$7:$AK$1021,8,0))","v":0},null,null,null,null,null,null,null,null,null,null,null,null,null,null,null,{"$f":"SUM($G577:$U577)","v":0},null,null,{"$f":"V577*F577","v":0}]
[null,null,null,null,{"$f":"IF(ISBLANK(A578),0,VLOOKUP(A578,'EQUIPMENT INVENTORY'!$B$7:$AK$1021,7,0))","v":0},{"$f":"IF(ISBLANK(A578),0,VLOOKUP(A578,'EQUIPMENT INVENTORY'!$B$7:$AK$1021,8,0))","v":0},null,null,null,null,null,null,null,null,null,null,null,null,null,null,null,{"$f":"SUM($G578:$U578)","v":0},null,null,{"$f":"V578*F578","v":0}]
[null,"REG",{"$f":"IF(ISBLANK(A579),0,VLOOKUP(A579,'PAYROLL RECORD'!$B$8:$U$2005,18,FALSE))","v":0},{"$f":"IF(ISBLANK(A579),0,VLOOKUP(A579,'PAYROLL RECORD'!$B$8:$D$2005,3,FALSE))","v":0},null,null,null,null,null,null,null,null,null,null,null,null,null,null,null,null,null,{"$f":"SUM($G579:$U579)","v":0},null,null,{"$f":"IF(AND($M$5=\"A\",D579<>\"FT\"),C579*V579,0)+IF(AND($M$5=\"B\",D579<>\"FT\"),C579*V579,0)+IF(AND($M$5=\"AP\"),C579*V579,0)+IF($M$5>=\"C\",C579*V579)","v":0}]
[{"$f":"IF(ISBLANK(A579),\" \",VLOOKUP(A579,'PAYROLL RECORD'!$B$9:$C$10740,2,FALSE))","v":" "},"OT1",{"$f":"IF(ISBLANK(A579),0,VLOOKUP(A579,'PAYROLL RECORD'!$B$8:$U$2005,19,FALSE))","v":0},{"$f":"+D579","v":0},null,null,null,null,null,null,null,null,null,null,null,null,null,null,null,null,null,null,{"$f":"SUM(G580:U580)","v":0},null,null,{"$f":"W580*C580","v":0}]
[null,"OT2",{"$f":"IF(ISBLANK(A579),0,VLOOKUP(A579,'PAYROLL RECORD'!$B$8:$U$2005,20,FALSE))","v":0},{"$f":"+D580","v":0},null,null,null,null,null,null,null,null,null,null,null,null,null,null,null,null,null,null,null,{"$f":"SUM(G581:U581)","v":0},null,null,{"$f":"X581*C581","v":0}]
[null,null,null,null,{"$f":"IF(ISBLANK(A582),0,VLOOKUP(A582,'EQUIPMENT INVENTORY'!$B$7:$AK$1021,7,0))","v":0},{"$f":"IF(ISBLANK(A582),0,VLOOKUP(A582,'EQUIPMENT INVENTORY'!$B$7:$AK$1021,8,0))","v":0},null,null,null,null,null,null,null,null,null,null,null,null,null,null,null,{"$f":"SUM($G582:$U582)","v":0},null,null,{"$f":"V582*F582","v":0}]
[null,null,null,null,{"$f":"IF(ISBLANK(A583),0,VLOOKUP(A583,'EQUIPMENT INVENTORY'!$B$7:$AK$1021,7,0))","v":0},{"$f":"IF(ISBLANK(A583),0,VLOOKUP(A583,'EQUIPMENT INVENTORY'!$B$7:$AK$1021,8,0))","v":0},null,null,null,null,null,null,null,null,null,null,null,null,null,null,null,{"$f":"SUM($G583:$U583)","v":0},null,null,{"$f":"V583*F583","v":0}]
[null,null,null,null,{"$f":"IF(ISBLANK(A584),0,VLOOKUP(A584,'EQUIPMENT INVENTORY'!$B$7:$AK$1021,7,0))","v":0},{"$f":"IF(ISBLANK(A584),0,VLOOKUP(A584,'EQUIPMENT INVENTORY'!$B$7:$AK$1021,8,0))","v":0},null,null,null,null,null,null,null,null,null,null,null,null,null,null,null,{"$f":"SUM($G584:$U584)","v":0},null,null,{"$f":"V584*F584","v":0},null,null,"Reg hrs","ot1 hrs","ot2 hrs","equip hrs"]
[null,null,null,null,null,null,null,null,null,null,null,null,null,null,null,null,"LABOR - Page Total",null,null,null,null,{"$f":"V537+V543+V549+V561+V567+V579+V555+V573","v":0},{"$f":"SUM(W537:W584)","v":0},{"$f":"SUM(X537:X584)","v":0},{"$f":"Y537+Y543+Y549+Y561+Y567+Y579+Y555+Y573","v":0},{"$f":"SUM(Z538:Z584)","v":0},{"$f":"SUM(AA538:AA584)","v":0},{"$f":"V585","v":0},{"$f":"W585","v":0},{"$f":"X585","v":0},{"$f":"V586","v":0},{"$f":"Y585","v":0},{"$f":"Z585","v":0},{"$f":"AA585","v":0},{"$f":"Y586","v":0}]
[null,null,null,null,null,null,null,null,null,null,null,null,null,null,null,null,"EQUIPMENT - Page Total",null,null,null,null,{"$f":"V540+V541+V542+V546+V547+V548+V552+V553+V554+V558+V559+V560+V564+V565+V566+V570+V571+V572+V582+V583+V584+V576+V577+V578","v":0},null,null,{"$f":"Y540+Y541+Y542+Y546+Y547+Y548+Y552+Y553+Y554+Y558+Y559+Y560+Y564+Y565+Y566+Y570+Y571+Y572+Y582+Y583+Y584+Y576+Y577+Y578","v":0}]
[null,null,null,null,null,null,null,null,null,null,null,null,null,null,null,null,"LABOR - Grand Total",null,null,null,null,{"$f":"SUM($AB:$AB)","v":0},{"$f":"SUM($AC:$AC)","v":0},{"$f":"SUM($AD:$AD)","v":0},{"$f":"SUM(AF:AF)","v":0},{"$f":"SUM($AG:$AG)","v":0},{"$f":"SUM($AH:$AH)","v":0}]
[null,null,null,null,null,null,null,null,null,null,null,null,null,null,null,null,"EQUIPMENT - Grand Total",null,null,null,null,{"$f":"SUM($AE:$AE)","v":0},null,null,{"$f":"SUM($AI:$AI)","v":0}]
[]
[]
["COST SUMMARY FOR LABOR/EQUIPMENT"]
["APPLICANT - FIPS#",null,null,null,"DISASTER #:",null,null,"PROJECT #:",null,null,null,null,"FEMA CAT A-G",null,null,"EMMIE #",null,null,null,"Work Completion Date"]
[{"$f":"IF('PAYROLL RECORD'!$B$5=\"START HERE\",\"\",'PAYROLL RECORD'!$B$5)","v":0},null,null,null,{"$f":"IF('PAYROLL RECORD'!$F$5=\"\",\"\",'PAYROLL RECORD'!$F$5)","v":""},null,null,{"$f":"'PAYROLL RECORD'!I592:L592","v":{"$error":"#VALUE!"}},null,null,null,null,{"$f":"IF('PAYROLL RECORD'!$M$5=\"CATEGORY\",\"\",'PAYROLL RECORD'!$M$5)","v":0},null,null,{"$f":"IF('PAYROLL RECORD'!$O$5=\"EMMIE #\",\"\",'PAYROLL RECORD'!$O$5)","v":0},null,null,null,{"$f":"IF('PAYROLL RECORD'!$Q$5=\"DATE\",\"\",'PAYROLL RECORD'!$Q$5)","v":"00:00:00"}]
["Employee/\nEquipment",null,"RATE w/","STATUS","COST CODE","RATE","2018-10-31",{"$f":"+G594+1","v":"2018-11-01"},{"$f":"H594+1","v":"2018-11-02"},"2018-11-03","2018-11-04","2018-11-05","2018-11-06","2018-11-07","2018-11-08","2018-11-09","2018-11-10","2018-11-11","2018-11-12","2018-11-13","2018-11-14","REG","OT1","OT2","REG TIME\nCOST","OT1\nCOST","OT2\nCOST"]
[null,null,"FRINGE",null,null,null,{"$f":"IF(G594<=0,\"\",TEXT(WEEKDAY(G594),\"ddd\"))","v":"Wed"},{"$f":"IF(H594<=0,\"\",TEXT(WEEKDAY(H594),\"ddd\"))","v":"Thu"},"Fri","Sat","Sun","Mon","Tue","Wed","Thu","Fri","Sat","Sun","Mon","Tue","Wed"]
[null,"REG",{"$f":"IF(ISBLANK(A596),0,VLOOKUP(A596,'PAYROLL RECORD'!$B$8:$U$2005,18,FALSE))","v":0},{"$f":"IF(ISBLANK(A596),0,VLOOKUP(A596,'PAYROLL RECORD'!$B$8:$D$2005,3,FALSE))","v":0},null,null,null,null,null,null,null,null,null,null,null,null,null,null,null,null,null,{"$f":"SUM($G596:$U596)","v":0},null,null,{"$f":"IF(AND($M$5=\"A\",D596<>\"FT\"),C596*V596,0)+IF(AND($M$5=\"B\",D596<>\"FT\"),C596*V596,0)+IF(AND($M$5=\"AP\"),C596*V596,0)+IF($M$5>=\"C\",C596*V596)","v":0}]
[{"$f":"IF(ISBLANK(A596),\" \",VLOOKUP(A596,'PAYROLL RECORD'!$B$9:$C$10740,2,FALSE))","v":" "},"OT1",{"$f":"IF(ISBLANK(A596),0,VLOOKUP(A596,'PAYROLL RECORD'!$B$8:$U$2005,19,FALSE))","v":0},{"$f":"+D596","v":0},null,null,null,null,null,null,null,null,null,null,null,null,null,null,null,null,null,null,{"$f":"SUM(G597:U597)","v":0},null,null,{"$f":"W597*C597","v":0}]
[null,"OT2",{"$f":"IF(ISBLANK(A596),0,VLOOKUP(A596,'PAYROLL RECORD'!$B$8:$U$2005,20,FALSE))","v":0},{"$f":"+D597","v":0},null,null,null,null,null,null,null,null,null,null,null,null,null,null,null,null,null,null,null,{"$f":"SUM(G598:U598)","v":0},null,null,{"$f":"X598*C598","v":0}]
[null,null,null,null,{"$f":"IF(ISBLANK(A599),0,VLOOKUP(A599,'EQUIPMENT INVENTORY'!$B$7:$AK$1021,7,0))","v":0},{"$f":"IF(ISBLANK(A599),0,VLOOKUP(A599,'EQUIPMENT INVENTORY'!$B$7:$AK$1021,8,0))","v":0},null,null,null,null,null,null,null,null,null,null,null,null,null,null,null,{"$f":"SUM($G599:$U599)","v":0},null,null,{"$f":"V599*F599","v":0}]
[null,null,null,null,{"$f":"IF(ISBLANK(A600),0,VLOOKUP(A600,'EQUIPMENT INVENTORY'!$B$7:$AK$1021,7,0))","v":0},{"$f":"IF(ISBLANK(A600),0,VLOOKUP(A600,'EQUIPMENT INVENTORY'!$B$7:$AK$1021,8,0))","v":0},null,null,null,null,null,null,null,null,null,null,null,null,null,null,null,{"$f":"SUM($G600:$U600)","v":0},null,null,{"$f":"V600*F600","v":0}]
[null,null,null,null,{"$f":"IF(ISBLANK(A601),0,VLOOKUP(A601,'EQUIPMENT INVENTORY'!$B$7:$AK$1021,7,0))","v":0},{"$f":"IF(ISBLANK(A601),0,VLOOKUP(A601,'EQUIPMENT INVENTORY'!$B$7:$AK$1021,8,0))","v":0},null,null,null,null,null,null,null,null,null,null,null,null,null,null,null,{"$f":"SUM($G601:$U601)","v":0},null,null,{"$f":"V601*F601","v":0}]
[null,"REG",{"$f":"IF(ISBLANK(A602),0,VLOOKUP(A602,'PAYROLL RECORD'!$B$8:$U$2005,18,FALSE))","v":0},{"$f":"IF(ISBLANK(A602),0,VLOOKUP(A602,'PAYROLL RECORD'!$B$8:$D$2005,3,FALSE))","v":0},null,null,null,null,null,null,null,null,null,null,null,null,null,null,null,null,null,{"$f":"SUM($G602:$U602)","v":0},null,null,{"$f":"IF(AND($M$5=\"A\",D602<>\"FT\"),C602*V602,0)+IF(AND($M$5=\"B\",D602<>\"FT\"),C602*V602,0)+IF(AND($M$5=\"AP\"),C602*V602,0)+IF($M$5>=\"C\",C602*V602)","v":0}]
[{"$f":"IF(ISBLANK(A602),\" \",VLOOKUP(A602,'PAYROLL RECORD'!$B$9:$C$10740,2,FALSE))","v":" "},"OT1",{"$f":"IF(ISBLANK(A602),0,VLOOKUP(A602,'PAYROLL RECORD'!$B$8:$U$2005,19,FALSE))","v":0},{"$f":"+D602","v":0},null,null,null,null,null,null,null,null,null,null,null,null,null,null,null,null,null,null,{"$f":"SUM(G603:U603)","v":0},null,null,{"$f":"W603*C603","v":0}]
[null,"OT2",{"$f":"IF(ISBLANK(A602),0,VLOOKUP(A602,'PAYROLL RECORD'!$B$8:$U$2005,20,FALSE))","v":0},{"$f":"+D603","v":0},null,null,null,null,null,null,null,null,null,null,null,null,null,null,null,null,null,null,null,{"$f":"SUM(G604:U604)","v":0},null,null,{"$f":"X604*C604","v":0}]
[null,null,null,null,{"$f":"IF(ISBLANK(A605),0,VLOOKUP(A605,'EQUIPMENT INVENTORY'!$B$7:$AK$1021,7,0))","v":0},{"$f":"IF(ISBLANK(A605),0,VLOOKUP(A605,'EQUIPMENT INVENTORY'!$B$7:$AK$1021,8,0))","v":0},null,null,null,null,null,null,null,null,null,null,null,null,null,null,null,{"$f":"SUM($G605:$U605)","v":0},null,null,{"$f":"V605*F605","v":0}]
[null,null,null,null,{"$f":"IF(ISBLANK(A606),0,VLOOKUP(A606,'EQUIPMENT INVENTORY'!$B$7:$AK$1021,7,0))","v":0},{"$f":"IF(ISBLANK(A606),0,VLOOKUP(A606,'EQUIPMENT INVENTORY'!$B$7:$AK$1021,8,0))","v":0},null,null,null,null,null,null,null,null,null,null,null,null,null,null,null,{"$f":"SUM($G606:$U606)","v":0},null,null,{"$f":"V606*F606","v":0}]
[null,null,null,null,{"$f":"IF(ISBLANK(A607),0,VLOOKUP(A607,'EQUIPMENT INVENTORY'!$B$7:$AK$1021,7,0))","v":0},{"$f":"IF(ISBLANK(A607),0,VLOOKUP(A607,'EQUIPMENT INVENTORY'!$B$7:$AK$1021,8,0))","v":0},null,null,null,null,null,null,null,null,null,null,null,null,null,null,null,{"$f":"SUM($G607:$U607)","v":0},null,null,{"$f":"V607*F607","v":0}]
[null,"REG",{"$f":"IF(ISBLANK(A608),0,VLOOKUP(A608,'PAYROLL RECORD'!$B$8:$U$2005,18,FALSE))","v":0},{"$f":"IF(ISBLANK(A608),0,VLOOKUP(A608,'PAYROLL RECORD'!$B$8:$D$2005,3,FALSE))","v":0},null,null,null,null,null,null,null,null,null,null,null,null,null,null,null,null,null,{"$f":"SUM($G608:$U608)","v":0},null,null,{"$f":"IF(AND($M$5=\"A\",D608<>\"FT\"),C608*V608,0)+IF(AND($M$5=\"B\",D608<>\"FT\"),C608*V608,0)+IF(AND($M$5=\"AP\"),C608*V608,0)+IF($M$5>=\"C\",C608*V608)","v":0}]
[{"$f":"IF(ISBLANK(A608),\" \",VLOOKUP(A608,'PAYROLL RECORD'!$B$9:$C$10740,2,FALSE))","v":" "},"OT1",{"$f":"IF(ISBLANK(A608),0,VLOOKUP(A608,'PAYROLL RECORD'!$B$8:$U$2005,19,FALSE))","v":0},{"$f":"+D608","v":0},null,null,null,null,null,null,null,null,null,null,null,null,null,null,null,null,null,null,{"$f":"SUM(G609:U609)","v":0},null,null,{"$f":"W609*C609","v":0}]
[null,"OT2",{"$f":"IF(ISBLANK(A608),0,VLOOKUP(A608,'PAYROLL RECORD'!$B$8:$U$2005,20,FALSE))","v":0},{"$f":"+D609","v":0},null,null,null,null,null,null,null,null,null,null,null,null,null,null,null,null,null,null,null,{"$f":"SUM(G610:U610)","v":0},null,null,{"$f":"X610*C610","v":0}]
[null,null,null,null,{"$f":"IF(ISBLANK(A611),0,VLOOKUP(A611,'EQUIPMENT INVENTORY'!$B$7:$AK$1021,7,0))","v":0},{"$f":"IF(ISBLANK(A611),0,VLOOKUP(A611,'EQUIPMENT INVENTORY'!$B$7:$AK$1021,8,0))","v":0},null,null,null,null,null,null,null,null,null,null,null,null,null,null,null,{"$f":"SUM($G611:$U611)","v":0},null,null,{"$f":"V611*F611","v":0}]
[null,null,null,null,{"$f":"IF(ISBLANK(A612),0,VLOOKUP(A612,'EQUIPMENT INVENTORY'!$B$7:$AK$1021,7,0))","v":0},{"$f":"IF(ISBLANK(A612),0,VLOOKUP(A612,'EQUIPMENT INVENTORY'!$B$7:$AK$1021,8,0))","v":0},null,null,null,null,null,null,null,null,null,null,null,null,null,null,null,{"$f":"SUM($G612:$U612)","v":0},null,null,{"$f":"V612*F612","v":0}]
[null,null,null,null,{"$f":"IF(ISBLANK(A613),0,VLOOKUP(A613,'EQUIPMENT INVENTORY'!$B$7:$AK$1021,7,0))","v":0},{"$f":"IF(ISBLANK(A613),0,VLOOKUP(A613,'EQUIPMENT INVENTORY'!$B$7:$AK$1021,8,0))","v":0},null,null,null,null,null,null,null,null,null,null,null,null,null,null,null,{"$f":"SUM($G613:$U613)","v":0},null,null,{"$f":"V613*F613","v":0}]
[null,"REG",{"$f":"IF(ISBLANK(A614),0,VLOOKUP(A614,'PAYROLL RECORD'!$B$8:$U$2005,18,FALSE))","v":0},{"$f":"IF(ISBLANK(A614),0,VLOOKUP(A614,'PAYROLL RECORD'!$B$8:$D$2005,3,FALSE))","v":0},null,null,null,null,null,null,null,null,null,null,null,null,null,null,null,null,null,{"$f":"SUM($G614:$U614)","v":0},null,null,{"$f":"IF(AND($M$5=\"A\",D614<>\"FT\"),C614*V614,0)+IF(AND($M$5=\"B\",D614<>\"FT\"),C614*V614,0)+IF(AND($M$5=\"AP\"),C614*V614,0)+IF($M$5>=\"C\",C614*V614)","v":0}]
[{"$f":"IF(ISBLANK(A614),\" \",VLOOKUP(A614,'PAYROLL RECORD'!$B$9:$C$10740,2,FALSE))","v":" "},"OT1",{"$f":"IF(ISBLANK(A614),0,VLOOKUP(A614,'PAYROLL RECORD'!$B$8:$U$2005,19,FALSE))","v":0},{"$f":"+D614","v":0},null,null,null,null,null,null,null,null,null,null,null,null,null,null,null,null,null,null,{"$f":"SUM(G615:U615)","v":0},null,null,{"$f":"W615*C615","v":0}]
[null,"OT2",{"$f":"IF(ISBLANK(A614),0,VLOOKUP(A614,'PAYROLL RECORD'!$B$8:$U$2005,20,FALSE))","v":0},{"$f":"+D615","v":0},null,null,null,null,null,null,null,null,null,null,null,null,null,null,null,null,null,null,null,{"$f":"SUM(G616:U616)","v":0},null,null,{"$f":"X616*C616","v":0}]
[null,null,null,null,{"$f":"IF(ISBLANK(A617),0,VLOOKUP(A617,'EQUIPMENT INVENTORY'!$B$7:$AK$1021,7,0))","v":0},{"$f":"IF(ISBLANK(A617),0,VLOOKUP(A617,'EQUIPMENT INVENTORY'!$B$7:$AK$1021,8,0))","v":0},null,null,null,null,null,null,null,null,null,null,null,null,null,null,null,{"$f":"SUM($G617:$U617)","v":0},null,null,{"$f":"V617*F617","v":0}]
[null,null,null,null,{"$f":"IF(ISBLANK(A618),0,VLOOKUP(A618,'EQUIPMENT INVENTORY'!$B$7:$AK$1021,7,0))","v":0},{"$f":"IF(ISBLANK(A618),0,VLOOKUP(A618,'EQUIPMENT INVENTORY'!$B$7:$AK$1021,8,0))","v":0},null,null,null,null,null,null,null,null,null,null,null,null,null,null,null,{"$f":"SUM($G618:$U618)","v":0},null,null,{"$f":"V618*F618","v":0}]
[null,null,null,null,{"$f":"IF(ISBLANK(A619),0,VLOOKUP(A619,'EQUIPMENT INVENTORY'!$B$7:$AK$1021,7,0))","v":0},{"$f":"IF(ISBLANK(A619),0,VLOOKUP(A619,'EQUIPMENT INVENTORY'!$B$7:$AK$1021,8,0))","v":0},null,null,null,null,null,null,null,null,null,null,null,null,null,null,null,{"$f":"SUM($G619:$U619)","v":0},null,null,{"$f":"V619*F619","v":0}]
[null,"REG",{"$f":"IF(ISBLANK(A620),0,VLOOKUP(A620,'PAYROLL RECORD'!$B$8:$U$2005,18,FALSE))","v":0},{"$f":"IF(ISBLANK(A620),0,VLOOKUP(A620,'PAYROLL RECORD'!$B$8:$D$2005,3,FALSE))","v":0},null,null,null,null,null,null,null,null,null,null,null,null,null,null,null,null,null,{"$f":"SUM($G620:$U620)","v":0},null,null,{"$f":"IF(AND($M$5=\"A\",D620<>\"FT\"),C620*V620,0)+IF(AND($M$5=\"B\",D620<>\"FT\"),C620*V620,0)+IF(AND($M$5=\"AP\"),C620*V620,0)+IF($M$5>=\"C\",C620*V620)","v":0}]
[{"$f":"IF(ISBLANK(A620),\" \",VLOOKUP(A620,'PAYROLL RECORD'!$B$9:$C$10740,2,FALSE))","v":" "},"OT1",{"$f":"IF(ISBLANK(A620),0,VLOOKUP(A620,'PAYROLL RECORD'!$B$8:$U$2005,19,FALSE))","v":0},{"$f":"+D620","v":0},null,null,null,null,null,null,null,null,null,null,null,null,null,null,null,null,null,null,{"$f":"SUM(G621:U621)","v":0},null,null,{"$f":"W621*C621","v":0}]
[null,"OT2",{"$f":"IF(ISBLANK(A620),0,VLOOKUP(A620,'PAYROLL RECORD'!$B$8:$U$2005,20,FALSE))","v":0},{"$f":"+D621","v":0},null,null,null,null,null,null,null,null,null,null,null,null,null,null,null,null,null,null,null,{"$f":"SUM(G622:U622)","v":0},null,null,{"$f":"X622*C622","v":0}]
[null,null,null,null,{"$f":"IF(ISBLANK(A623),0,VLOOKUP(A623,'EQUIPMENT INVENTORY'!$B$7:$AK$1021,7,0))","v":0},{"$f":"IF(ISBLANK(A623),0,VLOOKUP(A623,'EQUIPMENT INVENTORY'!$B$7:$AK$1021,8,0))","v":0},null,null,null,null,null,null,null,null,null,null,null,null,null,null,null,{"$f":"SUM($G623:$U623)","v":0},null,null,{"$f":"V623*F623","v":0}]
[null,null,null,null,{"$f":"IF(ISBLANK(A624),0,VLOOKUP(A624,'EQUIPMENT INVENTORY'!$B$7:$AK$1021,7,0))","v":0},{"$f":"IF(ISBLANK(A624),0,VLOOKUP(A624,'EQUIPMENT INVENTORY'!$B$7:$AK$1021,8,0))","v":0},null,null,null,null,null,null,null,null,null,null,null,null,null,null,null,{"$f":"SUM($G624:$U624)","v":0},null,null,{"$f":"V624*F624","v":0}]
[null,null,null,null,{"$f":"IF(ISBLANK(A625),0,VLOOKUP(A625,'EQUIPMENT INVENTORY'!$B$7:$AK$1021,7,0))","v":0},{"$f":"IF(ISBLANK(A625),0,VLOOKUP(A625,'EQUIPMENT INVENTORY'!$B$7:$AK$1021,8,0))","v":0},null,null,null,null,null,null,null,null,null,null,null,null,null,null,null,{"$f":"SUM($G625:$U625)","v":0},null,null,{"$f":"V625*F625","v":0}]
[null,"REG",{"$f":"IF(ISBLANK(A626),0,VLOOKUP(A626,'PAYROLL RECORD'!$B$8:$U$2005,18,FALSE))","v":0},{"$f":"IF(ISBLANK(A626),0,VLOOKUP(A626,'PAYROLL RECORD'!$B$8:$D$2005,3,FALSE))","v":0},null,null,null,null,null,null,null,null,null,null,null,null,null,null,null,null,null,{"$f":"SUM($G626:$U626)","v":0},null,null,{"$f":"IF(AND($M$5=\"A\",D626<>\"FT\"),C626*V626,0)+IF(AND($M$5=\"B\",D626<>\"FT\"),C626*V626,0)+IF(AND($M$5=\"AP\"),C626*V626,0)+IF($M$5>=\"C\",C626*V626)","v":0}]
[{"$f":"IF(ISBLANK(A626),\" \",VLOOKUP(A626,'PAYROLL RECORD'!$B$9:$C$10740,2,FALSE))","v":" "},"OT1",{"$f":"IF(ISBLANK(A626),0,VLOOKUP(A626,'PAYROLL RECORD'!$B$8:$U$2005,19,FALSE))","v":0},{"$f":"+D626","v":0},null,null,null,null,null,null,null,null,null,null,null,null,null,null,null,null,null,null,{"$f":"SUM(G627:U627)","v":0},null,null,{"$f":"W627*C627","v":0}]
[null,"OT2",{"$f":"IF(ISBLANK(A626),0,VLOOKUP(A626,'PAYROLL RECORD'!$B$8:$U$2005,20,FALSE))","v":0},{"$f":"+D627","v":0},null,null,null,null,null,null,null,null,null,null,null,null,null,null,null,null,null,null,null,{"$f":"SUM(G628:U628)","v":0},null,null,{"$f":"X628*C628","v":0}]
[null,null,null,null,{"$f":"IF(ISBLANK(A629),0,VLOOKUP(A629,'EQUIPMENT INVENTORY'!$B$7:$AK$1021,7,0))","v":0},{"$f":"IF(ISBLANK(A629),0,VLOOKUP(A629,'EQUIPMENT INVENTORY'!$B$7:$AK$1021,8,0))","v":0},null,null,null,null,null,null,null,null,null,null,null,null,null,null,null,{"$f":"SUM($G629:$U629)","v":0},null,null,{"$f":"V629*F629","v":0}]
[null,null,null,null,{"$f":"IF(ISBLANK(A630),0,VLOOKUP(A630,'EQUIPMENT INVENTORY'!$B$7:$AK$1021,7,0))","v":0},{"$f":"IF(ISBLANK(A630),0,VLOOKUP(A630,'EQUIPMENT INVENTORY'!$B$7:$AK$1021,8,0))","v":0},null,null,null,null,null,null,null,null,null,null,null,null,null,null,null,{"$f":"SUM($G630:$U630)","v":0},null,null,{"$f":"V630*F630","v":0}]
[null,null,null,null,{"$f":"IF(ISBLANK(A631),0,VLOOKUP(A631,'EQUIPMENT INVENTORY'!$B$7:$AK$1021,7,0))","v":0},{"$f":"IF(ISBLANK(A631),0,VLOOKUP(A631,'EQUIPMENT INVENTORY'!$B$7:$AK$1021,8,0))","v":0},null,null,null,null,null,null,null,null,null,null,null,null,null,null,null,{"$f":"SUM($G631:$U631)","v":0},null,null,{"$f":"V631*F631","v":0}]
[null,"REG",{"$f":"IF(ISBLANK(A632),0,VLOOKUP(A632,'PAYROLL RECORD'!$B$8:$U$2005,18,FALSE))","v":0},{"$f":"IF(ISBLANK(A632),0,VLOOKUP(A632,'PAYROLL RECORD'!$B$8:$D$2005,3,FALSE))","v":0},null,null,null,null,null,null,null,null,null,null,null,null,null,null,null,null,null,{"$f":"SUM($G632:$U632)","v":0},null,null,{"$f":"IF(AND($M$5=\"A\",D632<>\"FT\"),C632*V632,0)+IF(AND($M$5=\"B\",D632<>\"FT\"),C632*V632,0)+IF(AND($M$5=\"AP\"),C632*V632,0)+IF($M$5>=\"C\",C632*V632)","v":0}]
[{"$f":"IF(ISBLANK(A632),\" \",VLOOKUP(A632,'PAYROLL RECORD'!$B$9:$C$10740,2,FALSE))","v":" "},"OT1",{"$f":"IF(ISBLANK(A632),0,VLOOKUP(A632,'PAYROLL RECORD'!$B$8:$U$2005,19,FALSE))","v":0},{"$f":"+D632","v":0},null,null,null,null,null,null,null,null,null,null,null,null,null,null,null,null,null,null,{"$f":"SUM(G633:U633)","v":0},null,null,{"$f":"W633*C633","v":0}]
[null,"OT2",{"$f":"IF(ISBLANK(A632),0,VLOOKUP(A632,'PAYROLL RECORD'!$B$8:$U$2005,20,FALSE))","v":0},{"$f":"+D633","v":0},null,null,null,null,null,null,null,null,null,null,null,null,null,null,null,null,null,null,null,{"$f":"SUM(G634:U634)","v":0},null,null,{"$f":"X634*C634","v":0}]
[null,null,null,null,{"$f":"IF(ISBLANK(A635),0,VLOOKUP(A635,'EQUIPMENT INVENTORY'!$B$7:$AK$1021,7,0))","v":0},{"$f":"IF(ISBLANK(A635),0,VLOOKUP(A635,'EQUIPMENT INVENTORY'!$B$7:$AK$1021,8,0))","v":0},null,null,null,null,null,null,null,null,null,null,null,null,null,null,null,{"$f":"SUM($G635:$U635)","v":0},null,null,{"$f":"V635*F635","v":0}]
[null,null,null,null,{"$f":"IF(ISBLANK(A636),0,VLOOKUP(A636,'EQUIPMENT INVENTORY'!$B$7:$AK$1021,7,0))","v":0},{"$f":"IF(ISBLANK(A636),0,VLOOKUP(A636,'EQUIPMENT INVENTORY'!$B$7:$AK$1021,8,0))","v":0},null,null,null,null,null,null,null,null,null,null,null,null,null,null,null,{"$f":"SUM($G636:$U636)","v":0},null,null,{"$f":"V636*F636","v":0}]
[null,null,null,null,{"$f":"IF(ISBLANK(A637),0,VLOOKUP(A637,'EQUIPMENT INVENTORY'!$B$7:$AK$1021,7,0))","v":0},{"$f":"IF(ISBLANK(A637),0,VLOOKUP(A637,'EQUIPMENT INVENTORY'!$B$7:$AK$1021,8,0))","v":0},null,null,null,null,null,null,null,null,null,null,null,null,null,null,null,{"$f":"SUM($G637:$U637)","v":0},null,null,{"$f":"V637*F637","v":0}]
[null,"REG",{"$f":"IF(ISBLANK(A638),0,VLOOKUP(A638,'PAYROLL RECORD'!$B$8:$U$2005,18,FALSE))","v":0},{"$f":"IF(ISBLANK(A638),0,VLOOKUP(A638,'PAYROLL RECORD'!$B$8:$D$2005,3,FALSE))","v":0},null,null,null,null,null,null,null,null,null,null,null,null,null,null,null,null,null,{"$f":"SUM($G638:$U638)","v":0},null,null,{"$f":"IF(AND($M$5=\"A\",D638<>\"FT\"),C638*V638,0)+IF(AND($M$5=\"B\",D638<>\"FT\"),C638*V638,0)+IF(AND($M$5=\"AP\"),C638*V638,0)+IF($M$5>=\"C\",C638*V638)","v":0}]
[{"$f":"IF(ISBLANK(A638),\" \",VLOOKUP(A638,'PAYROLL RECORD'!$B$9:$C$10740,2,FALSE))","v":" "},"OT1",{"$f":"IF(ISBLANK(A638),0,VLOOKUP(A638,'PAYROLL RECORD'!$B$8:$U$2005,19,FALSE))","v":0},{"$f":"+D638","v":0},null,null,null,null,null,null,null,null,null,null,null,null,null,null,null,null,null,null,{"$f":"SUM(G639:U639)","v":0},null,null,{"$f":"W639*C639","v":0}]
[null,"OT2",{"$f":"IF(ISBLANK(A638),0,VLOOKUP(A638,'PAYROLL RECORD'!$B$8:$U$2005,20,FALSE))","v":0},{"$f":"+D639","v":0},null,null,null,null,null,null,null,null,null,null,null,null,null,null,null,null,null,null,null,{"$f":"SUM(G640:U640)","v":0},null,null,{"$f":"X640*C640","v":0}]
[null,null,null,null,{"$f":"IF(ISBLANK(A641),0,VLOOKUP(A641,'EQUIPMENT INVENTORY'!$B$7:$AK$1021,7,0))","v":0},{"$f":"IF(ISBLANK(A641),0,VLOOKUP(A641,'EQUIPMENT INVENTORY'!$B$7:$AK$1021,8,0))","v":0},null,null,null,null,null,null,null,null,null,null,null,null,null,null,null,{"$f":"SUM($G641:$U641)","v":0},null,null,{"$f":"V641*F641","v":0}]
[null,null,null,null,{"$f":"IF(ISBLANK(A642),0,VLOOKUP(A642,'EQUIPMENT INVENTORY'!$B$7:$AK$1021,7,0))","v":0},{"$f":"IF(ISBLANK(A642),0,VLOOKUP(A642,'EQUIPMENT INVENTORY'!$B$7:$AK$1021,8,0))","v":0},null,null,null,null,null,null,null,null,null,null,null,null,null,null,null,{"$f":"SUM($G642:$U642)","v":0},null,null,{"$f":"V642*F642","v":0}]
[null,null,null,null,{"$f":"IF(ISBLANK(A643),0,VLOOKUP(A643,'EQUIPMENT INVENTORY'!$B$7:$AK$1021,7,0))","v":0},{"$f":"IF(ISBLANK(A643),0,VLOOKUP(A643,'EQUIPMENT INVENTORY'!$B$7:$AK$1021,8,0))","v":0},null,null,null,null,null,null,null,null,null,null,null,null,null,null,null,{"$f":"SUM($G643:$U643)","v":0},null,null,{"$f":"V643*F643","v":0},null,null,"Reg hrs","ot1 hrs","ot2 hrs","equip hrs"]
[null,null,null,null,null,null,null,null,null,null,null,null,null,null,null,null,"LABOR - Page Total",null,null,null,null,{"$f":"V596+V602+V608+V620+V626+V638+V614+V632","v":0},{"$f":"SUM(W596:W643)","v":0},{"$f":"SUM(X596:X643)","v":0},{"$f":"Y596+Y602+Y608+Y620+Y626+Y638+Y614+Y632","v":0},{"$f":"SUM(Z597:Z643)","v":0},{"$f":"SUM(AA597:AA643)","v":0},{"$f":"V644","v":0},{"$f":"W644","v":0},{"$f":"X644","v":0},{"$f":"V645","v":0},{"$f":"Y644","v":0},{"$f":"Z644","v":0},{"$f":"AA644","v":0},{"$f":"Y645","v":0}]
[null,null,null,null,null,null,null,null,null,null,null,null,null,null,null,null,"EQUIPMENT - Page Total",null,null,null,null,{"$f":"V599+V600+V601+V605+V606+V607+V611+V612+V613+V617+V618+V619+V623+V624+V625+V629+V630+V631+V641+V642+V643+V635+V636+V637","v":0},null,null,{"$f":"Y599+Y600+Y601+Y605+Y606+Y607+Y611+Y612+Y613+Y617+Y618+Y619+Y623+Y624+Y625+Y629+Y630+Y631+Y641+Y642+Y643+Y635+Y636+Y637","v":0}]
[null,null,null,null,null,null,null,null,null,null,null,null,null,null,null,null,"LABOR - Grand Total",null,null,null,null,{"$f":"SUM($AB:$AB)","v":0},{"$f":"SUM($AC:$AC)","v":0},{"$f":"SUM($AD:$AD)","v":0},{"$f":"SUM(AF:AF)","v":0},{"$f":"SUM($AG:$AG)","v":0},{"$f":"SUM($AH:$AH)","v":0}]
[null,null,null,null,null,null,null,null,null,null,null,null,null,null,null,null,"EQUIPMENT - Grand Total",null,null,null,null,{"$f":"SUM($AE:$AE)","v":0},null,null,{"$f":"SUM($AI:$AI)","v":0}]
[]
[]
["COST SUMMARY FOR LABOR/EQUIPMENT"]
["APPLICANT - FIPS#",null,null,null,"DISASTER #:",null,null,"PROJECT #:",null,null,null,null,"FEMA CAT A-G",null,null,"EMMIE #",null,null,null,"Work Completion Date"]
[{"$f":"IF('PAYROLL RECORD'!$B$5=\"START HERE\",\"\",'PAYROLL RECORD'!$B$5)","v":0},null,null,null,{"$f":"IF('PAYROLL RECORD'!$F$5=\"\",\"\",'PAYROLL RECORD'!$F$5)","v":""},null,null,{"$f":"'PAYROLL RECORD'!I651:L651","v":{"$error":"#VALUE!"}},null,null,null,null,{"$f":"IF('PAYROLL RECORD'!$M$5=\"CATEGORY\",\"\",'PAYROLL RECORD'!$M$5)","v":0},null,null,{"$f":"IF('PAYROLL RECORD'!$O$5=\"EMMIE #\",\"\",'PAYROLL RECORD'!$O$5)","v":0},null,null,null,{"$f":"IF('PAYROLL RECORD'!$Q$5=\"DATE\",\"\",'PAYROLL RECORD'!$Q$5)","v":"00:00:00"}]
["Employee/\nEquipment",null,"RATE w/","STATUS","COST CODE","RATE","2018-10-31",{"$f":"+G653+1","v":"2018-11-01"},{"$f":"H653+1","v":"2018-11-02"},"2018-11-03","2018-11-04","2018-11-05","2018-11-06","2018-11-07","2018-11-08","2018-11-09","2018-11-10","2018-11-11","2018-11-12","2018-11-13","2018-11-14","REG","OT1","OT2","REG TIME\nCOST","OT1\nCOST","OT2\nCOST"]
[null,null,"FRINGE",null,null,null,{"$f":"IF(G653<=0,\"\",TEXT(WEEKDAY(G653),\"ddd\"))","v":"Wed"},{"$f":"IF(H653<=0,\"\",TEXT(WEEKDAY(H653),\"ddd\"))","v":"Thu"},"Fri","Sat","Sun","Mon","Tue","Wed","Thu","Fri","Sat","Sun","Mon","Tue","Wed"]
[null,"REG",{"$f":"IF(ISBLANK(A655),0,VLOOKUP(A655,'PAYROLL RECORD'!$B$8:$U$2005,18,FALSE))","v":0},{"$f":"IF(ISBLANK(A655),0,VLOOKUP(A655,'PAYROLL RECORD'!$B$8:$D$2005,3,FALSE))","v":0},null,null,null,null,null,null,null,null,null,null,null,null,null,null,null,null,null,{"$f":"SUM($G655:$U655)","v":0},null,null,{"$f":"IF(AND($M$5=\"A\",D655<>\"FT\"),C655*V655,0)+IF(AND($M$5=\"B\",D655<>\"FT\"),C655*V655,0)+IF(AND($M$5=\"AP\"),C655*V655,0)+IF($M$5>=\"C\",C655*V655)","v":0}]
[{"$f":"IF(ISBLANK(A655),\" \",VLOOKUP(A655,'PAYROLL RECORD'!$B$9:$C$10740,2,FALSE))","v":" "},"OT1",{"$f":"IF(ISBLANK(A655),0,VLOOKUP(A655,'PAYROLL RECORD'!$B$8:$U$2005,19,FALSE))","v":0},{"$f":"+D655","v":0},null,null,null,null,null,null,null,null,null,null,null,null,null,null,null,null,null,null,{"$f":"SUM(G656:U656)","v":0},null,null,{"$f":"W656*C656","v":0}]
[null,"OT2",{"$f":"IF(ISBLANK(A655),0,VLOOKUP(A655,'PAYROLL RECORD'!$B$8:$U$2005,20,FALSE))","v":0},{"$f":"+D656","v":0},null,null,null,null,null,null,null,null,null,null,null,null,null,null,null,null,null,null,null,{"$f":"SUM(G657:U657)","v":0},null,null,{"$f":"X657*C657","v":0}]
[null,null,null,null,{"$f":"IF(ISBLANK(A658),0,VLOOKUP(A658,'EQUIPMENT INVENTORY'!$B$7:$AK$1021,7,0))","v":0},{"$f":"IF(ISBLANK(A658),0,VLOOKUP(A658,'EQUIPMENT INVENTORY'!$B$7:$AK$1021,8,0))","v":0},null,null,null,null,null,null,null,null,null,null,null,null,null,null,null,{"$f":"SUM($G658:$U658)","v":0},null,null,{"$f":"V658*F658","v":0}]
[null,null,null,null,{"$f":"IF(ISBLANK(A659),0,VLOOKUP(A659,'EQUIPMENT INVENTORY'!$B$7:$AK$1021,7,0))","v":0},{"$f":"IF(ISBLANK(A659),0,VLOOKUP(A659,'EQUIPMENT INVENTORY'!$B$7:$AK$1021,8,0))","v":0},null,null,null,null,null,null,null,null,null,null,null,null,null,null,null,{"$f":"SUM($G659:$U659)","v":0},null,null,{"$f":"V659*F659","v":0}]
[null,null,null,null,{"$f":"IF(ISBLANK(A660),0,VLOOKUP(A660,'EQUIPMENT INVENTORY'!$B$7:$AK$1021,7,0))","v":0},{"$f":"IF(ISBLANK(A660),0,VLOOKUP(A660,'EQUIPMENT INVENTORY'!$B$7:$AK$1021,8,0))","v":0},null,null,null,null,null,null,null,null,null,null,null,null,null,null,null,{"$f":"SUM($G660:$U660)","v":0},null,null,{"$f":"V660*F660","v":0}]
[null,"REG",{"$f":"IF(ISBLANK(A661),0,VLOOKUP(A661,'PAYROLL RECORD'!$B$8:$U$2005,18,FALSE))","v":0},{"$f":"IF(ISBLANK(A661),0,VLOOKUP(A661,'PAYROLL RECORD'!$B$8:$D$2005,3,FALSE))","v":0},null,null,null,null,null,null,null,null,null,null,null,null,null,null,null,null,null,{"$f":"SUM($G661:$U661)","v":0},null,null,{"$f":"IF(AND($M$5=\"A\",D661<>\"FT\"),C661*V661,0)+IF(AND($M$5=\"B\",D661<>\"FT\"),C661*V661,0)+IF(AND($M$5=\"AP\"),C661*V661,0)+IF($M$5>=\"C\",C661*V661)","v":0}]
[{"$f":"IF(ISBLANK(A661),\" \",VLOOKUP(A661,'PAYROLL RECORD'!$B$9:$C$10740,2,FALSE))","v":" "},"OT1",{"$f":"IF(ISBLANK(A661),0,VLOOKUP(A661,'PAYROLL RECORD'!$B$8:$U$2005,19,FALSE))","v":0},{"$f":"+D661","v":0},null,null,null,null,null,null,null,null,null,null,null,null,null,null,null,null,null,null,{"$f":"SUM(G662:U662)","v":0},null,null,{"$f":"W662*C662","v":0}]
[null,"OT2",{"$f":"IF(ISBLANK(A661),0,VLOOKUP(A661,'PAYROLL RECORD'!$B$8:$U$2005,20,FALSE))","v":0},{"$f":"+D662","v":0},null,null,null,null,null,null,null,null,null,null,null,null,null,null,null,null,null,null,null,{"$f":"SUM(G663:U663)","v":0},null,null,{"$f":"X663*C663","v":0}]
[null,null,null,null,{"$f":"IF(ISBLANK(A664),0,VLOOKUP(A664,'EQUIPMENT INVENTORY'!$B$7:$AK$1021,7,0))","v":0},{"$f":"IF(ISBLANK(A664),0,VLOOKUP(A664,'EQUIPMENT INVENTORY'!$B$7:$AK$1021,8,0))","v":0},null,null,null,null,null,null,null,null,null,null,null,null,null,null,null,{"$f":"SUM($G664:$U664)","v":0},null,null,{"$f":"V664*F664","v":0}]
[null,null,null,null,{"$f":"IF(ISBLANK(A665),0,VLOOKUP(A665,'EQUIPMENT INVENTORY'!$B$7:$AK$1021,7,0))","v":0},{"$f":"IF(ISBLANK(A665),0,VLOOKUP(A665,'EQUIPMENT INVENTORY'!$B$7:$AK$1021,8,0))","v":0},null,null,null,null,null,null,null,null,null,null,null,null,null,null,null,{"$f":"SUM($G665:$U665)","v":0},null,null,{"$f":"V665*F665","v":0}]
[null,null,null,null,{"$f":"IF(ISBLANK(A666),0,VLOOKUP(A666,'EQUIPMENT INVENTORY'!$B$7:$AK$1021,7,0))","v":0},{"$f":"IF(ISBLANK(A666),0,VLOOKUP(A666,'EQUIPMENT INVENTORY'!$B$7:$AK$1021,8,0))","v":0},null,null,null,null,null,null,null,null,null,null,null,null,null,null,null,{"$f":"SUM($G666:$U666)","v":0},null,null,{"$f":"V666*F666","v":0}]
[null,"REG",{"$f":"IF(ISBLANK(A667),0,VLOOKUP(A667,'PAYROLL RECORD'!$B$8:$U$2005,18,FALSE))","v":0},{"$f":"IF(ISBLANK(A667),0,VLOOKUP(A667,'PAYROLL RECORD'!$B$8:$D$2005,3,FALSE))","v":0},null,null,null,null,null,null,null,null,null,null,null,null,null,null,null,null,null,{"$f":"SUM($G667:$U667)","v":0},null,null,{"$f":"IF(AND($M$5=\"A\",D667<>\"FT\"),C667*V667,0)+IF(AND($M$5=\"B\",D667<>\"FT\"),C667*V667,0)+IF(AND($M$5=\"AP\"),C667*V667,0)+IF($M$5>=\"C\",C667*V667)","v":0}]
[{"$f":"IF(ISBLANK(A667),\" \",VLOOKUP(A667,'PAYROLL RECORD'!$B$9:$C$10740,2,FALSE))","v":" "},"OT1",{"$f":"IF(ISBLANK(A667),0,VLOOKUP(A667,'PAYROLL RECORD'!$B$8:$U$2005,19,FALSE))","v":0},{"$f":"+D667","v":0},null,null,null,null,null,null,null,null,null,null,null,null,null,null,null,null,null,null,{"$f":"SUM(G668:U668)","v":0},null,null,{"$f":"W668*C668","v":0}]
[null,"OT2",{"$f":"IF(ISBLANK(A667),0,VLOOKUP(A667,'PAYROLL RECORD'!$B$8:$U$2005,20,FALSE))","v":0},{"$f":"+D668","v":0},null,null,null,null,null,null,null,null,null,null,null,null,null,null,null,null,null,null,null,{"$f":"SUM(G669:U669)","v":0},null,null,{"$f":"X669*C669","v":0}]
[null,null,null,null,{"$f":"IF(ISBLANK(A670),0,VLOOKUP(A670,'EQUIPMENT INVENTORY'!$B$7:$AK$1021,7,0))","v":0},{"$f":"IF(ISBLANK(A670),0,VLOOKUP(A670,'EQUIPMENT INVENTORY'!$B$7:$AK$1021,8,0))","v":0},null,null,null,null,null,null,null,null,null,null,null,null,null,null,null,{"$f":"SUM($G670:$U670)","v":0},null,null,{"$f":"V670*F670","v":0}]
[null,null,null,null,{"$f":"IF(ISBLANK(A671),0,VLOOKUP(A671,'EQUIPMENT INVENTORY'!$B$7:$AK$1021,7,0))","v":0},{"$f":"IF(ISBLANK(A671),0,VLOOKUP(A671,'EQUIPMENT INVENTORY'!$B$7:$AK$1021,8,0))","v":0},null,null,null,null,null,null,null,null,null,null,null,null,null,null,null,{"$f":"SUM($G671:$U671)","v":0},null,null,{"$f":"V671*F671","v":0}]
[null,null,null,null,{"$f":"IF(ISBLANK(A672),0,VLOOKUP(A672,'EQUIPMENT INVENTORY'!$B$7:$AK$1021,7,0))","v":0},{"$f":"IF(ISBLANK(A672),0,VLOOKUP(A672,'EQUIPMENT INVENTORY'!$B$7:$AK$1021,8,0))","v":0},null,null,null,null,null,null,null,null,null,null,null,null,null,null,null,{"$f":"SUM($G672:$U672)","v":0},null,null,{"$f":"V672*F672","v":0}]
[null,"REG",{"$f":"IF(ISBLANK(A673),0,VLOOKUP(A673,'PAYROLL RECORD'!$B$8:$U$2005,18,FALSE))","v":0},{"$f":"IF(ISBLANK(A673),0,VLOOKUP(A673,'PAYROLL RECORD'!$B$8:$D$2005,3,FALSE))","v":0},null,null,null,null,null,null,null,null,null,null,null,null,null,null,null,null,null,{"$f":"SUM($G673:$U673)","v":0},null,null,{"$f":"IF(AND($M$5=\"A\",D673<>\"FT\"),C673*V673,0)+IF(AND($M$5=\"B\",D673<>\"FT\"),C673*V673,0)+IF(AND($M$5=\"AP\"),C673*V673,0)+IF($M$5>=\"C\",C673*V673)","v":0}]
[{"$f":"IF(ISBLANK(A673),\" \",VLOOKUP(A673,'PAYROLL RECORD'!$B$9:$C$10740,2,FALSE))","v":" "},"OT1",{"$f":"IF(ISBLANK(A673),0,VLOOKUP(A673,'PAYROLL RECORD'!$B$8:$U$2005,19,FALSE))","v":0},{"$f":"+D673","v":0},null,null,null,null,null,null,null,null,null,null,null,null,null,null,null,null,null,null,{"$f":"SUM(G674:U674)","v":0},null,null,{"$f":"W674*C674","v":0}]
[null,"OT2",{"$f":"IF(ISBLANK(A673),0,VLOOKUP(A673,'PAYROLL RECORD'!$B$8:$U$2005,20,FALSE))","v":0},{"$f":"+D674","v":0},null,null,null,null,null,null,null,null,null,null,null,null,null,null,null,null,null,null,null,{"$f":"SUM(G675:U675)","v":0},null,null,{"$f":"X675*C675","v":0}]
[null,null,null,null,{"$f":"IF(ISBLANK(A676),0,VLOOKUP(A676,'EQUIPMENT INVENTORY'!$B$7:$AK$1021,7,0))","v":0},{"$f":"IF(ISBLANK(A676),0,VLOOKUP(A676,'EQUIPMENT INVENTORY'!$B$7:$AK$1021,8,0))","v":0},null,null,null,null,null,null,null,null,null,null,null,null,null,null,null,{"$f":"SUM($G676:$U676)","v":0},null,null,{"$f":"V676*F676","v":0}]
[null,null,null,null,{"$f":"IF(ISBLANK(A677),0,VLOOKUP(A677,'EQUIPMENT INVENTORY'!$B$7:$AK$1021,7,0))","v":0},{"$f":"IF(ISBLANK(A677),0,VLOOKUP(A677,'EQUIPMENT INVENTORY'!$B$7:$AK$1021,8,0))","v":0},null,null,null,null,null,null,null,null,null,null,null,null,null,null,null,{"$f":"SUM($G677:$U677)","v":0},null,null,{"$f":"V677*F677","v":0}]
[null,null,null,null,{"$f":"IF(ISBLANK(A678),0,VLOOKUP(A678,'EQUIPMENT INVENTORY'!$B$7:$AK$1021,7,0))","v":0},{"$f":"IF(ISBLANK(A678),0,VLOOKUP(A678,'EQUIPMENT INVENTORY'!$B$7:$AK$1021,8,0))","v":0},null,null,null,null,null,null,null,null,null,null,null,null,null,null,null,{"$f":"SUM($G678:$U678)","v":0},null,null,{"$f":"V678*F678","v":0}]
[null,"REG",{"$f":"IF(ISBLANK(A679),0,VLOOKUP(A679,'PAYROLL RECORD'!$B$8:$U$2005,18,FALSE))","v":0},{"$f":"IF(ISBLANK(A679),0,VLOOKUP(A679,'PAYROLL RECORD'!$B$8:$D$2005,3,FALSE))","v":0},null,null,null,null,null,null,null,null,null,null,null,null,null,null,null,null,null,{"$f":"SUM($G679:$U679)","v":0},null,null,{"$f":"IF(AND($M$5=\"A\",D679<>\"FT\"),C679*V679,0)+IF(AND($M$5=\"B\",D679<>\"FT\"),C679*V679,0)+IF(AND($M$5=\"AP\"),C679*V679,0)+IF($M$5>=\"C\",C679*V679)","v":0}]
[{"$f":"IF(ISBLANK(A679),\" \",VLOOKUP(A679,'PAYROLL RECORD'!$B$9:$C$10740,2,FALSE))","v":" "},"OT1",{"$f":"IF(ISBLANK(A679),0,VLOOKUP(A679,'PAYROLL RECORD'!$B$8:$U$2005,19,FALSE))","v":0},{"$f":"+D679","v":0},null,null,null,null,null,null,null,null,null,null,null,null,null,null,null,null,null,null,{"$f":"SUM(G680:U680)","v":0},null,null,{"$f":"W680*C680","v":0}]
[null,"OT2",{"$f":"IF(ISBLANK(A679),0,VLOOKUP(A679,'PAYROLL RECORD'!$B$8:$U$2005,20,FALSE))","v":0},{"$f":"+D680","v":0},null,null,null,null,null,null,null,null,null,null,null,null,null,null,null,null,null,null,null,{"$f":"SUM(G681:U681)","v":0},null,null,{"$f":"X681*C681","v":0}]
[null,null,null,null,{"$f":"IF(ISBLANK(A682),0,VLOOKUP(A682,'EQUIPMENT INVENTORY'!$B$7:$AK$1021,7,0))","v":0},{"$f":"IF(ISBLANK(A682),0,VLOOKUP(A682,'EQUIPMENT INVENTORY'!$B$7:$AK$1021,8,0))","v":0},null,null,null,null,null,null,null,null,null,null,null,null,null,null,null,{"$f":"SUM($G682:$U682)","v":0},null,null,{"$f":"V682*F682","v":0}]
[null,null,null,null,{"$f":"IF(ISBLANK(A683),0,VLOOKUP(A683,'EQUIPMENT INVENTORY'!$B$7:$AK$1021,7,0))","v":0},{"$f":"IF(ISBLANK(A683),0,VLOOKUP(A683,'EQUIPMENT INVENTORY'!$B$7:$AK$1021,8,0))","v":0},null,null,null,null,null,null,null,null,null,null,null,null,null,null,null,{"$f":"SUM($G683:$U683)","v":0},null,null,{"$f":"V683*F683","v":0}]
[null,null,null,null,{"$f":"IF(ISBLANK(A684),0,VLOOKUP(A684,'EQUIPMENT INVENTORY'!$B$7:$AK$1021,7,0))","v":0},{"$f":"IF(ISBLANK(A684),0,VLOOKUP(A684,'EQUIPMENT INVENTORY'!$B$7:$AK$1021,8,0))","v":0},null,null,null,null,null,null,null,null,null,null,null,null,null,null,null,{"$f":"SUM($G684:$U684)","v":0},null,null,{"$f":"V684*F684","v":0}]
[null,"REG",{"$f":"IF(ISBLANK(A685),0,VLOOKUP(A685,'PAYROLL RECORD'!$B$8:$U$2005,18,FALSE))","v":0},{"$f":"IF(ISBLANK(A685),0,VLOOKUP(A685,'PAYROLL RECORD'!$B$8:$D$2005,3,FALSE))","v":0},null,null,null,null,null,null,null,null,null,null,null,null,null,null,null,null,null,{"$f":"SUM($G685:$U685)","v":0},null,null,{"$f":"IF(AND($M$5=\"A\",D685<>\"FT\"),C685*V685,0)+IF(AND($M$5=\"B\",D685<>\"FT\"),C685*V685,0)+IF(AND($M$5=\"AP\"),C685*V685,0)+IF($M$5>=\"C\",C685*V685)","v":0}]
[{"$f":"IF(ISBLANK(A685),\" \",VLOOKUP(A685,'PAYROLL RECORD'!$B$9:$C$10740,2,FALSE))","v":" "},"OT1",{"$f":"IF(ISBLANK(A685),0,VLOOKUP(A685,'PAYROLL RECORD'!$B$8:$U$2005,19,FALSE))","v":0},{"$f":"+D685","v":0},null,null,null,null,null,null,null,null,null,null,null,null,null,null,null,null,null,null,{"$f":"SUM(G686:U686)","v":0},null,null,{"$f":"W686*C686","v":0}]
[null,"OT2",{"$f":"IF(ISBLANK(A685),0,VLOOKUP(A685,'PAYROLL RECORD'!$B$8:$U$2005,20,FALSE))","v":0},{"$f":"+D686","v":0},null,null,null,null,null,null,null,null,null,null,null,null,null,null,null,null,null,null,null,{"$f":"SUM(G687:U687)","v":0},null,null,{"$f":"X687*C687","v":0}]
[null,null,null,null,{"$f":"IF(ISBLANK(A688),0,VLOOKUP(A688,'EQUIPMENT INVENTORY'!$B$7:$AK$1021,7,0))","v":0},{"$f":"IF(ISBLANK(A688),0,VLOOKUP(A688,'EQUIPMENT INVENTORY'!$B$7:$AK$1021,8,0))","v":0},null,null,null,null,null,null,null,null,null,null,null,null,null,null,null,{"$f":"SUM($G688:$U688)","v":0},null,null,{"$f":"V688*F688","v":0}]
[null,null,null,null,{"$f":"IF(ISBLANK(A689),0,VLOOKUP(A689,'EQUIPMENT INVENTORY'!$B$7:$AK$1021,7,0))","v":0},{"$f":"IF(ISBLANK(A689),0,VLOOKUP(A689,'EQUIPMENT INVENTORY'!$B$7:$AK$1021,8,0))","v":0},null,null,null,null,null,null,null,null,null,null,null,null,null,null,null,{"$f":"SUM($G689:$U689)","v":0},null,null,{"$f":"V689*F689","v":0}]
[null,null,null,null,{"$f":"IF(ISBLANK(A690),0,VLOOKUP(A690,'EQUIPMENT INVENTORY'!$B$7:$AK$1021,7,0))","v":0},{"$f":"IF(ISBLANK(A690),0,VLOOKUP(A690,'EQUIPMENT INVENTORY'!$B$7:$AK$1021,8,0))","v":0},null,null,null,null,null,null,null,null,null,null,null,null,null,null,null,{"$f":"SUM($G690:$U690)","v":0},null,null,{"$f":"V690*F690","v":0}]
[null,"REG",{"$f":"IF(ISBLANK(A691),0,VLOOKUP(A691,'PAYROLL RECORD'!$B$8:$U$2005,18,FALSE))","v":0},{"$f":"IF(ISBLANK(A691),0,VLOOKUP(A691,'PAYROLL RECORD'!$B$8:$D$2005,3,FALSE))","v":0},null,null,null,null,null,null,null,null,null,null,null,null,null,null,null,null,null,{"$f":"SUM($G691:$U691)","v":0},null,null,{"$f":"IF(AND($M$5=\"A\",D691<>\"FT\"),C691*V691,0)+IF(AND($M$5=\"B\",D691<>\"FT\"),C691*V691,0)+IF(AND($M$5=\"AP\"),C691*V691,0)+IF($M$5>=\"C\",C691*V691)","v":0}]
[{"$f":"IF(ISBLANK(A691),\" \",VLOOKUP(A691,'PAYROLL RECORD'!$B$9:$C$10740,2,FALSE))","v":" "},"OT1",{"$f":"IF(ISBLANK(A691),0,VLOOKUP(A691,'PAYROLL RECORD'!$B$8:$U$2005,19,FALSE))","v":0},{"$f":"+D691","v":0},null,null,null,null,null,null,null,null,null,null,null,null,null,null,null,null,null,null,{"$f":"SUM(G692:U692)","v":0},null,null,{"$f":"W692*C692","v":0}]
[null,"OT2",{"$f":"IF(ISBLANK(A691),0,VLOOKUP(A691,'PAYROLL RECORD'!$B$8:$U$2005,20,FALSE))","v":0},{"$f":"+D692","v":0},null,null,null,null,null,null,null,null,null,null,null,null,null,null,null,null,null,null,null,{"$f":"SUM(G693:U693)","v":0},null,null,{"$f":"X693*C693","v":0}]
[null,null,null,null,{"$f":"IF(ISBLANK(A694),0,VLOOKUP(A694,'EQUIPMENT INVENTORY'!$B$7:$AK$1021,7,0))","v":0},{"$f":"IF(ISBLANK(A694),0,VLOOKUP(A694,'EQUIPMENT INVENTORY'!$B$7:$AK$1021,8,0))","v":0},null,null,null,null,null,null,null,null,null,null,null,null,null,null,null,{"$f":"SUM($G694:$U694)","v":0},null,null,{"$f":"V694*F694","v":0}]
[null,null,null,null,{"$f":"IF(ISBLANK(A695),0,VLOOKUP(A695,'EQUIPMENT INVENTORY'!$B$7:$AK$1021,7,0))","v":0},{"$f":"IF(ISBLANK(A695),0,VLOOKUP(A695,'EQUIPMENT INVENTORY'!$B$7:$AK$1021,8,0))","v":0},null,null,null,null,null,null,null,null,null,null,null,null,null,null,null,{"$f":"SUM($G695:$U695)","v":0},null,null,{"$f":"V695*F695","v":0}]
[null,null,null,null,{"$f":"IF(ISBLANK(A696),0,VLOOKUP(A696,'EQUIPMENT INVENTORY'!$B$7:$AK$1021,7,0))","v":0},{"$f":"IF(ISBLANK(A696),0,VLOOKUP(A696,'EQUIPMENT INVENTORY'!$B$7:$AK$1021,8,0))","v":0},null,null,null,null,null,null,null,null,null,null,null,null,null,null,null,{"$f":"SUM($G696:$U696)","v":0},null,null,{"$f":"V696*F696","v":0}]
[null,"REG",{"$f":"IF(ISBLANK(A697),0,VLOOKUP(A697,'PAYROLL RECORD'!$B$8:$U$2005,18,FALSE))","v":0},{"$f":"IF(ISBLANK(A697),0,VLOOKUP(A697,'PAYROLL RECORD'!$B$8:$D$2005,3,FALSE))","v":0},null,null,null,null,null,null,null,null,null,null,null,null,null,null,null,null,null,{"$f":"SUM($G697:$U697)","v":0},null,null,{"$f":"IF(AND($M$5=\"A\",D697<>\"FT\"),C697*V697,0)+IF(AND($M$5=\"B\",D697<>\"FT\"),C697*V697,0)+IF(AND($M$5=\"AP\"),C697*V697,0)+IF($M$5>=\"C\",C697*V697)","v":0}]
[{"$f":"IF(ISBLANK(A697),\" \",VLOOKUP(A697,'PAYROLL RECORD'!$B$9:$C$10740,2,FALSE))","v":" "},"OT1",{"$f":"IF(ISBLANK(A697),0,VLOOKUP(A697,'PAYROLL RECORD'!$B$8:$U$2005,19,FALSE))","v":0},{"$f":"+D697","v":0},null,null,null,null,null,null,null,null,null,null,null,null,null,null,null,null,null,null,{"$f":"SUM(G698:U698)","v":0},null,null,{"$f":"W698*C698","v":0}]
[null,"OT2",{"$f":"IF(ISBLANK(A697),0,VLOOKUP(A697,'PAYROLL RECORD'!$B$8:$U$2005,20,FALSE))","v":0},{"$f":"+D698","v":0},null,null,null,null,null,null,null,null,null,null,null,null,null,null,null,null,null,null,null,{"$f":"SUM(G699:U699)","v":0},null,null,{"$f":"X699*C699","v":0}]
[null,null,null,null,{"$f":"IF(ISBLANK(A700),0,VLOOKUP(A700,'EQUIPMENT INVENTORY'!$B$7:$AK$1021,7,0))","v":0},{"$f":"IF(ISBLANK(A700),0,VLOOKUP(A700,'EQUIPMENT INVENTORY'!$B$7:$AK$1021,8,0))","v":0},null,null,null,null,null,null,null,null,null,null,null,null,null,null,null,{"$f":"SUM($G700:$U700)","v":0},null,null,{"$f":"V700*F700","v":0}]
[null,null,null,null,{"$f":"IF(ISBLANK(A701),0,VLOOKUP(A701,'EQUIPMENT INVENTORY'!$B$7:$AK$1021,7,0))","v":0},{"$f":"IF(ISBLANK(A701),0,VLOOKUP(A701,'EQUIPMENT INVENTORY'!$B$7:$AK$1021,8,0))","v":0},null,null,null,null,null,null,null,null,null,null,null,null,null,null,null,{"$f":"SUM($G701:$U701)","v":0},null,null,{"$f":"V701*F701","v":0}]
[null,null,null,null,{"$f":"IF(ISBLANK(A702),0,VLOOKUP(A702,'EQUIPMENT INVENTORY'!$B$7:$AK$1021,7,0))","v":0},{"$f":"IF(ISBLANK(A702),0,VLOOKUP(A702,'EQUIPMENT INVENTORY'!$B$7:$AK$1021,8,0))","v":0},null,null,null,null,null,null,null,null,null,null,null,null,null,null,null,{"$f":"SUM($G702:$U702)","v":0},null,null,{"$f":"V702*F702","v":0},null,null,"Reg hrs","ot1 hrs","ot2 hrs","equip hrs"]
[null,null,null,null,null,null,null,null,null,null,null,null,null,null,null,null,"LABOR - Page Total",null,null,null,null,{"$f":"V655+V661+V667+V679+V685+V697+V673+V691","v":0},{"$f":"SUM(W655:W702)","v":0},{"$f":"SUM(X655:X702)","v":0},{"$f":"Y655+Y661+Y667+Y679+Y685+Y697+Y673+Y691","v":0},{"$f":"SUM(Z656:Z702)","v":0},{"$f":"SUM(AA656:AA702)","v":0},{"$f":"V703","v":0},{"$f":"W703","v":0},{"$f":"X703","v":0},{"$f":"V704","v":0},{"$f":"Y703","v":0},{"$f":"Z703","v":0},{"$f":"AA703","v":0},{"$f":"Y704","v":0}]
[null,null,null,null,null,null,null,null,null,null,null,null,null,null,null,null,"EQUIPMENT - Page Total",null,null,null,null,{"$f":"V658+V659+V660+V664+V665+V666+V670+V671+V672+V676+V677+V678+V682+V683+V684+V688+V689+V690+V700+V701+V702+V694+V695+V696","v":0},null,null,{"$f":"Y658+Y659+Y660+Y664+Y665+Y666+Y670+Y671+Y672+Y676+Y677+Y678+Y682+Y683+Y684+Y688+Y689+Y690+Y700+Y701+Y702+Y694+Y695+Y696","v":0}]
[null,null,null,null,null,null,null,null,null,null,null,null,null,null,null,null,"LABOR - Grand Total",null,null,null,null,{"$f":"SUM($AB:$AB)","v":0},{"$f":"SUM($AC:$AC)","v":0},{"$f":"SUM($AD:$AD)","v":0},{"$f":"SUM(AF:AF)","v":0},{"$f":"SUM($AG:$AG)","v":0},{"$f":"SUM($AH:$AH)","v":0}]
[null,null,null,null,null,null,null,null,null,null,null,null,null,null,null,null,"EQUIPMENT - Grand Total",null,null,null,null,{"$f":"SUM($AE:$AE)","v":0},null,null,{"$f":"SUM($AI:$AI)","v":0}]
[]
[]
["COST SUMMARY FOR LABOR/EQUIPMENT"]
["APPLICANT - FIPS#",null,null,null,"DISASTER #:",null,null,"PROJECT #:",null,null,null,null,"FEMA CAT A-G",null,null,"EMMIE #",null,null,null,"Work Completion Date"]
[{"$f":"IF('PAYROLL RECORD'!$B$5=\"START HERE\",\"\",'PAYROLL RECORD'!$B$5)","v":0},null,null,null,{"$f":"IF('PAYROLL RECORD'!$F$5=\"\",\"\",'PAYROLL RECORD'!$F$5)","v":""},null,null,{"$f":"'PAYROLL RECORD'!I710:L710","v":{"$error":"#VALUE!"}},null,null,null,null,{"$f":"IF('PAYROLL RECORD'!$M$5=\"CATEGORY\",\"\",'PAYROLL RECORD'!$M$5)","v":0},null,null,{"$f":"IF('PAYROLL RECORD'!$O$5=\"EMMIE #\",\"\",'PAYROLL RECORD'!$O$5)","v":0},null,null,null,{"$f":"IF('PAYROLL RECORD'!$Q$5=\"DATE\",\"\",'PAYROLL RECORD'!$Q$5)","v":"00:00:00"}]
["Employee/\nEquipment",null,"RATE w/","STATUS","COST CODE","RATE","2018-10-31",{"$f":"+G712+1","v":"2018-11-01"},{"$f":"H712+1","v":"2018-11-02"},"2018-11-03","2018-11-04","2018-11-05","2018-11-06","2018-11-07","2018-11-08","2018-11-09","2018-11-10","2018-11-11","2018-11-12","2018-11-13","2018-11-14","REG","OT1","OT2","REG TIME\nCOST","OT1\nCOST","OT2\nCOST"]
[null,null,"FRINGE",null,null,null,{"$f":"IF(G712<=0,\"\",TEXT(WEEKDAY(G712),\"ddd\"))","v":"Wed"},{"$f":"IF(H712<=0,\"\",TEXT(WEEKDAY(H712),\"ddd\"))","v":"Thu"},"Fri","Sat","Sun","Mon","Tue","Wed","Thu","Fri","Sat","Sun","Mon","Tue","Wed"]
[null,"REG",{"$f":"IF(ISBLANK(A714),0,VLOOKUP(A714,'PAYROLL RECORD'!$B$8:$U$2005,18,FALSE))","v":0},{"$f":"IF(ISBLANK(A714),0,VLOOKUP(A714,'PAYROLL RECORD'!$B$8:$D$2005,3,FALSE))","v":0},null,null,null,null,null,null,null,null,null,null,null,null,null,null,null,null,null,{"$f":"SUM($G714:$U714)","v":0},null,null,{"$f":"IF(AND($M$5=\"A\",D714<>\"FT\"),C714*V714,0)+IF(AND($M$5=\"B\",D714<>\"FT\"),C714*V714,0)+IF(AND($M$5=\"AP\"),C714*V714,0)+IF($M$5>=\"C\",C714*V714)","v":0}]
[{"$f":"IF(ISBLANK(A714),\" \",VLOOKUP(A714,'PAYROLL RECORD'!$B$9:$C$10740,2,FALSE))","v":" "},"OT1",{"$f":"IF(ISBLANK(A714),0,VLOOKUP(A714,'PAYROLL RECORD'!$B$8:$U$2005,19,FALSE))","v":0},{"$f":"+D714","v":0},null,null,null,null,null,null,null,null,null,null,null,null,null,null,null,null,null,null,{"$f":"SUM(G715:U715)","v":0},null,null,{"$f":"W715*C715","v":0}]
[null,"OT2",{"$f":"IF(ISBLANK(A714),0,VLOOKUP(A714,'PAYROLL RECORD'!$B$8:$U$2005,20,FALSE))","v":0},{"$f":"+D715","v":0},null,null,null,null,null,null,null,null,null,null,null,null,null,null,null,null,null,null,null,{"$f":"SUM(G716:U716)","v":0},null,null,{"$f":"X716*C716","v":0}]
[null,null,null,null,{"$f":"IF(ISBLANK(A717),0,VLOOKUP(A717,'EQUIPMENT INVENTORY'!$B$7:$AK$1021,7,0))","v":0},{"$f":"IF(ISBLANK(A717),0,VLOOKUP(A717,'EQUIPMENT INVENTORY'!$B$7:$AK$1021,8,0))","v":0},null,null,null,null,null,null,null,null,null,null,null,null,null,null,null,{"$f":"SUM($G717:$U717)","v":0},null,null,{"$f":"V717*F717","v":0}]
[null,null,null,null,{"$f":"IF(ISBLANK(A718),0,VLOOKUP(A718,'EQUIPMENT INVENTORY'!$B$7:$AK$1021,7,0))","v":0},{"$f":"IF(ISBLANK(A718),0,VLOOKUP(A718,'EQUIPMENT INVENTORY'!$B$7:$AK$1021,8,0))","v":0},null,null,null,null,null,null,null,null,null,null,null,null,null,null,null,{"$f":"SUM($G718:$U718)","v":0},null,null,{"$f":"V718*F718","v":0}]
[null,null,null,null,{"$f":"IF(ISBLANK(A719),0,VLOOKUP(A719,'EQUIPMENT INVENTORY'!$B$7:$AK$1021,7,0))","v":0},{"$f":"IF(ISBLANK(A719),0,VLOOKUP(A719,'EQUIPMENT INVENTORY'!$B$7:$AK$1021,8,0))","v":0},null,null,null,null,null,null,null,null,null,null,null,null,null,null,null,{"$f":"SUM($G719:$U719)","v":0},null,null,{"$f":"V719*F719","v":0}]
[null,"REG",{"$f":"IF(ISBLANK(A720),0,VLOOKUP(A720,'PAYROLL RECORD'!$B$8:$U$2005,18,FALSE))","v":0},{"$f":"IF(ISBLANK(A720),0,VLOOKUP(A720,'PAYROLL RECORD'!$B$8:$D$2005,3,FALSE))","v":0},null,null,null,null,null,null,null,null,null,null,null,null,null,null,null,null,null,{"$f":"SUM($G720:$U720)","v":0},null,null,{"$f":"IF(AND($M$5=\"A\",D720<>\"FT\"),C720*V720,0)+IF(AND($M$5=\"B\",D720<>\"FT\"),C720*V720,0)+IF(AND($M$5=\"AP\"),C720*V720,0)+IF($M$5>=\"C\",C720*V720)","v":0}]
[{"$f":"IF(ISBLANK(A720),\" \",VLOOKUP(A720,'PAYROLL RECORD'!$B$9:$C$10740,2,FALSE))","v":" "},"OT1",{"$f":"IF(ISBLANK(A720),0,VLOOKUP(A720,'PAYROLL RECORD'!$B$8:$U$2005,19,FALSE))","v":0},{"$f":"+D720","v":0},null,null,null,null,null,null,null,null,null,null,null,null,null,null,null,null,null,null,{"$f":"SUM(G721:U721)","v":0},null,null,{"$f":"W721*C721","v":0}]
[null,"OT2",{"$f":"IF(ISBLANK(A720),0,VLOOKUP(A720,'PAYROLL RECORD'!$B$8:$U$2005,20,FALSE))","v":0},{"$f":"+D721","v":0},null,null,null,null,null,null,null,null,null,null,null,null,null,null,null,null,null,null,null,{"$f":"SUM(G722:U722)","v":0},null,null,{"$f":"X722*C722","v":0}]
[null,null,null,null,{"$f":"IF(ISBLANK(A723),0,VLOOKUP(A723,'EQUIPMENT INVENTORY'!$B$7:$AK$1021,7,0))","v":0},{"$f":"IF(ISBLANK(A723),0,VLOOKUP(A723,'EQUIPMENT INVENTORY'!$B$7:$AK$1021,8,0))","v":0},null,null,null,null,null,null,null,null,null,null,null,null,null,null,null,{"$f":"SUM($G723:$U723)","v":0},null,null,{"$f":"V723*F723","v":0}]
[null,null,null,null,{"$f":"IF(ISBLANK(A724),0,VLOOKUP(A724,'EQUIPMENT INVENTORY'!$B$7:$AK$1021,7,0))","v":0},{"$f":"IF(ISBLANK(A724),0,VLOOKUP(A724,'EQUIPMENT INVENTORY'!$B$7:$AK$1021,8,0))","v":0},null,null,null,null,null,null,null,null,null,null,null,null,null,null,null,{"$f":"SUM($G724:$U724)","v":0},null,null,{"$f":"V724*F724","v":0}]
[null,null,null,null,{"$f":"IF(ISBLANK(A725),0,VLOOKUP(A725,'EQUIPMENT INVENTORY'!$B$7:$AK$1021,7,0))","v":0},{"$f":"IF(ISBLANK(A725),0,VLOOKUP(A725,'EQUIPMENT INVENTORY'!$B$7:$AK$1021,8,0))","v":0},null,null,null,null,null,null,null,null,null,null,null,null,null,null,null,{"$f":"SUM($G725:$U725)","v":0},null,null,{"$f":"V725*F725","v":0}]
[null,"REG",{"$f":"IF(ISBLANK(A726),0,VLOOKUP(A726,'PAYROLL RECORD'!$B$8:$U$2005,18,FALSE))","v":0},{"$f":"IF(ISBLANK(A726),0,VLOOKUP(A726,'PAYROLL RECORD'!$B$8:$D$2005,3,FALSE))","v":0},null,null,null,null,null,null,null,null,null,null,null,null,null,null,null,null,null,{"$f":"SUM($G726:$U726)","v":0},null,null,{"$f":"IF(AND($M$5=\"A\",D726<>\"FT\"),C726*V726,0)+IF(AND($M$5=\"B\",D726<>\"FT\"),C726*V726,0)+IF(AND($M$5=\"AP\"),C726*V726,0)+IF($M$5>=\"C\",C726*V726)","v":0}]
[{"$f":"IF(ISBLANK(A726),\" \",VLOOKUP(A726,'PAYROLL RECORD'!$B$9:$C$10740,2,FALSE))","v":" "},"OT1",{"$f":"IF(ISBLANK(A726),0,VLOOKUP(A726,'PAYROLL RECORD'!$B$8:$U$2005,19,FALSE))","v":0},{"$f":"+D726","v":0},null,null,null,null,null,null,null,null,null,null,null,null,null,null,null,null,null,null,{"$f":"SUM(G727:U727)","v":0},null,null,{"$f":"W727*C727","v":0}]
[null,"OT2",{"$f":"IF(ISBLANK(A726),0,VLOOKUP(A726,'PAYROLL RECORD'!$B$8:$U$2005,20,FALSE))","v":0},{"$f":"+D727","v":0},null,null,null,null,null,null,null,null,null,null,null,null,null,null,null,null,null,null,null,{"$f":"SUM(G728:U728)","v":0},null,null,{"$f":"X728*C728","v":0}]
[null,null,null,null,{"$f":"IF(ISBLANK(A729),0,VLOOKUP(A729,'EQUIPMENT INVENTORY'!$B$7:$AK$1021,7,0))","v":0},{"$f":"IF(ISBLANK(A729),0,VLOOKUP(A729,'EQUIPMENT INVENTORY'!$B$7:$AK$1021,8,0))","v":0},null,null,null,null,null,null,null,null,null,null,null,null,null,null,null,{"$f":"SUM($G729:$U729)","v":0},null,null,{"$f":"V729*F729","v":0}]
[null,null,null,null,{"$f":"IF(ISBLANK(A730),0,VLOOKUP(A730,'EQUIPMENT INVENTORY'!$B$7:$AK$1021,7,0))","v":0},{"$f":"IF(ISBLANK(A730),0,VLOOKUP(A730,'EQUIPMENT INVENTORY'!$B$7:$AK$1021,8,0))","v":0},null,null,null,null,null,null,null,null,null,null,null,null,null,null,null,{"$f":"SUM($G730:$U730)","v":0},null,null,{"$f":"V730*F730","v":0}]
[null,null,null,null,{"$f":"IF(ISBLANK(A731),0,VLOOKUP(A731,'EQUIPMENT INVENTORY'!$B$7:$AK$1021,7,0))","v":0},{"$f":"IF(ISBLANK(A731),0,VLOOKUP(A731,'EQUIPMENT INVENTORY'!$B$7:$AK$1021,8,0))","v":0},null,null,null,null,null,null,null,null,null,null,null,null,null,null,null,{"$f":"SUM($G731:$U731)","v":0},null,null,{"$f":"V731*F731","v":0}]
[null,"REG",{"$f":"IF(ISBLANK(A732),0,VLOOKUP(A732,'PAYROLL RECORD'!$B$8:$U$2005,18,FALSE))","v":0},{"$f":"IF(ISBLANK(A732),0,VLOOKUP(A732,'PAYROLL RECORD'!$B$8:$D$2005,3,FALSE))","v":0},null,null,null,null,null,null,null,null,null,null,null,null,null,null,null,null,null,{"$f":"SUM($G732:$U732)","v":0},null,null,{"$f":"IF(AND($M$5=\"A\",D732<>\"FT\"),C732*V732,0)+IF(AND($M$5=\"B\",D732<>\"FT\"),C732*V732,0)+IF(AND($M$5=\"AP\"),C732*V732,0)+IF($M$5>=\"C\",C732*V732)","v":0}]
[{"$f":"IF(ISBLANK(A732),\" \",VLOOKUP(A732,'PAYROLL RECORD'!$B$9:$C$10740,2,FALSE))","v":" "},"OT1",{"$f":"IF(ISBLANK(A732),0,VLOOKUP(A732,'PAYROLL RECORD'!$B$8:$U$2005,19,FALSE))","v":0},{"$f":"+D732","v":0},null,null,null,null,null,null,null,null,null,null,null,null,null,null,null,null,null,null,{"$f":"SUM(G733:U733)","v":0},null,null,{"$f":"W733*C733","v":0}]
[null,"OT2",{"$f":"IF(ISBLANK(A732),0,VLOOKUP(A732,'PAYROLL RECORD'!$B$8:$U$2005,20,FALSE))","v":0},{"$f":"+D733","v":0},null,null,null,null,null,null,null,null,null,null,null,null,null,null,null,null,null,null,null,{"$f":"SUM(G734:U734)","v":0},null,null,{"$f":"X734*C734","v":0}]
[null,null,null,null,{"$f":"IF(ISBLANK(A735),0,VLOOKUP(A735,'EQUIPMENT INVENTORY'!$B$7:$AK$1021,7,0))","v":0},{"$f":"IF(ISBLANK(A735),0,VLOOKUP(A735,'EQUIPMENT INVENTORY'!$B$7:$AK$1021,8,0))","v":0},null,null,null,null,null,null,null,null,null,null,null,null,null,null,null,{"$f":"SUM($G735:$U735)","v":0},null,null,{"$f":"V735*F735","v":0}]
[null,null,null,null,{"$f":"IF(ISBLANK(A736),0,VLOOKUP(A736,'EQUIPMENT INVENTORY'!$B$7:$AK$1021,7,0))","v":0},{"$f":"IF(ISBLANK(A736),0,VLOOKUP(A736,'EQUIPMENT INVENTORY'!$B$7:$AK$1021,8,0))","v":0},null,null,null,null,null,null,null,null,null,null,null,null,null,null,null,{"$f":"SUM($G736:$U736)","v":0},null,null,{"$f":"V736*F736","v":0}]
[null,null,null,null,{"$f":"IF(ISBLANK(A737),0,VLOOKUP(A737,'EQUIPMENT INVENTORY'!$B$7:$AK$1021,7,0))","v":0},{"$f":"IF(ISBLANK(A737),0,VLOOKUP(A737,'EQUIPMENT INVENTORY'!$B$7:$AK$1021,8,0))","v":0},null,null,null,null,null,null,null,null,null,null,null,null,null,null,null,{"$f":"SUM($G737:$U737)","v":0},null,null,{"$f":"V737*F737","v":0}]
[null,"REG",{"$f":"IF(ISBLANK(A738),0,VLOOKUP(A738,'PAYROLL RECORD'!$B$8:$U$2005,18,FALSE))","v":0},{"$f":"IF(ISBLANK(A738),0,VLOOKUP(A738,'PAYROLL RECORD'!$B$8:$D$2005,3,FALSE))","v":0},null,null,null,null,null,null,null,null,null,null,null,null,null,null,null,null,null,{"$f":"SUM($G738:$U738)","v":0},null,null,{"$f":"IF(AND($M$5=\"A\",D738<>\"FT\"),C738*V738,0)+IF(AND($M$5=\"B\",D738<>\"FT\"),C738*V738,0)+IF(AND($M$5=\"AP\"),C738*V738,0)+IF($M$5>=\"C\",C738*V738)","v":0}]
[{"$f":"IF(ISBLANK(A738),\" \",VLOOKUP(A738,'PAYROLL RECORD'!$B$9:$C$10740,2,FALSE))","v":" "},"OT1",{"$f":"IF(ISBLANK(A738),0,VLOOKUP(A738,'PAYROLL RECORD'!$B$8:$U$2005,19,FALSE))","v":0},{"$f":"+D738","v":0},null,null,null,null,null,null,null,null,null,null,null,null,null,null,null,null,null,null,{"$f":"SUM(G739:U739)","v":0},null,null,{"$f":"W739*C739","v":0}]
[null,"OT2",{"$f":"IF(ISBLANK(A738),0,VLOOKUP(A738,'PAYROLL RECORD'!$B$8:$U$2005,20,FALSE))","v":0},{"$f":"+D739","v":0},null,null,null,null,null,null,null,null,null,null,null,null,null,null,null,null,null,null,null,{"$f":"SUM(G740:U740)","v":0},null,null,{"$f":"X740*C740","v":0}]
[null,null,null,null,{"$f":"IF(ISBLANK(A741),0,VLOOKUP(A741,'EQUIPMENT INVENTORY'!$B$7:$AK$1021,7,0))","v":0},{"$f":"IF(ISBLANK(A741),0,VLOOKUP(A741,'EQUIPMENT INVENTORY'!$B$7:$AK$1021,8,0))","v":0},null,null,null,null,null,null,null,null,null,null,null,null,null,null,null,{"$f":"SUM($G741:$U741)","v":0},null,null,{"$f":"V741*F741","v":0}]
[null,null,null,null,{"$f":"IF(ISBLANK(A742),0,VLOOKUP(A742,'EQUIPMENT INVENTORY'!$B$7:$AK$1021,7,0))","v":0},{"$f":"IF(ISBLANK(A742),0,VLOOKUP(A742,'EQUIPMENT INVENTORY'!$B$7:$AK$1021,8,0))","v":0},null,null,null,null,null,null,null,null,null,null,null,null,null,null,null,{"$f":"SUM($G742:$U742)","v":0},null,null,{"$f":"V742*F742","v":0}]
[null,null,null,null,{"$f":"IF(ISBLANK(A743),0,VLOOKUP(A743,'EQUIPMENT INVENTORY'!$B$7:$AK$1021,7,0))","v":0},{"$f":"IF(ISBLANK(A743),0,VLOOKUP(A743,'EQUIPMENT INVENTORY'!$B$7:$AK$1021,8,0))","v":0},null,null,null,null,null,null,null,null,null,null,null,null,null,null,null,{"$f":"SUM($G743:$U743)","v":0},null,null,{"$f":"V743*F743","v":0}]
[null,"REG",{"$f":"IF(ISBLANK(A744),0,VLOOKUP(A744,'PAYROLL RECORD'!$B$8:$U$2005,18,FALSE))","v":0},{"$f":"IF(ISBLANK(A744),0,VLOOKUP(A744,'PAYROLL RECORD'!$B$8:$D$2005,3,FALSE))","v":0},null,null,null,null,null,null,null,null,null,null,null,null,null,null,null,null,null,{"$f":"SUM($G744:$U744)","v":0},null,null,{"$f":"IF(AND($M$5=\"A\",D744<>\"FT\"),C744*V744,0)+IF(AND($M$5=\"B\",D744<>\"FT\"),C744*V744,0)+IF(AND($M$5=\"AP\"),C744*V744,0)+IF($M$5>=\"C\",C744*V744)","v":0}]
[{"$f":"IF(ISBLANK(A744),\" \",VLOOKUP(A744,'PAYROLL RECORD'!$B$9:$C$10740,2,FALSE))","v":" "},"OT1",{"$f":"IF(ISBLANK(A744),0,VLOOKUP(A744,'PAYROLL RECORD'!$B$8:$U$2005,19,FALSE))","v":0},{"$f":"+D744","v":0},null,null,null,null,null,null,null,null,null,null,null,null,null,null,null,null,null,null,{"$f":"SUM(G745:U745)","v":0},null,null,{"$f":"W745*C745","v":0}]
[null,"OT2",{"$f":"IF(ISBLANK(A744),0,VLOOKUP(A744,'PAYROLL RECORD'!$B$8:$U$2005,20,FALSE))","v":0},{"$f":"+D745","v":0},null,null,null,null,null,null,null,null,null,null,null,null,null,null,null,null,null,null,null,{"$f":"SUM(G746:U746)","v":0},null,null,{"$f":"X746*C746","v":0}]
[null,null,null,null,{"$f":"IF(ISBLANK(A747),0,VLOOKUP(A747,'EQUIPMENT INVENTORY'!$B$7:$AK$1021,7,0))","v":0},{"$f":"IF(ISBLANK(A747),0,VLOOKUP(A747,'EQUIPMENT INVENTORY'!$B$7:$AK$1021,8,0))","v":0},null,null,null,null,null,null,null,null,null,null,null,null,null,null,null,{"$f":"SUM($G747:$U747)","v":0},null,null,{"$f":"V747*F747","v":0}]
[null,null,null,null,{"$f":"IF(ISBLANK(A748),0,VLOOKUP(A748,'EQUIPMENT INVENTORY'!$B$7:$AK$1021,7,0))","v":0},{"$f":"IF(ISBLANK(A748),0,VLOOKUP(A748,'EQUIPMENT INVENTORY'!$B$7:$AK$1021,8,0))","v":0},null,null,null,null,null,null,null,null,null,null,null,null,null,null,null,{"$f":"SUM($G748:$U748)","v":0},null,null,{"$f":"V748*F748","v":0}]
[null,null,null,null,{"$f":"IF(ISBLANK(A749),0,VLOOKUP(A749,'EQUIPMENT INVENTORY'!$B$7:$AK$1021,7,0))","v":0},{"$f":"IF(ISBLANK(A749),0,VLOOKUP(A749,'EQUIPMENT INVENTORY'!$B$7:$AK$1021,8,0))","v":0},null,null,null,null,null,null,null,null,null,null,null,null,null,null,null,{"$f":"SUM($G749:$U749)","v":0},null,null,{"$f":"V749*F749","v":0}]
[null,"REG",{"$f":"IF(ISBLANK(A750),0,VLOOKUP(A750,'PAYROLL RECORD'!$B$8:$U$2005,18,FALSE))","v":0},{"$f":"IF(ISBLANK(A750),0,VLOOKUP(A750,'PAYROLL RECORD'!$B$8:$D$2005,3,FALSE))","v":0},null,null,null,null,null,null,null,null,null,null,null,null,null,null,null,null,null,{"$f":"SUM($G750:$U750)","v":0},null,null,{"$f":"IF(AND($M$5=\"A\",D750<>\"FT\"),C750*V750,0)+IF(AND($M$5=\"B\",D750<>\"FT\"),C750*V750,0)+IF(AND($M$5=\"AP\"),C750*V750,0)+IF($M$5>=\"C\",C750*V750)","v":0}]
[{"$f":"IF(ISBLANK(A750),\" \",VLOOKUP(A750,'PAYROLL RECORD'!$B$9:$C$10740,2,FALSE))","v":" "},"OT1",{"$f":"IF(ISBLANK(A750),0,VLOOKUP(A750,'PAYROLL RECORD'!$B$8:$U$2005,19,FALSE))","v":0},{"$f":"+D750","v":0},null,null,null,null,null,null,null,null,null,null,null,null,null,null,null,null,null,null,{"$f":"SUM(G751:U751)","v":0},null,null,{"$f":"W751*C751","v":0}]
[null,"OT2",{"$f":"IF(ISBLANK(A750),0,VLOOKUP(A750,'PAYROLL RECORD'!$B$8:$U$2005,20,FALSE))","v":0},{"$f":"+D751","v":0},null,null,null,null,null,null,null,null,null,null,null,null,null,null,null,null,null,null,null,{"$f":"SUM(G752:U752)","v":0},null,null,{"$f":"X752*C752","v":0}]
[null,null,null,null,{"$f":"IF(ISBLANK(A753),0,VLOOKUP(A753,'EQUIPMENT INVENTORY'!$B$7:$AK$1021,7,0))","v":0},{"$f":"IF(ISBLANK(A753),0,VLOOKUP(A753,'EQUIPMENT INVENTORY'!$B$7:$AK$1021,8,0))","v":0},null,null,null,null,null,null,null,null,null,null,null,null,null,null,null,{"$f":"SUM($G753:$U753)","v":0},null,null,{"$f":"V753*F753","v":0}]
[null,null,null,null,{"$f":"IF(ISBLANK(A754),0,VLOOKUP(A754,'EQUIPMENT INVENTORY'!$B$7:$AK$1021,7,0))","v":0},{"$f":"IF(ISBLANK(A754),0,VLOOKUP(A754,'EQUIPMENT INVENTORY'!$B$7:$AK$1021,8,0))","v":0},null,null,null,null,null,null,null,null,null,null,null,null,null,null,null,{"$f":"SUM($G754:$U754)","v":0},null,null,{"$f":"V754*F754","v":0}]
[null,null,null,null,{"$f":"IF(ISBLANK(A755),0,VLOOKUP(A755,'EQUIPMENT INVENTORY'!$B$7:$AK$1021,7,0))","v":0},{"$f":"IF(ISBLANK(A755),0,VLOOKUP(A755,'EQUIPMENT INVENTORY'!$B$7:$AK$1021,8,0))","v":0},null,null,null,null,null,null,null,null,null,null,null,null,null,null,null,{"$f":"SUM($G755:$U755)","v":0},null,null,{"$f":"V755*F755","v":0}]
[null,"REG",{"$f":"IF(ISBLANK(A756),0,VLOOKUP(A756,'PAYROLL RECORD'!$B$8:$U$2005,18,FALSE))","v":0},{"$f":"IF(ISBLANK(A756),0,VLOOKUP(A756,'PAYROLL RECORD'!$B$8:$D$2005,3,FALSE))","v":0},null,null,null,null,null,null,null,null,null,null,null,null,null,null,null,null,null,{"$f":"SUM($G756:$U756)","v":0},null,null,{"$f":"IF(AND($M$5=\"A\",D756<>\"FT\"),C756*V756,0)+IF(AND($M$5=\"B\",D756<>\"FT\"),C756*V756,0)+IF(AND($M$5=\"AP\"),C756*V756,0)+IF($M$5>=\"C\",C756*V756)","v":0}]
[{"$f":"IF(ISBLANK(A756),\" \",VLOOKUP(A756,'PAYROLL RECORD'!$B$9:$C$10740,2,FALSE))","v":" "},"OT1",{"$f":"IF(ISBLANK(A756),0,VLOOKUP(A756,'PAYROLL RECORD'!$B$8:$U$2005,19,FALSE))","v":0},{"$f":"+D756","v":0},null,null,null,null,null,null,null,null,null,null,null,null,null,null,null,null,null,null,{"$f":"SUM(G757:U757)","v":0},null,null,{"$f":"W757*C757","v":0}]
[null,"OT2",{"$f":"IF(ISBLANK(A756),0,VLOOKUP(A756,'PAYROLL RECORD'!$B$8:$U$2005,20,FALSE))","v":0},{"$f":"+D757","v":0},null,null,null,null,null,null,null,null,null,null,null,null,null,null,null,null,null,null,null,{"$f":"SUM(G758:U758)","v":0},null,null,{"$f":"X758*C758","v":0}]
[null,null,null,null,{"$f":"IF(ISBLANK(A759),0,VLOOKUP(A759,'EQUIPMENT INVENTORY'!$B$7:$AK$1021,7,0))","v":0},{"$f":"IF(ISBLANK(A759),0,VLOOKUP(A759,'EQUIPMENT INVENTORY'!$B$7:$AK$1021,8,0))","v":0},null,null,null,null,null,null,null,null,null,null,null,null,null,null,null,{"$f":"SUM($G759:$U759)","v":0},null,null,{"$f":"V759*F759","v":0}]
[null,null,null,null,{"$f":"IF(ISBLANK(A760),0,VLOOKUP(A760,'EQUIPMENT INVENTORY'!$B$7:$AK$1021,7,0))","v":0},{"$f":"IF(ISBLANK(A760),0,VLOOKUP(A760,'EQUIPMENT INVENTORY'!$B$7:$AK$1021,8,0))","v":0},null,null,null,null,null,null,null,null,null,null,null,null,null,null,null,{"$f":"SUM($G760:$U760)","v":0},null,null,{"$f":"V760*F760","v":0}]
[null,null,null,null,{"$f":"IF(ISBLANK(A761),0,VLOOKUP(A761,'EQUIPMENT INVENTORY'!$B$7:$AK$1021,7,0))","v":0},{"$f":"IF(ISBLANK(A761),0,VLOOKUP(A761,'EQUIPMENT INVENTORY'!$B$7:$AK$1021,8,0))","v":0},null,null,null,null,null,null,null,null,null,null,null,null,null,null,null,{"$f":"SUM($G761:$U761)","v":0},null,null,{"$f":"V761*F761","v":0},null,null,"Reg hrs","ot1 hrs","ot2 hrs","equip hrs"]
[null,null,null,null,null,null,null,null,null,null,null,null,null,null,null,null,"LABOR - Page Total",null,null,null,null,{"$f":"V714+V720+V726+V738+V744+V756+V732+V750","v":0},{"$f":"SUM(W714:W761)","v":0},{"$f":"SUM(X714:X761)","v":0},{"$f":"Y714+Y720+Y726+Y738+Y744+Y756+Y732+Y750","v":0},{"$f":"SUM(Z715:Z761)","v":0},{"$f":"SUM(AA715:AA761)","v":0},{"$f":"V762","v":0},{"$f":"W762","v":0},{"$f":"X762","v":0},{"$f":"V763","v":0},{"$f":"Y762","v":0},{"$f":"Z762","v":0},{"$f":"AA762","v":0},{"$f":"Y763","v":0}]
[null,null,null,null,null,null,null,null,null,null,null,null,null,null,null,null,"EQUIPMENT - Page Total",null,null,null,null,{"$f":"V717+V718+V719+V723+V724+V725+V729+V730+V731+V735+V736+V737+V741+V742+V743+V747+V748+V749+V759+V760+V761+V753+V754+V755","v":0},null,null,{"$f":"Y717+Y718+Y719+Y723+Y724+Y725+Y729+Y730+Y731+Y735+Y736+Y737+Y741+Y742+Y743+Y747+Y748+Y749+Y759+Y760+Y761+Y753+Y754+Y755","v":0}]
[null,null,null,null,null,null,null,null,null,null,null,null,null,null,null,null,"LABOR - Grand Total",null,null,null,null,{"$f":"SUM($AB:$AB)","v":0},{"$f":"SUM($AC:$AC)","v":0},{"$f":"SUM($AD:$AD)","v":0},{"$f":"SUM(AF:AF)","v":0},{"$f":"SUM($AG:$AG)","v":0},{"$f":"SUM($AH:$AH)","v":0}]
[null,null,null,null,null,null,null,null,null,null,null,null,null,null,null,null,"EQUIPMENT - Grand Total",null,null,null,null,{"$f":"SUM($AE:$AE)","v":0},null,null,{"$f":"SUM($AI:$AI)","v":0}]
[]
[]
["COST SUMMARY FOR LABOR/EQUIPMENT"]
["APPLICANT - FIPS#",null,null,null,"DISASTER #:",null,null,"PROJECT #:",null,null,null,null,"FEMA CAT A-G",null,null,"EMMIE #",null,null,null,"Work Completion Date"]
[{"$f":"IF('PAYROLL RECORD'!$B$5=\"START HERE\",\"\",'PAYROLL RECORD'!$B$5)","v":0},null,null,null,{"$f":"IF('PAYROLL RECORD'!$F$5=\"\",\"\",'PAYROLL RECORD'!$F$5)","v":""},null,null,{"$f":"'PAYROLL RECORD'!I769:L769","v":{"$error":"#VALUE!"}},null,null,null,null,{"$f":"IF('PAYROLL RECORD'!$M$5=\"CATEGORY\",\"\",'PAYROLL RECORD'!$M$5)","v":0},null,null,{"$f":"IF('PAYROLL RECORD'!$O$5=\"EMMIE #\",\"\",'PAYROLL RECORD'!$O$5)","v":0},null,null,null,{"$f":"IF('PAYROLL RECORD'!$Q$5=\"DATE\",\"\",'PAYROLL RECORD'!$Q$5)","v":"00:00:00"}]
["Employee/\nEquipment",null,"RATE w/","STATUS","COST CODE","RATE","2018-10-31",{"$f":"+G771+1","v":"2018-11-01"},{"$f":"H771+1","v":"2018-11-02"},"2018-11-03","2018-11-04","2018-11-05","2018-11-06","2018-11-07","2018-11-08","2018-11-09","2018-11-10","2018-11-11","2018-11-12","2018-11-13","2018-11-14","REG","OT1","OT2","REG TIME\nCOST","OT1\nCOST","OT2\nCOST"]
[null,null,"FRINGE",null,null,null,{"$f":"IF(G771<=0,\"\",TEXT(WEEKDAY(G771),\"ddd\"))","v":"Wed"},{"$f":"IF(H771<=0,\"\",TEXT(WEEKDAY(H771),\"ddd\"))","v":"Thu"},"Fri","Sat","Sun","Mon","Tue","Wed","Thu","Fri","Sat","Sun","Mon","Tue","Wed"]
[null,"REG",{"$f":"IF(ISBLANK(A773),0,VLOOKUP(A773,'PAYROLL RECORD'!$B$8:$U$2005,18,FALSE))","v":0},{"$f":"IF(ISBLANK(A773),0,VLOOKUP(A773,'PAYROLL RECORD'!$B$8:$D$2005,3,FALSE))","v":0},null,null,null,null,null,null,null,null,null,null,null,null,null,null,null,null,null,{"$f":"SUM($G773:$U773)","v":0},null,null,{"$f":"IF(AND($M$5=\"A\",D773<>\"FT\"),C773*V773,0)+IF(AND($M$5=\"B\",D773<>\"FT\"),C773*V773,0)+IF(AND($M$5=\"AP\"),C773*V773,0)+IF($M$5>=\"C\",C773*V773)","v":0}]
[{"$f":"IF(ISBLANK(A773),\" \",VLOOKUP(A773,'PAYROLL RECORD'!$B$9:$C$10740,2,FALSE))","v":" "},"OT1",{"$f":"IF(ISBLANK(A773),0,VLOOKUP(A773,'PAYROLL RECORD'!$B$8:$U$2005,19,FALSE))","v":0},{"$f":"+D773","v":0},null,null,null,null,null,null,null,null,null,null,null,null,null,null,null,null,null,null,{"$f":"SUM(G774:U774)","v":0},null,null,{"$f":"W774*C774","v":0}]
[null,"OT2",{"$f":"IF(ISBLANK(A773),0,VLOOKUP(A773,'PAYROLL RECORD'!$B$8:$U$2005,20,FALSE))","v":0},{"$f":"+D774","v":0},null,null,null,null,null,null,null,null,null,null,null,null,null,null,null,null,null,null,null,{"$f":"SUM(G775:U775)","v":0},null,null,{"$f":"X775*C775","v":0}]
[null,null,null,null,{"$f":"IF(ISBLANK(A776),0,VLOOKUP(A776,'EQUIPMENT INVENTORY'!$B$7:$AK$1021,7,0))","v":0},{"$f":"IF(ISBLANK(A776),0,VLOOKUP(A776,'EQUIPMENT INVENTORY'!$B$7:$AK$1021,8,0))","v":0},null,null,null,null,null,null,null,null,null,null,null,null,null,null,null,{"$f":"SUM($G776:$U776)","v":0},null,null,{"$f":"V776*F776","v":0}]
[null,null,null,null,{"$f":"IF(ISBLANK(A777),0,VLOOKUP(A777,'EQUIPMENT INVENTORY'!$B$7:$AK$1021,7,0))","v":0},{"$f":"IF(ISBLANK(A777),0,VLOOKUP(A777,'EQUIPMENT INVENTORY'!$B$7:$AK$1021,8,0))","v":0},null,null,null,null,null,null,null,null,null,null,null,null,null,null,null,{"$f":"SUM($G777:$U777)","v":0},null,null,{"$f":"V777*F777","v":0}]
[null,null,null,null,{"$f":"IF(ISBLANK(A778),0,VLOOKUP(A778,'EQUIPMENT INVENTORY'!$B$7:$AK$1021,7,0))","v":0},{"$f":"IF(ISBLANK(A778),0,VLOOKUP(A778,'EQUIPMENT INVENTORY'!$B$7:$AK$1021,8,0))","v":0},null,null,null,null,null,null,null,null,null,null,null,null,null,null,null,{"$f":"SUM($G778:$U778)","v":0},null,null,{"$f":"V778*F778","v":0}]
[null,"REG",{"$f":"IF(ISBLANK(A779),0,VLOOKUP(A779,'PAYROLL RECORD'!$B$8:$U$2005,18,FALSE))","v":0},{"$f":"IF(ISBLANK(A779),0,VLOOKUP(A779,'PAYROLL RECORD'!$B$8:$D$2005,3,FALSE))","v":0},null,null,null,null,null,null,null,null,null,null,null,null,null,null,null,null,null,{"$f":"SUM($G779:$U779)","v":0},null,null,{"$f":"IF(AND($M$5=\"A\",D779<>\"FT\"),C779*V779,0)+IF(AND($M$5=\"B\",D779<>\"FT\"),C779*V779,0)+IF(AND($M$5=\"AP\"),C779*V779,0)+IF($M$5>=\"C\",C779*V779)","v":0}]
[{"$f":"IF(ISBLANK(A779),\" \",VLOOKUP(A779,'PAYROLL RECORD'!$B$9:$C$10740,2,FALSE))","v":" "},"OT1",{"$f":"IF(ISBLANK(A779),0,VLOOKUP(A779,'PAYROLL RECORD'!$B$8:$U$2005,19,FALSE))","v":0},{"$f":"+D779","v":0},null,null,null,null,null,null,null,null,null,null,null,null,null,null,null,null,null,null,{"$f":"SUM(G780:U780)","v":0},null,null,{"$f":"W780*C780","v":0}]
[null,"OT2",{"$f":"IF(ISBLANK(A779),0,VLOOKUP(A779,'PAYROLL RECORD'!$B$8:$U$2005,20,FALSE))","v":0},{"$f":"+D780","v":0},null,null,null,null,null,null,null,null,null,null,null,null,null,null,null,null,null,null,null,{"$f":"SUM(G781:U781)","v":0},null,null,{"$f":"X781*C781","v":0}]
[null,null,null,null,{"$f":"IF(ISBLANK(A782),0,VLOOKUP(A782,'EQUIPMENT INVENTORY'!$B$7:$AK$1021,7,0))","v":0},{"$f":"IF(ISBLANK(A782),0,VLOOKUP(A782,'EQUIPMENT INVENTORY'!$B$7:$AK$1021,8,0))","v":0},null,null,null,null,null,null,null,null,null,null,null,null,null,null,null,{"$f":"SUM($G782:$U782)","v":0},null,null,{"$f":"V782*F782","v":0}]
[null,null,null,null,{"$f":"IF(ISBLANK(A783),0,VLOOKUP(A783,'EQUIPMENT INVENTORY'!$B$7:$AK$1021,7,0))","v":0},{"$f":"IF(ISBLANK(A783),0,VLOOKUP(A783,'EQUIPMENT INVENTORY'!$B$7:$AK$1021,8,0))","v":0},null,null,null,null,null,null,null,null,null,null,null,null,null,null,null,{"$f":"SUM($G783:$U783)","v":0},null,null,{"$f":"V783*F783","v":0}]
[null,null,null,null,{"$f":"IF(ISBLANK(A784),0,VLOOKUP(A784,'EQUIPMENT INVENTORY'!$B$7:$AK$1021,7,0))","v":0},{"$f":"IF(ISBLANK(A784),0,VLOOKUP(A784,'EQUIPMENT INVENTORY'!$B$7:$AK$1021,8,0))","v":0},null,null,null,null,null,null,null,null,null,null,null,null,null,null,null,{"$f":"SUM($G784:$U784)","v":0},null,null,{"$f":"V784*F784","v":0}]
[null,"REG",{"$f":"IF(ISBLANK(A785),0,VLOOKUP(A785,'PAYROLL RECORD'!$B$8:$U$2005,18,FALSE))","v":0},{"$f":"IF(ISBLANK(A785),0,VLOOKUP(A785,'PAYROLL RECORD'!$B$8:$D$2005,3,FALSE))","v":0},null,null,null,null,null,null,null,null,null,null,null,null,null,null,null,null,null,{"$f":"SUM($G785:$U785)","v":0},null,null,{"$f":"IF(AND($M$5=\"A\",D785<>\"FT\"),C785*V785,0)+IF(AND($M$5=\"B\",D785<>\"FT\"),C785*V785,0)+IF(AND($M$5=\"AP\"),C785*V785,0)+IF($M$5>=\"C\",C785*V785)","v":0}]
[{"$f":"IF(ISBLANK(A785),\" \",VLOOKUP(A785,'PAYROLL RECORD'!$B$9:$C$10740,2,FALSE))","v":" "},"OT1",{"$f":"IF(ISBLANK(A785),0,VLOOKUP(A785,'PAYROLL RECORD'!$B$8:$U$2005,19,FALSE))","v":0},{"$f":"+D785","v":0},null,null,null,null,null,null,null,null,null,null,null,null,null,null,null,null,null,null,{"$f":"SUM(G786:U786)","v":0},null,null,{"$f":"W786*C786","v":0}]
[null,"OT2",{"$f":"IF(ISBLANK(A785),0,VLOOKUP(A785,'PAYROLL RECORD'!$B$8:$U$2005,20,FALSE))","v":0},{"$f":"+D786","v":0},null,null,null,null,null,null,null,null,null,null,null,null,null,null,null,null,null,null,null,{"$f":"SUM(G787:U787)","v":0},null,null,{"$f":"X787*C787","v":0}]
[null,null,null,null,{"$f":"IF(ISBLANK(A788),0,VLOOKUP(A788,'EQUIPMENT INVENTORY'!$B$7:$AK$1021,7,0))","v":0},{"$f":"IF(ISBLANK(A788),0,VLOOKUP(A788,'EQUIPMENT INVENTORY'!$B$7:$AK$1021,8,0))","v":0},null,null,null,null,null,null,null,null,null,null,null,null,null,null,null,{"$f":"SUM($G788:$U788)","v":0},null,null,{"$f":"V788*F788","v":0}]
[null,null,null,null,{"$f":"IF(ISBLANK(A789),0,VLOOKUP(A789,'EQUIPMENT INVENTORY'!$B$7:$AK$1021,7,0))","v":0},{"$f":"IF(ISBLANK(A789),0,VLOOKUP(A789,'EQUIPMENT INVENTORY'!$B$7:$AK$1021,8,0))","v":0},null,null,null,null,null,null,null,null,null,null,null,null,null,null,null,{"$f":"SUM($G789:$U789)","v":0},null,null,{"$f":"V789*F789","v":0}]
[null,null,null,null,{"$f":"IF(ISBLANK(A790),0,VLOOKUP(A790,'EQUIPMENT INVENTORY'!$B$7:$AK$1021,7,0))","v":0},{"$f":"IF(ISBLANK(A790),0,VLOOKUP(A790,'EQUIPMENT INVENTORY'!$B$7:$AK$1021,8,0))","v":0},null,null,null,null,null,null,null,null,null,null,null,null,null,null,null,{"$f":"SUM($G790:$U790)","v":0},null,null,{"$f":"V790*F790","v":0}]
[null,"REG",{"$f":"IF(ISBLANK(A791),0,VLOOKUP(A791,'PAYROLL RECORD'!$B$8:$U$2005,18,FALSE))","v":0},{"$f":"IF(ISBLANK(A791),0,VLOOKUP(A791,'PAYROLL RECORD'!$B$8:$D$2005,3,FALSE))","v":0},null,null,null,null,null,null,null,null,null,null,null,null,null,null,null,null,null,{"$f":"SUM($G791:$U791)","v":0},null,null,{"$f":"IF(AND($M$5=\"A\",D791<>\"FT\"),C791*V791,0)+IF(AND($M$5=\"B\",D791<>\"FT\"),C791*V791,0)+IF(AND($M$5=\"AP\"),C791*V791,0)+IF($M$5>=\"C\",C791*V791)","v":0}]
[{"$f":"IF(ISBLANK(A791),\" \",VLOOKUP(A791,'PAYROLL RECORD'!$B$9:$C$10740,2,FALSE))","v":" "},"OT1",{"$f":"IF(ISBLANK(A791),0,VLOOKUP(A791,'PAYROLL RECORD'!$B$8:$U$2005,19,FALSE))","v":0},{"$f":"+D791","v":0},null,null,null,null,null,null,null,null,null,null,null,null,null,null,null,null,null,null,{"$f":"SUM(G792:U792)","v":0},null,null,{"$f":"W792*C792","v":0}]
[null,"OT2",{"$f":"IF(ISBLANK(A791),0,VLOOKUP(A791,'PAYROLL RECORD'!$B$8:$U$2005,20,FALSE))","v":0},{"$f":"+D792","v":0},null,null,null,null,null,null,null,null,null,null,null,null,null,null,null,null,null,null,null,{"$f":"SUM(G793:U793)","v":0},null,null,{"$f":"X793*C793","v":0}]
[null,null,null,null,{"$f":"IF(ISBLANK(A794),0,VLOOKUP(A794,'EQUIPMENT INVENTORY'!$B$7:$AK$1021,7,0))","v":0},{"$f":"IF(ISBLANK(A794),0,VLOOKUP(A794,'EQUIPMENT INVENTORY'!$B$7:$AK$1021,8,0))","v":0},null,null,null,null,null,null,null,null,null,null,null,null,null,null,null,{"$f":"SUM($G794:$U794)","v":0},null,null,{"$f":"V794*F794","v":0}]
[null,null,null,null,{"$f":"IF(ISBLANK(A795),0,VLOOKUP(A795,'EQUIPMENT INVENTORY'!$B$7:$AK$1021,7,0))","v":0},{"$f":"IF(ISBLANK(A795),0,VLOOKUP(A795,'EQUIPMENT INVENTORY'!$B$7:$AK$1021,8,0))","v":0},null,null,null,null,null,null,null,null,null,null,null,null,null,null,null,{"$f":"SUM($G795:$U795)","v":0},null,null,{"$f":"V795*F795","v":0}]
[null,null,null,null,{"$f":"IF(ISBLANK(A796),0,VLOOKUP(A796,'EQUIPMENT INVENTORY'!$B$7:$AK$1021,7,0))","v":0},{"$f":"IF(ISBLANK(A796),0,VLOOKUP(A796,'EQUIPMENT INVENTORY'!$B$7:$AK$1021,8,0))","v":0},null,null,null,null,null,null,null,null,null,null,null,null,null,null,null,{"$f":"SUM($G796:$U796)","v":0},null,null,{"$f":"V796*F796","v":0}]
[null,"REG",{"$f":"IF(ISBLANK(A797),0,VLOOKUP(A797,'PAYROLL RECORD'!$B$8:$U$2005,18,FALSE))","v":0},{"$f":"IF(ISBLANK(A797),0,VLOOKUP(A797,'PAYROLL RECORD'!$B$8:$D$2005,3,FALSE))","v":0},null,null,null,null,null,null,null,null,null,null,null,null,null,null,null,null,null,{"$f":"SUM($G797:$U797)","v":0},null,null,{"$f":"IF(AND($M$5=\"A\",D797<>\"FT\"),C797*V797,0)+IF(AND($M$5=\"B\",D797<>\"FT\"),C797*V797,0)+IF(AND($M$5=\"AP\"),C797*V797,0)+IF($M$5>=\"C\",C797*V797)","v":0}]
[{"$f":"IF(ISBLANK(A797),\" \",VLOOKUP(A797,'PAYROLL RECORD'!$B$9:$C$10740,2,FALSE))","v":" "},"OT1",{"$f":"IF(ISBLANK(A797),0,VLOOKUP(A797,'PAYROLL RECORD'!$B$8:$U$2005,19,FALSE))","v":0},{"$f":"+D797","v":0},null,null,null,null,null,null,null,null,null,null,null,null,null,null,null,null,null,null,{"$f":"SUM(G798:U798)","v":0},null,null,{"$f":"W798*C798","v":0}]
[null,"OT2",{"$f":"IF(ISBLANK(A797),0,VLOOKUP(A797,'PAYROLL RECORD'!$B$8:$U$2005,20,FALSE))","v":0},{"$f":"+D798","v":0},null,null,null,null,null,null,null,null,null,null,null,null,null,null,null,null,null,null,null,{"$f":"SUM(G799:U799)","v":0},null,null,{"$f":"X799*C799","v":0}]
[null,null,null,null,{"$f":"IF(ISBLANK(A800),0,VLOOKUP(A800,'EQUIPMENT INVENTORY'!$B$7:$AK$1021,7,0))","v":0},{"$f":"IF(ISBLANK(A800),0,VLOOKUP(A800,'EQUIPMENT INVENTORY'!$B$7:$AK$1021,8,0))","v":0},null,null,null,null,null,null,null,null,null,null,null,null,null,null,null,{"$f":"SUM($G800:$U800)","v":0},null,null,{"$f":"V800*F800","v":0}]
[null,null,null,null,{"$f":"IF(ISBLANK(A801),0,VLOOKUP(A801,'EQUIPMENT INVENTORY'!$B$7:$AK$1021,7,0))","v":0},{"$f":"IF(ISBLANK(A801),0,VLOOKUP(A801,'EQUIPMENT INVENTORY'!$B$7:$AK$1021,8,0))","v":0},null,null,null,null,null,null,null,null,null,null,null,null,null,null,null,{"$f":"SUM($G801:$U801)","v":0},null,null,{"$f":"V801*F801","v":0}]
[null,null,null,null,{"$f":"IF(ISBLANK(A802),0,VLOOKUP(A802,'EQUIPMENT INVENTORY'!$B$7:$AK$1021,7,0))","v":0},{"$f":"IF(ISBLANK(A802),0,VLOOKUP(A802,'EQUIPMENT INVENTORY'!$B$7:$AK$1021,8,0))","v":0},null,null,null,null,null,null,null,null,null,null,null,null,null,null,null,{"$f":"SUM($G802:$U802)","v":0},null,null,{"$f":"V802*F802","v":0}]
[null,"REG",{"$f":"IF(ISBLANK(A803),0,VLOOKUP(A803,'PAYROLL RECORD'!$B$8:$U$2005,18,FALSE))","v":0},{"$f":"IF(ISBLANK(A803),0,VLOOKUP(A803,'PAYROLL RECORD'!$B$8:$D$2005,3,FALSE))","v":0},null,null,null,null,null,null,null,null,null,null,null,null,null,null,null,null,null,{"$f":"SUM($G803:$U803)","v":0},null,null,{"$f":"IF(AND($M$5=\"A\",D803<>\"FT\"),C803*V803,0)+IF(AND($M$5=\"B\",D803<>\"FT\"),C803*V803,0)+IF(AND($M$5=\"AP\"),C803*V803,0)+IF($M$5>=\"C\",C803*V803)","v":0}]
[{"$f":"IF(ISBLANK(A803),\" \",VLOOKUP(A803,'PAYROLL RECORD'!$B$9:$C$10740,2,FALSE))","v":" "},"OT1",{"$f":"IF(ISBLANK(A803),0,VLOOKUP(A803,'PAYROLL RECORD'!$B$8:$U$2005,19,FALSE))","v":0},{"$f":"+D803","v":0},null,null,null,null,null,null,null,null,null,null,null,null,null,null,null,null,null,null,{"$f":"SUM(G804:U804)","v":0},null,null,{"$f":"W804*C804","v":0}]
[null,"OT2",{"$f":"IF(ISBLANK(A803),0,VLOOKUP(A803,'PAYROLL RECORD'!$B$8:$U$2005,20,FALSE))","v":0},{"$f":"+D804","v":0},null,null,null,null,null,null,null,null,null,null,null,null,null,null,null,null,null,null,null,{"$f":"SUM(G805:U805)","v":0},null,null,{"$f":"X805*C805","v":0}]
[null,null,null,null,{"$f":"IF(ISBLANK(A806),0,VLOOKUP(A806,'EQUIPMENT INVENTORY'!$B$7:$AK$1021,7,0))","v":0},{"$f":"IF(ISBLANK(A806),0,VLOOKUP(A806,'EQUIPMENT INVENTORY'!$B$7:$AK$1021,8,0))","v":0},null,null,null,null,null,null,null,null,null,null,null,null,null,null,null,{"$f":"SUM($G806:$U806)","v":0},null,null,{"$f":"V806*F806","v":0}]
[null,null,null,null,{"$f":"IF(ISBLANK(A807),0,VLOOKUP(A807,'EQUIPMENT INVENTORY'!$B$7:$AK$1021,7,0))","v":0},{"$f":"IF(ISBLANK(A807),0,VLOOKUP(A807,'EQUIPMENT INVENTORY'!$B$7:$AK$1021,8,0))","v":0},null,null,null,null,null,null,null,null,null,null,null,null,null,null,null,{"$f":"SUM($G807:$U807)","v":0},null,null,{"$f":"V807*F807","v":0}]
[null,null,null,null,{"$f":"IF(ISBLANK(A808),0,VLOOKUP(A808,'EQUIPMENT INVENTORY'!$B$7:$AK$1021,7,0))","v":0},{"$f":"IF(ISBLANK(A808),0,VLOOKUP(A808,'EQUIPMENT INVENTORY'!$B$7:$AK$1021,8,0))","v":0},null,null,null,null,null,null,null,null,null,null,null,null,null,null,null,{"$f":"SUM($G808:$U808)","v":0},null,null,{"$f":"V808*F808","v":0}]
[null,"REG",{"$f":"IF(ISBLANK(A809),0,VLOOKUP(A809,'PAYROLL RECORD'!$B$8:$U$2005,18,FALSE))","v":0},{"$f":"IF(ISBLANK(A809),0,VLOOKUP(A809,'PAYROLL RECORD'!$B$8:$D$2005,3,FALSE))","v":0},null,null,null,null,null,null,null,null,null,null,null,null,null,null,null,null,null,{"$f":"SUM($G809:$U809)","v":0},null,null,{"$f":"IF(AND($M$5=\"A\",D809<>\"FT\"),C809*V809,0)+IF(AND($M$5=\"B\",D809<>\"FT\"),C809*V809,0)+IF(AND($M$5=\"AP\"),C809*V809,0)+IF($M$5>=\"C\",C809*V809)","v":0}]
[{"$f":"IF(ISBLANK(A809),\" \",VLOOKUP(A809,'PAYROLL RECORD'!$B$9:$C$10740,2,FALSE))","v":" "},"OT1",{"$f":"IF(ISBLANK(A809),0,VLOOKUP(A809,'PAYROLL RECORD'!$B$8:$U$2005,19,FALSE))","v":0},{"$f":"+D809","v":0},null,null,null,null,null,null,null,null,null,null,null,null,null,null,null,null,null,null,{"$f":"SUM(G810:U810)","v":0},null,null,{"$f":"W810*C810","v":0}]
[null,"OT2",{"$f":"IF(ISBLANK(A809),0,VLOOKUP(A809,'PAYROLL RECORD'!$B$8:$U$2005,20,FALSE))","v":0},{"$f":"+D810","v":0},null,null,null,null,null,null,null,null,null,null,null,null,null,null,null,null,null,null,null,{"$f":"SUM(G811:U811)","v":0},null,null,{"$f":"X811*C811","v":0}]
[null,null,null,null,{"$f":"IF(ISBLANK(A812),0,VLOOKUP(A812,'EQUIPMENT INVENTORY'!$B$7:$AK$1021,7,0))","v":0},{"$f":"IF(ISBLANK(A812),0,VLOOKUP(A812,'EQUIPMENT INVENTORY'!$B$7:$AK$1021,8,0))","v":0},null,null,null,null,null,null,null,null,null,null,null,null,null,null,null,{"$f":"SUM($G812:$U812)","v":0},null,null,{"$f":"V812*F812","v":0}]
[null,null,null,null,{"$f":"IF(ISBLANK(A813),0,VLOOKUP(A813,'EQUIPMENT INVENTORY'!$B$7:$AK$1021,7,0))","v":0},{"$f":"IF(ISBLANK(A813),0,VLOOKUP(A813,'EQUIPMENT INVENTORY'!$B$7:$AK$1021,8,0))","v":0},null,null,null,null,null,null,null,null,null,null,null,null,null,null,null,{"$f":"SUM($G813:$U813)","v":0},null,null,{"$f":"V813*F813","v":0}]
[null,null,null,null,{"$f":"IF(ISBLANK(A814),0,VLOOKUP(A814,'EQUIPMENT INVENTORY'!$B$7:$AK$1021,7,0))","v":0},{"$f":"IF(ISBLANK(A814),0,VLOOKUP(A814,'EQUIPMENT INVENTORY'!$B$7:$AK$1021,8,0))","v":0},null,null,null,null,null,null,null,null,null,null,null,null,null,null,null,{"$f":"SUM($G814:$U814)","v":0},null,null,{"$f":"V814*F814","v":0}]
[null,"REG",{"$f":"IF(ISBLANK(A815),0,VLOOKUP(A815,'PAYROLL RECORD'!$B$8:$U$2005,18,FALSE))","v":0},{"$f":"IF(ISBLANK(A815),0,VLOOKUP(A815,'PAYROLL RECORD'!$B$8:$D$2005,3,FALSE))","v":0},null,null,null,null,null,null,null,null,null,null,null,null,null,null,null,null,null,{"$f":"SUM($G815:$U815)","v":0},null,null,{"$f":"IF(AND($M$5=\"A\",D815<>\"FT\"),C815*V815,0)+IF(AND($M$5=\"B\",D815<>\"FT\"),C815*V815,0)+IF(AND($M$5=\"AP\"),C815*V815,0)+IF($M$5>=\"C\",C815*V815)","v":0}]
[{"$f":"IF(ISBLANK(A815),\" \",VLOOKUP(A815,'PAYROLL RECORD'!$B$9:$C$10740,2,FALSE))","v":" "},"OT1",{"$f":"IF(ISBLANK(A815),0,VLOOKUP(A815,'PAYROLL RECORD'!$B$8:$U$2005,19,FALSE))","v":0},{"$f":"+D815","v":0},null,null,null,null,null,null,null,null,null,null,null,null,null,null,null,null,null,null,{"$f":"SUM(G816:U816)","v":0},null,null,{"$f":"W816*C816","v":0}]
[null,"OT2",{"$f":"IF(ISBLANK(A815),0,VLOOKUP(A815,'PAYROLL RECORD'!$B$8:$U$2005,20,FALSE))","v":0},{"$f":"+D816","v":0},null,null,null,null,null,null,null,null,null,null,null,null,null,null,null,null,null,null,null,{"$f":"SUM(G817:U817)","v":0},null,null,{"$f":"X817*C817","v":0}]
[null,null,null,null,{"$f":"IF(ISBLANK(A818),0,VLOOKUP(A818,'EQUIPMENT INVENTORY'!$B$7:$AK$1021,7,0))","v":0},{"$f":"IF(ISBLANK(A818),0,VLOOKUP(A818,'EQUIPMENT INVENTORY'!$B$7:$AK$1021,8,0))","v":0},null,null,null,null,null,null,null,null,null,null,null,null,null,null,null,{"$f":"SUM($G818:$U818)","v":0},null,null,{"$f":"V818*F818","v":0}]
[null,null,null,null,{"$f":"IF(ISBLANK(A819),0,VLOOKUP(A819,'EQUIPMENT INVENTORY'!$B$7:$AK$1021,7,0))","v":0},{"$f":"IF(ISBLANK(A819),0,VLOOKUP(A819,'EQUIPMENT INVENTORY'!$B$7:$AK$1021,8,0))","v":0},null,null,null,null,null,null,null,null,null,null,null,null,null,null,null,{"$f":"SUM($G819:$U819)","v":0},null,null,{"$f":"V819*F819","v":0}]
[null,null,null,null,{"$f":"IF(ISBLANK(A820),0,VLOOKUP(A820,'EQUIPMENT INVENTORY'!$B$7:$AK$1021,7,0))","v":0},{"$f":"IF(ISBLANK(A820),0,VLOOKUP(A820,'EQUIPMENT INVENTORY'!$B$7:$AK$1021,8,0))","v":0},null,null,null,null,null,null,null,null,null,null,null,null,null,null,null,{"$f":"SUM($G820:$U820)","v":0},null,null,{"$f":"V820*F820","v":0},null,null,"Reg hrs","ot1 hrs","ot2 hrs","equip hrs"]
[null,null,null,null,null,null,null,null,null,null,null,null,null,null,null,null,"LABOR - Page Total",null,null,null,null,{"$f":"V773+V779+V785+V797+V803+V815+V791+V809","v":0},{"$f":"SUM(W773:W820)","v":0},{"$f":"SUM(X773:X820)","v":0},{"$f":"Y773+Y779+Y785+Y797+Y803+Y815+Y791+Y809","v":0},{"$f":"SUM(Z774:Z820)","v":0},{"$f":"SUM(AA774:AA820)","v":0},{"$f":"V821","v":0},{"$f":"W821","v":0},{"$f":"X821","v":0},{"$f":"V822","v":0},{"$f":"Y821","v":0},{"$f":"Z821","v":0},{"$f":"AA821","v":0},{"$f":"Y822","v":0}]
[null,null,null,null,null,null,null,null,null,null,null,null,null,null,null,null,"EQUIPMENT - Page Total",null,null,null,null,{"$f":"V776+V777+V778+V782+V783+V784+V788+V789+V790+V794+V795+V796+V800+V801+V802+V806+V807+V808+V818+V819+V820+V812+V813+V814","v":0},null,null,{"$f":"Y776+Y777+Y778+Y782+Y783+Y784+Y788+Y789+Y790+Y794+Y795+Y796+Y800+Y801+Y802+Y806+Y807+Y808+Y818+Y819+Y820+Y812+Y813+Y814","v":0}]
[null,null,null,null,null,null,null,null,null,null,null,null,null,null,null,null,"LABOR - Grand Total",null,null,null,null,{"$f":"SUM($AB:$AB)","v":0},{"$f":"SUM($AC:$AC)","v":0},{"$f":"SUM($AD:$AD)","v":0},{"$f":"SUM(AF:AF)","v":0},{"$f":"SUM($AG:$AG)","v":0},{"$f":"SUM($AH:$AH)","v":0}]
[null,null,null,null,null,null,null,null,null,null,null,null,null,null,null,null,"EQUIPMENT - Grand Total",null,null,null,null,{"$f":"SUM($AE:$AE)","v":0},null,null,{"$f":"SUM($AI:$AI)","v":0}]
[]
[]
["COST SUMMARY FOR LABOR/EQUIPMENT"]
["APPLICANT - FIPS#",null,null,null,"DISASTER #:",null,null,"PROJECT #:",null,null,null,null,"FEMA CAT A-G",null,null,"EMMIE #",null,null,null,"Work Completion Date"]
[{"$f":"IF('PAYROLL RECORD'!$B$5=\"START HERE\",\"\",'PAYROLL RECORD'!$B$5)","v":0},null,null,null,{"$f":"IF('PAYROLL RECORD'!$F$5=\"\",\"\",'PAYROLL RECORD'!$F$5)","v":""},null,null,{"$f":"'PAYROLL RECORD'!I828:L828","v":{"$error":"#VALUE!"}},null,null,null,null,{"$f":"IF('PAYROLL RECORD'!$M$5=\"CATEGORY\",\"\",'PAYROLL RECORD'!$M$5)","v":0},null,null,{"$f":"IF('PAYROLL RECORD'!$O$5=\"EMMIE #\",\"\",'PAYROLL RECORD'!$O$5)","v":0},null,null,null,{"$f":"IF('PAYROLL RECORD'!$Q$5=\"DATE\",\"\",'PAYROLL RECORD'!$Q$5)","v":"00:00:00"}]
["Employee/\nEquipment",null,"RATE w/","STATUS","COST CODE","RATE","2018-10-31",{"$f":"+G830+1","v":"2018-11-01"},{"$f":"H830+1","v":"2018-11-02"},"2018-11-03","2018-11-04","2018-11-05","2018-11-06","2018-11-07","2018-11-08","2018-11-09","2018-11-10","2018-11-11","2018-11-12","2018-11-13","2018-11-14","REG","OT1","OT2","REG TIME\nCOST","OT1\nCOST","OT2\nCOST"]
[null,null,"FRINGE",null,null,null,{"$f":"IF(G830<=0,\"\",TEXT(WEEKDAY(G830),\"ddd\"))","v":"Wed"},{"$f":"IF(H830<=0,\"\",TEXT(WEEKDAY(H830),\"ddd\"))","v":"Thu"},"Fri","Sat","Sun","Mon","Tue","Wed","Thu","Fri","Sat","Sun","Mon","Tue","Wed"]
[null,"REG",{"$f":"IF(ISBLANK(A832),0,VLOOKUP(A832,'PAYROLL RECORD'!$B$8:$U$2005,18,FALSE))","v":0},{"$f":"IF(ISBLANK(A832),0,VLOOKUP(A832,'PAYROLL RECORD'!$B$8:$D$2005,3,FALSE))","v":0},null,null,null,null,null,null,null,null,null,null,null,null,null,null,null,null,null,{"$f":"SUM($G832:$U832)","v":0},null,null,{"$f":"IF(AND($M$5=\"A\",D832<>\"FT\"),C832*V832,0)+IF(AND($M$5=\"B\",D832<>\"FT\"),C832*V832,0)+IF(AND($M$5=\"AP\"),C832*V832,0)+IF($M$5>=\"C\",C832*V832)","v":0}]
[{"$f":"IF(ISBLANK(A832),\" \",VLOOKUP(A832,'PAYROLL RECORD'!$B$9:$C$10740,2,FALSE))","v":" "},"OT1",{"$f":"IF(ISBLANK(A832),0,VLOOKUP(A832,'PAYROLL RECORD'!$B$8:$U$2005,19,FALSE))","v":0},{"$f":"+D832","v":0},null,null,null,null,null,null,null,null,null,null,null,null,null,null,null,null,null,null,{"$f":"SUM(G833:U833)","v":0},null,null,{"$f":"W833*C833","v":0}]
[null,"OT2",{"$f":"IF(ISBLANK(A832),0,VLOOKUP(A832,'PAYROLL RECORD'!$B$8:$U$2005,20,FALSE))","v":0},{"$f":"+D833","v":0},null,null,null,null,null,null,null,null,null,null,null,null,null,null,null,null,null,null,null,{"$f":"SUM(G834:U834)","v":0},null,null,{"$f":"X834*C834","v":0}]
[null,null,null,null,{"$f":"IF(ISBLANK(A835),0,VLOOKUP(A835,'EQUIPMENT INVENTORY'!$B$7:$AK$1021,7,0))","v":0},{"$f":"IF(ISBLANK(A835),0,VLOOKUP(A835,'EQUIPMENT INVENTORY'!$B$7:$AK$1021,8,0))","v":0},null,null,null,null,null,null,null,null,null,null,null,null,null,null,null,{"$f":"SUM($G835:$U835)","v":0},null,null,{"$f":"V835*F835","v":0}]
[null,null,null,null,{"$f":"IF(ISBLANK(A836),0,VLOOKUP(A836,'EQUIPMENT INVENTORY'!$B$7:$AK$1021,7,0))","v":0},{"$f":"IF(ISBLANK(A836),0,VLOOKUP(A836,'EQUIPMENT INVENTORY'!$B$7:$AK$1021,8,0))","v":0},null,null,null,null,null,null,null,null,null,null,null,null,null,null,null,{"$f":"SUM($G836:$U836)","v":0},null,null,{"$f":"V836*F836","v":0}]
[null,null,null,null,{"$f":"IF(ISBLANK(A837),0,VLOOKUP(A837,'EQUIPMENT INVENTORY'!$B$7:$AK$1021,7,0))","v":0},{"$f":"IF(ISBLANK(A837),0,VLOOKUP(A837,'EQUIPMENT INVENTORY'!$B$7:$AK$1021,8,0))","v":0},null,null,null,null,null,null,null,null,null,null,null,null,null,null,null,{"$f":"SUM($G837:$U837)","v":0},null,null,{"$f":"V837*F837","v":0}]
[null,"REG",{"$f":"IF(ISBLANK(A838),0,VLOOKUP(A838,'PAYROLL RECORD'!$B$8:$U$2005,18,FALSE))","v":0},{"$f":"IF(ISBLANK(A838),0,VLOOKUP(A838,'PAYROLL RECORD'!$B$8:$D$2005,3,FALSE))","v":0},null,null,null,null,null,null,null,null,null,null,null,null,null,null,null,null,null,{"$f":"SUM($G838:$U838)","v":0},null,null,{"$f":"IF(AND($M$5=\"A\",D838<>\"FT\"),C838*V838,0)+IF(AND($M$5=\"B\",D838<>\"FT\"),C838*V838,0)+IF(AND($M$5=\"AP\"),C838*V838,0)+IF($M$5>=\"C\",C838*V838)","v":0}]
[{"$f":"IF(ISBLANK(A838),\" \",VLOOKUP(A838,'PAYROLL RECORD'!$B$9:$C$10740,2,FALSE))","v":" "},"OT1",{"$f":"IF(ISBLANK(A838),0,VLOOKUP(A838,'PAYROLL RECORD'!$B$8:$U$2005,19,FALSE))","v":0},{"$f":"+D838","v":0},null,null,null,null,null,null,null,null,null,null,null,null,null,null,null,null,null,null,{"$f":"SUM(G839:U839)","v":0},null,null,{"$f":"W839*C839","v":0}]
[null,"OT2",{"$f":"IF(ISBLANK(A838),0,VLOOKUP(A838,'PAYROLL RECORD'!$B$8:$U$2005,20,FALSE))","v":0},{"$f":"+D839","v":0},null,null,null,null,null,null,null,null,null,null,null,null,null,null,null,null,null,null,null,{"$f":"SUM(G840:U840)","v":0},null,null,{"$f":"X840*C840","v":0}]
[null,null,null,null,{"$f":"IF(ISBLANK(A841),0,VLOOKUP(A841,'EQUIPMENT INVENTORY'!$B$7:$AK$1021,7,0))","v":0},{"$f":"IF(ISBLANK(A841),0,VLOOKUP(A841,'EQUIPMENT INVENTORY'!$B$7:$AK$1021,8,0))","v":0},null,null,null,null,null,null,null,null,null,null,null,null,null,null,null,{"$f":"SUM($G841:$U841)","v":0},null,null,{"$f":"V841*F841","v":0}]
[null,null,null,null,{"$f":"IF(ISBLANK(A842),0,VLOOKUP(A842,'EQUIPMENT INVENTORY'!$B$7:$AK$1021,7,0))","v":0},{"$f":"IF(ISBLANK(A842),0,VLOOKUP(A842,'EQUIPMENT INVENTORY'!$B$7:$AK$1021,8,0))","v":0},null,null,null,null,null,null,null,null,null,null,null,null,null,null,null,{"$f":"SUM($G842:$U842)","v":0},null,null,{"$f":"V842*F842","v":0}]
[null,null,null,null,{"$f":"IF(ISBLANK(A843),0,VLOOKUP(A843,'EQUIPMENT INVENTORY'!$B$7:$AK$1021,7,0))","v":0},{"$f":"IF(ISBLANK(A843),0,VLOOKUP(A843,'EQUIPMENT INVENTORY'!$B$7:$AK$1021,8,0))","v":0},null,null,null,null,null,null,null,null,null,null,null,null,null,null,null,{"$f":"SUM($G843:$U843)","v":0},null,null,{"$f":"V843*F843","v":0}]
[null,"REG",{"$f":"IF(ISBLANK(A844),0,VLOOKUP(A844,'PAYROLL RECORD'!$B$8:$U$2005,18,FALSE))","v":0},{"$f":"IF(ISBLANK(A844),0,VLOOKUP(A844,'PAYROLL RECORD'!$B$8:$D$2005,3,FALSE))","v":0},null,null,null,null,null,null,null,null,null,null,null,null,null,null,null,null,null,{"$f":"SUM($G844:$U844)","v":0},null,null,{"$f":"IF(AND($M$5=\"A\",D844<>\"FT\"),C844*V844,0)+IF(AND($M$5=\"B\",D844<>\"FT\"),C844*V844,0)+IF(AND($M$5=\"AP\"),C844*V844,0)+IF($M$5>=\"C\",C844*V844)","v":0}]
[{"$f":"IF(ISBLANK(A844),\" \",VLOOKUP(A844,'PAYROLL RECORD'!$B$9:$C$10740,2,FALSE))","v":" "},"OT1",{"$f":"IF(ISBLANK(A844),0,VLOOKUP(A844,'PAYROLL RECORD'!$B$8:$U$2005,19,FALSE))","v":0},{"$f":"+D844","v":0},null,null,null,null,null,null,null,null,null,null,null,null,null,null,null,null,null,null,{"$f":"SUM(G845:U845)","v":0},null,null,{"$f":"W845*C845","v":0}]
[null,"OT2",{"$f":"IF(ISBLANK(A844),0,VLOOKUP(A844,'PAYROLL RECORD'!$B$8:$U$2005,20,FALSE))","v":0},{"$f":"+D845","v":0},null,null,null,null,null,null,null,null,null,null,null,null,null,null,null,null,null,null,null,{"$f":"SUM(G846:U846)","v":0},null,null,{"$f":"X846*C846","v":0}]
[null,null,null,null,{"$f":"IF(ISBLANK(A847),0,VLOOKUP(A847,'EQUIPMENT INVENTORY'!$B$7:$AK$1021,7,0))","v":0},{"$f":"IF(ISBLANK(A847),0,VLOOKUP(A847,'EQUIPMENT INVENTORY'!$B$7:$AK$1021,8,0))","v":0},null,null,null,null,null,null,null,null,null,null,null,null,null,null,null,{"$f":"SUM($G847:$U847)","v":0},null,null,{"$f":"V847*F847","v":0}]
[null,null,null,null,{"$f":"IF(ISBLANK(A848),0,VLOOKUP(A848,'EQUIPMENT INVENTORY'!$B$7:$AK$1021,7,0))","v":0},{"$f":"IF(ISBLANK(A848),0,VLOOKUP(A848,'EQUIPMENT INVENTORY'!$B$7:$AK$1021,8,0))","v":0},null,null,null,null,null,null,null,null,null,null,null,null,null,null,null,{"$f":"SUM($G848:$U848)","v":0},null,null,{"$f":"V848*F848","v":0}]
[null,null,null,null,{"$f":"IF(ISBLANK(A849),0,VLOOKUP(A849,'EQUIPMENT INVENTORY'!$B$7:$AK$1021,7,0))","v":0},{"$f":"IF(ISBLANK(A849),0,VLOOKUP(A849,'EQUIPMENT INVENTORY'!$B$7:$AK$1021,8,0))","v":0},null,null,null,null,null,null,null,null,null,null,null,null,null,null,null,{"$f":"SUM($G849:$U849)","v":0},null,null,{"$f":"V849*F849","v":0}]
[null,"REG",{"$f":"IF(ISBLANK(A850),0,VLOOKUP(A850,'PAYROLL RECORD'!$B$8:$U$2005,18,FALSE))","v":0},{"$f":"IF(ISBLANK(A850),0,VLOOKUP(A850,'PAYROLL RECORD'!$B$8:$D$2005,3,FALSE))","v":0},null,null,null,null,null,null,null,null,null,null,null,null,null,null,null,null,null,{"$f":"SUM($G850:$U850)","v":0},null,null,{"$f":"IF(AND($M$5=\"A\",D850<>\"FT\"),C850*V850,0)+IF(AND($M$5=\"B\",D850<>\"FT\"),C850*V850,0)+IF(AND($M$5=\"AP\"),C850*V850,0)+IF($M$5>=\"C\",C850*V850)","v":0}]
[{"$f":"IF(ISBLANK(A850),\" \",VLOOKUP(A850,'PAYROLL RECORD'!$B$9:$C$10740,2,FALSE))","v":" "},"OT1",{"$f":"IF(ISBLANK(A850),0,VLOOKUP(A850,'PAYROLL RECORD'!$B$8:$U$2005,19,FALSE))","v":0},{"$f":"+D850","v":0},null,null,null,null,null,null,null,null,null,null,null,null,null,null,null,null,null,null,{"$f":"SUM(G851:U851)","v":0},null,null,{"$f":"W851*C851","v":0}]
[null,"OT2",{"$f":"IF(ISBLANK(A850),0,VLOOKUP(A850,'PAYROLL RECORD'!$B$8:$U$2005,20,FALSE))","v":0},{"$f":"+D851","v":0},null,null,null,null,null,null,null,null,null,null,null,null,null,null,null,null,null,null,null,{"$f":"SUM(G852:U852)","v":0},null,null,{"$f":"X852*C852","v":0}]
[null,null,null,null,{"$f":"IF(ISBLANK(A853),0,VLOOKUP(A853,'EQUIPMENT INVENTORY'!$B$7:$AK$1021,7,0))","v":0},{"$f":"IF(ISBLANK(A853),0,VLOOKUP(A853,'EQUIPMENT INVENTORY'!$B$7:$AK$1021,8,0))","v":0},null,null,null,null,null,null,null,null,null,null,null,null,null,null,null,{"$f":"SUM($G853:$U853)","v":0},null,null,{"$f":"V853*F853","v":0}]
[null,null,null,null,{"$f":"IF(ISBLANK(A854),0,VLOOKUP(A854,'EQUIPMENT INVENTORY'!$B$7:$AK$1021,7,0))","v":0},{"$f":"IF(ISBLANK(A854),0,VLOOKUP(A854,'EQUIPMENT INVENTORY'!$B$7:$AK$1021,8,0))","v":0},null,null,null,null,null,null,null,null,null,null,null,null,null,null,null,{"$f":"SUM($G854:$U854)","v":0},null,null,{"$f":"V854*F854","v":0}]
[null,null,null,null,{"$f":"IF(ISBLANK(A855),0,VLOOKUP(A855,'EQUIPMENT INVENTORY'!$B$7:$AK$1021,7,0))","v":0},{"$f":"IF(ISBLANK(A855),0,VLOOKUP(A855,'EQUIPMENT INVENTORY'!$B$7:$AK$1021,8,0))","v":0},null,null,null,null,null,null,null,null,null,null,null,null,null,null,null,{"$f":"SUM($G855:$U855)","v":0},null,null,{"$f":"V855*F855","v":0}]
[null,"REG",{"$f":"IF(ISBLANK(A856),0,VLOOKUP(A856,'PAYROLL RECORD'!$B$8:$U$2005,18,FALSE))","v":0},{"$f":"IF(ISBLANK(A856),0,VLOOKUP(A856,'PAYROLL RECORD'!$B$8:$D$2005,3,FALSE))","v":0},null,null,null,null,null,null,null,null,null,null,null,null,null,null,null,null,null,{"$f":"SUM($G856:$U856)","v":0},null,null,{"$f":"IF(AND($M$5=\"A\",D856<>\"FT\"),C856*V856,0)+IF(AND($M$5=\"B\",D856<>\"FT\"),C856*V856,0)+IF(AND($M$5=\"AP\"),C856*V856,0)+IF($M$5>=\"C\",C856*V856)","v":0}]
[{"$f":"IF(ISBLANK(A856),\" \",VLOOKUP(A856,'PAYROLL RECORD'!$B$9:$C$10740,2,FALSE))","v":" "},"OT1",{"$f":"IF(ISBLANK(A856),0,VLOOKUP(A856,'PAYROLL RECORD'!$B$8:$U$2005,19,FALSE))","v":0},{"$f":"+D856","v":0},null,null,null,null,null,null,null,null,null,null,null,null,null,null,null,null,null,null,{"$f":"SUM(G857:U857)","v":0},null,null,{"$f":"W857*C857","v":0}]
[null,"OT2",{"$f":"IF(ISBLANK(A856),0,VLOOKUP(A856,'PAYROLL RECORD'!$B$8:$U$2005,20,FALSE))","v":0},{"$f":"+D857","v":0},null,null,null,null,null,null,null,null,null,null,null,null,null,null,null,null,null,null,null,{"$f":"SUM(G858:U858)","v":0},null,null,{"$f":"X858*C858","v":0}]
[null,null,null,null,{"$f":"IF(ISBLANK(A859),0,VLOOKUP(A859,'EQUIPMENT INVENTORY'!$B$7:$AK$1021,7,0))","v":0},{"$f":"IF(ISBLANK(A859),0,VLOOKUP(A859,'EQUIPMENT INVENTORY'!$B$7:$AK$1021,8,0))","v":0},null,null,null,null,null,null,null,null,null,null,null,null,null,null,null,{"$f":"SUM($G859:$U859)","v":0},null,null,{"$f":"V859*F859","v":0}]
[null,null,null,null,{"$f":"IF(ISBLANK(A860),0,VLOOKUP(A860,'EQUIPMENT INVENTORY'!$B$7:$AK$1021,7,0))","v":0},{"$f":"IF(ISBLANK(A860),0,VLOOKUP(A860,'EQUIPMENT INVENTORY'!$B$7:$AK$1021,8,0))","v":0},null,null,null,null,null,null,null,null,null,null,null,null,null,null,null,{"$f":"SUM($G860:$U860)","v":0},null,null,{"$f":"V860*F860","v":0}]
[null,null,null,null,{"$f":"IF(ISBLANK(A861),0,VLOOKUP(A861,'EQUIPMENT INVENTORY'!$B$7:$AK$1021,7,0))","v":0},{"$f":"IF(ISBLANK(A861),0,VLOOKUP(A861,'EQUIPMENT INVENTORY'!$B$7:$AK$1021,8,0))","v":0},null,null,null,null,null,null,null,null,null,null,null,null,null,null,null,{"$f":"SUM($G861:$U861)","v":0},null,null,{"$f":"V861*F861","v":0}]
[null,"REG",{"$f":"IF(ISBLANK(A862),0,VLOOKUP(A862,'PAYROLL RECORD'!$B$8:$U$2005,18,FALSE))","v":0},{"$f":"IF(ISBLANK(A862),0,VLOOKUP(A862,'PAYROLL RECORD'!$B$8:$D$2005,3,FALSE))","v":0},null,null,null,null,null,null,null,null,null,null,null,null,null,null,null,null,null,{"$f":"SUM($G862:$U862)","v":0},null,null,{"$f":"IF(AND($M$5=\"A\",D862<>\"FT\"),C862*V862,0)+IF(AND($M$5=\"B\",D862<>\"FT\"),C862*V862,0)+IF(AND($M$5=\"AP\"),C862*V862,0)+IF($M$5>=\"C\",C862*V862)","v":0}]
[{"$f":"IF(ISBLANK(A862),\" \",VLOOKUP(A862,'PAYROLL RECORD'!$B$9:$C$10740,2,FALSE))","v":" "},"OT1",{"$f":"IF(ISBLANK(A862),0,VLOOKUP(A862,'PAYROLL RECORD'!$B$8:$U$2005,19,FALSE))","v":0},{"$f":"+D862","v":0},null,null,null,null,null,null,null,null,null,null,null,null,null,null,null,null,null,null,{"$f":"SUM(G863:U863)","v":0},null,null,{"$f":"W863*C863","v":0}]
[null,"OT2",{"$f":"IF(ISBLANK(A862),0,VLOOKUP(A862,'PAYROLL RECORD'!$B$8:$U$2005,20,FALSE))","v":0},{"$f":"+D863","v":0},null,null,null,null,null,null,null,null,null,null,null,null,null,null,null,null,null,null,null,{"$f":"SUM(G864:U864)","v":0},null,null,{"$f":"X864*C864","v":0}]
[null,null,null,null,{"$f":"IF(ISBLANK(A865),0,VLOOKUP(A865,'EQUIPMENT INVENTORY'!$B$7:$AK$1021,7,0))","v":0},{"$f":"IF(ISBLANK(A865),0,VLOOKUP(A865,'EQUIPMENT INVENTORY'!$B$7:$AK$1021,8,0))","v":0},null,null,null,null,null,null,null,null,null,null,null,null,null,null,null,{"$f":"SUM($G865:$U865)","v":0},null,null,{"$f":"V865*F865","v":0}]
[null,null,null,null,{"$f":"IF(ISBLANK(A866),0,VLOOKUP(A866,'EQUIPMENT INVENTORY'!$B$7:$AK$1021,7,0))","v":0},{"$f":"IF(ISBLANK(A866),0,VLOOKUP(A866,'EQUIPMENT INVENTORY'!$B$7:$AK$1021,8,0))","v":0},null,null,null,null,null,null,null,null,null,null,null,null,null,null,null,{"$f":"SUM($G866:$U866)","v":0},null,null,{"$f":"V866*F866","v":0}]
[null,null,null,null,{"$f":"IF(ISBLANK(A867),0,VLOOKUP(A867,'EQUIPMENT INVENTORY'!$B$7:$AK$1021,7,0))","v":0},{"$f":"IF(ISBLANK(A867),0,VLOOKUP(A867,'EQUIPMENT INVENTORY'!$B$7:$AK$1021,8,0))","v":0},null,null,null,null,null,null,null,null,null,null,null,null,null,null,null,{"$f":"SUM($G867:$U867)","v":0},null,null,{"$f":"V867*F867","v":0}]
[null,"REG",{"$f":"IF(ISBLANK(A868),0,VLOOKUP(A868,'PAYROLL RECORD'!$B$8:$U$2005,18,FALSE))","v":0},{"$f":"IF(ISBLANK(A868),0,VLOOKUP(A868,'PAYROLL RECORD'!$B$8:$D$2005,3,FALSE))","v":0},null,null,null,null,null,null,null,null,null,null,null,null,null,null,null,null,null,{"$f":"SUM($G868:$U868)","v":0},null,null,{"$f":"IF(AND($M$5=\"A\",D868<>\"FT\"),C868*V868,0)+IF(AND($M$5=\"B\",D868<>\"FT\"),C868*V868,0)+IF(AND($M$5=\"AP\"),C868*V868,0)+IF($M$5>=\"C\",C868*V868)","v":0}]
[{"$f":"IF(ISBLANK(A868),\" \",VLOOKUP(A868,'PAYROLL RECORD'!$B$9:$C$10740,2,FALSE))","v":" "},"OT1",{"$f":"IF(ISBLANK(A868),0,VLOOKUP(A868,'PAYROLL RECORD'!$B$8:$U$2005,19,FALSE))","v":0},{"$f":"+D868","v":0},null,null,null,null,null,null,null,null,null,null,null,null,null,null,null,null,null,null,{"$f":"SUM(G869:U869)","v":0},null,null,{"$f":"W869*C869","v":0}]
[null,"OT2",{"$f":"IF(ISBLANK(A868),0,VLOOKUP(A868,'PAYROLL RECORD'!$B$8:$U$2005,20,FALSE))","v":0},{"$f":"+D869","v":0},null,null,null,null,null,null,null,null,null,null,null,null,null,null,null,null,null,null,null,{"$f":"SUM(G870:U870)","v":0},null,null,{"$f":"X870*C870","v":0}]
[null,null,null,null,{"$f":"IF(ISBLANK(A871),0,VLOOKUP(A871,'EQUIPMENT INVENTORY'!$B$7:$AK$1021,7,0))","v":0},{"$f":"IF(ISBLANK(A871),0,VLOOKUP(A871,'EQUIPMENT INVENTORY'!$B$7:$AK$1021,8,0))","v":0},null,null,null,null,null,null,null,null,null,null,null,null,null,null,null,{"$f":"SUM($G871:$U871)","v":0},null,null,{"$f":"V871*F871","v":0}]
[null,null,null,null,{"$f":"IF(ISBLANK(A872),0,VLOOKUP(A872,'EQUIPMENT INVENTORY'!$B$7:$AK$1021,7,0))","v":0},{"$f":"IF(ISBLANK(A872),0,VLOOKUP(A872,'EQUIPMENT INVENTORY'!$B$7:$AK$1021,8,0))","v":0},null,null,null,null,null,null,null,null,null,null,null,null,null,null,null,{"$f":"SUM($G872:$U872)","v":0},null,null,{"$f":"V872*F872","v":0}]
[null,null,null,null,{"$f":"IF(ISBLANK(A873),0,VLOOKUP(A873,'EQUIPMENT INVENTORY'!$B$7:$AK$1021,7,0))","v":0},{"$f":"IF(ISBLANK(A873),0,VLOOKUP(A873,'EQUIPMENT INVENTORY'!$B$7:$AK$1021,8,0))","v":0},null,null,null,null,null,null,null,null,null,null,null,null,null,null,null,{"$f":"SUM($G873:$U873)","v":0},null,null,{"$f":"V873*F873","v":0}]
[null,"REG",{"$f":"IF(ISBLANK(A874),0,VLOOKUP(A874,'PAYROLL RECORD'!$B$8:$U$2005,18,FALSE))","v":0},{"$f":"IF(ISBLANK(A874),0,VLOOKUP(A874,'PAYROLL RECORD'!$B$8:$D$2005,3,FALSE))","v":0},null,null,null,null,null,null,null,null,null,null,null,null,null,null,null,null,null,{"$f":"SUM($G874:$U874)","v":0},null,null,{"$f":"IF(AND($M$5=\"A\",D874<>\"FT\"),C874*V874,0)+IF(AND($M$5=\"B\",D874<>\"FT\"),C874*V874,0)+IF(AND($M$5=\"AP\"),C874*V874,0)+IF($M$5>=\"C\",C874*V874)","v":0}]
[{"$f":"IF(ISBLANK(A874),\" \",VLOOKUP(A874,'PAYROLL RECORD'!$B$9:$C$10740,2,FALSE))","v":" "},"OT1",{"$f":"IF(ISBLANK(A874),0,VLOOKUP(A874,'PAYROLL RECORD'!$B$8:$U$2005,19,FALSE))","v":0},{"$f":"+D874","v":0},null,null,null,null,null,null,null,null,null,null,null,null,null,null,null,null,null,null,{"$f":"SUM(G875:U875)","v":0},null,null,{"$f":"W875*C875","v":0}]
[null,"OT2",{"$f":"IF(ISBLANK(A874),0,VLOOKUP(A874,'PAYROLL RECORD'!$B$8:$U$2005,20,FALSE))","v":0},{"$f":"+D875","v":0},null,null,null,null,null,null,null,null,null,null,null,null,null,null,null,null,null,null,null,{"$f":"SUM(G876:U876)","v":0},null,null,{"$f":"X876*C876","v":0}]
[null,null,null,null,{"$f":"IF(ISBLANK(A877),0,VLOOKUP(A877,'EQUIPMENT INVENTORY'!$B$7:$AK$1021,7,0))","v":0},{"$f":"IF(ISBLANK(A877),0,VLOOKUP(A877,'EQUIPMENT INVENTORY'!$B$7:$AK$1021,8,0))","v":0},null,null,null,null,null,null,null,null,null,null,null,null,null,null,null,{"$f":"SUM($G877:$U877)","v":0},null,null,{"$f":"V877*F877","v":0}]
[null,null,null,null,{"$f":"IF(ISBLANK(A878),0,VLOOKUP(A878,'EQUIPMENT INVENTORY'!$B$7:$AK$1021,7,0))","v":0},{"$f":"IF(ISBLANK(A878),0,VLOOKUP(A878,'EQUIPMENT INVENTORY'!$B$7:$AK$1021,8,0))","v":0},null,null,null,null,null,null,null,null,null,null,null,null,null,null,null,{"$f":"SUM($G878:$U878)","v":0},null,null,{"$f":"V878*F878","v":0}]
[null,null,null,null,{"$f":"IF(ISBLANK(A879),0,VLOOKUP(A879,'EQUIPMENT INVENTORY'!$B$7:$AK$1021,7,0))","v":0},{"$f":"IF(ISBLANK(A879),0,VLOOKUP(A879,'EQUIPMENT INVENTORY'!$B$7:$AK$1021,8,0))","v":0},null,null,null,null,null,null,null,null,null,null,null,null,null,null,null,{"$f":"SUM($G879:$U879)","v":0},null,null,{"$f":"V879*F879","v":0},null,null,"Reg hrs","ot1 hrs","ot2 hrs","equip hrs"]
[null,null,null,null,null,null,null,null,null,null,null,null,null,null,null,null,"LABOR - Page Total",null,null,null,null,{"$f":"V832+V838+V844+V856+V862+V874+V850+V868","v":0},{"$f":"SUM(W832:W879)","v":0},{"$f":"SUM(X832:X879)","v":0},{"$f":"Y832+Y838+Y844+Y856+Y862+Y874+Y850+Y868","v":0},{"$f":"SUM(Z833:Z879)","v":0},{"$f":"SUM(AA833:AA879)","v":0},{"$f":"V880","v":0},{"$f":"W880","v":0},{"$f":"X880","v":0},{"$f":"V881","v":0},{"$f":"Y880","v":0},{"$f":"Z880","v":0},{"$f":"AA880","v":0},{"$f":"Y881","v":0}]
[null,null,null,null,null,null,null,null,null,null,null,null,null,null,null,null,"EQUIPMENT - Page Total",null,null,null,null,{"$f":"V835+V836+V837+V841+V842+V843+V847+V848+V849+V853+V854+V855+V859+V860+V861+V865+V866+V867+V877+V878+V879+V871+V872+V873","v":0},null,null,{"$f":"Y835+Y836+Y837+Y841+Y842+Y843+Y847+Y848+Y849+Y853+Y854+Y855+Y859+Y860+Y861+Y865+Y866+Y867+Y877+Y878+Y879+Y871+Y872+Y873","v":0}]
[null,null,null,null,null,null,null,null,null,null,null,null,null,null,null,null,"LABOR - Grand Total",null,null,null,null,{"$f":"SUM($AB:$AB)","v":0},{"$f":"SUM($AC:$AC)","v":0},{"$f":"SUM($AD:$AD)","v":0},{"$f":"SUM(AF:AF)","v":0},{"$f":"SUM($AG:$AG)","v":0},{"$f":"SUM($AH:$AH)","v":0}]
[null,null,null,null,null,null,null,null,null,null,null,null,null,null,null,null,"EQUIPMENT - Grand Total",null,null,null,null,{"$f":"SUM($AE:$AE)","v":0},null,null,{"$f":"SUM($AI:$AI)","v":0}]
[]
[]
["COST SUMMARY FOR LABOR/EQUIPMENT"]
["APPLICANT - FIPS#",null,null,null,"DISASTER #:",null,null,"PROJECT #:",null,null,null,null,"FEMA CAT A-G",null,null,"EMMIE #",null,null,null,"Work Completion Date"]
[{"$f":"IF('PAYROLL RECORD'!$B$5=\"START HERE\",\"\",'PAYROLL RECORD'!$B$5)","v":0},null,null,null,{"$f":"IF('PAYROLL RECORD'!$F$5=\"\",\"\",'PAYROLL RECORD'!$F$5)","v":""},null,null,{"$f":"'PAYROLL RECORD'!I887:L887","v":{"$error":"#VALUE!"}},null,null,null,null,{"$f":"IF('PAYROLL RECORD'!$M$5=\"CATEGORY\",\"\",'PAYROLL RECORD'!$M$5)","v":0},null,null,{"$f":"IF('PAYROLL RECORD'!$O$5=\"EMMIE #\",\"\",'PAYROLL RECORD'!$O$5)","v":0},null,null,null,{"$f":"IF('PAYROLL RECORD'!$Q$5=\"DATE\",\"\",'PAYROLL RECORD'!$Q$5)","v":"00:00:00"}]
["Employee/\nEquipment",null,"RATE w/","STATUS","COST CODE","RATE","2018-10-31",{"$f":"+G889+1","v":"2018-11-01"},{"$f":"H889+1","v":"2018-11-02"},"2018-11-03","2018-11-04","2018-11-05","2018-11-06","2018-11-07","2018-11-08","2018-11-09","2018-11-10","2018-11-11","2018-11-12","2018-11-13","2018-11-14","REG","OT1","OT2","REG TIME\nCOST","OT1\nCOST","OT2\nCOST"]
[null,null,"FRINGE",null,null,null,{"$f":"IF(G889<=0,\"\",TEXT(WEEKDAY(G889),\"ddd\"))","v":"Wed"},{"$f":"IF(H889<=0,\"\",TEXT(WEEKDAY(H889),\"ddd\"))","v":"Thu"},"Fri","Sat","Sun","Mon","Tue","Wed","Thu","Fri","Sat","Sun","Mon","Tue","Wed"]
[null,"REG",{"$f":"IF(ISBLANK(A891),0,VLOOKUP(A891,'PAYROLL RECORD'!$B$8:$U$2005,18,FALSE))","v":0},{"$f":"IF(ISBLANK(A891),0,VLOOKUP(A891,'PAYROLL RECORD'!$B$8:$D$2005,3,FALSE))","v":0},null,null,null,null,null,null,null,null,null,null,null,null,null,null,null,null,null,{"$f":"SUM($G891:$U891)","v":0},null,null,{"$f":"IF(AND($M$5=\"A\",D891<>\"FT\"),C891*V891,0)+IF(AND($M$5=\"B\",D891<>\"FT\"),C891*V891,0)+IF(AND($M$5=\"AP\"),C891*V891,0)+IF($M$5>=\"C\",C891*V891)","v":0}]
[{"$f":"IF(ISBLANK(A891),\" \",VLOOKUP(A891,'PAYROLL RECORD'!$B$9:$C$10740,2,FALSE))","v":" "},"OT1",{"$f":"IF(ISBLANK(A891),0,VLOOKUP(A891,'PAYROLL RECORD'!$B$8:$U$2005,19,FALSE))","v":0},{"$f":"+D891","v":0},null,null,null,null,null,null,null,null,null,null,null,null,null,null,null,null,null,null,{"$f":"SUM(G892:U892)","v":0},null,null,{"$f":"W892*C892","v":0}]
[null,"OT2",{"$f":"IF(ISBLANK(A891),0,VLOOKUP(A891,'PAYROLL RECORD'!$B$8:$U$2005,20,FALSE))","v":0},{"$f":"+D892","v":0},null,null,null,null,null,null,null,null,null,null,null,null,null,null,null,null,null,null,null,{"$f":"SUM(G893:U893)","v":0},null,null,{"$f":"X893*C893","v":0}]
[null,null,null,null,{"$f":"IF(ISBLANK(A894),0,VLOOKUP(A894,'EQUIPMENT INVENTORY'!$B$7:$AK$1021,7,0))","v":0},{"$f":"IF(ISBLANK(A894),0,VLOOKUP(A894,'EQUIPMENT INVENTORY'!$B$7:$AK$1021,8,0))","v":0},null,null,null,null,null,null,null,null,null,null,null,null,null,null,null,{"$f":"SUM($G894:$U894)","v":0},null,null,{"$f":"V894*F894","v":0}]
[null,null,null,null,{"$f":"IF(ISBLANK(A895),0,VLOOKUP(A895,'EQUIPMENT INVENTORY'!$B$7:$AK$1021,7,0))","v":0},{"$f":"IF(ISBLANK(A895),0,VLOOKUP(A895,'EQUIPMENT INVENTORY'!$B$7:$AK$1021,8,0))","v":0},null,null,null,null,null,null,null,null,null,null,null,null,null,null,null,{"$f":"SUM($G895:$U895)","v":0},null,null,{"$f":"V895*F895","v":0}]
[null,null,null,null,{"$f":"IF(ISBLANK(A896),0,VLOOKUP(A896,'EQUIPMENT INVENTORY'!$B$7:$AK$1021,7,0))","v":0},{"$f":"IF(ISBLANK(A896),0,VLOOKUP(A896,'EQUIPMENT INVENTORY'!$B$7:$AK$1021,8,0))","v":0},null,null,null,null,null,null,null,null,null,null,null,null,null,null,null,{"$f":"SUM($G896:$U896)","v":0},null,null,{"$f":"V896*F896","v":0}]
[null,"REG",{"$f":"IF(ISBLANK(A897),0,VLOOKUP(A897,'PAYROLL RECORD'!$B$8:$U$2005,18,FALSE))","v":0},{"$f":"IF(ISBLANK(A897),0,VLOOKUP(A897,'PAYROLL RECORD'!$B$8:$D$2005,3,FALSE))","v":0},null,null,null,null,null,null,null,null,null,null,null,null,null,null,null,null,null,{"$f":"SUM($G897:$U897)","v":0},null,null,{"$f":"IF(AND($M$5=\"A\",D897<>\"FT\"),C897*V897,0)+IF(AND($M$5=\"B\",D897<>\"FT\"),C897*V897,0)+IF(AND($M$5=\"AP\"),C897*V897,0)+IF($M$5>=\"C\",C897*V897)","v":0}]
[{"$f":"IF(ISBLANK(A897),\" \",VLOOKUP(A897,'PAYROLL RECORD'!$B$9:$C$10740,2,FALSE))","v":" "},"OT1",{"$f":"IF(ISBLANK(A897),0,VLOOKUP(A897,'PAYROLL RECORD'!$B$8:$U$2005,19,FALSE))","v":0},{"$f":"+D897","v":0},null,null,null,null,null,null,null,null,null,null,null,null,null,null,null,null,null,null,{"$f":"SUM(G898:U898)","v":0},null,null,{"$f":"W898*C898","v":0}]
[null,"OT2",{"$f":"IF(ISBLANK(A897),0,VLOOKUP(A897,'PAYROLL RECORD'!$B$8:$U$2005,20,FALSE))","v":0},{"$f":"+D898","v":0},null,null,null,null,null,null,null,null,null,null,null,null,null,null,null,null,null,null,null,{"$f":"SUM(G899:U899)","v":0},null,null,{"$f":"X899*C899","v":0}]
[null,null,null,null,{"$f":"IF(ISBLANK(A900),0,VLOOKUP(A900,'EQUIPMENT INVENTORY'!$B$7:$AK$1021,7,0))","v":0},{"$f":"IF(ISBLANK(A900),0,VLOOKUP(A900,'EQUIPMENT INVENTORY'!$B$7:$AK$1021,8,0))","v":0},null,null,null,null,null,null,null,null,null,null,null,null,null,null,null,{"$f":"SUM($G900:$U900)","v":0},null,null,{"$f":"V900*F900","v":0}]
[null,null,null,null,{"$f":"IF(ISBLANK(A901),0,VLOOKUP(A901,'EQUIPMENT INVENTORY'!$B$7:$AK$1021,7,0))","v":0},{"$f":"IF(ISBLANK(A901),0,VLOOKUP(A901,'EQUIPMENT INVENTORY'!$B$7:$AK$1021,8,0))","v":0},null,null,null,null,null,null,null,null,null,null,null,null,null,null,null,{"$f":"SUM($G901:$U901)","v":0},null,null,{"$f":"V901*F901","v":0}]
[null,null,null,null,{"$f":"IF(ISBLANK(A902),0,VLOOKUP(A902,'EQUIPMENT INVENTORY'!$B$7:$AK$1021,7,0))","v":0},{"$f":"IF(ISBLANK(A902),0,VLOOKUP(A902,'EQUIPMENT INVENTORY'!$B$7:$AK$1021,8,0))","v":0},null,null,null,null,null,null,null,null,null,null,null,null,null,null,null,{"$f":"SUM($G902:$U902)","v":0},null,null,{"$f":"V902*F902","v":0}]
[null,"REG",{"$f":"IF(ISBLANK(A903),0,VLOOKUP(A903,'PAYROLL RECORD'!$B$8:$U$2005,18,FALSE))","v":0},{"$f":"IF(ISBLANK(A903),0,VLOOKUP(A903,'PAYROLL RECORD'!$B$8:$D$2005,3,FALSE))","v":0},null,null,null,null,null,null,null,null,null,null,null,null,null,null,null,null,null,{"$f":"SUM($G903:$U903)","v":0},null,null,{"$f":"IF(AND($M$5=\"A\",D903<>\"FT\"),C903*V903,0)+IF(AND($M$5=\"B\",D903<>\"FT\"),C903*V903,0)+IF(AND($M$5=\"AP\"),C903*V903,0)+IF($M$5>=\"C\",C903*V903)","v":0}]
[{"$f":"IF(ISBLANK(A903),\" \",VLOOKUP(A903,'PAYROLL RECORD'!$B$9:$C$10740,2,FALSE))","v":" "},"OT1",{"$f":"IF(ISBLANK(A903),0,VLOOKUP(A903,'PAYROLL RECORD'!$B$8:$U$2005,19,FALSE))","v":0},{"$f":"+D903","v":0},null,null,null,null,null,null,null,null,null,null,null,null,null,null,null,null,null,null,{"$f":"SUM(G904:U904)","v":0},null,null,{"$f":"W904*C904","v":0}]
[null,"OT2",{"$f":"IF(ISBLANK(A903),0,VLOOKUP(A903,'PAYROLL RECORD'!$B$8:$U$2005,20,FALSE))","v":0},{"$f":"+D904","v":0},null,null,null,null,null,null,null,null,null,null,null,null,null,null,null,null,null,null,null,{"$f":"SUM(G905:U905)","v":0},null,null,{"$f":"X905*C905","v":0}]
[null,null,null,null,{"$f":"IF(ISBLANK(A906),0,VLOOKUP(A906,'EQUIPMENT INVENTORY'!$B$7:$AK$1021,7,0))","v":0},{"$f":"IF(ISBLANK(A906),0,VLOOKUP(A906,'EQUIPMENT INVENTORY'!$B$7:$AK$1021,8,0))","v":0},null,null,null,null,null,null,null,null,null,null,null,null,null,null,null,{"$f":"SUM($G906:$U906)","v":0},null,null,{"$f":"V906*F906","v":0}]
[null,null,null,null,{"$f":"IF(ISBLANK(A907),0,VLOOKUP(A907,'EQUIPMENT INVENTORY'!$B$7:$AK$1021,7,0))","v":0},{"$f":"IF(ISBLANK(A907),0,VLOOKUP(A907,'EQUIPMENT INVENTORY'!$B$7:$AK$1021,8,0))","v":0},null,null,null,null,null,null,null,null,null,null,null,null,null,null,null,{"$f":"SUM($G907:$U907)","v":0},null,null,{"$f":"V907*F907","v":0}]
[null,null,null,null,{"$f":"IF(ISBLANK(A908),0,VLOOKUP(A908,'EQUIPMENT INVENTORY'!$B$7:$AK$1021,7,0))","v":0},{"$f":"IF(ISBLANK(A908),0,VLOOKUP(A908,'EQUIPMENT INVENTORY'!$B$7:$AK$1021,8,0))","v":0},null,null,null,null,null,null,null,null,null,null,null,null,null,null,null,{"$f":"SUM($G908:$U908)","v":0},null,null,{"$f":"V908*F908","v":0}]
[null,"REG",{"$f":"IF(ISBLANK(A909),0,VLOOKUP(A909,'PAYROLL RECORD'!$B$8:$U$2005,18,FALSE))","v":0},{"$f":"IF(ISBLANK(A909),0,VLOOKUP(A909,'PAYROLL RECORD'!$B$8:$D$2005,3,FALSE))","v":0},null,null,null,null,null,null,null,null,null,null,null,null,null,null,null,null,null,{"$f":"SUM($G909:$U909)","v":0},null,null,{"$f":"IF(AND($M$5=\"A\",D909<>\"FT\"),C909*V909,0)+IF(AND($M$5=\"B\",D909<>\"FT\"),C909*V909,0)+IF(AND($M$5=\"AP\"),C909*V909,0)+IF($M$5>=\"C\",C909*V909)","v":0}]
[{"$f":"IF(ISBLANK(A909),\" \",VLOOKUP(A909,'PAYROLL RECORD'!$B$9:$C$10740,2,FALSE))","v":" "},"OT1",{"$f":"IF(ISBLANK(A909),0,VLOOKUP(A909,'PAYROLL RECORD'!$B$8:$U$2005,19,FALSE))","v":0},{"$f":"+D909","v":0},null,null,null,null,null,null,null,null,null,null,null,null,null,null,null,null,null,null,{"$f":"SUM(G910:U910)","v":0},null,null,{"$f":"W910*C910","v":0}]
[null,"OT2",{"$f":"IF(ISBLANK(A909),0,VLOOKUP(A909,'PAYROLL RECORD'!$B$8:$U$2005,20,FALSE))","v":0},{"$f":"+D910","v":0},null,null,null,null,null,null,null,null,null,null,null,null,null,null,null,null,null,null,null,{"$f":"SUM(G911:U911)","v":0},null,null,{"$f":"X911*C911","v":0}]
[null,null,null,null,{"$f":"IF(ISBLANK(A912),0,VLOOKUP(A912,'EQUIPMENT INVENTORY'!$B$7:$AK$1021,7,0))","v":0},{"$f":"IF(ISBLANK(A912),0,VLOOKUP(A912,'EQUIPMENT INVENTORY'!$B$7:$AK$1021,8,0))","v":0},null,null,null,null,null,null,null,null,null,null,null,null,null,null,null,{"$f":"SUM($G912:$U912)","v":0},null,null,{"$f":"V912*F912","v":0}]
[null,null,null,null,{"$f":"IF(ISBLANK(A913),0,VLOOKUP(A913,'EQUIPMENT INVENTORY'!$B$7:$AK$1021,7,0))","v":0},{"$f":"IF(ISBLANK(A913),0,VLOOKUP(A913,'EQUIPMENT INVENTORY'!$B$7:$AK$1021,8,0))","v":0},null,null,null,null,null,null,null,null,null,null,null,null,null,null,null,{"$f":"SUM($G913:$U913)","v":0},null,null,{"$f":"V913*F913","v":0}]
[null,null,null,null,{"$f":"IF(ISBLANK(A914),0,VLOOKUP(A914,'EQUIPMENT INVENTORY'!$B$7:$AK$1021,7,0))","v":0},{"$f":"IF(ISBLANK(A914),0,VLOOKUP(A914,'EQUIPMENT INVENTORY'!$B$7:$AK$1021,8,0))","v":0},null,null,null,null,null,null,null,null,null,null,null,null,null,null,null,{"$f":"SUM($G914:$U914)","v":0},null,null,{"$f":"V914*F914","v":0}]
[null,"REG",{"$f":"IF(ISBLANK(A915),0,VLOOKUP(A915,'PAYROLL RECORD'!$B$8:$U$2005,18,FALSE))","v":0},{"$f":"IF(ISBLANK(A915),0,VLOOKUP(A915,'PAYROLL RECORD'!$B$8:$D$2005,3,FALSE))","v":0},null,null,null,null,null,null,null,null,null,null,null,null,null,null,null,null,null,{"$f":"SUM($G915:$U915)","v":0},null,null,{"$f":"IF(AND($M$5=\"A\",D915<>\"FT\"),C915*V915,0)+IF(AND($M$5=\"B\",D915<>\"FT\"),C915*V915,0)+IF(AND($M$5=\"AP\"),C915*V915,0)+IF($M$5>=\"C\",C915*V915)","v":0}]
[{"$f":"IF(ISBLANK(A915),\" \",VLOOKUP(A915,'PAYROLL RECORD'!$B$9:$C$10740,2,FALSE))","v":" "},"OT1",{"$f":"IF(ISBLANK(A915),0,VLOOKUP(A915,'PAYROLL RECORD'!$B$8:$U$2005,19,FALSE))","v":0},{"$f":"+D915","v":0},null,null,null,null,null,null,null,null,null,null,null,null,null,null,null,null,null,null,{"$f":"SUM(G916:U916)","v":0},null,null,{"$f":"W916*C916","v":0}]
[null,"OT2",{"$f":"IF(ISBLANK(A915),0,VLOOKUP(A915,'PAYROLL RECORD'!$B$8:$U$2005,20,FALSE))","v":0},{"$f":"+D916","v":0},null,null,null,null,null,null,null,null,null,null,null,null,null,null,null,null,null,null,null,{"$f":"SUM(G917:U917)","v":0},null,null,{"$f":"X917*C917","v":0}]
[null,null,null,null,{"$f":"IF(ISBLANK(A918),0,VLOOKUP(A918,'EQUIPMENT INVENTORY'!$B$7:$AK$1021,7,0))","v":0},{"$f":"IF(ISBLANK(A918),0,VLOOKUP(A918,'EQUIPMENT INVENTORY'!$B$7:$AK$1021,8,0))","v":0},null,null,null,null,null,null,null,null,null,null,null,null,null,null,null,{"$f":"SUM($G918:$U918)","v":0},null,null,{"$f":"V918*F918","v":0}]
[null,null,null,null,{"$f":"IF(ISBLANK(A919),0,VLOOKUP(A919,'EQUIPMENT INVENTORY'!$B$7:$AK$1021,7,0))","v":0},{"$f":"IF(ISBLANK(A919),0,VLOOKUP(A919,'EQUIPMENT INVENTORY'!$B$7:$AK$1021,8,0))","v":0},null,null,null,null,null,null,null,null,null,null,null,null,null,null,null,{"$f":"SUM($G919:$U919)","v":0},null,null,{"$f":"V919*F919","v":0}]
[null,null,null,null,{"$f":"IF(ISBLANK(A920),0,VLOOKUP(A920,'EQUIPMENT INVENTORY'!$B$7:$AK$1021,7,0))","v":0},{"$f":"IF(ISBLANK(A920),0,VLOOKUP(A920,'EQUIPMENT INVENTORY'!$B$7:$AK$1021,8,0))","v":0},null,null,null,null,null,null,null,null,null,null,null,null,null,null,null,{"$f":"SUM($G920:$U920)","v":0},null,null,{"$f":"V920*F920","v":0}]
[null,"REG",{"$f":"IF(ISBLANK(A921),0,VLOOKUP(A921,'PAYROLL RECORD'!$B$8:$U$2005,18,FALSE))","v":0},{"$f":"IF(ISBLANK(A921),0,VLOOKUP(A921,'PAYROLL RECORD'!$B$8:$D$2005,3,FALSE))","v":0},null,null,null,null,null,null,null,null,null,null,null,null,null,null,null,null,null,{"$f":"SUM($G921:$U921)","v":0},null,null,{"$f":"IF(AND($M$5=\"A\",D921<>\"FT\"),C921*V921,0)+IF(AND($M$5=\"B\",D921<>\"FT\"),C921*V921,0)+IF(AND($M$5=\"AP\"),C921*V921,0)+IF($M$5>=\"C\",C921*V921)","v":0}]
[{"$f":"IF(ISBLANK(A921),\" \",VLOOKUP(A921,'PAYROLL RECORD'!$B$9:$C$10740,2,FALSE))","v":" "},"OT1",{"$f":"IF(ISBLANK(A921),0,VLOOKUP(A921,'PAYROLL RECORD'!$B$8:$U$2005,19,FALSE))","v":0},{"$f":"+D921","v":0},null,null,null,null,null,null,null,null,null,null,null,null,null,null,null,null,null,null,{"$f":"SUM(G922:U922)","v":0},null,null,{"$f":"W922*C922","v":0}]
[null,"OT2",{"$f":"IF(ISBLANK(A921),0,VLOOKUP(A921,'PAYROLL RECORD'!$B$8:$U$2005,20,FALSE))","v":0},{"$f":"+D922","v":0},null,null,null,null,null,null,null,null,null,null,null,null,null,null,null,null,null,null,null,{"$f":"SUM(G923:U923)","v":0},null,null,{"$f":"X923*C923","v":0}]
[null,null,null,null,{"$f":"IF(ISBLANK(A924),0,VLOOKUP(A924,'EQUIPMENT INVENTORY'!$B$7:$AK$1021,7,0))","v":0},{"$f":"IF(ISBLANK(A924),0,VLOOKUP(A924,'EQUIPMENT INVENTORY'!$B$7:$AK$1021,8,0))","v":0},null,null,null,null,null,null,null,null,null,null,null,null,null,null,null,{"$f":"SUM($G924:$U924)","v":0},null,null,{"$f":"V924*F924","v":0}]
[null,null,null,null,{"$f":"IF(ISBLANK(A925),0,VLOOKUP(A925,'EQUIPMENT INVENTORY'!$B$7:$AK$1021,7,0))","v":0},{"$f":"IF(ISBLANK(A925),0,VLOOKUP(A925,'EQUIPMENT INVENTORY'!$B$7:$AK$1021,8,0))","v":0},null,null,null,null,null,null,null,null,null,null,null,null,null,null,null,{"$f":"SUM($G925:$U925)","v":0},null,null,{"$f":"V925*F925","v":0}]
[null,null,null,null,{"$f":"IF(ISBLANK(A926),0,VLOOKUP(A926,'EQUIPMENT INVENTORY'!$B$7:$AK$1021,7,0))","v":0},{"$f":"IF(ISBLANK(A926),0,VLOOKUP(A926,'EQUIPMENT INVENTORY'!$B$7:$AK$1021,8,0))","v":0},null,null,null,null,null,null,null,null,null,null,null,null,null,null,null,{"$f":"SUM($G926:$U926)","v":0},null,null,{"$f":"V926*F926","v":0}]
[null,"REG",{"$f":"IF(ISBLANK(A927),0,VLOOKUP(A927,'PAYROLL RECORD'!$B$8:$U$2005,18,FALSE))","v":0},{"$f":"IF(ISBLANK(A927),0,VLOOKUP(A927,'PAYROLL RECORD'!$B$8:$D$2005,3,FALSE))","v":0},null,null,null,null,null,null,null,null,null,null,null,null,null,null,null,null,null,{"$f":"SUM($G927:$U927)","v":0},null,null,{"$f":"IF(AND($M$5=\"A\",D927<>\"FT\"),C927*V927,0)+IF(AND($M$5=\"B\",D927<>\"FT\"),C927*V927,0)+IF(AND($M$5=\"AP\"),C927*V927,0)+IF($M$5>=\"C\",C927*V927)","v":0}]
[{"$f":"IF(ISBLANK(A927),\" \",VLOOKUP(A927,'PAYROLL RECORD'!$B$9:$C$10740,2,FALSE))","v":" "},"OT1",{"$f":"IF(ISBLANK(A927),0,VLOOKUP(A927,'PAYROLL RECORD'!$B$8:$U$2005,19,FALSE))","v":0},{"$f":"+D927","v":0},null,null,null,null,null,null,null,null,null,null,null,null,null,null,null,null,null,null,{"$f":"SUM(G928:U928)","v":0},null,null,{"$f":"W928*C928","v":0}]
[null,"OT2",{"$f":"IF(ISBLANK(A927),0,VLOOKUP(A927,'PAYROLL RECORD'!$B$8:$U$2005,20,FALSE))","v":0},{"$f":"+D928","v":0},null,null,null,null,null,null,null,null,null,null,null,null,null,null,null,null,null,null,null,{"$f":"SUM(G929:U929)","v":0},null,null,{"$f":"X929*C929","v":0}]
[null,null,null,null,{"$f":"IF(ISBLANK(A930),0,VLOOKUP(A930,'EQUIPMENT INVENTORY'!$B$7:$AK$1021,7,0))","v":0},{"$f":"IF(ISBLANK(A930),0,VLOOKUP(A930,'EQUIPMENT INVENTORY'!$B$7:$AK$1021,8,0))","v":0},null,null,null,null,null,null,null,null,null,null,null,null,null,null,null,{"$f":"SUM($G930:$U930)","v":0},null,null,{"$f":"V930*F930","v":0}]
[null,null,null,null,{"$f":"IF(ISBLANK(A931),0,VLOOKUP(A931,'EQUIPMENT INVENTORY'!$B$7:$AK$1021,7,0))","v":0},{"$f":"IF(ISBLANK(A931),0,VLOOKUP(A931,'EQUIPMENT INVENTORY'!$B$7:$AK$1021,8,0))","v":0},null,null,null,null,null,null,null,null,null,null,null,null,null,null,null,{"$f":"SUM($G931:$U931)","v":0},null,null,{"$f":"V931*F931","v":0}]
[null,null,null,null,{"$f":"IF(ISBLANK(A932),0,VLOOKUP(A932,'EQUIPMENT INVENTORY'!$B$7:$AK$1021,7,0))","v":0},{"$f":"IF(ISBLANK(A932),0,VLOOKUP(A932,'EQUIPMENT INVENTORY'!$B$7:$AK$1021,8,0))","v":0},null,null,null,null,null,null,null,null,null,null,null,null,null,null,null,{"$f":"SUM($G932:$U932)","v":0},null,null,{"$f":"V932*F932","v":0}]
[null,"REG",{"$f":"IF(ISBLANK(A933),0,VLOOKUP(A933,'PAYROLL RECORD'!$B$8:$U$2005,18,FALSE))","v":0},{"$f":"IF(ISBLANK(A933),0,VLOOKUP(A933,'PAYROLL RECORD'!$B$8:$D$2005,3,FALSE))","v":0},null,null,null,null,null,null,null,null,null,null,null,null,null,null,null,null,null,{"$f":"SUM($G933:$U933)","v":0},null,null,{"$f":"IF(AND($M$5=\"A\",D933<>\"FT\"),C933*V933,0)+IF(AND($M$5=\"B\",D933<>\"FT\"),C933*V933,0)+IF(AND($M$5=\"AP\"),C933*V933,0)+IF($M$5>=\"C\",C933*V933)","v":0}]
[{"$f":"IF(ISBLANK(A933),\" \",VLOOKUP(A933,'PAYROLL RECORD'!$B$9:$C$10740,2,FALSE))","v":" "},"OT1",{"$f":"IF(ISBLANK(A933),0,VLOOKUP(A933,'PAYROLL RECORD'!$B$8:$U$2005,19,FALSE))","v":0},{"$f":"+D933","v":0},null,null,null,null,null,null,null,null,null,null,null,null,null,null,null,null,null,null,{"$f":"SUM(G934:U934)","v":0},null,null,{"$f":"W934*C934","v":0}]
[null,"OT2",{"$f":"IF(ISBLANK(A933),0,VLOOKUP(A933,'PAYROLL RECORD'!$B$8:$U$2005,20,FALSE))","v":0},{"$f":"+D934","v":0},null,null,null,null,null,null,null,null,null,null,null,null,null,null,null,null,null,null,null,{"$f":"SUM(G935:U935)","v":0},null,null,{"$f":"X935*C935","v":0}]
[null,null,null,null,{"$f":"IF(ISBLANK(A936),0,VLOOKUP(A936,'EQUIPMENT INVENTORY'!$B$7:$AK$1021,7,0))","v":0},{"$f":"IF(ISBLANK(A936),0,VLOOKUP(A936,'EQUIPMENT INVENTORY'!$B$7:$AK$1021,8,0))","v":0},null,null,null,null,null,null,null,null,null,null,null,null,null,null,null,{"$f":"SUM($G936:$U936)","v":0},null,null,{"$f":"V936*F936","v":0}]
[null,null,null,null,{"$f":"IF(ISBLANK(A937),0,VLOOKUP(A937,'EQUIPMENT INVENTORY'!$B$7:$AK$1021,7,0))","v":0},{"$f":"IF(ISBLANK(A937),0,VLOOKUP(A937,'EQUIPMENT INVENTORY'!$B$7:$AK$1021,8,0))","v":0},null,null,null,null,null,null,null,null,null,null,null,null,null,null,null,{"$f":"SUM($G937:$U937)","v":0},null,null,{"$f":"V937*F937","v":0}]
[null,null,null,null,{"$f":"IF(ISBLANK(A938),0,VLOOKUP(A938,'EQUIPMENT INVENTORY'!$B$7:$AK$1021,7,0))","v":0},{"$f":"IF(ISBLANK(A938),0,VLOOKUP(A938,'EQUIPMENT INVENTORY'!$B$7:$AK$1021,8,0))","v":0},null,null,null,null,null,null,null,null,null,null,null,null,null,null,null,{"$f":"SUM($G938:$U938)","v":0},null,null,{"$f":"V938*F938","v":0},null,null,"Reg hrs","ot1 hrs","ot2 hrs","equip hrs"]
[null,null,null,null,null,null,null,null,null,null,null,null,null,null,null,null,"LABOR - Page Total",null,null,null,null,{"$f":"V891+V897+V903+V915+V921+V933+V909+V927","v":0},{"$f":"SUM(W891:W938)","v":0},{"$f":"SUM(X891:X938)","v":0},{"$f":"Y891+Y897+Y903+Y915+Y921+Y933+Y909+Y927","v":0},{"$f":"SUM(Z892:Z938)","v":0},{"$f":"SUM(AA892:AA938)","v":0},{"$f":"V939","v":0},{"$f":"W939","v":0},{"$f":"X939","v":0},{"$f":"V940","v":0},{"$f":"Y939","v":0},{"$f":"Z939","v":0},{"$f":"AA939","v":0},{"$f":"Y940","v":0}]
[null,null,null,null,null,null,null,null,null,null,null,null,null,null,null,null,"EQUIPMENT - Page Total",null,null,null,null,{"$f":"V894+V895+V896+V900+V901+V902+V906+V907+V908+V912+V913+V914+V918+V919+V920+V924+V925+V926+V936+V937+V938+V930+V931+V932","v":0},null,null,{"$f":"Y894+Y895+Y896+Y900+Y901+Y902+Y906+Y907+Y908+Y912+Y913+Y914+Y918+Y919+Y920+Y924+Y925+Y926+Y936+Y937+Y938+Y930+Y931+Y932","v":0}]
[null,null,null,null,null,null,null,null,null,null,null,null,null,null,null,null,"LABOR - Grand Total",null,null,null,null,{"$f":"SUM($AB:$AB)","v":0},{"$f":"SUM($AC:$AC)","v":0},{"$f":"SUM($AD:$AD)","v":0},{"$f":"SUM(AF:AF)","v":0},{"$f":"SUM($AG:$AG)","v":0},{"$f":"SUM($AH:$AH)","v":0}]
[null,null,null,null,null,null,null,null,null,null,null,null,null,null,null,null,"EQUIPMENT - Grand Total",null,null,null,null,{"$f":"SUM($AE:$AE)","v":0},null,null,{"$f":"SUM($AI:$AI)","v":0}]
[]
[]
["COST SUMMARY FOR LABOR/EQUIPMENT"]
["APPLICANT - FIPS#",null,null,null,"DISASTER #:",null,null,"PROJECT #:",null,null,null,null,"FEMA CAT A-G",null,null,"EMMIE #",null,null,null,"Work Completion Date"]
[{"$f":"IF('PAYROLL RECORD'!$B$5=\"START HERE\",\"\",'PAYROLL RECORD'!$B$5)","v":0},null,null,null,{"$f":"IF('PAYROLL RECORD'!$F$5=\"\",\"\",'PAYROLL RECORD'!$F$5)","v":""},null,null,{"$f":"'PAYROLL RECORD'!I946:L946","v":{"$error":"#VALUE!"}},null,null,null,null,{"$f":"IF('PAYROLL RECORD'!$M$5=\"CATEGORY\",\"\",'PAYROLL RECORD'!$M$5)","v":0},null,null,{"$f":"IF('PAYROLL RECORD'!$O$5=\"EMMIE #\",\"\",'PAYROLL RECORD'!$O$5)","v":0},null,null,null,{"$f":"IF('PAYROLL RECORD'!$Q$5=\"DATE\",\"\",'PAYROLL RECORD'!$Q$5)","v":"00:00:00"}]
["Employee/\nEquipment",null,"RATE w/","STATUS","COST CODE","RATE","2018-10-31",{"$f":"+G948+1","v":"2018-11-01"},{"$f":"H948+1","v":"2018-11-02"},"2018-11-03","2018-11-04","2018-11-05","2018-11-06","2018-11-07","2018-11-08","2018-11-09","2018-11-10","2018-11-11","2018-11-12","2018-11-13","2018-11-14","REG","OT1","OT2","REG TIME\nCOST","OT1\nCOST","OT2\nCOST"]
[null,null,"FRINGE",null,null,null,{"$f":"IF(G948<=0,\"\",TEXT(WEEKDAY(G948),\"ddd\"))","v":"Wed"},{"$f":"IF(H948<=0,\"\",TEXT(WEEKDAY(H948),\"ddd\"))","v":"Thu"},"Fri","Sat","Sun","Mon","Tue","Wed","Thu","Fri","Sat","Sun","Mon","Tue","Wed"]
[null,"REG",{"$f":"IF(ISBLANK(A950),0,VLOOKUP(A950,'PAYROLL RECORD'!$B$8:$U$2005,18,FALSE))","v":0},{"$f":"IF(ISBLANK(A950),0,VLOOKUP(A950,'PAYROLL RECORD'!$B$8:$D$2005,3,FALSE))","v":0},null,null,null,null,null,null,null,null,null,null,null,null,null,null,null,null,null,{"$f":"SUM($G950:$U950)","v":0},null,null,{"$f":"IF(AND($M$5=\"A\",D950<>\"FT\"),C950*V950,0)+IF(AND($M$5=\"B\",D950<>\"FT\"),C950*V950,0)+IF(AND($M$5=\"AP\"),C950*V950,0)+IF($M$5>=\"C\",C950*V950)","v":0}]
[{"$f":"IF(ISBLANK(A950),\" \",VLOOKUP(A950,'PAYROLL RECORD'!$B$9:$C$10740,2,FALSE))","v":" "},"OT1",{"$f":"IF(ISBLANK(A950),0,VLOOKUP(A950,'PAYROLL RECORD'!$B$8:$U$2005,19,FALSE))","v":0},{"$f":"+D950","v":0},null,null,null,null,null,null,null,null,null,null,null,null,null,null,null,null,null,null,{"$f":"SUM(G951:U951)","v":0},null,null,{"$f":"W951*C951","v":0}]
[null,"OT2",{"$f":"IF(ISBLANK(A950),0,VLOOKUP(A950,'PAYROLL RECORD'!$B$8:$U$2005,20,FALSE))","v":0},{"$f":"+D951","v":0},null,null,null,null,null,null,null,null,null,null,null,null,null,null,null,null,null,null,null,{"$f":"SUM(G952:U952)","v":0},null,null,{"$f":"X952*C952","v":0}]
[null,null,null,null,{"$f":"IF(ISBLANK(A953),0,VLOOKUP(A953,'EQUIPMENT INVENTORY'!$B$7:$AK$1021,7,0))","v":0},{"$f":"IF(ISBLANK(A953),0,VLOOKUP(A953,'EQUIPMENT INVENTORY'!$B$7:$AK$1021,8,0))","v":0},null,null,null,null,null,null,null,null,null,null,null,null,null,null,null,{"$f":"SUM($G953:$U953)","v":0},null,null,{"$f":"V953*F953","v":0}]
[null,null,null,null,{"$f":"IF(ISBLANK(A954),0,VLOOKUP(A954,'EQUIPMENT INVENTORY'!$B$7:$AK$1021,7,0))","v":0},{"$f":"IF(ISBLANK(A954),0,VLOOKUP(A954,'EQUIPMENT INVENTORY'!$B$7:$AK$1021,8,0))","v":0},null,null,null,null,null,null,null,null,null,null,null,null,null,null,null,{"$f":"SUM($G954:$U954)","v":0},null,null,{"$f":"V954*F954","v":0}]
[null,null,null,null,{"$f":"IF(ISBLANK(A955),0,VLOOKUP(A955,'EQUIPMENT INVENTORY'!$B$7:$AK$1021,7,0))","v":0},{"$f":"IF(ISBLANK(A955),0,VLOOKUP(A955,'EQUIPMENT INVENTORY'!$B$7:$AK$1021,8,0))","v":0},null,null,null,null,null,null,null,null,null,null,null,null,null,null,null,{"$f":"SUM($G955:$U955)","v":0},null,null,{"$f":"V955*F955","v":0}]
[null,"REG",{"$f":"IF(ISBLANK(A956),0,VLOOKUP(A956,'PAYROLL RECORD'!$B$8:$U$2005,18,FALSE))","v":0},{"$f":"IF(ISBLANK(A956),0,VLOOKUP(A956,'PAYROLL RECORD'!$B$8:$D$2005,3,FALSE))","v":0},null,null,null,null,null,null,null,null,null,null,null,null,null,null,null,null,null,{"$f":"SUM($G956:$U956)","v":0},null,null,{"$f":"IF(AND($M$5=\"A\",D956<>\"FT\"),C956*V956,0)+IF(AND($M$5=\"B\",D956<>\"FT\"),C956*V956,0)+IF(AND($M$5=\"AP\"),C956*V956,0)+IF($M$5>=\"C\",C956*V956)","v":0}]
[{"$f":"IF(ISBLANK(A956),\" \",VLOOKUP(A956,'PAYROLL RECORD'!$B$9:$C$10740,2,FALSE))","v":" "},"OT1",{"$f":"IF(ISBLANK(A956),0,VLOOKUP(A956,'PAYROLL RECORD'!$B$8:$U$2005,19,FALSE))","v":0},{"$f":"+D956","v":0},null,null,null,null,null,null,null,null,null,null,null,null,null,null,null,null,null,null,{"$f":"SUM(G957:U957)","v":0},null,null,{"$f":"W957*C957","v":0}]
[null,"OT2",{"$f":"IF(ISBLANK(A956),0,VLOOKUP(A956,'PAYROLL RECORD'!$B$8:$U$2005,20,FALSE))","v":0},{"$f":"+D957","v":0},null,null,null,null,null,null,null,null,null,null,null,null,null,null,null,null,null,null,null,{"$f":"SUM(G958:U958)","v":0},null,null,{"$f":"X958*C958","v":0}]
[null,null,null,null,{"$f":"IF(ISBLANK(A959),0,VLOOKUP(A959,'EQUIPMENT INVENTORY'!$B$7:$AK$1021,7,0))","v":0},{"$f":"IF(ISBLANK(A959),0,VLOOKUP(A959,'EQUIPMENT INVENTORY'!$B$7:$AK$1021,8,0))","v":0},null,null,null,null,null,null,null,null,null,null,null,null,null,null,null,{"$f":"SUM($G959:$U959)","v":0},null,null,{"$f":"V959*F959","v":0}]
[null,null,null,null,{"$f":"IF(ISBLANK(A960),0,VLOOKUP(A960,'EQUIPMENT INVENTORY'!$B$7:$AK$1021,7,0))","v":0},{"$f":"IF(ISBLANK(A960),0,VLOOKUP(A960,'EQUIPMENT INVENTORY'!$B$7:$AK$1021,8,0))","v":0},null,null,null,null,null,null,null,null,null,null,null,null,null,null,null,{"$f":"SUM($G960:$U960)","v":0},null,null,{"$f":"V960*F960","v":0}]
[null,null,null,null,{"$f":"IF(ISBLANK(A961),0,VLOOKUP(A961,'EQUIPMENT INVENTORY'!$B$7:$AK$1021,7,0))","v":0},{"$f":"IF(ISBLANK(A961),0,VLOOKUP(A961,'EQUIPMENT INVENTORY'!$B$7:$AK$1021,8,0))","v":0},null,null,null,null,null,null,null,null,null,null,null,null,null,null,null,{"$f":"SUM($G961:$U961)","v":0},null,null,{"$f":"V961*F961","v":0}]
[null,"REG",{"$f":"IF(ISBLANK(A962),0,VLOOKUP(A962,'PAYROLL RECORD'!$B$8:$U$2005,18,FALSE))","v":0},{"$f":"IF(ISBLANK(A962),0,VLOOKUP(A962,'PAYROLL RECORD'!$B$8:$D$2005,3,FALSE))","v":0},null,null,null,null,null,null,null,null,null,null,null,null,null,null,null,null,null,{"$f":"SUM($G962:$U962)","v":0},null,null,{"$f":"IF(AND($M$5=\"A\",D962<>\"FT\"),C962*V962,0)+IF(AND($M$5=\"B\",D962<>\"FT\"),C962*V962,0)+IF(AND($M$5=\"AP\"),C962*V962,0)+IF($M$5>=\"C\",C962*V962)","v":0}]
[{"$f":"IF(ISBLANK(A962),\" \",VLOOKUP(A962,'PAYROLL RECORD'!$B$9:$C$10740,2,FALSE))","v":" "},"OT1",{"$f":"IF(ISBLANK(A962),0,VLOOKUP(A962,'PAYROLL RECORD'!$B$8:$U$2005,19,FALSE))","v":0},{"$f":"+D962","v":0},null,null,null,null,null,null,null,null,null,null,null,null,null,null,null,null,null,null,{"$f":"SUM(G963:U963)","v":0},null,null,{"$f":"W963*C963","v":0}]
[null,"OT2",{"$f":"IF(ISBLANK(A962),0,VLOOKUP(A962,'PAYROLL RECORD'!$B$8:$U$2005,20,FALSE))","v":0},{"$f":"+D963","v":0},null,null,null,null,null,null,null,null,null,null,null,null,null,null,null,null,null,null,null,{"$f":"SUM(G964:U964)","v":0},null,null,{"$f":"X964*C964","v":0}]
[null,null,null,null,{"$f":"IF(ISBLANK(A965),0,VLOOKUP(A965,'EQUIPMENT INVENTORY'!$B$7:$AK$1021,7,0))","v":0},{"$f":"IF(ISBLANK(A965),0,VLOOKUP(A965,'EQUIPMENT INVENTORY'!$B$7:$AK$1021,8,0))","v":0},null,null,null,null,null,null,null,null,null,null,null,null,null,null,null,{"$f":"SUM($G965:$U965)","v":0},null,null,{"$f":"V965*F965","v":0}]
[null,null,null,null,{"$f":"IF(ISBLANK(A966),0,VLOOKUP(A966,'EQUIPMENT INVENTORY'!$B$7:$AK$1021,7,0))","v":0},{"$f":"IF(ISBLANK(A966),0,VLOOKUP(A966,'EQUIPMENT INVENTORY'!$B$7:$AK$1021,8,0))","v":0},null,null,null,null,null,null,null,null,null,null,null,null,null,null,null,{"$f":"SUM($G966:$U966)","v":0},null,null,{"$f":"V966*F966","v":0}]
[null,null,null,null,{"$f":"IF(ISBLANK(A967),0,VLOOKUP(A967,'EQUIPMENT INVENTORY'!$B$7:$AK$1021,7,0))","v":0},{"$f":"IF(ISBLANK(A967),0,VLOOKUP(A967,'EQUIPMENT INVENTORY'!$B$7:$AK$1021,8,0))","v":0},null,null,null,null,null,null,null,null,null,null,null,null,null,null,null,{"$f":"SUM($G967:$U967)","v":0},null,null,{"$f":"V967*F967","v":0}]
[null,"REG",{"$f":"IF(ISBLANK(A968),0,VLOOKUP(A968,'PAYROLL RECORD'!$B$8:$U$2005,18,FALSE))","v":0},{"$f":"IF(ISBLANK(A968),0,VLOOKUP(A968,'PAYROLL RECORD'!$B$8:$D$2005,3,FALSE))","v":0},null,null,null,null,null,null,null,null,null,null,null,null,null,null,null,null,null,{"$f":"SUM($G968:$U968)","v":0},null,null,{"$f":"IF(AND($M$5=\"A\",D968<>\"FT\"),C968*V968,0)+IF(AND($M$5=\"B\",D968<>\"FT\"),C968*V968,0)+IF(AND($M$5=\"AP\"),C968*V968,0)+IF($M$5>=\"C\",C968*V968)","v":0}]
[{"$f":"IF(ISBLANK(A968),\" \",VLOOKUP(A968,'PAYROLL RECORD'!$B$9:$C$10740,2,FALSE))","v":" "},"OT1",{"$f":"IF(ISBLANK(A968),0,VLOOKUP(A968,'PAYROLL RECORD'!$B$8:$U$2005,19,FALSE))","v":0},{"$f":"+D968","v":0},null,null,null,null,null,null,null,null,null,null,null,null,null,null,null,null,null,null,{"$f":"SUM(G969:U969)","v":0},null,null,{"$f":"W969*C969","v":0}]
[null,"OT2",{"$f":"IF(ISBLANK(A968),0,VLOOKUP(A968,'PAYROLL RECORD'!$B$8:$U$2005,20,FALSE))","v":0},{"$f":"+D969","v":0},null,null,null,null,null,null,null,null,null,null,null,null,null,null,null,null,null,null,null,{"$f":"SUM(G970:U970)","v":0},null,null,{"$f":"X970*C970","v":0}]
[null,null,null,null,{"$f":"IF(ISBLANK(A971),0,VLOOKUP(A971,'EQUIPMENT INVENTORY'!$B$7:$AK$1021,7,0))","v":0},{"$f":"IF(ISBLANK(A971),0,VLOOKUP(A971,'EQUIPMENT INVENTORY'!$B$7:$AK$1021,8,0))","v":0},null,null,null,null,null,null,null,null,null,null,null,null,null,null,null,{"$f":"SUM($G971:$U971)","v":0},null,null,{"$f":"V971*F971","v":0}]
[null,null,null,null,{"$f":"IF(ISBLANK(A972),0,VLOOKUP(A972,'EQUIPMENT INVENTORY'!$B$7:$AK$1021,7,0))","v":0},{"$f":"IF(ISBLANK(A972),0,VLOOKUP(A972,'EQUIPMENT INVENTORY'!$B$7:$AK$1021,8,0))","v":0},null,null,null,null,null,null,null,null,null,null,null,null,null,null,null,{"$f":"SUM($G972:$U972)","v":0},null,null,{"$f":"V972*F972","v":0}]
[null,null,null,null,{"$f":"IF(ISBLANK(A973),0,VLOOKUP(A973,'EQUIPMENT INVENTORY'!$B$7:$AK$1021,7,0))","v":0},{"$f":"IF(ISBLANK(A973),0,VLOOKUP(A973,'EQUIPMENT INVENTORY'!$B$7:$AK$1021,8,0))","v":0},null,null,null,null,null,null,null,null,null,null,null,null,null,null,null,{"$f":"SUM($G973:$U973)","v":0},null,null,{"$f":"V973*F973","v":0}]
[null,"REG",{"$f":"IF(ISBLANK(A974),0,VLOOKUP(A974,'PAYROLL RECORD'!$B$8:$U$2005,18,FALSE))","v":0},{"$f":"IF(ISBLANK(A974),0,VLOOKUP(A974,'PAYROLL RECORD'!$B$8:$D$2005,3,FALSE))","v":0},null,null,null,null,null,null,null,null,null,null,null,null,null,null,null,null,null,{"$f":"SUM($G974:$U974)","v":0},null,null,{"$f":"IF(AND($M$5=\"A\",D974<>\"FT\"),C974*V974,0)+IF(AND($M$5=\"B\",D974<>\"FT\"),C974*V974,0)+IF(AND($M$5=\"AP\"),C974*V974,0)+IF($M$5>=\"C\",C974*V974)","v":0}]
[{"$f":"IF(ISBLANK(A974),\" \",VLOOKUP(A974,'PAYROLL RECORD'!$B$9:$C$10740,2,FALSE))","v":" "},"OT1",{"$f":"IF(ISBLANK(A974),0,VLOOKUP(A974,'PAYROLL RECORD'!$B$8:$U$2005,19,FALSE))","v":0},{"$f":"+D974","v":0},null,null,null,null,null,null,null,null,null,null,null,null,null,null,null,null,null,null,{"$f":"SUM(G975:U975)","v":0},null,null,{"$f":"W975*C975","v":0}]
[null,"OT2",{"$f":"IF(ISBLANK(A974),0,VLOOKUP(A974,'PAYROLL RECORD'!$B$8:$U$2005,20,FALSE))","v":0},{"$f":"+D975","v":0},null,null,null,null,null,null,null,null,null,null,null,null,null,null,null,null,null,null,null,{"$f":"SUM(G976:U976)","v":0},null,null,{"$f":"X976*C976","v":0}]
[null,null,null,null,{"$f":"IF(ISBLANK(A977),0,VLOOKUP(A977,'EQUIPMENT INVENTORY'!$B$7:$AK$1021,7,0))","v":0},{"$f":"IF(ISBLANK(A977),0,VLOOKUP(A977,'EQUIPMENT INVENTORY'!$B$7:$AK$1021,8,0))","v":0},null,null,null,null,null,null,null,null,null,null,null,null,null,null,null,{"$f":"SUM($G977:$U977)","v":0},null,null,{"$f":"V977*F977","v":0}]
[null,null,null,null,{"$f":"IF(ISBLANK(A978),0,VLOOKUP(A978,'EQUIPMENT INVENTORY'!$B$7:$AK$1021,7,0))","v":0},{"$f":"IF(ISBLANK(A978),0,VLOOKUP(A978,'EQUIPMENT INVENTORY'!$B$7:$AK$1021,8,0))","v":0},null,null,null,null,null,null,null,null,null,null,null,null,null,null,null,{"$f":"SUM($G978:$U978)","v":0},null,null,{"$f":"V978*F978","v":0}]
[null,null,null,null,{"$f":"IF(ISBLANK(A979),0,VLOOKUP(A979,'EQUIPMENT INVENTORY'!$B$7:$AK$1021,7,0))","v":0},{"$f":"IF(ISBLANK(A979),0,VLOOKUP(A979,'EQUIPMENT INVENTORY'!$B$7:$AK$1021,8,0))","v":0},null,null,null,null,null,null,null,null,null,null,null,null,null,null,null,{"$f":"SUM($G979:$U979)","v":0},null,null,{"$f":"V979*F979","v":0}]
[null,"REG",{"$f":"IF(ISBLANK(A980),0,VLOOKUP(A980,'PAYROLL RECORD'!$B$8:$U$2005,18,FALSE))","v":0},{"$f":"IF(ISBLANK(A980),0,VLOOKUP(A980,'PAYROLL RECORD'!$B$8:$D$2005,3,FALSE))","v":0},null,null,null,null,null,null,null,null,null,null,null,null,null,null,null,null,null,{"$f":"SUM($G980:$U980)","v":0},null,null,{"$f":"IF(AND($M$5=\"A\",D980<>\"FT\"),C980*V980,0)+IF(AND($M$5=\"B\",D980<>\"FT\"),C980*V980,0)+IF(AND($M$5=\"AP\"),C980*V980,0)+IF($M$5>=\"C\",C980*V980)","v":0}]
[{"$f":"IF(ISBLANK(A980),\" \",VLOOKUP(A980,'PAYROLL RECORD'!$B$9:$C$10740,2,FALSE))","v":" "},"OT1",{"$f":"IF(ISBLANK(A980),0,VLOOKUP(A980,'PAYROLL RECORD'!$B$8:$U$2005,19,FALSE))","v":0},{"$f":"+D980","v":0},null,null,null,null,null,null,null,null,null,null,null,null,null,null,null,null,null,null,{"$f":"SUM(G981:U981)","v":0},null,null,{"$f":"W981*C981","v":0}]
[null,"OT2",{"$f":"IF(ISBLANK(A980),0,VLOOKUP(A980,'PAYROLL RECORD'!$B$8:$U$2005,20,FALSE))","v":0},{"$f":"+D981","v":0},null,null,null,null,null,null,null,null,null,null,null,null,null,null,null,null,null,null,null,{"$f":"SUM(G982:U982)","v":0},null,null,{"$f":"X982*C982","v":0}]
[null,null,null,null,{"$f":"IF(ISBLANK(A983),0,VLOOKUP(A983,'EQUIPMENT INVENTORY'!$B$7:$AK$1021,7,0))","v":0},{"$f":"IF(ISBLANK(A983),0,VLOOKUP(A983,'EQUIPMENT INVENTORY'!$B$7:$AK$1021,8,0))","v":0},null,null,null,null,null,null,null,null,null,null,null,null,null,null,null,{"$f":"SUM($G983:$U983)","v":0},null,null,{"$f":"V983*F983","v":0}]
[null,null,null,null,{"$f":"IF(ISBLANK(A984),0,VLOOKUP(A984,'EQUIPMENT INVENTORY'!$B$7:$AK$1021,7,0))","v":0},{"$f":"IF(ISBLANK(A984),0,VLOOKUP(A984,'EQUIPMENT INVENTORY'!$B$7:$AK$1021,8,0))","v":0},null,null,null,null,null,null,null,null,null,null,null,null,null,null,null,{"$f":"SUM($G984:$U984)","v":0},null,null,{"$f":"V984*F984","v":0}]
[null,null,null,null,{"$f":"IF(ISBLANK(A985),0,VLOOKUP(A985,'EQUIPMENT INVENTORY'!$B$7:$AK$1021,7,0))","v":0},{"$f":"IF(ISBLANK(A985),0,VLOOKUP(A985,'EQUIPMENT INVENTORY'!$B$7:$AK$1021,8,0))","v":0},null,null,null,null,null,null,null,null,null,null,null,null,null,null,null,{"$f":"SUM($G985:$U985)","v":0},null,null,{"$f":"V985*F985","v":0}]
[null,"REG",{"$f":"IF(ISBLANK(A986),0,VLOOKUP(A986,'PAYROLL RECORD'!$B$8:$U$2005,18,FALSE))","v":0},{"$f":"IF(ISBLANK(A986),0,VLOOKUP(A986,'PAYROLL RECORD'!$B$8:$D$2005,3,FALSE))","v":0},null,null,null,null,null,null,null,null,null,null,null,null,null,null,null,null,null,{"$f":"SUM($G986:$U986)","v":0},null,null,{"$f":"IF(AND($M$5=\"A\",D986<>\"FT\"),C986*V986,0)+IF(AND($M$5=\"B\",D986<>\"FT\"),C986*V986,0)+IF(AND($M$5=\"AP\"),C986*V986,0)+IF($M$5>=\"C\",C986*V986)","v":0}]
[{"$f":"IF(ISBLANK(A986),\" \",VLOOKUP(A986,'PAYROLL RECORD'!$B$9:$C$10740,2,FALSE))","v":" "},"OT1",{"$f":"IF(ISBLANK(A986),0,VLOOKUP(A986,'PAYROLL RECORD'!$B$8:$U$2005,19,FALSE))","v":0},{"$f":"+D986","v":0},null,null,null,null,null,null,null,null,null,null,null,null,null,null,null,null,null,null,{"$f":"SUM(G987:U987)","v":0},null,null,{"$f":"W987*C987","v":0}]
[null,"OT2",{"$f":"IF(ISBLANK(A986),0,VLOOKUP(A986,'PAYROLL RECORD'!$B$8:$U$2005,20,FALSE))","v":0},{"$f":"+D987","v":0},null,null,null,null,null,null,null,null,null,null,null,null,null,null,null,null,null,null,null,{"$f":"SUM(G988:U988)","v":0},null,null,{"$f":"X988*C988","v":0}]
[null,null,null,null,{"$f":"IF(ISBLANK(A989),0,VLOOKUP(A989,'EQUIPMENT INVENTORY'!$B$7:$AK$1021,7,0))","v":0},{"$f":"IF(ISBLANK(A989),0,VLOOKUP(A989,'EQUIPMENT INVENTORY'!$B$7:$AK$1021,8,0))","v":0},null,null,null,null,null,null,null,null,null,null,null,null,null,null,null,{"$f":"SUM($G989:$U989)","v":0},null,null,{"$f":"V989*F989","v":0}]
[null,null,null,null,{"$f":"IF(ISBLANK(A990),0,VLOOKUP(A990,'EQUIPMENT INVENTORY'!$B$7:$AK$1021,7,0))","v":0},{"$f":"IF(ISBLANK(A990),0,VLOOKUP(A990,'EQUIPMENT INVENTORY'!$B$7:$AK$1021,8,0))","v":0},null,null,null,null,null,null,null,null,null,null,null,null,null,null,null,{"$f":"SUM($G990:$U990)","v":0},null,null,{"$f":"V990*F990","v":0}]
[null,null,null,null,{"$f":"IF(ISBLANK(A991),0,VLOOKUP(A991,'EQUIPMENT INVENTORY'!$B$7:$AK$1021,7,0))","v":0},{"$f":"IF(ISBLANK(A991),0,VLOOKUP(A991,'EQUIPMENT INVENTORY'!$B$7:$AK$1021,8,0))","v":0},null,null,null,null,null,null,null,null,null,null,null,null,null,null,null,{"$f":"SUM($G991:$U991)","v":0},null,null,{"$f":"V991*F991","v":0}]
[null,"REG",{"$f":"IF(ISBLANK(A992),0,VLOOKUP(A992,'PAYROLL RECORD'!$B$8:$U$2005,18,FALSE))","v":0},{"$f":"IF(ISBLANK(A992),0,VLOOKUP(A992,'PAYROLL RECORD'!$B$8:$D$2005,3,FALSE))","v":0},null,null,null,null,null,null,null,null,null,null,null,null,null,null,null,null,null,{"$f":"SUM($G992:$U992)","v":0},null,null,{"$f":"IF(AND($M$5=\"A\",D992<>\"FT\"),C992*V992,0)+IF(AND($M$5=\"B\",D992<>\"FT\"),C992*V992,0)+IF(AND($M$5=\"AP\"),C992*V992,0)+IF($M$5>=\"C\",C992*V992)","v":0}]
[{"$f":"IF(ISBLANK(A992),\" \",VLOOKUP(A992,'PAYROLL RECORD'!$B$9:$C$10740,2,FALSE))","v":" "},"OT1",{"$f":"IF(ISBLANK(A992),0,VLOOKUP(A992,'PAYROLL RECORD'!$B$8:$U$2005,19,FALSE))","v":0},{"$f":"+D992","v":0},null,null,null,null,null,null,null,null,null,null,null,null,null,null,null,null,null,null,{"$f":"SUM(G993:U993)","v":0},null,null,{"$f":"W993*C993","v":0}]
[null,"OT2",{"$f":"IF(ISBLANK(A992),0,VLOOKUP(A992,'PAYROLL RECORD'!$B$8:$U$2005,20,FALSE))","v":0},{"$f":"+D993","v":0},null,null,null,null,null,null,null,null,null,null,null,null,null,null,null,null,null,null,null,{"$f":"SUM(G994:U994)","v":0},null,null,{"$f":"X994*C994","v":0}]
[null,null,null,null,{"$f":"IF(ISBLANK(A995),0,VLOOKUP(A995,'EQUIPMENT INVENTORY'!$B$7:$AK$1021,7,0))","v":0},{"$f":"IF(ISBLANK(A995),0,VLOOKUP(A995,'EQUIPMENT INVENTORY'!$B$7:$AK$1021,8,0))","v":0},null,null,null,null,null,null,null,null,null,null,null,null,null,null,null,{"$f":"SUM($G995:$U995)","v":0},null,null,{"$f":"V995*F995","v":0}]
[null,null,null,null,{"$f":"IF(ISBLANK(A996),0,VLOOKUP(A996,'EQUIPMENT INVENTORY'!$B$7:$AK$1021,7,0))","v":0},{"$f":"IF(ISBLANK(A996),0,VLOOKUP(A996,'EQUIPMENT INVENTORY'!$B$7:$AK$1021,8,0))","v":0},null,null,null,null,null,null,null,null,null,null,null,null,null,null,null,{"$f":"SUM($G996:$U996)","v":0},null,null,{"$f":"V996*F996","v":0}]
[null,null,null,null,{"$f":"IF(ISBLANK(A997),0,VLOOKUP(A997,'EQUIPMENT INVENTORY'!$B$7:$AK$1021,7,0))","v":0},{"$f":"IF(ISBLANK(A997),0,VLOOKUP(A997,'EQUIPMENT INVENTORY'!$B$7:$AK$1021,8,0))","v":0},null,null,null,null,null,null,null,null,null,null,null,null,null,null,null,{"$f":"SUM($G997:$U997)","v":0},null,null,{"$f":"V997*F997","v":0},null,null,"Reg hrs","ot1 hrs","ot2 hrs","equip hrs"]
[null,null,null,null,null,null,null,null,null,null,null,null,null,null,null,null,"LABOR - Page Total",null,null,null,null,{"$f":"V950+V956+V962+V974+V980+V992+V968+V986","v":0},{"$f":"SUM(W950:W997)","v":0},{"$f":"SUM(X950:X997)","v":0},{"$f":"Y950+Y956+Y962+Y974+Y980+Y992+Y968+Y986","v":0},{"$f":"SUM(Z951:Z997)","v":0},{"$f":"SUM(AA951:AA997)","v":0},{"$f":"V998","v":0},{"$f":"W998","v":0},{"$f":"X998","v":0},{"$f":"V999","v":0},{"$f":"Y998","v":0},{"$f":"Z998","v":0},{"$f":"AA998","v":0},{"$f":"Y999","v":0}]
[null,null,null,null,null,null,null,null,null,null,null,null,null,null,null,null,"EQUIPMENT - Page Total",null,null,null,null,{"$f":"V953+V954+V955+V959+V960+V961+V965+V966+V967+V971+V972+V973+V977+V978+V979+V983+V984+V985+V995+V996+V997+V989+V990+V991","v":0},null,null,{"$f":"Y953+Y954+Y955+Y959+Y960+Y961+Y965+Y966+Y967+Y971+Y972+Y973+Y977+Y978+Y979+Y983+Y984+Y985+Y995+Y996+Y997+Y989+Y990+Y991","v":0}]
[null,null,null,null,null,null,null,null,null,null,null,null,null,null,null,null,"LABOR - Grand Total",null,null,null,null,{"$f":"SUM($AB:$AB)","v":0},{"$f":"SUM($AC:$AC)","v":0},{"$f":"SUM($AD:$AD)","v":0},{"$f":"SUM(AF:AF)","v":0},{"$f":"SUM($AG:$AG)","v":0},{"$f":"SUM($AH:$AH)","v":0}]
[null,null,null,null,null,null,null,null,null,null,null,null,null,null,null,null,"EQUIPMENT - Grand Total",null,null,null,null,{"$f":"SUM($AE:$AE)","v":0},null,null,{"$f":"SUM($AI:$AI)","v":0}]
[]
[]
["COST SUMMARY FOR LABOR/EQUIPMENT"]
["APPLICANT - FIPS#",null,null,null,"DISASTER #:",null,null,"PROJECT #:",null,null,null,null,"FEMA CAT A-G",null,null,"EMMIE #",null,null,null,"Work Completion Date"]
[{"$f":"IF('PAYROLL RECORD'!$B$5=\"START HERE\",\"\",'PAYROLL RECORD'!$B$5)","v":0},null,null,null,{"$f":"IF('PAYROLL RECORD'!$F$5=\"\",\"\",'PAYROLL RECORD'!$F$5)","v":""},null,null,{"$f":"'PAYROLL RECORD'!I1005:L1005","v":{"$error":"#VALUE!"}},null,null,null,null,{"$f":"IF('PAYROLL RECORD'!$M$5=\"CATEGORY\",\"\",'PAYROLL RECORD'!$M$5)","v":0},null,null,{"$f":"IF('PAYROLL RECORD'!$O$5=\"EMMIE #\",\"\",'PAYROLL RECORD'!$O$5)","v":0},null,null,null,{"$f":"IF('PAYROLL RECORD'!$Q$5=\"DATE\",\"\",'PAYROLL RECORD'!$Q$5)","v":"00:00:00"}]
["Employee/\nEquipment",null,"RATE w/","STATUS","COST CODE","RATE","2018-10-31",{"$f":"+G1007+1","v":"2018-11-01"},{"$f":"H1007+1","v":"2018-11-02"},"2018-11-03","2018-11-04","2018-11-05","2018-11-06","2018-11-07","2018-11-08","2018-11-09","2018-11-10","2018-11-11","2018-11-12","2018-11-13","2018-11-14","REG","OT1","OT2","REG TIME\nCOST","OT1\nCOST","OT2\nCOST"]
[null,null,"FRINGE",null,null,null,{"$f":"IF(G1007<=0,\"\",TEXT(WEEKDAY(G1007),\"ddd\"))","v":"Wed"},{"$f":"IF(H1007<=0,\"\",TEXT(WEEKDAY(H1007),\"ddd\"))","v":"Thu"},"Fri","Sat","Sun","Mon","Tue","Wed","Thu","Fri","Sat","Sun","Mon","Tue","Wed"]
[null,"REG",{"$f":"IF(ISBLANK(A1009),0,VLOOKUP(A1009,'PAYROLL RECORD'!$B$8:$U$2005,18,FALSE))","v":0},{"$f":"IF(ISBLANK(A1009),0,VLOOKUP(A1009,'PAYROLL RECORD'!$B$8:$D$2005,3,FALSE))","v":0},null,null,null,null,null,null,null,null,null,null,null,null,null,null,null,null,null,{"$f":"SUM($G1009:$U1009)","v":0},null,null,{"$f":"IF(AND($M$5=\"A\",D1009<>\"FT\"),C1009*V1009,0)+IF(AND($M$5=\"B\",D1009<>\"FT\"),C1009*V1009,0)+IF(AND($M$5=\"AP\"),C1009*V1009,0)+IF($M$5>=\"C\",C1009*V1009)","v":0}]
[{"$f":"IF(ISBLANK(A1009),\" \",VLOOKUP(A1009,'PAYROLL RECORD'!$B$9:$C$10740,2,FALSE))","v":" "},"OT1",{"$f":"IF(ISBLANK(A1009),0,VLOOKUP(A1009,'PAYROLL RECORD'!$B$8:$U$2005,19,FALSE))","v":0},{"$f":"+D1009","v":0},null,null,null,null,null,null,null,null,null,null,null,null,null,null,null,null,null,null,{"$f":"SUM(G1010:U1010)","v":0},null,null,{"$f":"W1010*C1010","v":0}]
[null,"OT2",{"$f":"IF(ISBLANK(A1009),0,VLOOKUP(A1009,'PAYROLL RECORD'!$B$8:$U$2005,20,FALSE))","v":0},{"$f":"+D1010","v":0},null,null,null,null,null,null,null,null,null,null,null,null,null,null,null,null,null,null,null,{"$f":"SUM(G1011:U1011)","v":0},null,null,{"$f":"X1011*C1011","v":0}]
[null,null,null,null,{"$f":"IF(ISBLANK(A1012),0,VLOOKUP(A1012,'EQUIPMENT INVENTORY'!$B$7:$AK$1021,7,0))","v":0},{"$f":"IF(ISBLANK(A1012),0,VLOOKUP(A1012,'EQUIPMENT INVENTORY'!$B$7:$AK$1021,8,0))","v":0},null,null,null,null,null,null,null,null,null,null,null,null,null,null,null,{"$f":"SUM($G1012:$U1012)","v":0},null,null,{"$f":"V1012*F1012","v":0}]
[null,null,null,null,{"$f":"IF(ISBLANK(A1013),0,VLOOKUP(A1013,'EQUIPMENT INVENTORY'!$B$7:$AK$1021,7,0))","v":0},{"$f":"IF(ISBLANK(A1013),0,VLOOKUP(A1013,'EQUIPMENT INVENTORY'!$B$7:$AK$1021,8,0))","v":0},null,null,null,null,null,null,null,null,null,null,null,null,null,null,null,{"$f":"SUM($G1013:$U1013)","v":0},null,null,{"$f":"V1013*F1013","v":0}]
[null,null,null,null,{"$f":"IF(ISBLANK(A1014),0,VLOOKUP(A1014,'EQUIPMENT INVENTORY'!$B$7:$AK$1021,7,0))","v":0},{"$f":"IF(ISBLANK(A1014),0,VLOOKUP(A1014,'EQUIPMENT INVENTORY'!$B$7:$AK$1021,8,0))","v":0},null,null,null,null,null,null,null,null,null,null,null,null,null,null,null,{"$f":"SUM($G1014:$U1014)","v":0},null,null,{"$f":"V1014*F1014","v":0}]
[null,"REG",{"$f":"IF(ISBLANK(A1015),0,VLOOKUP(A1015,'PAYROLL RECORD'!$B$8:$U$2005,18,FALSE))","v":0},{"$f":"IF(ISBLANK(A1015),0,VLOOKUP(A1015,'PAYROLL RECORD'!$B$8:$D$2005,3,FALSE))","v":0},null,null,null,null,null,null,null,null,null,null,null,null,null,null,null,null,null,{"$f":"SUM($G1015:$U1015)","v":0},null,null,{"$f":"IF(AND($M$5=\"A\",D1015<>\"FT\"),C1015*V1015,0)+IF(AND($M$5=\"B\",D1015<>\"FT\"),C1015*V1015,0)+IF(AND($M$5=\"AP\"),C1015*V1015,0)+IF($M$5>=\"C\",C1015*V1015)","v":0}]
[{"$f":"IF(ISBLANK(A1015),\" \",VLOOKUP(A1015,'PAYROLL RECORD'!$B$9:$C$10740,2,FALSE))","v":" "},"OT1",{"$f":"IF(ISBLANK(A1015),0,VLOOKUP(A1015,'PAYROLL RECORD'!$B$8:$U$2005,19,FALSE))","v":0},{"$f":"+D1015","v":0},null,null,null,null,null,null,null,null,null,null,null,null,null,null,null,null,null,null,{"$f":"SUM(G1016:U1016)","v":0},null,null,{"$f":"W1016*C1016","v":0}]
[null,"OT2",{"$f":"IF(ISBLANK(A1015),0,VLOOKUP(A1015,'PAYROLL RECORD'!$B$8:$U$2005,20,FALSE))","v":0},{"$f":"+D1016","v":0},null,null,null,null,null,null,null,null,null,null,null,null,null,null,null,null,null,null,null,{"$f":"SUM(G1017:U1017)","v":0},null,null,{"$f":"X1017*C1017","v":0}]
[null,null,null,null,{"$f":"IF(ISBLANK(A1018),0,VLOOKUP(A1018,'EQUIPMENT INVENTORY'!$B$7:$AK$1021,7,0))","v":0},{"$f":"IF(ISBLANK(A1018),0,VLOOKUP(A1018,'EQUIPMENT INVENTORY'!$B$7:$AK$1021,8,0))","v":0},null,null,null,null,null,null,null,null,null,null,null,null,null,null,null,{"$f":"SUM($G1018:$U1018)","v":0},null,null,{"$f":"V1018*F1018","v":0}]
[null,null,null,null,{"$f":"IF(ISBLANK(A1019),0,VLOOKUP(A1019,'EQUIPMENT INVENTORY'!$B$7:$AK$1021,7,0))","v":0},{"$f":"IF(ISBLANK(A1019),0,VLOOKUP(A1019,'EQUIPMENT INVENTORY'!$B$7:$AK$1021,8,0))","v":0},null,null,null,null,null,null,null,null,null,null,null,null,null,null,null,{"$f":"SUM($G1019:$U1019)","v":0},null,null,{"$f":"V1019*F1019","v":0}]
[null,null,null,null,{"$f":"IF(ISBLANK(A1020),0,VLOOKUP(A1020,'EQUIPMENT INVENTORY'!$B$7:$AK$1021,7,0))","v":0},{"$f":"IF(ISBLANK(A1020),0,VLOOKUP(A1020,'EQUIPMENT INVENTORY'!$B$7:$AK$1021,8,0))","v":0},null,null,null,null,null,null,null,null,null,null,null,null,null,null,null,{"$f":"SUM($G1020:$U1020)","v":0},null,null,{"$f":"V1020*F1020","v":0}]
[null,"REG",{"$f":"IF(ISBLANK(A1021),0,VLOOKUP(A1021,'PAYROLL RECORD'!$B$8:$U$2005,18,FALSE))","v":0},{"$f":"IF(ISBLANK(A1021),0,VLOOKUP(A1021,'PAYROLL RECORD'!$B$8:$D$2005,3,FALSE))","v":0},null,null,null,null,null,null,null,null,null,null,null,null,null,null,null,null,null,{"$f":"SUM($G1021:$U1021)","v":0},null,null,{"$f":"IF(AND($M$5=\"A\",D1021<>\"FT\"),C1021*V1021,0)+IF(AND($M$5=\"B\",D1021<>\"FT\"),C1021*V1021,0)+IF(AND($M$5=\"AP\"),C1021*V1021,0)+IF($M$5>=\"C\",C1021*V1021)","v":0}]
[{"$f":"IF(ISBLANK(A1021),\" \",VLOOKUP(A1021,'PAYROLL RECORD'!$B$9:$C$10740,2,FALSE))","v":" "},"OT1",{"$f":"IF(ISBLANK(A1021),0,VLOOKUP(A1021,'PAYROLL RECORD'!$B$8:$U$2005,19,FALSE))","v":0},{"$f":"+D1021","v":0},null,null,null,null,null,null,null,null,null,null,null,null,null,null,null,null,null,null,{"$f":"SUM(G1022:U1022)","v":0},null,null,{"$f":"W1022*C1022","v":0}]
[null,"OT2",{"$f":"IF(ISBLANK(A1021),0,VLOOKUP(A1021,'PAYROLL RECORD'!$B$8:$U$2005,20,FALSE))","v":0},{"$f":"+D1022","v":0},null,null,null,null,null,null,null,null,null,null,null,null,null,null,null,null,null,null,null,{"$f":"SUM(G1023:U1023)","v":0},null,null,{"$f":"X1023*C1023","v":0}]
[null,null,null,null,{"$f":"IF(ISBLANK(A1024),0,VLOOKUP(A1024,'EQUIPMENT INVENTORY'!$B$7:$AK$1021,7,0))","v":0},{"$f":"IF(ISBLANK(A1024),0,VLOOKUP(A1024,'EQUIPMENT INVENTORY'!$B$7:$AK$1021,8,0))","v":0},null,null,null,null,null,null,null,null,null,null,null,null,null,null,null,{"$f":"SUM($G1024:$U1024)","v":0},null,null,{"$f":"V1024*F1024","v":0}]
[null,null,null,null,{"$f":"IF(ISBLANK(A1025),0,VLOOKUP(A1025,'EQUIPMENT INVENTORY'!$B$7:$AK$1021,7,0))","v":0},{"$f":"IF(ISBLANK(A1025),0,VLOOKUP(A1025,'EQUIPMENT INVENTORY'!$B$7:$AK$1021,8,0))","v":0},null,null,null,null,null,null,null,null,null,null,null,null,null,null,null,{"$f":"SUM($G1025:$U1025)","v":0},null,null,{"$f":"V1025*F1025","v":0}]
[null,null,null,null,{"$f":"IF(ISBLANK(A1026),0,VLOOKUP(A1026,'EQUIPMENT INVENTORY'!$B$7:$AK$1021,7,0))","v":0},{"$f":"IF(ISBLANK(A1026),0,VLOOKUP(A1026,'EQUIPMENT INVENTORY'!$B$7:$AK$1021,8,0))","v":0},null,null,null,null,null,null,null,null,null,null,null,null,null,null,null,{"$f":"SUM($G1026:$U1026)","v":0},null,null,{"$f":"V1026*F1026","v":0}]
[null,"REG",{"$f":"IF(ISBLANK(A1027),0,VLOOKUP(A1027,'PAYROLL RECORD'!$B$8:$U$2005,18,FALSE))","v":0},{"$f":"IF(ISBLANK(A1027),0,VLOOKUP(A1027,'PAYROLL RECORD'!$B$8:$D$2005,3,FALSE))","v":0},null,null,null,null,null,null,null,null,null,null,null,null,null,null,null,null,null,{"$f":"SUM($G1027:$U1027)","v":0},null,null,{"$f":"IF(AND($M$5=\"A\",D1027<>\"FT\"),C1027*V1027,0)+IF(AND($M$5=\"B\",D1027<>\"FT\"),C1027*V1027,0)+IF(AND($M$5=\"AP\"),C1027*V1027,0)+IF($M$5>=\"C\",C1027*V1027)","v":0}]
[{"$f":"IF(ISBLANK(A1027),\" \",VLOOKUP(A1027,'PAYROLL RECORD'!$B$9:$C$10740,2,FALSE))","v":" "},"OT1",{"$f":"IF(ISBLANK(A1027),0,VLOOKUP(A1027,'PAYROLL RECORD'!$B$8:$U$2005,19,FALSE))","v":0},{"$f":"+D1027","v":0},null,null,null,null,null,null,null,null,null,null,null,null,null,null,null,null,null,null,{"$f":"SUM(G1028:U1028)","v":0},null,null,{"$f":"W1028*C1028","v":0}]
[null,"OT2",{"$f":"IF(ISBLANK(A1027),0,VLOOKUP(A1027,'PAYROLL RECORD'!$B$8:$U$2005,20,FALSE))","v":0},{"$f":"+D1028","v":0},null,null,null,null,null,null,null,null,null,null,null,null,null,null,null,null,null,null,null,{"$f":"SUM(G1029:U1029)","v":0},null,null,{"$f":"X1029*C1029","v":0}]
[null,null,null,null,{"$f":"IF(ISBLANK(A1030),0,VLOOKUP(A1030,'EQUIPMENT INVENTORY'!$B$7:$AK$1021,7,0))","v":0},{"$f":"IF(ISBLANK(A1030),0,VLOOKUP(A1030,'EQUIPMENT INVENTORY'!$B$7:$AK$1021,8,0))","v":0},null,null,null,null,null,null,null,null,null,null,null,null,null,null,null,{"$f":"SUM($G1030:$U1030)","v":0},null,null,{"$f":"V1030*F1030","v":0}]
[null,null,null,null,{"$f":"IF(ISBLANK(A1031),0,VLOOKUP(A1031,'EQUIPMENT INVENTORY'!$B$7:$AK$1021,7,0))","v":0},{"$f":"IF(ISBLANK(A1031),0,VLOOKUP(A1031,'EQUIPMENT INVENTORY'!$B$7:$AK$1021,8,0))","v":0},null,null,null,null,null,null,null,null,null,null,null,null,null,null,null,{"$f":"SUM($G1031:$U1031)","v":0},null,null,{"$f":"V1031*F1031","v":0}]
[null,null,null,null,{"$f":"IF(ISBLANK(A1032),0,VLOOKUP(A1032,'EQUIPMENT INVENTORY'!$B$7:$AK$1021,7,0))","v":0},{"$f":"IF(ISBLANK(A1032),0,VLOOKUP(A1032,'EQUIPMENT INVENTORY'!$B$7:$AK$1021,8,0))","v":0},null,null,null,null,null,null,null,null,null,null,null,null,null,null,null,{"$f":"SUM($G1032:$U1032)","v":0},null,null,{"$f":"V1032*F1032","v":0}]
[null,"REG",{"$f":"IF(ISBLANK(A1033),0,VLOOKUP(A1033,'PAYROLL RECORD'!$B$8:$U$2005,18,FALSE))","v":0},{"$f":"IF(ISBLANK(A1033),0,VLOOKUP(A1033,'PAYROLL RECORD'!$B$8:$D$2005,3,FALSE))","v":0},null,null,null,null,null,null,null,null,null,null,null,null,null,null,null,null,null,{"$f":"SUM($G1033:$U1033)","v":0},null,null,{"$f":"IF(AND($M$5=\"A\",D1033<>\"FT\"),C1033*V1033,0)+IF(AND($M$5=\"B\",D1033<>\"FT\"),C1033*V1033,0)+IF(AND($M$5=\"AP\"),C1033*V1033,0)+IF($M$5>=\"C\",C1033*V1033)","v":0}]
[{"$f":"IF(ISBLANK(A1033),\" \",VLOOKUP(A1033,'PAYROLL RECORD'!$B$9:$C$10740,2,FALSE))","v":" "},"OT1",{"$f":"IF(ISBLANK(A1033),0,VLOOKUP(A1033,'PAYROLL RECORD'!$B$8:$U$2005,19,FALSE))","v":0},{"$f":"+D1033","v":0},null,null,null,null,null,null,null,null,null,null,null,null,null,null,null,null,null,null,{"$f":"SUM(G1034:U1034)","v":0},null,null,{"$f":"W1034*C1034","v":0}]
[null,"OT2",{"$f":"IF(ISBLANK(A1033),0,VLOOKUP(A1033,'PAYROLL RECORD'!$B$8:$U$2005,20,FALSE))","v":0},{"$f":"+D1034","v":0},null,null,null,null,null,null,null,null,null,null,null,null,null,null,null,null,null,null,null,{"$f":"SUM(G1035:U1035)","v":0},null,null,{"$f":"X1035*C1035","v":0}]
[null,null,null,null,{"$f":"IF(ISBLANK(A1036),0,VLOOKUP(A1036,'EQUIPMENT INVENTORY'!$B$7:$AK$1021,7,0))","v":0},{"$f":"IF(ISBLANK(A1036),0,VLOOKUP(A1036,'EQUIPMENT INVENTORY'!$B$7:$AK$1021,8,0))","v":0},null,null,null,null,null,null,null,null,null,null,null,null,null,null,null,{"$f":"SUM($G1036:$U1036)","v":0},null,null,{"$f":"V1036*F1036","v":0}]
[null,null,null,null,{"$f":"IF(ISBLANK(A1037),0,VLOOKUP(A1037,'EQUIPMENT INVENTORY'!$B$7:$AK$1021,7,0))","v":0},{"$f":"IF(ISBLANK(A1037),0,VLOOKUP(A1037,'EQUIPMENT INVENTORY'!$B$7:$AK$1021,8,0))","v":0},null,null,null,null,null,null,null,null,null,null,null,null,null,null,null,{"$f":"SUM($G1037:$U1037)","v":0},null,null,{"$f":"V1037*F1037","v":0}]
[null,null,null,null,{"$f":"IF(ISBLANK(A1038),0,VLOOKUP(A1038,'EQUIPMENT INVENTORY'!$B$7:$AK$1021,7,0))","v":0},{"$f":"IF(ISBLANK(A1038),0,VLOOKUP(A1038,'EQUIPMENT INVENTORY'!$B$7:$AK$1021,8,0))","v":0},null,null,null,null,null,null,null,null,null,null,null,null,null,null,null,{"$f":"SUM($G1038:$U1038)","v":0},null,null,{"$f":"V1038*F1038","v":0}]
[null,"REG",{"$f":"IF(ISBLANK(A1039),0,VLOOKUP(A1039,'PAYROLL RECORD'!$B$8:$U$2005,18,FALSE))","v":0},{"$f":"IF(ISBLANK(A1039),0,VLOOKUP(A1039,'PAYROLL RECORD'!$B$8:$D$2005,3,FALSE))","v":0},null,null,null,null,null,null,null,null,null,null,null,null,null,null,null,null,null,{"$f":"SUM($G1039:$U1039)","v":0},null,null,{"$f":"IF(AND($M$5=\"A\",D1039<>\"FT\"),C1039*V1039,0)+IF(AND($M$5=\"B\",D1039<>\"FT\"),C1039*V1039,0)+IF(AND($M$5=\"AP\"),C1039*V1039,0)+IF($M$5>=\"C\",C1039*V1039)","v":0}]
[{"$f":"IF(ISBLANK(A1039),\" \",VLOOKUP(A1039,'PAYROLL RECORD'!$B$9:$C$10740,2,FALSE))","v":" "},"OT1",{"$f":"IF(ISBLANK(A1039),0,VLOOKUP(A1039,'PAYROLL RECORD'!$B$8:$U$2005,19,FALSE))","v":0},{"$f":"+D1039","v":0},null,null,null,null,null,null,null,null,null,null,null,null,null,null,null,null,null,null,{"$f":"SUM(G1040:U1040)","v":0},null,null,{"$f":"W1040*C1040","v":0}]
[null,"OT2",{"$f":"IF(ISBLANK(A1039),0,VLOOKUP(A1039,'PAYROLL RECORD'!$B$8:$U$2005,20,FALSE))","v":0},{"$f":"+D1040","v":0},null,null,null,null,null,null,null,null,null,null,null,null,null,null,null,null,null,null,null,{"$f":"SUM(G1041:U1041)","v":0},null,null,{"$f":"X1041*C1041","v":0}]
[null,null,null,null,{"$f":"IF(ISBLANK(A1042),0,VLOOKUP(A1042,'EQUIPMENT INVENTORY'!$B$7:$AK$1021,7,0))","v":0},{"$f":"IF(ISBLANK(A1042),0,VLOOKUP(A1042,'EQUIPMENT INVENTORY'!$B$7:$AK$1021,8,0))","v":0},null,null,null,null,null,null,null,null,null,null,null,null,null,null,null,{"$f":"SUM($G1042:$U1042)","v":0},null,null,{"$f":"V1042*F1042","v":0}]
[null,null,null,null,{"$f":"IF(ISBLANK(A1043),0,VLOOKUP(A1043,'EQUIPMENT INVENTORY'!$B$7:$AK$1021,7,0))","v":0},{"$f":"IF(ISBLANK(A1043),0,VLOOKUP(A1043,'EQUIPMENT INVENTORY'!$B$7:$AK$1021,8,0))","v":0},null,null,null,null,null,null,null,null,null,null,null,null,null,null,null,{"$f":"SUM($G1043:$U1043)","v":0},null,null,{"$f":"V1043*F1043","v":0}]
[null,null,null,null,{"$f":"IF(ISBLANK(A1044),0,VLOOKUP(A1044,'EQUIPMENT INVENTORY'!$B$7:$AK$1021,7,0))","v":0},{"$f":"IF(ISBLANK(A1044),0,VLOOKUP(A1044,'EQUIPMENT INVENTORY'!$B$7:$AK$1021,8,0))","v":0},null,null,null,null,null,null,null,null,null,null,null,null,null,null,null,{"$f":"SUM($G1044:$U1044)","v":0},null,null,{"$f":"V1044*F1044","v":0}]
[null,"REG",{"$f":"IF(ISBLANK(A1045),0,VLOOKUP(A1045,'PAYROLL RECORD'!$B$8:$U$2005,18,FALSE))","v":0},{"$f":"IF(ISBLANK(A1045),0,VLOOKUP(A1045,'PAYROLL RECORD'!$B$8:$D$2005,3,FALSE))","v":0},null,null,null,null,null,null,null,null,null,null,null,null,null,null,null,null,null,{"$f":"SUM($G1045:$U1045)","v":0},null,null,{"$f":"IF(AND($M$5=\"A\",D1045<>\"FT\"),C1045*V1045,0)+IF(AND($M$5=\"B\",D1045<>\"FT\"),C1045*V1045,0)+IF(AND($M$5=\"AP\"),C1045*V1045,0)+IF($M$5>=\"C\",C1045*V1045)","v":0}]
[{"$f":"IF(ISBLANK(A1045),\" \",VLOOKUP(A1045,'PAYROLL RECORD'!$B$9:$C$10740,2,FALSE))","v":" "},"OT1",{"$f":"IF(ISBLANK(A1045),0,VLOOKUP(A1045,'PAYROLL RECORD'!$B$8:$U$2005,19,FALSE))","v":0},{"$f":"+D1045","v":0},null,null,null,null,null,null,null,null,null,null,null,null,null,null,null,null,null,null,{"$f":"SUM(G1046:U1046)","v":0},null,null,{"$f":"W1046*C1046","v":0}]
[null,"OT2",{"$f":"IF(ISBLANK(A1045),0,VLOOKUP(A1045,'PAYROLL RECORD'!$B$8:$U$2005,20,FALSE))","v":0},{"$f":"+D1046","v":0},null,null,null,null,null,null,null,null,null,null,null,null,null,null,null,null,null,null,null,{"$f":"SUM(G1047:U1047)","v":0},null,null,{"$f":"X1047*C1047","v":0}]
[null,null,null,null,{"$f":"IF(ISBLANK(A1048),0,VLOOKUP(A1048,'EQUIPMENT INVENTORY'!$B$7:$AK$1021,7,0))","v":0},{"$f":"IF(ISBLANK(A1048),0,VLOOKUP(A1048,'EQUIPMENT INVENTORY'!$B$7:$AK$1021,8,0))","v":0},null,null,null,null,null,null,null,null,null,null,null,null,null,null,null,{"$f":"SUM($G1048:$U1048)","v":0},null,null,{"$f":"V1048*F1048","v":0}]
[null,null,null,null,{"$f":"IF(ISBLANK(A1049),0,VLOOKUP(A1049,'EQUIPMENT INVENTORY'!$B$7:$AK$1021,7,0))","v":0},{"$f":"IF(ISBLANK(A1049),0,VLOOKUP(A1049,'EQUIPMENT INVENTORY'!$B$7:$AK$1021,8,0))","v":0},null,null,null,null,null,null,null,null,null,null,null,null,null,null,null,{"$f":"SUM($G1049:$U1049)","v":0},null,null,{"$f":"V1049*F1049","v":0}]
[null,null,null,null,{"$f":"IF(ISBLANK(A1050),0,VLOOKUP(A1050,'EQUIPMENT INVENTORY'!$B$7:$AK$1021,7,0))","v":0},{"$f":"IF(ISBLANK(A1050),0,VLOOKUP(A1050,'EQUIPMENT INVENTORY'!$B$7:$AK$1021,8,0))","v":0},null,null,null,null,null,null,null,null,null,null,null,null,null,null,null,{"$f":"SUM($G1050:$U1050)","v":0},null,null,{"$f":"V1050*F1050","v":0}]
[null,"REG",{"$f":"IF(ISBLANK(A1051),0,VLOOKUP(A1051,'PAYROLL RECORD'!$B$8:$U$2005,18,FALSE))","v":0},{"$f":"IF(ISBLANK(A1051),0,VLOOKUP(A1051,'PAYROLL RECORD'!$B$8:$D$2005,3,FALSE))","v":0},null,null,null,null,null,null,null,null,null,null,null,null,null,null,null,null,null,{"$f":"SUM($G1051:$U1051)","v":0},null,null,{"$f":"IF(AND($M$5=\"A\",D1051<>\"FT\"),C1051*V1051,0)+IF(AND($M$5=\"B\",D1051<>\"FT\"),C1051*V1051,0)+IF(AND($M$5=\"AP\"),C1051*V1051,0)+IF($M$5>=\"C\",C1051*V1051)","v":0}]
[{"$f":"IF(ISBLANK(A1051),\" \",VLOOKUP(A1051,'PAYROLL RECORD'!$B$9:$C$10740,2,FALSE))","v":" "},"OT1",{"$f":"IF(ISBLANK(A1051),0,VLOOKUP(A1051,'PAYROLL RECORD'!$B$8:$U$2005,19,FALSE))","v":0},{"$f":"+D1051","v":0},null,null,null,null,null,null,null,null,null,null,null,null,null,null,null,null,null,null,{"$f":"SUM(G1052:U1052)","v":0},null,null,{"$f":"W1052*C1052","v":0}]
[null,"OT2",{"$f":"IF(ISBLANK(A1051),0,VLOOKUP(A1051,'PAYROLL RECORD'!$B$8:$U$2005,20,FALSE))","v":0},{"$f":"+D1052","v":0},null,null,null,null,null,null,null,null,null,null,null,null,null,null,null,null,null,null,null,{"$f":"SUM(G1053:U1053)","v":0},null,null,{"$f":"X1053*C1053","v":0}]
[null,null,null,null,{"$f":"IF(ISBLANK(A1054),0,VLOOKUP(A1054,'EQUIPMENT INVENTORY'!$B$7:$AK$1021,7,0))","v":0},{"$f":"IF(ISBLANK(A1054),0,VLOOKUP(A1054,'EQUIPMENT INVENTORY'!$B$7:$AK$1021,8,0))","v":0},null,null,null,null,null,null,null,null,null,null,null,null,null,null,null,{"$f":"SUM($G1054:$U1054)","v":0},null,null,{"$f":"V1054*F1054","v":0}]
[null,null,null,null,{"$f":"IF(ISBLANK(A1055),0,VLOOKUP(A1055,'EQUIPMENT INVENTORY'!$B$7:$AK$1021,7,0))","v":0},{"$f":"IF(ISBLANK(A1055),0,VLOOKUP(A1055,'EQUIPMENT INVENTORY'!$B$7:$AK$1021,8,0))","v":0},null,null,null,null,null,null,null,null,null,null,null,null,null,null,null,{"$f":"SUM($G1055:$U1055)","v":0},null,null,{"$f":"V1055*F1055","v":0}]
[null,null,null,null,{"$f":"IF(ISBLANK(A1056),0,VLOOKUP(A1056,'EQUIPMENT INVENTORY'!$B$7:$AK$1021,7,0))","v":0},{"$f":"IF(ISBLANK(A1056),0,VLOOKUP(A1056,'EQUIPMENT INVENTORY'!$B$7:$AK$1021,8,0))","v":0},null,null,null,null,null,null,null,null,null,null,null,null,null,null,null,{"$f":"SUM($G1056:$U1056)","v":0},null,null,{"$f":"V1056*F1056","v":0},null,null,"Reg hrs","ot1 hrs","ot2 hrs","equip hrs"]
[null,null,null,null,null,null,null,null,null,null,null,null,null,null,null,null,"LABOR - Page Total",null,null,null,null,{"$f":"V1009+V1015+V1021+V1033+V1039+V1051+V1027+V1045","v":0},{"$f":"SUM(W1009:W1056)","v":0},{"$f":"SUM(X1009:X1056)","v":0},{"$f":"Y1009+Y1015+Y1021+Y1033+Y1039+Y1051+Y1027+Y1045","v":0},{"$f":"SUM(Z1010:Z1056)","v":0},{"$f":"SUM(AA1010:AA1056)","v":0},{"$f":"V1057","v":0},{"$f":"W1057","v":0},{"$f":"X1057","v":0},{"$f":"V1058","v":0},{"$f":"Y1057","v":0},{"$f":"Z1057","v":0},{"$f":"AA1057","v":0},{"$f":"Y1058","v":0}]
[null,null,null,null,null,null,null,null,null,null,null,null,null,null,null,null,"EQUIPMENT - Page Total",null,null,null,null,{"$f":"V1012+V1013+V1014+V1018+V1019+V1020+V1024+V1025+V1026+V1030+V1031+V1032+V1036+V1037+V1038+V1042+V1043+V1044+V1054+V1055+V1056+V1048+V1049+V1050","v":0},null,null,{"$f":"Y1012+Y1013+Y1014+Y1018+Y1019+Y1020+Y1024+Y1025+Y1026+Y1030+Y1031+Y1032+Y1036+Y1037+Y1038+Y1042+Y1043+Y1044+Y1054+Y1055+Y1056+Y1048+Y1049+Y1050","v":0}]
[null,null,null,null,null,null,null,null,null,null,null,null,null,null,null,null,"LABOR - Grand Total",null,null,null,null,{"$f":"SUM($AB:$AB)","v":0},{"$f":"SUM($AC:$AC)","v":0},{"$f":"SUM($AD:$AD)","v":0},{"$f":"SUM(AF:AF)","v":0},{"$f":"SUM($AG:$AG)","v":0},{"$f":"SUM($AH:$AH)","v":0}]
[null,null,null,null,null,null,null,null,null,null,null,null,null,null,null,null,"EQUIPMENT - Grand Total",null,null,null,null,{"$f":"SUM($AE:$AE)","v":0},null,null,{"$f":"SUM($AI:$AI)","v":0}]
[]
[]
["COST SUMMARY FOR LABOR/EQUIPMENT"]
["APPLICANT - FIPS#",null,null,null,"DISASTER #:",null,null,"PROJECT #:",null,null,null,null,"FEMA CAT A-G",null,null,"EMMIE #",null,null,null,"Work Completion Date"]
[{"$f":"IF('PAYROLL RECORD'!$B$5=\"START HERE\",\"\",'PAYROLL RECORD'!$B$5)","v":0},null,null,null,{"$f":"IF('PAYROLL RECORD'!$F$5=\"\",\"\",'PAYROLL RECORD'!$F$5)","v":""},null,null,{"$f":"'PAYROLL RECORD'!I1064:L1064","v":{"$error":"#VALUE!"}},null,null,null,null,{"$f":"IF('PAYROLL RECORD'!$M$5=\"CATEGORY\",\"\",'PAYROLL RECORD'!$M$5)","v":0},null,null,{"$f":"IF('PAYROLL RECORD'!$O$5=\"EMMIE #\",\"\",'PAYROLL RECORD'!$O$5)","v":0},null,null,null,{"$f":"IF('PAYROLL RECORD'!$Q$5=\"DATE\",\"\",'PAYROLL RECORD'!$Q$5)","v":"00:00:00"}]
["Employee/\nEquipment",null,"RATE w/","STATUS","COST CODE","RATE","2018-10-31",{"$f":"+G1066+1","v":"2018-11-01"},{"$f":"H1066+1","v":"2018-11-02"},"2018-11-03","2018-11-04","2018-11-05","2018-11-06","2018-11-07","2018-11-08","2018-11-09","2018-11-10","2018-11-11","2018-11-12","2018-11-13","2018-11-14","REG","OT1","OT2","REG TIME\nCOST","OT1\nCOST","OT2\nCOST"]
[null,null,"FRINGE",null,null,null,{"$f":"IF(G1066<=0,\"\",TEXT(WEEKDAY(G1066),\"ddd\"))","v":"Wed"},{"$f":"IF(H1066<=0,\"\",TEXT(WEEKDAY(H1066),\"ddd\"))","v":"Thu"},"Fri","Sat","Sun","Mon","Tue","Wed","Thu","Fri","Sat","Sun","Mon","Tue","Wed"]
[null,"REG",{"$f":"IF(ISBLANK(A1068),0,VLOOKUP(A1068,'PAYROLL RECORD'!$B$8:$U$2005,18,FALSE))","v":0},{"$f":"IF(ISBLANK(A1068),0,VLOOKUP(A1068,'PAYROLL RECORD'!$B$8:$D$2005,3,FALSE))","v":0},null,null,null,null,null,null,null,null,null,null,null,null,null,null,null,null,null,{"$f":"SUM($G1068:$U1068)","v":0},null,null,{"$f":"IF(AND($M$5=\"A\",D1068<>\"FT\"),C1068*V1068,0)+IF(AND($M$5=\"B\",D1068<>\"FT\"),C1068*V1068,0)+IF(AND($M$5=\"AP\"),C1068*V1068,0)+IF($M$5>=\"C\",C1068*V1068)","v":0}]
[{"$f":"IF(ISBLANK(A1068),\" \",VLOOKUP(A1068,'PAYROLL RECORD'!$B$9:$C$10740,2,FALSE))","v":" "},"OT1",{"$f":"IF(ISBLANK(A1068),0,VLOOKUP(A1068,'PAYROLL RECORD'!$B$8:$U$2005,19,FALSE))","v":0},{"$f":"+D1068","v":0},null,null,null,null,null,null,null,null,null,null,null,null,null,null,null,null,null,null,{"$f":"SUM(G1069:U1069)","v":0},null,null,{"$f":"W1069*C1069","v":0}]
[null,"OT2",{"$f":"IF(ISBLANK(A1068),0,VLOOKUP(A1068,'PAYROLL RECORD'!$B$8:$U$2005,20,FALSE))","v":0},{"$f":"+D1069","v":0},null,null,null,null,null,null,null,null,null,null,null,null,null,null,null,null,null,null,null,{"$f":"SUM(G1070:U1070)","v":0},null,null,{"$f":"X1070*C1070","v":0}]
[null,null,null,null,{"$f":"IF(ISBLANK(A1071),0,VLOOKUP(A1071,'EQUIPMENT INVENTORY'!$B$7:$AK$1021,7,0))","v":0},{"$f":"IF(ISBLANK(A1071),0,VLOOKUP(A1071,'EQUIPMENT INVENTORY'!$B$7:$AK$1021,8,0))","v":0},null,null,null,null,null,null,null,null,null,null,null,null,null,null,null,{"$f":"SUM($G1071:$U1071)","v":0},null,null,{"$f":"V1071*F1071","v":0}]
[null,null,null,null,{"$f":"IF(ISBLANK(A1072),0,VLOOKUP(A1072,'EQUIPMENT INVENTORY'!$B$7:$AK$1021,7,0))","v":0},{"$f":"IF(ISBLANK(A1072),0,VLOOKUP(A1072,'EQUIPMENT INVENTORY'!$B$7:$AK$1021,8,0))","v":0},null,null,null,null,null,null,null,null,null,null,null,null,null,null,null,{"$f":"SUM($G1072:$U1072)","v":0},null,null,{"$f":"V1072*F1072","v":0}]
[null,null,null,null,{"$f":"IF(ISBLANK(A1073),0,VLOOKUP(A1073,'EQUIPMENT INVENTORY'!$B$7:$AK$1021,7,0))","v":0},{"$f":"IF(ISBLANK(A1073),0,VLOOKUP(A1073,'EQUIPMENT INVENTORY'!$B$7:$AK$1021,8,0))","v":0},null,null,null,null,null,null,null,null,null,null,null,null,null,null,null,{"$f":"SUM($G1073:$U1073)","v":0},null,null,{"$f":"V1073*F1073","v":0}]
[null,"REG",{"$f":"IF(ISBLANK(A1074),0,VLOOKUP(A1074,'PAYROLL RECORD'!$B$8:$U$2005,18,FALSE))","v":0},{"$f":"IF(ISBLANK(A1074),0,VLOOKUP(A1074,'PAYROLL RECORD'!$B$8:$D$2005,3,FALSE))","v":0},null,null,null,null,null,null,null,null,null,null,null,null,null,null,null,null,null,{"$f":"SUM($G1074:$U1074)","v":0},null,null,{"$f":"IF(AND($M$5=\"A\",D1074<>\"FT\"),C1074*V1074,0)+IF(AND($M$5=\"B\",D1074<>\"FT\"),C1074*V1074,0)+IF(AND($M$5=\"AP\"),C1074*V1074,0)+IF($M$5>=\"C\",C1074*V1074)","v":0}]
[{"$f":"IF(ISBLANK(A1074),\" \",VLOOKUP(A1074,'PAYROLL RECORD'!$B$9:$C$10740,2,FALSE))","v":" "},"OT1",{"$f":"IF(ISBLANK(A1074),0,VLOOKUP(A1074,'PAYROLL RECORD'!$B$8:$U$2005,19,FALSE))","v":0},{"$f":"+D1074","v":0},null,null,null,null,null,null,null,null,null,null,null,null,null,null,null,null,null,null,{"$f":"SUM(G1075:U1075)","v":0},null,null,{"$f":"W1075*C1075","v":0}]
[null,"OT2",{"$f":"IF(ISBLANK(A1074),0,VLOOKUP(A1074,'PAYROLL RECORD'!$B$8:$U$2005,20,FALSE))","v":0},{"$f":"+D1075","v":0},null,null,null,null,null,null,null,null,null,null,null,null,null,null,null,null,null,null,null,{"$f":"SUM(G1076:U1076)","v":0},null,null,{"$f":"X1076*C1076","v":0}]
[null,null,null,null,{"$f":"IF(ISBLANK(A1077),0,VLOOKUP(A1077,'EQUIPMENT INVENTORY'!$B$7:$AK$1021,7,0))","v":0},{"$f":"IF(ISBLANK(A1077),0,VLOOKUP(A1077,'EQUIPMENT INVENTORY'!$B$7:$AK$1021,8,0))","v":0},null,null,null,null,null,null,null,null,null,null,null,null,null,null,null,{"$f":"SUM($G1077:$U1077)","v":0},null,null,{"$f":"V1077*F1077","v":0}]
[null,null,null,null,{"$f":"IF(ISBLANK(A1078),0,VLOOKUP(A1078,'EQUIPMENT INVENTORY'!$B$7:$AK$1021,7,0))","v":0},{"$f":"IF(ISBLANK(A1078),0,VLOOKUP(A1078,'EQUIPMENT INVENTORY'!$B$7:$AK$1021,8,0))","v":0},null,null,null,null,null,null,null,null,null,null,null,null,null,null,null,{"$f":"SUM($G1078:$U1078)","v":0},null,null,{"$f":"V1078*F1078","v":0}]
[null,null,null,null,{"$f":"IF(ISBLANK(A1079),0,VLOOKUP(A1079,'EQUIPMENT INVENTORY'!$B$7:$AK$1021,7,0))","v":0},{"$f":"IF(ISBLANK(A1079),0,VLOOKUP(A1079,'EQUIPMENT INVENTORY'!$B$7:$AK$1021,8,0))","v":0},null,null,null,null,null,null,null,null,null,null,null,null,null,null,null,{"$f":"SUM($G1079:$U1079)","v":0},null,null,{"$f":"V1079*F1079","v":0}]
[null,"REG",{"$f":"IF(ISBLANK(A1080),0,VLOOKUP(A1080,'PAYROLL RECORD'!$B$8:$U$2005,18,FALSE))","v":0},{"$f":"IF(ISBLANK(A1080),0,VLOOKUP(A1080,'PAYROLL RECORD'!$B$8:$D$2005,3,FALSE))","v":0},null,null,null,null,null,null,null,null,null,null,null,null,null,null,null,null,null,{"$f":"SUM($G1080:$U1080)","v":0},null,null,{"$f":"IF(AND($M$5=\"A\",D1080<>\"FT\"),C1080*V1080,0)+IF(AND($M$5=\"B\",D1080<>\"FT\"),C1080*V1080,0)+IF(AND($M$5=\"AP\"),C1080*V1080,0)+IF($M$5>=\"C\",C1080*V1080)","v":0}]
[{"$f":"IF(ISBLANK(A1080),\" \",VLOOKUP(A1080,'PAYROLL RECORD'!$B$9:$C$10740,2,FALSE))","v":" "},"OT1",{"$f":"IF(ISBLANK(A1080),0,VLOOKUP(A1080,'PAYROLL RECORD'!$B$8:$U$2005,19,FALSE))","v":0},{"$f":"+D1080","v":0},null,null,null,null,null,null,null,null,null,null,null,null,null,null,null,null,null,null,{"$f":"SUM(G1081:U1081)","v":0},null,null,{"$f":"W1081*C1081","v":0}]
[null,"OT2",{"$f":"IF(ISBLANK(A1080),0,VLOOKUP(A1080,'PAYROLL RECORD'!$B$8:$U$2005,20,FALSE))","v":0},{"$f":"+D1081","v":0},null,null,null,null,null,null,null,null,null,null,null,null,null,null,null,null,null,null,null,{"$f":"SUM(G1082:U1082)","v":0},null,null,{"$f":"X1082*C1082","v":0}]
[null,null,null,null,{"$f":"IF(ISBLANK(A1083),0,VLOOKUP(A1083,'EQUIPMENT INVENTORY'!$B$7:$AK$1021,7,0))","v":0},{"$f":"IF(ISBLANK(A1083),0,VLOOKUP(A1083,'EQUIPMENT INVENTORY'!$B$7:$AK$1021,8,0))","v":0},null,null,null,null,null,null,null,null,null,null,null,null,null,null,null,{"$f":"SUM($G1083:$U1083)","v":0},null,null,{"$f":"V1083*F1083","v":0}]
[null,null,null,null,{"$f":"IF(ISBLANK(A1084),0,VLOOKUP(A1084,'EQUIPMENT INVENTORY'!$B$7:$AK$1021,7,0))","v":0},{"$f":"IF(ISBLANK(A1084),0,VLOOKUP(A1084,'EQUIPMENT INVENTORY'!$B$7:$AK$1021,8,0))","v":0},null,null,null,null,null,null,null,null,null,null,null,null,null,null,null,{"$f":"SUM($G1084:$U1084)","v":0},null,null,{"$f":"V1084*F1084","v":0}]
[null,null,null,null,{"$f":"IF(ISBLANK(A1085),0,VLOOKUP(A1085,'EQUIPMENT INVENTORY'!$B$7:$AK$1021,7,0))","v":0},{"$f":"IF(ISBLANK(A1085),0,VLOOKUP(A1085,'EQUIPMENT INVENTORY'!$B$7:$AK$1021,8,0))","v":0},null,null,null,null,null,null,null,null,null,null,null,null,null,null,null,{"$f":"SUM($G1085:$U1085)","v":0},null,null,{"$f":"V1085*F1085","v":0}]
[null,"REG",{"$f":"IF(ISBLANK(A1086),0,VLOOKUP(A1086,'PAYROLL RECORD'!$B$8:$U$2005,18,FALSE))","v":0},{"$f":"IF(ISBLANK(A1086),0,VLOOKUP(A1086,'PAYROLL RECORD'!$B$8:$D$2005,3,FALSE))","v":0},null,null,null,null,null,null,null,null,null,null,null,null,null,null,null,null,null,{"$f":"SUM($G1086:$U1086)","v":0},null,null,{"$f":"IF(AND($M$5=\"A\",D1086<>\"FT\"),C1086*V1086,0)+IF(AND($M$5=\"B\",D1086<>\"FT\"),C1086*V1086,0)+IF(AND($M$5=\"AP\"),C1086*V1086,0)+IF($M$5>=\"C\",C1086*V1086)","v":0}]
[{"$f":"IF(ISBLANK(A1086),\" \",VLOOKUP(A1086,'PAYROLL RECORD'!$B$9:$C$10740,2,FALSE))","v":" "},"OT1",{"$f":"IF(ISBLANK(A1086),0,VLOOKUP(A1086,'PAYROLL RECORD'!$B$8:$U$2005,19,FALSE))","v":0},{"$f":"+D1086","v":0},null,null,null,null,null,null,null,null,null,null,null,null,null,null,null,null,null,null,{"$f":"SUM(G1087:U1087)","v":0},null,null,{"$f":"W1087*C1087","v":0}]
[null,"OT2",{"$f":"IF(ISBLANK(A1086),0,VLOOKUP(A1086,'PAYROLL RECORD'!$B$8:$U$2005,20,FALSE))","v":0},{"$f":"+D1087","v":0},null,null,null,null,null,null,null,null,null,null,null,null,null,null,null,null,null,null,null,{"$f":"SUM(G1088:U1088)","v":0},null,null,{"$f":"X1088*C1088","v":0}]
[null,null,null,null,{"$f":"IF(ISBLANK(A1089),0,VLOOKUP(A1089,'EQUIPMENT INVENTORY'!$B$7:$AK$1021,7,0))","v":0},{"$f":"IF(ISBLANK(A1089),0,VLOOKUP(A1089,'EQUIPMENT INVENTORY'!$B$7:$AK$1021,8,0))","v":0},null,null,null,null,null,null,null,null,null,null,null,null,null,null,null,{"$f":"SUM($G1089:$U1089)","v":0},null,null,{"$f":"V1089*F1089","v":0}]
[null,null,null,null,{"$f":"IF(ISBLANK(A1090),0,VLOOKUP(A1090,'EQUIPMENT INVENTORY'!$B$7:$AK$1021,7,0))","v":0},{"$f":"IF(ISBLANK(A1090),0,VLOOKUP(A1090,'EQUIPMENT INVENTORY'!$B$7:$AK$1021,8,0))","v":0},null,null,null,null,null,null,null,null,null,null,null,null,null,null,null,{"$f":"SUM($G1090:$U1090)","v":0},null,null,{"$f":"V1090*F1090","v":0}]
[null,null,null,null,{"$f":"IF(ISBLANK(A1091),0,VLOOKUP(A1091,'EQUIPMENT INVENTORY'!$B$7:$AK$1021,7,0))","v":0},{"$f":"IF(ISBLANK(A1091),0,VLOOKUP(A1091,'EQUIPMENT INVENTORY'!$B$7:$AK$1021,8,0))","v":0},null,null,null,null,null,null,null,null,null,null,null,null,null,null,null,{"$f":"SUM($G1091:$U1091)","v":0},null,null,{"$f":"V1091*F1091","v":0}]
[null,"REG",{"$f":"IF(ISBLANK(A1092),0,VLOOKUP(A1092,'PAYROLL RECORD'!$B$8:$U$2005,18,FALSE))","v":0},{"$f":"IF(ISBLANK(A1092),0,VLOOKUP(A1092,'PAYROLL RECORD'!$B$8:$D$2005,3,FALSE))","v":0},null,null,null,null,null,null,null,null,null,null,null,null,null,null,null,null,null,{"$f":"SUM($G1092:$U1092)","v":0},null,null,{"$f":"IF(AND($M$5=\"A\",D1092<>\"FT\"),C1092*V1092,0)+IF(AND($M$5=\"B\",D1092<>\"FT\"),C1092*V1092,0)+IF(AND($M$5=\"AP\"),C1092*V1092,0)+IF($M$5>=\"C\",C1092*V1092)","v":0}]
[{"$f":"IF(ISBLANK(A1092),\" \",VLOOKUP(A1092,'PAYROLL RECORD'!$B$9:$C$10740,2,FALSE))","v":" "},"OT1",{"$f":"IF(ISBLANK(A1092),0,VLOOKUP(A1092,'PAYROLL RECORD'!$B$8:$U$2005,19,FALSE))","v":0},{"$f":"+D1092","v":0},null,null,null,null,null,null,null,null,null,null,null,null,null,null,null,null,null,null,{"$f":"SUM(G1093:U1093)","v":0},null,null,{"$f":"W1093*C1093","v":0}]
[null,"OT2",{"$f":"IF(ISBLANK(A1092),0,VLOOKUP(A1092,'PAYROLL RECORD'!$B$8:$U$2005,20,FALSE))","v":0},{"$f":"+D1093","v":0},null,null,null,null,null,null,null,null,null,null,null,null,null,null,null,null,null,null,null,{"$f":"SUM(G1094:U1094)","v":0},null,null,{"$f":"X1094*C1094","v":0}]
[null,null,null,null,{"$f":"IF(ISBLANK(A1095),0,VLOOKUP(A1095,'EQUIPMENT INVENTORY'!$B$7:$AK$1021,7,0))","v":0},{"$f":"IF(ISBLANK(A1095),0,VLOOKUP(A1095,'EQUIPMENT INVENTORY'!$B$7:$AK$1021,8,0))","v":0},null,null,null,null,null,null,null,null,null,null,null,null,null,null,null,{"$f":"SUM($G1095:$U1095)","v":0},null,null,{"$f":"V1095*F1095","v":0}]
[null,null,null,null,{"$f":"IF(ISBLANK(A1096),0,VLOOKUP(A1096,'EQUIPMENT INVENTORY'!$B$7:$AK$1021,7,0))","v":0},{"$f":"IF(ISBLANK(A1096),0,VLOOKUP(A1096,'EQUIPMENT INVENTORY'!$B$7:$AK$1021,8,0))","v":0},null,null,null,null,null,null,null,null,null,null,null,null,null,null,null,{"$f":"SUM($G1096:$U1096)","v":0},null,null,{"$f":"V1096*F1096","v":0}]
[null,null,null,null,{"$f":"IF(ISBLANK(A1097),0,VLOOKUP(A1097,'EQUIPMENT INVENTORY'!$B$7:$AK$1021,7,0))","v":0},{"$f":"IF(ISBLANK(A1097),0,VLOOKUP(A1097,'EQUIPMENT INVENTORY'!$B$7:$AK$1021,8,0))","v":0},null,null,null,null,null,null,null,null,null,null,null,null,null,null,null,{"$f":"SUM($G1097:$U1097)","v":0},null,null,{"$f":"V1097*F1097","v":0}]
[null,"REG",{"$f":"IF(ISBLANK(A1098),0,VLOOKUP(A1098,'PAYROLL RECORD'!$B$8:$U$2005,18,FALSE))","v":0},{"$f":"IF(ISBLANK(A1098),0,VLOOKUP(A1098,'PAYROLL RECORD'!$B$8:$D$2005,3,FALSE))","v":0},null,null,null,null,null,null,null,null,null,null,null,null,null,null,null,null,null,{"$f":"SUM($G1098:$U1098)","v":0},null,null,{"$f":"IF(AND($M$5=\"A\",D1098<>\"FT\"),C1098*V1098,0)+IF(AND($M$5=\"B\",D1098<>\"FT\"),C1098*V1098,0)+IF(AND($M$5=\"AP\"),C1098*V1098,0)+IF($M$5>=\"C\",C1098*V1098)","v":0}]
[{"$f":"IF(ISBLANK(A1098),\" \",VLOOKUP(A1098,'PAYROLL RECORD'!$B$9:$C$10740,2,FALSE))","v":" "},"OT1",{"$f":"IF(ISBLANK(A1098),0,VLOOKUP(A1098,'PAYROLL RECORD'!$B$8:$U$2005,19,FALSE))","v":0},{"$f":"+D1098","v":0},null,null,null,null,null,null,null,null,null,null,null,null,null,null,null,null,null,null,{"$f":"SUM(G1099:U1099)","v":0},null,null,{"$f":"W1099*C1099","v":0}]
[null,"OT2",{"$f":"IF(ISBLANK(A1098),0,VLOOKUP(A1098,'PAYROLL RECORD'!$B$8:$U$2005,20,FALSE))","v":0},{"$f":"+D1099","v":0},null,null,null,null,null,null,null,null,null,null,null,null,null,null,null,null,null,null,null,{"$f":"SUM(G1100:U1100)","v":0},null,null,{"$f":"X1100*C1100","v":0}]
[null,null,null,null,{"$f":"IF(ISBLANK(A1101),0,VLOOKUP(A1101,'EQUIPMENT INVENTORY'!$B$7:$AK$1021,7,0))","v":0},{"$f":"IF(ISBLANK(A1101),0,VLOOKUP(A1101,'EQUIPMENT INVENTORY'!$B$7:$AK$1021,8,0))","v":0},null,null,null,null,null,null,null,null,null,null,null,null,null,null,null,{"$f":"SUM($G1101:$U1101)","v":0},null,null,{"$f":"V1101*F1101","v":0}]
[null,null,null,null,{"$f":"IF(ISBLANK(A1102),0,VLOOKUP(A1102,'EQUIPMENT INVENTORY'!$B$7:$AK$1021,7,0))","v":0},{"$f":"IF(ISBLANK(A1102),0,VLOOKUP(A1102,'EQUIPMENT INVENTORY'!$B$7:$AK$1021,8,0))","v":0},null,null,null,null,null,null,null,null,null,null,null,null,null,null,null,{"$f":"SUM($G1102:$U1102)","v":0},null,null,{"$f":"V1102*F1102","v":0}]
[null,null,null,null,{"$f":"IF(ISBLANK(A1103),0,VLOOKUP(A1103,'EQUIPMENT INVENTORY'!$B$7:$AK$1021,7,0))","v":0},{"$f":"IF(ISBLANK(A1103),0,VLOOKUP(A1103,'EQUIPMENT INVENTORY'!$B$7:$AK$1021,8,0))","v":0},null,null,null,null,null,null,null,null,null,null,null,null,null,null,null,{"$f":"SUM($G1103:$U1103)","v":0},null,null,{"$f":"V1103*F1103","v":0}]
[null,"REG",{"$f":"IF(ISBLANK(A1104),0,VLOOKUP(A1104,'PAYROLL RECORD'!$B$8:$U$2005,18,FALSE))","v":0},{"$f":"IF(ISBLANK(A1104),0,VLOOKUP(A1104,'PAYROLL RECORD'!$B$8:$D$2005,3,FALSE))","v":0},null,null,null,null,null,null,null,null,null,null,null,null,null,null,null,null,null,{"$f":"SUM($G1104:$U1104)","v":0},null,null,{"$f":"IF(AND($M$5=\"A\",D1104<>\"FT\"),C1104*V1104,0)+IF(AND($M$5=\"B\",D1104<>\"FT\"),C1104*V1104,0)+IF(AND($M$5=\"AP\"),C1104*V1104,0)+IF($M$5>=\"C\",C1104*V1104)","v":0}]
[{"$f":"IF(ISBLANK(A1104),\" \",VLOOKUP(A1104,'PAYROLL RECORD'!$B$9:$C$10740,2,FALSE))","v":" "},"OT1",{"$f":"IF(ISBLANK(A1104),0,VLOOKUP(A1104,'PAYROLL RECORD'!$B$8:$U$2005,19,FALSE))","v":0},{"$f":"+D1104","v":0},null,null,null,null,null,null,null,null,null,null,null,null,null,null,null,null,null,null,{"$f":"SUM(G1105:U1105)","v":0},null,null,{"$f":"W1105*C1105","v":0}]
[null,"OT2",{"$f":"IF(ISBLANK(A1104),0,VLOOKUP(A1104,'PAYROLL RECORD'!$B$8:$U$2005,20,FALSE))","v":0},{"$f":"+D1105","v":0},null,null,null,null,null,null,null,null,null,null,null,null,null,null,null,null,null,null,null,{"$f":"SUM(G1106:U1106)","v":0},null,null,{"$f":"X1106*C1106","v":0}]
[null,null,null,null,{"$f":"IF(ISBLANK(A1107),0,VLOOKUP(A1107,'EQUIPMENT INVENTORY'!$B$7:$AK$1021,7,0))","v":0},{"$f":"IF(ISBLANK(A1107),0,VLOOKUP(A1107,'EQUIPMENT INVENTORY'!$B$7:$AK$1021,8,0))","v":0},null,null,null,null,null,null,null,null,null,null,null,null,null,null,null,{"$f":"SUM($G1107:$U1107)","v":0},null,null,{"$f":"V1107*F1107","v":0}]
[null,null,null,null,{"$f":"IF(ISBLANK(A1108),0,VLOOKUP(A1108,'EQUIPMENT INVENTORY'!$B$7:$AK$1021,7,0))","v":0},{"$f":"IF(ISBLANK(A1108),0,VLOOKUP(A1108,'EQUIPMENT INVENTORY'!$B$7:$AK$1021,8,0))","v":0},null,null,null,null,null,null,null,null,null,null,null,null,null,null,null,{"$f":"SUM($G1108:$U1108)","v":0},null,null,{"$f":"V1108*F1108","v":0}]
[null,null,null,null,{"$f":"IF(ISBLANK(A1109),0,VLOOKUP(A1109,'EQUIPMENT INVENTORY'!$B$7:$AK$1021,7,0))","v":0},{"$f":"IF(ISBLANK(A1109),0,VLOOKUP(A1109,'EQUIPMENT INVENTORY'!$B$7:$AK$1021,8,0))","v":0},null,null,null,null,null,null,null,null,null,null,null,null,null,null,null,{"$f":"SUM($G1109:$U1109)","v":0},null,null,{"$f":"V1109*F1109","v":0}]
[null,"REG",{"$f":"IF(ISBLANK(A1110),0,VLOOKUP(A1110,'PAYROLL RECORD'!$B$8:$U$2005,18,FALSE))","v":0},{"$f":"IF(ISBLANK(A1110),0,VLOOKUP(A1110,'PAYROLL RECORD'!$B$8:$D$2005,3,FALSE))","v":0},null,null,null,null,null,null,null,null,null,null,null,null,null,null,null,null,null,{"$f":"SUM($G1110:$U1110)","v":0},null,null,{"$f":"IF(AND($M$5=\"A\",D1110<>\"FT\"),C1110*V1110,0)+IF(AND($M$5=\"B\",D1110<>\"FT\"),C1110*V1110,0)+IF(AND($M$5=\"AP\"),C1110*V1110,0)+IF($M$5>=\"C\",C1110*V1110)","v":0}]
[{"$f":"IF(ISBLANK(A1110),\" \",VLOOKUP(A1110,'PAYROLL RECORD'!$B$9:$C$10740,2,FALSE))","v":" "},"OT1",{"$f":"IF(ISBLANK(A1110),0,VLOOKUP(A1110,'PAYROLL RECORD'!$B$8:$U$2005,19,FALSE))","v":0},{"$f":"+D1110","v":0},null,null,null,null,null,null,null,null,null,null,null,null,null,null,null,null,null,null,{"$f":"SUM(G1111:U1111)","v":0},null,null,{"$f":"W1111*C1111","v":0}]
[null,"OT2",{"$f":"IF(ISBLANK(A1110),0,VLOOKUP(A1110,'PAYROLL RECORD'!$B$8:$U$2005,20,FALSE))","v":0},{"$f":"+D1111","v":0},null,null,null,null,null,null,null,null,null,null,null,null,null,null,null,null,null,null,null,{"$f":"SUM(G1112:U1112)","v":0},null,null,{"$f":"X1112*C1112","v":0}]
[null,null,null,null,{"$f":"IF(ISBLANK(A1113),0,VLOOKUP(A1113,'EQUIPMENT INVENTORY'!$B$7:$AK$1021,7,0))","v":0},{"$f":"IF(ISBLANK(A1113),0,VLOOKUP(A1113,'EQUIPMENT INVENTORY'!$B$7:$AK$1021,8,0))","v":0},null,null,null,null,null,null,null,null,null,null,null,null,null,null,null,{"$f":"SUM($G1113:$U1113)","v":0},null,null,{"$f":"V1113*F1113","v":0}]
[null,null,null,null,{"$f":"IF(ISBLANK(A1114),0,VLOOKUP(A1114,'EQUIPMENT INVENTORY'!$B$7:$AK$1021,7,0))","v":0},{"$f":"IF(ISBLANK(A1114),0,VLOOKUP(A1114,'EQUIPMENT INVENTORY'!$B$7:$AK$1021,8,0))","v":0},null,null,null,null,null,null,null,null,null,null,null,null,null,null,null,{"$f":"SUM($G1114:$U1114)","v":0},null,null,{"$f":"V1114*F1114","v":0}]
[null,null,null,null,{"$f":"IF(ISBLANK(A1115),0,VLOOKUP(A1115,'EQUIPMENT INVENTORY'!$B$7:$AK$1021,7,0))","v":0},{"$f":"IF(ISBLANK(A1115),0,VLOOKUP(A1115,'EQUIPMENT INVENTORY'!$B$7:$AK$1021,8,0))","v":0},null,null,null,null,null,null,null,null,null,null,null,null,null,null,null,{"$f":"SUM($G1115:$U1115)","v":0},null,null,{"$f":"V1115*F1115","v":0},null,null,"Reg hrs","ot1 hrs","ot2 hrs","equip hrs"]
[null,null,null,null,null,null,null,null,null,null,null,null,null,null,null,null,"LABOR - Page Total",null,null,null,null,{"$f":"V1068+V1074+V1080+V1092+V1098+V1110+V1086+V1104","v":0},{"$f":"SUM(W1068:W1115)","v":0},{"$f":"SUM(X1068:X1115)","v":0},{"$f":"Y1068+Y1074+Y1080+Y1092+Y1098+Y1110+Y1086+Y1104","v":0},{"$f":"SUM(Z1069:Z1115)","v":0},{"$f":"SUM(AA1069:AA1115)","v":0},{"$f":"V1116","v":0},{"$f":"W1116","v":0},{"$f":"X1116","v":0},{"$f":"V1117","v":0},{"$f":"Y1116","v":0},{"$f":"Z1116","v":0},{"$f":"AA1116","v":0},{"$f":"Y1117","v":0}]
[null,null,null,null,null,null,null,null,null,null,null,null,null,null,null,null,"EQUIPMENT - Page Total",null,null,null,null,{"$f":"V1071+V1072+V1073+V1077+V1078+V1079+V1083+V1084+V1085+V1089+V1090+V1091+V1095+V1096+V1097+V1101+V1102+V1103+V1113+V1114+V1115+V1107+V1108+V1109","v":0},null,null,{"$f":"Y1071+Y1072+Y1073+Y1077+Y1078+Y1079+Y1083+Y1084+Y1085+Y1089+Y1090+Y1091+Y1095+Y1096+Y1097+Y1101+Y1102+Y1103+Y1113+Y1114+Y1115+Y1107+Y1108+Y1109","v":0}]
[null,null,null,null,null,null,null,null,null,null,null,null,null,null,null,null,"LABOR - Grand Total",null,null,null,null,{"$f":"SUM($AB:$AB)","v":0},{"$f":"SUM($AC:$AC)","v":0},{"$f":"SUM($AD:$AD)","v":0},{"$f":"SUM(AF:AF)","v":0},{"$f":"SUM($AG:$AG)","v":0},{"$f":"SUM($AH:$AH)","v":0}]
[null,null,null,null,null,null,null,null,null,null,null,null,null,null,null,null,"EQUIPMENT - Grand Total",null,null,null,null,{"$f":"SUM($AE:$AE)","v":0},null,null,{"$f":"SUM($AI:$AI)","v":0}]
[]
[]
["COST SUMMARY FOR LABOR/EQUIPMENT"]
["APPLICANT - FIPS#",null,null,null,"DISASTER #:",null,null,"PROJECT #:",null,null,null,null,"FEMA CAT A-G",null,null,"EMMIE #",null,null,null,"Work Completion Date"]
[{"$f":"IF('PAYROLL RECORD'!$B$5=\"START HERE\",\"\",'PAYROLL RECORD'!$B$5)","v":0},null,null,null,{"$f":"IF('PAYROLL RECORD'!$F$5=\"\",\"\",'PAYROLL RECORD'!$F$5)","v":""},null,null,{"$f":"'PAYROLL RECORD'!I1123:L1123","v":{"$error":"#VALUE!"}},null,null,null,null,{"$f":"IF('PAYROLL RECORD'!$M$5=\"CATEGORY\",\"\",'PAYROLL RECORD'!$M$5)","v":0},null,null,{"$f":"IF('PAYROLL RECORD'!$O$5=\"EMMIE #\",\"\",'PAYROLL RECORD'!$O$5)","v":0},null,null,null,{"$f":"IF('PAYROLL RECORD'!$Q$5=\"DATE\",\"\",'PAYROLL RECORD'!$Q$5)","v":"00:00:00"}]
["Employee/\nEquipment",null,"RATE w/","STATUS","COST CODE","RATE","2018-10-31",{"$f":"+G1125+1","v":"2018-11-01"},{"$f":"H1125+1","v":"2018-11-02"},"2018-11-03","2018-11-04","2018-11-05","2018-11-06","2018-11-07","2018-11-08","2018-11-09","2018-11-10","2018-11-11","2018-11-12","2018-11-13","2018-11-14","REG","OT1","OT2","REG TIME\nCOST","OT1\nCOST","OT2\nCOST"]
[null,null,"FRINGE",null,null,null,{"$f":"IF(G1125<=0,\"\",TEXT(WEEKDAY(G1125),\"ddd\"))","v":"Wed"},{"$f":"IF(H1125<=0,\"\",TEXT(WEEKDAY(H1125),\"ddd\"))","v":"Thu"},"Fri","Sat","Sun","Mon","Tue","Wed","Thu","Fri","Sat","Sun","Mon","Tue","Wed"]
[null,"REG",{"$f":"IF(ISBLANK(A1127),0,VLOOKUP(A1127,'PAYROLL RECORD'!$B$8:$U$2005,18,FALSE))","v":0},{"$f":"IF(ISBLANK(A1127),0,VLOOKUP(A1127,'PAYROLL RECORD'!$B$8:$D$2005,3,FALSE))","v":0},null,null,null,null,null,null,null,null,null,null,null,null,null,null,null,null,null,{"$f":"SUM($G1127:$U1127)","v":0},null,null,{"$f":"IF(AND($M$5=\"A\",D1127<>\"FT\"),C1127*V1127,0)+IF(AND($M$5=\"B\",D1127<>\"FT\"),C1127*V1127,0)+IF(AND($M$5=\"AP\"),C1127*V1127,0)+IF($M$5>=\"C\",C1127*V1127)","v":0}]
[{"$f":"IF(ISBLANK(A1127),\" \",VLOOKUP(A1127,'PAYROLL RECORD'!$B$9:$C$10740,2,FALSE))","v":" "},"OT1",{"$f":"IF(ISBLANK(A1127),0,VLOOKUP(A1127,'PAYROLL RECORD'!$B$8:$U$2005,19,FALSE))","v":0},{"$f":"+D1127","v":0},null,null,null,null,null,null,null,null,null,null,null,null,null,null,null,null,null,null,{"$f":"SUM(G1128:U1128)","v":0},null,null,{"$f":"W1128*C1128","v":0}]
[null,"OT2",{"$f":"IF(ISBLANK(A1127),0,VLOOKUP(A1127,'PAYROLL RECORD'!$B$8:$U$2005,20,FALSE))","v":0},{"$f":"+D1128","v":0},null,null,null,null,null,null,null,null,null,null,null,null,null,null,null,null,null,null,null,{"$f":"SUM(G1129:U1129)","v":0},null,null,{"$f":"X1129*C1129","v":0}]
[null,null,null,null,{"$f":"IF(ISBLANK(A1130),0,VLOOKUP(A1130,'EQUIPMENT INVENTORY'!$B$7:$AK$1021,7,0))","v":0},{"$f":"IF(ISBLANK(A1130),0,VLOOKUP(A1130,'EQUIPMENT INVENTORY'!$B$7:$AK$1021,8,0))","v":0},null,null,null,null,null,null,null,null,null,null,null,null,null,null,null,{"$f":"SUM($G1130:$U1130)","v":0},null,null,{"$f":"V1130*F1130","v":0}]
[null,null,null,null,{"$f":"IF(ISBLANK(A1131),0,VLOOKUP(A1131,'EQUIPMENT INVENTORY'!$B$7:$AK$1021,7,0))","v":0},{"$f":"IF(ISBLANK(A1131),0,VLOOKUP(A1131,'EQUIPMENT INVENTORY'!$B$7:$AK$1021,8,0))","v":0},null,null,null,null,null,null,null,null,null,null,null,null,null,null,null,{"$f":"SUM($G1131:$U1131)","v":0},null,null,{"$f":"V1131*F1131","v":0}]
[null,null,null,null,{"$f":"IF(ISBLANK(A1132),0,VLOOKUP(A1132,'EQUIPMENT INVENTORY'!$B$7:$AK$1021,7,0))","v":0},{"$f":"IF(ISBLANK(A1132),0,VLOOKUP(A1132,'EQUIPMENT INVENTORY'!$B$7:$AK$1021,8,0))","v":0},null,null,null,null,null,null,null,null,null,null,null,null,null,null,null,{"$f":"SUM($G1132:$U1132)","v":0},null,null,{"$f":"V1132*F1132","v":0}]
[null,"REG",{"$f":"IF(ISBLANK(A1133),0,VLOOKUP(A1133,'PAYROLL RECORD'!$B$8:$U$2005,18,FALSE))","v":0},{"$f":"IF(ISBLANK(A1133),0,VLOOKUP(A1133,'PAYROLL RECORD'!$B$8:$D$2005,3,FALSE))","v":0},null,null,null,null,null,null,null,null,null,null,null,null,null,null,null,null,null,{"$f":"SUM($G1133:$U1133)","v":0},null,null,{"$f":"IF(AND($M$5=\"A\",D1133<>\"FT\"),C1133*V1133,0)+IF(AND($M$5=\"B\",D1133<>\"FT\"),C1133*V1133,0)+IF(AND($M$5=\"AP\"),C1133*V1133,0)+IF($M$5>=\"C\",C1133*V1133)","v":0}]
[{"$f":"IF(ISBLANK(A1133),\" \",VLOOKUP(A1133,'PAYROLL RECORD'!$B$9:$C$10740,2,FALSE))","v":" "},"OT1",{"$f":"IF(ISBLANK(A1133),0,VLOOKUP(A1133,'PAYROLL RECORD'!$B$8:$U$2005,19,FALSE))","v":0},{"$f":"+D1133","v":0},null,null,null,null,null,null,null,null,null,null,null,null,null,null,null,null,null,null,{"$f":"SUM(G1134:U1134)","v":0},null,null,{"$f":"W1134*C1134","v":0}]
[null,"OT2",{"$f":"IF(ISBLANK(A1133),0,VLOOKUP(A1133,'PAYROLL RECORD'!$B$8:$U$2005,20,FALSE))","v":0},{"$f":"+D1134","v":0},null,null,null,null,null,null,null,null,null,null,null,null,null,null,null,null,null,null,null,{"$f":"SUM(G1135:U1135)","v":0},null,null,{"$f":"X1135*C1135","v":0}]
[null,null,null,null,{"$f":"IF(ISBLANK(A1136),0,VLOOKUP(A1136,'EQUIPMENT INVENTORY'!$B$7:$AK$1021,7,0))","v":0},{"$f":"IF(ISBLANK(A1136),0,VLOOKUP(A1136,'EQUIPMENT INVENTORY'!$B$7:$AK$1021,8,0))","v":0},null,null,null,null,null,null,null,null,null,null,null,null,null,null,null,{"$f":"SUM($G1136:$U1136)","v":0},null,null,{"$f":"V1136*F1136","v":0}]
[null,null,null,null,{"$f":"IF(ISBLANK(A1137),0,VLOOKUP(A1137,'EQUIPMENT INVENTORY'!$B$7:$AK$1021,7,0))","v":0},{"$f":"IF(ISBLANK(A1137),0,VLOOKUP(A1137,'EQUIPMENT INVENTORY'!$B$7:$AK$1021,8,0))","v":0},null,null,null,null,null,null,null,null,null,null,null,null,null,null,null,{"$f":"SUM($G1137:$U1137)","v":0},null,null,{"$f":"V1137*F1137","v":0}]
[null,null,null,null,{"$f":"IF(ISBLANK(A1138),0,VLOOKUP(A1138,'EQUIPMENT INVENTORY'!$B$7:$AK$1021,7,0))","v":0},{"$f":"IF(ISBLANK(A1138),0,VLOOKUP(A1138,'EQUIPMENT INVENTORY'!$B$7:$AK$1021,8,0))","v":0},null,null,null,null,null,null,null,null,null,null,null,null,null,null,null,{"$f":"SUM($G1138:$U1138)","v":0},null,null,{"$f":"V1138*F1138","v":0}]
[null,"REG",{"$f":"IF(ISBLANK(A1139),0,VLOOKUP(A1139,'PAYROLL RECORD'!$B$8:$U$2005,18,FALSE))","v":0},{"$f":"IF(ISBLANK(A1139),0,VLOOKUP(A1139,'PAYROLL RECORD'!$B$8:$D$2005,3,FALSE))","v":0},null,null,null,null,null,null,null,null,null,null,null,null,null,null,null,null,null,{"$f":"SUM($G1139:$U1139)","v":0},null,null,{"$f":"IF(AND($M$5=\"A\",D1139<>\"FT\"),C1139*V1139,0)+IF(AND($M$5=\"B\",D1139<>\"FT\"),C1139*V1139,0)+IF(AND($M$5=\"AP\"),C1139*V1139,0)+IF($M$5>=\"C\",C1139*V1139)","v":0}]
[{"$f":"IF(ISBLANK(A1139),\" \",VLOOKUP(A1139,'PAYROLL RECORD'!$B$9:$C$10740,2,FALSE))","v":" "},"OT1",{"$f":"IF(ISBLANK(A1139),0,VLOOKUP(A1139,'PAYROLL RECORD'!$B$8:$U$2005,19,FALSE))","v":0},{"$f":"+D1139","v":0},null,null,null,null,null,null,null,null,null,null,null,null,null,null,null,null,null,null,{"$f":"SUM(G1140:U1140)","v":0},null,null,{"$f":"W1140*C1140","v":0}]
[null,"OT2",{"$f":"IF(ISBLANK(A1139),0,VLOOKUP(A1139,'PAYROLL RECORD'!$B$8:$U$2005,20,FALSE))","v":0},{"$f":"+D1140","v":0},null,null,null,null,null,null,null,null,null,null,null,null,null,null,null,null,null,null,null,{"$f":"SUM(G1141:U1141)","v":0},null,null,{"$f":"X1141*C1141","v":0}]
[null,null,null,null,{"$f":"IF(ISBLANK(A1142),0,VLOOKUP(A1142,'EQUIPMENT INVENTORY'!$B$7:$AK$1021,7,0))","v":0},{"$f":"IF(ISBLANK(A1142),0,VLOOKUP(A1142,'EQUIPMENT INVENTORY'!$B$7:$AK$1021,8,0))","v":0},null,null,null,null,null,null,null,null,null,null,null,null,null,null,null,{"$f":"SUM($G1142:$U1142)","v":0},null,null,{"$f":"V1142*F1142","v":0}]
[null,null,null,null,{"$f":"IF(ISBLANK(A1143),0,VLOOKUP(A1143,'EQUIPMENT INVENTORY'!$B$7:$AK$1021,7,0))","v":0},{"$f":"IF(ISBLANK(A1143),0,VLOOKUP(A1143,'EQUIPMENT INVENTORY'!$B$7:$AK$1021,8,0))","v":0},null,null,null,null,null,null,null,null,null,null,null,null,null,null,null,{"$f":"SUM($G1143:$U1143)","v":0},null,null,{"$f":"V1143*F1143","v":0}]
[null,null,null,null,{"$f":"IF(ISBLANK(A1144),0,VLOOKUP(A1144,'EQUIPMENT INVENTORY'!$B$7:$AK$1021,7,0))","v":0},{"$f":"IF(ISBLANK(A1144),0,VLOOKUP(A1144,'EQUIPMENT INVENTORY'!$B$7:$AK$1021,8,0))","v":0},null,null,null,null,null,null,null,null,null,null,null,null,null,null,null,{"$f":"SUM($G1144:$U1144)","v":0},null,null,{"$f":"V1144*F1144","v":0}]
[null,"REG",{"$f":"IF(ISBLANK(A1145),0,VLOOKUP(A1145,'PAYROLL RECORD'!$B$8:$U$2005,18,FALSE))","v":0},{"$f":"IF(ISBLANK(A1145),0,VLOOKUP(A1145,'PAYROLL RECORD'!$B$8:$D$2005,3,FALSE))","v":0},null,null,null,null,null,null,null,null,null,null,null,null,null,null,null,null,null,{"$f":"SUM($G1145:$U1145)","v":0},null,null,{"$f":"IF(AND($M$5=\"A\",D1145<>\"FT\"),C1145*V1145,0)+IF(AND($M$5=\"B\",D1145<>\"FT\"),C1145*V1145,0)+IF(AND($M$5=\"AP\"),C1145*V1145,0)+IF($M$5>=\"C\",C1145*V1145)","v":0}]
[{"$f":"IF(ISBLANK(A1145),\" \",VLOOKUP(A1145,'PAYROLL RECORD'!$B$9:$C$10740,2,FALSE))","v":" "},"OT1",{"$f":"IF(ISBLANK(A1145),0,VLOOKUP(A1145,'PAYROLL RECORD'!$B$8:$U$2005,19,FALSE))","v":0},{"$f":"+D1145","v":0},null,null,null,null,null,null,null,null,null,null,null,null,null,null,null,null,null,null,{"$f":"SUM(G1146:U1146)","v":0},null,null,{"$f":"W1146*C1146","v":0}]
[null,"OT2",{"$f":"IF(ISBLANK(A1145),0,VLOOKUP(A1145,'PAYROLL RECORD'!$B$8:$U$2005,20,FALSE))","v":0},{"$f":"+D1146","v":0},null,null,null,null,null,null,null,null,null,null,null,null,null,null,null,null,null,null,null,{"$f":"SUM(G1147:U1147)","v":0},null,null,{"$f":"X1147*C1147","v":0}]
[null,null,null,null,{"$f":"IF(ISBLANK(A1148),0,VLOOKUP(A1148,'EQUIPMENT INVENTORY'!$B$7:$AK$1021,7,0))","v":0},{"$f":"IF(ISBLANK(A1148),0,VLOOKUP(A1148,'EQUIPMENT INVENTORY'!$B$7:$AK$1021,8,0))","v":0},null,null,null,null,null,null,null,null,null,null,null,null,null,null,null,{"$f":"SUM($G1148:$U1148)","v":0},null,null,{"$f":"V1148*F1148","v":0}]
[null,null,null,null,{"$f":"IF(ISBLANK(A1149),0,VLOOKUP(A1149,'EQUIPMENT INVENTORY'!$B$7:$AK$1021,7,0))","v":0},{"$f":"IF(ISBLANK(A1149),0,VLOOKUP(A1149,'EQUIPMENT INVENTORY'!$B$7:$AK$1021,8,0))","v":0},null,null,null,null,null,null,null,null,null,null,null,null,null,null,null,{"$f":"SUM($G1149:$U1149)","v":0},null,null,{"$f":"V1149*F1149","v":0}]
[null,null,null,null,{"$f":"IF(ISBLANK(A1150),0,VLOOKUP(A1150,'EQUIPMENT INVENTORY'!$B$7:$AK$1021,7,0))","v":0},{"$f":"IF(ISBLANK(A1150),0,VLOOKUP(A1150,'EQUIPMENT INVENTORY'!$B$7:$AK$1021,8,0))","v":0},null,null,null,null,null,null,null,null,null,null,null,null,null,null,null,{"$f":"SUM($G1150:$U1150)","v":0},null,null,{"$f":"V1150*F1150","v":0}]
[null,"REG",{"$f":"IF(ISBLANK(A1151),0,VLOOKUP(A1151,'PAYROLL RECORD'!$B$8:$U$2005,18,FALSE))","v":0},{"$f":"IF(ISBLANK(A1151),0,VLOOKUP(A1151,'PAYROLL RECORD'!$B$8:$D$2005,3,FALSE))","v":0},null,null,null,null,null,null,null,null,null,null,null,null,null,null,null,null,null,{"$f":"SUM($G1151:$U1151)","v":0},null,null,{"$f":"IF(AND($M$5=\"A\",D1151<>\"FT\"),C1151*V1151,0)+IF(AND($M$5=\"B\",D1151<>\"FT\"),C1151*V1151,0)+IF(AND($M$5=\"AP\"),C1151*V1151,0)+IF($M$5>=\"C\",C1151*V1151)","v":0}]
[{"$f":"IF(ISBLANK(A1151),\" \",VLOOKUP(A1151,'PAYROLL RECORD'!$B$9:$C$10740,2,FALSE))","v":" "},"OT1",{"$f":"IF(ISBLANK(A1151),0,VLOOKUP(A1151,'PAYROLL RECORD'!$B$8:$U$2005,19,FALSE))","v":0},{"$f":"+D1151","v":0},null,null,null,null,null,null,null,null,null,null,null,null,null,null,null,null,null,null,{"$f":"SUM(G1152:U1152)","v":0},null,null,{"$f":"W1152*C1152","v":0}]
[null,"OT2",{"$f":"IF(ISBLANK(A1151),0,VLOOKUP(A1151,'PAYROLL RECORD'!$B$8:$U$2005,20,FALSE))","v":0},{"$f":"+D1152","v":0},null,null,null,null,null,null,null,null,null,null,null,null,null,null,null,null,null,null,null,{"$f":"SUM(G1153:U1153)","v":0},null,null,{"$f":"X1153*C1153","v":0}]
[null,null,null,null,{"$f":"IF(ISBLANK(A1154),0,VLOOKUP(A1154,'EQUIPMENT INVENTORY'!$B$7:$AK$1021,7,0))","v":0},{"$f":"IF(ISBLANK(A1154),0,VLOOKUP(A1154,'EQUIPMENT INVENTORY'!$B$7:$AK$1021,8,0))","v":0},null,null,null,null,null,null,null,null,null,null,null,null,null,null,null,{"$f":"SUM($G1154:$U1154)","v":0},null,null,{"$f":"V1154*F1154","v":0}]
[null,null,null,null,{"$f":"IF(ISBLANK(A1155),0,VLOOKUP(A1155,'EQUIPMENT INVENTORY'!$B$7:$AK$1021,7,0))","v":0},{"$f":"IF(ISBLANK(A1155),0,VLOOKUP(A1155,'EQUIPMENT INVENTORY'!$B$7:$AK$1021,8,0))","v":0},null,null,null,null,null,null,null,null,null,null,null,null,null,null,null,{"$f":"SUM($G1155:$U1155)","v":0},null,null,{"$f":"V1155*F1155","v":0}]
[null,null,null,null,{"$f":"IF(ISBLANK(A1156),0,VLOOKUP(A1156,'EQUIPMENT INVENTORY'!$B$7:$AK$1021,7,0))","v":0},{"$f":"IF(ISBLANK(A1156),0,VLOOKUP(A1156,'EQUIPMENT INVENTORY'!$B$7:$AK$1021,8,0))","v":0},null,null,null,null,null,null,null,null,null,null,null,null,null,null,null,{"$f":"SUM($G1156:$U1156)","v":0},null,null,{"$f":"V1156*F1156","v":0}]
[null,"REG",{"$f":"IF(ISBLANK(A1157),0,VLOOKUP(A1157,'PAYROLL RECORD'!$B$8:$U$2005,18,FALSE))","v":0},{"$f":"IF(ISBLANK(A1157),0,VLOOKUP(A1157,'PAYROLL RECORD'!$B$8:$D$2005,3,FALSE))","v":0},null,null,null,null,null,null,null,null,null,null,null,null,null,null,null,null,null,{"$f":"SUM($G1157:$U1157)","v":0},null,null,{"$f":"IF(AND($M$5=\"A\",D1157<>\"FT\"),C1157*V1157,0)+IF(AND($M$5=\"B\",D1157<>\"FT\"),C1157*V1157,0)+IF(AND($M$5=\"AP\"),C1157*V1157,0)+IF($M$5>=\"C\",C1157*V1157)","v":0}]
[{"$f":"IF(ISBLANK(A1157),\" \",VLOOKUP(A1157,'PAYROLL RECORD'!$B$9:$C$10740,2,FALSE))","v":" "},"OT1",{"$f":"IF(ISBLANK(A1157),0,VLOOKUP(A1157,'PAYROLL RECORD'!$B$8:$U$2005,19,FALSE))","v":0},{"$f":"+D1157","v":0},null,null,null,null,null,null,null,null,null,null,null,null,null,null,null,null,null,null,{"$f":"SUM(G1158:U1158)","v":0},null,null,{"$f":"W1158*C1158","v":0}]
[null,"OT2",{"$f":"IF(ISBLANK(A1157),0,VLOOKUP(A1157,'PAYROLL RECORD'!$B$8:$U$2005,20,FALSE))","v":0},{"$f":"+D1158","v":0},null,null,null,null,null,null,null,null,null,null,null,null,null,null,null,null,null,null,null,{"$f":"SUM(G1159:U1159)","v":0},null,null,{"$f":"X1159*C1159","v":0}]
[null,null,null,null,{"$f":"IF(ISBLANK(A1160),0,VLOOKUP(A1160,'EQUIPMENT INVENTORY'!$B$7:$AK$1021,7,0))","v":0},{"$f":"IF(ISBLANK(A1160),0,VLOOKUP(A1160,'EQUIPMENT INVENTORY'!$B$7:$AK$1021,8,0))","v":0},null,null,null,null,null,null,null,null,null,null,null,null,null,null,null,{"$f":"SUM($G1160:$U1160)","v":0},null,null,{"$f":"V1160*F1160","v":0}]
[null,null,null,null,{"$f":"IF(ISBLANK(A1161),0,VLOOKUP(A1161,'EQUIPMENT INVENTORY'!$B$7:$AK$1021,7,0))","v":0},{"$f":"IF(ISBLANK(A1161),0,VLOOKUP(A1161,'EQUIPMENT INVENTORY'!$B$7:$AK$1021,8,0))","v":0},null,null,null,null,null,null,null,null,null,null,null,null,null,null,null,{"$f":"SUM($G1161:$U1161)","v":0},null,null,{"$f":"V1161*F1161","v":0}]
[null,null,null,null,{"$f":"IF(ISBLANK(A1162),0,VLOOKUP(A1162,'EQUIPMENT INVENTORY'!$B$7:$AK$1021,7,0))","v":0},{"$f":"IF(ISBLANK(A1162),0,VLOOKUP(A1162,'EQUIPMENT INVENTORY'!$B$7:$AK$1021,8,0))","v":0},null,null,null,null,null,null,null,null,null,null,null,null,null,null,null,{"$f":"SUM($G1162:$U1162)","v":0},null,null,{"$f":"V1162*F1162","v":0}]
[null,"REG",{"$f":"IF(ISBLANK(A1163),0,VLOOKUP(A1163,'PAYROLL RECORD'!$B$8:$U$2005,18,FALSE))","v":0},{"$f":"IF(ISBLANK(A1163),0,VLOOKUP(A1163,'PAYROLL RECORD'!$B$8:$D$2005,3,FALSE))","v":0},null,null,null,null,null,null,null,null,null,null,null,null,null,null,null,null,null,{"$f":"SUM($G1163:$U1163)","v":0},null,null,{"$f":"IF(AND($M$5=\"A\",D1163<>\"FT\"),C1163*V1163,0)+IF(AND($M$5=\"B\",D1163<>\"FT\"),C1163*V1163,0)+IF(AND($M$5=\"AP\"),C1163*V1163,0)+IF($M$5>=\"C\",C1163*V1163)","v":0}]
[{"$f":"IF(ISBLANK(A1163),\" \",VLOOKUP(A1163,'PAYROLL RECORD'!$B$9:$C$10740,2,FALSE))","v":" "},"OT1",{"$f":"IF(ISBLANK(A1163),0,VLOOKUP(A1163,'PAYROLL RECORD'!$B$8:$U$2005,19,FALSE))","v":0},{"$f":"+D1163","v":0},null,null,null,null,null,null,null,null,null,null,null,null,null,null,null,null,null,null,{"$f":"SUM(G1164:U1164)","v":0},null,null,{"$f":"W1164*C1164","v":0}]
[null,"OT2",{"$f":"IF(ISBLANK(A1163),0,VLOOKUP(A1163,'PAYROLL RECORD'!$B$8:$U$2005,20,FALSE))","v":0},{"$f":"+D1164","v":0},null,null,null,null,null,null,null,null,null,null,null,null,null,null,null,null,null,null,null,{"$f":"SUM(G1165:U1165)","v":0},null,null,{"$f":"X1165*C1165","v":0}]
[null,null,null,null,{"$f":"IF(ISBLANK(A1166),0,VLOOKUP(A1166,'EQUIPMENT INVENTORY'!$B$7:$AK$1021,7,0))","v":0},{"$f":"IF(ISBLANK(A1166),0,VLOOKUP(A1166,'EQUIPMENT INVENTORY'!$B$7:$AK$1021,8,0))","v":0},null,null,null,null,null,null,null,null,null,null,null,null,null,null,null,{"$f":"SUM($G1166:$U1166)","v":0},null,null,{"$f":"V1166*F1166","v":0}]
[null,null,null,null,{"$f":"IF(ISBLANK(A1167),0,VLOOKUP(A1167,'EQUIPMENT INVENTORY'!$B$7:$AK$1021,7,0))","v":0},{"$f":"IF(ISBLANK(A1167),0,VLOOKUP(A1167,'EQUIPMENT INVENTORY'!$B$7:$AK$1021,8,0))","v":0},null,null,null,null,null,null,null,null,null,null,null,null,null,null,null,{"$f":"SUM($G1167:$U1167)","v":0},null,null,{"$f":"V1167*F1167","v":0}]
[null,null,null,null,{"$f":"IF(ISBLANK(A1168),0,VLOOKUP(A1168,'EQUIPMENT INVENTORY'!$B$7:$AK$1021,7,0))","v":0},{"$f":"IF(ISBLANK(A1168),0,VLOOKUP(A1168,'EQUIPMENT INVENTORY'!$B$7:$AK$1021,8,0))","v":0},null,null,null,null,null,null,null,null,null,null,null,null,null,null,null,{"$f":"SUM($G1168:$U1168)","v":0},null,null,{"$f":"V1168*F1168","v":0}]
[null,"REG",{"$f":"IF(ISBLANK(A1169),0,VLOOKUP(A1169,'PAYROLL RECORD'!$B$8:$U$2005,18,FALSE))","v":0},{"$f":"IF(ISBLANK(A1169),0,VLOOKUP(A1169,'PAYROLL RECORD'!$B$8:$D$2005,3,FALSE))","v":0},null,null,null,null,null,null,null,null,null,null,null,null,null,null,null,null,null,{"$f":"SUM($G1169:$U1169)","v":0},null,null,{"$f":"IF(AND($M$5=\"A\",D1169<>\"FT\"),C1169*V1169,0)+IF(AND($M$5=\"B\",D1169<>\"FT\"),C1169*V1169,0)+IF(AND($M$5=\"AP\"),C1169*V1169,0)+IF($M$5>=\"C\",C1169*V1169)","v":0}]
[{"$f":"IF(ISBLANK(A1169),\" \",VLOOKUP(A1169,'PAYROLL RECORD'!$B$9:$C$10740,2,FALSE))","v":" "},"OT1",{"$f":"IF(ISBLANK(A1169),0,VLOOKUP(A1169,'PAYROLL RECORD'!$B$8:$U$2005,19,FALSE))","v":0},{"$f":"+D1169","v":0},null,null,null,null,null,null,null,null,null,null,null,null,null,null,null,null,null,null,{"$f":"SUM(G1170:U1170)","v":0},null,null,{"$f":"W1170*C1170","v":0}]
[null,"OT2",{"$f":"IF(ISBLANK(A1169),0,VLOOKUP(A1169,'PAYROLL RECORD'!$B$8:$U$2005,20,FALSE))","v":0},{"$f":"+D1170","v":0},null,null,null,null,null,null,null,null,null,null,null,null,null,null,null,null,null,null,null,{"$f":"SUM(G1171:U1171)","v":0},null,null,{"$f":"X1171*C1171","v":0}]
[null,null,null,null,{"$f":"IF(ISBLANK(A1172),0,VLOOKUP(A1172,'EQUIPMENT INVENTORY'!$B$7:$AK$1021,7,0))","v":0},{"$f":"IF(ISBLANK(A1172),0,VLOOKUP(A1172,'EQUIPMENT INVENTORY'!$B$7:$AK$1021,8,0))","v":0},null,null,null,null,null,null,null,null,null,null,null,null,null,null,null,{"$f":"SUM($G1172:$U1172)","v":0},null,null,{"$f":"V1172*F1172","v":0}]
[null,null,null,null,{"$f":"IF(ISBLANK(A1173),0,VLOOKUP(A1173,'EQUIPMENT INVENTORY'!$B$7:$AK$1021,7,0))","v":0},{"$f":"IF(ISBLANK(A1173),0,VLOOKUP(A1173,'EQUIPMENT INVENTORY'!$B$7:$AK$1021,8,0))","v":0},null,null,null,null,null,null,null,null,null,null,null,null,null,null,null,{"$f":"SUM($G1173:$U1173)","v":0},null,null,{"$f":"V1173*F1173","v":0}]
[null,null,null,null,{"$f":"IF(ISBLANK(A1174),0,VLOOKUP(A1174,'EQUIPMENT INVENTORY'!$B$7:$AK$1021,7,0))","v":0},{"$f":"IF(ISBLANK(A1174),0,VLOOKUP(A1174,'EQUIPMENT INVENTORY'!$B$7:$AK$1021,8,0))","v":0},null,null,null,null,null,null,null,null,null,null,null,null,null,null,null,{"$f":"SUM($G1174:$U1174)","v":0},null,null,{"$f":"V1174*F1174","v":0},null,null,"Reg hrs","ot1 hrs","ot2 hrs","equip hrs"]
[null,null,null,null,null,null,null,null,null,null,null,null,null,null,null,null,"LABOR - Page Total",null,null,null,null,{"$f":"V1127+V1133+V1139+V1151+V1157+V1169+V1145+V1163","v":0},{"$f":"SUM(W1127:W1174)","v":0},{"$f":"SUM(X1127:X1174)","v":0},{"$f":"Y1127+Y1133+Y1139+Y1151+Y1157+Y1169+Y1145+Y1163","v":0},{"$f":"SUM(Z1128:Z1174)","v":0},{"$f":"SUM(AA1128:AA1174)","v":0},{"$f":"V1175","v":0},{"$f":"W1175","v":0},{"$f":"X1175","v":0},{"$f":"V1176","v":0},{"$f":"Y1175","v":0},{"$f":"Z1175","v":0},{"$f":"AA1175","v":0},{"$f":"Y1176","v":0}]
[null,null,null,null,null,null,null,null,null,null,null,null,null,null,null,null,"EQUIPMENT - Page Total",null,null,null,null,{"$f":"V1130+V1131+V1132+V1136+V1137+V1138+V1142+V1143+V1144+V1148+V1149+V1150+V1154+V1155+V1156+V1160+V1161+V1162+V1172+V1173+V1174+V1166+V1167+V1168","v":0},null,null,{"$f":"Y1130+Y1131+Y1132+Y1136+Y1137+Y1138+Y1142+Y1143+Y1144+Y1148+Y1149+Y1150+Y1154+Y1155+Y1156+Y1160+Y1161+Y1162+Y1172+Y1173+Y1174+Y1166+Y1167+Y1168","v":0}]
[null,null,null,null,null,null,null,null,null,null,null,null,null,null,null,null,"LABOR - Grand Total",null,null,null,null,{"$f":"SUM($AB:$AB)","v":0},{"$f":"SUM($AC:$AC)","v":0},{"$f":"SUM($AD:$AD)","v":0},{"$f":"SUM(AF:AF)","v":0},{"$f":"SUM($AG:$AG)","v":0},{"$f":"SUM($AH:$AH)","v":0}]
[null,null,null,null,null,null,null,null,null,null,null,null,null,null,null,null,"EQUIPMENT - Grand Total",null,null,null,null,{"$f":"SUM($AE:$AE)","v":0},null,null,{"$f":"SUM($AI:$AI)","v":0}]
[]
[]
["COST SUMMARY FOR LABOR/EQUIPMENT"]
["APPLICANT - FIPS#",null,null,null,"DISASTER #:",null,null,"PROJECT #:",null,null,null,null,"FEMA CAT A-G",null,null,"EMMIE #",null,null,null,"Work Completion Date"]
[{"$f":"IF('PAYROLL RECORD'!$B$5=\"START HERE\",\"\",'PAYROLL RECORD'!$B$5)","v":0},null,null,null,{"$f":"IF('PAYROLL RECORD'!$F$5=\"\",\"\",'PAYROLL RECORD'!$F$5)","v":""},null,null,{"$f":"'PAYROLL RECORD'!I1182:L1182","v":{"$error":"#VALUE!"}},null,null,null,null,{"$f":"IF('PAYROLL RECORD'!$M$5=\"CATEGORY\",\"\",'PAYROLL RECORD'!$M$5)","v":0},null,null,{"$f":"IF('PAYROLL RECORD'!$O$5=\"EMMIE #\",\"\",'PAYROLL RECORD'!$O$5)","v":0},null,null,null,{"$f":"IF('PAYROLL RECORD'!$Q$5=\"DATE\",\"\",'PAYROLL RECORD'!$Q$5)","v":"00:00:00"}]
["Employee/\nEquipment",null,"RATE w/","STATUS","COST CODE","RATE","2018-10-31",{"$f":"+G1184+1","v":"2018-11-01"},{"$f":"H1184+1","v":"2018-11-02"},"2018-11-03","2018-11-04","2018-11-05","2018-11-06","2018-11-07","2018-11-08","2018-11-09","2018-11-10","2018-11-11","2018-11-12","2018-11-13","2018-11-14","REG","OT1","OT2","REG TIME\nCOST","OT1\nCOST","OT2\nCOST"]
[null,null,"FRINGE",null,null,null,{"$f":"IF(G1184<=0,\"\",TEXT(WEEKDAY(G1184),\"ddd\"))","v":"Wed"},{"$f":"IF(H1184<=0,\"\",TEXT(WEEKDAY(H1184),\"ddd\"))","v":"Thu"},"Fri","Sat","Sun","Mon","Tue","Wed","Thu","Fri","Sat","Sun","Mon","Tue","Wed"]
[null,"REG",{"$f":"IF(ISBLANK(A1186),0,VLOOKUP(A1186,'PAYROLL RECORD'!$B$8:$U$2005,18,FALSE))","v":0},{"$f":"IF(ISBLANK(A1186),0,VLOOKUP(A1186,'PAYROLL RECORD'!$B$8:$D$2005,3,FALSE))","v":0},null,null,null,null,null,null,null,null,null,null,null,null,null,null,null,null,null,{"$f":"SUM($G1186:$U1186)","v":0},null,null,{"$f":"IF(AND($M$5=\"A\",D1186<>\"FT\"),C1186*V1186,0)+IF(AND($M$5=\"B\",D1186<>\"FT\"),C1186*V1186,0)+IF(AND($M$5=\"AP\"),C1186*V1186,0)+IF($M$5>=\"C\",C1186*V1186)","v":0}]
[{"$f":"IF(ISBLANK(A1186),\" \",VLOOKUP(A1186,'PAYROLL RECORD'!$B$9:$C$10740,2,FALSE))","v":" "},"OT1",{"$f":"IF(ISBLANK(A1186),0,VLOOKUP(A1186,'PAYROLL RECORD'!$B$8:$U$2005,19,FALSE))","v":0},{"$f":"+D1186","v":0},null,null,null,null,null,null,null,null,null,null,null,null,null,null,null,null,null,null,{"$f":"SUM(G1187:U1187)","v":0},null,null,{"$f":"W1187*C1187","v":0}]
[null,"OT2",{"$f":"IF(ISBLANK(A1186),0,VLOOKUP(A1186,'PAYROLL RECORD'!$B$8:$U$2005,20,FALSE))","v":0},{"$f":"+D1187","v":0},null,null,null,null,null,null,null,null,null,null,null,null,null,null,null,null,null,null,null,{"$f":"SUM(G1188:U1188)","v":0},null,null,{"$f":"X1188*C1188","v":0}]
[null,null,null,null,{"$f":"IF(ISBLANK(A1189),0,VLOOKUP(A1189,'EQUIPMENT INVENTORY'!$B$7:$AK$1021,7,0))","v":0},{"$f":"IF(ISBLANK(A1189),0,VLOOKUP(A1189,'EQUIPMENT INVENTORY'!$B$7:$AK$1021,8,0))","v":0},null,null,null,null,null,null,null,null,null,null,null,null,null,null,null,{"$f":"SUM($G1189:$U1189)","v":0},null,null,{"$f":"V1189*F1189","v":0}]
[null,null,null,null,{"$f":"IF(ISBLANK(A1190),0,VLOOKUP(A1190,'EQUIPMENT INVENTORY'!$B$7:$AK$1021,7,0))","v":0},{"$f":"IF(ISBLANK(A1190),0,VLOOKUP(A1190,'EQUIPMENT INVENTORY'!$B$7:$AK$1021,8,0))","v":0},null,null,null,null,null,null,null,null,null,null,null,null,null,null,null,{"$f":"SUM($G1190:$U1190)","v":0},null,null,{"$f":"V1190*F1190","v":0}]
[null,null,null,null,{"$f":"IF(ISBLANK(A1191),0,VLOOKUP(A1191,'EQUIPMENT INVENTORY'!$B$7:$AK$1021,7,0))","v":0},{"$f":"IF(ISBLANK(A1191),0,VLOOKUP(A1191,'EQUIPMENT INVENTORY'!$B$7:$AK$1021,8,0))","v":0},null,null,null,null,null,null,null,null,null,null,null,null,null,null,null,{"$f":"SUM($G1191:$U1191)","v":0},null,null,{"$f":"V1191*F1191","v":0}]
[null,"REG",{"$f":"IF(ISBLANK(A1192),0,VLOOKUP(A1192,'PAYROLL RECORD'!$B$8:$U$2005,18,FALSE))","v":0},{"$f":"IF(ISBLANK(A1192),0,VLOOKUP(A1192,'PAYROLL RECORD'!$B$8:$D$2005,3,FALSE))","v":0},null,null,null,null,null,null,null,null,null,null,null,null,null,null,null,null,null,{"$f":"SUM($G1192:$U1192)","v":0},null,null,{"$f":"IF(AND($M$5=\"A\",D1192<>\"FT\"),C1192*V1192,0)+IF(AND($M$5=\"B\",D1192<>\"FT\"),C1192*V1192,0)+IF(AND($M$5=\"AP\"),C1192*V1192,0)+IF($M$5>=\"C\",C1192*V1192)","v":0}]
[{"$f":"IF(ISBLANK(A1192),\" \",VLOOKUP(A1192,'PAYROLL RECORD'!$B$9:$C$10740,2,FALSE))","v":" "},"OT1",{"$f":"IF(ISBLANK(A1192),0,VLOOKUP(A1192,'PAYROLL RECORD'!$B$8:$U$2005,19,FALSE))","v":0},{"$f":"+D1192","v":0},null,null,null,null,null,null,null,null,null,null,null,null,null,null,null,null,null,null,{"$f":"SUM(G1193:U1193)","v":0},null,null,{"$f":"W1193*C1193","v":0}]
[null,"OT2",{"$f":"IF(ISBLANK(A1192),0,VLOOKUP(A1192,'PAYROLL RECORD'!$B$8:$U$2005,20,FALSE))","v":0},{"$f":"+D1193","v":0},null,null,null,null,null,null,null,null,null,null,null,null,null,null,null,null,null,null,null,{"$f":"SUM(G1194:U1194)","v":0},null,null,{"$f":"X1194*C1194","v":0}]
[null,null,null,null,{"$f":"IF(ISBLANK(A1195),0,VLOOKUP(A1195,'EQUIPMENT INVENTORY'!$B$7:$AK$1021,7,0))","v":0},{"$f":"IF(ISBLANK(A1195),0,VLOOKUP(A1195,'EQUIPMENT INVENTORY'!$B$7:$AK$1021,8,0))","v":0},null,null,null,null,null,null,null,null,null,null,null,null,null,null,null,{"$f":"SUM($G1195:$U1195)","v":0},null,null,{"$f":"V1195*F1195","v":0}]
[null,null,null,null,{"$f":"IF(ISBLANK(A1196),0,VLOOKUP(A1196,'EQUIPMENT INVENTORY'!$B$7:$AK$1021,7,0))","v":0},{"$f":"IF(ISBLANK(A1196),0,VLOOKUP(A1196,'EQUIPMENT INVENTORY'!$B$7:$AK$1021,8,0))","v":0},null,null,null,null,null,null,null,null,null,null,null,null,null,null,null,{"$f":"SUM($G1196:$U1196)","v":0},null,null,{"$f":"V1196*F1196","v":0}]
[null,null,null,null,{"$f":"IF(ISBLANK(A1197),0,VLOOKUP(A1197,'EQUIPMENT INVENTORY'!$B$7:$AK$1021,7,0))","v":0},{"$f":"IF(ISBLANK(A1197),0,VLOOKUP(A1197,'EQUIPMENT INVENTORY'!$B$7:$AK$1021,8,0))","v":0},null,null,null,null,null,null,null,null,null,null,null,null,null,null,null,{"$f":"SUM($G1197:$U1197)","v":0},null,null,{"$f":"V1197*F1197","v":0}]
[null,"REG",{"$f":"IF(ISBLANK(A1198),0,VLOOKUP(A1198,'PAYROLL RECORD'!$B$8:$U$2005,18,FALSE))","v":0},{"$f":"IF(ISBLANK(A1198),0,VLOOKUP(A1198,'PAYROLL RECORD'!$B$8:$D$2005,3,FALSE))","v":0},null,null,null,null,null,null,null,null,null,null,null,null,null,null,null,null,null,{"$f":"SUM($G1198:$U1198)","v":0},null,null,{"$f":"IF(AND($M$5=\"A\",D1198<>\"FT\"),C1198*V1198,0)+IF(AND($M$5=\"B\",D1198<>\"FT\"),C1198*V1198,0)+IF(AND($M$5=\"AP\"),C1198*V1198,0)+IF($M$5>=\"C\",C1198*V1198)","v":0}]
[{"$f":"IF(ISBLANK(A1198),\" \",VLOOKUP(A1198,'PAYROLL RECORD'!$B$9:$C$10740,2,FALSE))","v":" "},"OT1",{"$f":"IF(ISBLANK(A1198),0,VLOOKUP(A1198,'PAYROLL RECORD'!$B$8:$U$2005,19,FALSE))","v":0},{"$f":"+D1198","v":0},null,null,null,null,null,null,null,null,null,null,null,null,null,null,null,null,null,null,{"$f":"SUM(G1199:U1199)","v":0},null,null,{"$f":"W1199*C1199","v":0}]
[null,"OT2",{"$f":"IF(ISBLANK(A1198),0,VLOOKUP(A1198,'PAYROLL RECORD'!$B$8:$U$2005,20,FALSE))","v":0},{"$f":"+D1199","v":0},null,null,null,null,null,null,null,null,null,null,null,null,null,null,null,null,null,null,null,{"$f":"SUM(G1200:U1200)","v":0},null,null,{"$f":"X1200*C1200","v":0}]
[null,null,null,null,{"$f":"IF(ISBLANK(A1201),0,VLOOKUP(A1201,'EQUIPMENT INVENTORY'!$B$7:$AK$1021,7,0))","v":0},{"$f":"IF(ISBLANK(A1201),0,VLOOKUP(A1201,'EQUIPMENT INVENTORY'!$B$7:$AK$1021,8,0))","v":0},null,null,null,null,null,null,null,null,null,null,null,null,null,null,null,{"$f":"SUM($G1201:$U1201)","v":0},null,null,{"$f":"V1201*F1201","v":0}]
[null,null,null,null,{"$f":"IF(ISBLANK(A1202),0,VLOOKUP(A1202,'EQUIPMENT INVENTORY'!$B$7:$AK$1021,7,0))","v":0},{"$f":"IF(ISBLANK(A1202),0,VLOOKUP(A1202,'EQUIPMENT INVENTORY'!$B$7:$AK$1021,8,0))","v":0},null,null,null,null,null,null,null,null,null,null,null,null,null,null,null,{"$f":"SUM($G1202:$U1202)","v":0},null,null,{"$f":"V1202*F1202","v":0}]
[null,null,null,null,{"$f":"IF(ISBLANK(A1203),0,VLOOKUP(A1203,'EQUIPMENT INVENTORY'!$B$7:$AK$1021,7,0))","v":0},{"$f":"IF(ISBLANK(A1203),0,VLOOKUP(A1203,'EQUIPMENT INVENTORY'!$B$7:$AK$1021,8,0))","v":0},null,null,null,null,null,null,null,null,null,null,null,null,null,null,null,{"$f":"SUM($G1203:$U1203)","v":0},null,null,{"$f":"V1203*F1203","v":0}]
[null,"REG",{"$f":"IF(ISBLANK(A1204),0,VLOOKUP(A1204,'PAYROLL RECORD'!$B$8:$U$2005,18,FALSE))","v":0},{"$f":"IF(ISBLANK(A1204),0,VLOOKUP(A1204,'PAYROLL RECORD'!$B$8:$D$2005,3,FALSE))","v":0},null,null,null,null,null,null,null,null,null,null,null,null,null,null,null,null,null,{"$f":"SUM($G1204:$U1204)","v":0},null,null,{"$f":"IF(AND($M$5=\"A\",D1204<>\"FT\"),C1204*V1204,0)+IF(AND($M$5=\"B\",D1204<>\"FT\"),C1204*V1204,0)+IF(AND($M$5=\"AP\"),C1204*V1204,0)+IF($M$5>=\"C\",C1204*V1204)","v":0}]
[{"$f":"IF(ISBLANK(A1204),\" \",VLOOKUP(A1204,'PAYROLL RECORD'!$B$9:$C$10740,2,FALSE))","v":" "},"OT1",{"$f":"IF(ISBLANK(A1204),0,VLOOKUP(A1204,'PAYROLL RECORD'!$B$8:$U$2005,19,FALSE))","v":0},{"$f":"+D1204","v":0},null,null,null,null,null,null,null,null,null,null,null,null,null,null,null,null,null,null,{"$f":"SUM(G1205:U1205)","v":0},null,null,{"$f":"W1205*C1205","v":0}]
[null,"OT2",{"$f":"IF(ISBLANK(A1204),0,VLOOKUP(A1204,'PAYROLL RECORD'!$B$8:$U$2005,20,FALSE))","v":0},{"$f":"+D1205","v":0},null,null,null,null,null,null,null,null,null,null,null,null,null,null,null,null,null,null,null,{"$f":"SUM(G1206:U1206)","v":0},null,null,{"$f":"X1206*C1206","v":0}]
[null,null,null,null,{"$f":"IF(ISBLANK(A1207),0,VLOOKUP(A1207,'EQUIPMENT INVENTORY'!$B$7:$AK$1021,7,0))","v":0},{"$f":"IF(ISBLANK(A1207),0,VLOOKUP(A1207,'EQUIPMENT INVENTORY'!$B$7:$AK$1021,8,0))","v":0},null,null,null,null,null,null,null,null,null,null,null,null,null,null,null,{"$f":"SUM($G1207:$U1207)","v":0},null,null,{"$f":"V1207*F1207","v":0}]
[null,null,null,null,{"$f":"IF(ISBLANK(A1208),0,VLOOKUP(A1208,'EQUIPMENT INVENTORY'!$B$7:$AK$1021,7,0))","v":0},{"$f":"IF(ISBLANK(A1208),0,VLOOKUP(A1208,'EQUIPMENT INVENTORY'!$B$7:$AK$1021,8,0))","v":0},null,null,null,null,null,null,null,null,null,null,null,null,null,null,null,{"$f":"SUM($G1208:$U1208)","v":0},null,null,{"$f":"V1208*F1208","v":0}]
[null,null,null,null,{"$f":"IF(ISBLANK(A1209),0,VLOOKUP(A1209,'EQUIPMENT INVENTORY'!$B$7:$AK$1021,7,0))","v":0},{"$f":"IF(ISBLANK(A1209),0,VLOOKUP(A1209,'EQUIPMENT INVENTORY'!$B$7:$AK$1021,8,0))","v":0},null,null,null,null,null,null,null,null,null,null,null,null,null,null,null,{"$f":"SUM($G1209:$U1209)","v":0},null,null,{"$f":"V1209*F1209","v":0}]
[null,"REG",{"$f":"IF(ISBLANK(A1210),0,VLOOKUP(A1210,'PAYROLL RECORD'!$B$8:$U$2005,18,FALSE))","v":0},{"$f":"IF(ISBLANK(A1210),0,VLOOKUP(A1210,'PAYROLL RECORD'!$B$8:$D$2005,3,FALSE))","v":0},null,null,null,null,null,null,null,null,null,null,null,null,null,null,null,null,null,{"$f":"SUM($G1210:$U1210)","v":0},null,null,{"$f":"IF(AND($M$5=\"A\",D1210<>\"FT\"),C1210*V1210,0)+IF(AND($M$5=\"B\",D1210<>\"FT\"),C1210*V1210,0)+IF(AND($M$5=\"AP\"),C1210*V1210,0)+IF($M$5>=\"C\",C1210*V1210)","v":0}]
[{"$f":"IF(ISBLANK(A1210),\" \",VLOOKUP(A1210,'PAYROLL RECORD'!$B$9:$C$10740,2,FALSE))","v":" "},"OT1",{"$f":"IF(ISBLANK(A1210),0,VLOOKUP(A1210,'PAYROLL RECORD'!$B$8:$U$2005,19,FALSE))","v":0},{"$f":"+D1210","v":0},null,null,null,null,null,null,null,null,null,null,null,null,null,null,null,null,null,null,{"$f":"SUM(G1211:U1211)","v":0},null,null,{"$f":"W1211*C1211","v":0}]
[null,"OT2",{"$f":"IF(ISBLANK(A1210),0,VLOOKUP(A1210,'PAYROLL RECORD'!$B$8:$U$2005,20,FALSE))","v":0},{"$f":"+D1211","v":0},null,null,null,null,null,null,null,null,null,null,null,null,null,null,null,null,null,null,null,{"$f":"SUM(G1212:U1212)","v":0},null,null,{"$f":"X1212*C1212","v":0}]
[null,null,null,null,{"$f":"IF(ISBLANK(A1213),0,VLOOKUP(A1213,'EQUIPMENT INVENTORY'!$B$7:$AK$1021,7,0))","v":0},{"$f":"IF(ISBLANK(A1213),0,VLOOKUP(A1213,'EQUIPMENT INVENTORY'!$B$7:$AK$1021,8,0))","v":0},null,null,null,null,null,null,null,null,null,null,null,null,null,null,null,{"$f":"SUM($G1213:$U1213)","v":0},null,null,{"$f":"V1213*F1213","v":0}]
[null,null,null,null,{"$f":"IF(ISBLANK(A1214),0,VLOOKUP(A1214,'EQUIPMENT INVENTORY'!$B$7:$AK$1021,7,0))","v":0},{"$f":"IF(ISBLANK(A1214),0,VLOOKUP(A1214,'EQUIPMENT INVENTORY'!$B$7:$AK$1021,8,0))","v":0},null,null,null,null,null,null,null,null,null,null,null,null,null,null,null,{"$f":"SUM($G1214:$U1214)","v":0},null,null,{"$f":"V1214*F1214","v":0}]
[null,null,null,null,{"$f":"IF(ISBLANK(A1215),0,VLOOKUP(A1215,'EQUIPMENT INVENTORY'!$B$7:$AK$1021,7,0))","v":0},{"$f":"IF(ISBLANK(A1215),0,VLOOKUP(A1215,'EQUIPMENT INVENTORY'!$B$7:$AK$1021,8,0))","v":0},null,null,null,null,null,null,null,null,null,null,null,null,null,null,null,{"$f":"SUM($G1215:$U1215)","v":0},null,null,{"$f":"V1215*F1215","v":0}]
[null,"REG",{"$f":"IF(ISBLANK(A1216),0,VLOOKUP(A1216,'PAYROLL RECORD'!$B$8:$U$2005,18,FALSE))","v":0},{"$f":"IF(ISBLANK(A1216),0,VLOOKUP(A1216,'PAYROLL RECORD'!$B$8:$D$2005,3,FALSE))","v":0},null,null,null,null,null,null,null,null,null,null,null,null,null,null,null,null,null,{"$f":"SUM($G1216:$U1216)","v":0},null,null,{"$f":"IF(AND($M$5=\"A\",D1216<>\"FT\"),C1216*V1216,0)+IF(AND($M$5=\"B\",D1216<>\"FT\"),C1216*V1216,0)+IF(AND($M$5=\"AP\"),C1216*V1216,0)+IF($M$5>=\"C\",C1216*V1216)","v":0}]
[{"$f":"IF(ISBLANK(A1216),\" \",VLOOKUP(A1216,'PAYROLL RECORD'!$B$9:$C$10740,2,FALSE))","v":" "},"OT1",{"$f":"IF(ISBLANK(A1216),0,VLOOKUP(A1216,'PAYROLL RECORD'!$B$8:$U$2005,19,FALSE))","v":0},{"$f":"+D1216","v":0},null,null,null,null,null,null,null,null,null,null,null,null,null,null,null,null,null,null,{"$f":"SUM(G1217:U1217)","v":0},null,null,{"$f":"W1217*C1217","v":0}]
[null,"OT2",{"$f":"IF(ISBLANK(A1216),0,VLOOKUP(A1216,'PAYROLL RECORD'!$B$8:$U$2005,20,FALSE))","v":0},{"$f":"+D1217","v":0},null,null,null,null,null,null,null,null,null,null,null,null,null,null,null,null,null,null,null,{"$f":"SUM(G1218:U1218)","v":0},null,null,{"$f":"X1218*C1218","v":0}]
[null,null,null,null,{"$f":"IF(ISBLANK(A1219),0,VLOOKUP(A1219,'EQUIPMENT INVENTORY'!$B$7:$AK$1021,7,0))","v":0},{"$f":"IF(ISBLANK(A1219),0,VLOOKUP(A1219,'EQUIPMENT INVENTORY'!$B$7:$AK$1021,8,0))","v":0},null,null,null,null,null,null,null,null,null,null,null,null,null,null,null,{"$f":"SUM($G1219:$U1219)","v":0},null,null,{"$f":"V1219*F1219","v":0}]
[null,null,null,null,{"$f":"IF(ISBLANK(A1220),0,VLOOKUP(A1220,'EQUIPMENT INVENTORY'!$B$7:$AK$1021,7,0))","v":0},{"$f":"IF(ISBLANK(A1220),0,VLOOKUP(A1220,'EQUIPMENT INVENTORY'!$B$7:$AK$1021,8,0))","v":0},null,null,null,null,null,null,null,null,null,null,null,null,null,null,null,{"$f":"SUM($G1220:$U1220)","v":0},null,null,{"$f":"V1220*F1220","v":0}]
[null,null,null,null,{"$f":"IF(ISBLANK(A1221),0,VLOOKUP(A1221,'EQUIPMENT INVENTORY'!$B$7:$AK$1021,7,0))","v":0},{"$f":"IF(ISBLANK(A1221),0,VLOOKUP(A1221,'EQUIPMENT INVENTORY'!$B$7:$AK$1021,8,0))","v":0},null,null,null,null,null,null,null,null,null,null,null,null,null,null,null,{"$f":"SUM($G1221:$U1221)","v":0},null,null,{"$f":"V1221*F1221","v":0}]
[null,"REG",{"$f":"IF(ISBLANK(A1222),0,VLOOKUP(A1222,'PAYROLL RECORD'!$B$8:$U$2005,18,FALSE))","v":0},{"$f":"IF(ISBLANK(A1222),0,VLOOKUP(A1222,'PAYROLL RECORD'!$B$8:$D$2005,3,FALSE))","v":0},null,null,null,null,null,null,null,null,null,null,null,null,null,null,null,null,null,{"$f":"SUM($G1222:$U1222)","v":0},null,null,{"$f":"IF(AND($M$5=\"A\",D1222<>\"FT\"),C1222*V1222,0)+IF(AND($M$5=\"B\",D1222<>\"FT\"),C1222*V1222,0)+IF(AND($M$5=\"AP\"),C1222*V1222,0)+IF($M$5>=\"C\",C1222*V1222)","v":0}]
[{"$f":"IF(ISBLANK(A1222),\" \",VLOOKUP(A1222,'PAYROLL RECORD'!$B$9:$C$10740,2,FALSE))","v":" "},"OT1",{"$f":"IF(ISBLANK(A1222),0,VLOOKUP(A1222,'PAYROLL RECORD'!$B$8:$U$2005,19,FALSE))","v":0},{"$f":"+D1222","v":0},null,null,null,null,null,null,null,null,null,null,null,null,null,null,null,null,null,null,{"$f":"SUM(G1223:U1223)","v":0},null,null,{"$f":"W1223*C1223","v":0}]
[null,"OT2",{"$f":"IF(ISBLANK(A1222),0,VLOOKUP(A1222,'PAYROLL RECORD'!$B$8:$U$2005,20,FALSE))","v":0},{"$f":"+D1223","v":0},null,null,null,null,null,null,null,null,null,null,null,null,null,null,null,null,null,null,null,{"$f":"SUM(G1224:U1224)","v":0},null,null,{"$f":"X1224*C1224","v":0}]
[null,null,null,null,{"$f":"IF(ISBLANK(A1225),0,VLOOKUP(A1225,'EQUIPMENT INVENTORY'!$B$7:$AK$1021,7,0))","v":0},{"$f":"IF(ISBLANK(A1225),0,VLOOKUP(A1225,'EQUIPMENT INVENTORY'!$B$7:$AK$1021,8,0))","v":0},null,null,null,null,null,null,null,null,null,null,null,null,null,null,null,{"$f":"SUM($G1225:$U1225)","v":0},null,null,{"$f":"V1225*F1225","v":0}]
[null,null,null,null,{"$f":"IF(ISBLANK(A1226),0,VLOOKUP(A1226,'EQUIPMENT INVENTORY'!$B$7:$AK$1021,7,0))","v":0},{"$f":"IF(ISBLANK(A1226),0,VLOOKUP(A1226,'EQUIPMENT INVENTORY'!$B$7:$AK$1021,8,0))","v":0},null,null,null,null,null,null,null,null,null,null,null,null,null,null,null,{"$f":"SUM($G1226:$U1226)","v":0},null,null,{"$f":"V1226*F1226","v":0}]
[null,null,null,null,{"$f":"IF(ISBLANK(A1227),0,VLOOKUP(A1227,'EQUIPMENT INVENTORY'!$B$7:$AK$1021,7,0))","v":0},{"$f":"IF(ISBLANK(A1227),0,VLOOKUP(A1227,'EQUIPMENT INVENTORY'!$B$7:$AK$1021,8,0))","v":0},null,null,null,null,null,null,null,null,null,null,null,null,null,null,null,{"$f":"SUM($G1227:$U1227)","v":0},null,null,{"$f":"V1227*F1227","v":0}]
[null,"REG",{"$f":"IF(ISBLANK(A1228),0,VLOOKUP(A1228,'PAYROLL RECORD'!$B$8:$U$2005,18,FALSE))","v":0},{"$f":"IF(ISBLANK(A1228),0,VLOOKUP(A1228,'PAYROLL RECORD'!$B$8:$D$2005,3,FALSE))","v":0},null,null,null,null,null,null,null,null,null,null,null,null,null,null,null,null,null,{"$f":"SUM($G1228:$U1228)","v":0},null,null,{"$f":"IF(AND($M$5=\"A\",D1228<>\"FT\"),C1228*V1228,0)+IF(AND($M$5=\"B\",D1228<>\"FT\"),C1228*V1228,0)+IF(AND($M$5=\"AP\"),C1228*V1228,0)+IF($M$5>=\"C\",C1228*V1228)","v":0}]
[{"$f":"IF(ISBLANK(A1228),\" \",VLOOKUP(A1228,'PAYROLL RECORD'!$B$9:$C$10740,2,FALSE))","v":" "},"OT1",{"$f":"IF(ISBLANK(A1228),0,VLOOKUP(A1228,'PAYROLL RECORD'!$B$8:$U$2005,19,FALSE))","v":0},{"$f":"+D1228","v":0},null,null,null,null,null,null,null,null,null,null,null,null,null,null,null,null,null,null,{"$f":"SUM(G1229:U1229)","v":0},null,null,{"$f":"W1229*C1229","v":0}]
[null,"OT2",{"$f":"IF(ISBLANK(A1228),0,VLOOKUP(A1228,'PAYROLL RECORD'!$B$8:$U$2005,20,FALSE))","v":0},{"$f":"+D1229","v":0},null,null,null,null,null,null,null,null,null,null,null,null,null,null,null,null,null,null,null,{"$f":"SUM(G1230:U1230)","v":0},null,null,{"$f":"X1230*C1230","v":0}]
[null,null,null,null,{"$f":"IF(ISBLANK(A1231),0,VLOOKUP(A1231,'EQUIPMENT INVENTORY'!$B$7:$AK$1021,7,0))","v":0},{"$f":"IF(ISBLANK(A1231),0,VLOOKUP(A1231,'EQUIPMENT INVENTORY'!$B$7:$AK$1021,8,0))","v":0},null,null,null,null,null,null,null,null,null,null,null,null,null,null,null,{"$f":"SUM($G1231:$U1231)","v":0},null,null,{"$f":"V1231*F1231","v":0}]
[null,null,null,null,{"$f":"IF(ISBLANK(A1232),0,VLOOKUP(A1232,'EQUIPMENT INVENTORY'!$B$7:$AK$1021,7,0))","v":0},{"$f":"IF(ISBLANK(A1232),0,VLOOKUP(A1232,'EQUIPMENT INVENTORY'!$B$7:$AK$1021,8,0))","v":0},null,null,null,null,null,null,null,null,null,null,null,null,null,null,null,{"$f":"SUM($G1232:$U1232)","v":0},null,null,{"$f":"V1232*F1232","v":0}]
[null,null,null,null,{"$f":"IF(ISBLANK(A1233),0,VLOOKUP(A1233,'EQUIPMENT INVENTORY'!$B$7:$AK$1021,7,0))","v":0},{"$f":"IF(ISBLANK(A1233),0,VLOOKUP(A1233,'EQUIPMENT INVENTORY'!$B$7:$AK$1021,8,0))","v":0},null,null,null,null,null,null,null,null,null,null,null,null,null,null,null,{"$f":"SUM($G1233:$U1233)","v":0},null,null,{"$f":"V1233*F1233","v":0},null,null,"Reg hrs","ot1 hrs","ot2 hrs","equip hrs"]
[null,null,null,null,null,null,null,null,null,null,null,null,null,null,null,null,"LABOR - Page Total",null,null,null,null,{"$f":"V1186+V1192+V1198+V1210+V1216+V1228+V1204+V1222","v":0},{"$f":"SUM(W1186:W1233)","v":0},{"$f":"SUM(X1186:X1233)","v":0},{"$f":"Y1186+Y1192+Y1198+Y1210+Y1216+Y1228+Y1204+Y1222","v":0},{"$f":"SUM(Z1187:Z1233)","v":0},{"$f":"SUM(AA1187:AA1233)","v":0},{"$f":"V1234","v":0},{"$f":"W1234","v":0},{"$f":"X1234","v":0},{"$f":"V1235","v":0},{"$f":"Y1234","v":0},{"$f":"Z1234","v":0},{"$f":"AA1234","v":0},{"$f":"Y1235","v":0}]
[null,null,null,null,null,null,null,null,null,null,null,null,null,null,null,null,"EQUIPMENT - Page Total",null,null,null,null,{"$f":"V1189+V1190+V1191+V1195+V1196+V1197+V1201+V1202+V1203+V1207+V1208+V1209+V1213+V1214+V1215+V1219+V1220+V1221+V1231+V1232+V1233+V1225+V1226+V1227","v":0},null,null,{"$f":"Y1189+Y1190+Y1191+Y1195+Y1196+Y1197+Y1201+Y1202+Y1203+Y1207+Y1208+Y1209+Y1213+Y1214+Y1215+Y1219+Y1220+Y1221+Y1231+Y1232+Y1233+Y1225+Y1226+Y1227","v":0}]
[null,null,null,null,null,null,null,null,null,null,null,null,null,null,null,null,"LABOR - Grand Total",null,null,null,null,{"$f":"SUM($AB:$AB)","v":0},{"$f":"SUM($AC:$AC)","v":0},{"$f":"SUM($AD:$AD)","v":0},{"$f":"SUM(AF:AF)","v":0},{"$f":"SUM($AG:$AG)","v":0},{"$f":"SUM($AH:$AH)","v":0}]
[null,null,null,null,null,null,null,null,null,null,null,null,null,null,null,null,"EQUIPMENT - Grand Total",null,null,null,null,{"$f":"SUM($AE:$AE)","v":0},null,null,{"$f":"SUM($AI:$AI)","v":0}]
[]
[]
["COST SUMMARY FOR LABOR/EQUIPMENT"]
["APPLICANT - FIPS#",null,null,null,"DISASTER #:",null,null,"PROJECT #:",null,null,null,null,"FEMA CAT A-G",null,null,"EMMIE #",null,null,null,"Work Completion Date"]
[{"$f":"IF('PAYROLL RECORD'!$B$5=\"START HERE\",\"\",'PAYROLL RECORD'!$B$5)","v":0},null,null,null,{"$f":"IF('PAYROLL RECORD'!$F$5=\"\",\"\",'PAYROLL RECORD'!$F$5)","v":""},null,null,{"$f":"'PAYROLL RECORD'!I1241:L1241","v":{"$error":"#VALUE!"}},null,null,null,null,{"$f":"IF('PAYROLL RECORD'!$M$5=\"CATEGORY\",\"\",'PAYROLL RECORD'!$M$5)","v":0},null,null,{"$f":"IF('PAYROLL RECORD'!$O$5=\"EMMIE #\",\"\",'PAYROLL RECORD'!$O$5)","v":0},null,null,null,{"$f":"IF('PAYROLL RECORD'!$Q$5=\"DATE\",\"\",'PAYROLL RECORD'!$Q$5)","v":"00:00:00"}]
["Employee/\nEquipment",null,"RATE w/","STATUS","COST CODE","RATE","2018-10-31",{"$f":"+G1243+1","v":"2018-11-01"},{"$f":"H1243+1","v":"2018-11-02"},"2018-11-03","2018-11-04","2018-11-05","2018-11-06","2018-11-07","2018-11-08","2018-11-09","2018-11-10","2018-11-11","2018-11-12","2018-11-13","2018-11-14","REG","OT1","OT2","REG TIME\nCOST","OT1\nCOST","OT2\nCOST"]
[null,null,"FRINGE",null,null,null,{"$f":"IF(G1243<=0,\"\",TEXT(WEEKDAY(G1243),\"ddd\"))","v":"Wed"},{"$f":"IF(H1243<=0,\"\",TEXT(WEEKDAY(H1243),\"ddd\"))","v":"Thu"},"Fri","Sat","Sun","Mon","Tue","Wed","Thu","Fri","Sat","Sun","Mon","Tue","Wed"]
[null,"REG",{"$f":"IF(ISBLANK(A1245),0,VLOOKUP(A1245,'PAYROLL RECORD'!$B$8:$U$2005,18,FALSE))","v":0},{"$f":"IF(ISBLANK(A1245),0,VLOOKUP(A1245,'PAYROLL RECORD'!$B$8:$D$2005,3,FALSE))","v":0},null,null,null,null,null,null,null,null,null,null,null,null,null,null,null,null,null,{"$f":"SUM($G1245:$U1245)","v":0},null,null,{"$f":"IF(AND($M$5=\"A\",D1245<>\"FT\"),C1245*V1245,0)+IF(AND($M$5=\"B\",D1245<>\"FT\"),C1245*V1245,0)+IF(AND($M$5=\"AP\"),C1245*V1245,0)+IF($M$5>=\"C\",C1245*V1245)","v":0}]
[{"$f":"IF(ISBLANK(A1245),\" \",VLOOKUP(A1245,'PAYROLL RECORD'!$B$9:$C$10740,2,FALSE))","v":" "},"OT1",{"$f":"IF(ISBLANK(A1245),0,VLOOKUP(A1245,'PAYROLL RECORD'!$B$8:$U$2005,19,FALSE))","v":0},{"$f":"+D1245","v":0},null,null,null,null,null,null,null,null,null,null,null,null,null,null,null,null,null,null,{"$f":"SUM(G1246:U1246)","v":0},null,null,{"$f":"W1246*C1246","v":0}]
[null,"OT2",{"$f":"IF(ISBLANK(A1245),0,VLOOKUP(A1245,'PAYROLL RECORD'!$B$8:$U$2005,20,FALSE))","v":0},{"$f":"+D1246","v":0},null,null,null,null,null,null,null,null,null,null,null,null,null,null,null,null,null,null,null,{"$f":"SUM(G1247:U1247)","v":0},null,null,{"$f":"X1247*C1247","v":0}]
[null,null,null,null,{"$f":"IF(ISBLANK(A1248),0,VLOOKUP(A1248,'EQUIPMENT INVENTORY'!$B$7:$AK$1021,7,0))","v":0},{"$f":"IF(ISBLANK(A1248),0,VLOOKUP(A1248,'EQUIPMENT INVENTORY'!$B$7:$AK$1021,8,0))","v":0},null,null,null,null,null,null,null,null,null,null,null,null,null,null,null,{"$f":"SUM($G1248:$U1248)","v":0},null,null,{"$f":"V1248*F1248","v":0}]
[null,null,null,null,{"$f":"IF(ISBLANK(A1249),0,VLOOKUP(A1249,'EQUIPMENT INVENTORY'!$B$7:$AK$1021,7,0))","v":0},{"$f":"IF(ISBLANK(A1249),0,VLOOKUP(A1249,'EQUIPMENT INVENTORY'!$B$7:$AK$1021,8,0))","v":0},null,null,null,null,null,null,null,null,null,null,null,null,null,null,null,{"$f":"SUM($G1249:$U1249)","v":0},null,null,{"$f":"V1249*F1249","v":0}]
[null,null,null,null,{"$f":"IF(ISBLANK(A1250),0,VLOOKUP(A1250,'EQUIPMENT INVENTORY'!$B$7:$AK$1021,7,0))","v":0},{"$f":"IF(ISBLANK(A1250),0,VLOOKUP(A1250,'EQUIPMENT INVENTORY'!$B$7:$AK$1021,8,0))","v":0},null,null,null,null,null,null,null,null,null,null,null,null,null,null,null,{"$f":"SUM($G1250:$U1250)","v":0},null,null,{"$f":"V1250*F1250","v":0}]
[null,"REG",{"$f":"IF(ISBLANK(A1251),0,VLOOKUP(A1251,'PAYROLL RECORD'!$B$8:$U$2005,18,FALSE))","v":0},{"$f":"IF(ISBLANK(A1251),0,VLOOKUP(A1251,'PAYROLL RECORD'!$B$8:$D$2005,3,FALSE))","v":0},null,null,null,null,null,null,null,null,null,null,null,null,null,null,null,null,null,{"$f":"SUM($G1251:$U1251)","v":0},null,null,{"$f":"IF(AND($M$5=\"A\",D1251<>\"FT\"),C1251*V1251,0)+IF(AND($M$5=\"B\",D1251<>\"FT\"),C1251*V1251,0)+IF(AND($M$5=\"AP\"),C1251*V1251,0)+IF($M$5>=\"C\",C1251*V1251)","v":0}]
[{"$f":"IF(ISBLANK(A1251),\" \",VLOOKUP(A1251,'PAYROLL RECORD'!$B$9:$C$10740,2,FALSE))","v":" "},"OT1",{"$f":"IF(ISBLANK(A1251),0,VLOOKUP(A1251,'PAYROLL RECORD'!$B$8:$U$2005,19,FALSE))","v":0},{"$f":"+D1251","v":0},null,null,null,null,null,null,null,null,null,null,null,null,null,null,null,null,null,null,{"$f":"SUM(G1252:U1252)","v":0},null,null,{"$f":"W1252*C1252","v":0}]
[null,"OT2",{"$f":"IF(ISBLANK(A1251),0,VLOOKUP(A1251,'PAYROLL RECORD'!$B$8:$U$2005,20,FALSE))","v":0},{"$f":"+D1252","v":0},null,null,null,null,null,null,null,null,null,null,null,null,null,null,null,null,null,null,null,{"$f":"SUM(G1253:U1253)","v":0},null,null,{"$f":"X1253*C1253","v":0}]
[null,null,null,null,{"$f":"IF(ISBLANK(A1254),0,VLOOKUP(A1254,'EQUIPMENT INVENTORY'!$B$7:$AK$1021,7,0))","v":0},{"$f":"IF(ISBLANK(A1254),0,VLOOKUP(A1254,'EQUIPMENT INVENTORY'!$B$7:$AK$1021,8,0))","v":0},null,null,null,null,null,null,null,null,null,null,null,null,null,null,null,{"$f":"SUM($G1254:$U1254)","v":0},null,null,{"$f":"V1254*F1254","v":0}]
[null,null,null,null,{"$f":"IF(ISBLANK(A1255),0,VLOOKUP(A1255,'EQUIPMENT INVENTORY'!$B$7:$AK$1021,7,0))","v":0},{"$f":"IF(ISBLANK(A1255),0,VLOOKUP(A1255,'EQUIPMENT INVENTORY'!$B$7:$AK$1021,8,0))","v":0},null,null,null,null,null,null,null,null,null,null,null,null,null,null,null,{"$f":"SUM($G1255:$U1255)","v":0},null,null,{"$f":"V1255*F1255","v":0}]
[null,null,null,null,{"$f":"IF(ISBLANK(A1256),0,VLOOKUP(A1256,'EQUIPMENT INVENTORY'!$B$7:$AK$1021,7,0))","v":0},{"$f":"IF(ISBLANK(A1256),0,VLOOKUP(A1256,'EQUIPMENT INVENTORY'!$B$7:$AK$1021,8,0))","v":0},null,null,null,null,null,null,null,null,null,null,null,null,null,null,null,{"$f":"SUM($G1256:$U1256)","v":0},null,null,{"$f":"V1256*F1256","v":0}]
[null,"REG",{"$f":"IF(ISBLANK(A1257),0,VLOOKUP(A1257,'PAYROLL RECORD'!$B$8:$U$2005,18,FALSE))","v":0},{"$f":"IF(ISBLANK(A1257),0,VLOOKUP(A1257,'PAYROLL RECORD'!$B$8:$D$2005,3,FALSE))","v":0},null,null,null,null,null,null,null,null,null,null,null,null,null,null,null,null,null,{"$f":"SUM($G1257:$U1257)","v":0},null,null,{"$f":"IF(AND($M$5=\"A\",D1257<>\"FT\"),C1257*V1257,0)+IF(AND($M$5=\"B\",D1257<>\"FT\"),C1257*V1257,0)+IF(AND($M$5=\"AP\"),C1257*V1257,0)+IF($M$5>=\"C\",C1257*V1257)","v":0}]
[{"$f":"IF(ISBLANK(A1257),\" \",VLOOKUP(A1257,'PAYROLL RECORD'!$B$9:$C$10740,2,FALSE))","v":" "},"OT1",{"$f":"IF(ISBLANK(A1257),0,VLOOKUP(A1257,'PAYROLL RECORD'!$B$8:$U$2005,19,FALSE))","v":0},{"$f":"+D1257","v":0},null,null,null,null,null,null,null,null,null,null,null,null,null,null,null,null,null,null,{"$f":"SUM(G1258:U1258)","v":0},null,null,{"$f":"W1258*C1258","v":0}]
[null,"OT2",{"$f":"IF(ISBLANK(A1257),0,VLOOKUP(A1257,'PAYROLL RECORD'!$B$8:$U$2005,20,FALSE))","v":0},{"$f":"+D1258","v":0},null,null,null,null,null,null,null,null,null,null,null,null,null,null,null,null,null,null,null,{"$f":"SUM(G1259:U1259)","v":0},null,null,{"$f":"X1259*C1259","v":0}]
[null,null,null,null,{"$f":"IF(ISBLANK(A1260),0,VLOOKUP(A1260,'EQUIPMENT INVENTORY'!$B$7:$AK$1021,7,0))","v":0},{"$f":"IF(ISBLANK(A1260),0,VLOOKUP(A1260,'EQUIPMENT INVENTORY'!$B$7:$AK$1021,8,0))","v":0},null,null,null,null,null,null,null,null,null,null,null,null,null,null,null,{"$f":"SUM($G1260:$U1260)","v":0},null,null,{"$f":"V1260*F1260","v":0}]
[null,null,null,null,{"$f":"IF(ISBLANK(A1261),0,VLOOKUP(A1261,'EQUIPMENT INVENTORY'!$B$7:$AK$1021,7,0))","v":0},{"$f":"IF(ISBLANK(A1261),0,VLOOKUP(A1261,'EQUIPMENT INVENTORY'!$B$7:$AK$1021,8,0))","v":0},null,null,null,null,null,null,null,null,null,null,null,null,null,null,null,{"$f":"SUM($G1261:$U1261)","v":0},null,null,{"$f":"V1261*F1261","v":0}]
[null,null,null,null,{"$f":"IF(ISBLANK(A1262),0,VLOOKUP(A1262,'EQUIPMENT INVENTORY'!$B$7:$AK$1021,7,0))","v":0},{"$f":"IF(ISBLANK(A1262),0,VLOOKUP(A1262,'EQUIPMENT INVENTORY'!$B$7:$AK$1021,8,0))","v":0},null,null,null,null,null,null,null,null,null,null,null,null,null,null,null,{"$f":"SUM($G1262:$U1262)","v":0},null,null,{"$f":"V1262*F1262","v":0}]
[null,"REG",{"$f":"IF(ISBLANK(A1263),0,VLOOKUP(A1263,'PAYROLL RECORD'!$B$8:$U$2005,18,FALSE))","v":0},{"$f":"IF(ISBLANK(A1263),0,VLOOKUP(A1263,'PAYROLL RECORD'!$B$8:$D$2005,3,FALSE))","v":0},null,null,null,null,null,null,null,null,null,null,null,null,null,null,null,null,null,{"$f":"SUM($G1263:$U1263)","v":0},null,null,{"$f":"IF(AND($M$5=\"A\",D1263<>\"FT\"),C1263*V1263,0)+IF(AND($M$5=\"B\",D1263<>\"FT\"),C1263*V1263,0)+IF(AND($M$5=\"AP\"),C1263*V1263,0)+IF($M$5>=\"C\",C1263*V1263)","v":0}]
[{"$f":"IF(ISBLANK(A1263),\" \",VLOOKUP(A1263,'PAYROLL RECORD'!$B$9:$C$10740,2,FALSE))","v":" "},"OT1",{"$f":"IF(ISBLANK(A1263),0,VLOOKUP(A1263,'PAYROLL RECORD'!$B$8:$U$2005,19,FALSE))","v":0},{"$f":"+D1263","v":0},null,null,null,null,null,null,null,null,null,null,null,null,null,null,null,null,null,null,{"$f":"SUM(G1264:U1264)","v":0},null,null,{"$f":"W1264*C1264","v":0}]
[null,"OT2",{"$f":"IF(ISBLANK(A1263),0,VLOOKUP(A1263,'PAYROLL RECORD'!$B$8:$U$2005,20,FALSE))","v":0},{"$f":"+D1264","v":0},null,null,null,null,null,null,null,null,null,null,null,null,null,null,null,null,null,null,null,{"$f":"SUM(G1265:U1265)","v":0},null,null,{"$f":"X1265*C1265","v":0}]
[null,null,null,null,{"$f":"IF(ISBLANK(A1266),0,VLOOKUP(A1266,'EQUIPMENT INVENTORY'!$B$7:$AK$1021,7,0))","v":0},{"$f":"IF(ISBLANK(A1266),0,VLOOKUP(A1266,'EQUIPMENT INVENTORY'!$B$7:$AK$1021,8,0))","v":0},null,null,null,null,null,null,null,null,null,null,null,null,null,null,null,{"$f":"SUM($G1266:$U1266)","v":0},null,null,{"$f":"V1266*F1266","v":0}]
[null,null,null,null,{"$f":"IF(ISBLANK(A1267),0,VLOOKUP(A1267,'EQUIPMENT INVENTORY'!$B$7:$AK$1021,7,0))","v":0},{"$f":"IF(ISBLANK(A1267),0,VLOOKUP(A1267,'EQUIPMENT INVENTORY'!$B$7:$AK$1021,8,0))","v":0},null,null,null,null,null,null,null,null,null,null,null,null,null,null,null,{"$f":"SUM($G1267:$U1267)","v":0},null,null,{"$f":"V1267*F1267","v":0}]
[null,null,null,null,{"$f":"IF(ISBLANK(A1268),0,VLOOKUP(A1268,'EQUIPMENT INVENTORY'!$B$7:$AK$1021,7,0))","v":0},{"$f":"IF(ISBLANK(A1268),0,VLOOKUP(A1268,'EQUIPMENT INVENTORY'!$B$7:$AK$1021,8,0))","v":0},null,null,null,null,null,null,null,null,null,null,null,null,null,null,null,{"$f":"SUM($G1268:$U1268)","v":0},null,null,{"$f":"V1268*F1268","v":0}]
[null,"REG",{"$f":"IF(ISBLANK(A1269),0,VLOOKUP(A1269,'PAYROLL RECORD'!$B$8:$U$2005,18,FALSE))","v":0},{"$f":"IF(ISBLANK(A1269),0,VLOOKUP(A1269,'PAYROLL RECORD'!$B$8:$D$2005,3,FALSE))","v":0},null,null,null,null,null,null,null,null,null,null,null,null,null,null,null,null,null,{"$f":"SUM($G1269:$U1269)","v":0},null,null,{"$f":"IF(AND($M$5=\"A\",D1269<>\"FT\"),C1269*V1269,0)+IF(AND($M$5=\"B\",D1269<>\"FT\"),C1269*V1269,0)+IF(AND($M$5=\"AP\"),C1269*V1269,0)+IF($M$5>=\"C\",C1269*V1269)","v":0}]
[{"$f":"IF(ISBLANK(A1269),\" \",VLOOKUP(A1269,'PAYROLL RECORD'!$B$9:$C$10740,2,FALSE))","v":" "},"OT1",{"$f":"IF(ISBLANK(A1269),0,VLOOKUP(A1269,'PAYROLL RECORD'!$B$8:$U$2005,19,FALSE))","v":0},{"$f":"+D1269","v":0},null,null,null,null,null,null,null,null,null,null,null,null,null,null,null,null,null,null,{"$f":"SUM(G1270:U1270)","v":0},null,null,{"$f":"W1270*C1270","v":0}]
[null,"OT2",{"$f":"IF(ISBLANK(A1269),0,VLOOKUP(A1269,'PAYROLL RECORD'!$B$8:$U$2005,20,FALSE))","v":0},{"$f":"+D1270","v":0},null,null,null,null,null,null,null,null,null,null,null,null,null,null,null,null,null,null,null,{"$f":"SUM(G1271:U1271)","v":0},null,null,{"$f":"X1271*C1271","v":0}]
[null,null,null,null,{"$f":"IF(ISBLANK(A1272),0,VLOOKUP(A1272,'EQUIPMENT INVENTORY'!$B$7:$AK$1021,7,0))","v":0},{"$f":"IF(ISBLANK(A1272),0,VLOOKUP(A1272,'EQUIPMENT INVENTORY'!$B$7:$AK$1021,8,0))","v":0},null,null,null,null,null,null,null,null,null,null,null,null,null,null,null,{"$f":"SUM($G1272:$U1272)","v":0},null,null,{"$f":"V1272*F1272","v":0}]
[null,null,null,null,{"$f":"IF(ISBLANK(A1273),0,VLOOKUP(A1273,'EQUIPMENT INVENTORY'!$B$7:$AK$1021,7,0))","v":0},{"$f":"IF(ISBLANK(A1273),0,VLOOKUP(A1273,'EQUIPMENT INVENTORY'!$B$7:$AK$1021,8,0))","v":0},null,null,null,null,null,null,null,null,null,null,null,null,null,null,null,{"$f":"SUM($G1273:$U1273)","v":0},null,null,{"$f":"V1273*F1273","v":0}]
[null,null,null,null,{"$f":"IF(ISBLANK(A1274),0,VLOOKUP(A1274,'EQUIPMENT INVENTORY'!$B$7:$AK$1021,7,0))","v":0},{"$f":"IF(ISBLANK(A1274),0,VLOOKUP(A1274,'EQUIPMENT INVENTORY'!$B$7:$AK$1021,8,0))","v":0},null,null,null,null,null,null,null,null,null,null,null,null,null,null,null,{"$f":"SUM($G1274:$U1274)","v":0},null,null,{"$f":"V1274*F1274","v":0}]
[null,"REG",{"$f":"IF(ISBLANK(A1275),0,VLOOKUP(A1275,'PAYROLL RECORD'!$B$8:$U$2005,18,FALSE))","v":0},{"$f":"IF(ISBLANK(A1275),0,VLOOKUP(A1275,'PAYROLL RECORD'!$B$8:$D$2005,3,FALSE))","v":0},null,null,null,null,null,null,null,null,null,null,null,null,null,null,null,null,null,{"$f":"SUM($G1275:$U1275)","v":0},null,null,{"$f":"IF(AND($M$5=\"A\",D1275<>\"FT\"),C1275*V1275,0)+IF(AND($M$5=\"B\",D1275<>\"FT\"),C1275*V1275,0)+IF(AND($M$5=\"AP\"),C1275*V1275,0)+IF($M$5>=\"C\",C1275*V1275)","v":0}]
[{"$f":"IF(ISBLANK(A1275),\" \",VLOOKUP(A1275,'PAYROLL RECORD'!$B$9:$C$10740,2,FALSE))","v":" "},"OT1",{"$f":"IF(ISBLANK(A1275),0,VLOOKUP(A1275,'PAYROLL RECORD'!$B$8:$U$2005,19,FALSE))","v":0},{"$f":"+D1275","v":0},null,null,null,null,null,null,null,null,null,null,null,null,null,null,null,null,null,null,{"$f":"SUM(G1276:U1276)","v":0},null,null,{"$f":"W1276*C1276","v":0}]
[null,"OT2",{"$f":"IF(ISBLANK(A1275),0,VLOOKUP(A1275,'PAYROLL RECORD'!$B$8:$U$2005,20,FALSE))","v":0},{"$f":"+D1276","v":0},null,null,null,null,null,null,null,null,null,null,null,null,null,null,null,null,null,null,null,{"$f":"SUM(G1277:U1277)","v":0},null,null,{"$f":"X1277*C1277","v":0}]
[null,null,null,null,{"$f":"IF(ISBLANK(A1278),0,VLOOKUP(A1278,'EQUIPMENT INVENTORY'!$B$7:$AK$1021,7,0))","v":0},{"$f":"IF(ISBLANK(A1278),0,VLOOKUP(A1278,'EQUIPMENT INVENTORY'!$B$7:$AK$1021,8,0))","v":0},null,null,null,null,null,null,null,null,null,null,null,null,null,null,null,{"$f":"SUM($G1278:$U1278)","v":0},null,null,{"$f":"V1278*F1278","v":0}]
[null,null,null,null,{"$f":"IF(ISBLANK(A1279),0,VLOOKUP(A1279,'EQUIPMENT INVENTORY'!$B$7:$AK$1021,7,0))","v":0},{"$f":"IF(ISBLANK(A1279),0,VLOOKUP(A1279,'EQUIPMENT INVENTORY'!$B$7:$AK$1021,8,0))","v":0},null,null,null,null,null,null,null,null,null,null,null,null,null,null,null,{"$f":"SUM($G1279:$U1279)","v":0},null,null,{"$f":"V1279*F1279","v":0}]
[null,null,null,null,{"$f":"IF(ISBLANK(A1280),0,VLOOKUP(A1280,'EQUIPMENT INVENTORY'!$B$7:$AK$1021,7,0))","v":0},{"$f":"IF(ISBLANK(A1280),0,VLOOKUP(A1280,'EQUIPMENT INVENTORY'!$B$7:$AK$1021,8,0))","v":0},null,null,null,null,null,null,null,null,null,null,null,null,null,null,null,{"$f":"SUM($G1280:$U1280)","v":0},null,null,{"$f":"V1280*F1280","v":0}]
[null,"REG",{"$f":"IF(ISBLANK(A1281),0,VLOOKUP(A1281,'PAYROLL RECORD'!$B$8:$U$2005,18,FALSE))","v":0},{"$f":"IF(ISBLANK(A1281),0,VLOOKUP(A1281,'PAYROLL RECORD'!$B$8:$D$2005,3,FALSE))","v":0},null,null,null,null,null,null,null,null,null,null,null,null,null,null,null,null,null,{"$f":"SUM($G1281:$U1281)","v":0},null,null,{"$f":"IF(AND($M$5=\"A\",D1281<>\"FT\"),C1281*V1281,0)+IF(AND($M$5=\"B\",D1281<>\"FT\"),C1281*V1281,0)+IF(AND($M$5=\"AP\"),C1281*V1281,0)+IF($M$5>=\"C\",C1281*V1281)","v":0}]
[{"$f":"IF(ISBLANK(A1281),\" \",VLOOKUP(A1281,'PAYROLL RECORD'!$B$9:$C$10740,2,FALSE))","v":" "},"OT1",{"$f":"IF(ISBLANK(A1281),0,VLOOKUP(A1281,'PAYROLL RECORD'!$B$8:$U$2005,19,FALSE))","v":0},{"$f":"+D1281","v":0},null,null,null,null,null,null,null,null,null,null,null,null,null,null,null,null,null,null,{"$f":"SUM(G1282:U1282)","v":0},null,null,{"$f":"W1282*C1282","v":0}]
[null,"OT2",{"$f":"IF(ISBLANK(A1281),0,VLOOKUP(A1281,'PAYROLL RECORD'!$B$8:$U$2005,20,FALSE))","v":0},{"$f":"+D1282","v":0},null,null,null,null,null,null,null,null,null,null,null,null,null,null,null,null,null,null,null,{"$f":"SUM(G1283:U1283)","v":0},null,null,{"$f":"X1283*C1283","v":0}]
[null,null,null,null,{"$f":"IF(ISBLANK(A1284),0,VLOOKUP(A1284,'EQUIPMENT INVENTORY'!$B$7:$AK$1021,7,0))","v":0},{"$f":"IF(ISBLANK(A1284),0,VLOOKUP(A1284,'EQUIPMENT INVENTORY'!$B$7:$AK$1021,8,0))","v":0},null,null,null,null,null,null,null,null,null,null,null,null,null,null,null,{"$f":"SUM($G1284:$U1284)","v":0},null,null,{"$f":"V1284*F1284","v":0}]
[null,null,null,null,{"$f":"IF(ISBLANK(A1285),0,VLOOKUP(A1285,'EQUIPMENT INVENTORY'!$B$7:$AK$1021,7,0))","v":0},{"$f":"IF(ISBLANK(A1285),0,VLOOKUP(A1285,'EQUIPMENT INVENTORY'!$B$7:$AK$1021,8,0))","v":0},null,null,null,null,null,null,null,null,null,null,null,null,null,null,null,{"$f":"SUM($G1285:$U1285)","v":0},null,null,{"$f":"V1285*F1285","v":0}]
[null,null,null,null,{"$f":"IF(ISBLANK(A1286),0,VLOOKUP(A1286,'EQUIPMENT INVENTORY'!$B$7:$AK$1021,7,0))","v":0},{"$f":"IF(ISBLANK(A1286),0,VLOOKUP(A1286,'EQUIPMENT INVENTORY'!$B$7:$AK$1021,8,0))","v":0},null,null,null,null,null,null,null,null,null,null,null,null,null,null,null,{"$f":"SUM($G1286:$U1286)","v":0},null,null,{"$f":"V1286*F1286","v":0}]
[null,"REG",{"$f":"IF(ISBLANK(A1287),0,VLOOKUP(A1287,'PAYROLL RECORD'!$B$8:$U$2005,18,FALSE))","v":0},{"$f":"IF(ISBLANK(A1287),0,VLOOKUP(A1287,'PAYROLL RECORD'!$B$8:$D$2005,3,FALSE))","v":0},null,null,null,null,null,null,null,null,null,null,null,null,null,null,null,null,null,{"$f":"SUM($G1287:$U1287)","v":0},null,null,{"$f":"IF(AND($M$5=\"A\",D1287<>\"FT\"),C1287*V1287,0)+IF(AND($M$5=\"B\",D1287<>\"FT\"),C1287*V1287,0)+IF(AND($M$5=\"AP\"),C1287*V1287,0)+IF($M$5>=\"C\",C1287*V1287)","v":0}]
[{"$f":"IF(ISBLANK(A1287),\" \",VLOOKUP(A1287,'PAYROLL RECORD'!$B$9:$C$10740,2,FALSE))","v":" "},"OT1",{"$f":"IF(ISBLANK(A1287),0,VLOOKUP(A1287,'PAYROLL RECORD'!$B$8:$U$2005,19,FALSE))","v":0},{"$f":"+D1287","v":0},null,null,null,null,null,null,null,null,null,null,null,null,null,null,null,null,null,null,{"$f":"SUM(G1288:U1288)","v":0},null,null,{"$f":"W1288*C1288","v":0}]
[null,"OT2",{"$f":"IF(ISBLANK(A1287),0,VLOOKUP(A1287,'PAYROLL RECORD'!$B$8:$U$2005,20,FALSE))","v":0},{"$f":"+D1288","v":0},null,null,null,null,null,null,null,null,null,null,null,null,null,null,null,null,null,null,null,{"$f":"SUM(G1289:U1289)","v":0},null,null,{"$f":"X1289*C1289","v":0}]
[null,null,null,null,{"$f":"IF(ISBLANK(A1290),0,VLOOKUP(A1290,'EQUIPMENT INVENTORY'!$B$7:$AK$1021,7,0))","v":0},{"$f":"IF(ISBLANK(A1290),0,VLOOKUP(A1290,'EQUIPMENT INVENTORY'!$B$7:$AK$1021,8,0))","v":0},null,null,null,null,null,null,null,null,null,null,null,null,null,null,null,{"$f":"SUM($G1290:$U1290)","v":0},null,null,{"$f":"V1290*F1290","v":0}]
[null,null,null,null,{"$f":"IF(ISBLANK(A1291),0,VLOOKUP(A1291,'EQUIPMENT INVENTORY'!$B$7:$AK$1021,7,0))","v":0},{"$f":"IF(ISBLANK(A1291),0,VLOOKUP(A1291,'EQUIPMENT INVENTORY'!$B$7:$AK$1021,8,0))","v":0},null,null,null,null,null,null,null,null,null,null,null,null,null,null,null,{"$f":"SUM($G1291:$U1291)","v":0},null,null,{"$f":"V1291*F1291","v":0}]
[null,null,null,null,{"$f":"IF(ISBLANK(A1292),0,VLOOKUP(A1292,'EQUIPMENT INVENTORY'!$B$7:$AK$1021,7,0))","v":0},{"$f":"IF(ISBLANK(A1292),0,VLOOKUP(A1292,'EQUIPMENT INVENTORY'!$B$7:$AK$1021,8,0))","v":0},null,null,null,null,null,null,null,null,null,null,null,null,null,null,null,{"$f":"SUM($G1292:$U1292)","v":0},null,null,{"$f":"V1292*F1292","v":0},null,null,"Reg hrs","ot1 hrs","ot2 hrs","equip hrs"]
[null,null,null,null,null,null,null,null,null,null,null,null,null,null,null,null,"LABOR - Page Total",null,null,null,null,{"$f":"V1245+V1251+V1257+V1269+V1275+V1287+V1263+V1281","v":0},{"$f":"SUM(W1245:W1292)","v":0},{"$f":"SUM(X1245:X1292)","v":0},{"$f":"Y1245+Y1251+Y1257+Y1269+Y1275+Y1287+Y1263+Y1281","v":0},{"$f":"SUM(Z1246:Z1292)","v":0},{"$f":"SUM(AA1246:AA1292)","v":0},{"$f":"V1293","v":0},{"$f":"W1293","v":0},{"$f":"X1293","v":0},{"$f":"V1294","v":0},{"$f":"Y1293","v":0},{"$f":"Z1293","v":0},{"$f":"AA1293","v":0},{"$f":"Y1294","v":0}]
[null,null,null,null,null,null,null,null,null,null,null,null,null,null,null,null,"EQUIPMENT - Page Total",null,null,null,null,{"$f":"V1248+V1249+V1250+V1254+V1255+V1256+V1260+V1261+V1262+V1266+V1267+V1268+V1272+V1273+V1274+V1278+V1279+V1280+V1290+V1291+V1292+V1284+V1285+V1286","v":0},null,null,{"$f":"Y1248+Y1249+Y1250+Y1254+Y1255+Y1256+Y1260+Y1261+Y1262+Y1266+Y1267+Y1268+Y1272+Y1273+Y1274+Y1278+Y1279+Y1280+Y1290+Y1291+Y1292+Y1284+Y1285+Y1286","v":0}]
[null,null,null,null,null,null,null,null,null,null,null,null,null,null,null,null,"LABOR - Grand Total",null,null,null,null,{"$f":"SUM($AB:$AB)","v":0},{"$f":"SUM($AC:$AC)","v":0},{"$f":"SUM($AD:$AD)","v":0},{"$f":"SUM(AF:AF)","v":0},{"$f":"SUM($AG:$AG)","v":0},{"$f":"SUM($AH:$AH)","v":0}]
[null,null,null,null,null,null,null,null,null,null,null,null,null,null,null,null,"EQUIPMENT - Grand Total",null,null,null,null,{"$f":"SUM($AE:$AE)","v":0},null,null,{"$f":"SUM($AI:$AI)","v":0}]
[]
[]
["COST SUMMARY FOR LABOR/EQUIPMENT"]
["APPLICANT - FIPS#",null,null,null,"DISASTER #:",null,null,"PROJECT #:",null,null,null,null,"FEMA CAT A-G",null,null,"EMMIE #",null,null,null,"Work Completion Date"]
[{"$f":"IF('PAYROLL RECORD'!$B$5=\"START HERE\",\"\",'PAYROLL RECORD'!$B$5)","v":0},null,null,null,{"$f":"IF('PAYROLL RECORD'!$F$5=\"\",\"\",'PAYROLL RECORD'!$F$5)","v":""},null,null,{"$f":"'PAYROLL RECORD'!I1300:L1300","v":{"$error":"#VALUE!"}},null,null,null,null,{"$f":"IF('PAYROLL RECORD'!$M$5=\"CATEGORY\",\"\",'PAYROLL RECORD'!$M$5)","v":0},null,null,{"$f":"IF('PAYROLL RECORD'!$O$5=\"EMMIE #\",\"\",'PAYROLL RECORD'!$O$5)","v":0},null,null,null,{"$f":"IF('PAYROLL RECORD'!$Q$5=\"DATE\",\"\",'PAYROLL RECORD'!$Q$5)","v":"00:00:00"}]
["Employee/\nEquipment",null,"RATE w/","STATUS","COST CODE","RATE","2018-10-31",{"$f":"+G1302+1","v":"2018-11-01"},{"$f":"H1302+1","v":"2018-11-02"},"2018-11-03","2018-11-04","2018-11-05","2018-11-06","2018-11-07","2018-11-08","2018-11-09","2018-11-10","2018-11-11","2018-11-12","2018-11-13","2018-11-14","REG","OT1","OT2","REG TIME\nCOST","OT1\nCOST","OT2\nCOST"]
[null,null,"FRINGE",null,null,null,{"$f":"IF(G1302<=0,\"\",TEXT(WEEKDAY(G1302),\"ddd\"))","v":"Wed"},{"$f":"IF(H1302<=0,\"\",TEXT(WEEKDAY(H1302),\"ddd\"))","v":"Thu"},"Fri","Sat","Sun","Mon","Tue","Wed","Thu","Fri","Sat","Sun","Mon","Tue","Wed"]
[null,"REG",{"$f":"IF(ISBLANK(A1304),0,VLOOKUP(A1304,'PAYROLL RECORD'!$B$8:$U$2005,18,FALSE))","v":0},{"$f":"IF(ISBLANK(A1304),0,VLOOKUP(A1304,'PAYROLL RECORD'!$B$8:$D$2005,3,FALSE))","v":0},null,null,null,null,null,null,null,null,null,null,null,null,null,null,null,null,null,{"$f":"SUM($G1304:$U1304)","v":0},null,null,{"$f":"IF(AND($M$5=\"A\",D1304<>\"FT\"),C1304*V1304,0)+IF(AND($M$5=\"B\",D1304<>\"FT\"),C1304*V1304,0)+IF(AND($M$5=\"AP\"),C1304*V1304,0)+IF($M$5>=\"C\",C1304*V1304)","v":0}]
[{"$f":"IF(ISBLANK(A1304),\" \",VLOOKUP(A1304,'PAYROLL RECORD'!$B$9:$C$10740,2,FALSE))","v":" "},"OT1",{"$f":"IF(ISBLANK(A1304),0,VLOOKUP(A1304,'PAYROLL RECORD'!$B$8:$U$2005,19,FALSE))","v":0},{"$f":"+D1304","v":0},null,null,null,null,null,null,null,null,null,null,null,null,null,null,null,null,null,null,{"$f":"SUM(G1305:U1305)","v":0},null,null,{"$f":"W1305*C1305","v":0}]
[null,"OT2",{"$f":"IF(ISBLANK(A1304),0,VLOOKUP(A1304,'PAYROLL RECORD'!$B$8:$U$2005,20,FALSE))","v":0},{"$f":"+D1305","v":0},null,null,null,null,null,null,null,null,null,null,null,null,null,null,null,null,null,null,null,{"$f":"SUM(G1306:U1306)","v":0},null,null,{"$f":"X1306*C1306","v":0}]
[null,null,null,null,{"$f":"IF(ISBLANK(A1307),0,VLOOKUP(A1307,'EQUIPMENT INVENTORY'!$B$7:$AK$1021,7,0))","v":0},{"$f":"IF(ISBLANK(A1307),0,VLOOKUP(A1307,'EQUIPMENT INVENTORY'!$B$7:$AK$1021,8,0))","v":0},null,null,null,null,null,null,null,null,null,null,null,null,null,null,null,{"$f":"SUM($G1307:$U1307)","v":0},null,null,{"$f":"V1307*F1307","v":0}]
[null,null,null,null,{"$f":"IF(ISBLANK(A1308),0,VLOOKUP(A1308,'EQUIPMENT INVENTORY'!$B$7:$AK$1021,7,0))","v":0},{"$f":"IF(ISBLANK(A1308),0,VLOOKUP(A1308,'EQUIPMENT INVENTORY'!$B$7:$AK$1021,8,0))","v":0},null,null,null,null,null,null,null,null,null,null,null,null,null,null,null,{"$f":"SUM($G1308:$U1308)","v":0},null,null,{"$f":"V1308*F1308","v":0}]
[null,null,null,null,{"$f":"IF(ISBLANK(A1309),0,VLOOKUP(A1309,'EQUIPMENT INVENTORY'!$B$7:$AK$1021,7,0))","v":0},{"$f":"IF(ISBLANK(A1309),0,VLOOKUP(A1309,'EQUIPMENT INVENTORY'!$B$7:$AK$1021,8,0))","v":0},null,null,null,null,null,null,null,null,null,null,null,null,null,null,null,{"$f":"SUM($G1309:$U1309)","v":0},null,null,{"$f":"V1309*F1309","v":0}]
[null,"REG",{"$f":"IF(ISBLANK(A1310),0,VLOOKUP(A1310,'PAYROLL RECORD'!$B$8:$U$2005,18,FALSE))","v":0},{"$f":"IF(ISBLANK(A1310),0,VLOOKUP(A1310,'PAYROLL RECORD'!$B$8:$D$2005,3,FALSE))","v":0},null,null,null,null,null,null,null,null,null,null,null,null,null,null,null,null,null,{"$f":"SUM($G1310:$U1310)","v":0},null,null,{"$f":"IF(AND($M$5=\"A\",D1310<>\"FT\"),C1310*V1310,0)+IF(AND($M$5=\"B\",D1310<>\"FT\"),C1310*V1310,0)+IF(AND($M$5=\"AP\"),C1310*V1310,0)+IF($M$5>=\"C\",C1310*V1310)","v":0}]
[{"$f":"IF(ISBLANK(A1310),\" \",VLOOKUP(A1310,'PAYROLL RECORD'!$B$9:$C$10740,2,FALSE))","v":" "},"OT1",{"$f":"IF(ISBLANK(A1310),0,VLOOKUP(A1310,'PAYROLL RECORD'!$B$8:$U$2005,19,FALSE))","v":0},{"$f":"+D1310","v":0},null,null,null,null,null,null,null,null,null,null,null,null,null,null,null,null,null,null,{"$f":"SUM(G1311:U1311)","v":0},null,null,{"$f":"W1311*C1311","v":0}]
[null,"OT2",{"$f":"IF(ISBLANK(A1310),0,VLOOKUP(A1310,'PAYROLL RECORD'!$B$8:$U$2005,20,FALSE))","v":0},{"$f":"+D1311","v":0},null,null,null,null,null,null,null,null,null,null,null,null,null,null,null,null,null,null,null,{"$f":"SUM(G1312:U1312)","v":0},null,null,{"$f":"X1312*C1312","v":0}]
[null,null,null,null,{"$f":"IF(ISBLANK(A1313),0,VLOOKUP(A1313,'EQUIPMENT INVENTORY'!$B$7:$AK$1021,7,0))","v":0},{"$f":"IF(ISBLANK(A1313),0,VLOOKUP(A1313,'EQUIPMENT INVENTORY'!$B$7:$AK$1021,8,0))","v":0},null,null,null,null,null,null,null,null,null,null,null,null,null,null,null,{"$f":"SUM($G1313:$U1313)","v":0},null,null,{"$f":"V1313*F1313","v":0}]
[null,null,null,null,{"$f":"IF(ISBLANK(A1314),0,VLOOKUP(A1314,'EQUIPMENT INVENTORY'!$B$7:$AK$1021,7,0))","v":0},{"$f":"IF(ISBLANK(A1314),0,VLOOKUP(A1314,'EQUIPMENT INVENTORY'!$B$7:$AK$1021,8,0))","v":0},null,null,null,null,null,null,null,null,null,null,null,null,null,null,null,{"$f":"SUM($G1314:$U1314)","v":0},null,null,{"$f":"V1314*F1314","v":0}]
[null,null,null,null,{"$f":"IF(ISBLANK(A1315),0,VLOOKUP(A1315,'EQUIPMENT INVENTORY'!$B$7:$AK$1021,7,0))","v":0},{"$f":"IF(ISBLANK(A1315),0,VLOOKUP(A1315,'EQUIPMENT INVENTORY'!$B$7:$AK$1021,8,0))","v":0},null,null,null,null,null,null,null,null,null,null,null,null,null,null,null,{"$f":"SUM($G1315:$U1315)","v":0},null,null,{"$f":"V1315*F1315","v":0}]
[null,"REG",{"$f":"IF(ISBLANK(A1316),0,VLOOKUP(A1316,'PAYROLL RECORD'!$B$8:$U$2005,18,FALSE))","v":0},{"$f":"IF(ISBLANK(A1316),0,VLOOKUP(A1316,'PAYROLL RECORD'!$B$8:$D$2005,3,FALSE))","v":0},null,null,null,null,null,null,null,null,null,null,null,null,null,null,null,null,null,{"$f":"SUM($G1316:$U1316)","v":0},null,null,{"$f":"IF(AND($M$5=\"A\",D1316<>\"FT\"),C1316*V1316,0)+IF(AND($M$5=\"B\",D1316<>\"FT\"),C1316*V1316,0)+IF(AND($M$5=\"AP\"),C1316*V1316,0)+IF($M$5>=\"C\",C1316*V1316)","v":0}]
[{"$f":"IF(ISBLANK(A1316),\" \",VLOOKUP(A1316,'PAYROLL RECORD'!$B$9:$C$10740,2,FALSE))","v":" "},"OT1",{"$f":"IF(ISBLANK(A1316),0,VLOOKUP(A1316,'PAYROLL RECORD'!$B$8:$U$2005,19,FALSE))","v":0},{"$f":"+D1316","v":0},null,null,null,null,null,null,null,null,null,null,null,null,null,null,null,null,null,null,{"$f":"SUM(G1317:U1317)","v":0},null,null,{"$f":"W1317*C1317","v":0}]
[null,"OT2",{"$f":"IF(ISBLANK(A1316),0,VLOOKUP(A1316,'PAYROLL RECORD'!$B$8:$U$2005,20,FALSE))","v":0},{"$f":"+D1317","v":0},null,null,null,null,null,null,null,null,null,null,null,null,null,null,null,null,null,null,null,{"$f":"SUM(G1318:U1318)","v":0},null,null,{"$f":"X1318*C1318","v":0}]
[null,null,null,null,{"$f":"IF(ISBLANK(A1319),0,VLOOKUP(A1319,'EQUIPMENT INVENTORY'!$B$7:$AK$1021,7,0))","v":0},{"$f":"IF(ISBLANK(A1319),0,VLOOKUP(A1319,'EQUIPMENT INVENTORY'!$B$7:$AK$1021,8,0))","v":0},null,null,null,null,null,null,null,null,null,null,null,null,null,null,null,{"$f":"SUM($G1319:$U1319)","v":0},null,null,{"$f":"V1319*F1319","v":0}]
[null,null,null,null,{"$f":"IF(ISBLANK(A1320),0,VLOOKUP(A1320,'EQUIPMENT INVENTORY'!$B$7:$AK$1021,7,0))","v":0},{"$f":"IF(ISBLANK(A1320),0,VLOOKUP(A1320,'EQUIPMENT INVENTORY'!$B$7:$AK$1021,8,0))","v":0},null,null,null,null,null,null,null,null,null,null,null,null,null,null,null,{"$f":"SUM($G1320:$U1320)","v":0},null,null,{"$f":"V1320*F1320","v":0}]
[null,null,null,null,{"$f":"IF(ISBLANK(A1321),0,VLOOKUP(A1321,'EQUIPMENT INVENTORY'!$B$7:$AK$1021,7,0))","v":0},{"$f":"IF(ISBLANK(A1321),0,VLOOKUP(A1321,'EQUIPMENT INVENTORY'!$B$7:$AK$1021,8,0))","v":0},null,null,null,null,null,null,null,null,null,null,null,null,null,null,null,{"$f":"SUM($G1321:$U1321)","v":0},null,null,{"$f":"V1321*F1321","v":0}]
[null,"REG",{"$f":"IF(ISBLANK(A1322),0,VLOOKUP(A1322,'PAYROLL RECORD'!$B$8:$U$2005,18,FALSE))","v":0},{"$f":"IF(ISBLANK(A1322),0,VLOOKUP(A1322,'PAYROLL RECORD'!$B$8:$D$2005,3,FALSE))","v":0},null,null,null,null,null,null,null,null,null,null,null,null,null,null,null,null,null,{"$f":"SUM($G1322:$U1322)","v":0},null,null,{"$f":"IF(AND($M$5=\"A\",D1322<>\"FT\"),C1322*V1322,0)+IF(AND($M$5=\"B\",D1322<>\"FT\"),C1322*V1322,0)+IF(AND($M$5=\"AP\"),C1322*V1322,0)+IF($M$5>=\"C\",C1322*V1322)","v":0}]
[{"$f":"IF(ISBLANK(A1322),\" \",VLOOKUP(A1322,'PAYROLL RECORD'!$B$9:$C$10740,2,FALSE))","v":" "},"OT1",{"$f":"IF(ISBLANK(A1322),0,VLOOKUP(A1322,'PAYROLL RECORD'!$B$8:$U$2005,19,FALSE))","v":0},{"$f":"+D1322","v":0},null,null,null,null,null,null,null,null,null,null,null,null,null,null,null,null,null,null,{"$f":"SUM(G1323:U1323)","v":0},null,null,{"$f":"W1323*C1323","v":0}]
[null,"OT2",{"$f":"IF(ISBLANK(A1322),0,VLOOKUP(A1322,'PAYROLL RECORD'!$B$8:$U$2005,20,FALSE))","v":0},{"$f":"+D1323","v":0},null,null,null,null,null,null,null,null,null,null,null,null,null,null,null,null,null,null,null,{"$f":"SUM(G1324:U1324)","v":0},null,null,{"$f":"X1324*C1324","v":0}]
[null,null,null,null,{"$f":"IF(ISBLANK(A1325),0,VLOOKUP(A1325,'EQUIPMENT INVENTORY'!$B$7:$AK$1021,7,0))","v":0},{"$f":"IF(ISBLANK(A1325),0,VLOOKUP(A1325,'EQUIPMENT INVENTORY'!$B$7:$AK$1021,8,0))","v":0},null,null,null,null,null,null,null,null,null,null,null,null,null,null,null,{"$f":"SUM($G1325:$U1325)","v":0},null,null,{"$f":"V1325*F1325","v":0}]
[null,null,null,null,{"$f":"IF(ISBLANK(A1326),0,VLOOKUP(A1326,'EQUIPMENT INVENTORY'!$B$7:$AK$1021,7,0))","v":0},{"$f":"IF(ISBLANK(A1326),0,VLOOKUP(A1326,'EQUIPMENT INVENTORY'!$B$7:$AK$1021,8,0))","v":0},null,null,null,null,null,null,null,null,null,null,null,null,null,null,null,{"$f":"SUM($G1326:$U1326)","v":0},null,null,{"$f":"V1326*F1326","v":0}]
[null,null,null,null,{"$f":"IF(ISBLANK(A1327),0,VLOOKUP(A1327,'EQUIPMENT INVENTORY'!$B$7:$AK$1021,7,0))","v":0},{"$f":"IF(ISBLANK(A1327),0,VLOOKUP(A1327,'EQUIPMENT INVENTORY'!$B$7:$AK$1021,8,0))","v":0},null,null,null,null,null,null,null,null,null,null,null,null,null,null,null,{"$f":"SUM($G1327:$U1327)","v":0},null,null,{"$f":"V1327*F1327","v":0}]
[null,"REG",{"$f":"IF(ISBLANK(A1328),0,VLOOKUP(A1328,'PAYROLL RECORD'!$B$8:$U$2005,18,FALSE))","v":0},{"$f":"IF(ISBLANK(A1328),0,VLOOKUP(A1328,'PAYROLL RECORD'!$B$8:$D$2005,3,FALSE))","v":0},null,null,null,null,null,null,null,null,null,null,null,null,null,null,null,null,null,{"$f":"SUM($G1328:$U1328)","v":0},null,null,{"$f":"IF(AND($M$5=\"A\",D1328<>\"FT\"),C1328*V1328,0)+IF(AND($M$5=\"B\",D1328<>\"FT\"),C1328*V1328,0)+IF(AND($M$5=\"AP\"),C1328*V1328,0)+IF($M$5>=\"C\",C1328*V1328)","v":0}]
[{"$f":"IF(ISBLANK(A1328),\" \",VLOOKUP(A1328,'PAYROLL RECORD'!$B$9:$C$10740,2,FALSE))","v":" "},"OT1",{"$f":"IF(ISBLANK(A1328),0,VLOOKUP(A1328,'PAYROLL RECORD'!$B$8:$U$2005,19,FALSE))","v":0},{"$f":"+D1328","v":0},null,null,null,null,null,null,null,null,null,null,null,null,null,null,null,null,null,null,{"$f":"SUM(G1329:U1329)","v":0},null,null,{"$f":"W1329*C1329","v":0}]
[null,"OT2",{"$f":"IF(ISBLANK(A1328),0,VLOOKUP(A1328,'PAYROLL RECORD'!$B$8:$U$2005,20,FALSE))","v":0},{"$f":"+D1329","v":0},null,null,null,null,null,null,null,null,null,null,null,null,null,null,null,null,null,null,null,{"$f":"SUM(G1330:U1330)","v":0},null,null,{"$f":"X1330*C1330","v":0}]
[null,null,null,null,{"$f":"IF(ISBLANK(A1331),0,VLOOKUP(A1331,'EQUIPMENT INVENTORY'!$B$7:$AK$1021,7,0))","v":0},{"$f":"IF(ISBLANK(A1331),0,VLOOKUP(A1331,'EQUIPMENT INVENTORY'!$B$7:$AK$1021,8,0))","v":0},null,null,null,null,null,null,null,null,null,null,null,null,null,null,null,{"$f":"SUM($G1331:$U1331)","v":0},null,null,{"$f":"V1331*F1331","v":0}]
[null,null,null,null,{"$f":"IF(ISBLANK(A1332),0,VLOOKUP(A1332,'EQUIPMENT INVENTORY'!$B$7:$AK$1021,7,0))","v":0},{"$f":"IF(ISBLANK(A1332),0,VLOOKUP(A1332,'EQUIPMENT INVENTORY'!$B$7:$AK$1021,8,0))","v":0},null,null,null,null,null,null,null,null,null,null,null,null,null,null,null,{"$f":"SUM($G1332:$U1332)","v":0},null,null,{"$f":"V1332*F1332","v":0}]
[null,null,null,null,{"$f":"IF(ISBLANK(A1333),0,VLOOKUP(A1333,'EQUIPMENT INVENTORY'!$B$7:$AK$1021,7,0))","v":0},{"$f":"IF(ISBLANK(A1333),0,VLOOKUP(A1333,'EQUIPMENT INVENTORY'!$B$7:$AK$1021,8,0))","v":0},null,null,null,null,null,null,null,null,null,null,null,null,null,null,null,{"$f":"SUM($G1333:$U1333)","v":0},null,null,{"$f":"V1333*F1333","v":0}]
[null,"REG",{"$f":"IF(ISBLANK(A1334),0,VLOOKUP(A1334,'PAYROLL RECORD'!$B$8:$U$2005,18,FALSE))","v":0},{"$f":"IF(ISBLANK(A1334),0,VLOOKUP(A1334,'PAYROLL RECORD'!$B$8:$D$2005,3,FALSE))","v":0},null,null,null,null,null,null,null,null,null,null,null,null,null,null,null,null,null,{"$f":"SUM($G1334:$U1334)","v":0},null,null,{"$f":"IF(AND($M$5=\"A\",D1334<>\"FT\"),C1334*V1334,0)+IF(AND($M$5=\"B\",D1334<>\"FT\"),C1334*V1334,0)+IF(AND($M$5=\"AP\"),C1334*V1334,0)+IF($M$5>=\"C\",C1334*V1334)","v":0}]
[{"$f":"IF(ISBLANK(A1334),\" \",VLOOKUP(A1334,'PAYROLL RECORD'!$B$9:$C$10740,2,FALSE))","v":" "},"OT1",{"$f":"IF(ISBLANK(A1334),0,VLOOKUP(A1334,'PAYROLL RECORD'!$B$8:$U$2005,19,FALSE))","v":0},{"$f":"+D1334","v":0},null,null,null,null,null,null,null,null,null,null,null,null,null,null,null,null,null,null,{"$f":"SUM(G1335:U1335)","v":0},null,null,{"$f":"W1335*C1335","v":0}]
[null,"OT2",{"$f":"IF(ISBLANK(A1334),0,VLOOKUP(A1334,'PAYROLL RECORD'!$B$8:$U$2005,20,FALSE))","v":0},{"$f":"+D1335","v":0},null,null,null,null,null,null,null,null,null,null,null,null,null,null,null,null,null,null,null,{"$f":"SUM(G1336:U1336)","v":0},null,null,{"$f":"X1336*C1336","v":0}]
[null,null,null,null,{"$f":"IF(ISBLANK(A1337),0,VLOOKUP(A1337,'EQUIPMENT INVENTORY'!$B$7:$AK$1021,7,0))","v":0},{"$f":"IF(ISBLANK(A1337),0,VLOOKUP(A1337,'EQUIPMENT INVENTORY'!$B$7:$AK$1021,8,0))","v":0},null,null,null,null,null,null,null,null,null,null,null,null,null,null,null,{"$f":"SUM($G1337:$U1337)","v":0},null,null,{"$f":"V1337*F1337","v":0}]
[null,null,null,null,{"$f":"IF(ISBLANK(A1338),0,VLOOKUP(A1338,'EQUIPMENT INVENTORY'!$B$7:$AK$1021,7,0))","v":0},{"$f":"IF(ISBLANK(A1338),0,VLOOKUP(A1338,'EQUIPMENT INVENTORY'!$B$7:$AK$1021,8,0))","v":0},null,null,null,null,null,null,null,null,null,null,null,null,null,null,null,{"$f":"SUM($G1338:$U1338)","v":0},null,null,{"$f":"V1338*F1338","v":0}]
[null,null,null,null,{"$f":"IF(ISBLANK(A1339),0,VLOOKUP(A1339,'EQUIPMENT INVENTORY'!$B$7:$AK$1021,7,0))","v":0},{"$f":"IF(ISBLANK(A1339),0,VLOOKUP(A1339,'EQUIPMENT INVENTORY'!$B$7:$AK$1021,8,0))","v":0},null,null,null,null,null,null,null,null,null,null,null,null,null,null,null,{"$f":"SUM($G1339:$U1339)","v":0},null,null,{"$f":"V1339*F1339","v":0}]
[null,"REG",{"$f":"IF(ISBLANK(A1340),0,VLOOKUP(A1340,'PAYROLL RECORD'!$B$8:$U$2005,18,FALSE))","v":0},{"$f":"IF(ISBLANK(A1340),0,VLOOKUP(A1340,'PAYROLL RECORD'!$B$8:$D$2005,3,FALSE))","v":0},null,null,null,null,null,null,null,null,null,null,null,null,null,null,null,null,null,{"$f":"SUM($G1340:$U1340)","v":0},null,null,{"$f":"IF(AND($M$5=\"A\",D1340<>\"FT\"),C1340*V1340,0)+IF(AND($M$5=\"B\",D1340<>\"FT\"),C1340*V1340,0)+IF(AND($M$5=\"AP\"),C1340*V1340,0)+IF($M$5>=\"C\",C1340*V1340)","v":0}]
[{"$f":"IF(ISBLANK(A1340),\" \",VLOOKUP(A1340,'PAYROLL RECORD'!$B$9:$C$10740,2,FALSE))","v":" "},"OT1",{"$f":"IF(ISBLANK(A1340),0,VLOOKUP(A1340,'PAYROLL RECORD'!$B$8:$U$2005,19,FALSE))","v":0},{"$f":"+D1340","v":0},null,null,null,null,null,null,null,null,null,null,null,null,null,null,null,null,null,null,{"$f":"SUM(G1341:U1341)","v":0},null,null,{"$f":"W1341*C1341","v":0}]
[null,"OT2",{"$f":"IF(ISBLANK(A1340),0,VLOOKUP(A1340,'PAYROLL RECORD'!$B$8:$U$2005,20,FALSE))","v":0},{"$f":"+D1341","v":0},null,null,null,null,null,null,null,null,null,null,null,null,null,null,null,null,null,null,null,{"$f":"SUM(G1342:U1342)","v":0},null,null,{"$f":"X1342*C1342","v":0}]
[null,null,null,null,{"$f":"IF(ISBLANK(A1343),0,VLOOKUP(A1343,'EQUIPMENT INVENTORY'!$B$7:$AK$1021,7,0))","v":0},{"$f":"IF(ISBLANK(A1343),0,VLOOKUP(A1343,'EQUIPMENT INVENTORY'!$B$7:$AK$1021,8,0))","v":0},null,null,null,null,null,null,null,null,null,null,null,null,null,null,null,{"$f":"SUM($G1343:$U1343)","v":0},null,null,{"$f":"V1343*F1343","v":0}]
[null,null,null,null,{"$f":"IF(ISBLANK(A1344),0,VLOOKUP(A1344,'EQUIPMENT INVENTORY'!$B$7:$AK$1021,7,0))","v":0},{"$f":"IF(ISBLANK(A1344),0,VLOOKUP(A1344,'EQUIPMENT INVENTORY'!$B$7:$AK$1021,8,0))","v":0},null,null,null,null,null,null,null,null,null,null,null,null,null,null,null,{"$f":"SUM($G1344:$U1344)","v":0},null,null,{"$f":"V1344*F1344","v":0}]
[null,null,null,null,{"$f":"IF(ISBLANK(A1345),0,VLOOKUP(A1345,'EQUIPMENT INVENTORY'!$B$7:$AK$1021,7,0))","v":0},{"$f":"IF(ISBLANK(A1345),0,VLOOKUP(A1345,'EQUIPMENT INVENTORY'!$B$7:$AK$1021,8,0))","v":0},null,null,null,null,null,null,null,null,null,null,null,null,null,null,null,{"$f":"SUM($G1345:$U1345)","v":0},null,null,{"$f":"V1345*F1345","v":0}]
[null,"REG",{"$f":"IF(ISBLANK(A1346),0,VLOOKUP(A1346,'PAYROLL RECORD'!$B$8:$U$2005,18,FALSE))","v":0},{"$f":"IF(ISBLANK(A1346),0,VLOOKUP(A1346,'PAYROLL RECORD'!$B$8:$D$2005,3,FALSE))","v":0},null,null,null,null,null,null,null,null,null,null,null,null,null,null,null,null,null,{"$f":"SUM($G1346:$U1346)","v":0},null,null,{"$f":"IF(AND($M$5=\"A\",D1346<>\"FT\"),C1346*V1346,0)+IF(AND($M$5=\"B\",D1346<>\"FT\"),C1346*V1346,0)+IF(AND($M$5=\"AP\"),C1346*V1346,0)+IF($M$5>=\"C\",C1346*V1346)","v":0}]
[{"$f":"IF(ISBLANK(A1346),\" \",VLOOKUP(A1346,'PAYROLL RECORD'!$B$9:$C$10740,2,FALSE))","v":" "},"OT1",{"$f":"IF(ISBLANK(A1346),0,VLOOKUP(A1346,'PAYROLL RECORD'!$B$8:$U$2005,19,FALSE))","v":0},{"$f":"+D1346","v":0},null,null,null,null,null,null,null,null,null,null,null,null,null,null,null,null,null,null,{"$f":"SUM(G1347:U1347)","v":0},null,null,{"$f":"W1347*C1347","v":0}]
[null,"OT2",{"$f":"IF(ISBLANK(A1346),0,VLOOKUP(A1346,'PAYROLL RECORD'!$B$8:$U$2005,20,FALSE))","v":0},{"$f":"+D1347","v":0},null,null,null,null,null,null,null,null,null,null,null,null,null,null,null,null,null,null,null,{"$f":"SUM(G1348:U1348)","v":0},null,null,{"$f":"X1348*C1348","v":0}]
[null,null,null,null,{"$f":"IF(ISBLANK(A1349),0,VLOOKUP(A1349,'EQUIPMENT INVENTORY'!$B$7:$AK$1021,7,0))","v":0},{"$f":"IF(ISBLANK(A1349),0,VLOOKUP(A1349,'EQUIPMENT INVENTORY'!$B$7:$AK$1021,8,0))","v":0},null,null,null,null,null,null,null,null,null,null,null,null,null,null,null,{"$f":"SUM($G1349:$U1349)","v":0},null,null,{"$f":"V1349*F1349","v":0}]
[null,null,null,null,{"$f":"IF(ISBLANK(A1350),0,VLOOKUP(A1350,'EQUIPMENT INVENTORY'!$B$7:$AK$1021,7,0))","v":0},{"$f":"IF(ISBLANK(A1350),0,VLOOKUP(A1350,'EQUIPMENT INVENTORY'!$B$7:$AK$1021,8,0))","v":0},null,null,null,null,null,null,null,null,null,null,null,null,null,null,null,{"$f":"SUM($G1350:$U1350)","v":0},null,null,{"$f":"V1350*F1350","v":0}]
[null,null,null,null,{"$f":"IF(ISBLANK(A1351),0,VLOOKUP(A1351,'EQUIPMENT INVENTORY'!$B$7:$AK$1021,7,0))","v":0},{"$f":"IF(ISBLANK(A1351),0,VLOOKUP(A1351,'EQUIPMENT INVENTORY'!$B$7:$AK$1021,8,0))","v":0},null,null,null,null,null,null,null,null,null,null,null,null,null,null,null,{"$f":"SUM($G1351:$U1351)","v":0},null,null,{"$f":"V1351*F1351","v":0},null,null,"Reg hrs","ot1 hrs","ot2 hrs","equip hrs"]
[null,null,null,null,null,null,null,null,null,null,null,null,null,null,null,null,"LABOR - Page Total",null,null,null,null,{"$f":"V1304+V1310+V1316+V1328+V1334+V1346+V1322+V1340","v":0},{"$f":"SUM(W1304:W1351)","v":0},{"$f":"SUM(X1304:X1351)","v":0},{"$f":"Y1304+Y1310+Y1316+Y1328+Y1334+Y1346+Y1322+Y1340","v":0},{"$f":"SUM(Z1305:Z1351)","v":0},{"$f":"SUM(AA1305:AA1351)","v":0},{"$f":"V1352","v":0},{"$f":"W1352","v":0},{"$f":"X1352","v":0},{"$f":"V1353","v":0},{"$f":"Y1352","v":0},{"$f":"Z1352","v":0},{"$f":"AA1352","v":0},{"$f":"Y1353","v":0}]
[null,null,null,null,null,null,null,null,null,null,null,null,null,null,null,null,"EQUIPMENT - Page Total",null,null,null,null,{"$f":"V1307+V1308+V1309+V1313+V1314+V1315+V1319+V1320+V1321+V1325+V1326+V1327+V1331+V1332+V1333+V1337+V1338+V1339+V1349+V1350+V1351+V1343+V1344+V1345","v":0},null,null,{"$f":"Y1307+Y1308+Y1309+Y1313+Y1314+Y1315+Y1319+Y1320+Y1321+Y1325+Y1326+Y1327+Y1331+Y1332+Y1333+Y1337+Y1338+Y1339+Y1349+Y1350+Y1351+Y1343+Y1344+Y1345","v":0}]
[null,null,null,null,null,null,null,null,null,null,null,null,null,null,null,null,"LABOR - Grand Total",null,null,null,null,{"$f":"SUM($AB:$AB)","v":0},{"$f":"SUM($AC:$AC)","v":0},{"$f":"SUM($AD:$AD)","v":0},{"$f":"SUM(AF:AF)","v":0},{"$f":"SUM($AG:$AG)","v":0},{"$f":"SUM($AH:$AH)","v":0}]
[null,null,null,null,null,null,null,null,null,null,null,null,null,null,null,null,"EQUIPMENT - Grand Total",null,null,null,null,{"$f":"SUM($AE:$AE)","v":0},null,null,{"$f":"SUM($AI:$AI)","v":0}]

{"sheet":"LABOR-EQUIP","index":5,"n_rows":1379,"n_cols":34,"rows_kept":1379,"cut":false,"hidden":false,"merged":[[1375,12,1375,13],[1376,12,1376,13],[1376,15,1376,16],[1376,18,1376,19],[1377,12,1377,13],[1378,12,1378,13],[1378,15,1378,16],[1378,18,1378,19],[1366,18,1367,18],[1366,19,1367,19],[1368,5,1370,6],[1368,16,1369,16],[1368,19,1369,19],[1369,1,1370,1],[1369,14,1370,14],[1369,17,1370,17],[1370,15,1374,15],[1370,18,1374,18],[1371,1,1371,6],[1371,16,1374,16],[1371,19,1374,19],[1372,1,1372,3],[1373,1,1373,3],[1374,1,1374,3],[1366,1,1367,1],[1366,2,1367,2],[1366,4,1367,4],[1366,5,1367,5],[1366,6,1367,6],[1366,14,1367,14],[1366,15,1367,15],[1366,16,1367,16],[1366,17,1367,17],[1357,18,1358,18],[1357,19,1358,19],[1359,5,1361,6],[1359,16,1360,16],[1359,19,1360,19],[1360,1,1361,1],[1360,14,1361,14],[1360,17,1361,17],[1361,15,1365,15],[1361,18,1365,18],[1362,1,1362,6],[1362,16,1365,16],[1362,19,1365,19],[1363,1,1363,3],[1364,1,1364,3],[1365,1,1365,3],[1357,1,1358,1],[1357,2,1358,2],[1357,4,1358,4],[1357,5,1358,5],[1357,6,1358,6],[1357,14,1358,14],[1357,15,1358,15],[1357,16,1358,16],[1357,17,1358,17],[1348,18,1349,18],[1348,19,1349,19],[1350,5,1352,6],[1350,16,1351,16],[1350,19,1351,19],[1351,1,1352,1],[1351,14,1352,14],[1351,17,1352,17],[1352,15,1356,15],[1352,18,1356,18],[1353,1,1353,6],[1353,16,1356,16],[1353,19,1356,19],[1354,1,1354,3],[1355,1,1355,3],[1356,1,1356,3],[1348,1,1349,1],[1348,2,1349,2],[1348,4,1349,4],[1348,5,1349,5],[1348,6,1349,6],[1348,14,1349,14],[1348,15,1349,15],[1348,16,1349,16],[1348,17,1349,17],[1341,5,1343,6],[1341,16,1342,16],[1341,19,1342,19],[1342,1,1343,1],[1342,14,1343,14],[1342,17,1343,17],[1343,15,1347,15],[1343,18,1347,18],[1344,1,1344,6],[1344,16,1347,16],[1344,19,1347,19],[1345,1,1345,3],[1346,1,1346,3],[1347,1,1347,3],[1336,1,1336,3],[1336,16,1338,16],[1336,19,1338,19],[1337,1,1337,3],[1338,1,1338,3],[1339,1,1340,1],[1339,2,1340,2],[1339,4,1340,4],[1339,5,1340,5],[1339,6,1340,6],[1339,14,1340,14],[1339,15,1340,15],[1339,16,1340,16],[1339,17,1340,17],[1339,18,1340,18],[1339,19,1340,19],[1330,18,1331,18],[1330,19,1331,19],[1332,5,1334,6],[1332,16,1333,16],[1332,19,1333,19],[1333,1,1334,1],[1333,14,1334,14],[1333,17,1334,17],[1335,1,1335,6],[1335,14,1335,19],[1330,1,1331,1],[1330,2,1331,2],[1330,4,1331,4],[1330,5,1331,5],[1330,6,1331,6],[1330,14,1331,14],[1330,15,1331,15],[1330,16,1331,16],[1330,17,1331,17],[1322,12,1322,13],[1323,12,1323,13],[1323,15,1323,16],[1323,18,1323,19],[1324,12,1324,13],[1325,12,1325,13],[1325,15,1325,16],[1325,18,1325,19],[1328,1,1328,3],[1328,4,1328,6],[1328,7,1329,13],[1328,14,1328,19],[1329,1,1329,3],[1329,4,1329,6],[1329,14,1329,19],[1313,18,1314,18],[1313,19,1314,19],[1315,5,1317,6],[1315,16,1316,16],[1315,19,1316,19],[1316,1,1317,1],[1316,14,1317,14],[1316,17,1317,17],[1317,15,1321,15],[1317,18,1321,18],[1318,1,1318,6],[1318,16,1321,16],[1318,19,1321,19],[1319,1,1319,3],[1320,1,1320,3],[1321,1,1321,3],[1313,1,1314,1],[1313,2,1314,2],[1313,4,1314,4],[1313,5,1314,5],[1313,6,1314,6],[1313,14,1314,14],[1313,15,1314,15],[1313,16,1314,16],[1313,17,1314,17],[1304,18,1305,18],[1304,19,1305,19],[1306,5,1308,6],[1306,16,1307,16],[1306,19,1307,19],[1307,1,1308,1],[1307,14,1308,14],[1307,17,1308,17],[1308,15,1312,15],[1308,18,1312,18],[1309,1,1309,6],[1309,16,1312,16],[1309,19,1312,19],[1310,1,1310,3],[1311,1,1311,3],[1312,1,1312,3],[1304,1,1305,1],[1304,2,1305,2],[1304,4,1305,4],[1304,5,1305,5],[1304,6,1305,6],[1304,14,1305,14],[1304,15,1305,15],[1304,16,1305,16],[1304,17,1305,17],[1295,18,1296,18],[1295,19,1296,19],[1297,5,1299,6],[1297,16,1298,16],[1297,19,1298,19],[1298,1,1299,1],[1298,14,1299,14],[1298,17,1299,17],[1299,15,1303,15],[1299,18,1303,18],[1300,1,1300,6],[1300,16,1303,16],[1300,19,1303,19],[1301,1,1301,3],[1302,1,1302,3],[1303,1,1303,3],[1295,1,1296,1],[1295,2,1296,2],[1295,4,1296,4],[1295,5,1296,5],[1295,6,1296,6],[1295,14,1296,14],[1295,15,1296,15],[1295,16,1296,16],[1295,17,1296,17],[1288,5,1290,6],[1288,16,1289,16],[1288,19,1289,19],[1289,1,1290,1],[1289,14,1290,14],[1289,17,1290,17],[1290,15,1294,15],[1290,18,1294,18],[1291,1,1291,6],[1291,16,1294,16],[1291,19,1294,19],[1292,1,1292,3],[1293,1,1293,3],[1294,1,1294,3],[1283,1,1283,3],[1283,16,1285,16],[1283,19,1285,19],[1284,1,1284,3],[1285,1,1285,3],[1286,1,1287,1],[1286,2,1287,2],[1286,4,1287,4],[1286,5,1287,5],[1286,6,1287,6],[1286,14,1287,14],[1286,15,1287,15],[1286,16,1287,16],[1286,17,1287,17],[1286,18,1287,18],[1286,19,1287,19],[1277,18,1278,18],[1277,19,1278,19],[1279,5,1281,6],[1279,16,1280,16],[1279,19,1280,19],[1280,1,1281,1],[1280,14,1281,14],[1280,17,1281,17],[1282,1,1282,6],[1282,14,1282,19],[1277,1,1278,1],[1277,2,1278,2],[1277,4,1278,4],[1277,5,1278,5],[1277,6,1278,6],[1277,14,1278,14],[1277,15,1278,15],[1277,16,1278,16],[1277,17,1278,17],[1269,12,1269,13],[1270,12,1270,13],[1270,15,1270,16],[1270,18,1270,19],[1271,12,1271,13],[1272,12,1272,13],[1272,15,1272,16],[1272,18,1272,19],[1275,1,1275,3],[1275,4,1275,6],[1275,7,1276,13],[1275,14,1275,19],[1276,1,1276,3],[1276,4,1276,6],[1276,14,1276,19],[1260,18,1261,18],[1260,19,1261,19],[1262,5,1264,6],[1262,16,1263,16],[1262,19,1263,19],[1263,1,1264,1],[1263,14,1264,14],[1263,17,1264,17],[1264,15,1268,15],[1264,18,1268,18],[1265,1,1265,6],[1265,16,1268,16],[1265,19,1268,19],[1266,1,1266,3],[1267,1,1267,3],[1268,1,1268,3],[1260,1,1261,1],[1260,2,1261,2],[1260,4,1261,4],[1260,5,1261,5],[1260,6,1261,6],[1260,14,1261,14],[1260,15,1261,15],[1260,16,1261,16],[1260,17,1261,17],[1251,18,1252,18],[1251,19,1252,19],[1253,5,1255,6],[1253,16,1254,16],[1253,19,1254,19],[1254,1,1255,1],[1254,14,1255,14],[1254,17,1255,17],[1255,15,1259,15],[1255,18,1259,18],[1256,1,1256,6],[1256,16,1259,16],[1256,19,1259,19],[1257,1,1257,3],[1258,1,1258,3],[1259,1,1259,3],[1251,1,1252,1],[1251,2,1252,2],[1251,4,1252,4],[1251,5,1252,5],[1251,6,1252,6],[1251,14,1252,14],[1251,15,1252,15],[1251,16,1252,16],[1251,17,1252,17],[1242,18,1243,18],[1242,19,1243,19],[1244,5,1246,6],[1244,16,1245,16],[1244,19,1245,19],[1245,1,1246,1],[1245,14,1246,14],[1245,17,1246,17],[1246,15,1250,15],[1246,18,1250,18],[1247,1,1247,6],[1247,16,1250,16],[1247,19,1250,19],[1248,1,1248,3],[1249,1,1249,3],[1250,1,1250,3],[1242,1,1243,1],[1242,2,1243,2],[1242,4,1243,4],[1242,5,1243,5],[1242,6,1243,6],[1242,14,1243,14],[1242,15,1243,15],[1242,16,1243,16],[1242,17,1243,17],[1235,5,1237,6],[1235,16,1236,16],[1235,19,1236,19],[1236,1,1237,1],[1236,14,1237,14],[1236,17,1237,17],[1237,15,1241,15],[1237,18,1241,18],[1238,1,1238,6],[1238,16,1241,16],[1238,19,1241,19],[1239,1,1239,3],[1240,1,1240,3],[1241,1,1241,3],[1230,1,1230,3],[1230,16,1232,16],[1230,19,1232,19],[1231,1,1231,3],[1232,1,1232,3],[1233,1,1234,1],[1233,2,1234,2],[1233,4,1234,4],[1233,5,1234,5],[1233,6,1234,6],[1233,14,1234,14],[1233,15,1234,15],[1233,16,1234,16],[1233,17,1234,17],[1233,18,1234,18],[1233,19,1234,19],[1224,18,1225,18],[1224,19,1225,19],[1226,5,1228,6],[1226,16,1227,16],[1226,19,1227,19],[1227,1,1228,1],[1227,14,1228,14],[1227,17,1228,17],[1229,1,1229,6],[1229,14,1229,19],[1224,1,1225,1],[1224,2,1225,2],[1224,4,1225,4],[1224,5,1225,5],[1224,6,1225,6],[1224,14,1225,14],[1224,15,1225,15],[1224,16,1225,16],[1224,17,1225,17],[1216,12,1216,13],[1217,12,1217,13],[1217,15,1217,16],[1217,18,1217,19],[1218,12,1218,13],[1219,12,1219,13],[1219,15,1219,16],[1219,18,1219,19],[1222,1,1222,3],[1222,4,1222,6],[1222,7,1223,13],[1222,14,1222,19],[1223,1,1223,3],[1223,4,1223,6],[1223,14,1223,19],[1207,18,1208,18],[1207,19,1208,19],[1209,5,1211,6],[1209,16,1210,16],[1209,19,1210,19],[1210,1,1211,1],[1210,14,1211,14],[1210,17,1211,17],[1211,15,1215,15],[1211,18,1215,18],[1212,1,1212,6],[1212,16,1215,16],[1212,19,1215,19],[1213,1,1213,3],[1214,1,1214,3],[1215,1,1215,3],[1207,1,1208,1],[1207,2,1208,2],[1207,4,1208,4],[1207,5,1208,5],[1207,6,1208,6],[1207,14,1208,14],[1207,15,1208,15],[1207,16,1208,16],[1207,17,1208,17],[1198,18,1199,18],[1198,19,1199,19],[1200,5,1202,6],[1200,16,1201,16],[1200,19,1201,19],[1201,1,1202,1],[1201,14,1202,14],[1201,17,1202,17],[1202,15,1206,15],[1202,18,1206,18],[1203,1,1203,6],[1203,16,1206,16],[1203,19,1206,19],[1204,1,1204,3],[1205,1,1205,3],[1206,1,1206,3],[1198,1,1199,1],[1198,2,1199,2],[1198,4,1199,4],[1198,5,1199,5],[1198,6,1199,6],[1198,14,1199,14],[1198,15,1199,15],[1198,16,1199,16],[1198,17,1199,17],[1189,18,1190,18],[1189,19,1190,19],[1191,5,1193,6],[1191,16,1192,16],[1191,19,1192,19],[1192,1,1193,1],[1192,14,1193,14],[1192,17,1193,17],[1193,15,1197,15],[1193,18,1197,18],[1194,1,1194,6],[1194,16,1197,16],[1194,19,1197,19],[1195,1,1195,3],[1196,1,1196,3],[1197,1,1197,3],[1189,1,1190,1],[1189,2,1190,2],[1189,4,1190,4],[1189,5,1190,5],[1189,6,1190,6],[1189,14,1190,14],[1189,15,1190,15],[1189,16,1190,16],[1189,17,1190,17],[1182,5,1184,6],[1182,16,1183,16],[1182,19,1183,19],[1183,1,1184,1],[1183,14,1184,14],[1183,17,1184,17],[1184,15,1188,15],[1184,18,1188,18],[1185,1,1185,6],[1185,16,1188,16],[1185,19,1188,19],[1186,1,1186,3],[1187,1,1187,3],[1188,1,1188,3],[1177,1,1177,3],[1177,16,1179,16],[1177,19,1179,19],[1178,1,1178,3],[1179,1,1179,3],[1180,1,1181,1],[1180,2,1181,2],[1180,4,1181,4],[1180,5,1181,5],[1180,6,1181,6],[1180,14,1181,14],[1180,15,1181,15],[1180,16,1181,16],[1180,17,1181,17],[1180,18,1181,18],[1180,19,1181,19],[1171,18,1172,18],[1171,19,1172,19],[1173,5,1175,6],[1173,16,1174,16],[1173,19,1174,19],[1174,1,1175,1],[1174,14,1175,14],[1174,17,1175,17],[1176,1,1176,6],[1176,14,1176,19],[1171,1,1172,1],[1171,2,1172,2],[1171,4,1172,4],[1171,5,1172,5],[1171,6,1172,6],[1171,14,1172,14],[1171,15,1172,15],[1171,16,1172,16],[1171,17,1172,17],[1163,12,1163,13],[1164,12,1164,13],[1164,15,1164,16],[1164,18,1164,19],[1165,12,1165,13],[1166,12,1166,13],[1166,15,1166,16],[1166,18,1166,19],[1169,1,1169,3],[1169,4,1169,6],[1169,7,1170,13],[1169,14,1169,19],[1170,1,1170,3],[1170,4,1170,6],[1170,14,1170,19],[1154,18,1155,18],[1154,19,1155,19],[1156,5,1158,6],[1156,16,1157,16],[1156,19,1157,19],[1157,1,1158,1],[1157,14,1158,14],[1157,17,1158,17],[1158,15,1162,15],[1158,18,1162,18],[1159,1,1159,6],[1159,16,1162,16],[1159,19,1162,19],[1160,1,1160,3],[1161,1,1161,3],[1162,1,1162,3],[1154,1,1155,1],[1154,2,1155,2],[1154,4,1155,4],[1154,5,1155,5],[1154,6,1155,6],[1154,14,1155,14],[1154,15,1155,15],[1154,16,1155,16],[1154,17,1155,17],[1145,18,1146,18],[1145,19,1146,19],[1147,5,1149,6],[1147,16,1148,16],[1147,19,1148,19],[1148,1,1149,1],[1148,14,1149,14],[1148,17,1149,17],[1149,15,1153,15],[1149,18,1153,18],[1150,1,1150,6],[1150,16,1153,16],[1150,19,1153,19],[1151,1,1151,3],[1152,1,1152,3],[1153,1,1153,3],[1145,1,1146,1],[1145,2,1146,2],[1145,4,1146,4],[1145,5,1146,5],[1145,6,1146,6],[1145,14,1146,14],[1145,15,1146,15],[1145,16,1146,16],[1145,17,1146,17],[1136,18,1137,18],[1136,19,1137,19],[1138,5,1140,6],[1138,16,1139,16],[1138,19,1139,19],[1139,1,1140,1],[1139,14,1140,14],[1139,17,1140,17],[1140,15,1144,15],[1140,18,1144,18],[1141,1,1141,6],[1141,16,1144,16],[1141,19,1144,19],[1142,1,1142,3],[1143,1,1143,3],[1144,1,1144,3],[1136,1,1137,1],[1136,2,1137,2],[1136,4,1137,4],[1136,5,1137,5],[1136,6,1137,6],[1136,14,1137,14],[1136,15,1137,15],[1136,16,1137,16],[1136,17,1137,17],[1129,5,1131,6],[1129,16,1130,16],[1129,19,1130,19],[1130,1,1131,1],[1130,14,1131,14],[1130,17,1131,17],[1131,15,1135,15],[1131,18,1135,18],[1132,1,1132,6],[1132,16,1135,16],[1132,19,1135,19],[1133,1,1133,3],[1134,1,1134,3],[1135,1,1135,3],[1124,1,1124,3],[1124,16,1126,16],[1124,19,1126,19],[1125,1,1125,3],[1126,1,1126,3],[1127,1,1128,1],[1127,2,1128,2],[1127,4,1128,4],[1127,5,1128,5],[1127,6,1128,6],[1127,14,1128,14],[1127,15,1128,15],[1127,16,1128,16],[1127,17,1128,17],[1127,18,1128,18],[1127,19,1128,19],[1118,18,1119,18],[1118,19,1119,19],[1120,5,1122,6],[1120,16,1121,16],[1120,19,1121,19],[1121,1,1122,1],[1121,14,1122,14],[1121,17,1122,17],[1123,1,1123,6],[1123,14,1123,19],[1118,1,1119,1],[1118,2,1119,2],[1118,4,1119,4],[1118,5,1119,5],[1118,6,1119,6],[1118,14,1119,14],[1118,15,1119,15],[1118,16,1119,16],[1118,17,1119,17],[1110,12,1110,13],[1111,12,1111,13],[1111,15,1111,16],[1111,18,1111,19],[1112,12,1112,13],[1113,12,1113,13],[1113,15,1113,16],[1113,18,1113,19],[1116,1,1116,3],[1116,4,1116,6],[1116,7,1117,13],[1116,14,1116,19],[1117,1,1117,3],[1117,4,1117,6],[1117,14,1117,19],[1101,18,1102,18],[1101,19,1102,19],[1103,5,1105,6],[1103,16,1104,16],[1103,19,1104,19],[1104,1,1105,1],[1104,14,1105,14],[1104,17,1105,17],[1105,15,1109,15],[1105,18,1109,18],[1106,1,1106,6],[1106,16,1109,16],[1106,19,1109,19],[1107,1,1107,3],[1108,1,1108,3],[1109,1,1109,3],[1101,1,1102,1],[1101,2,1102,2],[1101,4,1102,4],[1101,5,1102,5],[1101,6,1102,6],[1101,14,1102,14],[1101,15,1102,15],[1101,16,1102,16],[1101,17,1102,17],[1092,18,1093,18],[1092,19,1093,19],[1094,5,1096,6],[1094,16,1095,16],[1094,19,1095,19],[1095,1,1096,1],[1095,14,1096,14],[1095,17,1096,17],[1096,15,1100,15],[1096,18,1100,18],[1097,1,1097,6],[1097,16,1100,16],[1097,19,1100,19],[1098,1,1098,3],[1099,1,1099,3],[1100,1,1100,3],[1092,1,1093,1],[1092,2,1093,2],[1092,4,1093,4],[1092,5,1093,5],[1092,6,1093,6],[1092,14,1093,14],[1092,15,1093,15],[1092,16,1093,16],[1092,17,1093,17],[1083,18,1084,18],[1083,19,1084,19],[1085,5,1087,6],[1085,16,1086,16],[1085,19,1086,19],[1086,1,1087,1],[1086,14,1087,14],[1086,17,1087,17],[1087,15,1091,15],[1087,18,1091,18],[1088,1,1088,6],[1088,16,1091,16],[1088,19,1091,19],[1089,1,1089,3],[1090,1,1090,3],[1091,1,1091,3],[1083,1,1084,1],[1083,2,1084,2],[1083,4,1084,4],[1083,5,1084,5],[1083,6,1084,6],[1083,14,1084,14],[1083,15,1084,15],[1083,16,1084,16],[1083,17,1084,17],[1076,5,1078,6],[1076,16,1077,16],[1076,19,1077,19],[1077,1,1078,1],[1077,14,1078,14],[1077,17,1078,17],[1078,15,1082,15],[1078,18,1082,18],[1079,1,1079,6],[1079,16,1082,16],[1079,19,1082,19],[1080,1,1080,3],[1081,1,1081,3],[1082,1,1082,3],[1071,1,1071,3],[1071,16,1073,16],[1071,19,1073,19],[1072,1,1072,3],[1073,1,1073,3],[1074,1,1075,1],[1074,2,1075,2],[1074,4,1075,4],[1074,5,1075,5],[1074,6,1075,6],[1074,14,1075,14],[1074,15,1075,15],[1074,16,1075,16],[1074,17,1075,17],[1074,18,1075,18],[1074,19,1075,19],[1065,18,1066,18],[1065,19,1066,19],[1067,5,1069,6],[1067,16,1068,16],[1067,19,1068,19],[1068,1,1069,1],[1068,14,1069,14],[1068,17,1069,17],[1070,1,1070,6],[1070,14,1070,19],[1065,1,1066,1],[1065,2,1066,2],[1065,4,1066,4],[1065,5,1066,5],[1065,6,1066,6],[1065,14,1066,14],[1065,15,1066,15],[1065,16,1066,16],[1065,17,1066,17],[1057,12,1057,13],[1058,12,1058,13],[1058,15,1058,16],[1058,18,1058,19],[1059,12,1059,13],[1060,12,1060,13],[1060,15,1060,16],[1060,18,1060,19],[1063,1,1063,3],[1063,4,1063,6],[1063,7,1064,13],[1063,14,1063,19],[1064,1,1064,3],[1064,4,1064,6],[1064,14,1064,19],[1048,18,1049,18],[1048,19,1049,19],[1050,5,1052,6],[1050,16,1051,16],[1050,19,1051,19],[1051,1,1052,1],[1051,14,1052,14],[1051,17,1052,17],[1052,15,1056,15],[1052,18,1056,18],[1053,1,1053,6],[1053,16,1056,16],[1053,19,1056,19],[1054,1,1054,3],[1055,1,1055,3],[1056,1,1056,3],[1048,1,1049,1],[1048,2,1049,2],[1048,4,1049,4],[1048,5,1049,5],[1048,6,1049,6],[1048,14,1049,14],[1048,15,1049,15],[1048,16,1049,16],[1048,17,1049,17],[1039,18,1040,18],[1039,19,1040,19],[1041,5,1043,6],[1041,16,1042,16],[1041,19,1042,19],[1042,1,1043,1],[1042,14,1043,14],[1042,17,1043,17],[1043,15,1047,15],[1043,18,1047,18],[1044,1,1044,6],[1044,16,1047,16],[1044,19,1047,19],[1045,1,1045,3],[1046,1,1046,3],[1047,1,1047,3],[1039,1,1040,1],[1039,2,1040,2],[1039,4,1040,4],[1039,5,1040,5],[1039,6,1040,6],[1039,14,1040,14],[1039,15,1040,15],[1039,16,1040,16],[1039,17,1040,17],[1030,18,1031,18],[1030,19,1031,19],[1032,5,1034,6],[1032,16,1033,16],[1032,19,1033,19],[1033,1,1034,1],[1033,14,1034,14],[1033,17,1034,17],[1034,15,1038,15],[1034,18,1038,18],[1035,1,1035,6],[1035,16,1038,16],[1035,19,1038,19],[1036,1,1036,3],[1037,1,1037,3],[1038,1,1038,3],[1030,1,1031,1],[1030,2,1031,2],[1030,4,1031,4],[1030,5,1031,5],[1030,6,1031,6],[1030,14,1031,14],[1030,15,1031,15],[1030,16,1031,16],[1030,17,1031,17],[1023,5,1025,6],[1023,16,1024,16],[1023,19,1024,19],[1024,1,1025,1],[1024,14,1025,14],[1024,17,1025,17],[1025,15,1029,15],[1025,18,1029,18],[1026,1,1026,6],[1026,16,1029,16],[1026,19,1029,19],[1027,1,1027,3],[1028,1,1028,3],[1029,1,1029,3],[1018,1,1018,3],[1018,16,1020,16],[1018,19,1020,19],[1019,1,1019,3],[1020,1,1020,3],[1021,1,1022,1],[1021,2,1022,2],[1021,4,1022,4],[1021,5,1022,5],[1021,6,1022,6],[1021,14,1022,14],[1021,15,1022,15],[1021,16,1022,16],[1021,17,1022,17],[1021,18,1022,18],[1021,19,1022,19],[1012,18,1013,18],[1012,19,1013,19],[1014,5,1016,6],[1014,16,1015,16],[1014,19,1015,19],[1015,1,1016,1],[1015,14,1016,14],[1015,17,1016,17],[1017,1,1017,6],[1017,14,1017,19],[1012,1,1013,1],[1012,2,1013,2],[1012,4,1013,4],[1012,5,1013,5],[1012,6,1013,6],[1012,14,1013,14],[1012,15,1013,15],[1012,16,1013,16],[1012,17,1013,17],[1004,12,1004,13],[1005,12,1005,13],[1005,15,1005,16],[1005,18,1005,19],[1006,12,1006,13],[1007,12,1007,13],[1007,15,1007,16],[1007,18,1007,19],[1010,1,1010,3],[1010,4,1010,6],[1010,7,1011,13],[1010,14,1010,19],[1011,1,1011,3],[1011,4,1011,6],[1011,14,1011,19],[995,18,996,18],[995,19,996,19],[997,5,999,6],[997,16,998,16],[997,19,998,19],[998,1,999,1],[998,14,999,14],[998,17,999,17],[999,15,1003,15],[999,18,1003,18],[1000,1,1000,6],[1000,16,1003,16],[1000,19,1003,19],[1001,1,1001,3],[1002,1,1002,3],[1003,1,1003,3],[995,1,996,1],[995,2,996,2],[995,4,996,4]],"merged_total":3616,"flags":["merged_cut"]}
[]
[]
[null,"COST SUMMARY FOR LABOR/EQUIPMENT"]
[null,"APPLICANT NAME",null,null,"DISASTER #",null,null,"PLEASE ENTER DATES FOR EACH DAY WORKED.  THIS ALLOWS FOR TRACKING OF COSTS OVER MULTIPLE DAYS, WEEKS AND/OR YEARS.  USE THE FIRST ROW FOR MONTH/DAY AND THE SECOND ROW FOR YEAR.  DATES DO NOT NEED TO BE CONSECUTIVE. ",null,null,null,null,null,null,"DISASTER TITLE"]
[null,{"$f":"IF('PAYROLL RECORD'!B5=\"\",\"\",'PAYROLL RECORD'!B5)","v":""},null,null,{"$f":"IF('PAYROLL RECORD'!D5=\"\",\"\",'PAYROLL RECORD'!D5)","v":""},null,null,null,null,null,null,null,null,null,{"$f":"IF('PAYROLL RECORD'!G5=\"\",\"\",'PAYROLL RECORD'!G5)","v":""}]
[null,"Employee/\nEquipment",null,"RATE w/","REQUEST #","COST CODE","RATE",null,null,null,null,null,null,null,"REG","OT1","OT2","REG TIME\nCOST","OT1\nCOST","OT2\nCOST"]
[null,null,null,"FRINGE"]
[null,null,"REG",{"$f":"IF(ISBLANK(B8),0,VLOOKUP(B8,'PAYROLL RECORD'!$B$8:$V$2005,18,FALSE))","v":0},null,null,null,null,null,null,null,null,null,null,{"$f":"SUM($H8:$N8)","v":0},null,null,{"$f":"IFERROR(D8*O8,\"\")","v":0},null,null,{"$f":"COUNTIF('EQUIPMENT INVENTORY'!$B:$B,'LABOR-EQUIP'!$B8)","v":0}]
[null,{"$f":"IF(ISBLANK(B8),\" \",VLOOKUP(B8,'PAYROLL RECORD'!$B$9:$C$10740,2,FALSE))","v":" "},"OT1",{"$f":"IF(ISBLANK(B8),0,VLOOKUP(B8,'PAYROLL RECORD'!$B$8:$V$2005,19,FALSE))","v":0},{"$f":"+E8","v":0},null,null,null,null,null,null,null,null,null,null,{"$f":"SUM(H9:N9)","v":0},null,null,{"$f":"IFERROR(P9*D9,\"\")","v":0},null,{"$f":"COUNTIF('EQUIPMENT INVENTORY'!$B:$B,'LABOR-EQUIP'!$B9)","v":0}]
[null,null,"OT2",{"$f":"IF(ISBLANK(B8),0,VLOOKUP(B8,'PAYROLL RECORD'!$B$8:$V$2005,20,FALSE))","v":0},{"$f":"+E8","v":0},null,null,null,null,null,null,null,null,null,null,null,{"$f":"SUM(H10:N10)","v":0},null,null,{"$f":"IFERROR(Q10*D10,\"\")","v":0},{"$f":"COUNTIF('EQUIPMENT INVENTORY'!$B:$B,'LABOR-EQUIP'!$B10)","v":0}]
[null,"Select type of activity(s).  See ELIGIBLE ACTIVITIES tab for complete descriptions and instructions.  Choose as many activities as applicable for each day/date. ",null,null,null,null,null,null,null,null,null,null,null,null,null,null,null,null,null,null,{"$f":"COUNTIF('EQUIPMENT INVENTORY'!$B:$B,'LABOR-EQUIP'!$B11)","v":0}]
[null,null,null,null,{"$f":"+E8","v":0},{"$f":"IF(ISBLANK(B12),0,VLOOKUP(B12,'EQUIPMENT INVENTORY'!$B$7:$AK$1021,7,0))","v":0},{"$f":"IF(ISBLANK(B12),0,VLOOKUP(B12,'EQUIPMENT INVENTORY'!$B$7:$AK$1021,8,0))","v":0},null,null,null,null,null,null,null,{"$f":"SUM($H12:$N12)","v":0},null,null,{"$f":"O12*G12","v":0},null,null,{"$f":"COUNTIF('EQUIPMENT INVENTORY'!$B:$B,'LABOR-EQUIP'!$B12)","v":0}]
[null,null,null,null,{"$f":"+E8","v":0},{"$f":"IF(ISBLANK(B13),0,VLOOKUP(B13,'EQUIPMENT INVENTORY'!$B$7:$AK$1021,7,0))","v":0},{"$f":"IF(ISBLANK(B13),0,VLOOKUP(B13,'EQUIPMENT INVENTORY'!$B$7:$AK$1021,8,0))","v":0},null,null,null,null,null,null,null,{"$f":"SUM($H13:$N13)","v":0},null,null,{"$f":"O13*G13","v":0},null,null,{"$f":"COUNTIF('EQUIPMENT INVENTORY'!$B:$B,'LABOR-EQUIP'!$B13)","v":0}]
[null,null,null,null,{"$f":"+E8","v":0},{"$f":"IF(ISBLANK(B14),0,VLOOKUP(B14,'EQUIPMENT INVENTORY'!$B$7:$AK$1021,7,0))","v":0},{"$f":"IF(ISBLANK(B14),0,VLOOKUP(B14,'EQUIPMENT INVENTORY'!$B$7:$AK$1021,8,0))","v":0},null,null,null,null,null,null,null,{"$f":"SUM($H14:$N14)","v":0},null,null,{"$f":"O14*G14","v":0},null,null,{"$f":"COUNTIF('EQUIPMENT INVENTORY'!$B:$B,'LABOR-EQUIP'!$B14)","v":0}]
[null,"Employee/\nEquipment",null,"RATE w/","REQUEST #","COST CODE","RATE",null,null,null,null,null,null,null,"REG","OT1","OT2","REG TIME\nCOST","OT1\nCOST","OT2\nCOST",{"$f":"COUNTIF('EQUIPMENT INVENTORY'!$B:$B,'LABOR-EQUIP'!$B15)","v":0}]
[null,null,null,"FRINGE",null,null,null,null,null,null,null,null,null,null,null,null,null,null,null,null,{"$f":"COUNTIF('EQUIPMENT INVENTORY'!$B:$B,'LABOR-EQUIP'!$B16)","v":0}]
[null,null,"REG",{"$f":"IF(ISBLANK(B17),0,VLOOKUP(B17,'PAYROLL RECORD'!$B$8:$V$2005,18,FALSE))","v":0},null,null,null,null,null,null,null,null,null,null,{"$f":"SUM($H17:$N17)","v":0},null,null,{"$f":"IFERROR(D17*O17,\"\")","v":0},null,null,{"$f":"COUNTIF('EQUIPMENT INVENTORY'!$B:$B,'LABOR-EQUIP'!$B17)","v":0}]
[null,{"$f":"IF(ISBLANK(B17),\" \",VLOOKUP(B17,'PAYROLL RECORD'!$B$9:$C$10740,2,FALSE))","v":" "},"OT1",{"$f":"IF(ISBLANK(B17),0,VLOOKUP(B17,'PAYROLL RECORD'!$B$8:$V$2005,19,FALSE))","v":0},{"$f":"+E17","v":0},null,null,null,null,null,null,null,null,null,null,{"$f":"SUM(H18:N18)","v":0},null,null,{"$f":"IF(E18<>\"e\",P18*D18,0)","v":0},null,{"$f":"COUNTIF('EQUIPMENT INVENTORY'!$B:$B,'LABOR-EQUIP'!$B18)","v":0}]
[null,null,"OT2",{"$f":"IF(ISBLANK(B17),0,VLOOKUP(B17,'PAYROLL RECORD'!$B$8:$V$2005,20,FALSE))","v":0},{"$f":"+E18","v":0},null,null,null,null,null,null,null,null,null,null,null,{"$f":"SUM(H19:N19)","v":0},null,null,{"$f":"IF(E19<>\"E\",Q19*D19,0)","v":0},{"$f":"COUNTIF('EQUIPMENT INVENTORY'!$B:$B,'LABOR-EQUIP'!$B19)","v":0}]
[null,"Select type of activity(s).  See ELIGIBLE ACTIVITIES tab for complete descriptions and instructions.  Choose as many activities as applicable for each day/date. ",null,null,null,null,null,null,null,null,null,null,null,null,null,null,null,null,null,null,{"$f":"COUNTIF('EQUIPMENT INVENTORY'!$B:$B,'LABOR-EQUIP'!$B20)","v":0}]
[null,null,null,null,{"$f":"+E19","v":0},{"$f":"IF(ISBLANK(B21),0,VLOOKUP(B21,'EQUIPMENT INVENTORY'!$B$7:$AK$1021,7,0))","v":0},{"$f":"IF(ISBLANK(B21),0,VLOOKUP(B21,'EQUIPMENT INVENTORY'!$B$7:$AK$1021,8,0))","v":0},null,null,null,null,null,null,null,{"$f":"SUM($H21:$N21)","v":0},null,null,{"$f":"O21*G21","v":0},null,null,{"$f":"COUNTIF('EQUIPMENT INVENTORY'!$B:$B,'LABOR-EQUIP'!$B21)","v":0}]
[null,null,null,null,0,{"$f":"IF(ISBLANK(B22),0,VLOOKUP(B22,'EQUIPMENT INVENTORY'!$B$7:$AK$1021,7,0))","v":0},{"$f":"IF(ISBLANK(B22),0,VLOOKUP(B22,'EQUIPMENT INVENTORY'!$B$7:$AK$1021,8,0))","v":0},null,null,null,null,null,null,null,{"$f":"SUM($H22:$N22)","v":0},null,null,{"$f":"O22*G22","v":0},null,null,{"$f":"COUNTIF('EQUIPMENT INVENTORY'!$B:$B,'LABOR-EQUIP'!$B22)","v":0}]
[null,null,null,null,0,{"$f":"IF(ISBLANK(B23),0,VLOOKUP(B23,'EQUIPMENT INVENTORY'!$B$7:$AK$1021,7,0))","v":0},{"$f":"IF(ISBLANK(B23),0,VLOOKUP(B23,'EQUIPMENT INVENTORY'!$B$7:$AK$1021,8,0))","v":0},null,null,null,null,null,null,null,{"$f":"SUM($H23:$N23)","v":0},null,null,{"$f":"O23*G23","v":0},null,null,{"$f":"COUNTIF('EQUIPMENT INVENTORY'!$B:$B,'LABOR-EQUIP'!$B23)","v":0}]
[null,"Employee/\nEquipment",null,"RATE w/","REQUEST #","COST CODE","RATE",null,null,null,null,null,null,null,"REG","OT1","OT2","REG TIME\nCOST","OT1\nCOST","OT2\nCOST",{"$f":"COUNTIF('EQUIPMENT INVENTORY'!$B:$B,'LABOR-EQUIP'!$B24)","v":0}]
[null,null,null,"FRINGE",null,null,null,null,null,null,null,null,null,null,null,null,null,null,null,null,{"$f":"COUNTIF('EQUIPMENT INVENTORY'!$B:$B,'LABOR-EQUIP'!$B25)","v":0}]
[null,null,"REG",{"$f":"IF(ISBLANK(B26),0,VLOOKUP(B26,'PAYROLL RECORD'!$B$8:$V$2005,18,FALSE))","v":0},null,null,null,null,null,null,null,null,null,null,{"$f":"SUM($H26:$N26)","v":0},null,null,{"$f":"IFERROR(D26*O26,\"\")","v":0},null,null,{"$f":"COUNTIF('EQUIPMENT INVENTORY'!$B:$B,'LABOR-EQUIP'!$B26)","v":0}]
[null,{"$f":"IF(ISBLANK(B26),\" \",VLOOKUP(B26,'PAYROLL RECORD'!$B$9:$C$10740,2,FALSE))","v":" "},"OT1",{"$f":"IF(ISBLANK(B26),0,VLOOKUP(B26,'PAYROLL RECORD'!$B$8:$V$2005,19,FALSE))","v":0},{"$f":"+E26","v":0},null,null,null,null,null,null,null,null,null,null,{"$f":"SUM(H27:N27)","v":0},null,null,{"$f":"IF(E27<>\"e\",P27*D27,0)","v":0},null,{"$f":"COUNTIF('EQUIPMENT INVENTORY'!$B:$B,'LABOR-EQUIP'!$B27)","v":0}]
[null,null,"OT2",{"$f":"IF(ISBLANK(B26),0,VLOOKUP(B26,'PAYROLL RECORD'!$B$8:$V$2005,20,FALSE))","v":0},{"$f":"+E27","v":0},null,null,null,null,null,null,null,null,null,null,null,{"$f":"SUM(H28:N28)","v":0},null,null,{"$f":"IF(E28<>\"E\",Q28*D28,0)","v":0},{"$f":"COUNTIF('EQUIPMENT INVENTORY'!$B:$B,'LABOR-EQUIP'!$B28)","v":0}]
[null,"Select type of activity(s).  See ELIGIBLE ACTIVITIES tab for complete descriptions and instructions.  Choose as many activities as applicable for each day/date. ",null,null,null,null,null,null,null,null,null,null,null,null,null,null,null,null,null,null,{"$f":"COUNTIF('EQUIPMENT INVENTORY'!$B:$B,'LABOR-EQUIP'!$B29)","v":0}]
[null,null,null,null,{"$f":"+E28","v":0},{"$f":"IF(ISBLANK(B30),0,VLOOKUP(B30,'EQUIPMENT INVENTORY'!$B$7:$AK$1021,7,0))","v":0},{"$f":"IF(ISBLANK(B30),0,VLOOKUP(B30,'EQUIPMENT INVENTORY'!$B$7:$AK$1021,8,0))","v":0},null,null,null,null,null,null,null,{"$f":"SUM($H30:$N30)","v":0},null,null,{"$f":"O30*G30","v":0},null,null,{"$f":"COUNTIF('EQUIPMENT INVENTORY'!$B:$B,'LABOR-EQUIP'!$B30)","v":0}]
[null,null,null,null,0,{"$f":"IF(ISBLANK(B31),0,VLOOKUP(B31,'EQUIPMENT INVENTORY'!$B$7:$AK$1021,7,0))","v":0},{"$f":"IF(ISBLANK(B31),0,VLOOKUP(B31,'EQUIPMENT INVENTORY'!$B$7:$AK$1021,8,0))","v":0},null,null,null,null,null,null,null,{"$f":"SUM($H31:$N31)","v":0},null,null,{"$f":"O31*G31","v":0},null,null,{"$f":"COUNTIF('EQUIPMENT INVENTORY'!$B:$B,'LABOR-EQUIP'!$B31)","v":0}]
[null,null,null,null,0,{"$f":"IF(ISBLANK(B32),0,VLOOKUP(B32,'EQUIPMENT INVENTORY'!$B$7:$AK$1021,7,0))","v":0},{"$f":"IF(ISBLANK(B32),0,VLOOKUP(B32,'EQUIPMENT INVENTORY'!$B$7:$AK$1021,8,0))","v":0},null,null,null,null,null,null,null,{"$f":"SUM($H32:$N32)","v":0},null,null,{"$f":"O32*G32","v":0},null,null,{"$f":"COUNTIF('EQUIPMENT INVENTORY'!$B:$B,'LABOR-EQUIP'!$B32)","v":0}]
[null,"Employee/\nEquipment",null,"RATE w/","REQUEST #","COST CODE","RATE",null,null,null,null,null,null,null,"REG","OT1","OT2","REG TIME\nCOST","OT1\nCOST","OT2\nCOST",{"$f":"COUNTIF('EQUIPMENT INVENTORY'!$B:$B,'LABOR-EQUIP'!$B33)","v":0}]
[null,null,null,"FRINGE",null,null,null,null,null,null,null,null,null,null,null,null,null,null,null,null,{"$f":"COUNTIF('EQUIPMENT INVENTORY'!$B:$B,'LABOR-EQUIP'!$B34)","v":0}]
[null,null,"REG",{"$f":"IF(ISBLANK(B35),0,VLOOKUP(B35,'PAYROLL RECORD'!$B$8:$V$2005,18,FALSE))","v":0},null,null,null,null,null,null,null,null,null,null,{"$f":"SUM($H35:$N35)","v":0},null,null,{"$f":"IFERROR(D35*O35,\"\")","v":0},null,null,{"$f":"COUNTIF('EQUIPMENT INVENTORY'!$B:$B,'LABOR-EQUIP'!$B35)","v":0}]
[null,{"$f":"IF(ISBLANK(B35),\" \",VLOOKUP(B35,'PAYROLL RECORD'!$B$9:$C$10740,2,FALSE))","v":" "},"OT1",{"$f":"IF(ISBLANK(B35),0,VLOOKUP(B35,'PAYROLL RECORD'!$B$8:$V$2005,19,FALSE))","v":0},{"$f":"+E35","v":0},null,null,null,null,null,null,null,null,null,null,{"$f":"SUM(H36:N36)","v":0},null,null,{"$f":"IF(E36<>\"e\",P36*D36,0)","v":0},null,{"$f":"COUNTIF('EQUIPMENT INVENTORY'!$B:$B,'LABOR-EQUIP'!$B36)","v":0}]
[null,null,"OT2",{"$f":"IF(ISBLANK(B35),0,VLOOKUP(B35,'PAYROLL RECORD'!$B$8:$V$2005,20,FALSE))","v":0},{"$f":"+E36","v":0},null,null,null,null,null,null,null,null,null,null,null,{"$f":"SUM(H37:N37)","v":0},null,null,{"$f":"IF(E37<>\"E\",Q37*D37,0)","v":0},{"$f":"COUNTIF('EQUIPMENT INVENTORY'!$B:$B,'LABOR-EQUIP'!$B37)","v":0}]
[null,"Select type of activity(s).  See ELIGIBLE ACTIVITIES tab for complete descriptions and instructions.  Choose as many activities as applicable for each day/date. ",null,null,null,null,null,null,null,null,null,null,null,null,null,null,null,null,null,null,{"$f":"COUNTIF('EQUIPMENT INVENTORY'!$B:$B,'LABOR-EQUIP'!$B38)","v":0}]
[null,null,null,null,{"$f":"+E37","v":0},{"$f":"IF(ISBLANK(B39),0,VLOOKUP(B39,'EQUIPMENT INVENTORY'!$B$7:$AK$1021,7,0))","v":0},{"$f":"IF(ISBLANK(B39),0,VLOOKUP(B39,'EQUIPMENT INVENTORY'!$B$7:$AK$1021,8,0))","v":0},null,null,null,null,null,null,null,{"$f":"SUM($H39:$N39)","v":0},null,null,{"$f":"O39*G39","v":0},null,null,{"$f":"COUNTIF('EQUIPMENT INVENTORY'!$B:$B,'LABOR-EQUIP'!$B39)","v":0}]
[null,null,null,null,0,{"$f":"IF(ISBLANK(B40),0,VLOOKUP(B40,'EQUIPMENT INVENTORY'!$B$7:$AK$1021,7,0))","v":0},{"$f":"IF(ISBLANK(B40),0,VLOOKUP(B40,'EQUIPMENT INVENTORY'!$B$7:$AK$1021,8,0))","v":0},null,null,null,null,null,null,null,{"$f":"SUM($H40:$N40)","v":0},null,null,{"$f":"O40*G40","v":0},null,null,{"$f":"COUNTIF('EQUIPMENT INVENTORY'!$B:$B,'LABOR-EQUIP'!$B40)","v":0}]
[null,null,null,null,0,{"$f":"IF(ISBLANK(B41),0,VLOOKUP(B41,'EQUIPMENT INVENTORY'!$B$7:$AK$1021,7,0))","v":0},{"$f":"IF(ISBLANK(B41),0,VLOOKUP(B41,'EQUIPMENT INVENTORY'!$B$7:$AK$1021,8,0))","v":0},null,null,null,null,null,null,null,{"$f":"SUM($H41:$N41)","v":0},null,null,{"$f":"O41*G41","v":0},null,null,{"$f":"COUNTIF('EQUIPMENT INVENTORY'!$B:$B,'LABOR-EQUIP'!$B41)","v":0}]
[null,"Employee/\nEquipment",null,"RATE w/","REQUEST #","COST CODE","RATE",null,null,null,null,null,null,null,"REG","OT1","OT2","REG TIME\nCOST","OT1\nCOST","OT2\nCOST",{"$f":"COUNTIF('EQUIPMENT INVENTORY'!$B:$B,'LABOR-EQUIP'!$B42)","v":0}]
[null,null,null,"FRINGE",null,null,null,null,null,null,null,null,null,null,null,null,null,null,null,null,{"$f":"COUNTIF('EQUIPMENT INVENTORY'!$B:$B,'LABOR-EQUIP'!$B43)","v":0}]
[null,null,"REG",{"$f":"IF(ISBLANK(B44),0,VLOOKUP(B44,'PAYROLL RECORD'!$B$8:$V$2005,18,FALSE))","v":0},null,null,null,null,null,null,null,null,null,null,{"$f":"SUM($H44:$N44)","v":0},null,null,{"$f":"IFERROR(D44*O44,\"\")","v":0},null,null,{"$f":"COUNTIF('EQUIPMENT INVENTORY'!$B:$B,'LABOR-EQUIP'!$B44)","v":0}]
[null,{"$f":"IF(ISBLANK(B44),\" \",VLOOKUP(B44,'PAYROLL RECORD'!$B$9:$C$10740,2,FALSE))","v":" "},"OT1",{"$f":"IF(ISBLANK(B44),0,VLOOKUP(B44,'PAYROLL RECORD'!$B$8:$V$2005,19,FALSE))","v":0},{"$f":"+E44","v":0},null,null,null,null,null,null,null,null,null,null,{"$f":"SUM(H45:N45)","v":0},null,null,{"$f":"IF(E45<>\"e\",P45*D45,0)","v":0},null,{"$f":"COUNTIF('EQUIPMENT INVENTORY'!$B:$B,'LABOR-EQUIP'!$B45)","v":0}]
[null,null,"OT2",{"$f":"IF(ISBLANK(B44),0,VLOOKUP(B44,'PAYROLL RECORD'!$B$8:$V$2005,20,FALSE))","v":0},{"$f":"+E45","v":0},null,null,null,null,null,null,null,null,null,null,null,{"$f":"SUM(H46:N46)","v":0},null,null,{"$f":"IF(E46<>\"E\",Q46*D46,0)","v":0},{"$f":"COUNTIF('EQUIPMENT INVENTORY'!$B:$B,'LABOR-EQUIP'!$B46)","v":0}]
[null,"Select type of activity(s).  See ELIGIBLE ACTIVITIES tab for complete descriptions and instructions.  Choose as many activities as applicable for each day/date. ",null,null,null,null,null,null,null,null,null,null,null,null,null,null,null,null,null,null,{"$f":"COUNTIF('EQUIPMENT INVENTORY'!$B:$B,'LABOR-EQUIP'!$B47)","v":0}]
[null,null,null,null,{"$f":"+E46","v":0},{"$f":"IF(ISBLANK(B48),0,VLOOKUP(B48,'EQUIPMENT INVENTORY'!$B$7:$AK$1021,7,0))","v":0},{"$f":"IF(ISBLANK(B48),0,VLOOKUP(B48,'EQUIPMENT INVENTORY'!$B$7:$AK$1021,8,0))","v":0},null,null,null,null,null,null,null,{"$f":"SUM($H48:$N48)","v":0},null,null,{"$f":"O48*G48","v":0},null,null,{"$f":"COUNTIF('EQUIPMENT INVENTORY'!$B:$B,'LABOR-EQUIP'!$B48)","v":0}]
[null,null,null,null,0,{"$f":"IF(ISBLANK(B49),0,VLOOKUP(B49,'EQUIPMENT INVENTORY'!$B$7:$AK$1021,7,0))","v":0},{"$f":"IF(ISBLANK(B49),0,VLOOKUP(B49,'EQUIPMENT INVENTORY'!$B$7:$AK$1021,8,0))","v":0},null,null,null,null,null,null,null,{"$f":"SUM($H49:$N49)","v":0},null,null,{"$f":"O49*G49","v":0},null,null,{"$f":"COUNTIF('EQUIPMENT INVENTORY'!$B:$B,'LABOR-EQUIP'!$B49)","v":0}]
[null,null,null,null,0,{"$f":"IF(ISBLANK(B50),0,VLOOKUP(B50,'EQUIPMENT INVENTORY'!$B$7:$AK$1021,7,0))","v":0},{"$f":"IF(ISBLANK(B50),0,VLOOKUP(B50,'EQUIPMENT INVENTORY'!$B$7:$AK$1021,8,0))","v":0},null,null,null,null,null,null,null,{"$f":"SUM($H50:$N50)","v":0},null,null,{"$f":"O50*G50","v":0},null,null,{"$f":"COUNTIF('EQUIPMENT INVENTORY'!$B:$B,'LABOR-EQUIP'!$B50)","v":0}]
[null,null,null,null,null,null,null,null,null,null,null,null,"LABOR - Page Total",null,{"$f":"O8+O17+O26+O35+O44","v":0},{"$f":"P9+P18+P27+P36+P45","v":0},{"$f":"Q10+Q19+Q28+Q37+Q46","v":0},{"$f":"R8+R17+R26+R35+R44","v":0},{"$f":"S9+S18+S27+S36+S45","v":0},{"$f":"T10+T19+T28+T37+T46","v":0}]
[null,null,null,null,null,null,null,null,null,null,null,null,"EQUIPMENT - Page Total",null,{"$f":"O12+O13+O14+O21+O22+O23+O30+O31+O32+O39+O40+O41+O48+O49+O50","v":0},null,null,{"$f":"R12+R13+R14+R21+R22+R23+R30+R31+R32+R39+R40+R41+R48+R49+R50","v":0}]
[null,null,null,null,null,null,null,null,null,null,null,null,"LABOR - Grand Total",null,{"$f":"SUM(AA:AA)","v":0},0,0,0,0,0,null,null,null,null,null,null,{"$f":"O51","v":0},0,0,0,0,0]
[null,null,null,null,null,null,null,null,null,null,null,null,"EQUIPMENT - Grand Total",null,{"$f":"SUM(AG:AG)","v":0},null,null,{"$f":"SUM(AH:AH)","v":0},null,null,null,null,null,null,null,null,null,null,null,null,null,null,{"$f":"O52","v":0},{"$f":"R52","v":0}]
[]
[]
[null,"APPLICANT NAME",null,null,"DISASTER #",null,null,"PLEASE ENTER DATES FOR EACH DAY WORKED.  THIS ALLOWS FOR TRACKING OF COSTS OVER MULTIPLE DAYS, WEEKS AND/OR YEARS.  USE THE FIRST ROW FOR MONTH/DAY AND THE SECOND ROW FOR YEAR.  DATES DO NOT NEED TO BE CONSECUTIVE. ",null,null,null,null,null,null,"DISASTER TITLE"]
[null,{"$f":"IF('PAYROLL RECORD'!B58=\"\",\"\",'PAYROLL RECORD'!B58)","v":""},null,null,{"$f":"IF('PAYROLL RECORD'!D58=\"\",\"\",'PAYROLL RECORD'!D58)","v":""},null,null,null,null,null,null,null,null,null,{"$f":"IF('PAYROLL RECORD'!G58=\"\",\"\",'PAYROLL RECORD'!G58)","v":""}]
[null,"Employee/\nEquipment",null,"RATE w/","REQUEST #","COST CODE","RATE",null,null,null,null,null,null,null,"REG","OT1","OT2","REG TIME\nCOST","OT1\nCOST","OT2\nCOST"]
[null,null,null,"FRINGE"]
[null,null,"REG",{"$f":"IF(ISBLANK(B61),0,VLOOKUP(B61,'PAYROLL RECORD'!$B$8:$V$2005,18,FALSE))","v":0},null,null,null,null,null,null,null,null,null,null,{"$f":"SUM($H61:$N61)","v":0},null,null,{"$f":"IFERROR(D61*O61,\"\")","v":0},null,null,{"$f":"COUNTIF('EQUIPMENT INVENTORY'!$B:$B,'LABOR-EQUIP'!$B61)","v":0}]
[null,{"$f":"IF(ISBLANK(B61),\" \",VLOOKUP(B61,'PAYROLL RECORD'!$B$9:$C$10740,2,FALSE))","v":" "},"OT1",{"$f":"IF(ISBLANK(B61),0,VLOOKUP(B61,'PAYROLL RECORD'!$B$8:$V$2005,19,FALSE))","v":0},{"$f":"+E61","v":0},null,null,null,null,null,null,null,null,null,null,{"$f":"SUM(H62:N62)","v":0},null,null,{"$f":"IFERROR(P62*D62,\"\")","v":0},null,{"$f":"COUNTIF('EQUIPMENT INVENTORY'!$B:$B,'LABOR-EQUIP'!$B62)","v":0}]
[null,null,"OT2",{"$f":"IF(ISBLANK(B61),0,VLOOKUP(B61,'PAYROLL RECORD'!$B$8:$V$2005,20,FALSE))","v":0},{"$f":"+E61","v":0},null,null,null,null,null,null,null,null,null,null,null,{"$f":"SUM(H63:N63)","v":0},null,null,{"$f":"IFERROR(Q63*D63,\"\")","v":0},{"$f":"COUNTIF('EQUIPMENT INVENTORY'!$B:$B,'LABOR-EQUIP'!$B63)","v":0}]
[null,"Select type of activity(s).  See ELIGIBLE ACTIVITIES tab for complete descriptions and instructions.  Choose as many activities as applicable for each day/date. ",null,null,null,null,null,null,null,null,null,null,null,null,null,null,null,null,null,null,{"$f":"COUNTIF('EQUIPMENT INVENTORY'!$B:$B,'LABOR-EQUIP'!$B64)","v":0}]
[null,null,null,null,{"$f":"+E61","v":0},{"$f":"IF(ISBLANK(B65),0,VLOOKUP(B65,'EQUIPMENT INVENTORY'!$B$7:$AK$1021,7,0))","v":0},{"$f":"IF(ISBLANK(B65),0,VLOOKUP(B65,'EQUIPMENT INVENTORY'!$B$7:$AK$1021,8,0))","v":0},null,null,null,null,null,null,null,{"$f":"SUM($H65:$N65)","v":0},null,null,{"$f":"O65*G65","v":0},null,null,{"$f":"COUNTIF('EQUIPMENT INVENTORY'!$B:$B,'LABOR-EQUIP'!$B65)","v":0}]
[null,null,null,null,{"$f":"+E61","v":0},{"$f":"IF(ISBLANK(B66),0,VLOOKUP(B66,'EQUIPMENT INVENTORY'!$B$7:$AK$1021,7,0))","v":0},{"$f":"IF(ISBLANK(B66),0,VLOOKUP(B66,'EQUIPMENT INVENTORY'!$B$7:$AK$1021,8,0))","v":0},null,null,null,null,null,null,null,{"$f":"SUM($H66:$N66)","v":0},null,null,{"$f":"O66*G66","v":0},null,null,{"$f":"COUNTIF('EQUIPMENT INVENTORY'!$B:$B,'LABOR-EQUIP'!$B66)","v":0}]
[null,null,null,null,{"$f":"+E61","v":0},{"$f":"IF(ISBLANK(B67),0,VLOOKUP(B67,'EQUIPMENT INVENTORY'!$B$7:$AK$1021,7,0))","v":0},{"$f":"IF(ISBLANK(B67),0,VLOOKUP(B67,'EQUIPMENT INVENTORY'!$B$7:$AK$1021,8,0))","v":0},null,null,null,null,null,null,null,{"$f":"SUM($H67:$N67)","v":0},null,null,{"$f":"O67*G67","v":0},null,null,{"$f":"COUNTIF('EQUIPMENT INVENTORY'!$B:$B,'LABOR-EQUIP'!$B67)","v":0}]
[null,"Employee/\nEquipment",null,"RATE w/","REQUEST #","COST CODE","RATE",null,null,null,null,null,null,null,"REG","OT1","OT2","REG TIME\nCOST","OT1\nCOST","OT2\nCOST",{"$f":"COUNTIF('EQUIPMENT INVENTORY'!$B:$B,'LABOR-EQUIP'!$B68)","v":0}]
[null,null,null,"FRINGE",null,null,null,null,null,null,null,null,null,null,null,null,null,null,null,null,{"$f":"COUNTIF('EQUIPMENT INVENTORY'!$B:$B,'LABOR-EQUIP'!$B69)","v":0}]
[null,null,"REG",{"$f":"IF(ISBLANK(B70),0,VLOOKUP(B70,'PAYROLL RECORD'!$B$8:$V$2005,18,FALSE))","v":0},null,null,null,null,null,null,null,null,null,null,{"$f":"SUM($H70:$N70)","v":0},null,null,{"$f":"IFERROR(D70*O70,\"\")","v":0},null,null,{"$f":"COUNTIF('EQUIPMENT INVENTORY'!$B:$B,'LABOR-EQUIP'!$B70)","v":0}]
[null,{"$f":"IF(ISBLANK(B70),\" \",VLOOKUP(B70,'PAYROLL RECORD'!$B$9:$C$10740,2,FALSE))","v":" "},"OT1",{"$f":"IF(ISBLANK(B70),0,VLOOKUP(B70,'PAYROLL RECORD'!$B$8:$V$2005,19,FALSE))","v":0},{"$f":"+E70","v":0},null,null,null,null,null,null,null,null,null,null,{"$f":"SUM(H71:N71)","v":0},null,null,{"$f":"IF(E71<>\"e\",P71*D71,0)","v":0},null,{"$f":"COUNTIF('EQUIPMENT INVENTORY'!$B:$B,'LABOR-EQUIP'!$B71)","v":0}]
[null,null,"OT2",{"$f":"IF(ISBLANK(B70),0,VLOOKUP(B70,'PAYROLL RECORD'!$B$8:$V$2005,20,FALSE))","v":0},{"$f":"+E71","v":0},null,null,null,null,null,null,null,null,null,null,null,{"$f":"SUM(H72:N72)","v":0},null,null,{"$f":"IF(E72<>\"E\",Q72*D72,0)","v":0},{"$f":"COUNTIF('EQUIPMENT INVENTORY'!$B:$B,'LABOR-EQUIP'!$B72)","v":0}]
[null,"Select type of activity(s).  See ELIGIBLE ACTIVITIES tab for complete descriptions and instructions.  Choose as many activities as applicable for each day/date. ",null,null,null,null,null,null,null,null,null,null,null,null,null,null,null,null,null,null,{"$f":"COUNTIF('EQUIPMENT INVENTORY'!$B:$B,'LABOR-EQUIP'!$B73)","v":0}]
[null,null,null,null,{"$f":"+E72","v":0},{"$f":"IF(ISBLANK(B74),0,VLOOKUP(B74,'EQUIPMENT INVENTORY'!$B$7:$AK$1021,7,0))","v":0},{"$f":"IF(ISBLANK(B74),0,VLOOKUP(B74,'EQUIPMENT INVENTORY'!$B$7:$AK$1021,8,0))","v":0},null,null,null,null,null,null,null,{"$f":"SUM($H74:$N74)","v":0},null,null,{"$f":"O74*G74","v":0},null,null,{"$f":"COUNTIF('EQUIPMENT INVENTORY'!$B:$B,'LABOR-EQUIP'!$B74)","v":0}]
[null,null,null,null,0,{"$f":"IF(ISBLANK(B75),0,VLOOKUP(B75,'EQUIPMENT INVENTORY'!$B$7:$AK$1021,7,0))","v":0},{"$f":"IF(ISBLANK(B75),0,VLOOKUP(B75,'EQUIPMENT INVENTORY'!$B$7:$AK$1021,8,0))","v":0},null,null,null,null,null,null,null,{"$f":"SUM($H75:$N75)","v":0},null,null,{"$f":"O75*G75","v":0},null,null,{"$f":"COUNTIF('EQUIPMENT INVENTORY'!$B:$B,'LABOR-EQUIP'!$B75)","v":0}]
[null,null,null,null,0,{"$f":"IF(ISBLANK(B76),0,VLOOKUP(B76,'EQUIPMENT INVENTORY'!$B$7:$AK$1021,7,0))","v":0},{"$f":"IF(ISBLANK(B76),0,VLOOKUP(B76,'EQUIPMENT INVENTORY'!$B$7:$AK$1021,8,0))","v":0},null,null,null,null,null,null,null,{"$f":"SUM($H76:$N76)","v":0},null,null,{"$f":"O76*G76","v":0},null,null,{"$f":"COUNTIF('EQUIPMENT INVENTORY'!$B:$B,'LABOR-EQUIP'!$B76)","v":0}]
[null,"Employee/\nEquipment",null,"RATE w/","REQUEST #","COST CODE","RATE",null,null,null,null,null,null,null,"REG","OT1","OT2","REG TIME\nCOST","OT1\nCOST","OT2\nCOST",{"$f":"COUNTIF('EQUIPMENT INVENTORY'!$B:$B,'LABOR-EQUIP'!$B77)","v":0}]
[null,null,null,"FRINGE",null,null,null,null,null,null,null,null,null,null,null,null,null,null,null,null,{"$f":"COUNTIF('EQUIPMENT INVENTORY'!$B:$B,'LABOR-EQUIP'!$B78)","v":0}]
[null,null,"REG",{"$f":"IF(ISBLANK(B79),0,VLOOKUP(B79,'PAYROLL RECORD'!$B$8:$V$2005,18,FALSE))","v":0},null,null,null,null,null,null,null,null,null,null,{"$f":"SUM($H79:$N79)","v":0},null,null,{"$f":"IFERROR(D79*O79,\"\")","v":0},null,null,{"$f":"COUNTIF('EQUIPMENT INVENTORY'!$B:$B,'LABOR-EQUIP'!$B79)","v":0}]
[null,{"$f":"IF(ISBLANK(B79),\" \",VLOOKUP(B79,'PAYROLL RECORD'!$B$9:$C$10740,2,FALSE))","v":" "},"OT1",{"$f":"IF(ISBLANK(B79),0,VLOOKUP(B79,'PAYROLL RECORD'!$B$8:$V$2005,19,FALSE))","v":0},{"$f":"+E79","v":0},null,null,null,null,null,null,null,null,null,null,{"$f":"SUM(H80:N80)","v":0},null,null,{"$f":"IF(E80<>\"e\",P80*D80,0)","v":0},null,{"$f":"COUNTIF('EQUIPMENT INVENTORY'!$B:$B,'LABOR-EQUIP'!$B80)","v":0}]
[null,null,"OT2",{"$f":"IF(ISBLANK(B79),0,VLOOKUP(B79,'PAYROLL RECORD'!$B$8:$V$2005,20,FALSE))","v":0},{"$f":"+E80","v":0},null,null,null,null,null,null,null,null,null,null,null,{"$f":"SUM(H81:N81)","v":0},null,null,{"$f":"IF(E81<>\"E\",Q81*D81,0)","v":0},{"$f":"COUNTIF('EQUIPMENT INVENTORY'!$B:$B,'LABOR-EQUIP'!$B81)","v":0}]
[null,"Select type of activity(s).  See ELIGIBLE ACTIVITIES tab for complete descriptions and instructions.  Choose as many activities as applicable for each day/date. ",null,null,null,null,null,null,null,null,null,null,null,null,null,null,null,null,null,null,{"$f":"COUNTIF('EQUIPMENT INVENTORY'!$B:$B,'LABOR-EQUIP'!$B82)","v":0}]
[null,null,null,null,{"$f":"+E81","v":0},{"$f":"IF(ISBLANK(B83),0,VLOOKUP(B83,'EQUIPMENT INVENTORY'!$B$7:$AK$1021,7,0))","v":0},{"$f":"IF(ISBLANK(B83),0,VLOOKUP(B83,'EQUIPMENT INVENTORY'!$B$7:$AK$1021,8,0))","v":0},null,null,null,null,null,null,null,{"$f":"SUM($H83:$N83)","v":0},null,null,{"$f":"O83*G83","v":0},null,null,{"$f":"COUNTIF('EQUIPMENT INVENTORY'!$B:$B,'LABOR-EQUIP'!$B83)","v":0}]
[null,null,null,null,0,{"$f":"IF(ISBLANK(B84),0,VLOOKUP(B84,'EQUIPMENT INVENTORY'!$B$7:$AK$1021,7,0))","v":0},{"$f":"IF(ISBLANK(B84),0,VLOOKUP(B84,'EQUIPMENT INVENTORY'!$B$7:$AK$1021,8,0))","v":0},null,null,null,null,null,null,null,{"$f":"SUM($H84:$N84)","v":0},null,null,{"$f":"O84*G84","v":0},null,null,{"$f":"COUNTIF('EQUIPMENT INVENTORY'!$B:$B,'LABOR-EQUIP'!$B84)","v":0}]
[null,null,null,null,0,{"$f":"IF(ISBLANK(B85),0,VLOOKUP(B85,'EQUIPMENT INVENTORY'!$B$7:$AK$1021,7,0))","v":0},{"$f":"IF(ISBLANK(B85),0,VLOOKUP(B85,'EQUIPMENT INVENTORY'!$B$7:$AK$1021,8,0))","v":0},null,null,null,null,null,null,null,{"$f":"SUM($H85:$N85)","v":0},null,null,{"$f":"O85*G85","v":0},null,null,{"$f":"COUNTIF('EQUIPMENT INVENTORY'!$B:$B,'LABOR-EQUIP'!$B85)","v":0}]
[null,"Employee/\nEquipment",null,"RATE w/","REQUEST #","COST CODE","RATE",null,null,null,null,null,null,null,"REG","OT1","OT2","REG TIME\nCOST","OT1\nCOST","OT2\nCOST",{"$f":"COUNTIF('EQUIPMENT INVENTORY'!$B:$B,'LABOR-EQUIP'!$B86)","v":0}]
[null,null,null,"FRINGE",null,null,null,null,null,null,null,null,null,null,null,null,null,null,null,null,{"$f":"COUNTIF('EQUIPMENT INVENTORY'!$B:$B,'LABOR-EQUIP'!$B87)","v":0}]
[null,null,"REG",{"$f":"IF(ISBLANK(B88),0,VLOOKUP(B88,'PAYROLL RECORD'!$B$8:$V$2005,18,FALSE))","v":0},null,null,null,null,null,null,null,null,null,null,{"$f":"SUM($H88:$N88)","v":0},null,null,{"$f":"IFERROR(D88*O88,\"\")","v":0},null,null,{"$f":"COUNTIF('EQUIPMENT INVENTORY'!$B:$B,'LABOR-EQUIP'!$B88)","v":0}]
[null,{"$f":"IF(ISBLANK(B88),\" \",VLOOKUP(B88,'PAYROLL RECORD'!$B$9:$C$10740,2,FALSE))","v":" "},"OT1",{"$f":"IF(ISBLANK(B88),0,VLOOKUP(B88,'PAYROLL RECORD'!$B$8:$V$2005,19,FALSE))","v":0},{"$f":"+E88","v":0},null,null,null,null,null,null,null,null,null,null,{"$f":"SUM(H89:N89)","v":0},null,null,{"$f":"IF(E89<>\"e\",P89*D89,0)","v":0},null,{"$f":"COUNTIF('EQUIPMENT INVENTORY'!$B:$B,'LABOR-EQUIP'!$B89)","v":0}]
[null,null,"OT2",{"$f":"IF(ISBLANK(B88),0,VLOOKUP(B88,'PAYROLL RECORD'!$B$8:$V$2005,20,FALSE))","v":0},{"$f":"+E89","v":0},null,null,null,null,null,null,null,null,null,null,null,{"$f":"SUM(H90:N90)","v":0},null,null,{"$f":"IF(E90<>\"E\",Q90*D90,0)","v":0},{"$f":"COUNTIF('EQUIPMENT INVENTORY'!$B:$B,'LABOR-EQUIP'!$B90)","v":0}]
[null,"Select type of activity(s).  See ELIGIBLE ACTIVITIES tab for complete descriptions and instructions.  Choose as many activities as applicable for each day/date. ",null,null,null,null,null,null,null,null,null,null,null,null,null,null,null,null,null,null,{"$f":"COUNTIF('EQUIPMENT INVENTORY'!$B:$B,'LABOR-EQUIP'!$B91)","v":0}]
[null,null,null,null,{"$f":"+E90","v":0},{"$f":"IF(ISBLANK(B92),0,VLOOKUP(B92,'EQUIPMENT INVENTORY'!$B$7:$AK$1021,7,0))","v":0},{"$f":"IF(ISBLANK(B92),0,VLOOKUP(B92,'EQUIPMENT INVENTORY'!$B$7:$AK$1021,8,0))","v":0},null,null,null,null,null,null,null,{"$f":"SUM($H92:$N92)","v":0},null,null,{"$f":"O92*G92","v":0},null,null,{"$f":"COUNTIF('EQUIPMENT INVENTORY'!$B:$B,'LABOR-EQUIP'!$B92)","v":0}]
[null,null,null,null,0,{"$f":"IF(ISBLANK(B93),0,VLOOKUP(B93,'EQUIPMENT INVENTORY'!$B$7:$AK$1021,7,0))","v":0},{"$f":"IF(ISBLANK(B93),0,VLOOKUP(B93,'EQUIPMENT INVENTORY'!$B$7:$AK$1021,8,0))","v":0},null,null,null,null,null,null,null,{"$f":"SUM($H93:$N93)","v":0},null,null,{"$f":"O93*G93","v":0},null,null,{"$f":"COUNTIF('EQUIPMENT INVENTORY'!$B:$B,'LABOR-EQUIP'!$B93)","v":0}]
[null,null,null,null,0,{"$f":"IF(ISBLANK(B94),0,VLOOKUP(B94,'EQUIPMENT INVENTORY'!$B$7:$AK$1021,7,0))","v":0},{"$f":"IF(ISBLANK(B94),0,VLOOKUP(B94,'EQUIPMENT INVENTORY'!$B$7:$AK$1021,8,0))","v":0},null,null,null,null,null,null,null,{"$f":"SUM($H94:$N94)","v":0},null,null,{"$f":"O94*G94","v":0},null,null,{"$f":"COUNTIF('EQUIPMENT INVENTORY'!$B:$B,'LABOR-EQUIP'!$B94)","v":0}]
[null,"Employee/\nEquipment",null,"RATE w/","REQUEST #","COST CODE","RATE",null,null,null,null,null,null,null,"REG","OT1","OT2","REG TIME\nCOST","OT1\nCOST","OT2\nCOST",{"$f":"COUNTIF('EQUIPMENT INVENTORY'!$B:$B,'LABOR-EQUIP'!$B95)","v":0}]
[null,null,null,"FRINGE",null,null,null,null,null,null,null,null,null,null,null,null,null,null,null,null,{"$f":"COUNTIF('EQUIPMENT INVENTORY'!$B:$B,'LABOR-EQUIP'!$B96)","v":0}]
[null,null,"REG",{"$f":"IF(ISBLANK(B97),0,VLOOKUP(B97,'PAYROLL RECORD'!$B$8:$V$2005,18,FALSE))","v":0},null,null,null,null,null,null,null,null,null,null,{"$f":"SUM($H97:$N97)","v":0},null,null,{"$f":"IFERROR(D97*O97,\"\")","v":0},null,null,{"$f":"COUNTIF('EQUIPMENT INVENTORY'!$B:$B,'LABOR-EQUIP'!$B97)","v":0}]
[null,{"$f":"IF(ISBLANK(B97),\" \",VLOOKUP(B97,'PAYROLL RECORD'!$B$9:$C$10740,2,FALSE))","v":" "},"OT1",{"$f":"IF(ISBLANK(B97),0,VLOOKUP(B97,'PAYROLL RECORD'!$B$8:$V$2005,19,FALSE))","v":0},{"$f":"+E97","v":0},null,null,null,null,null,null,null,null,null,null,{"$f":"SUM(H98:N98)","v":0},null,null,{"$f":"IF(E98<>\"e\",P98*D98,0)","v":0},null,{"$f":"COUNTIF('EQUIPMENT INVENTORY'!$B:$B,'LABOR-EQUIP'!$B98)","v":0}]
[null,null,"OT2",{"$f":"IF(ISBLANK(B97),0,VLOOKUP(B97,'PAYROLL RECORD'!$B$8:$V$2005,20,FALSE))","v":0},{"$f":"+E98","v":0},null,null,null,null,null,null,null,null,null,null,null,{"$f":"SUM(H99:N99)","v":0},null,null,{"$f":"IF(E99<>\"E\",Q99*D99,0)","v":0},{"$f":"COUNTIF('EQUIPMENT INVENTORY'!$B:$B,'LABOR-EQUIP'!$B99)","v":0}]
[null,"Select type of activity(s).  See ELIGIBLE ACTIVITIES tab for complete descriptions and instructions.  Choose as many activities as applicable for each day/date. ",null,null,null,null,null,null,null,null,null,null,null,null,null,null,null,null,null,null,{"$f":"COUNTIF('EQUIPMENT INVENTORY'!$B:$B,'LABOR-EQUIP'!$B100)","v":0}]
[null,null,null,null,{"$f":"+E99","v":0},{"$f":"IF(ISBLANK(B101),0,VLOOKUP(B101,'EQUIPMENT INVENTORY'!$B$7:$AK$1021,7,0))","v":0},{"$f":"IF(ISBLANK(B101),0,VLOOKUP(B101,'EQUIPMENT INVENTORY'!$B$7:$AK$1021,8,0))","v":0},null,null,null,null,null,null,null,{"$f":"SUM($H101:$N101)","v":0},null,null,{"$f":"O101*G101","v":0},null,null,{"$f":"COUNTIF('EQUIPMENT INVENTORY'!$B:$B,'LABOR-EQUIP'!$B101)","v":0}]
[null,null,null,null,0,{"$f":"IF(ISBLANK(B102),0,VLOOKUP(B102,'EQUIPMENT INVENTORY'!$B$7:$AK$1021,7,0))","v":0},{"$f":"IF(ISBLANK(B102),0,VLOOKUP(B102,'EQUIPMENT INVENTORY'!$B$7:$AK$1021,8,0))","v":0},null,null,null,null,null,null,null,{"$f":"SUM($H102:$N102)","v":0},null,null,{"$f":"O102*G102","v":0},null,null,{"$f":"COUNTIF('EQUIPMENT INVENTORY'!$B:$B,'LABOR-EQUIP'!$B102)","v":0}]
[null,null,null,null,0,{"$f":"IF(ISBLANK(B103),0,VLOOKUP(B103,'EQUIPMENT INVENTORY'!$B$7:$AK$1021,7,0))","v":0},{"$f":"IF(ISBLANK(B103),0,VLOOKUP(B103,'EQUIPMENT INVENTORY'!$B$7:$AK$1021,8,0))","v":0},null,null,null,null,null,null,null,{"$f":"SUM($H103:$N103)","v":0},null,null,{"$f":"O103*G103","v":0},null,null,{"$f":"COUNTIF('EQUIPMENT INVENTORY'!$B:$B,'LABOR-EQUIP'!$B103)","v":0}]
[null,null,null,null,null,null,null,null,null,null,null,null,"LABOR - Page Total",null,{"$f":"O61+O70+O79+O88+O97","v":0},{"$f":"P62+P71+P80+P89+P98","v":0},{"$f":"Q63+Q72+Q81+Q90+Q99","v":0},{"$f":"R61+R70+R79+R88+R97","v":0},{"$f":"S62+S71+S80+S89+S98","v":0},{"$f":"T63+T72+T81+T90+T99","v":0}]
[null,null,null,null,null,null,null,null,null,null,null,null,"EQUIPMENT - Page Total",null,{"$f":"O65+O66+O67+O74+O75+O76+O83+O84+O85+O92+O93+O94+O101+O102+O103","v":0},null,null,{"$f":"R65+R66+R67+R74+R75+R76+R83+R84+R85+R92+R93+R94+R101+R102+R103","v":0}]
[null,null,null,null,null,null,null,null,null,null,null,null,"LABOR - Grand Total",null,{"$f":"SUM($AA:$AA)","v":0},{"$f":"SUM(AB:AB)","v":0},{"$f":"SUM(AC:AC)","v":0},{"$f":"SUM(AD:AD)","v":0},{"$f":"SUM(AE:AE)","v":0},{"$f":"SUM(AF:AF)","v":0},null,null,null,null,null,null,{"$f":"O104","v":0},0,0,0,0,0]
[null,null,null,null,null,null,null,null,null,null,null,null,"EQUIPMENT - Grand Total",null,{"$f":"SUM(AG:AG)","v":0},null,null,{"$f":"SUM(AH:AH)","v":0},null,null,null,null,null,null,null,null,null,null,null,null,null,null,{"$f":"O105","v":0},{"$f":"R105","v":0}]
[]
[]
[null,"APPLICANT NAME",null,null,"DISASTER #",null,null,"PLEASE ENTER DATES FOR EACH DAY WORKED.  THIS ALLOWS FOR TRACKING OF COSTS OVER MULTIPLE DAYS, WEEKS AND/OR YEARS.  USE THE FIRST ROW FOR MONTH/DAY AND THE SECOND ROW FOR YEAR.  DATES DO NOT NEED TO BE CONSECUTIVE. ",null,null,null,null,null,null,"DISASTER TITLE"]
[null,{"$f":"IF('PAYROLL RECORD'!B111=\"\",\"\",'PAYROLL RECORD'!B111)","v":""},null,null,{"$f":"IF('PAYROLL RECORD'!D111=\"\",\"\",'PAYROLL RECORD'!D111)","v":""},null,null,null,null,null,null,null,null,null,{"$f":"IF('PAYROLL RECORD'!G111=\"\",\"\",'PAYROLL RECORD'!G111)","v":""}]
[null,"Employee/\nEquipment",null,"RATE w/","REQUEST #","COST CODE","RATE",null,null,null,null,null,null,null,"REG","OT1","OT2","REG TIME\nCOST","OT1\nCOST","OT2\nCOST"]
[null,null,null,"FRINGE"]
[null,null,"REG",{"$f":"IF(ISBLANK(B114),0,VLOOKUP(B114,'PAYROLL RECORD'!$B$8:$V$2005,18,FALSE))","v":0},null,null,null,null,null,null,null,null,null,null,{"$f":"SUM($H114:$N114)","v":0},null,null,{"$f":"IFERROR(D114*O114,\"\")","v":0},null,null,{"$f":"COUNTIF('EQUIPMENT INVENTORY'!$B:$B,'LABOR-EQUIP'!$B114)","v":0}]
[null,{"$f":"IF(ISBLANK(B114),\" \",VLOOKUP(B114,'PAYROLL RECORD'!$B$9:$C$10740,2,FALSE))","v":" "},"OT1",{"$f":"IF(ISBLANK(B114),0,VLOOKUP(B114,'PAYROLL RECORD'!$B$8:$V$2005,19,FALSE))","v":0},{"$f":"+E114","v":0},null,null,null,null,null,null,null,null,null,null,{"$f":"SUM(H115:N115)","v":0},null,null,{"$f":"IFERROR(P115*D115,\"\")","v":0},null,{"$f":"COUNTIF('EQUIPMENT INVENTORY'!$B:$B,'LABOR-EQUIP'!$B115)","v":0}]
[null,null,"OT2",{"$f":"IF(ISBLANK(B114),0,VLOOKUP(B114,'PAYROLL RECORD'!$B$8:$V$2005,20,FALSE))","v":0},{"$f":"+E114","v":0},null,null,null,null,null,null,null,null,null,null,null,{"$f":"SUM(H116:N116)","v":0},null,null,{"$f":"IFERROR(Q116*D116,\"\")","v":0},{"$f":"COUNTIF('EQUIPMENT INVENTORY'!$B:$B,'LABOR-EQUIP'!$B116)","v":0}]
[null,"Select type of activity(s).  See ELIGIBLE ACTIVITIES tab for complete descriptions and instructions.  Choose as many activities as applicable for each day/date. ",null,null,null,null,null,null,null,null,null,null,null,null,null,null,null,null,null,null,{"$f":"COUNTIF('EQUIPMENT INVENTORY'!$B:$B,'LABOR-EQUIP'!$B117)","v":0}]
[null,null,null,null,{"$f":"+E114","v":0},{"$f":"IF(ISBLANK(B118),0,VLOOKUP(B118,'EQUIPMENT INVENTORY'!$B$7:$AK$1021,7,0))","v":0},{"$f":"IF(ISBLANK(B118),0,VLOOKUP(B118,'EQUIPMENT INVENTORY'!$B$7:$AK$1021,8,0))","v":0},null,null,null,null,null,null,null,{"$f":"SUM($H118:$N118)","v":0},null,null,{"$f":"O118*G118","v":0},null,null,{"$f":"COUNTIF('EQUIPMENT INVENTORY'!$B:$B,'LABOR-EQUIP'!$B118)","v":0}]
[null,null,null,null,{"$f":"+E114","v":0},{"$f":"IF(ISBLANK(B119),0,VLOOKUP(B119,'EQUIPMENT INVENTORY'!$B$7:$AK$1021,7,0))","v":0},{"$f":"IF(ISBLANK(B119),0,VLOOKUP(B119,'EQUIPMENT INVENTORY'!$B$7:$AK$1021,8,0))","v":0},null,null,null,null,null,null,null,{"$f":"SUM($H119:$N119)","v":0},null,null,{"$f":"O119*G119","v":0},null,null,{"$f":"COUNTIF('EQUIPMENT INVENTORY'!$B:$B,'LABOR-EQUIP'!$B119)","v":0}]
[null,null,null,null,{"$f":"+E114","v":0},{"$f":"IF(ISBLANK(B120),0,VLOOKUP(B120,'EQUIPMENT INVENTORY'!$B$7:$AK$1021,7,0))","v":0},{"$f":"IF(ISBLANK(B120),0,VLOOKUP(B120,'EQUIPMENT INVENTORY'!$B$7:$AK$1021,8,0))","v":0},null,null,null,null,null,null,null,{"$f":"SUM($H120:$N120)","v":0},null,null,{"$f":"O120*G120","v":0},null,null,{"$f":"COUNTIF('EQUIPMENT INVENTORY'!$B:$B,'LABOR-EQUIP'!$B120)","v":0}]
[null,"Employee/\nEquipment",null,"RATE w/","REQUEST #","COST CODE","RATE",null,null,null,null,null,null,null,"REG","OT1","OT2","REG TIME\nCOST","OT1\nCOST","OT2\nCOST",{"$f":"COUNTIF('EQUIPMENT INVENTORY'!$B:$B,'LABOR-EQUIP'!$B121)","v":0}]
[null,null,null,"FRINGE",null,null,null,null,null,null,null,null,null,null,null,null,null,null,null,null,{"$f":"COUNTIF('EQUIPMENT INVENTORY'!$B:$B,'LABOR-EQUIP'!$B122)","v":0}]
[null,null,"REG",{"$f":"IF(ISBLANK(B123),0,VLOOKUP(B123,'PAYROLL RECORD'!$B$8:$V$2005,18,FALSE))","v":0},null,null,null,null,null,null,null,null,null,null,{"$f":"SUM($H123:$N123)","v":0},null,null,{"$f":"IFERROR(D123*O123,\"\")","v":0},null,null,{"$f":"COUNTIF('EQUIPMENT INVENTORY'!$B:$B,'LABOR-EQUIP'!$B123)","v":0}]
[null,{"$f":"IF(ISBLANK(B123),\" \",VLOOKUP(B123,'PAYROLL RECORD'!$B$9:$C$10740,2,FALSE))","v":" "},"OT1",{"$f":"IF(ISBLANK(B123),0,VLOOKUP(B123,'PAYROLL RECORD'!$B$8:$V$2005,19,FALSE))","v":0},{"$f":"+E123","v":0},null,null,null,null,null,null,null,null,null,null,{"$f":"SUM(H124:N124)","v":0},null,null,{"$f":"IF(E124<>\"e\",P124*D124,0)","v":0},null,{"$f":"COUNTIF('EQUIPMENT INVENTORY'!$B:$B,'LABOR-EQUIP'!$B124)","v":0}]
[null,null,"OT2",{"$f":"IF(ISBLANK(B123),0,VLOOKUP(B123,'PAYROLL RECORD'!$B$8:$V$2005,20,FALSE))","v":0},{"$f":"+E124","v":0},null,null,null,null,null,null,null,null,null,null,null,{"$f":"SUM(H125:N125)","v":0},null,null,{"$f":"IF(E125<>\"E\",Q125*D125,0)","v":0},{"$f":"COUNTIF('EQUIPMENT INVENTORY'!$B:$B,'LABOR-EQUIP'!$B125)","v":0}]
[null,"Select type of activity(s).  See ELIGIBLE ACTIVITIES tab for complete descriptions and instructions.  Choose as many activities as applicable for each day/date. ",null,null,null,null,null,null,null,null,null,null,null,null,null,null,null,null,null,null,{"$f":"COUNTIF('EQUIPMENT INVENTORY'!$B:$B,'LABOR-EQUIP'!$B126)","v":0}]
[null,null,null,null,{"$f":"+E125","v":0},{"$f":"IF(ISBLANK(B127),0,VLOOKUP(B127,'EQUIPMENT INVENTORY'!$B$7:$AK$1021,7,0))","v":0},{"$f":"IF(ISBLANK(B127),0,VLOOKUP(B127,'EQUIPMENT INVENTORY'!$B$7:$AK$1021,8,0))","v":0},null,null,null,null,null,null,null,{"$f":"SUM($H127:$N127)","v":0},null,null,{"$f":"O127*G127","v":0},null,null,{"$f":"COUNTIF('EQUIPMENT INVENTORY'!$B:$B,'LABOR-EQUIP'!$B127)","v":0}]
[null,null,null,null,0,{"$f":"IF(ISBLANK(B128),0,VLOOKUP(B128,'EQUIPMENT INVENTORY'!$B$7:$AK$1021,7,0))","v":0},{"$f":"IF(ISBLANK(B128),0,VLOOKUP(B128,'EQUIPMENT INVENTORY'!$B$7:$AK$1021,8,0))","v":0},null,null,null,null,null,null,null,{"$f":"SUM($H128:$N128)","v":0},null,null,{"$f":"O128*G128","v":0},null,null,{"$f":"COUNTIF('EQUIPMENT INVENTORY'!$B:$B,'LABOR-EQUIP'!$B128)","v":0}]
[null,null,null,null,0,{"$f":"IF(ISBLANK(B129),0,VLOOKUP(B129,'EQUIPMENT INVENTORY'!$B$7:$AK$1021,7,0))","v":0},{"$f":"IF(ISBLANK(B129),0,VLOOKUP(B129,'EQUIPMENT INVENTORY'!$B$7:$AK$1021,8,0))","v":0},null,null,null,null,null,null,null,{"$f":"SUM($H129:$N129)","v":0},null,null,{"$f":"O129*G129","v":0},null,null,{"$f":"COUNTIF('EQUIPMENT INVENTORY'!$B:$B,'LABOR-EQUIP'!$B129)","v":0}]
[null,"Employee/\nEquipment",null,"RATE w/","REQUEST #","COST CODE","RATE",null,null,null,null,null,null,null,"REG","OT1","OT2","REG TIME\nCOST","OT1\nCOST","OT2\nCOST",{"$f":"COUNTIF('EQUIPMENT INVENTORY'!$B:$B,'LABOR-EQUIP'!$B130)","v":0}]
[null,null,null,"FRINGE",null,null,null,null,null,null,null,null,null,null,null,null,null,null,null,null,{"$f":"COUNTIF('EQUIPMENT INVENTORY'!$B:$B,'LABOR-EQUIP'!$B131)","v":0}]
[null,null,"REG",{"$f":"IF(ISBLANK(B132),0,VLOOKUP(B132,'PAYROLL RECORD'!$B$8:$V$2005,18,FALSE))","v":0},null,null,null,null,null,null,null,null,null,null,{"$f":"SUM($H132:$N132)","v":0},null,null,{"$f":"IFERROR(D132*O132,\"\")","v":0},null,null,{"$f":"COUNTIF('EQUIPMENT INVENTORY'!$B:$B,'LABOR-EQUIP'!$B132)","v":0}]
[null,{"$f":"IF(ISBLANK(B132),\" \",VLOOKUP(B132,'PAYROLL RECORD'!$B$9:$C$10740,2,FALSE))","v":" "},"OT1",{"$f":"IF(ISBLANK(B132),0,VLOOKUP(B132,'PAYROLL RECORD'!$B$8:$V$2005,19,FALSE))","v":0},{"$f":"+E132","v":0},null,null,null,null,null,null,null,null,null,null,{"$f":"SUM(H133:N133)","v":0},null,null,{"$f":"IF(E133<>\"e\",P133*D133,0)","v":0},null,{"$f":"COUNTIF('EQUIPMENT INVENTORY'!$B:$B,'LABOR-EQUIP'!$B133)","v":0}]
[null,null,"OT2",{"$f":"IF(ISBLANK(B132),0,VLOOKUP(B132,'PAYROLL RECORD'!$B$8:$V$2005,20,FALSE))","v":0},{"$f":"+E133","v":0},null,null,null,null,null,null,null,null,null,null,null,{"$f":"SUM(H134:N134)","v":0},null,null,{"$f":"IF(E134<>\"E\",Q134*D134,0)","v":0},{"$f":"COUNTIF('EQUIPMENT INVENTORY'!$B:$B,'LABOR-EQUIP'!$B134)","v":0}]
[null,"Select type of activity(s).  See ELIGIBLE ACTIVITIES tab for complete descriptions and instructions.  Choose as many activities as applicable for each day/date. ",null,null,null,null,null,null,null,null,null,null,null,null,null,null,null,null,null,null,{"$f":"COUNTIF('EQUIPMENT INVENTORY'!$B:$B,'LABOR-EQUIP'!$B135)","v":0}]
[null,null,null,null,{"$f":"+E134","v":0},{"$f":"IF(ISBLANK(B136),0,VLOOKUP(B136,'EQUIPMENT INVENTORY'!$B$7:$AK$1021,7,0))","v":0},{"$f":"IF(ISBLANK(B136),0,VLOOKUP(B136,'EQUIPMENT INVENTORY'!$B$7:$AK$1021,8,0))","v":0},null,null,null,null,null,null,null,{"$f":"SUM($H136:$N136)","v":0},null,null,{"$f":"O136*G136","v":0},null,null,{"$f":"COUNTIF('EQUIPMENT INVENTORY'!$B:$B,'LABOR-EQUIP'!$B136)","v":0}]
[null,null,null,null,0,{"$f":"IF(ISBLANK(B137),0,VLOOKUP(B137,'EQUIPMENT INVENTORY'!$B$7:$AK$1021,7,0))","v":0},{"$f":"IF(ISBLANK(B137),0,VLOOKUP(B137,'EQUIPMENT INVENTORY'!$B$7:$AK$1021,8,0))","v":0},null,null,null,null,null,null,null,{"$f":"SUM($H137:$N137)","v":0},null,null,{"$f":"O137*G137","v":0},null,null,{"$f":"COUNTIF('EQUIPMENT INVENTORY'!$B:$B,'LABOR-EQUIP'!$B137)","v":0}]
[null,null,null,null,0,{"$f":"IF(ISBLANK(B138),0,VLOOKUP(B138,'EQUIPMENT INVENTORY'!$B$7:$AK$1021,7,0))","v":0},{"$f":"IF(ISBLANK(B138),0,VLOOKUP(B138,'EQUIPMENT INVENTORY'!$B$7:$AK$1021,8,0))","v":0},null,null,null,null,null,null,null,{"$f":"SUM($H138:$N138)","v":0},null,null,{"$f":"O138*G138","v":0},null,null,{"$f":"COUNTIF('EQUIPMENT INVENTORY'!$B:$B,'LABOR-EQUIP'!$B138)","v":0}]
[null,"Employee/\nEquipment",null,"RATE w/","REQUEST #","COST CODE","RATE",null,null,null,null,null,null,null,"REG","OT1","OT2","REG TIME\nCOST","OT1\nCOST","OT2\nCOST",{"$f":"COUNTIF('EQUIPMENT INVENTORY'!$B:$B,'LABOR-EQUIP'!$B139)","v":0}]
[null,null,null,"FRINGE",null,null,null,null,null,null,null,null,null,null,null,null,null,null,null,null,{"$f":"COUNTIF('EQUIPMENT INVENTORY'!$B:$B,'LABOR-EQUIP'!$B140)","v":0}]
[null,null,"REG",{"$f":"IF(ISBLANK(B141),0,VLOOKUP(B141,'PAYROLL RECORD'!$B$8:$V$2005,18,FALSE))","v":0},null,null,null,null,null,null,null,null,null,null,{"$f":"SUM($H141:$N141)","v":0},null,null,{"$f":"IFERROR(D141*O141,\"\")","v":0},null,null,{"$f":"COUNTIF('EQUIPMENT INVENTORY'!$B:$B,'LABOR-EQUIP'!$B141)","v":0}]
[null,{"$f":"IF(ISBLANK(B141),\" \",VLOOKUP(B141,'PAYROLL RECORD'!$B$9:$C$10740,2,FALSE))","v":" "},"OT1",{"$f":"IF(ISBLANK(B141),0,VLOOKUP(B141,'PAYROLL RECORD'!$B$8:$V$2005,19,FALSE))","v":0},{"$f":"+E141","v":0},null,null,null,null,null,null,null,null,null,null,{"$f":"SUM(H142:N142)","v":0},null,null,{"$f":"IF(E142<>\"e\",P142*D142,0)","v":0},null,{"$f":"COUNTIF('EQUIPMENT INVENTORY'!$B:$B,'LABOR-EQUIP'!$B142)","v":0}]
[null,null,"OT2",{"$f":"IF(ISBLANK(B141),0,VLOOKUP(B141,'PAYROLL RECORD'!$B$8:$V$2005,20,FALSE))","v":0},{"$f":"+E142","v":0},null,null,null,null,null,null,null,null,null,null,null,{"$f":"SUM(H143:N143)","v":0},null,null,{"$f":"IF(E143<>\"E\",Q143*D143,0)","v":0},{"$f":"COUNTIF('EQUIPMENT INVENTORY'!$B:$B,'LABOR-EQUIP'!$B143)","v":0}]
[null,"Select type of activity(s).  See ELIGIBLE ACTIVITIES tab for complete descriptions and instructions.  Choose as many activities as applicable for each day/date. ",null,null,null,null,null,null,null,null,null,null,null,null,null,null,null,null,null,null,{"$f":"COUNTIF('EQUIPMENT INVENTORY'!$B:$B,'LABOR-EQUIP'!$B144)","v":0}]
[null,null,null,null,{"$f":"+E143","v":0},{"$f":"IF(ISBLANK(B145),0,VLOOKUP(B145,'EQUIPMENT INVENTORY'!$B$7:$AK$1021,7,0))","v":0},{"$f":"IF(ISBLANK(B145),0,VLOOKUP(B145,'EQUIPMENT INVENTORY'!$B$7:$AK$1021,8,0))","v":0},null,null,null,null,null,null,null,{"$f":"SUM($H145:$N145)","v":0},null,null,{"$f":"O145*G145","v":0},null,null,{"$f":"COUNTIF('EQUIPMENT INVENTORY'!$B:$B,'LABOR-EQUIP'!$B145)","v":0}]
[null,null,null,null,0,{"$f":"IF(ISBLANK(B146),0,VLOOKUP(B146,'EQUIPMENT INVENTORY'!$B$7:$AK$1021,7,0))","v":0},{"$f":"IF(ISBLANK(B146),0,VLOOKUP(B146,'EQUIPMENT INVENTORY'!$B$7:$AK$1021,8,0))","v":0},null,null,null,null,null,null,null,{"$f":"SUM($H146:$N146)","v":0},null,null,{"$f":"O146*G146","v":0},null,null,{"$f":"COUNTIF('EQUIPMENT INVENTORY'!$B:$B,'LABOR-EQUIP'!$B146)","v":0}]
[null,null,null,null,0,{"$f":"IF(ISBLANK(B147),0,VLOOKUP(B147,'EQUIPMENT INVENTORY'!$B$7:$AK$1021,7,0))","v":0},{"$f":"IF(ISBLANK(B147),0,VLOOKUP(B147,'EQUIPMENT INVENTORY'!$B$7:$AK$1021,8,0))","v":0},null,null,null,null,null,null,null,{"$f":"SUM($H147:$N147)","v":0},null,null,{"$f":"O147*G147","v":0},null,null,{"$f":"COUNTIF('EQUIPMENT INVENTORY'!$B:$B,'LABOR-EQUIP'!$B147)","v":0}]
[null,"Employee/\nEquipment",null,"RATE w/","REQUEST #","COST CODE","RATE",null,null,null,null,null,null,null,"REG","OT1","OT2","REG TIME\nCOST","OT1\nCOST","OT2\nCOST",{"$f":"COUNTIF('EQUIPMENT INVENTORY'!$B:$B,'LABOR-EQUIP'!$B148)","v":0}]
[null,null,null,"FRINGE",null,null,null,null,null,null,null,null,null,null,null,null,null,null,null,null,{"$f":"COUNTIF('EQUIPMENT INVENTORY'!$B:$B,'LABOR-EQUIP'!$B149)","v":0}]
[null,null,"REG",{"$f":"IF(ISBLANK(B150),0,VLOOKUP(B150,'PAYROLL RECORD'!$B$8:$V$2005,18,FALSE))","v":0},null,null,null,null,null,null,null,null,null,null,{"$f":"SUM($H150:$N150)","v":0},null,null,{"$f":"IFERROR(D150*O150,\"\")","v":0},null,null,{"$f":"COUNTIF('EQUIPMENT INVENTORY'!$B:$B,'LABOR-EQUIP'!$B150)","v":0}]
[null,{"$f":"IF(ISBLANK(B150),\" \",VLOOKUP(B150,'PAYROLL RECORD'!$B$9:$C$10740,2,FALSE))","v":" "},"OT1",{"$f":"IF(ISBLANK(B150),0,VLOOKUP(B150,'PAYROLL RECORD'!$B$8:$V$2005,19,FALSE))","v":0},{"$f":"+E150","v":0},null,null,null,null,null,null,null,null,null,null,{"$f":"SUM(H151:N151)","v":0},null,null,{"$f":"IF(E151<>\"e\",P151*D151,0)","v":0},null,{"$f":"COUNTIF('EQUIPMENT INVENTORY'!$B:$B,'LABOR-EQUIP'!$B151)","v":0}]
[null,null,"OT2",{"$f":"IF(ISBLANK(B150),0,VLOOKUP(B150,'PAYROLL RECORD'!$B$8:$V$2005,20,FALSE))","v":0},{"$f":"+E151","v":0},null,null,null,null,null,null,null,null,null,null,null,{"$f":"SUM(H152:N152)","v":0},null,null,{"$f":"IF(E152<>\"E\",Q152*D152,0)","v":0},{"$f":"COUNTIF('EQUIPMENT INVENTORY'!$B:$B,'LABOR-EQUIP'!$B152)","v":0}]
[null,"Select type of activity(s).  See ELIGIBLE ACTIVITIES tab for complete descriptions and instructions.  Choose as many activities as applicable for each day/date. ",null,null,null,null,null,null,null,null,null,null,null,null,null,null,null,null,null,null,{"$f":"COUNTIF('EQUIPMENT INVENTORY'!$B:$B,'LABOR-EQUIP'!$B153)","v":0}]
[null,null,null,null,{"$f":"+E152","v":0},{"$f":"IF(ISBLANK(B154),0,VLOOKUP(B154,'EQUIPMENT INVENTORY'!$B$7:$AK$1021,7,0))","v":0},{"$f":"IF(ISBLANK(B154),0,VLOOKUP(B154,'EQUIPMENT INVENTORY'!$B$7:$AK$1021,8,0))","v":0},null,null,null,null,null,null,null,{"$f":"SUM($H154:$N154)","v":0},null,null,{"$f":"O154*G154","v":0},null,null,{"$f":"COUNTIF('EQUIPMENT INVENTORY'!$B:$B,'LABOR-EQUIP'!$B154)","v":0}]
[null,null,null,null,0,{"$f":"IF(ISBLANK(B155),0,VLOOKUP(B155,'EQUIPMENT INVENTORY'!$B$7:$AK$1021,7,0))","v":0},{"$f":"IF(ISBLANK(B155),0,VLOOKUP(B155,'EQUIPMENT INVENTORY'!$B$7:$AK$1021,8,0))","v":0},null,null,null,null,null,null,null,{"$f":"SUM($H155:$N155)","v":0},null,null,{"$f":"O155*G155","v":0},null,null,{"$f":"COUNTIF('EQUIPMENT INVENTORY'!$B:$B,'LABOR-EQUIP'!$B155)","v":0}]
[null,null,null,null,0,{"$f":"IF(ISBLANK(B156),0,VLOOKUP(B156,'EQUIPMENT INVENTORY'!$B$7:$AK$1021,7,0))","v":0},{"$f":"IF(ISBLANK(B156),0,VLOOKUP(B156,'EQUIPMENT INVENTORY'!$B$7:$AK$1021,8,0))","v":0},null,null,null,null,null,null,null,{"$f":"SUM($H156:$N156)","v":0},null,null,{"$f":"O156*G156","v":0},null,null,{"$f":"COUNTIF('EQUIPMENT INVENTORY'!$B:$B,'LABOR-EQUIP'!$B156)","v":0}]
[null,null,null,null,null,null,null,null,null,null,null,null,"LABOR - Page Total",null,{"$f":"O114+O123+O132+O141+O150","v":0},{"$f":"P115+P124+P133+P142+P151","v":0},{"$f":"Q116+Q125+Q134+Q143+Q152","v":0},{"$f":"R114+R123+R132+R141+R150","v":0},{"$f":"S115+S124+S133+S142+S151","v":0},{"$f":"T116+T125+T134+T143+T152","v":0}]
[null,null,null,null,null,null,null,null,null,null,null,null,"EQUIPMENT - Page Total",null,{"$f":"O118+O119+O120+O127+O128+O129+O136+O137+O138+O145+O146+O147+O154+O155+O156","v":0},null,null,{"$f":"R118+R119+R120+R127+R128+R129+R136+R137+R138+R145+R146+R147+R154+R155+R156","v":0}]
[null,null,null,null,null,null,null,null,null,null,null,null,"LABOR - Grand Total",null,{"$f":"SUM($AA:$AA)","v":0},{"$f":"SUM(AB:AB)","v":0},{"$f":"SUM(AC:AC)","v":0},{"$f":"SUM(AD:AD)","v":0},{"$f":"SUM(AE:AE)","v":0},{"$f":"SUM(AF:AF)","v":0},null,null,null,null,null,null,{"$f":"O157","v":0},{"$f":"P157","v":0},{"$f":"Q157","v":0},{"$f":"R157","v":0},{"$f":"S157","v":0},{"$f":"T157","v":0}]
[null,null,null,null,null,null,null,null,null,null,null,null,"EQUIPMENT - Grand Total",null,{"$f":"SUM(AG:AG)","v":0},null,null,{"$f":"SUM(AH:AH)","v":0},null,null,null,null,null,null,null,null,null,null,null,null,null,null,{"$f":"O158","v":0},{"$f":"R158","v":0}]
[]
[]
[null,"APPLICANT NAME",null,null,"DISASTER #",null,null,"PLEASE ENTER DATES FOR EACH DAY WORKED.  THIS ALLOWS FOR TRACKING OF COSTS OVER MULTIPLE DAYS, WEEKS AND/OR YEARS.  USE THE FIRST ROW FOR MONTH/DAY AND THE SECOND ROW FOR YEAR.  DATES DO NOT NEED TO BE CONSECUTIVE. ",null,null,null,null,null,null,"DISASTER TITLE"]
[null,{"$f":"IF('PAYROLL RECORD'!B164=\"\",\"\",'PAYROLL RECORD'!B164)","v":""},null,null,{"$f":"IF('PAYROLL RECORD'!D164=\"\",\"\",'PAYROLL RECORD'!D164)","v":""},null,null,null,null,null,null,null,null,null,{"$f":"IF('PAYROLL RECORD'!G164=\"\",\"\",'PAYROLL RECORD'!G164)","v":""}]
[null,"Employee/\nEquipment",null,"RATE w/","REQUEST #","COST CODE","RATE",null,null,null,null,null,null,null,"REG","OT1","OT2","REG TIME\nCOST","OT1\nCOST","OT2\nCOST"]
[null,null,null,"FRINGE"]
[null,null,"REG",{"$f":"IF(ISBLANK(B167),0,VLOOKUP(B167,'PAYROLL RECORD'!$B$8:$V$2005,18,FALSE))","v":0},null,null,null,null,null,null,null,null,null,null,{"$f":"SUM($H167:$N167)","v":0},null,null,{"$f":"IFERROR(D167*O167,\"\")","v":0},null,null,{"$f":"COUNTIF('EQUIPMENT INVENTORY'!$B:$B,'LABOR-EQUIP'!$B167)","v":0}]
[null,{"$f":"IF(ISBLANK(B167),\" \",VLOOKUP(B167,'PAYROLL RECORD'!$B$9:$C$10740,2,FALSE))","v":" "},"OT1",{"$f":"IF(ISBLANK(B167),0,VLOOKUP(B167,'PAYROLL RECORD'!$B$8:$V$2005,19,FALSE))","v":0},{"$f":"+E167","v":0},null,null,null,null,null,null,null,null,null,null,{"$f":"SUM(H168:N168)","v":0},null,null,{"$f":"IFERROR(P168*D168,\"\")","v":0},null,{"$f":"COUNTIF('EQUIPMENT INVENTORY'!$B:$B,'LABOR-EQUIP'!$B168)","v":0}]
[null,null,"OT2",{"$f":"IF(ISBLANK(B167),0,VLOOKUP(B167,'PAYROLL RECORD'!$B$8:$V$2005,20,FALSE))","v":0},{"$f":"+E167","v":0},null,null,null,null,null,null,null,null,null,null,null,{"$f":"SUM(H169:N169)","v":0},null,null,{"$f":"IFERROR(Q169*D169,\"\")","v":0},{"$f":"COUNTIF('EQUIPMENT INVENTORY'!$B:$B,'LABOR-EQUIP'!$B169)","v":0}]
[null,"Select type of activity(s).  See ELIGIBLE ACTIVITIES tab for complete descriptions and instructions.  Choose as many activities as applicable for each day/date. ",null,null,null,null,null,null,null,null,null,null,null,null,null,null,null,null,null,null,{"$f":"COUNTIF('EQUIPMENT INVENTORY'!$B:$B,'LABOR-EQUIP'!$B170)","v":0}]
[null,null,null,null,{"$f":"+E167","v":0},{"$f":"IF(ISBLANK(B171),0,VLOOKUP(B171,'EQUIPMENT INVENTORY'!$B$7:$AK$1021,7,0))","v":0},{"$f":"IF(ISBLANK(B171),0,VLOOKUP(B171,'EQUIPMENT INVENTORY'!$B$7:$AK$1021,8,0))","v":0},null,null,null,null,null,null,null,{"$f":"SUM($H171:$N171)","v":0},null,null,{"$f":"O171*G171","v":0},null,null,{"$f":"COUNTIF('EQUIPMENT INVENTORY'!$B:$B,'LABOR-EQUIP'!$B171)","v":0}]
[null,null,null,null,{"$f":"+E167","v":0},{"$f":"IF(ISBLANK(B172),0,VLOOKUP(B172,'EQUIPMENT INVENTORY'!$B$7:$AK$1021,7,0))","v":0},{"$f":"IF(ISBLANK(B172),0,VLOOKUP(B172,'EQUIPMENT INVENTORY'!$B$7:$AK$1021,8,0))","v":0},null,null,null,null,null,null,null,{"$f":"SUM($H172:$N172)","v":0},null,null,{"$f":"O172*G172","v":0},null,null,{"$f":"COUNTIF('EQUIPMENT INVENTORY'!$B:$B,'LABOR-EQUIP'!$B172)","v":0}]
[null,null,null,null,{"$f":"+E167","v":0},{"$f":"IF(ISBLANK(B173),0,VLOOKUP(B173,'EQUIPMENT INVENTORY'!$B$7:$AK$1021,7,0))","v":0},{"$f":"IF(ISBLANK(B173),0,VLOOKUP(B173,'EQUIPMENT INVENTORY'!$B$7:$AK$1021,8,0))","v":0},null,null,null,null,null,null,null,{"$f":"SUM($H173:$N173)","v":0},null,null,{"$f":"O173*G173","v":0},null,null,{"$f":"COUNTIF('EQUIPMENT INVENTORY'!$B:$B,'LABOR-EQUIP'!$B173)","v":0}]
[null,"Employee/\nEquipment",null,"RATE w/","REQUEST #","COST CODE","RATE",null,null,null,null,null,null,null,"REG","OT1","OT2","REG TIME\nCOST","OT1\nCOST","OT2\nCOST",{"$f":"COUNTIF('EQUIPMENT INVENTORY'!$B:$B,'LABOR-EQUIP'!$B174)","v":0}]
[null,null,null,"FRINGE",null,null,null,null,null,null,null,null,null,null,null,null,null,null,null,null,{"$f":"COUNTIF('EQUIPMENT INVENTORY'!$B:$B,'LABOR-EQUIP'!$B175)","v":0}]
[null,null,"REG",{"$f":"IF(ISBLANK(B176),0,VLOOKUP(B176,'PAYROLL RECORD'!$B$8:$V$2005,18,FALSE))","v":0},null,null,null,null,null,null,null,null,null,null,{"$f":"SUM($H176:$N176)","v":0},null,null,{"$f":"IFERROR(D176*O176,\"\")","v":0},null,null,{"$f":"COUNTIF('EQUIPMENT INVENTORY'!$B:$B,'LABOR-EQUIP'!$B176)","v":0}]
[null,{"$f":"IF(ISBLANK(B176),\" \",VLOOKUP(B176,'PAYROLL RECORD'!$B$9:$C$10740,2,FALSE))","v":" "},"OT1",{"$f":"IF(ISBLANK(B176),0,VLOOKUP(B176,'PAYROLL RECORD'!$B$8:$V$2005,19,FALSE))","v":0},{"$f":"+E176","v":0},null,null,null,null,null,null,null,null,null,null,{"$f":"SUM(H177:N177)","v":0},null,null,{"$f":"IF(E177<>\"e\",P177*D177,0)","v":0},null,{"$f":"COUNTIF('EQUIPMENT INVENTORY'!$B:$B,'LABOR-EQUIP'!$B177)","v":0}]
[null,null,"OT2",{"$f":"IF(ISBLANK(B176),0,VLOOKUP(B176,'PAYROLL RECORD'!$B$8:$V$2005,20,FALSE))","v":0},{"$f":"+E177","v":0},null,null,null,null,null,null,null,null,null,null,null,{"$f":"SUM(H178:N178)","v":0},null,null,{"$f":"IF(E178<>\"E\",Q178*D178,0)","v":0},{"$f":"COUNTIF('EQUIPMENT INVENTORY'!$B:$B,'LABOR-EQUIP'!$B178)","v":0}]
[null,"Select type of activity(s).  See ELIGIBLE ACTIVITIES tab for complete descriptions and instructions.  Choose as many activities as applicable for each day/date. ",null,null,null,null,null,null,null,null,null,null,null,null,null,null,null,null,null,null,{"$f":"COUNTIF('EQUIPMENT INVENTORY'!$B:$B,'LABOR-EQUIP'!$B179)","v":0}]
[null,null,null,null,{"$f":"+E178","v":0},{"$f":"IF(ISBLANK(B180),0,VLOOKUP(B180,'EQUIPMENT INVENTORY'!$B$7:$AK$1021,7,0))","v":0},{"$f":"IF(ISBLANK(B180),0,VLOOKUP(B180,'EQUIPMENT INVENTORY'!$B$7:$AK$1021,8,0))","v":0},null,null,null,null,null,null,null,{"$f":"SUM($H180:$N180)","v":0},null,null,{"$f":"O180*G180","v":0},null,null,{"$f":"COUNTIF('EQUIPMENT INVENTORY'!$B:$B,'LABOR-EQUIP'!$B180)","v":0}]
[null,null,null,null,0,{"$f":"IF(ISBLANK(B181),0,VLOOKUP(B181,'EQUIPMENT INVENTORY'!$B$7:$AK$1021,7,0))","v":0},{"$f":"IF(ISBLANK(B181),0,VLOOKUP(B181,'EQUIPMENT INVENTORY'!$B$7:$AK$1021,8,0))","v":0},null,null,null,null,null,null,null,{"$f":"SUM($H181:$N181)","v":0},null,null,{"$f":"O181*G181","v":0},null,null,{"$f":"COUNTIF('EQUIPMENT INVENTORY'!$B:$B,'LABOR-EQUIP'!$B181)","v":0}]
[null,null,null,null,0,{"$f":"IF(ISBLANK(B182),0,VLOOKUP(B182,'EQUIPMENT INVENTORY'!$B$7:$AK$1021,7,0))","v":0},{"$f":"IF(ISBLANK(B182),0,VLOOKUP(B182,'EQUIPMENT INVENTORY'!$B$7:$AK$1021,8,0))","v":0},null,null,null,null,null,null,null,{"$f":"SUM($H182:$N182)","v":0},null,null,{"$f":"O182*G182","v":0},null,null,{"$f":"COUNTIF('EQUIPMENT INVENTORY'!$B:$B,'LABOR-EQUIP'!$B182)","v":0}]
[null,"Employee/\nEquipment",null,"RATE w/","REQUEST #","COST CODE","RATE",null,null,null,null,null,null,null,"REG","OT1","OT2","REG TIME\nCOST","OT1\nCOST","OT2\nCOST",{"$f":"COUNTIF('EQUIPMENT INVENTORY'!$B:$B,'LABOR-EQUIP'!$B183)","v":0}]
[null,null,null,"FRINGE",null,null,null,null,null,null,null,null,null,null,null,null,null,null,null,null,{"$f":"COUNTIF('EQUIPMENT INVENTORY'!$B:$B,'LABOR-EQUIP'!$B184)","v":0}]
[null,null,"REG",{"$f":"IF(ISBLANK(B185),0,VLOOKUP(B185,'PAYROLL RECORD'!$B$8:$V$2005,18,FALSE))","v":0},null,null,null,null,null,null,null,null,null,null,{"$f":"SUM($H185:$N185)","v":0},null,null,{"$f":"IFERROR(D185*O185,\"\")","v":0},null,null,{"$f":"COUNTIF('EQUIPMENT INVENTORY'!$B:$B,'LABOR-EQUIP'!$B185)","v":0}]
[null,{"$f":"IF(ISBLANK(B185),\" \",VLOOKUP(B185,'PAYROLL RECORD'!$B$9:$C$10740,2,FALSE))","v":" "},"OT1",{"$f":"IF(ISBLANK(B185),0,VLOOKUP(B185,'PAYROLL RECORD'!$B$8:$V$2005,19,FALSE))","v":0},{"$f":"+E185","v":0},null,null,null,null,null,null,null,null,null,null,{"$f":"SUM(H186:N186)","v":0},null,null,{"$f":"IF(E186<>\"e\",P186*D186,0)","v":0},null,{"$f":"COUNTIF('EQUIPMENT INVENTORY'!$B:$B,'LABOR-EQUIP'!$B186)","v":0}]
[null,null,"OT2",{"$f":"IF(ISBLANK(B185),0,VLOOKUP(B185,'PAYROLL RECORD'!$B$8:$V$2005,20,FALSE))","v":0},{"$f":"+E186","v":0},null,null,null,null,null,null,null,null,null,null,null,{"$f":"SUM(H187:N187)","v":0},null,null,{"$f":"IF(E187<>\"E\",Q187*D187,0)","v":0},{"$f":"COUNTIF('EQUIPMENT INVENTORY'!$B:$B,'LABOR-EQUIP'!$B187)","v":0}]
[null,"Select type of activity(s).  See ELIGIBLE ACTIVITIES tab for complete descriptions and instructions.  Choose as many activities as applicable for each day/date. ",null,null,null,null,null,null,null,null,null,null,null,null,null,null,null,null,null,null,{"$f":"COUNTIF('EQUIPMENT INVENTORY'!$B:$B,'LABOR-EQUIP'!$B188)","v":0}]
[null,null,null,null,{"$f":"+E187","v":0},{"$f":"IF(ISBLANK(B189),0,VLOOKUP(B189,'EQUIPMENT INVENTORY'!$B$7:$AK$1021,7,0))","v":0},{"$f":"IF(ISBLANK(B189),0,VLOOKUP(B189,'EQUIPMENT INVENTORY'!$B$7:$AK$1021,8,0))","v":0},null,null,null,null,null,null,null,{"$f":"SUM($H189:$N189)","v":0},null,null,{"$f":"O189*G189","v":0},null,null,{"$f":"COUNTIF('EQUIPMENT INVENTORY'!$B:$B,'LABOR-EQUIP'!$B189)","v":0}]
[null,null,null,null,0,{"$f":"IF(ISBLANK(B190),0,VLOOKUP(B190,'EQUIPMENT INVENTORY'!$B$7:$AK$1021,7,0))","v":0},{"$f":"IF(ISBLANK(B190),0,VLOOKUP(B190,'EQUIPMENT INVENTORY'!$B$7:$AK$1021,8,0))","v":0},null,null,null,null,null,null,null,{"$f":"SUM($H190:$N190)","v":0},null,null,{"$f":"O190*G190","v":0},null,null,{"$f":"COUNTIF('EQUIPMENT INVENTORY'!$B:$B,'LABOR-EQUIP'!$B190)","v":0}]
[null,null,null,null,0,{"$f":"IF(ISBLANK(B191),0,VLOOKUP(B191,'EQUIPMENT INVENTORY'!$B$7:$AK$1021,7,0))","v":0},{"$f":"IF(ISBLANK(B191),0,VLOOKUP(B191,'EQUIPMENT INVENTORY'!$B$7:$AK$1021,8,0))","v":0},null,null,null,null,null,null,null,{"$f":"SUM($H191:$N191)","v":0},null,null,{"$f":"O191*G191","v":0},null,null,{"$f":"COUNTIF('EQUIPMENT INVENTORY'!$B:$B,'LABOR-EQUIP'!$B191)","v":0}]
[null,"Employee/\nEquipment",null,"RATE w/","REQUEST #","COST CODE","RATE",null,null,null,null,null,null,null,"REG","OT1","OT2","REG TIME\nCOST","OT1\nCOST","OT2\nCOST",{"$f":"COUNTIF('EQUIPMENT INVENTORY'!$B:$B,'LABOR-EQUIP'!$B192)","v":0}]
[null,null,null,"FRINGE",null,null,null,null,null,null,null,null,null,null,null,null,null,null,null,null,{"$f":"COUNTIF('EQUIPMENT INVENTORY'!$B:$B,'LABOR-EQUIP'!$B193)","v":0}]
[null,null,"REG",{"$f":"IF(ISBLANK(B194),0,VLOOKUP(B194,'PAYROLL RECORD'!$B$8:$V$2005,18,FALSE))","v":0},null,null,null,null,null,null,null,null,null,null,{"$f":"SUM($H194:$N194)","v":0},null,null,{"$f":"IFERROR(D194*O194,\"\")","v":0},null,null,{"$f":"COUNTIF('EQUIPMENT INVENTORY'!$B:$B,'LABOR-EQUIP'!$B194)","v":0}]
[null,{"$f":"IF(ISBLANK(B194),\" \",VLOOKUP(B194,'PAYROLL RECORD'!$B$9:$C$10740,2,FALSE))","v":" "},"OT1",{"$f":"IF(ISBLANK(B194),0,VLOOKUP(B194,'PAYROLL RECORD'!$B$8:$V$2005,19,FALSE))","v":0},{"$f":"+E194","v":0},null,null,null,null,null,null,null,null,null,null,{"$f":"SUM(H195:N195)","v":0},null,null,{"$f":"IF(E195<>\"e\",P195*D195,0)","v":0},null,{"$f":"COUNTIF('EQUIPMENT INVENTORY'!$B:$B,'LABOR-EQUIP'!$B195)","v":0}]
[null,null,"OT2",{"$f":"IF(ISBLANK(B194),0,VLOOKUP(B194,'PAYROLL RECORD'!$B$8:$V$2005,20,FALSE))","v":0},{"$f":"+E195","v":0},null,null,null,null,null,null,null,null,null,null,null,{"$f":"SUM(H196:N196)","v":0},null,null,{"$f":"IF(E196<>\"E\",Q196*D196,0)","v":0},{"$f":"COUNTIF('EQUIPMENT INVENTORY'!$B:$B,'LABOR-EQUIP'!$B196)","v":0}]
[null,"Select type of activity(s).  See ELIGIBLE ACTIVITIES tab for complete descriptions and instructions.  Choose as many activities as applicable for each day/date. ",null,null,null,null,null,null,null,null,null,null,null,null,null,null,null,null,null,null,{"$f":"COUNTIF('EQUIPMENT INVENTORY'!$B:$B,'LABOR-EQUIP'!$B197)","v":0}]
[null,null,null,null,{"$f":"+E196","v":0},{"$f":"IF(ISBLANK(B198),0,VLOOKUP(B198,'EQUIPMENT INVENTORY'!$B$7:$AK$1021,7,0))","v":0},{"$f":"IF(ISBLANK(B198),0,VLOOKUP(B198,'EQUIPMENT INVENTORY'!$B$7:$AK$1021,8,0))","v":0},null,null,null,null,null,null,null,{"$f":"SUM($H198:$N198)","v":0},null,null,{"$f":"O198*G198","v":0},null,null,{"$f":"COUNTIF('EQUIPMENT INVENTORY'!$B:$B,'LABOR-EQUIP'!$B198)","v":0}]
[null,null,null,null,0,{"$f":"IF(ISBLANK(B199),0,VLOOKUP(B199,'EQUIPMENT INVENTORY'!$B$7:$AK$1021,7,0))","v":0},{"$f":"IF(ISBLANK(B199),0,VLOOKUP(B199,'EQUIPMENT INVENTORY'!$B$7:$AK$1021,8,0))","v":0},null,null,null,null,null,null,null,{"$f":"SUM($H199:$N199)","v":0},null,null,{"$f":"O199*G199","v":0},null,null,{"$f":"COUNTIF('EQUIPMENT INVENTORY'!$B:$B,'LABOR-EQUIP'!$B199)","v":0}]
[null,null,null,null,0,{"$f":"IF(ISBLANK(B200),0,VLOOKUP(B200,'EQUIPMENT INVENTORY'!$B$7:$AK$1021,7,0))","v":0},{"$f":"IF(ISBLANK(B200),0,VLOOKUP(B200,'EQUIPMENT INVENTORY'!$B$7:$AK$1021,8,0))","v":0},null,null,null,null,null,null,null,{"$f":"SUM($H200:$N200)","v":0},null,null,{"$f":"O200*G200","v":0},null,null,{"$f":"COUNTIF('EQUIPMENT INVENTORY'!$B:$B,'LABOR-EQUIP'!$B200)","v":0}]
[null,"Employee/\nEquipment",null,"RATE w/","REQUEST #","COST CODE","RATE",null,null,null,null,null,null,null,"REG","OT1","OT2","REG TIME\nCOST","OT1\nCOST","OT2\nCOST",{"$f":"COUNTIF('EQUIPMENT INVENTORY'!$B:$B,'LABOR-EQUIP'!$B201)","v":0}]
[null,null,null,"FRINGE",null,null,null,null,null,null,null,null,null,null,null,null,null,null,null,null,{"$f":"COUNTIF('EQUIPMENT INVENTORY'!$B:$B,'LABOR-EQUIP'!$B202)","v":0}]
[null,null,"REG",{"$f":"IF(ISBLANK(B203),0,VLOOKUP(B203,'PAYROLL RECORD'!$B$8:$V$2005,18,FALSE))","v":0},null,null,null,null,null,null,null,null,null,null,{"$f":"SUM($H203:$N203)","v":0},null,null,{"$f":"IFERROR(D203*O203,\"\")","v":0},null,null,{"$f":"COUNTIF('EQUIPMENT INVENTORY'!$B:$B,'LABOR-EQUIP'!$B203)","v":0}]
[null,{"$f":"IF(ISBLANK(B203),\" \",VLOOKUP(B203,'PAYROLL RECORD'!$B$9:$C$10740,2,FALSE))","v":" "},"OT1",{"$f":"IF(ISBLANK(B203),0,VLOOKUP(B203,'PAYROLL RECORD'!$B$8:$V$2005,19,FALSE))","v":0},{"$f":"+E203","v":0},null,null,null,null,null,null,null,null,null,null,{"$f":"SUM(H204:N204)","v":0},null,null,{"$f":"IF(E204<>\"e\",P204*D204,0)","v":0},null,{"$f":"COUNTIF('EQUIPMENT INVENTORY'!$B:$B,'LABOR-EQUIP'!$B204)","v":0}]
[null,null,"OT2",{"$f":"IF(ISBLANK(B203),0,VLOOKUP(B203,'PAYROLL RECORD'!$B$8:$V$2005,20,FALSE))","v":0},{"$f":"+E204","v":0},null,null,null,null,null,null,null,null,null,null,null,{"$f":"SUM(H205:N205)","v":0},null,null,{"$f":"IF(E205<>\"E\",Q205*D205,0)","v":0},{"$f":"COUNTIF('EQUIPMENT INVENTORY'!$B:$B,'LABOR-EQUIP'!$B205)","v":0}]
[null,"Select type of activity(s).  See ELIGIBLE ACTIVITIES tab for complete descriptions and instructions.  Choose as many activities as applicable for each day/date. ",null,null,null,null,null,null,null,null,null,null,null,null,null,null,null,null,null,null,{"$f":"COUNTIF('EQUIPMENT INVENTORY'!$B:$B,'LABOR-EQUIP'!$B206)","v":0}]
[null,null,null,null,{"$f":"+E205","v":0},{"$f":"IF(ISBLANK(B207),0,VLOOKUP(B207,'EQUIPMENT INVENTORY'!$B$7:$AK$1021,7,0))","v":0},{"$f":"IF(ISBLANK(B207),0,VLOOKUP(B207,'EQUIPMENT INVENTORY'!$B$7:$AK$1021,8,0))","v":0},null,null,null,null,null,null,null,{"$f":"SUM($H207:$N207)","v":0},null,null,{"$f":"O207*G207","v":0},null,null,{"$f":"COUNTIF('EQUIPMENT INVENTORY'!$B:$B,'LABOR-EQUIP'!$B207)","v":0}]
[null,null,null,null,0,{"$f":"IF(ISBLANK(B208),0,VLOOKUP(B208,'EQUIPMENT INVENTORY'!$B$7:$AK$1021,7,0))","v":0},{"$f":"IF(ISBLANK(B208),0,VLOOKUP(B208,'EQUIPMENT INVENTORY'!$B$7:$AK$1021,8,0))","v":0},null,null,null,null,null,null,null,{"$f":"SUM($H208:$N208)","v":0},null,null,{"$f":"O208*G208","v":0},null,null,{"$f":"COUNTIF('EQUIPMENT INVENTORY'!$B:$B,'LABOR-EQUIP'!$B208)","v":0}]
[null,null,null,null,0,{"$f":"IF(ISBLANK(B209),0,VLOOKUP(B209,'EQUIPMENT INVENTORY'!$B$7:$AK$1021,7,0))","v":0},{"$f":"IF(ISBLANK(B209),0,VLOOKUP(B209,'EQUIPMENT INVENTORY'!$B$7:$AK$1021,8,0))","v":0},null,null,null,null,null,null,null,{"$f":"SUM($H209:$N209)","v":0},null,null,{"$f":"O209*G209","v":0},null,null,{"$f":"COUNTIF('EQUIPMENT INVENTORY'!$B:$B,'LABOR-EQUIP'!$B209)","v":0}]
[null,null,null,null,null,null,null,null,null,null,null,null,"LABOR - Page Total",null,{"$f":"O167+O176+O185+O194+O203","v":0},{"$f":"P168+P177+P186+P195+P204","v":0},{"$f":"Q169+Q178+Q187+Q196+Q205","v":0},{"$f":"R167+R176+R185+R194+R203","v":0},{"$f":"S168+S177+S186+S195+S204","v":0},{"$f":"T169+T178+T187+T196+T205","v":0}]
[null,null,null,null,null,null,null,null,null,null,null,null,"EQUIPMENT - Page Total",null,{"$f":"O171+O172+O173+O180+O181+O182+O189+O190+O191+O198+O199+O200+O207+O208+O209","v":0},null,null,{"$f":"R171+R172+R173+R180+R181+R182+R189+R190+R191+R198+R199+R200+R207+R208+R209","v":0}]
[null,null,null,null,null,null,null,null,null,null,null,null,"LABOR - Grand Total",null,{"$f":"SUM($AA:$AA)","v":0},{"$f":"SUM(AB:AB)","v":0},{"$f":"SUM(AC:AC)","v":0},{"$f":"SUM(AD:AD)","v":0},{"$f":"SUM(AE:AE)","v":0},{"$f":"SUM(AF:AF)","v":0},null,null,null,null,null,null,{"$f":"O210","v":0},{"$f":"P210","v":0},{"$f":"Q210","v":0},{"$f":"R210","v":0},{"$f":"S210","v":0},{"$f":"T210","v":0}]
[null,null,null,null,null,null,null,null,null,null,null,null,"EQUIPMENT - Grand Total",null,{"$f":"SUM(AG:AG)","v":0},null,null,{"$f":"SUM(AH:AH)","v":0},null,null,null,null,null,null,null,null,null,null,null,null,null,null,{"$f":"O211","v":0},{"$f":"R211","v":0}]
[]
[]
[null,"APPLICANT NAME",null,null,"DISASTER #",null,null,"PLEASE ENTER DATES FOR EACH DAY WORKED.  THIS ALLOWS FOR TRACKING OF COSTS OVER MULTIPLE DAYS, WEEKS AND/OR YEARS.  USE THE FIRST ROW FOR MONTH/DAY AND THE SECOND ROW FOR YEAR.  DATES DO NOT NEED TO BE CONSECUTIVE. ",null,null,null,null,null,null,"DISASTER TITLE"]
[null,{"$f":"IF('PAYROLL RECORD'!B217=\"\",\"\",'PAYROLL RECORD'!B217)","v":""},null,null,{"$f":"IF('PAYROLL RECORD'!D217=\"\",\"\",'PAYROLL RECORD'!D217)","v":""},null,null,null,null,null,null,null,null,null,{"$f":"IF('PAYROLL RECORD'!G217=\"\",\"\",'PAYROLL RECORD'!G217)","v":""}]
[null,"Employee/\nEquipment",null,"RATE w/","REQUEST #","COST CODE","RATE",null,null,null,null,null,null,null,"REG","OT1","OT2","REG TIME\nCOST","OT1\nCOST","OT2\nCOST"]
[null,null,null,"FRINGE"]
[null,null,"REG",{"$f":"IF(ISBLANK(B220),0,VLOOKUP(B220,'PAYROLL RECORD'!$B$8:$V$2005,18,FALSE))","v":0},null,null,null,null,null,null,null,null,null,null,{"$f":"SUM($H220:$N220)","v":0},null,null,{"$f":"IFERROR(D220*O220,\"\")","v":0},null,null,{"$f":"COUNTIF('EQUIPMENT INVENTORY'!$B:$B,'LABOR-EQUIP'!$B220)","v":0}]
[null,{"$f":"IF(ISBLANK(B220),\" \",VLOOKUP(B220,'PAYROLL RECORD'!$B$9:$C$10740,2,FALSE))","v":" "},"OT1",{"$f":"IF(ISBLANK(B220),0,VLOOKUP(B220,'PAYROLL RECORD'!$B$8:$V$2005,19,FALSE))","v":0},{"$f":"+E220","v":0},null,null,null,null,null,null,null,null,null,null,{"$f":"SUM(H221:N221)","v":0},null,null,{"$f":"IFERROR(P221*D221,\"\")","v":0},null,{"$f":"COUNTIF('EQUIPMENT INVENTORY'!$B:$B,'LABOR-EQUIP'!$B221)","v":0}]
[null,null,"OT2",{"$f":"IF(ISBLANK(B220),0,VLOOKUP(B220,'PAYROLL RECORD'!$B$8:$V$2005,20,FALSE))","v":0},{"$f":"+E220","v":0},null,null,null,null,null,null,null,null,null,null,null,{"$f":"SUM(H222:N222)","v":0},null,null,{"$f":"IFERROR(Q222*D222,\"\")","v":0},{"$f":"COUNTIF('EQUIPMENT INVENTORY'!$B:$B,'LABOR-EQUIP'!$B222)","v":0}]
[null,"Select type of activity(s).  See ELIGIBLE ACTIVITIES tab for complete descriptions and instructions.  Choose as many activities as applicable for each day/date. ",null,null,null,null,null,null,null,null,null,null,null,null,null,null,null,null,null,null,{"$f":"COUNTIF('EQUIPMENT INVENTORY'!$B:$B,'LABOR-EQUIP'!$B223)","v":0}]
[null,null,null,null,{"$f":"+E220","v":0},{"$f":"IF(ISBLANK(B224),0,VLOOKUP(B224,'EQUIPMENT INVENTORY'!$B$7:$AK$1021,7,0))","v":0},{"$f":"IF(ISBLANK(B224),0,VLOOKUP(B224,'EQUIPMENT INVENTORY'!$B$7:$AK$1021,8,0))","v":0},null,null,null,null,null,null,null,{"$f":"SUM($H224:$N224)","v":0},null,null,{"$f":"O224*G224","v":0},null,null,{"$f":"COUNTIF('EQUIPMENT INVENTORY'!$B:$B,'LABOR-EQUIP'!$B224)","v":0}]
[null,null,null,null,{"$f":"+E220","v":0},{"$f":"IF(ISBLANK(B225),0,VLOOKUP(B225,'EQUIPMENT INVENTORY'!$B$7:$AK$1021,7,0))","v":0},{"$f":"IF(ISBLANK(B225),0,VLOOKUP(B225,'EQUIPMENT INVENTORY'!$B$7:$AK$1021,8,0))","v":0},null,null,null,null,null,null,null,{"$f":"SUM($H225:$N225)","v":0},null,null,{"$f":"O225*G225","v":0},null,null,{"$f":"COUNTIF('EQUIPMENT INVENTORY'!$B:$B,'LABOR-EQUIP'!$B225)","v":0}]
[null,null,null,null,{"$f":"+E220","v":0},{"$f":"IF(ISBLANK(B226),0,VLOOKUP(B226,'EQUIPMENT INVENTORY'!$B$7:$AK$1021,7,0))","v":0},{"$f":"IF(ISBLANK(B226),0,VLOOKUP(B226,'EQUIPMENT INVENTORY'!$B$7:$AK$1021,8,0))","v":0},null,null,null,null,null,null,null,{"$f":"SUM($H226:$N226)","v":0},null,null,{"$f":"O226*G226","v":0},null,null,{"$f":"COUNTIF('EQUIPMENT INVENTORY'!$B:$B,'LABOR-EQUIP'!$B226)","v":0}]
[null,"Employee/\nEquipment",null,"RATE w/","REQUEST #","COST CODE","RATE",null,null,null,null,null,null,null,"REG","OT1","OT2","REG TIME\nCOST","OT1\nCOST","OT2\nCOST",{"$f":"COUNTIF('EQUIPMENT INVENTORY'!$B:$B,'LABOR-EQUIP'!$B227)","v":0}]
[null,null,null,"FRINGE",null,null,null,null,null,null,null,null,null,null,null,null,null,null,null,null,{"$f":"COUNTIF('EQUIPMENT INVENTORY'!$B:$B,'LABOR-EQUIP'!$B228)","v":0}]
[null,null,"REG",{"$f":"IF(ISBLANK(B229),0,VLOOKUP(B229,'PAYROLL RECORD'!$B$8:$V$2005,18,FALSE))","v":0},null,null,null,null,null,null,null,null,null,null,{"$f":"SUM($H229:$N229)","v":0},null,null,{"$f":"IFERROR(D229*O229,\"\")","v":0},null,null,{"$f":"COUNTIF('EQUIPMENT INVENTORY'!$B:$B,'LABOR-EQUIP'!$B229)","v":0}]
[null,{"$f":"IF(ISBLANK(B229),\" \",VLOOKUP(B229,'PAYROLL RECORD'!$B$9:$C$10740,2,FALSE))","v":" "},"OT1",{"$f":"IF(ISBLANK(B229),0,VLOOKUP(B229,'PAYROLL RECORD'!$B$8:$V$2005,19,FALSE))","v":0},{"$f":"+E229","v":0},null,null,null,null,null,null,null,null,null,null,{"$f":"SUM(H230:N230)","v":0},null,null,{"$f":"IF(E230<>\"e\",P230*D230,0)","v":0},null,{"$f":"COUNTIF('EQUIPMENT INVENTORY'!$B:$B,'LABOR-EQUIP'!$B230)","v":0}]
[null,null,"OT2",{"$f":"IF(ISBLANK(B229),0,VLOOKUP(B229,'PAYROLL RECORD'!$B$8:$V$2005,20,FALSE))","v":0},{"$f":"+E230","v":0},null,null,null,null,null,null,null,null,null,null,null,{"$f":"SUM(H231:N231)","v":0},null,null,{"$f":"IF(E231<>\"E\",Q231*D231,0)","v":0},{"$f":"COUNTIF('EQUIPMENT INVENTORY'!$B:$B,'LABOR-EQUIP'!$B231)","v":0}]
[null,"Select type of activity(s).  See ELIGIBLE ACTIVITIES tab for complete descriptions and instructions.  Choose as many activities as applicable for each day/date. ",null,null,null,null,null,null,null,null,null,null,null,null,null,null,null,null,null,null,{"$f":"COUNTIF('EQUIPMENT INVENTORY'!$B:$B,'LABOR-EQUIP'!$B232)","v":0}]
[null,null,null,null,{"$f":"+E231","v":0},{"$f":"IF(ISBLANK(B233),0,VLOOKUP(B233,'EQUIPMENT INVENTORY'!$B$7:$AK$1021,7,0))","v":0},{"$f":"IF(ISBLANK(B233),0,VLOOKUP(B233,'EQUIPMENT INVENTORY'!$B$7:$AK$1021,8,0))","v":0},null,null,null,null,null,null,null,{"$f":"SUM($H233:$N233)","v":0},null,null,{"$f":"O233*G233","v":0},null,null,{"$f":"COUNTIF('EQUIPMENT INVENTORY'!$B:$B,'LABOR-EQUIP'!$B233)","v":0}]
[null,null,null,null,0,{"$f":"IF(ISBLANK(B234),0,VLOOKUP(B234,'EQUIPMENT INVENTORY'!$B$7:$AK$1021,7,0))","v":0},{"$f":"IF(ISBLANK(B234),0,VLOOKUP(B234,'EQUIPMENT INVENTORY'!$B$7:$AK$1021,8,0))","v":0},null,null,null,null,null,null,null,{"$f":"SUM($H234:$N234)","v":0},null,null,{"$f":"O234*G234","v":0},null,null,{"$f":"COUNTIF('EQUIPMENT INVENTORY'!$B:$B,'LABOR-EQUIP'!$B234)","v":0}]
[null,null,null,null,0,{"$f":"IF(ISBLANK(B235),0,VLOOKUP(B235,'EQUIPMENT INVENTORY'!$B$7:$AK$1021,7,0))","v":0},{"$f":"IF(ISBLANK(B235),0,VLOOKUP(B235,'EQUIPMENT INVENTORY'!$B$7:$AK$1021,8,0))","v":0},null,null,null,null,null,null,null,{"$f":"SUM($H235:$N235)","v":0},null,null,{"$f":"O235*G235","v":0},null,null,{"$f":"COUNTIF('EQUIPMENT INVENTORY'!$B:$B,'LABOR-EQUIP'!$B235)","v":0}]
[null,"Employee/\nEquipment",null,"RATE w/","REQUEST #","COST CODE","RATE",null,null,null,null,null,null,null,"REG","OT1","OT2","REG TIME\nCOST","OT1\nCOST","OT2\nCOST",{"$f":"COUNTIF('EQUIPMENT INVENTORY'!$B:$B,'LABOR-EQUIP'!$B236)","v":0}]
[null,null,null,"FRINGE",null,null,null,null,null,null,null,null,null,null,null,null,null,null,null,null,{"$f":"COUNTIF('EQUIPMENT INVENTORY'!$B:$B,'LABOR-EQUIP'!$B237)","v":0}]
[null,null,"REG",{"$f":"IF(ISBLANK(B238),0,VLOOKUP(B238,'PAYROLL RECORD'!$B$8:$V$2005,18,FALSE))","v":0},null,null,null,null,null,null,null,null,null,null,{"$f":"SUM($H238:$N238)","v":0},null,null,{"$f":"IFERROR(D238*O238,\"\")","v":0},null,null,{"$f":"COUNTIF('EQUIPMENT INVENTORY'!$B:$B,'LABOR-EQUIP'!$B238)","v":0}]
[null,{"$f":"IF(ISBLANK(B238),\" \",VLOOKUP(B238,'PAYROLL RECORD'!$B$9:$C$10740,2,FALSE))","v":" "},"OT1",{"$f":"IF(ISBLANK(B238),0,VLOOKUP(B238,'PAYROLL RECORD'!$B$8:$V$2005,19,FALSE))","v":0},{"$f":"+E238","v":0},null,null,null,null,null,null,null,null,null,null,{"$f":"SUM(H239:N239)","v":0},null,null,{"$f":"IF(E239<>\"e\",P239*D239,0)","v":0},null,{"$f":"COUNTIF('EQUIPMENT INVENTORY'!$B:$B,'LABOR-EQUIP'!$B239)","v":0}]
[null,null,"OT2",{"$f":"IF(ISBLANK(B238),0,VLOOKUP(B238,'PAYROLL RECORD'!$B$8:$V$2005,20,FALSE))","v":0},{"$f":"+E239","v":0},null,null,null,null,null,null,null,null,null,null,null,{"$f":"SUM(H240:N240)","v":0},null,null,{"$f":"IF(E240<>\"E\",Q240*D240,0)","v":0},{"$f":"COUNTIF('EQUIPMENT INVENTORY'!$B:$B,'LABOR-EQUIP'!$B240)","v":0}]
[null,"Select type of activity(s).  See ELIGIBLE ACTIVITIES tab for complete descriptions and instructions.  Choose as many activities as applicable for each day/date. ",null,null,null,null,null,null,null,null,null,null,null,null,null,null,null,null,null,null,{"$f":"COUNTIF('EQUIPMENT INVENTORY'!$B:$B,'LABOR-EQUIP'!$B241)","v":0}]
[null,null,null,null,{"$f":"+E240","v":0},{"$f":"IF(ISBLANK(B242),0,VLOOKUP(B242,'EQUIPMENT INVENTORY'!$B$7:$AK$1021,7,0))","v":0},{"$f":"IF(ISBLANK(B242),0,VLOOKUP(B242,'EQUIPMENT INVENTORY'!$B$7:$AK$1021,8,0))","v":0},null,null,null,null,null,null,null,{"$f":"SUM($H242:$N242)","v":0},null,null,{"$f":"O242*G242","v":0},null,null,{"$f":"COUNTIF('EQUIPMENT INVENTORY'!$B:$B,'LABOR-EQUIP'!$B242)","v":0}]
[null,null,null,null,0,{"$f":"IF(ISBLANK(B243),0,VLOOKUP(B243,'EQUIPMENT INVENTORY'!$B$7:$AK$1021,7,0))","v":0},{"$f":"IF(ISBLANK(B243),0,VLOOKUP(B243,'EQUIPMENT INVENTORY'!$B$7:$AK$1021,8,0))","v":0},null,null,null,null,null,null,null,{"$f":"SUM($H243:$N243)","v":0},null,null,{"$f":"O243*G243","v":0},null,null,{"$f":"COUNTIF('EQUIPMENT INVENTORY'!$B:$B,'LABOR-EQUIP'!$B243)","v":0}]
[null,null,null,null,0,{"$f":"IF(ISBLANK(B244),0,VLOOKUP(B244,'EQUIPMENT INVENTORY'!$B$7:$AK$1021,7,0))","v":0},{"$f":"IF(ISBLANK(B244),0,VLOOKUP(B244,'EQUIPMENT INVENTORY'!$B$7:$AK$1021,8,0))","v":0},null,null,null,null,null,null,null,{"$f":"SUM($H244:$N244)","v":0},null,null,{"$f":"O244*G244","v":0},null,null,{"$f":"COUNTIF('EQUIPMENT INVENTORY'!$B:$B,'LABOR-EQUIP'!$B244)","v":0}]
[null,"Employee/\nEquipment",null,"RATE w/","REQUEST #","COST CODE","RATE",null,null,null,null,null,null,null,"REG","OT1","OT2","REG TIME\nCOST","OT1\nCOST","OT2\nCOST",{"$f":"COUNTIF('EQUIPMENT INVENTORY'!$B:$B,'LABOR-EQUIP'!$B245)","v":0}]
[null,null,null,"FRINGE",null,null,null,null,null,null,null,null,null,null,null,null,null,null,null,null,{"$f":"COUNTIF('EQUIPMENT INVENTORY'!$B:$B,'LABOR-EQUIP'!$B246)","v":0}]
[null,null,"REG",{"$f":"IF(ISBLANK(B247),0,VLOOKUP(B247,'PAYROLL RECORD'!$B$8:$V$2005,18,FALSE))","v":0},null,null,null,null,null,null,null,null,null,null,{"$f":"SUM($H247:$N247)","v":0},null,null,{"$f":"IFERROR(D247*O247,\"\")","v":0},null,null,{"$f":"COUNTIF('EQUIPMENT INVENTORY'!$B:$B,'LABOR-EQUIP'!$B247)","v":0}]
[null,{"$f":"IF(ISBLANK(B247),\" \",VLOOKUP(B247,'PAYROLL RECORD'!$B$9:$C$10740,2,FALSE))","v":" "},"OT1",{"$f":"IF(ISBLANK(B247),0,VLOOKUP(B247,'PAYROLL RECORD'!$B$8:$V$2005,19,FALSE))","v":0},{"$f":"+E247","v":0},null,null,null,null,null,null,null,null,null,null,{"$f":"SUM(H248:N248)","v":0},null,null,{"$f":"IF(E248<>\"e\",P248*D248,0)","v":0},null,{"$f":"COUNTIF('EQUIPMENT INVENTORY'!$B:$B,'LABOR-EQUIP'!$B248)","v":0}]
[null,null,"OT2",{"$f":"IF(ISBLANK(B247),0,VLOOKUP(B247,'PAYROLL RECORD'!$B$8:$V$2005,20,FALSE))","v":0},{"$f":"+E248","v":0},null,null,null,null,null,null,null,null,null,null,null,{"$f":"SUM(H249:N249)","v":0},null,null,{"$f":"IF(E249<>\"E\",Q249*D249,0)","v":0},{"$f":"COUNTIF('EQUIPMENT INVENTORY'!$B:$B,'LABOR-EQUIP'!$B249)","v":0}]
[null,"Select type of activity(s).  See ELIGIBLE ACTIVITIES tab for complete descriptions and instructions.  Choose as many activities as applicable for each day/date. ",null,null,null,null,null,null,null,null,null,null,null,null,null,null,null,null,null,null,{"$f":"COUNTIF('EQUIPMENT INVENTORY'!$B:$B,'LABOR-EQUIP'!$B250)","v":0}]
[null,null,null,null,{"$f":"+E249","v":0},{"$f":"IF(ISBLANK(B251),0,VLOOKUP(B251,'EQUIPMENT INVENTORY'!$B$7:$AK$1021,7,0))","v":0},{"$f":"IF(ISBLANK(B251),0,VLOOKUP(B251,'EQUIPMENT INVENTORY'!$B$7:$AK$1021,8,0))","v":0},null,null,null,null,null,null,null,{"$f":"SUM($H251:$N251)","v":0},null,null,{"$f":"O251*G251","v":0},null,null,{"$f":"COUNTIF('EQUIPMENT INVENTORY'!$B:$B,'LABOR-EQUIP'!$B251)","v":0}]
[null,null,null,null,0,{"$f":"IF(ISBLANK(B252),0,VLOOKUP(B252,'EQUIPMENT INVENTORY'!$B$7:$AK$1021,7,0))","v":0},{"$f":"IF(ISBLANK(B252),0,VLOOKUP(B252,'EQUIPMENT INVENTORY'!$B$7:$AK$1021,8,0))","v":0},null,null,null,null,null,null,null,{"$f":"SUM($H252:$N252)","v":0},null,null,{"$f":"O252*G252","v":0},null,null,{"$f":"COUNTIF('EQUIPMENT INVENTORY'!$B:$B,'LABOR-EQUIP'!$B252)","v":0}]
[null,null,null,null,0,{"$f":"IF(ISBLANK(B253),0,VLOOKUP(B253,'EQUIPMENT INVENTORY'!$B$7:$AK$1021,7,0))","v":0},{"$f":"IF(ISBLANK(B253),0,VLOOKUP(B253,'EQUIPMENT INVENTORY'!$B$7:$AK$1021,8,0))","v":0},null,null,null,null,null,null,null,{"$f":"SUM($H253:$N253)","v":0},null,null,{"$f":"O253*G253","v":0},null,null,{"$f":"COUNTIF('EQUIPMENT INVENTORY'!$B:$B,'LABOR-EQUIP'!$B253)","v":0}]
[null,"Employee/\nEquipment",null,"RATE w/","REQUEST #","COST CODE","RATE",null,null,null,null,null,null,null,"REG","OT1","OT2","REG TIME\nCOST","OT1\nCOST","OT2\nCOST",{"$f":"COUNTIF('EQUIPMENT INVENTORY'!$B:$B,'LABOR-EQUIP'!$B254)","v":0}]
[null,null,null,"FRINGE",null,null,null,null,null,null,null,null,null,null,null,null,null,null,null,null,{"$f":"COUNTIF('EQUIPMENT INVENTORY'!$B:$B,'LABOR-EQUIP'!$B255)","v":0}]
[null,null,"REG",{"$f":"IF(ISBLANK(B256),0,VLOOKUP(B256,'PAYROLL RECORD'!$B$8:$V$2005,18,FALSE))","v":0},null,null,null,null,null,null,null,null,null,null,{"$f":"SUM($H256:$N256)","v":0},null,null,{"$f":"IFERROR(D256*O256,\"\")","v":0},null,null,{"$f":"COUNTIF('EQUIPMENT INVENTORY'!$B:$B,'LABOR-EQUIP'!$B256)","v":0}]
[null,{"$f":"IF(ISBLANK(B256),\" \",VLOOKUP(B256,'PAYROLL RECORD'!$B$9:$C$10740,2,FALSE))","v":" "},"OT1",{"$f":"IF(ISBLANK(B256),0,VLOOKUP(B256,'PAYROLL RECORD'!$B$8:$V$2005,19,FALSE))","v":0},{"$f":"+E256","v":0},null,null,null,null,null,null,null,null,null,null,{"$f":"SUM(H257:N257)","v":0},null,null,{"$f":"IF(E257<>\"e\",P257*D257,0)","v":0},null,{"$f":"COUNTIF('EQUIPMENT INVENTORY'!$B:$B,'LABOR-EQUIP'!$B257)","v":0}]
[null,null,"OT2",{"$f":"IF(ISBLANK(B256),0,VLOOKUP(B256,'PAYROLL RECORD'!$B$8:$V$2005,20,FALSE))","v":0},{"$f":"+E257","v":0},null,null,null,null,null,null,null,null,null,null,null,{"$f":"SUM(H258:N258)","v":0},null,null,{"$f":"IF(E258<>\"E\",Q258*D258,0)","v":0},{"$f":"COUNTIF('EQUIPMENT INVENTORY'!$B:$B,'LABOR-EQUIP'!$B258)","v":0}]
[null,"Select type of activity(s).  See ELIGIBLE ACTIVITIES tab for complete descriptions and instructions.  Choose as many activities as applicable for each day/date. ",null,null,null,null,null,null,null,null,null,null,null,null,null,null,null,null,null,null,{"$f":"COUNTIF('EQUIPMENT INVENTORY'!$B:$B,'LABOR-EQUIP'!$B259)","v":0}]
[null,null,null,null,{"$f":"+E258","v":0},{"$f":"IF(ISBLANK(B260),0,VLOOKUP(B260,'EQUIPMENT INVENTORY'!$B$7:$AK$1021,7,0))","v":0},{"$f":"IF(ISBLANK(B260),0,VLOOKUP(B260,'EQUIPMENT INVENTORY'!$B$7:$AK$1021,8,0))","v":0},null,null,null,null,null,null,null,{"$f":"SUM($H260:$N260)","v":0},null,null,{"$f":"O260*G260","v":0},null,null,{"$f":"COUNTIF('EQUIPMENT INVENTORY'!$B:$B,'LABOR-EQUIP'!$B260)","v":0}]
[null,null,null,null,0,{"$f":"IF(ISBLANK(B261),0,VLOOKUP(B261,'EQUIPMENT INVENTORY'!$B$7:$AK$1021,7,0))","v":0},{"$f":"IF(ISBLANK(B261),0,VLOOKUP(B261,'EQUIPMENT INVENTORY'!$B$7:$AK$1021,8,0))","v":0},null,null,null,null,null,null,null,{"$f":"SUM($H261:$N261)","v":0},null,null,{"$f":"O261*G261","v":0},null,null,{"$f":"COUNTIF('EQUIPMENT INVENTORY'!$B:$B,'LABOR-EQUIP'!$B261)","v":0}]
[null,null,null,null,0,{"$f":"IF(ISBLANK(B262),0,VLOOKUP(B262,'EQUIPMENT INVENTORY'!$B$7:$AK$1021,7,0))","v":0},{"$f":"IF(ISBLANK(B262),0,VLOOKUP(B262,'EQUIPMENT INVENTORY'!$B$7:$AK$1021,8,0))","v":0},null,null,null,null,null,null,null,{"$f":"SUM($H262:$N262)","v":0},null,null,{"$f":"O262*G262","v":0},null,null,{"$f":"COUNTIF('EQUIPMENT INVENTORY'!$B:$B,'LABOR-EQUIP'!$B262)","v":0}]
[null,null,null,null,null,null,null,null,null,null,null,null,"LABOR - Page Total",null,{"$f":"O220+O229+O238+O247+O256","v":0},{"$f":"P221+P230+P239+P248+P257","v":0},{"$f":"Q222+Q231+Q240+Q249+Q258","v":0},{"$f":"R220+R229+R238+R247+R256","v":0},{"$f":"S221+S230+S239+S248+S257","v":0},{"$f":"T222+T231+T240+T249+T258","v":0}]
[null,null,null,null,null,null,null,null,null,null,null,null,"EQUIPMENT - Page Total",null,{"$f":"O224+O225+O226+O233+O234+O235+O242+O243+O244+O251+O252+O253+O260+O261+O262","v":0},null,null,{"$f":"R224+R225+R226+R233+R234+R235+R242+R243+R244+R251+R252+R253+R260+R261+R262","v":0}]
[null,null,null,null,null,null,null,null,null,null,null,null,"LABOR - Grand Total",null,{"$f":"SUM($AA:$AA)","v":0},{"$f":"SUM(AB:AB)","v":0},{"$f":"SUM(AC:AC)","v":0},{"$f":"SUM(AD:AD)","v":0},{"$f":"SUM(AE:AE)","v":0},{"$f":"SUM(AF:AF)","v":0},null,null,null,null,null,null,{"$f":"O263","v":0},{"$f":"P263","v":0},{"$f":"Q263","v":0},{"$f":"R263","v":0},{"$f":"S263","v":0},{"$f":"T263","v":0}]
[null,null,null,null,null,null,null,null,null,null,null,null,"EQUIPMENT - Grand Total",null,{"$f":"SUM(AG:AG)","v":0},null,null,{"$f":"SUM(AH:AH)","v":0},null,null,null,null,null,null,null,null,null,null,null,null,null,null,{"$f":"O264","v":0},{"$f":"R264","v":0}]
[]
[]
[null,"APPLICANT NAME",null,null,"DISASTER #",null,null,"PLEASE ENTER DATES FOR EACH DAY WORKED.  THIS ALLOWS FOR TRACKING OF COSTS OVER MULTIPLE DAYS, WEEKS AND/OR YEARS.  USE THE FIRST ROW FOR MONTH/DAY AND THE SECOND ROW FOR YEAR.  DATES DO NOT NEED TO BE CONSECUTIVE. ",null,null,null,null,null,null,"DISASTER TITLE"]
[null,{"$f":"IF('PAYROLL RECORD'!B270=\"\",\"\",'PAYROLL RECORD'!B270)","v":""},null,null,{"$f":"IF('PAYROLL RECORD'!D270=\"\",\"\",'PAYROLL RECORD'!D270)","v":""},null,null,null,null,null,null,null,null,null,{"$f":"IF('PAYROLL RECORD'!G270=\"\",\"\",'PAYROLL RECORD'!G270)","v":""}]
[null,"Employee/\nEquipment",null,"RATE w/","REQUEST #","COST CODE","RATE",null,null,null,null,null,null,null,"REG","OT1","OT2","REG TIME\nCOST","OT1\nCOST","OT2\nCOST"]
[null,null,null,"FRINGE"]
[null,null,"REG",{"$f":"IF(ISBLANK(B273),0,VLOOKUP(B273,'PAYROLL RECORD'!$B$8:$V$2005,18,FALSE))","v":0},null,null,null,null,null,null,null,null,null,null,{"$f":"SUM($H273:$N273)","v":0},null,null,{"$f":"IFERROR(D273*O273,\"\")","v":0},null,null,{"$f":"COUNTIF('EQUIPMENT INVENTORY'!$B:$B,'LABOR-EQUIP'!$B273)","v":0}]
[null,{"$f":"IF(ISBLANK(B273),\" \",VLOOKUP(B273,'PAYROLL RECORD'!$B$9:$C$10740,2,FALSE))","v":" "},"OT1",{"$f":"IF(ISBLANK(B273),0,VLOOKUP(B273,'PAYROLL RECORD'!$B$8:$V$2005,19,FALSE))","v":0},{"$f":"+E273","v":0},null,null,null,null,null,null,null,null,null,null,{"$f":"SUM(H274:N274)","v":0},null,null,{"$f":"IFERROR(P274*D274,\"\")","v":0},null,{"$f":"COUNTIF('EQUIPMENT INVENTORY'!$B:$B,'LABOR-EQUIP'!$B274)","v":0}]
[null,null,"OT2",{"$f":"IF(ISBLANK(B273),0,VLOOKUP(B273,'PAYROLL RECORD'!$B$8:$V$2005,20,FALSE))","v":0},{"$f":"+E273","v":0},null,null,null,null,null,null,null,null,null,null,null,{"$f":"SUM(H275:N275)","v":0},null,null,{"$f":"IFERROR(Q275*D275,\"\")","v":0},{"$f":"COUNTIF('EQUIPMENT INVENTORY'!$B:$B,'LABOR-EQUIP'!$B275)","v":0}]
[null,"Select type of activity(s).  See ELIGIBLE ACTIVITIES tab for complete descriptions and instructions.  Choose as many activities as applicable for each day/date. ",null,null,null,null,null,null,null,null,null,null,null,null,null,null,null,null,null,null,{"$f":"COUNTIF('EQUIPMENT INVENTORY'!$B:$B,'LABOR-EQUIP'!$B276)","v":0}]
[null,null,null,null,{"$f":"+E273","v":0},{"$f":"IF(ISBLANK(B277),0,VLOOKUP(B277,'EQUIPMENT INVENTORY'!$B$7:$AK$1021,7,0))","v":0},{"$f":"IF(ISBLANK(B277),0,VLOOKUP(B277,'EQUIPMENT INVENTORY'!$B$7:$AK$1021,8,0))","v":0},null,null,null,null,null,null,null,{"$f":"SUM($H277:$N277)","v":0},null,null,{"$f":"O277*G277","v":0},null,null,{"$f":"COUNTIF('EQUIPMENT INVENTORY'!$B:$B,'LABOR-EQUIP'!$B277)","v":0}]
[null,null,null,null,{"$f":"+E273","v":0},{"$f":"IF(ISBLANK(B278),0,VLOOKUP(B278,'EQUIPMENT INVENTORY'!$B$7:$AK$1021,7,0))","v":0},{"$f":"IF(ISBLANK(B278),0,VLOOKUP(B278,'EQUIPMENT INVENTORY'!$B$7:$AK$1021,8,0))","v":0},null,null,null,null,null,null,null,{"$f":"SUM($H278:$N278)","v":0},null,null,{"$f":"O278*G278","v":0},null,null,{"$f":"COUNTIF('EQUIPMENT INVENTORY'!$B:$B,'LABOR-EQUIP'!$B278)","v":0}]
[null,null,null,null,{"$f":"+E273","v":0},{"$f":"IF(ISBLANK(B279),0,VLOOKUP(B279,'EQUIPMENT INVENTORY'!$B$7:$AK$1021,7,0))","v":0},{"$f":"IF(ISBLANK(B279),0,VLOOKUP(B279,'EQUIPMENT INVENTORY'!$B$7:$AK$1021,8,0))","v":0},null,null,null,null,null,null,null,{"$f":"SUM($H279:$N279)","v":0},null,null,{"$f":"O279*G279","v":0},null,null,{"$f":"COUNTIF('EQUIPMENT INVENTORY'!$B:$B,'LABOR-EQUIP'!$B279)","v":0}]
[null,"Employee/\nEquipment",null,"RATE w/","REQUEST #","COST CODE","RATE",null,null,null,null,null,null,null,"REG","OT1","OT2","REG TIME\nCOST","OT1\nCOST","OT2\nCOST",{"$f":"COUNTIF('EQUIPMENT INVENTORY'!$B:$B,'LABOR-EQUIP'!$B280)","v":0}]
[null,null,null,"FRINGE",null,null,null,null,null,null,null,null,null,null,null,null,null,null,null,null,{"$f":"COUNTIF('EQUIPMENT INVENTORY'!$B:$B,'LABOR-EQUIP'!$B281)","v":0}]
[null,null,"REG",{"$f":"IF(ISBLANK(B282),0,VLOOKUP(B282,'PAYROLL RECORD'!$B$8:$V$2005,18,FALSE))","v":0},null,null,null,null,null,null,null,null,null,null,{"$f":"SUM($H282:$N282)","v":0},null,null,{"$f":"IFERROR(D282*O282,\"\")","v":0},null,null,{"$f":"COUNTIF('EQUIPMENT INVENTORY'!$B:$B,'LABOR-EQUIP'!$B282)","v":0}]
[null,{"$f":"IF(ISBLANK(B282),\" \",VLOOKUP(B282,'PAYROLL RECORD'!$B$9:$C$10740,2,FALSE))","v":" "},"OT1",{"$f":"IF(ISBLANK(B282),0,VLOOKUP(B282,'PAYROLL RECORD'!$B$8:$V$2005,19,FALSE))","v":0},{"$f":"+E282","v":0},null,null,null,null,null,null,null,null,null,null,{"$f":"SUM(H283:N283)","v":0},null,null,{"$f":"IF(E283<>\"e\",P283*D283,0)","v":0},null,{"$f":"COUNTIF('EQUIPMENT INVENTORY'!$B:$B,'LABOR-EQUIP'!$B283)","v":0}]
[null,null,"OT2",{"$f":"IF(ISBLANK(B282),0,VLOOKUP(B282,'PAYROLL RECORD'!$B$8:$V$2005,20,FALSE))","v":0},{"$f":"+E283","v":0},null,null,null,null,null,null,null,null,null,null,null,{"$f":"SUM(H284:N284)","v":0},null,null,{"$f":"IF(E284<>\"E\",Q284*D284,0)","v":0},{"$f":"COUNTIF('EQUIPMENT INVENTORY'!$B:$B,'LABOR-EQUIP'!$B284)","v":0}]
[null,"Select type of activity(s).  See ELIGIBLE ACTIVITIES tab for complete descriptions and instructions.  Choose as many activities as applicable for each day/date. ",null,null,null,null,null,null,null,null,null,null,null,null,null,null,null,null,null,null,{"$f":"COUNTIF('EQUIPMENT INVENTORY'!$B:$B,'LABOR-EQUIP'!$B285)","v":0}]
[null,null,null,null,{"$f":"+E284","v":0},{"$f":"IF(ISBLANK(B286),0,VLOOKUP(B286,'EQUIPMENT INVENTORY'!$B$7:$AK$1021,7,0))","v":0},{"$f":"IF(ISBLANK(B286),0,VLOOKUP(B286,'EQUIPMENT INVENTORY'!$B$7:$AK$1021,8,0))","v":0},null,null,null,null,null,null,null,{"$f":"SUM($H286:$N286)","v":0},null,null,{"$f":"O286*G286","v":0},null,null,{"$f":"COUNTIF('EQUIPMENT INVENTORY'!$B:$B,'LABOR-EQUIP'!$B286)","v":0}]
[null,null,null,null,0,{"$f":"IF(ISBLANK(B287),0,VLOOKUP(B287,'EQUIPMENT INVENTORY'!$B$7:$AK$1021,7,0))","v":0},{"$f":"IF(ISBLANK(B287),0,VLOOKUP(B287,'EQUIPMENT INVENTORY'!$B$7:$AK$1021,8,0))","v":0},null,null,null,null,null,null,null,{"$f":"SUM($H287:$N287)","v":0},null,null,{"$f":"O287*G287","v":0},null,null,{"$f":"COUNTIF('EQUIPMENT INVENTORY'!$B:$B,'LABOR-EQUIP'!$B287)","v":0}]
[null,null,null,null,0,{"$f":"IF(ISBLANK(B288),0,VLOOKUP(B288,'EQUIPMENT INVENTORY'!$B$7:$AK$1021,7,0))","v":0},{"$f":"IF(ISBLANK(B288),0,VLOOKUP(B288,'EQUIPMENT INVENTORY'!$B$7:$AK$1021,8,0))","v":0},null,null,null,null,null,null,null,{"$f":"SUM($H288:$N288)","v":0},null,null,{"$f":"O288*G288","v":0},null,null,{"$f":"COUNTIF('EQUIPMENT INVENTORY'!$B:$B,'LABOR-EQUIP'!$B288)","v":0}]
[null,"Employee/\nEquipment",null,"RATE w/","REQUEST #","COST CODE","RATE",null,null,null,null,null,null,null,"REG","OT1","OT2","REG TIME\nCOST","OT1\nCOST","OT2\nCOST",{"$f":"COUNTIF('EQUIPMENT INVENTORY'!$B:$B,'LABOR-EQUIP'!$B289)","v":0}]
[null,null,null,"FRINGE",null,null,null,null,null,null,null,null,null,null,null,null,null,null,null,null,{"$f":"COUNTIF('EQUIPMENT INVENTORY'!$B:$B,'LABOR-EQUIP'!$B290)","v":0}]
[null,null,"REG",{"$f":"IF(ISBLANK(B291),0,VLOOKUP(B291,'PAYROLL RECORD'!$B$8:$V$2005,18,FALSE))","v":0},null,null,null,null,null,null,null,null,null,null,{"$f":"SUM($H291:$N291)","v":0},null,null,{"$f":"IFERROR(D291*O291,\"\")","v":0},null,null,{"$f":"COUNTIF('EQUIPMENT INVENTORY'!$B:$B,'LABOR-EQUIP'!$B291)","v":0}]
[null,{"$f":"IF(ISBLANK(B291),\" \",VLOOKUP(B291,'PAYROLL RECORD'!$B$9:$C$10740,2,FALSE))","v":" "},"OT1",{"$f":"IF(ISBLANK(B291),0,VLOOKUP(B291,'PAYROLL RECORD'!$B$8:$V$2005,19,FALSE))","v":0},{"$f":"+E291","v":0},null,null,null,null,null,null,null,null,null,null,{"$f":"SUM(H292:N292)","v":0},null,null,{"$f":"IF(E292<>\"e\",P292*D292,0)","v":0},null,{"$f":"COUNTIF('EQUIPMENT INVENTORY'!$B:$B,'LABOR-EQUIP'!$B292)","v":0}]
[null,null,"OT2",{"$f":"IF(ISBLANK(B291),0,VLOOKUP(B291,'PAYROLL RECORD'!$B$8:$V$2005,20,FALSE))","v":0},{"$f":"+E292","v":0},null,null,null,null,null,null,null,null,null,null,null,{"$f":"SUM(H293:N293)","v":0},null,null,{"$f":"IF(E293<>\"E\",Q293*D293,0)","v":0},{"$f":"COUNTIF('EQUIPMENT INVENTORY'!$B:$B,'LABOR-EQUIP'!$B293)","v":0}]
[null,"Select type of activity(s).  See ELIGIBLE ACTIVITIES tab for complete descriptions and instructions.  Choose as many activities as applicable for each day/date. ",null,null,null,null,null,null,null,null,null,null,null,null,null,null,null,null,null,null,{"$f":"COUNTIF('EQUIPMENT INVENTORY'!$B:$B,'LABOR-EQUIP'!$B294)","v":0}]
[null,null,null,null,{"$f":"+E293","v":0},{"$f":"IF(ISBLANK(B295),0,VLOOKUP(B295,'EQUIPMENT INVENTORY'!$B$7:$AK$1021,7,0))","v":0},{"$f":"IF(ISBLANK(B295),0,VLOOKUP(B295,'EQUIPMENT INVENTORY'!$B$7:$AK$1021,8,0))","v":0},null,null,null,null,null,null,null,{"$f":"SUM($H295:$N295)","v":0},null,null,{"$f":"O295*G295","v":0},null,null,{"$f":"COUNTIF('EQUIPMENT INVENTORY'!$B:$B,'LABOR-EQUIP'!$B295)","v":0}]
[null,null,null,null,0,{"$f":"IF(ISBLANK(B296),0,VLOOKUP(B296,'EQUIPMENT INVENTORY'!$B$7:$AK$1021,7,0))","v":0},{"$f":"IF(ISBLANK(B296),0,VLOOKUP(B296,'EQUIPMENT INVENTORY'!$B$7:$AK$1021,8,0))","v":0},null,null,null,null,null,null,null,{"$f":"SUM($H296:$N296)","v":0},null,null,{"$f":"O296*G296","v":0},null,null,{"$f":"COUNTIF('EQUIPMENT INVENTORY'!$B:$B,'LABOR-EQUIP'!$B296)","v":0}]
[null,null,null,null,0,{"$f":"IF(ISBLANK(B297),0,VLOOKUP(B297,'EQUIPMENT INVENTORY'!$B$7:$AK$1021,7,0))","v":0},{"$f":"IF(ISBLANK(B297),0,VLOOKUP(B297,'EQUIPMENT INVENTORY'!$B$7:$AK$1021,8,0))","v":0},null,null,null,null,null,null,null,{"$f":"SUM($H297:$N297)","v":0},null,null,{"$f":"O297*G297","v":0},null,null,{"$f":"COUNTIF('EQUIPMENT INVENTORY'!$B:$B,'LABOR-EQUIP'!$B297)","v":0}]
[null,"Employee/\nEquipment",null,"RATE w/","REQUEST #","COST CODE","RATE",null,null,null,null,null,null,null,"REG","OT1","OT2","REG TIME\nCOST","OT1\nCOST","OT2\nCOST",{"$f":"COUNTIF('EQUIPMENT INVENTORY'!$B:$B,'LABOR-EQUIP'!$B298)","v":0}]
[null,null,null,"FRINGE",null,null,null,null,null,null,null,null,null,null,null,null,null,null,null,null,{"$f":"COUNTIF('EQUIPMENT INVENTORY'!$B:$B,'LABOR-EQUIP'!$B299)","v":0}]
[null,null,"REG",{"$f":"IF(ISBLANK(B300),0,VLOOKUP(B300,'PAYROLL RECORD'!$B$8:$V$2005,18,FALSE))","v":0},null,null,null,null,null,null,null,null,null,null,{"$f":"SUM($H300:$N300)","v":0},null,null,{"$f":"IFERROR(D300*O300,\"\")","v":0},null,null,{"$f":"COUNTIF('EQUIPMENT INVENTORY'!$B:$B,'LABOR-EQUIP'!$B300)","v":0}]
[null,{"$f":"IF(ISBLANK(B300),\" \",VLOOKUP(B300,'PAYROLL RECORD'!$B$9:$C$10740,2,FALSE))","v":" "},"OT1",{"$f":"IF(ISBLANK(B300),0,VLOOKUP(B300,'PAYROLL RECORD'!$B$8:$V$2005,19,FALSE))","v":0},{"$f":"+E300","v":0},null,null,null,null,null,null,null,null,null,null,{"$f":"SUM(H301:N301)","v":0},null,null,{"$f":"IF(E301<>\"e\",P301*D301,0)","v":0},null,{"$f":"COUNTIF('EQUIPMENT INVENTORY'!$B:$B,'LABOR-EQUIP'!$B301)","v":0}]
[null,null,"OT2",{"$f":"IF(ISBLANK(B300),0,VLOOKUP(B300,'PAYROLL RECORD'!$B$8:$V$2005,20,FALSE))","v":0},{"$f":"+E301","v":0},null,null,null,null,null,null,null,null,null,null,null,{"$f":"SUM(H302:N302)","v":0},null,null,{"$f":"IF(E302<>\"E\",Q302*D302,0)","v":0},{"$f":"COUNTIF('EQUIPMENT INVENTORY'!$B:$B,'LABOR-EQUIP'!$B302)","v":0}]
[null,"Select type of activity(s).  See ELIGIBLE ACTIVITIES tab for complete descriptions and instructions.  Choose as many activities as applicable for each day/date. ",null,null,null,null,null,null,null,null,null,null,null,null,null,null,null,null,null,null,{"$f":"COUNTIF('EQUIPMENT INVENTORY'!$B:$B,'LABOR-EQUIP'!$B303)","v":0}]
[null,null,null,null,{"$f":"+E302","v":0},{"$f":"IF(ISBLANK(B304),0,VLOOKUP(B304,'EQUIPMENT INVENTORY'!$B$7:$AK$1021,7,0))","v":0},{"$f":"IF(ISBLANK(B304),0,VLOOKUP(B304,'EQUIPMENT INVENTORY'!$B$7:$AK$1021,8,0))","v":0},null,null,null,null,null,null,null,{"$f":"SUM($H304:$N304)","v":0},null,null,{"$f":"O304*G304","v":0},null,null,{"$f":"COUNTIF('EQUIPMENT INVENTORY'!$B:$B,'LABOR-EQUIP'!$B304)","v":0}]
[null,null,null,null,0,{"$f":"IF(ISBLANK(B305),0,VLOOKUP(B305,'EQUIPMENT INVENTORY'!$B$7:$AK$1021,7,0))","v":0},{"$f":"IF(ISBLANK(B305),0,VLOOKUP(B305,'EQUIPMENT INVENTORY'!$B$7:$AK$1021,8,0))","v":0},null,null,null,null,null,null,null,{"$f":"SUM($H305:$N305)","v":0},null,null,{"$f":"O305*G305","v":0},null,null,{"$f":"COUNTIF('EQUIPMENT INVENTORY'!$B:$B,'LABOR-EQUIP'!$B305)","v":0}]
[null,null,null,null,0,{"$f":"IF(ISBLANK(B306),0,VLOOKUP(B306,'EQUIPMENT INVENTORY'!$B$7:$AK$1021,7,0))","v":0},{"$f":"IF(ISBLANK(B306),0,VLOOKUP(B306,'EQUIPMENT INVENTORY'!$B$7:$AK$1021,8,0))","v":0},null,null,null,null,null,null,null,{"$f":"SUM($H306:$N306)","v":0},null,null,{"$f":"O306*G306","v":0},null,null,{"$f":"COUNTIF('EQUIPMENT INVENTORY'!$B:$B,'LABOR-EQUIP'!$B306)","v":0}]
[null,"Employee/\nEquipment",null,"RATE w/","REQUEST #","COST CODE","RATE",null,null,null,null,null,null,null,"REG","OT1","OT2","REG TIME\nCOST","OT1\nCOST","OT2\nCOST",{"$f":"COUNTIF('EQUIPMENT INVENTORY'!$B:$B,'LABOR-EQUIP'!$B307)","v":0}]
[null,null,null,"FRINGE",null,null,null,null,null,null,null,null,null,null,null,null,null,null,null,null,{"$f":"COUNTIF('EQUIPMENT INVENTORY'!$B:$B,'LABOR-EQUIP'!$B308)","v":0}]
[null,null,"REG",{"$f":"IF(ISBLANK(B309),0,VLOOKUP(B309,'PAYROLL RECORD'!$B$8:$V$2005,18,FALSE))","v":0},null,null,null,null,null,null,null,null,null,null,{"$f":"SUM($H309:$N309)","v":0},null,null,{"$f":"IFERROR(D309*O309,\"\")","v":0},null,null,{"$f":"COUNTIF('EQUIPMENT INVENTORY'!$B:$B,'LABOR-EQUIP'!$B309)","v":0}]
[null,{"$f":"IF(ISBLANK(B309),\" \",VLOOKUP(B309,'PAYROLL RECORD'!$B$9:$C$10740,2,FALSE))","v":" "},"OT1",{"$f":"IF(ISBLANK(B309),0,VLOOKUP(B309,'PAYROLL RECORD'!$B$8:$V$2005,19,FALSE))","v":0},{"$f":"+E309","v":0},null,null,null,null,null,null,null,null,null,null,{"$f":"SUM(H310:N310)","v":0},null,null,{"$f":"IF(E310<>\"e\",P310*D310,0)","v":0},null,{"$f":"COUNTIF('EQUIPMENT INVENTORY'!$B:$B,'LABOR-EQUIP'!$B310)","v":0}]
[null,null,"OT2",{"$f":"IF(ISBLANK(B309),0,VLOOKUP(B309,'PAYROLL RECORD'!$B$8:$V$2005,20,FALSE))","v":0},{"$f":"+E310","v":0},null,null,null,null,null,null,null,null,null,null,null,{"$f":"SUM(H311:N311)","v":0},null,null,{"$f":"IF(E311<>\"E\",Q311*D311,0)","v":0},{"$f":"COUNTIF('EQUIPMENT INVENTORY'!$B:$B,'LABOR-EQUIP'!$B311)","v":0}]
[null,"Select type of activity(s).  See ELIGIBLE ACTIVITIES tab for complete descriptions and instructions.  Choose as many activities as applicable for each day/date. ",null,null,null,null,null,null,null,null,null,null,null,null,null,null,null,null,null,null,{"$f":"COUNTIF('EQUIPMENT INVENTORY'!$B:$B,'LABOR-EQUIP'!$B312)","v":0}]
[null,null,null,null,{"$f":"+E311","v":0},{"$f":"IF(ISBLANK(B313),0,VLOOKUP(B313,'EQUIPMENT INVENTORY'!$B$7:$AK$1021,7,0))","v":0},{"$f":"IF(ISBLANK(B313),0,VLOOKUP(B313,'EQUIPMENT INVENTORY'!$B$7:$AK$1021,8,0))","v":0},null,null,null,null,null,null,null,{"$f":"SUM($H313:$N313)","v":0},null,null,{"$f":"O313*G313","v":0},null,null,{"$f":"COUNTIF('EQUIPMENT INVENTORY'!$B:$B,'LABOR-EQUIP'!$B313)","v":0}]
[null,null,null,null,0,{"$f":"IF(ISBLANK(B314),0,VLOOKUP(B314,'EQUIPMENT INVENTORY'!$B$7:$AK$1021,7,0))","v":0},{"$f":"IF(ISBLANK(B314),0,VLOOKUP(B314,'EQUIPMENT INVENTORY'!$B$7:$AK$1021,8,0))","v":0},null,null,null,null,null,null,null,{"$f":"SUM($H314:$N314)","v":0},null,null,{"$f":"O314*G314","v":0},null,null,{"$f":"COUNTIF('EQUIPMENT INVENTORY'!$B:$B,'LABOR-EQUIP'!$B314)","v":0}]
[null,null,null,null,0,{"$f":"IF(ISBLANK(B315),0,VLOOKUP(B315,'EQUIPMENT INVENTORY'!$B$7:$AK$1021,7,0))","v":0},{"$f":"IF(ISBLANK(B315),0,VLOOKUP(B315,'EQUIPMENT INVENTORY'!$B$7:$AK$1021,8,0))","v":0},null,null,null,null,null,null,null,{"$f":"SUM($H315:$N315)","v":0},null,null,{"$f":"O315*G315","v":0},null,null,{"$f":"COUNTIF('EQUIPMENT INVENTORY'!$B:$B,'LABOR-EQUIP'!$B315)","v":0}]
[null,null,null,null,null,null,null,null,null,null,null,null,"LABOR - Page Total",null,{"$f":"O273+O282+O291+O300+O309","v":0},{"$f":"P274+P283+P292+P301+P310","v":0},{"$f":"Q275+Q284+Q293+Q302+Q311","v":0},{"$f":"R273+R282+R291+R300+R309","v":0},{"$f":"S274+S283+S292+S301+S310","v":0},{"$f":"T275+T284+T293+T302+T311","v":0}]
[null,null,null,null,null,null,null,null,null,null,null,null,"EQUIPMENT - Page Total",null,{"$f":"O277+O278+O279+O286+O287+O288+O295+O296+O297+O304+O305+O306+O313+O314+O315","v":0},null,null,{"$f":"R277+R278+R279+R286+R287+R288+R295+R296+R297+R304+R305+R306+R313+R314+R315","v":0}]
[null,null,null,null,null,null,null,null,null,null,null,null,"LABOR - Grand Total",null,{"$f":"SUM($AA:$AA)","v":0},{"$f":"SUM(AB:AB)","v":0},{"$f":"SUM(AC:AC)","v":0},{"$f":"SUM(AD:AD)","v":0},{"$f":"SUM(AE:AE)","v":0},{"$f":"SUM(AF:AF)","v":0},null,null,null,null,null,null,{"$f":"O316","v":0},{"$f":"P316","v":0},{"$f":"Q316","v":0},{"$f":"R316","v":0},{"$f":"S316","v":0},{"$f":"T316","v":0}]
[null,null,null,null,null,null,null,null,null,null,null,null,"EQUIPMENT - Grand Total",null,{"$f":"SUM(AG:AG)","v":0},null,null,{"$f":"SUM(AH:AH)","v":0},null,null,null,null,null,null,null,null,null,null,null,null,null,null,{"$f":"O317","v":0},{"$f":"R317","v":0}]
[]
[]
[null,"APPLICANT NAME",null,null,"DISASTER #",null,null,"PLEASE ENTER DATES FOR EACH DAY WORKED.  THIS ALLOWS FOR TRACKING OF COSTS OVER MULTIPLE DAYS, WEEKS AND/OR YEARS.  USE THE FIRST ROW FOR MONTH/DAY AND THE SECOND ROW FOR YEAR.  DATES DO NOT NEED TO BE CONSECUTIVE. ",null,null,null,null,null,null,"DISASTER TITLE"]
[null,{"$f":"IF('PAYROLL RECORD'!B323=\"\",\"\",'PAYROLL RECORD'!B323)","v":""},null,null,{"$f":"IF('PAYROLL RECORD'!D323=\"\",\"\",'PAYROLL RECORD'!D323)","v":""},null,null,null,null,null,null,null,null,null,{"$f":"IF('PAYROLL RECORD'!G323=\"\",\"\",'PAYROLL RECORD'!G323)","v":""}]
[null,"Employee/\nEquipment",null,"RATE w/","REQUEST #","COST CODE","RATE",null,null,null,null,null,null,null,"REG","OT1","OT2","REG TIME\nCOST","OT1\nCOST","OT2\nCOST"]
[null,null,null,"FRINGE"]
[null,null,"REG",{"$f":"IF(ISBLANK(B326),0,VLOOKUP(B326,'PAYROLL RECORD'!$B$8:$V$2005,18,FALSE))","v":0},null,null,null,null,null,null,null,null,null,null,{"$f":"SUM($H326:$N326)","v":0},null,null,{"$f":"IFERROR(D326*O326,\"\")","v":0},null,null,{"$f":"COUNTIF('EQUIPMENT INVENTORY'!$B:$B,'LABOR-EQUIP'!$B326)","v":0}]
[null,{"$f":"IF(ISBLANK(B326),\" \",VLOOKUP(B326,'PAYROLL RECORD'!$B$9:$C$10740,2,FALSE))","v":" "},"OT1",{"$f":"IF(ISBLANK(B326),0,VLOOKUP(B326,'PAYROLL RECORD'!$B$8:$V$2005,19,FALSE))","v":0},{"$f":"+E326","v":0},null,null,null,null,null,null,null,null,null,null,{"$f":"SUM(H327:N327)","v":0},null,null,{"$f":"IFERROR(P327*D327,\"\")","v":0},null,{"$f":"COUNTIF('EQUIPMENT INVENTORY'!$B:$B,'LABOR-EQUIP'!$B327)","v":0}]
[null,null,"OT2",{"$f":"IF(ISBLANK(B326),0,VLOOKUP(B326,'PAYROLL RECORD'!$B$8:$V$2005,20,FALSE))","v":0},{"$f":"+E326","v":0},null,null,null,null,null,null,null,null,null,null,null,{"$f":"SUM(H328:N328)","v":0},null,null,{"$f":"IFERROR(Q328*D328,\"\")","v":0},{"$f":"COUNTIF('EQUIPMENT INVENTORY'!$B:$B,'LABOR-EQUIP'!$B328)","v":0}]
[null,"Select type of activity(s).  See ELIGIBLE ACTIVITIES tab for complete descriptions and instructions.  Choose as many activities as applicable for each day/date. ",null,null,null,null,null,null,null,null,null,null,null,null,null,null,null,null,null,null,{"$f":"COUNTIF('EQUIPMENT INVENTORY'!$B:$B,'LABOR-EQUIP'!$B329)","v":0}]
[null,null,null,null,{"$f":"+E326","v":0},{"$f":"IF(ISBLANK(B330),0,VLOOKUP(B330,'EQUIPMENT INVENTORY'!$B$7:$AK$1021,7,0))","v":0},{"$f":"IF(ISBLANK(B330),0,VLOOKUP(B330,'EQUIPMENT INVENTORY'!$B$7:$AK$1021,8,0))","v":0},null,null,null,null,null,null,null,{"$f":"SUM($H330:$N330)","v":0},null,null,{"$f":"O330*G330","v":0},null,null,{"$f":"COUNTIF('EQUIPMENT INVENTORY'!$B:$B,'LABOR-EQUIP'!$B330)","v":0}]
[null,null,null,null,{"$f":"+E326","v":0},{"$f":"IF(ISBLANK(B331),0,VLOOKUP(B331,'EQUIPMENT INVENTORY'!$B$7:$AK$1021,7,0))","v":0},{"$f":"IF(ISBLANK(B331),0,VLOOKUP(B331,'EQUIPMENT INVENTORY'!$B$7:$AK$1021,8,0))","v":0},null,null,null,null,null,null,null,{"$f":"SUM($H331:$N331)","v":0},null,null,{"$f":"O331*G331","v":0},null,null,{"$f":"COUNTIF('EQUIPMENT INVENTORY'!$B:$B,'LABOR-EQUIP'!$B331)","v":0}]
[null,null,null,null,{"$f":"+E326","v":0},{"$f":"IF(ISBLANK(B332),0,VLOOKUP(B332,'EQUIPMENT INVENTORY'!$B$7:$AK$1021,7,0))","v":0},{"$f":"IF(ISBLANK(B332),0,VLOOKUP(B332,'EQUIPMENT INVENTORY'!$B$7:$AK$1021,8,0))","v":0},null,null,null,null,null,null,null,{"$f":"SUM($H332:$N332)","v":0},null,null,{"$f":"O332*G332","v":0},null,null,{"$f":"COUNTIF('EQUIPMENT INVENTORY'!$B:$B,'LABOR-EQUIP'!$B332)","v":0}]
[null,"Employee/\nEquipment",null,"RATE w/","REQUEST #","COST CODE","RATE",null,null,null,null,null,null,null,"REG","OT1","OT2","REG TIME\nCOST","OT1\nCOST","OT2\nCOST",{"$f":"COUNTIF('EQUIPMENT INVENTORY'!$B:$B,'LABOR-EQUIP'!$B333)","v":0}]
[null,null,null,"FRINGE",null,null,null,null,null,null,null,null,null,null,null,null,null,null,null,null,{"$f":"COUNTIF('EQUIPMENT INVENTORY'!$B:$B,'LABOR-EQUIP'!$B334)","v":0}]
[null,null,"REG",{"$f":"IF(ISBLANK(B335),0,VLOOKUP(B335,'PAYROLL RECORD'!$B$8:$V$2005,18,FALSE))","v":0},null,null,null,null,null,null,null,null,null,null,{"$f":"SUM($H335:$N335)","v":0},null,null,{"$f":"IFERROR(D335*O335,\"\")","v":0},null,null,{"$f":"COUNTIF('EQUIPMENT INVENTORY'!$B:$B,'LABOR-EQUIP'!$B335)","v":0}]
[null,{"$f":"IF(ISBLANK(B335),\" \",VLOOKUP(B335,'PAYROLL RECORD'!$B$9:$C$10740,2,FALSE))","v":" "},"OT1",{"$f":"IF(ISBLANK(B335),0,VLOOKUP(B335,'PAYROLL RECORD'!$B$8:$V$2005,19,FALSE))","v":0},{"$f":"+E335","v":0},null,null,null,null,null,null,null,null,null,null,{"$f":"SUM(H336:N336)","v":0},null,null,{"$f":"IF(E336<>\"e\",P336*D336,0)","v":0},null,{"$f":"COUNTIF('EQUIPMENT INVENTORY'!$B:$B,'LABOR-EQUIP'!$B336)","v":0}]
[null,null,"OT2",{"$f":"IF(ISBLANK(B335),0,VLOOKUP(B335,'PAYROLL RECORD'!$B$8:$V$2005,20,FALSE))","v":0},{"$f":"+E336","v":0},null,null,null,null,null,null,null,null,null,null,null,{"$f":"SUM(H337:N337)","v":0},null,null,{"$f":"IF(E337<>\"E\",Q337*D337,0)","v":0},{"$f":"COUNTIF('EQUIPMENT INVENTORY'!$B:$B,'LABOR-EQUIP'!$B337)","v":0}]
[null,"Select type of activity(s).  See ELIGIBLE ACTIVITIES tab for complete descriptions and instructions.  Choose as many activities as applicable for each day/date. ",null,null,null,null,null,null,null,null,null,null,null,null,null,null,null,null,null,null,{"$f":"COUNTIF('EQUIPMENT INVENTORY'!$B:$B,'LABOR-EQUIP'!$B338)","v":0}]
[null,null,null,null,{"$f":"+E337","v":0},{"$f":"IF(ISBLANK(B339),0,VLOOKUP(B339,'EQUIPMENT INVENTORY'!$B$7:$AK$1021,7,0))","v":0},{"$f":"IF(ISBLANK(B339),0,VLOOKUP(B339,'EQUIPMENT INVENTORY'!$B$7:$AK$1021,8,0))","v":0},null,null,null,null,null,null,null,{"$f":"SUM($H339:$N339)","v":0},null,null,{"$f":"O339*G339","v":0},null,null,{"$f":"COUNTIF('EQUIPMENT INVENTORY'!$B:$B,'LABOR-EQUIP'!$B339)","v":0}]
[null,null,null,null,0,{"$f":"IF(ISBLANK(B340),0,VLOOKUP(B340,'EQUIPMENT INVENTORY'!$B$7:$AK$1021,7,0))","v":0},{"$f":"IF(ISBLANK(B340),0,VLOOKUP(B340,'EQUIPMENT INVENTORY'!$B$7:$AK$1021,8,0))","v":0},null,null,null,null,null,null,null,{"$f":"SUM($H340:$N340)","v":0},null,null,{"$f":"O340*G340","v":0},null,null,{"$f":"COUNTIF('EQUIPMENT INVENTORY'!$B:$B,'LABOR-EQUIP'!$B340)","v":0}]
[null,null,null,null,0,{"$f":"IF(ISBLANK(B341),0,VLOOKUP(B341,'EQUIPMENT INVENTORY'!$B$7:$AK$1021,7,0))","v":0},{"$f":"IF(ISBLANK(B341),0,VLOOKUP(B341,'EQUIPMENT INVENTORY'!$B$7:$AK$1021,8,0))","v":0},null,null,null,null,null,null,null,{"$f":"SUM($H341:$N341)","v":0},null,null,{"$f":"O341*G341","v":0},null,null,{"$f":"COUNTIF('EQUIPMENT INVENTORY'!$B:$B,'LABOR-EQUIP'!$B341)","v":0}]
[null,"Employee/\nEquipment",null,"RATE w/","REQUEST #","COST CODE","RATE",null,null,null,null,null,null,null,"REG","OT1","OT2","REG TIME\nCOST","OT1\nCOST","OT2\nCOST",{"$f":"COUNTIF('EQUIPMENT INVENTORY'!$B:$B,'LABOR-EQUIP'!$B342)","v":0}]
[null,null,null,"FRINGE",null,null,null,null,null,null,null,null,null,null,null,null,null,null,null,null,{"$f":"COUNTIF('EQUIPMENT INVENTORY'!$B:$B,'LABOR-EQUIP'!$B343)","v":0}]
[null,null,"REG",{"$f":"IF(ISBLANK(B344),0,VLOOKUP(B344,'PAYROLL RECORD'!$B$8:$V$2005,18,FALSE))","v":0},null,null,null,null,null,null,null,null,null,null,{"$f":"SUM($H344:$N344)","v":0},null,null,{"$f":"IFERROR(D344*O344,\"\")","v":0},null,null,{"$f":"COUNTIF('EQUIPMENT INVENTORY'!$B:$B,'LABOR-EQUIP'!$B344)","v":0}]
[null,{"$f":"IF(ISBLANK(B344),\" \",VLOOKUP(B344,'PAYROLL RECORD'!$B$9:$C$10740,2,FALSE))","v":" "},"OT1",{"$f":"IF(ISBLANK(B344),0,VLOOKUP(B344,'PAYROLL RECORD'!$B$8:$V$2005,19,FALSE))","v":0},{"$f":"+E344","v":0},null,null,null,null,null,null,null,null,null,null,{"$f":"SUM(H345:N345)","v":0},null,null,{"$f":"IF(E345<>\"e\",P345*D345,0)","v":0},null,{"$f":"COUNTIF('EQUIPMENT INVENTORY'!$B:$B,'LABOR-EQUIP'!$B345)","v":0}]
[null,null,"OT2",{"$f":"IF(ISBLANK(B344),0,VLOOKUP(B344,'PAYROLL RECORD'!$B$8:$V$2005,20,FALSE))","v":0},{"$f":"+E345","v":0},null,null,null,null,null,null,null,null,null,null,null,{"$f":"SUM(H346:N346)","v":0},null,null,{"$f":"IF(E346<>\"E\",Q346*D346,0)","v":0},{"$f":"COUNTIF('EQUIPMENT INVENTORY'!$B:$B,'LABOR-EQUIP'!$B346)","v":0}]
[null,"Select type of activity(s).  See ELIGIBLE ACTIVITIES tab for complete descriptions and instructions.  Choose as many activities as applicable for each day/date. ",null,null,null,null,null,null,null,null,null,null,null,null,null,null,null,null,null,null,{"$f":"COUNTIF('EQUIPMENT INVENTORY'!$B:$B,'LABOR-EQUIP'!$B347)","v":0}]
[null,null,null,null,{"$f":"+E346","v":0},{"$f":"IF(ISBLANK(B348),0,VLOOKUP(B348,'EQUIPMENT INVENTORY'!$B$7:$AK$1021,7,0))","v":0},{"$f":"IF(ISBLANK(B348),0,VLOOKUP(B348,'EQUIPMENT INVENTORY'!$B$7:$AK$1021,8,0))","v":0},null,null,null,null,null,null,null,{"$f":"SUM($H348:$N348)","v":0},null,null,{"$f":"O348*G348","v":0},null,null,{"$f":"COUNTIF('EQUIPMENT INVENTORY'!$B:$B,'LABOR-EQUIP'!$B348)","v":0}]
[null,null,null,null,0,{"$f":"IF(ISBLANK(B349),0,VLOOKUP(B349,'EQUIPMENT INVENTORY'!$B$7:$AK$1021,7,0))","v":0},{"$f":"IF(ISBLANK(B349),0,VLOOKUP(B349,'EQUIPMENT INVENTORY'!$B$7:$AK$1021,8,0))","v":0},null,null,null,null,null,null,null,{"$f":"SUM($H349:$N349)","v":0},null,null,{"$f":"O349*G349","v":0},null,null,{"$f":"COUNTIF('EQUIPMENT INVENTORY'!$B:$B,'LABOR-EQUIP'!$B349)","v":0}]
[null,null,null,null,0,{"$f":"IF(ISBLANK(B350),0,VLOOKUP(B350,'EQUIPMENT INVENTORY'!$B$7:$AK$1021,7,0))","v":0},{"$f":"IF(ISBLANK(B350),0,VLOOKUP(B350,'EQUIPMENT INVENTORY'!$B$7:$AK$1021,8,0))","v":0},null,null,null,null,null,null,null,{"$f":"SUM($H350:$N350)","v":0},null,null,{"$f":"O350*G350","v":0},null,null,{"$f":"COUNTIF('EQUIPMENT INVENTORY'!$B:$B,'LABOR-EQUIP'!$B350)","v":0}]
[null,"Employee/\nEquipment",null,"RATE w/","REQUEST #","COST CODE","RATE",null,null,null,null,null,null,null,"REG","OT1","OT2","REG TIME\nCOST","OT1\nCOST","OT2\nCOST",{"$f":"COUNTIF('EQUIPMENT INVENTORY'!$B:$B,'LABOR-EQUIP'!$B351)","v":0}]
[null,null,null,"FRINGE",null,null,null,null,null,null,null,null,null,null,null,null,null,null,null,null,{"$f":"COUNTIF('EQUIPMENT INVENTORY'!$B:$B,'LABOR-EQUIP'!$B352)","v":0}]
[null,null,"REG",{"$f":"IF(ISBLANK(B353),0,VLOOKUP(B353,'PAYROLL RECORD'!$B$8:$V$2005,18,FALSE))","v":0},null,null,null,null,null,null,null,null,null,null,{"$f":"SUM($H353:$N353)","v":0},null,null,{"$f":"IFERROR(D353*O353,\"\")","v":0},null,null,{"$f":"COUNTIF('EQUIPMENT INVENTORY'!$B:$B,'LABOR-EQUIP'!$B353)","v":0}]
[null,{"$f":"IF(ISBLANK(B353),\" \",VLOOKUP(B353,'PAYROLL RECORD'!$B$9:$C$10740,2,FALSE))","v":" "},"OT1",{"$f":"IF(ISBLANK(B353),0,VLOOKUP(B353,'PAYROLL RECORD'!$B$8:$V$2005,19,FALSE))","v":0},{"$f":"+E353","v":0},null,null,null,null,null,null,null,null,null,null,{"$f":"SUM(H354:N354)","v":0},null,null,{"$f":"IF(E354<>\"e\",P354*D354,0)","v":0},null,{"$f":"COUNTIF('EQUIPMENT INVENTORY'!$B:$B,'LABOR-EQUIP'!$B354)","v":0}]
[null,null,"OT2",{"$f":"IF(ISBLANK(B353),0,VLOOKUP(B353,'PAYROLL RECORD'!$B$8:$V$2005,20,FALSE))","v":0},{"$f":"+E354","v":0},null,null,null,null,null,null,null,null,null,null,null,{"$f":"SUM(H355:N355)","v":0},null,null,{"$f":"IF(E355<>\"E\",Q355*D355,0)","v":0},{"$f":"COUNTIF('EQUIPMENT INVENTORY'!$B:$B,'LABOR-EQUIP'!$B355)","v":0}]
[null,"Select type of activity(s).  See ELIGIBLE ACTIVITIES tab for complete descriptions and instructions.  Choose as many activities as applicable for each day/date. ",null,null,null,null,null,null,null,null,null,null,null,null,null,null,null,null,null,null,{"$f":"COUNTIF('EQUIPMENT INVENTORY'!$B:$B,'LABOR-EQUIP'!$B356)","v":0}]
[null,null,null,null,{"$f":"+E355","v":0},{"$f":"IF(ISBLANK(B357),0,VLOOKUP(B357,'EQUIPMENT INVENTORY'!$B$7:$AK$1021,7,0))","v":0},{"$f":"IF(ISBLANK(B357),0,VLOOKUP(B357,'EQUIPMENT INVENTORY'!$B$7:$AK$1021,8,0))","v":0},null,null,null,null,null,null,null,{"$f":"SUM($H357:$N357)","v":0},null,null,{"$f":"O357*G357","v":0},null,null,{"$f":"COUNTIF('EQUIPMENT INVENTORY'!$B:$B,'LABOR-EQUIP'!$B357)","v":0}]
[null,null,null,null,0,{"$f":"IF(ISBLANK(B358),0,VLOOKUP(B358,'EQUIPMENT INVENTORY'!$B$7:$AK$1021,7,0))","v":0},{"$f":"IF(ISBLANK(B358),0,VLOOKUP(B358,'EQUIPMENT INVENTORY'!$B$7:$AK$1021,8,0))","v":0},null,null,null,null,null,null,null,{"$f":"SUM($H358:$N358)","v":0},null,null,{"$f":"O358*G358","v":0},null,null,{"$f":"COUNTIF('EQUIPMENT INVENTORY'!$B:$B,'LABOR-EQUIP'!$B358)","v":0}]
[null,null,null,null,0,{"$f":"IF(ISBLANK(B359),0,VLOOKUP(B359,'EQUIPMENT INVENTORY'!$B$7:$AK$1021,7,0))","v":0},{"$f":"IF(ISBLANK(B359),0,VLOOKUP(B359,'EQUIPMENT INVENTORY'!$B$7:$AK$1021,8,0))","v":0},null,null,null,null,null,null,null,{"$f":"SUM($H359:$N359)","v":0},null,null,{"$f":"O359*G359","v":0},null,null,{"$f":"COUNTIF('EQUIPMENT INVENTORY'!$B:$B,'LABOR-EQUIP'!$B359)","v":0}]
[null,"Employee/\nEquipment",null,"RATE w/","REQUEST #","COST CODE","RATE",null,null,null,null,null,null,null,"REG","OT1","OT2","REG TIME\nCOST","OT1\nCOST","OT2\nCOST",{"$f":"COUNTIF('EQUIPMENT INVENTORY'!$B:$B,'LABOR-EQUIP'!$B360)","v":0}]
[null,null,null,"FRINGE",null,null,null,null,null,null,null,null,null,null,null,null,null,null,null,null,{"$f":"COUNTIF('EQUIPMENT INVENTORY'!$B:$B,'LABOR-EQUIP'!$B361)","v":0}]
[null,null,"REG",{"$f":"IF(ISBLANK(B362),0,VLOOKUP(B362,'PAYROLL RECORD'!$B$8:$V$2005,18,FALSE))","v":0},null,null,null,null,null,null,null,null,null,null,{"$f":"SUM($H362:$N362)","v":0},null,null,{"$f":"IFERROR(D362*O362,\"\")","v":0},null,null,{"$f":"COUNTIF('EQUIPMENT INVENTORY'!$B:$B,'LABOR-EQUIP'!$B362)","v":0}]
[null,{"$f":"IF(ISBLANK(B362),\" \",VLOOKUP(B362,'PAYROLL RECORD'!$B$9:$C$10740,2,FALSE))","v":" "},"OT1",{"$f":"IF(ISBLANK(B362),0,VLOOKUP(B362,'PAYROLL RECORD'!$B$8:$V$2005,19,FALSE))","v":0},{"$f":"+E362","v":0},null,null,null,null,null,null,null,null,null,null,{"$f":"SUM(H363:N363)","v":0},null,null,{"$f":"IF(E363<>\"e\",P363*D363,0)","v":0},null,{"$f":"COUNTIF('EQUIPMENT INVENTORY'!$B:$B,'LABOR-EQUIP'!$B363)","v":0}]
[null,null,"OT2",{"$f":"IF(ISBLANK(B362),0,VLOOKUP(B362,'PAYROLL RECORD'!$B$8:$V$2005,20,FALSE))","v":0},{"$f":"+E363","v":0},null,null,null,null,null,null,null,null,null,null,null,{"$f":"SUM(H364:N364)","v":0},null,null,{"$f":"IF(E364<>\"E\",Q364*D364,0)","v":0},{"$f":"COUNTIF('EQUIPMENT INVENTORY'!$B:$B,'LABOR-EQUIP'!$B364)","v":0}]
[null,"Select type of activity(s).  See ELIGIBLE ACTIVITIES tab for complete descriptions and instructions.  Choose as many activities as applicable for each day/date. ",null,null,null,null,null,null,null,null,null,null,null,null,null,null,null,null,null,null,{"$f":"COUNTIF('EQUIPMENT INVENTORY'!$B:$B,'LABOR-EQUIP'!$B365)","v":0}]
[null,null,null,null,{"$f":"+E364","v":0},{"$f":"IF(ISBLANK(B366),0,VLOOKUP(B366,'EQUIPMENT INVENTORY'!$B$7:$AK$1021,7,0))","v":0},{"$f":"IF(ISBLANK(B366),0,VLOOKUP(B366,'EQUIPMENT INVENTORY'!$B$7:$AK$1021,8,0))","v":0},null,null,null,null,null,null,null,{"$f":"SUM($H366:$N366)","v":0},null,null,{"$f":"O366*G366","v":0},null,null,{"$f":"COUNTIF('EQUIPMENT INVENTORY'!$B:$B,'LABOR-EQUIP'!$B366)","v":0}]
[null,null,null,null,0,{"$f":"IF(ISBLANK(B367),0,VLOOKUP(B367,'EQUIPMENT INVENTORY'!$B$7:$AK$1021,7,0))","v":0},{"$f":"IF(ISBLANK(B367),0,VLOOKUP(B367,'EQUIPMENT INVENTORY'!$B$7:$AK$1021,8,0))","v":0},null,null,null,null,null,null,null,{"$f":"SUM($H367:$N367)","v":0},null,null,{"$f":"O367*G367","v":0},null,null,{"$f":"COUNTIF('EQUIPMENT INVENTORY'!$B:$B,'LABOR-EQUIP'!$B367)","v":0}]
[null,null,null,null,0,{"$f":"IF(ISBLANK(B368),0,VLOOKUP(B368,'EQUIPMENT INVENTORY'!$B$7:$AK$1021,7,0))","v":0},{"$f":"IF(ISBLANK(B368),0,VLOOKUP(B368,'EQUIPMENT INVENTORY'!$B$7:$AK$1021,8,0))","v":0},null,null,null,null,null,null,null,{"$f":"SUM($H368:$N368)","v":0},null,null,{"$f":"O368*G368","v":0},null,null,{"$f":"COUNTIF('EQUIPMENT INVENTORY'!$B:$B,'LABOR-EQUIP'!$B368)","v":0}]
[null,null,null,null,null,null,null,null,null,null,null,null,"LABOR - Page Total",null,{"$f":"O326+O335+O344+O353+O362","v":0},{"$f":"P327+P336+P345+P354+P363","v":0},{"$f":"Q328+Q337+Q346+Q355+Q364","v":0},{"$f":"R326+R335+R344+R353+R362","v":0},{"$f":"S327+S336+S345+S354+S363","v":0},{"$f":"T328+T337+T346+T355+T364","v":0}]
[null,null,null,null,null,null,null,null,null,null,null,null,"EQUIPMENT - Page Total",null,{"$f":"O330+O331+O332+O339+O340+O341+O348+O349+O350+O357+O358+O359+O366+O367+O368","v":0},null,null,{"$f":"R330+R331+R332+R339+R340+R341+R348+R349+R350+R357+R358+R359+R366+R367+R368","v":0}]
[null,null,null,null,null,null,null,null,null,null,null,null,"LABOR - Grand Total",null,{"$f":"SUM($AA:$AA)","v":0},{"$f":"SUM(AB:AB)","v":0},{"$f":"SUM(AC:AC)","v":0},{"$f":"SUM(AD:AD)","v":0},{"$f":"SUM(AE:AE)","v":0},{"$f":"SUM(AF:AF)","v":0},null,null,null,null,null,null,{"$f":"O369","v":0},{"$f":"P369","v":0},{"$f":"Q369","v":0},{"$f":"R369","v":0},{"$f":"S369","v":0},{"$f":"T369","v":0}]
[null,null,null,null,null,null,null,null,null,null,null,null,"EQUIPMENT - Grand Total",null,{"$f":"SUM(AG:AG)","v":0},null,null,{"$f":"SUM(AH:AH)","v":0},null,null,null,null,null,null,null,null,null,null,null,null,null,null,{"$f":"O370","v":0},{"$f":"R370","v":0}]
[]
[]
[null,"APPLICANT NAME",null,null,"DISASTER #",null,null,"PLEASE ENTER DATES FOR EACH DAY WORKED.  THIS ALLOWS FOR TRACKING OF COSTS OVER MULTIPLE DAYS, WEEKS AND/OR YEARS.  USE THE FIRST ROW FOR MONTH/DAY AND THE SECOND ROW FOR YEAR.  DATES DO NOT NEED TO BE CONSECUTIVE. ",null,null,null,null,null,null,"DISASTER TITLE"]
[null,{"$f":"IF('PAYROLL RECORD'!B376=\"\",\"\",'PAYROLL RECORD'!B376)","v":""},null,null,{"$f":"IF('PAYROLL RECORD'!D376=\"\",\"\",'PAYROLL RECORD'!D376)","v":""},null,null,null,null,null,null,null,null,null,{"$f":"IF('PAYROLL RECORD'!G376=\"\",\"\",'PAYROLL RECORD'!G376)","v":""}]
[null,"Employee/\nEquipment",null,"RATE w/","REQUEST #","COST CODE","RATE",null,null,null,null,null,null,null,"REG","OT1","OT2","REG TIME\nCOST","OT1\nCOST","OT2\nCOST"]
[null,null,null,"FRINGE"]
[null,null,"REG",{"$f":"IF(ISBLANK(B379),0,VLOOKUP(B379,'PAYROLL RECORD'!$B$8:$V$2005,18,FALSE))","v":0},null,null,null,null,null,null,null,null,null,null,{"$f":"SUM($H379:$N379)","v":0},null,null,{"$f":"IFERROR(D379*O379,\"\")","v":0},null,null,{"$f":"COUNTIF('EQUIPMENT INVENTORY'!$B:$B,'LABOR-EQUIP'!$B379)","v":0}]
[null,{"$f":"IF(ISBLANK(B379),\" \",VLOOKUP(B379,'PAYROLL RECORD'!$B$9:$C$10740,2,FALSE))","v":" "},"OT1",{"$f":"IF(ISBLANK(B379),0,VLOOKUP(B379,'PAYROLL RECORD'!$B$8:$V$2005,19,FALSE))","v":0},{"$f":"+E379","v":0},null,null,null,null,null,null,null,null,null,null,{"$f":"SUM(H380:N380)","v":0},null,null,{"$f":"IFERROR(P380*D380,\"\")","v":0},null,{"$f":"COUNTIF('EQUIPMENT INVENTORY'!$B:$B,'LABOR-EQUIP'!$B380)","v":0}]
[null,null,"OT2",{"$f":"IF(ISBLANK(B379),0,VLOOKUP(B379,'PAYROLL RECORD'!$B$8:$V$2005,20,FALSE))","v":0},{"$f":"+E379","v":0},null,null,null,null,null,null,null,null,null,null,null,{"$f":"SUM(H381:N381)","v":0},null,null,{"$f":"IFERROR(Q381*D381,\"\")","v":0},{"$f":"COUNTIF('EQUIPMENT INVENTORY'!$B:$B,'LABOR-EQUIP'!$B381)","v":0}]
[null,"Select type of activity(s).  See ELIGIBLE ACTIVITIES tab for complete descriptions and instructions.  Choose as many activities as applicable for each day/date. ",null,null,null,null,null,null,null,null,null,null,null,null,null,null,null,null,null,null,{"$f":"COUNTIF('EQUIPMENT INVENTORY'!$B:$B,'LABOR-EQUIP'!$B382)","v":0}]
[null,null,null,null,{"$f":"+E379","v":0},{"$f":"IF(ISBLANK(B383),0,VLOOKUP(B383,'EQUIPMENT INVENTORY'!$B$7:$AK$1021,7,0))","v":0},{"$f":"IF(ISBLANK(B383),0,VLOOKUP(B383,'EQUIPMENT INVENTORY'!$B$7:$AK$1021,8,0))","v":0},null,null,null,null,null,null,null,{"$f":"SUM($H383:$N383)","v":0},null,null,{"$f":"O383*G383","v":0},null,null,{"$f":"COUNTIF('EQUIPMENT INVENTORY'!$B:$B,'LABOR-EQUIP'!$B383)","v":0}]
[null,null,null,null,{"$f":"+E379","v":0},{"$f":"IF(ISBLANK(B384),0,VLOOKUP(B384,'EQUIPMENT INVENTORY'!$B$7:$AK$1021,7,0))","v":0},{"$f":"IF(ISBLANK(B384),0,VLOOKUP(B384,'EQUIPMENT INVENTORY'!$B$7:$AK$1021,8,0))","v":0},null,null,null,null,null,null,null,{"$f":"SUM($H384:$N384)","v":0},null,null,{"$f":"O384*G384","v":0},null,null,{"$f":"COUNTIF('EQUIPMENT INVENTORY'!$B:$B,'LABOR-EQUIP'!$B384)","v":0}]
[null,null,null,null,{"$f":"+E379","v":0},{"$f":"IF(ISBLANK(B385),0,VLOOKUP(B385,'EQUIPMENT INVENTORY'!$B$7:$AK$1021,7,0))","v":0},{"$f":"IF(ISBLANK(B385),0,VLOOKUP(B385,'EQUIPMENT INVENTORY'!$B$7:$AK$1021,8,0))","v":0},null,null,null,null,null,null,null,{"$f":"SUM($H385:$N385)","v":0},null,null,{"$f":"O385*G385","v":0},null,null,{"$f":"COUNTIF('EQUIPMENT INVENTORY'!$B:$B,'LABOR-EQUIP'!$B385)","v":0}]
[null,"Employee/\nEquipment",null,"RATE w/","REQUEST #","COST CODE","RATE",null,null,null,null,null,null,null,"REG","OT1","OT2","REG TIME\nCOST","OT1\nCOST","OT2\nCOST",{"$f":"COUNTIF('EQUIPMENT INVENTORY'!$B:$B,'LABOR-EQUIP'!$B386)","v":0}]
[null,null,null,"FRINGE",null,null,null,null,null,null,null,null,null,null,null,null,null,null,null,null,{"$f":"COUNTIF('EQUIPMENT INVENTORY'!$B:$B,'LABOR-EQUIP'!$B387)","v":0}]
[null,null,"REG",{"$f":"IF(ISBLANK(B388),0,VLOOKUP(B388,'PAYROLL RECORD'!$B$8:$V$2005,18,FALSE))","v":0},null,null,null,null,null,null,null,null,null,null,{"$f":"SUM($H388:$N388)","v":0},null,null,{"$f":"IFERROR(D388*O388,\"\")","v":0},null,null,{"$f":"COUNTIF('EQUIPMENT INVENTORY'!$B:$B,'LABOR-EQUIP'!$B388)","v":0}]
[null,{"$f":"IF(ISBLANK(B388),\" \",VLOOKUP(B388,'PAYROLL RECORD'!$B$9:$C$10740,2,FALSE))","v":" "},"OT1",{"$f":"IF(ISBLANK(B388),0,VLOOKUP(B388,'PAYROLL RECORD'!$B$8:$V$2005,19,FALSE))","v":0},{"$f":"+E388","v":0},null,null,null,null,null,null,null,null,null,null,{"$f":"SUM(H389:N389)","v":0},null,null,{"$f":"IF(E389<>\"e\",P389*D389,0)","v":0},null,{"$f":"COUNTIF('EQUIPMENT INVENTORY'!$B:$B,'LABOR-EQUIP'!$B389)","v":0}]
[null,null,"OT2",{"$f":"IF(ISBLANK(B388),0,VLOOKUP(B388,'PAYROLL RECORD'!$B$8:$V$2005,20,FALSE))","v":0},{"$f":"+E389","v":0},null,null,null,null,null,null,null,null,null,null,null,{"$f":"SUM(H390:N390)","v":0},null,null,{"$f":"IF(E390<>\"E\",Q390*D390,0)","v":0},{"$f":"COUNTIF('EQUIPMENT INVENTORY'!$B:$B,'LABOR-EQUIP'!$B390)","v":0}]
[null,"Select type of activity(s).  See ELIGIBLE ACTIVITIES tab for complete descriptions and instructions.  Choose as many activities as applicable for each day/date. ",null,null,null,null,null,null,null,null,null,null,null,null,null,null,null,null,null,null,{"$f":"COUNTIF('EQUIPMENT INVENTORY'!$B:$B,'LABOR-EQUIP'!$B391)","v":0}]
[null,null,null,null,{"$f":"+E390","v":0},{"$f":"IF(ISBLANK(B392),0,VLOOKUP(B392,'EQUIPMENT INVENTORY'!$B$7:$AK$1021,7,0))","v":0},{"$f":"IF(ISBLANK(B392),0,VLOOKUP(B392,'EQUIPMENT INVENTORY'!$B$7:$AK$1021,8,0))","v":0},null,null,null,null,null,null,null,{"$f":"SUM($H392:$N392)","v":0},null,null,{"$f":"O392*G392","v":0},null,null,{"$f":"COUNTIF('EQUIPMENT INVENTORY'!$B:$B,'LABOR-EQUIP'!$B392)","v":0}]
[null,null,null,null,0,{"$f":"IF(ISBLANK(B393),0,VLOOKUP(B393,'EQUIPMENT INVENTORY'!$B$7:$AK$1021,7,0))","v":0},{"$f":"IF(ISBLANK(B393),0,VLOOKUP(B393,'EQUIPMENT INVENTORY'!$B$7:$AK$1021,8,0))","v":0},null,null,null,null,null,null,null,{"$f":"SUM($H393:$N393)","v":0},null,null,{"$f":"O393*G393","v":0},null,null,{"$f":"COUNTIF('EQUIPMENT INVENTORY'!$B:$B,'LABOR-EQUIP'!$B393)","v":0}]
[null,null,null,null,0,{"$f":"IF(ISBLANK(B394),0,VLOOKUP(B394,'EQUIPMENT INVENTORY'!$B$7:$AK$1021,7,0))","v":0},{"$f":"IF(ISBLANK(B394),0,VLOOKUP(B394,'EQUIPMENT INVENTORY'!$B$7:$AK$1021,8,0))","v":0},null,null,null,null,null,null,null,{"$f":"SUM($H394:$N394)","v":0},null,null,{"$f":"O394*G394","v":0},null,null,{"$f":"COUNTIF('EQUIPMENT INVENTORY'!$B:$B,'LABOR-EQUIP'!$B394)","v":0}]
[null,"Employee/\nEquipment",null,"RATE w/","REQUEST #","COST CODE","RATE",null,null,null,null,null,null,null,"REG","OT1","OT2","REG TIME\nCOST","OT1\nCOST","OT2\nCOST",{"$f":"COUNTIF('EQUIPMENT INVENTORY'!$B:$B,'LABOR-EQUIP'!$B395)","v":0}]
[null,null,null,"FRINGE",null,null,null,null,null,null,null,null,null,null,null,null,null,null,null,null,{"$f":"COUNTIF('EQUIPMENT INVENTORY'!$B:$B,'LABOR-EQUIP'!$B396)","v":0}]
[null,null,"REG",{"$f":"IF(ISBLANK(B397),0,VLOOKUP(B397,'PAYROLL RECORD'!$B$8:$V$2005,18,FALSE))","v":0},null,null,null,null,null,null,null,null,null,null,{"$f":"SUM($H397:$N397)","v":0},null,null,{"$f":"IFERROR(D397*O397,\"\")","v":0},null,null,{"$f":"COUNTIF('EQUIPMENT INVENTORY'!$B:$B,'LABOR-EQUIP'!$B397)","v":0}]
[null,{"$f":"IF(ISBLANK(B397),\" \",VLOOKUP(B397,'PAYROLL RECORD'!$B$9:$C$10740,2,FALSE))","v":" "},"OT1",{"$f":"IF(ISBLANK(B397),0,VLOOKUP(B397,'PAYROLL RECORD'!$B$8:$V$2005,19,FALSE))","v":0},{"$f":"+E397","v":0},null,null,null,null,null,null,null,null,null,null,{"$f":"SUM(H398:N398)","v":0},null,null,{"$f":"IF(E398<>\"e\",P398*D398,0)","v":0},null,{"$f":"COUNTIF('EQUIPMENT INVENTORY'!$B:$B,'LABOR-EQUIP'!$B398)","v":0}]
[null,null,"OT2",{"$f":"IF(ISBLANK(B397),0,VLOOKUP(B397,'PAYROLL RECORD'!$B$8:$V$2005,20,FALSE))","v":0},{"$f":"+E398","v":0},null,null,null,null,null,null,null,null,null,null,null,{"$f":"SUM(H399:N399)","v":0},null,null,{"$f":"IF(E399<>\"E\",Q399*D399,0)","v":0},{"$f":"COUNTIF('EQUIPMENT INVENTORY'!$B:$B,'LABOR-EQUIP'!$B399)","v":0}]
[null,"Select type of activity(s).  See ELIGIBLE ACTIVITIES tab for complete descriptions and instructions.  Choose as many activities as applicable for each day/date. ",null,null,null,null,null,null,null,null,null,null,null,null,null,null,null,null,null,null,{"$f":"COUNTIF('EQUIPMENT INVENTORY'!$B:$B,'LABOR-EQUIP'!$B400)","v":0}]
[null,null,null,null,{"$f":"+E399","v":0},{"$f":"IF(ISBLANK(B401),0,VLOOKUP(B401,'EQUIPMENT INVENTORY'!$B$7:$AK$1021,7,0))","v":0},{"$f":"IF(ISBLANK(B401),0,VLOOKUP(B401,'EQUIPMENT INVENTORY'!$B$7:$AK$1021,8,0))","v":0},null,null,null,null,null,null,null,{"$f":"SUM($H401:$N401)","v":0},null,null,{"$f":"O401*G401","v":0},null,null,{"$f":"COUNTIF('EQUIPMENT INVENTORY'!$B:$B,'LABOR-EQUIP'!$B401)","v":0}]
[null,null,null,null,0,{"$f":"IF(ISBLANK(B402),0,VLOOKUP(B402,'EQUIPMENT INVENTORY'!$B$7:$AK$1021,7,0))","v":0},{"$f":"IF(ISBLANK(B402),0,VLOOKUP(B402,'EQUIPMENT INVENTORY'!$B$7:$AK$1021,8,0))","v":0},null,null,null,null,null,null,null,{"$f":"SUM($H402:$N402)","v":0},null,null,{"$f":"O402*G402","v":0},null,null,{"$f":"COUNTIF('EQUIPMENT INVENTORY'!$B:$B,'LABOR-EQUIP'!$B402)","v":0}]
[null,null,null,null,0,{"$f":"IF(ISBLANK(B403),0,VLOOKUP(B403,'EQUIPMENT INVENTORY'!$B$7:$AK$1021,7,0))","v":0},{"$f":"IF(ISBLANK(B403),0,VLOOKUP(B403,'EQUIPMENT INVENTORY'!$B$7:$AK$1021,8,0))","v":0},null,null,null,null,null,null,null,{"$f":"SUM($H403:$N403)","v":0},null,null,{"$f":"O403*G403","v":0},null,null,{"$f":"COUNTIF('EQUIPMENT INVENTORY'!$B:$B,'LABOR-EQUIP'!$B403)","v":0}]
[null,"Employee/\nEquipment",null,"RATE w/","REQUEST #","COST CODE","RATE",null,null,null,null,null,null,null,"REG","OT1","OT2","REG TIME\nCOST","OT1\nCOST","OT2\nCOST",{"$f":"COUNTIF('EQUIPMENT INVENTORY'!$B:$B,'LABOR-EQUIP'!$B404)","v":0}]
[null,null,null,"FRINGE",null,null,null,null,null,null,null,null,null,null,null,null,null,null,null,null,{"$f":"COUNTIF('EQUIPMENT INVENTORY'!$B:$B,'LABOR-EQUIP'!$B405)","v":0}]
[null,null,"REG",{"$f":"IF(ISBLANK(B406),0,VLOOKUP(B406,'PAYROLL RECORD'!$B$8:$V$2005,18,FALSE))","v":0},null,null,null,null,null,null,null,null,null,null,{"$f":"SUM($H406:$N406)","v":0},null,null,{"$f":"IFERROR(D406*O406,\"\")","v":0},null,null,{"$f":"COUNTIF('EQUIPMENT INVENTORY'!$B:$B,'LABOR-EQUIP'!$B406)","v":0}]
[null,{"$f":"IF(ISBLANK(B406),\" \",VLOOKUP(B406,'PAYROLL RECORD'!$B$9:$C$10740,2,FALSE))","v":" "},"OT1",{"$f":"IF(ISBLANK(B406),0,VLOOKUP(B406,'PAYROLL RECORD'!$B$8:$V$2005,19,FALSE))","v":0},{"$f":"+E406","v":0},null,null,null,null,null,null,null,null,null,null,{"$f":"SUM(H407:N407)","v":0},null,null,{"$f":"IF(E407<>\"e\",P407*D407,0)","v":0},null,{"$f":"COUNTIF('EQUIPMENT INVENTORY'!$B:$B,'LABOR-EQUIP'!$B407)","v":0}]
[null,null,"OT2",{"$f":"IF(ISBLANK(B406),0,VLOOKUP(B406,'PAYROLL RECORD'!$B$8:$V$2005,20,FALSE))","v":0},{"$f":"+E407","v":0},null,null,null,null,null,null,null,null,null,null,null,{"$f":"SUM(H408:N408)","v":0},null,null,{"$f":"IF(E408<>\"E\",Q408*D408,0)","v":0},{"$f":"COUNTIF('EQUIPMENT INVENTORY'!$B:$B,'LABOR-EQUIP'!$B408)","v":0}]
[null,"Select type of activity(s).  See ELIGIBLE ACTIVITIES tab for complete descriptions and instructions.  Choose as many activities as applicable for each day/date. ",null,null,null,null,null,null,null,null,null,null,null,null,null,null,null,null,null,null,{"$f":"COUNTIF('EQUIPMENT INVENTORY'!$B:$B,'LABOR-EQUIP'!$B409)","v":0}]
[null,null,null,null,{"$f":"+E408","v":0},{"$f":"IF(ISBLANK(B410),0,VLOOKUP(B410,'EQUIPMENT INVENTORY'!$B$7:$AK$1021,7,0))","v":0},{"$f":"IF(ISBLANK(B410),0,VLOOKUP(B410,'EQUIPMENT INVENTORY'!$B$7:$AK$1021,8,0))","v":0},null,null,null,null,null,null,null,{"$f":"SUM($H410:$N410)","v":0},null,null,{"$f":"O410*G410","v":0},null,null,{"$f":"COUNTIF('EQUIPMENT INVENTORY'!$B:$B,'LABOR-EQUIP'!$B410)","v":0}]
[null,null,null,null,0,{"$f":"IF(ISBLANK(B411),0,VLOOKUP(B411,'EQUIPMENT INVENTORY'!$B$7:$AK$1021,7,0))","v":0},{"$f":"IF(ISBLANK(B411),0,VLOOKUP(B411,'EQUIPMENT INVENTORY'!$B$7:$AK$1021,8,0))","v":0},null,null,null,null,null,null,null,{"$f":"SUM($H411:$N411)","v":0},null,null,{"$f":"O411*G411","v":0},null,null,{"$f":"COUNTIF('EQUIPMENT INVENTORY'!$B:$B,'LABOR-EQUIP'!$B411)","v":0}]
[null,null,null,null,0,{"$f":"IF(ISBLANK(B412),0,VLOOKUP(B412,'EQUIPMENT INVENTORY'!$B$7:$AK$1021,7,0))","v":0},{"$f":"IF(ISBLANK(B412),0,VLOOKUP(B412,'EQUIPMENT INVENTORY'!$B$7:$AK$1021,8,0))","v":0},null,null,null,null,null,null,null,{"$f":"SUM($H412:$N412)","v":0},null,null,{"$f":"O412*G412","v":0},null,null,{"$f":"COUNTIF('EQUIPMENT INVENTORY'!$B:$B,'LABOR-EQUIP'!$B412)","v":0}]
[null,"Employee/\nEquipment",null,"RATE w/","REQUEST #","COST CODE","RATE",null,null,null,null,null,null,null,"REG","OT1","OT2","REG TIME\nCOST","OT1\nCOST","OT2\nCOST",{"$f":"COUNTIF('EQUIPMENT INVENTORY'!$B:$B,'LABOR-EQUIP'!$B413)","v":0}]
[null,null,null,"FRINGE",null,null,null,null,null,null,null,null,null,null,null,null,null,null,null,null,{"$f":"COUNTIF('EQUIPMENT INVENTORY'!$B:$B,'LABOR-EQUIP'!$B414)","v":0}]
[null,null,"REG",{"$f":"IF(ISBLANK(B415),0,VLOOKUP(B415,'PAYROLL RECORD'!$B$8:$V$2005,18,FALSE))","v":0},null,null,null,null,null,null,null,null,null,null,{"$f":"SUM($H415:$N415)","v":0},null,null,{"$f":"IFERROR(D415*O415,\"\")","v":0},null,null,{"$f":"COUNTIF('EQUIPMENT INVENTORY'!$B:$B,'LABOR-EQUIP'!$B415)","v":0}]
[null,{"$f":"IF(ISBLANK(B415),\" \",VLOOKUP(B415,'PAYROLL RECORD'!$B$9:$C$10740,2,FALSE))","v":" "},"OT1",{"$f":"IF(ISBLANK(B415),0,VLOOKUP(B415,'PAYROLL RECORD'!$B$8:$V$2005,19,FALSE))","v":0},{"$f":"+E415","v":0},null,null,null,null,null,null,null,null,null,null,{"$f":"SUM(H416:N416)","v":0},null,null,{"$f":"IF(E416<>\"e\",P416*D416,0)","v":0},null,{"$f":"COUNTIF('EQUIPMENT INVENTORY'!$B:$B,'LABOR-EQUIP'!$B416)","v":0}]
[null,null,"OT2",{"$f":"IF(ISBLANK(B415),0,VLOOKUP(B415,'PAYROLL RECORD'!$B$8:$V$2005,20,FALSE))","v":0},{"$f":"+E416","v":0},null,null,null,null,null,null,null,null,null,null,null,{"$f":"SUM(H417:N417)","v":0},null,null,{"$f":"IF(E417<>\"E\",Q417*D417,0)","v":0},{"$f":"COUNTIF('EQUIPMENT INVENTORY'!$B:$B,'LABOR-EQUIP'!$B417)","v":0}]
[null,"Select type of activity(s).  See ELIGIBLE ACTIVITIES tab for complete descriptions and instructions.  Choose as many activities as applicable for each day/date. ",null,null,null,null,null,null,null,null,null,null,null,null,null,null,null,null,null,null,{"$f":"COUNTIF('EQUIPMENT INVENTORY'!$B:$B,'LABOR-EQUIP'!$B418)","v":0}]
[null,null,null,null,{"$f":"+E417","v":0},{"$f":"IF(ISBLANK(B419),0,VLOOKUP(B419,'EQUIPMENT INVENTORY'!$B$7:$AK$1021,7,0))","v":0},{"$f":"IF(ISBLANK(B419),0,VLOOKUP(B419,'EQUIPMENT INVENTORY'!$B$7:$AK$1021,8,0))","v":0},null,null,null,null,null,null,null,{"$f":"SUM($H419:$N419)","v":0},null,null,{"$f":"O419*G419","v":0},null,null,{"$f":"COUNTIF('EQUIPMENT INVENTORY'!$B:$B,'LABOR-EQUIP'!$B419)","v":0}]
[null,null,null,null,0,{"$f":"IF(ISBLANK(B420),0,VLOOKUP(B420,'EQUIPMENT INVENTORY'!$B$7:$AK$1021,7,0))","v":0},{"$f":"IF(ISBLANK(B420),0,VLOOKUP(B420,'EQUIPMENT INVENTORY'!$B$7:$AK$1021,8,0))","v":0},null,null,null,null,null,null,null,{"$f":"SUM($H420:$N420)","v":0},null,null,{"$f":"O420*G420","v":0},null,null,{"$f":"COUNTIF('EQUIPMENT INVENTORY'!$B:$B,'LABOR-EQUIP'!$B420)","v":0}]
[null,null,null,null,0,{"$f":"IF(ISBLANK(B421),0,VLOOKUP(B421,'EQUIPMENT INVENTORY'!$B$7:$AK$1021,7,0))","v":0},{"$f":"IF(ISBLANK(B421),0,VLOOKUP(B421,'EQUIPMENT INVENTORY'!$B$7:$AK$1021,8,0))","v":0},null,null,null,null,null,null,null,{"$f":"SUM($H421:$N421)","v":0},null,null,{"$f":"O421*G421","v":0},null,null,{"$f":"COUNTIF('EQUIPMENT INVENTORY'!$B:$B,'LABOR-EQUIP'!$B421)","v":0}]
[null,null,null,null,null,null,null,null,null,null,null,null,"LABOR - Page Total",null,{"$f":"O379+O388+O397+O406+O415","v":0},{"$f":"P380+P389+P398+P407+P416","v":0},{"$f":"Q381+Q390+Q399+Q408+Q417","v":0},{"$f":"R379+R388+R397+R406+R415","v":0},{"$f":"S380+S389+S398+S407+S416","v":0},{"$f":"T381+T390+T399+T408+T417","v":0}]
[null,null,null,null,null,null,null,null,null,null,null,null,"EQUIPMENT - Page Total",null,{"$f":"O383+O384+O385+O392+O393+O394+O401+O402+O403+O410+O411+O412+O419+O420+O421","v":0},null,null,{"$f":"R383+R384+R385+R392+R393+R394+R401+R402+R403+R410+R411+R412+R419+R420+R421","v":0}]
[null,null,null,null,null,null,null,null,null,null,null,null,"LABOR - Grand Total",null,{"$f":"SUM($AA:$AA)","v":0},{"$f":"SUM(AB:AB)","v":0},{"$f":"SUM(AC:AC)","v":0},{"$f":"SUM(AD:AD)","v":0},{"$f":"SUM(AE:AE)","v":0},{"$f":"SUM(AF:AF)","v":0},null,null,null,null,null,null,{"$f":"O422","v":0},{"$f":"P422","v":0},{"$f":"Q422","v":0},{"$f":"R422","v":0},{"$f":"S422","v":0},{"$f":"T422","v":0}]
[null,null,null,null,null,null,null,null,null,null,null,null,"EQUIPMENT - Grand Total",null,{"$f":"SUM(AG:AG)","v":0},null,null,{"$f":"SUM(AH:AH)","v":0},null,null,null,null,null,null,null,null,null,null,null,null,null,null,{"$f":"O423","v":0},{"$f":"R423","v":0}]
[]
[]
[null,"APPLICANT NAME",null,null,"DISASTER #",null,null,"PLEASE ENTER DATES FOR EACH DAY WORKED.  THIS ALLOWS FOR TRACKING OF COSTS OVER MULTIPLE DAYS, WEEKS AND/OR YEARS.  USE THE FIRST ROW FOR MONTH/DAY AND THE SECOND ROW FOR YEAR.  DATES DO NOT NEED TO BE CONSECUTIVE. ",null,null,null,null,null,null,"DISASTER TITLE"]
[null,{"$f":"IF('PAYROLL RECORD'!B429=\"\",\"\",'PAYROLL RECORD'!B429)","v":""},null,null,{"$f":"IF('PAYROLL RECORD'!D429=\"\",\"\",'PAYROLL RECORD'!D429)","v":""},null,null,null,null,null,null,null,null,null,{"$f":"IF('PAYROLL RECORD'!G429=\"\",\"\",'PAYROLL RECORD'!G429)","v":""}]
[null,"Employee/\nEquipment",null,"RATE w/","REQUEST #","COST CODE","RATE",null,null,null,null,null,null,null,"REG","OT1","OT2","REG TIME\nCOST","OT1\nCOST","OT2\nCOST"]
[null,null,null,"FRINGE"]
[null,null,"REG",{"$f":"IF(ISBLANK(B432),0,VLOOKUP(B432,'PAYROLL RECORD'!$B$8:$V$2005,18,FALSE))","v":0},null,null,null,null,null,null,null,null,null,null,{"$f":"SUM($H432:$N432)","v":0},null,null,{"$f":"IFERROR(D432*O432,\"\")","v":0},null,null,{"$f":"COUNTIF('EQUIPMENT INVENTORY'!$B:$B,'LABOR-EQUIP'!$B432)","v":0}]
[null,{"$f":"IF(ISBLANK(B432),\" \",VLOOKUP(B432,'PAYROLL RECORD'!$B$9:$C$10740,2,FALSE))","v":" "},"OT1",{"$f":"IF(ISBLANK(B432),0,VLOOKUP(B432,'PAYROLL RECORD'!$B$8:$V$2005,19,FALSE))","v":0},{"$f":"+E432","v":0},null,null,null,null,null,null,null,null,null,null,{"$f":"SUM(H433:N433)","v":0},null,null,{"$f":"IFERROR(P433*D433,\"\")","v":0},null,{"$f":"COUNTIF('EQUIPMENT INVENTORY'!$B:$B,'LABOR-EQUIP'!$B433)","v":0}]
[null,null,"OT2",{"$f":"IF(ISBLANK(B432),0,VLOOKUP(B432,'PAYROLL RECORD'!$B$8:$V$2005,20,FALSE))","v":0},{"$f":"+E432","v":0},null,null,null,null,null,null,null,null,null,null,null,{"$f":"SUM(H434:N434)","v":0},null,null,{"$f":"IFERROR(Q434*D434,\"\")","v":0},{"$f":"COUNTIF('EQUIPMENT INVENTORY'!$B:$B,'LABOR-EQUIP'!$B434)","v":0}]
[null,"Select type of activity(s).  See ELIGIBLE ACTIVITIES tab for complete descriptions and instructions.  Choose as many activities as applicable for each day/date. ",null,null,null,null,null,null,null,null,null,null,null,null,null,null,null,null,null,null,{"$f":"COUNTIF('EQUIPMENT INVENTORY'!$B:$B,'LABOR-EQUIP'!$B435)","v":0}]
[null,null,null,null,{"$f":"+E432","v":0},{"$f":"IF(ISBLANK(B436),0,VLOOKUP(B436,'EQUIPMENT INVENTORY'!$B$7:$AK$1021,7,0))","v":0},{"$f":"IF(ISBLANK(B436),0,VLOOKUP(B436,'EQUIPMENT INVENTORY'!$B$7:$AK$1021,8,0))","v":0},null,null,null,null,null,null,null,{"$f":"SUM($H436:$N436)","v":0},null,null,{"$f":"O436*G436","v":0},null,null,{"$f":"COUNTIF('EQUIPMENT INVENTORY'!$B:$B,'LABOR-EQUIP'!$B436)","v":0}]
[null,null,null,null,{"$f":"+E432","v":0},{"$f":"IF(ISBLANK(B437),0,VLOOKUP(B437,'EQUIPMENT INVENTORY'!$B$7:$AK$1021,7,0))","v":0},{"$f":"IF(ISBLANK(B437),0,VLOOKUP(B437,'EQUIPMENT INVENTORY'!$B$7:$AK$1021,8,0))","v":0},null,null,null,null,null,null,null,{"$f":"SUM($H437:$N437)","v":0},null,null,{"$f":"O437*G437","v":0},null,null,{"$f":"COUNTIF('EQUIPMENT INVENTORY'!$B:$B,'LABOR-EQUIP'!$B437)","v":0}]
[null,null,null,null,{"$f":"+E432","v":0},{"$f":"IF(ISBLANK(B438),0,VLOOKUP(B438,'EQUIPMENT INVENTORY'!$B$7:$AK$1021,7,0))","v":0},{"$f":"IF(ISBLANK(B438),0,VLOOKUP(B438,'EQUIPMENT INVENTORY'!$B$7:$AK$1021,8,0))","v":0},null,null,null,null,null,null,null,{"$f":"SUM($H438:$N438)","v":0},null,null,{"$f":"O438*G438","v":0},null,null,{"$f":"COUNTIF('EQUIPMENT INVENTORY'!$B:$B,'LABOR-EQUIP'!$B438)","v":0}]
[null,"Employee/\nEquipment",null,"RATE w/","REQUEST #","COST CODE","RATE",null,null,null,null,null,null,null,"REG","OT1","OT2","REG TIME\nCOST","OT1\nCOST","OT2\nCOST",{"$f":"COUNTIF('EQUIPMENT INVENTORY'!$B:$B,'LABOR-EQUIP'!$B439)","v":0}]
[null,null,null,"FRINGE",null,null,null,null,null,null,null,null,null,null,null,null,null,null,null,null,{"$f":"COUNTIF('EQUIPMENT INVENTORY'!$B:$B,'LABOR-EQUIP'!$B440)","v":0}]
[null,null,"REG",{"$f":"IF(ISBLANK(B441),0,VLOOKUP(B441,'PAYROLL RECORD'!$B$8:$V$2005,18,FALSE))","v":0},null,null,null,null,null,null,null,null,null,null,{"$f":"SUM($H441:$N441)","v":0},null,null,{"$f":"IFERROR(D441*O441,\"\")","v":0},null,null,{"$f":"COUNTIF('EQUIPMENT INVENTORY'!$B:$B,'LABOR-EQUIP'!$B441)","v":0}]
[null,{"$f":"IF(ISBLANK(B441),\" \",VLOOKUP(B441,'PAYROLL RECORD'!$B$9:$C$10740,2,FALSE))","v":" "},"OT1",{"$f":"IF(ISBLANK(B441),0,VLOOKUP(B441,'PAYROLL RECORD'!$B$8:$V$2005,19,FALSE))","v":0},{"$f":"+E441","v":0},null,null,null,null,null,null,null,null,null,null,{"$f":"SUM(H442:N442)","v":0},null,null,{"$f":"IF(E442<>\"e\",P442*D442,0)","v":0},null,{"$f":"COUNTIF('EQUIPMENT INVENTORY'!$B:$B,'LABOR-EQUIP'!$B442)","v":0}]
[null,null,"OT2",{"$f":"IF(ISBLANK(B441),0,VLOOKUP(B441,'PAYROLL RECORD'!$B$8:$V$2005,20,FALSE))","v":0},{"$f":"+E442","v":0},null,null,null,null,null,null,null,null,null,null,null,{"$f":"SUM(H443:N443)","v":0},null,null,{"$f":"IF(E443<>\"E\",Q443*D443,0)","v":0},{"$f":"COUNTIF('EQUIPMENT INVENTORY'!$B:$B,'LABOR-EQUIP'!$B443)","v":0}]
[null,"Select type of activity(s).  See ELIGIBLE ACTIVITIES tab for complete descriptions and instructions.  Choose as many activities as applicable for each day/date. ",null,null,null,null,null,null,null,null,null,null,null,null,null,null,null,null,null,null,{"$f":"COUNTIF('EQUIPMENT INVENTORY'!$B:$B,'LABOR-EQUIP'!$B444)","v":0}]
[null,null,null,null,{"$f":"+E443","v":0},{"$f":"IF(ISBLANK(B445),0,VLOOKUP(B445,'EQUIPMENT INVENTORY'!$B$7:$AK$1021,7,0))","v":0},{"$f":"IF(ISBLANK(B445),0,VLOOKUP(B445,'EQUIPMENT INVENTORY'!$B$7:$AK$1021,8,0))","v":0},null,null,null,null,null,null,null,{"$f":"SUM($H445:$N445)","v":0},null,null,{"$f":"O445*G445","v":0},null,null,{"$f":"COUNTIF('EQUIPMENT INVENTORY'!$B:$B,'LABOR-EQUIP'!$B445)","v":0}]
[null,null,null,null,0,{"$f":"IF(ISBLANK(B446),0,VLOOKUP(B446,'EQUIPMENT INVENTORY'!$B$7:$AK$1021,7,0))","v":0},{"$f":"IF(ISBLANK(B446),0,VLOOKUP(B446,'EQUIPMENT INVENTORY'!$B$7:$AK$1021,8,0))","v":0},null,null,null,null,null,null,null,{"$f":"SUM($H446:$N446)","v":0},null,null,{"$f":"O446*G446","v":0},null,null,{"$f":"COUNTIF('EQUIPMENT INVENTORY'!$B:$B,'LABOR-EQUIP'!$B446)","v":0}]
[null,null,null,null,0,{"$f":"IF(ISBLANK(B447),0,VLOOKUP(B447,'EQUIPMENT INVENTORY'!$B$7:$AK$1021,7,0))","v":0},{"$f":"IF(ISBLANK(B447),0,VLOOKUP(B447,'EQUIPMENT INVENTORY'!$B$7:$AK$1021,8,0))","v":0},null,null,null,null,null,null,null,{"$f":"SUM($H447:$N447)","v":0},null,null,{"$f":"O447*G447","v":0},null,null,{"$f":"COUNTIF('EQUIPMENT INVENTORY'!$B:$B,'LABOR-EQUIP'!$B447)","v":0}]
[null,"Employee/\nEquipment",null,"RATE w/","REQUEST #","COST CODE","RATE",null,null,null,null,null,null,null,"REG","OT1","OT2","REG TIME\nCOST","OT1\nCOST","OT2\nCOST",{"$f":"COUNTIF('EQUIPMENT INVENTORY'!$B:$B,'LABOR-EQUIP'!$B448)","v":0}]
[null,null,null,"FRINGE",null,null,null,null,null,null,null,null,null,null,null,null,null,null,null,null,{"$f":"COUNTIF('EQUIPMENT INVENTORY'!$B:$B,'LABOR-EQUIP'!$B449)","v":0}]
[null,null,"REG",{"$f":"IF(ISBLANK(B450),0,VLOOKUP(B450,'PAYROLL RECORD'!$B$8:$V$2005,18,FALSE))","v":0},null,null,null,null,null,null,null,null,null,null,{"$f":"SUM($H450:$N450)","v":0},null,null,{"$f":"IFERROR(D450*O450,\"\")","v":0},null,null,{"$f":"COUNTIF('EQUIPMENT INVENTORY'!$B:$B,'LABOR-EQUIP'!$B450)","v":0}]
[null,{"$f":"IF(ISBLANK(B450),\" \",VLOOKUP(B450,'PAYROLL RECORD'!$B$9:$C$10740,2,FALSE))","v":" "},"OT1",{"$f":"IF(ISBLANK(B450),0,VLOOKUP(B450,'PAYROLL RECORD'!$B$8:$V$2005,19,FALSE))","v":0},{"$f":"+E450","v":0},null,null,null,null,null,null,null,null,null,null,{"$f":"SUM(H451:N451)","v":0},null,null,{"$f":"IF(E451<>\"e\",P451*D451,0)","v":0},null,{"$f":"COUNTIF('EQUIPMENT INVENTORY'!$B:$B,'LABOR-EQUIP'!$B451)","v":0}]
[null,null,"OT2",{"$f":"IF(ISBLANK(B450),0,VLOOKUP(B450,'PAYROLL RECORD'!$B$8:$V$2005,20,FALSE))","v":0},{"$f":"+E451","v":0},null,null,null,null,null,null,null,null,null,null,null,{"$f":"SUM(H452:N452)","v":0},null,null,{"$f":"IF(E452<>\"E\",Q452*D452,0)","v":0},{"$f":"COUNTIF('EQUIPMENT INVENTORY'!$B:$B,'LABOR-EQUIP'!$B452)","v":0}]
[null,"Select type of activity(s).  See ELIGIBLE ACTIVITIES tab for complete descriptions and instructions.  Choose as many activities as applicable for each day/date. ",null,null,null,null,null,null,null,null,null,null,null,null,null,null,null,null,null,null,{"$f":"COUNTIF('EQUIPMENT INVENTORY'!$B:$B,'LABOR-EQUIP'!$B453)","v":0}]
[null,null,null,null,{"$f":"+E452","v":0},{"$f":"IF(ISBLANK(B454),0,VLOOKUP(B454,'EQUIPMENT INVENTORY'!$B$7:$AK$1021,7,0))","v":0},{"$f":"IF(ISBLANK(B454),0,VLOOKUP(B454,'EQUIPMENT INVENTORY'!$B$7:$AK$1021,8,0))","v":0},null,null,null,null,null,null,null,{"$f":"SUM($H454:$N454)","v":0},null,null,{"$f":"O454*G454","v":0},null,null,{"$f":"COUNTIF('EQUIPMENT INVENTORY'!$B:$B,'LABOR-EQUIP'!$B454)","v":0}]
[null,null,null,null,0,{"$f":"IF(ISBLANK(B455),0,VLOOKUP(B455,'EQUIPMENT INVENTORY'!$B$7:$AK$1021,7,0))","v":0},{"$f":"IF(ISBLANK(B455),0,VLOOKUP(B455,'EQUIPMENT INVENTORY'!$B$7:$AK$1021,8,0))","v":0},null,null,null,null,null,null,null,{"$f":"SUM($H455:$N455)","v":0},null,null,{"$f":"O455*G455","v":0},null,null,{"$f":"COUNTIF('EQUIPMENT INVENTORY'!$B:$B,'LABOR-EQUIP'!$B455)","v":0}]
[null,null,null,null,0,{"$f":"IF(ISBLANK(B456),0,VLOOKUP(B456,'EQUIPMENT INVENTORY'!$B$7:$AK$1021,7,0))","v":0},{"$f":"IF(ISBLANK(B456),0,VLOOKUP(B456,'EQUIPMENT INVENTORY'!$B$7:$AK$1021,8,0))","v":0},null,null,null,null,null,null,null,{"$f":"SUM($H456:$N456)","v":0},null,null,{"$f":"O456*G456","v":0},null,null,{"$f":"COUNTIF('EQUIPMENT INVENTORY'!$B:$B,'LABOR-EQUIP'!$B456)","v":0}]
[null,"Employee/\nEquipment",null,"RATE w/","REQUEST #","COST CODE","RATE",null,null,null,null,null,null,null,"REG","OT1","OT2","REG TIME\nCOST","OT1\nCOST","OT2\nCOST",{"$f":"COUNTIF('EQUIPMENT INVENTORY'!$B:$B,'LABOR-EQUIP'!$B457)","v":0}]
[null,null,null,"FRINGE",null,null,null,null,null,null,null,null,null,null,null,null,null,null,null,null,{"$f":"COUNTIF('EQUIPMENT INVENTORY'!$B:$B,'LABOR-EQUIP'!$B458)","v":0}]
[null,null,"REG",{"$f":"IF(ISBLANK(B459),0,VLOOKUP(B459,'PAYROLL RECORD'!$B$8:$V$2005,18,FALSE))","v":0},null,null,null,null,null,null,null,null,null,null,{"$f":"SUM($H459:$N459)","v":0},null,null,{"$f":"IFERROR(D459*O459,\"\")","v":0},null,null,{"$f":"COUNTIF('EQUIPMENT INVENTORY'!$B:$B,'LABOR-EQUIP'!$B459)","v":0}]
[null,{"$f":"IF(ISBLANK(B459),\" \",VLOOKUP(B459,'PAYROLL RECORD'!$B$9:$C$10740,2,FALSE))","v":" "},"OT1",{"$f":"IF(ISBLANK(B459),0,VLOOKUP(B459,'PAYROLL RECORD'!$B$8:$V$2005,19,FALSE))","v":0},{"$f":"+E459","v":0},null,null,null,null,null,null,null,null,null,null,{"$f":"SUM(H460:N460)","v":0},null,null,{"$f":"IF(E460<>\"e\",P460*D460,0)","v":0},null,{"$f":"COUNTIF('EQUIPMENT INVENTORY'!$B:$B,'LABOR-EQUIP'!$B460)","v":0}]
[null,null,"OT2",{"$f":"IF(ISBLANK(B459),0,VLOOKUP(B459,'PAYROLL RECORD'!$B$8:$V$2005,20,FALSE))","v":0},{"$f":"+E460","v":0},null,null,null,null,null,null,null,null,null,null,null,{"$f":"SUM(H461:N461)","v":0},null,null,{"$f":"IF(E461<>\"E\",Q461*D461,0)","v":0},{"$f":"COUNTIF('EQUIPMENT INVENTORY'!$B:$B,'LABOR-EQUIP'!$B461)","v":0}]
[null,"Select type of activity(s).  See ELIGIBLE ACTIVITIES tab for complete descriptions and instructions.  Choose as many activities as applicable for each day/date. ",null,null,null,null,null,null,null,null,null,null,null,null,null,null,null,null,null,null,{"$f":"COUNTIF('EQUIPMENT INVENTORY'!$B:$B,'LABOR-EQUIP'!$B462)","v":0}]
[null,null,null,null,{"$f":"+E461","v":0},{"$f":"IF(ISBLANK(B463),0,VLOOKUP(B463,'EQUIPMENT INVENTORY'!$B$7:$AK$1021,7,0))","v":0},{"$f":"IF(ISBLANK(B463),0,VLOOKUP(B463,'EQUIPMENT INVENTORY'!$B$7:$AK$1021,8,0))","v":0},null,null,null,null,null,null,null,{"$f":"SUM($H463:$N463)","v":0},null,null,{"$f":"O463*G463","v":0},null,null,{"$f":"COUNTIF('EQUIPMENT INVENTORY'!$B:$B,'LABOR-EQUIP'!$B463)","v":0}]
[null,null,null,null,0,{"$f":"IF(ISBLANK(B464),0,VLOOKUP(B464,'EQUIPMENT INVENTORY'!$B$7:$AK$1021,7,0))","v":0},{"$f":"IF(ISBLANK(B464),0,VLOOKUP(B464,'EQUIPMENT INVENTORY'!$B$7:$AK$1021,8,0))","v":0},null,null,null,null,null,null,null,{"$f":"SUM($H464:$N464)","v":0},null,null,{"$f":"O464*G464","v":0},null,null,{"$f":"COUNTIF('EQUIPMENT INVENTORY'!$B:$B,'LABOR-EQUIP'!$B464)","v":0}]
[null,null,null,null,0,{"$f":"IF(ISBLANK(B465),0,VLOOKUP(B465,'EQUIPMENT INVENTORY'!$B$7:$AK$1021,7,0))","v":0},{"$f":"IF(ISBLANK(B465),0,VLOOKUP(B465,'EQUIPMENT INVENTORY'!$B$7:$AK$1021,8,0))","v":0},null,null,null,null,null,null,null,{"$f":"SUM($H465:$N465)","v":0},null,null,{"$f":"O465*G465","v":0},null,null,{"$f":"COUNTIF('EQUIPMENT INVENTORY'!$B:$B,'LABOR-EQUIP'!$B465)","v":0}]
[null,"Employee/\nEquipment",null,"RATE w/","REQUEST #","COST CODE","RATE",null,null,null,null,null,null,null,"REG","OT1","OT2","REG TIME\nCOST","OT1\nCOST","OT2\nCOST",{"$f":"COUNTIF('EQUIPMENT INVENTORY'!$B:$B,'LABOR-EQUIP'!$B466)","v":0}]
[null,null,null,"FRINGE",null,null,null,null,null,null,null,null,null,null,null,null,null,null,null,null,{"$f":"COUNTIF('EQUIPMENT INVENTORY'!$B:$B,'LABOR-EQUIP'!$B467)","v":0}]
[null,null,"REG",{"$f":"IF(ISBLANK(B468),0,VLOOKUP(B468,'PAYROLL RECORD'!$B$8:$V$2005,18,FALSE))","v":0},null,null,null,null,null,null,null,null,null,null,{"$f":"SUM($H468:$N468)","v":0},null,null,{"$f":"IFERROR(D468*O468,\"\")","v":0},null,null,{"$f":"COUNTIF('EQUIPMENT INVENTORY'!$B:$B,'LABOR-EQUIP'!$B468)","v":0}]
[null,{"$f":"IF(ISBLANK(B468),\" \",VLOOKUP(B468,'PAYROLL RECORD'!$B$9:$C$10740,2,FALSE))","v":" "},"OT1",{"$f":"IF(ISBLANK(B468),0,VLOOKUP(B468,'PAYROLL RECORD'!$B$8:$V$2005,19,FALSE))","v":0},{"$f":"+E468","v":0},null,null,null,null,null,null,null,null,null,null,{"$f":"SUM(H469:N469)","v":0},null,null,{"$f":"IF(E469<>\"e\",P469*D469,0)","v":0},null,{"$f":"COUNTIF('EQUIPMENT INVENTORY'!$B:$B,'LABOR-EQUIP'!$B469)","v":0}]
[null,null,"OT2",{"$f":"IF(ISBLANK(B468),0,VLOOKUP(B468,'PAYROLL RECORD'!$B$8:$V$2005,20,FALSE))","v":0},{"$f":"+E469","v":0},null,null,null,null,null,null,null,null,null,null,null,{"$f":"SUM(H470:N470)","v":0},null,null,{"$f":"IF(E470<>\"E\",Q470*D470,0)","v":0},{"$f":"COUNTIF('EQUIPMENT INVENTORY'!$B:$B,'LABOR-EQUIP'!$B470)","v":0}]
[null,"Select type of activity(s).  See ELIGIBLE ACTIVITIES tab for complete descriptions and instructions.  Choose as many activities as applicable for each day/date. ",null,null,null,null,null,null,null,null,null,null,null,null,null,null,null,null,null,null,{"$f":"COUNTIF('EQUIPMENT INVENTORY'!$B:$B,'LABOR-EQUIP'!$B471)","v":0}]
[null,null,null,null,{"$f":"+E470","v":0},{"$f":"IF(ISBLANK(B472),0,VLOOKUP(B472,'EQUIPMENT INVENTORY'!$B$7:$AK$1021,7,0))","v":0},{"$f":"IF(ISBLANK(B472),0,VLOOKUP(B472,'EQUIPMENT INVENTORY'!$B$7:$AK$1021,8,0))","v":0},null,null,null,null,null,null,null,{"$f":"SUM($H472:$N472)","v":0},null,null,{"$f":"O472*G472","v":0},null,null,{"$f":"COUNTIF('EQUIPMENT INVENTORY'!$B:$B,'LABOR-EQUIP'!$B472)","v":0}]
[null,null,null,null,0,{"$f":"IF(ISBLANK(B473),0,VLOOKUP(B473,'EQUIPMENT INVENTORY'!$B$7:$AK$1021,7,0))","v":0},{"$f":"IF(ISBLANK(B473),0,VLOOKUP(B473,'EQUIPMENT INVENTORY'!$B$7:$AK$1021,8,0))","v":0},null,null,null,null,null,null,null,{"$f":"SUM($H473:$N473)","v":0},null,null,{"$f":"O473*G473","v":0},null,null,{"$f":"COUNTIF('EQUIPMENT INVENTORY'!$B:$B,'LABOR-EQUIP'!$B473)","v":0}]
[null,null,null,null,0,{"$f":"IF(ISBLANK(B474),0,VLOOKUP(B474,'EQUIPMENT INVENTORY'!$B$7:$AK$1021,7,0))","v":0},{"$f":"IF(ISBLANK(B474),0,VLOOKUP(B474,'EQUIPMENT INVENTORY'!$B$7:$AK$1021,8,0))","v":0},null,null,null,null,null,null,null,{"$f":"SUM($H474:$N474)","v":0},null,null,{"$f":"O474*G474","v":0},null,null,{"$f":"COUNTIF('EQUIPMENT INVENTORY'!$B:$B,'LABOR-EQUIP'!$B474)","v":0}]
[null,null,null,null,null,null,null,null,null,null,null,null,"LABOR - Page Total",null,{"$f":"O432+O441+O450+O459+O468","v":0},{"$f":"P433+P442+P451+P460+P469","v":0},{"$f":"Q434+Q443+Q452+Q461+Q470","v":0},{"$f":"R432+R441+R450+R459+R468","v":0},{"$f":"S433+S442+S451+S460+S469","v":0},{"$f":"T434+T443+T452+T461+T470","v":0}]
[null,null,null,null,null,null,null,null,null,null,null,null,"EQUIPMENT - Page Total",null,{"$f":"O436+O437+O438+O445+O446+O447+O454+O455+O456+O463+O464+O465+O472+O473+O474","v":0},null,null,{"$f":"R436+R437+R438+R445+R446+R447+R454+R455+R456+R463+R464+R465+R472+R473+R474","v":0}]
[null,null,null,null,null,null,null,null,null,null,null,null,"LABOR - Grand Total",null,{"$f":"SUM($AA:$AA)","v":0},{"$f":"SUM(AB:AB)","v":0},{"$f":"SUM(AC:AC)","v":0},{"$f":"SUM(AD:AD)","v":0},{"$f":"SUM(AE:AE)","v":0},{"$f":"SUM(AF:AF)","v":0},null,null,null,null,null,null,{"$f":"O475","v":0},{"$f":"P475","v":0},{"$f":"Q475","v":0},{"$f":"R475","v":0},{"$f":"S475","v":0},{"$f":"T475","v":0}]
[null,null,null,null,null,null,null,null,null,null,null,null,"EQUIPMENT - Grand Total",null,{"$f":"SUM(AG:AG)","v":0},null,null,{"$f":"SUM(AH:AH)","v":0},null,null,null,null,null,null,null,null,null,null,null,null,null,null,{"$f":"O476","v":0},{"$f":"R476","v":0}]
[]
[]
[null,"APPLICANT NAME",null,null,"DISASTER #",null,null,"PLEASE ENTER DATES FOR EACH DAY WORKED.  THIS ALLOWS FOR TRACKING OF COSTS OVER MULTIPLE DAYS, WEEKS AND/OR YEARS.  USE THE FIRST ROW FOR MONTH/DAY AND THE SECOND ROW FOR YEAR.  DATES DO NOT NEED TO BE CONSECUTIVE. ",null,null,null,null,null,null,"DISASTER TITLE"]
[null,{"$f":"IF('PAYROLL RECORD'!B482=\"\",\"\",'PAYROLL RECORD'!B482)","v":""},null,null,{"$f":"IF('PAYROLL RECORD'!D482=\"\",\"\",'PAYROLL RECORD'!D482)","v":""},null,null,null,null,null,null,null,null,null,{"$f":"IF('PAYROLL RECORD'!G482=\"\",\"\",'PAYROLL RECORD'!G482)","v":""}]
[null,"Employee/\nEquipment",null,"RATE w/","REQUEST #","COST CODE","RATE",null,null,null,null,null,null,null,"REG","OT1","OT2","REG TIME\nCOST","OT1\nCOST","OT2\nCOST"]
[null,null,null,"FRINGE"]
[null,null,"REG",{"$f":"IF(ISBLANK(B485),0,VLOOKUP(B485,'PAYROLL RECORD'!$B$8:$V$2005,18,FALSE))","v":0},null,null,null,null,null,null,null,null,null,null,{"$f":"SUM($H485:$N485)","v":0},null,null,{"$f":"IFERROR(D485*O485,\"\")","v":0},null,null,{"$f":"COUNTIF('EQUIPMENT INVENTORY'!$B:$B,'LABOR-EQUIP'!$B485)","v":0}]
[null,{"$f":"IF(ISBLANK(B485),\" \",VLOOKUP(B485,'PAYROLL RECORD'!$B$9:$C$10740,2,FALSE))","v":" "},"OT1",{"$f":"IF(ISBLANK(B485),0,VLOOKUP(B485,'PAYROLL RECORD'!$B$8:$V$2005,19,FALSE))","v":0},{"$f":"+E485","v":0},null,null,null,null,null,null,null,null,null,null,{"$f":"SUM(H486:N486)","v":0},null,null,{"$f":"IFERROR(P486*D486,\"\")","v":0},null,{"$f":"COUNTIF('EQUIPMENT INVENTORY'!$B:$B,'LABOR-EQUIP'!$B486)","v":0}]
[null,null,"OT2",{"$f":"IF(ISBLANK(B485),0,VLOOKUP(B485,'PAYROLL RECORD'!$B$8:$V$2005,20,FALSE))","v":0},{"$f":"+E485","v":0},null,null,null,null,null,null,null,null,null,null,null,{"$f":"SUM(H487:N487)","v":0},null,null,{"$f":"IFERROR(Q487*D487,\"\")","v":0},{"$f":"COUNTIF('EQUIPMENT INVENTORY'!$B:$B,'LABOR-EQUIP'!$B487)","v":0}]
[null,"Select type of activity(s).  See ELIGIBLE ACTIVITIES tab for complete descriptions and instructions.  Choose as many activities as applicable for each day/date. ",null,null,null,null,null,null,null,null,null,null,null,null,null,null,null,null,null,null,{"$f":"COUNTIF('EQUIPMENT INVENTORY'!$B:$B,'LABOR-EQUIP'!$B488)","v":0}]
[null,null,null,null,{"$f":"+E485","v":0},{"$f":"IF(ISBLANK(B489),0,VLOOKUP(B489,'EQUIPMENT INVENTORY'!$B$7:$AK$1021,7,0))","v":0},{"$f":"IF(ISBLANK(B489),0,VLOOKUP(B489,'EQUIPMENT INVENTORY'!$B$7:$AK$1021,8,0))","v":0},null,null,null,null,null,null,null,{"$f":"SUM($H489:$N489)","v":0},null,null,{"$f":"O489*G489","v":0},null,null,{"$f":"COUNTIF('EQUIPMENT INVENTORY'!$B:$B,'LABOR-EQUIP'!$B489)","v":0}]
[null,null,null,null,{"$f":"+E485","v":0},{"$f":"IF(ISBLANK(B490),0,VLOOKUP(B490,'EQUIPMENT INVENTORY'!$B$7:$AK$1021,7,0))","v":0},{"$f":"IF(ISBLANK(B490),0,VLOOKUP(B490,'EQUIPMENT INVENTORY'!$B$7:$AK$1021,8,0))","v":0},null,null,null,null,null,null,null,{"$f":"SUM($H490:$N490)","v":0},null,null,{"$f":"O490*G490","v":0},null,null,{"$f":"COUNTIF('EQUIPMENT INVENTORY'!$B:$B,'LABOR-EQUIP'!$B490)","v":0}]
[null,null,null,null,{"$f":"+E485","v":0},{"$f":"IF(ISBLANK(B491),0,VLOOKUP(B491,'EQUIPMENT INVENTORY'!$B$7:$AK$1021,7,0))","v":0},{"$f":"IF(ISBLANK(B491),0,VLOOKUP(B491,'EQUIPMENT INVENTORY'!$B$7:$AK$1021,8,0))","v":0},null,null,null,null,null,null,null,{"$f":"SUM($H491:$N491)","v":0},null,null,{"$f":"O491*G491","v":0},null,null,{"$f":"COUNTIF('EQUIPMENT INVENTORY'!$B:$B,'LABOR-EQUIP'!$B491)","v":0}]
[null,"Employee/\nEquipment",null,"RATE w/","REQUEST #","COST CODE","RATE",null,null,null,null,null,null,null,"REG","OT1","OT2","REG TIME\nCOST","OT1\nCOST","OT2\nCOST",{"$f":"COUNTIF('EQUIPMENT INVENTORY'!$B:$B,'LABOR-EQUIP'!$B492)","v":0}]
[null,null,null,"FRINGE",null,null,null,null,null,null,null,null,null,null,null,null,null,null,null,null,{"$f":"COUNTIF('EQUIPMENT INVENTORY'!$B:$B,'LABOR-EQUIP'!$B493)","v":0}]
[null,null,"REG",{"$f":"IF(ISBLANK(B494),0,VLOOKUP(B494,'PAYROLL RECORD'!$B$8:$V$2005,18,FALSE))","v":0},null,null,null,null,null,null,null,null,null,null,{"$f":"SUM($H494:$N494)","v":0},null,null,{"$f":"IFERROR(D494*O494,\"\")","v":0},null,null,{"$f":"COUNTIF('EQUIPMENT INVENTORY'!$B:$B,'LABOR-EQUIP'!$B494)","v":0}]
[null,{"$f":"IF(ISBLANK(B494),\" \",VLOOKUP(B494,'PAYROLL RECORD'!$B$9:$C$10740,2,FALSE))","v":" "},"OT1",{"$f":"IF(ISBLANK(B494),0,VLOOKUP(B494,'PAYROLL RECORD'!$B$8:$V$2005,19,FALSE))","v":0},{"$f":"+E494","v":0},null,null,null,null,null,null,null,null,null,null,{"$f":"SUM(H495:N495)","v":0},null,null,{"$f":"IF(E495<>\"e\",P495*D495,0)","v":0},null,{"$f":"COUNTIF('EQUIPMENT INVENTORY'!$B:$B,'LABOR-EQUIP'!$B495)","v":0}]
[null,null,"OT2",{"$f":"IF(ISBLANK(B494),0,VLOOKUP(B494,'PAYROLL RECORD'!$B$8:$V$2005,20,FALSE))","v":0},{"$f":"+E495","v":0},null,null,null,null,null,null,null,null,null,null,null,{"$f":"SUM(H496:N496)","v":0},null,null,{"$f":"IF(E496<>\"E\",Q496*D496,0)","v":0},{"$f":"COUNTIF('EQUIPMENT INVENTORY'!$B:$B,'LABOR-EQUIP'!$B496)","v":0}]
[null,"Select type of activity(s).  See ELIGIBLE ACTIVITIES tab for complete descriptions and instructions.  Choose as many activities as applicable for each day/date. ",null,null,null,null,null,null,null,null,null,null,null,null,null,null,null,null,null,null,{"$f":"COUNTIF('EQUIPMENT INVENTORY'!$B:$B,'LABOR-EQUIP'!$B497)","v":0}]
[null,null,null,null,{"$f":"+E496","v":0},{"$f":"IF(ISBLANK(B498),0,VLOOKUP(B498,'EQUIPMENT INVENTORY'!$B$7:$AK$1021,7,0))","v":0},{"$f":"IF(ISBLANK(B498),0,VLOOKUP(B498,'EQUIPMENT INVENTORY'!$B$7:$AK$1021,8,0))","v":0},null,null,null,null,null,null,null,{"$f":"SUM($H498:$N498)","v":0},null,null,{"$f":"O498*G498","v":0},null,null,{"$f":"COUNTIF('EQUIPMENT INVENTORY'!$B:$B,'LABOR-EQUIP'!$B498)","v":0}]
[null,null,null,null,0,{"$f":"IF(ISBLANK(B499),0,VLOOKUP(B499,'EQUIPMENT INVENTORY'!$B$7:$AK$1021,7,0))","v":0},{"$f":"IF(ISBLANK(B499),0,VLOOKUP(B499,'EQUIPMENT INVENTORY'!$B$7:$AK$1021,8,0))","v":0},null,null,null,null,null,null,null,{"$f":"SUM($H499:$N499)","v":0},null,null,{"$f":"O499*G499","v":0},null,null,{"$f":"COUNTIF('EQUIPMENT INVENTORY'!$B:$B,'LABOR-EQUIP'!$B499)","v":0}]
[null,null,null,null,0,{"$f":"IF(ISBLANK(B500),0,VLOOKUP(B500,'EQUIPMENT INVENTORY'!$B$7:$AK$1021,7,0))","v":0},{"$f":"IF(ISBLANK(B500),0,VLOOKUP(B500,'EQUIPMENT INVENTORY'!$B$7:$AK$1021,8,0))","v":0},null,null,null,null,null,null,null,{"$f":"SUM($H500:$N500)","v":0},null,null,{"$f":"O500*G500","v":0},null,null,{"$f":"COUNTIF('EQUIPMENT INVENTORY'!$B:$B,'LABOR-EQUIP'!$B500)","v":0}]
[null,"Employee/\nEquipment",null,"RATE w/","REQUEST #","COST CODE","RATE",null,null,null,null,null,null,null,"REG","OT1","OT2","REG TIME\nCOST","OT1\nCOST","OT2\nCOST",{"$f":"COUNTIF('EQUIPMENT INVENTORY'!$B:$B,'LABOR-EQUIP'!$B501)","v":0}]
[null,null,null,"FRINGE",null,null,null,null,null,null,null,null,null,null,null,null,null,null,null,null,{"$f":"COUNTIF('EQUIPMENT INVENTORY'!$B:$B,'LABOR-EQUIP'!$B502)","v":0}]
[null,null,"REG",{"$f":"IF(ISBLANK(B503),0,VLOOKUP(B503,'PAYROLL RECORD'!$B$8:$V$2005,18,FALSE))","v":0},null,null,null,null,null,null,null,null,null,null,{"$f":"SUM($H503:$N503)","v":0},null,null,{"$f":"IFERROR(D503*O503,\"\")","v":0},null,null,{"$f":"COUNTIF('EQUIPMENT INVENTORY'!$B:$B,'LABOR-EQUIP'!$B503)","v":0}]
[null,{"$f":"IF(ISBLANK(B503),\" \",VLOOKUP(B503,'PAYROLL RECORD'!$B$9:$C$10740,2,FALSE))","v":" "},"OT1",{"$f":"IF(ISBLANK(B503),0,VLOOKUP(B503,'PAYROLL RECORD'!$B$8:$V$2005,19,FALSE))","v":0},{"$f":"+E503","v":0},null,null,null,null,null,null,null,null,null,null,{"$f":"SUM(H504:N504)","v":0},null,null,{"$f":"IF(E504<>\"e\",P504*D504,0)","v":0},null,{"$f":"COUNTIF('EQUIPMENT INVENTORY'!$B:$B,'LABOR-EQUIP'!$B504)","v":0}]
[null,null,"OT2",{"$f":"IF(ISBLANK(B503),0,VLOOKUP(B503,'PAYROLL RECORD'!$B$8:$V$2005,20,FALSE))","v":0},{"$f":"+E504","v":0},null,null,null,null,null,null,null,null,null,null,null,{"$f":"SUM(H505:N505)","v":0},null,null,{"$f":"IF(E505<>\"E\",Q505*D505,0)","v":0},{"$f":"COUNTIF('EQUIPMENT INVENTORY'!$B:$B,'LABOR-EQUIP'!$B505)","v":0}]
[null,"Select type of activity(s).  See ELIGIBLE ACTIVITIES tab for complete descriptions and instructions.  Choose as many activities as applicable for each day/date. ",null,null,null,null,null,null,null,null,null,null,null,null,null,null,null,null,null,null,{"$f":"COUNTIF('EQUIPMENT INVENTORY'!$B:$B,'LABOR-EQUIP'!$B506)","v":0}]
[null,null,null,null,{"$f":"+E505","v":0},{"$f":"IF(ISBLANK(B507),0,VLOOKUP(B507,'EQUIPMENT INVENTORY'!$B$7:$AK$1021,7,0))","v":0},{"$f":"IF(ISBLANK(B507),0,VLOOKUP(B507,'EQUIPMENT INVENTORY'!$B$7:$AK$1021,8,0))","v":0},null,null,null,null,null,null,null,{"$f":"SUM($H507:$N507)","v":0},null,null,{"$f":"O507*G507","v":0},null,null,{"$f":"COUNTIF('EQUIPMENT INVENTORY'!$B:$B,'LABOR-EQUIP'!$B507)","v":0}]
[null,null,null,null,0,{"$f":"IF(ISBLANK(B508),0,VLOOKUP(B508,'EQUIPMENT INVENTORY'!$B$7:$AK$1021,7,0))","v":0},{"$f":"IF(ISBLANK(B508),0,VLOOKUP(B508,'EQUIPMENT INVENTORY'!$B$7:$AK$1021,8,0))","v":0},null,null,null,null,null,null,null,{"$f":"SUM($H508:$N508)","v":0},null,null,{"$f":"O508*G508","v":0},null,null,{"$f":"COUNTIF('EQUIPMENT INVENTORY'!$B:$B,'LABOR-EQUIP'!$B508)","v":0}]
[null,null,null,null,0,{"$f":"IF(ISBLANK(B509),0,VLOOKUP(B509,'EQUIPMENT INVENTORY'!$B$7:$AK$1021,7,0))","v":0},{"$f":"IF(ISBLANK(B509),0,VLOOKUP(B509,'EQUIPMENT INVENTORY'!$B$7:$AK$1021,8,0))","v":0},null,null,null,null,null,null,null,{"$f":"SUM($H509:$N509)","v":0},null,null,{"$f":"O509*G509","v":0},null,null,{"$f":"COUNTIF('EQUIPMENT INVENTORY'!$B:$B,'LABOR-EQUIP'!$B509)","v":0}]
[null,"Employee/\nEquipment",null,"RATE w/","REQUEST #","COST CODE","RATE",null,null,null,null,null,null,null,"REG","OT1","OT2","REG TIME\nCOST","OT1\nCOST","OT2\nCOST",{"$f":"COUNTIF('EQUIPMENT INVENTORY'!$B:$B,'LABOR-EQUIP'!$B510)","v":0}]
[null,null,null,"FRINGE",null,null,null,null,null,null,null,null,null,null,null,null,null,null,null,null,{"$f":"COUNTIF('EQUIPMENT INVENTORY'!$B:$B,'LABOR-EQUIP'!$B511)","v":0}]
[null,null,"REG",{"$f":"IF(ISBLANK(B512),0,VLOOKUP(B512,'PAYROLL RECORD'!$B$8:$V$2005,18,FALSE))","v":0},null,null,null,null,null,null,null,null,null,null,{"$f":"SUM($H512:$N512)","v":0},null,null,{"$f":"IFERROR(D512*O512,\"\")","v":0},null,null,{"$f":"COUNTIF('EQUIPMENT INVENTORY'!$B:$B,'LABOR-EQUIP'!$B512)","v":0}]
[null,{"$f":"IF(ISBLANK(B512),\" \",VLOOKUP(B512,'PAYROLL RECORD'!$B$9:$C$10740,2,FALSE))","v":" "},"OT1",{"$f":"IF(ISBLANK(B512),0,VLOOKUP(B512,'PAYROLL RECORD'!$B$8:$V$2005,19,FALSE))","v":0},{"$f":"+E512","v":0},null,null,null,null,null,null,null,null,null,null,{"$f":"SUM(H513:N513)","v":0},null,null,{"$f":"IF(E513<>\"e\",P513*D513,0)","v":0},null,{"$f":"COUNTIF('EQUIPMENT INVENTORY'!$B:$B,'LABOR-EQUIP'!$B513)","v":0}]
[null,null,"OT2",{"$f":"IF(ISBLANK(B512),0,VLOOKUP(B512,'PAYROLL RECORD'!$B$8:$V$2005,20,FALSE))","v":0},{"$f":"+E513","v":0},null,null,null,null,null,null,null,null,null,null,null,{"$f":"SUM(H514:N514)","v":0},null,null,{"$f":"IF(E514<>\"E\",Q514*D514,0)","v":0},{"$f":"COUNTIF('EQUIPMENT INVENTORY'!$B:$B,'LABOR-EQUIP'!$B514)","v":0}]
[null,"Select type of activity(s).  See ELIGIBLE ACTIVITIES tab for complete descriptions and instructions.  Choose as many activities as applicable for each day/date. ",null,null,null,null,null,null,null,null,null,null,null,null,null,null,null,null,null,null,{"$f":"COUNTIF('EQUIPMENT INVENTORY'!$B:$B,'LABOR-EQUIP'!$B515)","v":0}]
[null,null,null,null,{"$f":"+E514","v":0},{"$f":"IF(ISBLANK(B516),0,VLOOKUP(B516,'EQUIPMENT INVENTORY'!$B$7:$AK$1021,7,0))","v":0},{"$f":"IF(ISBLANK(B516),0,VLOOKUP(B516,'EQUIPMENT INVENTORY'!$B$7:$AK$1021,8,0))","v":0},null,null,null,null,null,null,null,{"$f":"SUM($H516:$N516)","v":0},null,null,{"$f":"O516*G516","v":0},null,null,{"$f":"COUNTIF('EQUIPMENT INVENTORY'!$B:$B,'LABOR-EQUIP'!$B516)","v":0}]
[null,null,null,null,0,{"$f":"IF(ISBLANK(B517),0,VLOOKUP(B517,'EQUIPMENT INVENTORY'!$B$7:$AK$1021,7,0))","v":0},{"$f":"IF(ISBLANK(B517),0,VLOOKUP(B517,'EQUIPMENT INVENTORY'!$B$7:$AK$1021,8,0))","v":0},null,null,null,null,null,null,null,{"$f":"SUM($H517:$N517)","v":0},null,null,{"$f":"O517*G517","v":0},null,null,{"$f":"COUNTIF('EQUIPMENT INVENTORY'!$B:$B,'LABOR-EQUIP'!$B517)","v":0}]
[null,null,null,null,0,{"$f":"IF(ISBLANK(B518),0,VLOOKUP(B518,'EQUIPMENT INVENTORY'!$B$7:$AK$1021,7,0))","v":0},{"$f":"IF(ISBLANK(B518),0,VLOOKUP(B518,'EQUIPMENT INVENTORY'!$B$7:$AK$1021,8,0))","v":0},null,null,null,null,null,null,null,{"$f":"SUM($H518:$N518)","v":0},null,null,{"$f":"O518*G518","v":0},null,null,{"$f":"COUNTIF('EQUIPMENT INVENTORY'!$B:$B,'LABOR-EQUIP'!$B518)","v":0}]
[null,"Employee/\nEquipment",null,"RATE w/","REQUEST #","COST CODE","RATE",null,null,null,null,null,null,null,"REG","OT1","OT2","REG TIME\nCOST","OT1\nCOST","OT2\nCOST",{"$f":"COUNTIF('EQUIPMENT INVENTORY'!$B:$B,'LABOR-EQUIP'!$B519)","v":0}]
[null,null,null,"FRINGE",null,null,null,null,null,null,null,null,null,null,null,null,null,null,null,null,{"$f":"COUNTIF('EQUIPMENT INVENTORY'!$B:$B,'LABOR-EQUIP'!$B520)","v":0}]
[null,null,"REG",{"$f":"IF(ISBLANK(B521),0,VLOOKUP(B521,'PAYROLL RECORD'!$B$8:$V$2005,18,FALSE))","v":0},null,null,null,null,null,null,null,null,null,null,{"$f":"SUM($H521:$N521)","v":0},null,null,{"$f":"IFERROR(D521*O521,\"\")","v":0},null,null,{"$f":"COUNTIF('EQUIPMENT INVENTORY'!$B:$B,'LABOR-EQUIP'!$B521)","v":0}]
[null,{"$f":"IF(ISBLANK(B521),\" \",VLOOKUP(B521,'PAYROLL RECORD'!$B$9:$C$10740,2,FALSE))","v":" "},"OT1",{"$f":"IF(ISBLANK(B521),0,VLOOKUP(B521,'PAYROLL RECORD'!$B$8:$V$2005,19,FALSE))","v":0},{"$f":"+E521","v":0},null,null,null,null,null,null,null,null,null,null,{"$f":"SUM(H522:N522)","v":0},null,null,{"$f":"IF(E522<>\"e\",P522*D522,0)","v":0},null,{"$f":"COUNTIF('EQUIPMENT INVENTORY'!$B:$B,'LABOR-EQUIP'!$B522)","v":0}]
[null,null,"OT2",{"$f":"IF(ISBLANK(B521),0,VLOOKUP(B521,'PAYROLL RECORD'!$B$8:$V$2005,20,FALSE))","v":0},{"$f":"+E522","v":0},null,null,null,null,null,null,null,null,null,null,null,{"$f":"SUM(H523:N523)","v":0},null,null,{"$f":"IF(E523<>\"E\",Q523*D523,0)","v":0},{"$f":"COUNTIF('EQUIPMENT INVENTORY'!$B:$B,'LABOR-EQUIP'!$B523)","v":0}]
[null,"Select type of activity(s).  See ELIGIBLE ACTIVITIES tab for complete descriptions and instructions.  Choose as many activities as applicable for each day/date. ",null,null,null,null,null,null,null,null,null,null,null,null,null,null,null,null,null,null,{"$f":"COUNTIF('EQUIPMENT INVENTORY'!$B:$B,'LABOR-EQUIP'!$B524)","v":0}]
[null,null,null,null,{"$f":"+E523","v":0},{"$f":"IF(ISBLANK(B525),0,VLOOKUP(B525,'EQUIPMENT INVENTORY'!$B$7:$AK$1021,7,0))","v":0},{"$f":"IF(ISBLANK(B525),0,VLOOKUP(B525,'EQUIPMENT INVENTORY'!$B$7:$AK$1021,8,0))","v":0},null,null,null,null,null,null,null,{"$f":"SUM($H525:$N525)","v":0},null,null,{"$f":"O525*G525","v":0},null,null,{"$f":"COUNTIF('EQUIPMENT INVENTORY'!$B:$B,'LABOR-EQUIP'!$B525)","v":0}]
[null,null,null,null,0,{"$f":"IF(ISBLANK(B526),0,VLOOKUP(B526,'EQUIPMENT INVENTORY'!$B$7:$AK$1021,7,0))","v":0},{"$f":"IF(ISBLANK(B526),0,VLOOKUP(B526,'EQUIPMENT INVENTORY'!$B$7:$AK$1021,8,0))","v":0},null,null,null,null,null,null,null,{"$f":"SUM($H526:$N526)","v":0},null,null,{"$f":"O526*G526","v":0},null,null,{"$f":"COUNTIF('EQUIPMENT INVENTORY'!$B:$B,'LABOR-EQUIP'!$B526)","v":0}]
[null,null,null,null,0,{"$f":"IF(ISBLANK(B527),0,VLOOKUP(B527,'EQUIPMENT INVENTORY'!$B$7:$AK$1021,7,0))","v":0},{"$f":"IF(ISBLANK(B527),0,VLOOKUP(B527,'EQUIPMENT INVENTORY'!$B$7:$AK$1021,8,0))","v":0},null,null,null,null,null,null,null,{"$f":"SUM($H527:$N527)","v":0},null,null,{"$f":"O527*G527","v":0},null,null,{"$f":"COUNTIF('EQUIPMENT INVENTORY'!$B:$B,'LABOR-EQUIP'!$B527)","v":0}]
[null,null,null,null,null,null,null,null,null,null,null,null,"LABOR - Page Total",null,{"$f":"O485+O494+O503+O512+O521","v":0},{"$f":"P486+P495+P504+P513+P522","v":0},{"$f":"Q487+Q496+Q505+Q514+Q523","v":0},{"$f":"R485+R494+R503+R512+R521","v":0},{"$f":"S486+S495+S504+S513+S522","v":0},{"$f":"T487+T496+T505+T514+T523","v":0}]
[null,null,null,null,null,null,null,null,null,null,null,null,"EQUIPMENT - Page Total",null,{"$f":"O489+O490+O491+O498+O499+O500+O507+O508+O509+O516+O517+O518+O525+O526+O527","v":0},null,null,{"$f":"R489+R490+R491+R498+R499+R500+R507+R508+R509+R516+R517+R518+R525+R526+R527","v":0}]
[null,null,null,null,null,null,null,null,null,null,null,null,"LABOR - Grand Total",null,{"$f":"SUM($AA:$AA)","v":0},{"$f":"SUM(AB:AB)","v":0},{"$f":"SUM(AC:AC)","v":0},{"$f":"SUM(AD:AD)","v":0},{"$f":"SUM(AE:AE)","v":0},{"$f":"SUM(AF:AF)","v":0},null,null,null,null,null,null,{"$f":"O528","v":0},{"$f":"P528","v":0},{"$f":"Q528","v":0},{"$f":"R528","v":0},{"$f":"S528","v":0},{"$f":"T528","v":0}]
[null,null,null,null,null,null,null,null,null,null,null,null,"EQUIPMENT - Grand Total",null,{"$f":"SUM(AG:AG)","v":0},null,null,{"$f":"SUM(AH:AH)","v":0},null,null,null,null,null,null,null,null,null,null,null,null,null,null,{"$f":"O529","v":0},{"$f":"R529","v":0}]
[]
[]
[null,"APPLICANT NAME",null,null,"DISASTER #",null,null,"PLEASE ENTER DATES FOR EACH DAY WORKED.  THIS ALLOWS FOR TRACKING OF COSTS OVER MULTIPLE DAYS, WEEKS AND/OR YEARS.  USE THE FIRST ROW FOR MONTH/DAY AND THE SECOND ROW FOR YEAR.  DATES DO NOT NEED TO BE CONSECUTIVE. ",null,null,null,null,null,null,"DISASTER TITLE"]
[null,{"$f":"IF('PAYROLL RECORD'!B535=\"\",\"\",'PAYROLL RECORD'!B535)","v":""},null,null,{"$f":"IF('PAYROLL RECORD'!D535=\"\",\"\",'PAYROLL RECORD'!D535)","v":""},null,null,null,null,null,null,null,null,null,{"$f":"IF('PAYROLL RECORD'!G535=\"\",\"\",'PAYROLL RECORD'!G535)","v":""}]
[null,"Employee/\nEquipment",null,"RATE w/","REQUEST #","COST CODE","RATE",null,null,null,null,null,null,null,"REG","OT1","OT2","REG TIME\nCOST","OT1\nCOST","OT2\nCOST"]
[null,null,null,"FRINGE"]
[null,null,"REG",{"$f":"IF(ISBLANK(B538),0,VLOOKUP(B538,'PAYROLL RECORD'!$B$8:$V$2005,18,FALSE))","v":0},null,null,null,null,null,null,null,null,null,null,{"$f":"SUM($H538:$N538)","v":0},null,null,{"$f":"IFERROR(D538*O538,\"\")","v":0},null,null,{"$f":"COUNTIF('EQUIPMENT INVENTORY'!$B:$B,'LABOR-EQUIP'!$B538)","v":0}]
[null,{"$f":"IF(ISBLANK(B538),\" \",VLOOKUP(B538,'PAYROLL RECORD'!$B$9:$C$10740,2,FALSE))","v":" "},"OT1",{"$f":"IF(ISBLANK(B538),0,VLOOKUP(B538,'PAYROLL RECORD'!$B$8:$V$2005,19,FALSE))","v":0},{"$f":"+E538","v":0},null,null,null,null,null,null,null,null,null,null,{"$f":"SUM(H539:N539)","v":0},null,null,{"$f":"IFERROR(P539*D539,\"\")","v":0},null,{"$f":"COUNTIF('EQUIPMENT INVENTORY'!$B:$B,'LABOR-EQUIP'!$B539)","v":0}]
[null,null,"OT2",{"$f":"IF(ISBLANK(B538),0,VLOOKUP(B538,'PAYROLL RECORD'!$B$8:$V$2005,20,FALSE))","v":0},{"$f":"+E538","v":0},null,null,null,null,null,null,null,null,null,null,null,{"$f":"SUM(H540:N540)","v":0},null,null,{"$f":"IFERROR(Q540*D540,\"\")","v":0},{"$f":"COUNTIF('EQUIPMENT INVENTORY'!$B:$B,'LABOR-EQUIP'!$B540)","v":0}]
[null,"Select type of activity(s).  See ELIGIBLE ACTIVITIES tab for complete descriptions and instructions.  Choose as many activities as applicable for each day/date. ",null,null,null,null,null,null,null,null,null,null,null,null,null,null,null,null,null,null,{"$f":"COUNTIF('EQUIPMENT INVENTORY'!$B:$B,'LABOR-EQUIP'!$B541)","v":0}]
[null,null,null,null,{"$f":"+E538","v":0},{"$f":"IF(ISBLANK(B542),0,VLOOKUP(B542,'EQUIPMENT INVENTORY'!$B$7:$AK$1021,7,0))","v":0},{"$f":"IF(ISBLANK(B542),0,VLOOKUP(B542,'EQUIPMENT INVENTORY'!$B$7:$AK$1021,8,0))","v":0},null,null,null,null,null,null,null,{"$f":"SUM($H542:$N542)","v":0},null,null,{"$f":"O542*G542","v":0},null,null,{"$f":"COUNTIF('EQUIPMENT INVENTORY'!$B:$B,'LABOR-EQUIP'!$B542)","v":0}]
[null,null,null,null,{"$f":"+E538","v":0},{"$f":"IF(ISBLANK(B543),0,VLOOKUP(B543,'EQUIPMENT INVENTORY'!$B$7:$AK$1021,7,0))","v":0},{"$f":"IF(ISBLANK(B543),0,VLOOKUP(B543,'EQUIPMENT INVENTORY'!$B$7:$AK$1021,8,0))","v":0},null,null,null,null,null,null,null,{"$f":"SUM($H543:$N543)","v":0},null,null,{"$f":"O543*G543","v":0},null,null,{"$f":"COUNTIF('EQUIPMENT INVENTORY'!$B:$B,'LABOR-EQUIP'!$B543)","v":0}]
[null,null,null,null,{"$f":"+E538","v":0},{"$f":"IF(ISBLANK(B544),0,VLOOKUP(B544,'EQUIPMENT INVENTORY'!$B$7:$AK$1021,7,0))","v":0},{"$f":"IF(ISBLANK(B544),0,VLOOKUP(B544,'EQUIPMENT INVENTORY'!$B$7:$AK$1021,8,0))","v":0},null,null,null,null,null,null,null,{"$f":"SUM($H544:$N544)","v":0},null,null,{"$f":"O544*G544","v":0},null,null,{"$f":"COUNTIF('EQUIPMENT INVENTORY'!$B:$B,'LABOR-EQUIP'!$B544)","v":0}]
[null,"Employee/\nEquipment",null,"RATE w/","REQUEST #","COST CODE","RATE",null,null,null,null,null,null,null,"REG","OT1","OT2","REG TIME\nCOST","OT1\nCOST","OT2\nCOST",{"$f":"COUNTIF('EQUIPMENT INVENTORY'!$B:$B,'LABOR-EQUIP'!$B545)","v":0}]
[null,null,null,"FRINGE",null,null,null,null,null,null,null,null,null,null,null,null,null,null,null,null,{"$f":"COUNTIF('EQUIPMENT INVENTORY'!$B:$B,'LABOR-EQUIP'!$B546)","v":0}]
[null,null,"REG",{"$f":"IF(ISBLANK(B547),0,VLOOKUP(B547,'PAYROLL RECORD'!$B$8:$V$2005,18,FALSE))","v":0},null,null,null,null,null,null,null,null,null,null,{"$f":"SUM($H547:$N547)","v":0},null,null,{"$f":"IFERROR(D547*O547,\"\")","v":0},null,null,{"$f":"COUNTIF('EQUIPMENT INVENTORY'!$B:$B,'LABOR-EQUIP'!$B547)","v":0}]
[null,{"$f":"IF(ISBLANK(B547),\" \",VLOOKUP(B547,'PAYROLL RECORD'!$B$9:$C$10740,2,FALSE))","v":" "},"OT1",{"$f":"IF(ISBLANK(B547),0,VLOOKUP(B547,'PAYROLL RECORD'!$B$8:$V$2005,19,FALSE))","v":0},{"$f":"+E547","v":0},null,null,null,null,null,null,null,null,null,null,{"$f":"SUM(H548:N548)","v":0},null,null,{"$f":"IF(E548<>\"e\",P548*D548,0)","v":0},null,{"$f":"COUNTIF('EQUIPMENT INVENTORY'!$B:$B,'LABOR-EQUIP'!$B548)","v":0}]
[null,null,"OT2",{"$f":"IF(ISBLANK(B547),0,VLOOKUP(B547,'PAYROLL RECORD'!$B$8:$V$2005,20,FALSE))","v":0},{"$f":"+E548","v":0},null,null,null,null,null,null,null,null,null,null,null,{"$f":"SUM(H549:N549)","v":0},null,null,{"$f":"IF(E549<>\"E\",Q549*D549,0)","v":0},{"$f":"COUNTIF('EQUIPMENT INVENTORY'!$B:$B,'LABOR-EQUIP'!$B549)","v":0}]
[null,"Select type of activity(s).  See ELIGIBLE ACTIVITIES tab for complete descriptions and instructions.  Choose as many activities as applicable for each day/date. ",null,null,null,null,null,null,null,null,null,null,null,null,null,null,null,null,null,null,{"$f":"COUNTIF('EQUIPMENT INVENTORY'!$B:$B,'LABOR-EQUIP'!$B550)","v":0}]
[null,null,null,null,{"$f":"+E549","v":0},{"$f":"IF(ISBLANK(B551),0,VLOOKUP(B551,'EQUIPMENT INVENTORY'!$B$7:$AK$1021,7,0))","v":0},{"$f":"IF(ISBLANK(B551),0,VLOOKUP(B551,'EQUIPMENT INVENTORY'!$B$7:$AK$1021,8,0))","v":0},null,null,null,null,null,null,null,{"$f":"SUM($H551:$N551)","v":0},null,null,{"$f":"O551*G551","v":0},null,null,{"$f":"COUNTIF('EQUIPMENT INVENTORY'!$B:$B,'LABOR-EQUIP'!$B551)","v":0}]
[null,null,null,null,0,{"$f":"IF(ISBLANK(B552),0,VLOOKUP(B552,'EQUIPMENT INVENTORY'!$B$7:$AK$1021,7,0))","v":0},{"$f":"IF(ISBLANK(B552),0,VLOOKUP(B552,'EQUIPMENT INVENTORY'!$B$7:$AK$1021,8,0))","v":0},null,null,null,null,null,null,null,{"$f":"SUM($H552:$N552)","v":0},null,null,{"$f":"O552*G552","v":0},null,null,{"$f":"COUNTIF('EQUIPMENT INVENTORY'!$B:$B,'LABOR-EQUIP'!$B552)","v":0}]
[null,null,null,null,0,{"$f":"IF(ISBLANK(B553),0,VLOOKUP(B553,'EQUIPMENT INVENTORY'!$B$7:$AK$1021,7,0))","v":0},{"$f":"IF(ISBLANK(B553),0,VLOOKUP(B553,'EQUIPMENT INVENTORY'!$B$7:$AK$1021,8,0))","v":0},null,null,null,null,null,null,null,{"$f":"SUM($H553:$N553)","v":0},null,null,{"$f":"O553*G553","v":0},null,null,{"$f":"COUNTIF('EQUIPMENT INVENTORY'!$B:$B,'LABOR-EQUIP'!$B553)","v":0}]
[null,"Employee/\nEquipment",null,"RATE w/","REQUEST #","COST CODE","RATE",null,null,null,null,null,null,null,"REG","OT1","OT2","REG TIME\nCOST","OT1\nCOST","OT2\nCOST",{"$f":"COUNTIF('EQUIPMENT INVENTORY'!$B:$B,'LABOR-EQUIP'!$B554)","v":0}]
[null,null,null,"FRINGE",null,null,null,null,null,null,null,null,null,null,null,null,null,null,null,null,{"$f":"COUNTIF('EQUIPMENT INVENTORY'!$B:$B,'LABOR-EQUIP'!$B555)","v":0}]
[null,null,"REG",{"$f":"IF(ISBLANK(B556),0,VLOOKUP(B556,'PAYROLL RECORD'!$B$8:$V$2005,18,FALSE))","v":0},null,null,null,null,null,null,null,null,null,null,{"$f":"SUM($H556:$N556)","v":0},null,null,{"$f":"IFERROR(D556*O556,\"\")","v":0},null,null,{"$f":"COUNTIF('EQUIPMENT INVENTORY'!$B:$B,'LABOR-EQUIP'!$B556)","v":0}]
[null,{"$f":"IF(ISBLANK(B556),\" \",VLOOKUP(B556,'PAYROLL RECORD'!$B$9:$C$10740,2,FALSE))","v":" "},"OT1",{"$f":"IF(ISBLANK(B556),0,VLOOKUP(B556,'PAYROLL RECORD'!$B$8:$V$2005,19,FALSE))","v":0},{"$f":"+E556","v":0},null,null,null,null,null,null,null,null,null,null,{"$f":"SUM(H557:N557)","v":0},null,null,{"$f":"IF(E557<>\"e\",P557*D557,0)","v":0},null,{"$f":"COUNTIF('EQUIPMENT INVENTORY'!$B:$B,'LABOR-EQUIP'!$B557)","v":0}]
[null,null,"OT2",{"$f":"IF(ISBLANK(B556),0,VLOOKUP(B556,'PAYROLL RECORD'!$B$8:$V$2005,20,FALSE))","v":0},{"$f":"+E557","v":0},null,null,null,null,null,null,null,null,null,null,null,{"$f":"SUM(H558:N558)","v":0},null,null,{"$f":"IF(E558<>\"E\",Q558*D558,0)","v":0},{"$f":"COUNTIF('EQUIPMENT INVENTORY'!$B:$B,'LABOR-EQUIP'!$B558)","v":0}]
[null,"Select type of activity(s).  See ELIGIBLE ACTIVITIES tab for complete descriptions and instructions.  Choose as many activities as applicable for each day/date. ",null,null,null,null,null,null,null,null,null,null,null,null,null,null,null,null,null,null,{"$f":"COUNTIF('EQUIPMENT INVENTORY'!$B:$B,'LABOR-EQUIP'!$B559)","v":0}]
[null,null,null,null,{"$f":"+E558","v":0},{"$f":"IF(ISBLANK(B560),0,VLOOKUP(B560,'EQUIPMENT INVENTORY'!$B$7:$AK$1021,7,0))","v":0},{"$f":"IF(ISBLANK(B560),0,VLOOKUP(B560,'EQUIPMENT INVENTORY'!$B$7:$AK$1021,8,0))","v":0},null,null,null,null,null,null,null,{"$f":"SUM($H560:$N560)","v":0},null,null,{"$f":"O560*G560","v":0},null,null,{"$f":"COUNTIF('EQUIPMENT INVENTORY'!$B:$B,'LABOR-EQUIP'!$B560)","v":0}]
[null,null,null,null,0,{"$f":"IF(ISBLANK(B561),0,VLOOKUP(B561,'EQUIPMENT INVENTORY'!$B$7:$AK$1021,7,0))","v":0},{"$f":"IF(ISBLANK(B561),0,VLOOKUP(B561,'EQUIPMENT INVENTORY'!$B$7:$AK$1021,8,0))","v":0},null,null,null,null,null,null,null,{"$f":"SUM($H561:$N561)","v":0},null,null,{"$f":"O561*G561","v":0},null,null,{"$f":"COUNTIF('EQUIPMENT INVENTORY'!$B:$B,'LABOR-EQUIP'!$B561)","v":0}]
[null,null,null,null,0,{"$f":"IF(ISBLANK(B562),0,VLOOKUP(B562,'EQUIPMENT INVENTORY'!$B$7:$AK$1021,7,0))","v":0},{"$f":"IF(ISBLANK(B562),0,VLOOKUP(B562,'EQUIPMENT INVENTORY'!$B$7:$AK$1021,8,0))","v":0},null,null,null,null,null,null,null,{"$f":"SUM($H562:$N562)","v":0},null,null,{"$f":"O562*G562","v":0},null,null,{"$f":"COUNTIF('EQUIPMENT INVENTORY'!$B:$B,'LABOR-EQUIP'!$B562)","v":0}]
[null,"Employee/\nEquipment",null,"RATE w/","REQUEST #","COST CODE","RATE",null,null,null,null,null,null,null,"REG","OT1","OT2","REG TIME\nCOST","OT1\nCOST","OT2\nCOST",{"$f":"COUNTIF('EQUIPMENT INVENTORY'!$B:$B,'LABOR-EQUIP'!$B563)","v":0}]
[null,null,null,"FRINGE",null,null,null,null,null,null,null,null,null,null,null,null,null,null,null,null,{"$f":"COUNTIF('EQUIPMENT INVENTORY'!$B:$B,'LABOR-EQUIP'!$B564)","v":0}]
[null,null,"REG",{"$f":"IF(ISBLANK(B565),0,VLOOKUP(B565,'PAYROLL RECORD'!$B$8:$V$2005,18,FALSE))","v":0},null,null,null,null,null,null,null,null,null,null,{"$f":"SUM($H565:$N565)","v":0},null,null,{"$f":"IFERROR(D565*O565,\"\")","v":0},null,null,{"$f":"COUNTIF('EQUIPMENT INVENTORY'!$B:$B,'LABOR-EQUIP'!$B565)","v":0}]
[null,{"$f":"IF(ISBLANK(B565),\" \",VLOOKUP(B565,'PAYROLL RECORD'!$B$9:$C$10740,2,FALSE))","v":" "},"OT1",{"$f":"IF(ISBLANK(B565),0,VLOOKUP(B565,'PAYROLL RECORD'!$B$8:$V$2005,19,FALSE))","v":0},{"$f":"+E565","v":0},null,null,null,null,null,null,null,null,null,null,{"$f":"SUM(H566:N566)","v":0},null,null,{"$f":"IF(E566<>\"e\",P566*D566,0)","v":0},null,{"$f":"COUNTIF('EQUIPMENT INVENTORY'!$B:$B,'LABOR-EQUIP'!$B566)","v":0}]
[null,null,"OT2",{"$f":"IF(ISBLANK(B565),0,VLOOKUP(B565,'PAYROLL RECORD'!$B$8:$V$2005,20,FALSE))","v":0},{"$f":"+E566","v":0},null,null,null,null,null,null,null,null,null,null,null,{"$f":"SUM(H567:N567)","v":0},null,null,{"$f":"IF(E567<>\"E\",Q567*D567,0)","v":0},{"$f":"COUNTIF('EQUIPMENT INVENTORY'!$B:$B,'LABOR-EQUIP'!$B567)","v":0}]
[null,"Select type of activity(s).  See ELIGIBLE ACTIVITIES tab for complete descriptions and instructions.  Choose as many activities as applicable for each day/date. ",null,null,null,null,null,null,null,null,null,null,null,null,null,null,null,null,null,null,{"$f":"COUNTIF('EQUIPMENT INVENTORY'!$B:$B,'LABOR-EQUIP'!$B568)","v":0}]
[null,null,null,null,{"$f":"+E567","v":0},{"$f":"IF(ISBLANK(B569),0,VLOOKUP(B569,'EQUIPMENT INVENTORY'!$B$7:$AK$1021,7,0))","v":0},{"$f":"IF(ISBLANK(B569),0,VLOOKUP(B569,'EQUIPMENT INVENTORY'!$B$7:$AK$1021,8,0))","v":0},null,null,null,null,null,null,null,{"$f":"SUM($H569:$N569)","v":0},null,null,{"$f":"O569*G569","v":0},null,null,{"$f":"COUNTIF('EQUIPMENT INVENTORY'!$B:$B,'LABOR-EQUIP'!$B569)","v":0}]
[null,null,null,null,0,{"$f":"IF(ISBLANK(B570),0,VLOOKUP(B570,'EQUIPMENT INVENTORY'!$B$7:$AK$1021,7,0))","v":0},{"$f":"IF(ISBLANK(B570),0,VLOOKUP(B570,'EQUIPMENT INVENTORY'!$B$7:$AK$1021,8,0))","v":0},null,null,null,null,null,null,null,{"$f":"SUM($H570:$N570)","v":0},null,null,{"$f":"O570*G570","v":0},null,null,{"$f":"COUNTIF('EQUIPMENT INVENTORY'!$B:$B,'LABOR-EQUIP'!$B570)","v":0}]
[null,null,null,null,0,{"$f":"IF(ISBLANK(B571),0,VLOOKUP(B571,'EQUIPMENT INVENTORY'!$B$7:$AK$1021,7,0))","v":0},{"$f":"IF(ISBLANK(B571),0,VLOOKUP(B571,'EQUIPMENT INVENTORY'!$B$7:$AK$1021,8,0))","v":0},null,null,null,null,null,null,null,{"$f":"SUM($H571:$N571)","v":0},null,null,{"$f":"O571*G571","v":0},null,null,{"$f":"COUNTIF('EQUIPMENT INVENTORY'!$B:$B,'LABOR-EQUIP'!$B571)","v":0}]
[null,"Employee/\nEquipment",null,"RATE w/","REQUEST #","COST CODE","RATE",null,null,null,null,null,null,null,"REG","OT1","OT2","REG TIME\nCOST","OT1\nCOST","OT2\nCOST",{"$f":"COUNTIF('EQUIPMENT INVENTORY'!$B:$B,'LABOR-EQUIP'!$B572)","v":0}]
[null,null,null,"FRINGE",null,null,null,null,null,null,null,null,null,null,null,null,null,null,null,null,{"$f":"COUNTIF('EQUIPMENT INVENTORY'!$B:$B,'LABOR-EQUIP'!$B573)","v":0}]
[null,null,"REG",{"$f":"IF(ISBLANK(B574),0,VLOOKUP(B574,'PAYROLL RECORD'!$B$8:$V$2005,18,FALSE))","v":0},null,null,null,null,null,null,null,null,null,null,{"$f":"SUM($H574:$N574)","v":0},null,null,{"$f":"IFERROR(D574*O574,\"\")","v":0},null,null,{"$f":"COUNTIF('EQUIPMENT INVENTORY'!$B:$B,'LABOR-EQUIP'!$B574)","v":0}]
[null,{"$f":"IF(ISBLANK(B574),\" \",VLOOKUP(B574,'PAYROLL RECORD'!$B$9:$C$10740,2,FALSE))","v":" "},"OT1",{"$f":"IF(ISBLANK(B574),0,VLOOKUP(B574,'PAYROLL RECORD'!$B$8:$V$2005,19,FALSE))","v":0},{"$f":"+E574","v":0},null,null,null,null,null,null,null,null,null,null,{"$f":"SUM(H575:N575)","v":0},null,null,{"$f":"IF(E575<>\"e\",P575*D575,0)","v":0},null,{"$f":"COUNTIF('EQUIPMENT INVENTORY'!$B:$B,'LABOR-EQUIP'!$B575)","v":0}]
[null,null,"OT2",{"$f":"IF(ISBLANK(B574),0,VLOOKUP(B574,'PAYROLL RECORD'!$B$8:$V$2005,20,FALSE))","v":0},{"$f":"+E575","v":0},null,null,null,null,null,null,null,null,null,null,null,{"$f":"SUM(H576:N576)","v":0},null,null,{"$f":"IF(E576<>\"E\",Q576*D576,0)","v":0},{"$f":"COUNTIF('EQUIPMENT INVENTORY'!$B:$B,'LABOR-EQUIP'!$B576)","v":0}]
[null,"Select type of activity(s).  See ELIGIBLE ACTIVITIES tab for complete descriptions and instructions.  Choose as many activities as applicable for each day/date. ",null,null,null,null,null,null,null,null,null,null,null,null,null,null,null,null,null,null,{"$f":"COUNTIF('EQUIPMENT INVENTORY'!$B:$B,'LABOR-EQUIP'!$B577)","v":0}]
[null,null,null,null,{"$f":"+E576","v":0},{"$f":"IF(ISBLANK(B578),0,VLOOKUP(B578,'EQUIPMENT INVENTORY'!$B$7:$AK$1021,7,0))","v":0},{"$f":"IF(ISBLANK(B578),0,VLOOKUP(B578,'EQUIPMENT INVENTORY'!$B$7:$AK$1021,8,0))","v":0},null,null,null,null,null,null,null,{"$f":"SUM($H578:$N578)","v":0},null,null,{"$f":"O578*G578","v":0},null,null,{"$f":"COUNTIF('EQUIPMENT INVENTORY'!$B:$B,'LABOR-EQUIP'!$B578)","v":0}]
[null,null,null,null,0,{"$f":"IF(ISBLANK(B579),0,VLOOKUP(B579,'EQUIPMENT INVENTORY'!$B$7:$AK$1021,7,0))","v":0},{"$f":"IF(ISBLANK(B579),0,VLOOKUP(B579,'EQUIPMENT INVENTORY'!$B$7:$AK$1021,8,0))","v":0},null,null,null,null,null,null,null,{"$f":"SUM($H579:$N579)","v":0},null,null,{"$f":"O579*G579","v":0},null,null,{"$f":"COUNTIF('EQUIPMENT INVENTORY'!$B:$B,'LABOR-EQUIP'!$B579)","v":0}]
[null,null,null,null,0,{"$f":"IF(ISBLANK(B580),0,VLOOKUP(B580,'EQUIPMENT INVENTORY'!$B$7:$AK$1021,7,0))","v":0},{"$f":"IF(ISBLANK(B580),0,VLOOKUP(B580,'EQUIPMENT INVENTORY'!$B$7:$AK$1021,8,0))","v":0},null,null,null,null,null,null,null,{"$f":"SUM($H580:$N580)","v":0},null,null,{"$f":"O580*G580","v":0},null,null,{"$f":"COUNTIF('EQUIPMENT INVENTORY'!$B:$B,'LABOR-EQUIP'!$B580)","v":0}]
[null,null,null,null,null,null,null,null,null,null,null,null,"LABOR - Page Total",null,{"$f":"O538+O547+O556+O565+O574","v":0},{"$f":"P539+P548+P557+P566+P575","v":0},{"$f":"Q540+Q549+Q558+Q567+Q576","v":0},{"$f":"R538+R547+R556+R565+R574","v":0},{"$f":"S539+S548+S557+S566+S575","v":0},{"$f":"T540+T549+T558+T567+T576","v":0}]
[null,null,null,null,null,null,null,null,null,null,null,null,"EQUIPMENT - Page Total",null,{"$f":"O542+O543+O544+O551+O552+O553+O560+O561+O562+O569+O570+O571+O578+O579+O580","v":0},null,null,{"$f":"R542+R543+R544+R551+R552+R553+R560+R561+R562+R569+R570+R571+R578+R579+R580","v":0}]
[null,null,null,null,null,null,null,null,null,null,null,null,"LABOR - Grand Total",null,{"$f":"SUM($AA:$AA)","v":0},{"$f":"SUM(AB:AB)","v":0},{"$f":"SUM(AC:AC)","v":0},{"$f":"SUM(AD:AD)","v":0},{"$f":"SUM(AE:AE)","v":0},{"$f":"SUM(AF:AF)","v":0},null,null,null,null,null,null,{"$f":"O581","v":0},{"$f":"P581","v":0},{"$f":"Q581","v":0},{"$f":"R581","v":0},{"$f":"S581","v":0},{"$f":"T581","v":0}]
[null,null,null,null,null,null,null,null,null,null,null,null,"EQUIPMENT - Grand Total",null,{"$f":"SUM(AG:AG)","v":0},null,null,{"$f":"SUM(AH:AH)","v":0},null,null,null,null,null,null,null,null,null,null,null,null,null,null,{"$f":"O582","v":0},{"$f":"R582","v":0}]
[]
[]
[null,"APPLICANT NAME",null,null,"DISASTER #",null,null,"PLEASE ENTER DATES FOR EACH DAY WORKED.  THIS ALLOWS FOR TRACKING OF COSTS OVER MULTIPLE DAYS, WEEKS AND/OR YEARS.  USE THE FIRST ROW FOR MONTH/DAY AND THE SECOND ROW FOR YEAR.  DATES DO NOT NEED TO BE CONSECUTIVE. ",null,null,null,null,null,null,"DISASTER TITLE"]
[null,{"$f":"IF('PAYROLL RECORD'!B588=\"\",\"\",'PAYROLL RECORD'!B588)","v":""},null,null,{"$f":"IF('PAYROLL RECORD'!D588=\"\",\"\",'PAYROLL RECORD'!D588)","v":""},null,null,null,null,null,null,null,null,null,{"$f":"IF('PAYROLL RECORD'!G588=\"\",\"\",'PAYROLL RECORD'!G588)","v":""}]
[null,"Employee/\nEquipment",null,"RATE w/","REQUEST #","COST CODE","RATE",null,null,null,null,null,null,null,"REG","OT1","OT2","REG TIME\nCOST","OT1\nCOST","OT2\nCOST"]
[null,null,null,"FRINGE"]
[null,null,"REG",{"$f":"IF(ISBLANK(B591),0,VLOOKUP(B591,'PAYROLL RECORD'!$B$8:$V$2005,18,FALSE))","v":0},null,null,null,null,null,null,null,null,null,null,{"$f":"SUM($H591:$N591)","v":0},null,null,{"$f":"IFERROR(D591*O591,\"\")","v":0},null,null,{"$f":"COUNTIF('EQUIPMENT INVENTORY'!$B:$B,'LABOR-EQUIP'!$B591)","v":0}]
[null,{"$f":"IF(ISBLANK(B591),\" \",VLOOKUP(B591,'PAYROLL RECORD'!$B$9:$C$10740,2,FALSE))","v":" "},"OT1",{"$f":"IF(ISBLANK(B591),0,VLOOKUP(B591,'PAYROLL RECORD'!$B$8:$V$2005,19,FALSE))","v":0},{"$f":"+E591","v":0},null,null,null,null,null,null,null,null,null,null,{"$f":"SUM(H592:N592)","v":0},null,null,{"$f":"IFERROR(P592*D592,\"\")","v":0},null,{"$f":"COUNTIF('EQUIPMENT INVENTORY'!$B:$B,'LABOR-EQUIP'!$B592)","v":0}]
[null,null,"OT2",{"$f":"IF(ISBLANK(B591),0,VLOOKUP(B591,'PAYROLL RECORD'!$B$8:$V$2005,20,FALSE))","v":0},{"$f":"+E591","v":0},null,null,null,null,null,null,null,null,null,null,null,{"$f":"SUM(H593:N593)","v":0},null,null,{"$f":"IFERROR(Q593*D593,\"\")","v":0},{"$f":"COUNTIF('EQUIPMENT INVENTORY'!$B:$B,'LABOR-EQUIP'!$B593)","v":0}]
[null,"Select type of activity(s).  See ELIGIBLE ACTIVITIES tab for complete descriptions and instructions.  Choose as many activities as applicable for each day/date. ",null,null,null,null,null,null,null,null,null,null,null,null,null,null,null,null,null,null,{"$f":"COUNTIF('EQUIPMENT INVENTORY'!$B:$B,'LABOR-EQUIP'!$B594)","v":0}]
[null,null,null,null,{"$f":"+E591","v":0},{"$f":"IF(ISBLANK(B595),0,VLOOKUP(B595,'EQUIPMENT INVENTORY'!$B$7:$AK$1021,7,0))","v":0},{"$f":"IF(ISBLANK(B595),0,VLOOKUP(B595,'EQUIPMENT INVENTORY'!$B$7:$AK$1021,8,0))","v":0},null,null,null,null,null,null,null,{"$f":"SUM($H595:$N595)","v":0},null,null,{"$f":"O595*G595","v":0},null,null,{"$f":"COUNTIF('EQUIPMENT INVENTORY'!$B:$B,'LABOR-EQUIP'!$B595)","v":0}]
[null,null,null,null,{"$f":"+E591","v":0},{"$f":"IF(ISBLANK(B596),0,VLOOKUP(B596,'EQUIPMENT INVENTORY'!$B$7:$AK$1021,7,0))","v":0},{"$f":"IF(ISBLANK(B596),0,VLOOKUP(B596,'EQUIPMENT INVENTORY'!$B$7:$AK$1021,8,0))","v":0},null,null,null,null,null,null,null,{"$f":"SUM($H596:$N596)","v":0},null,null,{"$f":"O596*G596","v":0},null,null,{"$f":"COUNTIF('EQUIPMENT INVENTORY'!$B:$B,'LABOR-EQUIP'!$B596)","v":0}]
[null,null,null,null,{"$f":"+E591","v":0},{"$f":"IF(ISBLANK(B597),0,VLOOKUP(B597,'EQUIPMENT INVENTORY'!$B$7:$AK$1021,7,0))","v":0},{"$f":"IF(ISBLANK(B597),0,VLOOKUP(B597,'EQUIPMENT INVENTORY'!$B$7:$AK$1021,8,0))","v":0},null,null,null,null,null,null,null,{"$f":"SUM($H597:$N597)","v":0},null,null,{"$f":"O597*G597","v":0},null,null,{"$f":"COUNTIF('EQUIPMENT INVENTORY'!$B:$B,'LABOR-EQUIP'!$B597)","v":0}]
[null,"Employee/\nEquipment",null,"RATE w/","REQUEST #","COST CODE","RATE",null,null,null,null,null,null,null,"REG","OT1","OT2","REG TIME\nCOST","OT1\nCOST","OT2\nCOST",{"$f":"COUNTIF('EQUIPMENT INVENTORY'!$B:$B,'LABOR-EQUIP'!$B598)","v":0}]
[null,null,null,"FRINGE",null,null,null,null,null,null,null,null,null,null,null,null,null,null,null,null,{"$f":"COUNTIF('EQUIPMENT INVENTORY'!$B:$B,'LABOR-EQUIP'!$B599)","v":0}]
[null,null,"REG",{"$f":"IF(ISBLANK(B600),0,VLOOKUP(B600,'PAYROLL RECORD'!$B$8:$V$2005,18,FALSE))","v":0},null,null,null,null,null,null,null,null,null,null,{"$f":"SUM($H600:$N600)","v":0},null,null,{"$f":"IFERROR(D600*O600,\"\")","v":0},null,null,{"$f":"COUNTIF('EQUIPMENT INVENTORY'!$B:$B,'LABOR-EQUIP'!$B600)","v":0}]
[null,{"$f":"IF(ISBLANK(B600),\" \",VLOOKUP(B600,'PAYROLL RECORD'!$B$9:$C$10740,2,FALSE))","v":" "},"OT1",{"$f":"IF(ISBLANK(B600),0,VLOOKUP(B600,'PAYROLL RECORD'!$B$8:$V$2005,19,FALSE))","v":0},{"$f":"+E600","v":0},null,null,null,null,null,null,null,null,null,null,{"$f":"SUM(H601:N601)","v":0},null,null,{"$f":"IF(E601<>\"e\",P601*D601,0)","v":0},null,{"$f":"COUNTIF('EQUIPMENT INVENTORY'!$B:$B,'LABOR-EQUIP'!$B601)","v":0}]
[null,null,"OT2",{"$f":"IF(ISBLANK(B600),0,VLOOKUP(B600,'PAYROLL RECORD'!$B$8:$V$2005,20,FALSE))","v":0},{"$f":"+E601","v":0},null,null,null,null,null,null,null,null,null,null,null,{"$f":"SUM(H602:N602)","v":0},null,null,{"$f":"IF(E602<>\"E\",Q602*D602,0)","v":0},{"$f":"COUNTIF('EQUIPMENT INVENTORY'!$B:$B,'LABOR-EQUIP'!$B602)","v":0}]
[null,"Select type of activity(s).  See ELIGIBLE ACTIVITIES tab for complete descriptions and instructions.  Choose as many activities as applicable for each day/date. ",null,null,null,null,null,null,null,null,null,null,null,null,null,null,null,null,null,null,{"$f":"COUNTIF('EQUIPMENT INVENTORY'!$B:$B,'LABOR-EQUIP'!$B603)","v":0}]
[null,null,null,null,{"$f":"+E602","v":0},{"$f":"IF(ISBLANK(B604),0,VLOOKUP(B604,'EQUIPMENT INVENTORY'!$B$7:$AK$1021,7,0))","v":0},{"$f":"IF(ISBLANK(B604),0,VLOOKUP(B604,'EQUIPMENT INVENTORY'!$B$7:$AK$1021,8,0))","v":0},null,null,null,null,null,null,null,{"$f":"SUM($H604:$N604)","v":0},null,null,{"$f":"O604*G604","v":0},null,null,{"$f":"COUNTIF('EQUIPMENT INVENTORY'!$B:$B,'LABOR-EQUIP'!$B604)","v":0}]
[null,null,null,null,0,{"$f":"IF(ISBLANK(B605),0,VLOOKUP(B605,'EQUIPMENT INVENTORY'!$B$7:$AK$1021,7,0))","v":0},{"$f":"IF(ISBLANK(B605),0,VLOOKUP(B605,'EQUIPMENT INVENTORY'!$B$7:$AK$1021,8,0))","v":0},null,null,null,null,null,null,null,{"$f":"SUM($H605:$N605)","v":0},null,null,{"$f":"O605*G605","v":0},null,null,{"$f":"COUNTIF('EQUIPMENT INVENTORY'!$B:$B,'LABOR-EQUIP'!$B605)","v":0}]
[null,null,null,null,0,{"$f":"IF(ISBLANK(B606),0,VLOOKUP(B606,'EQUIPMENT INVENTORY'!$B$7:$AK$1021,7,0))","v":0},{"$f":"IF(ISBLANK(B606),0,VLOOKUP(B606,'EQUIPMENT INVENTORY'!$B$7:$AK$1021,8,0))","v":0},null,null,null,null,null,null,null,{"$f":"SUM($H606:$N606)","v":0},null,null,{"$f":"O606*G606","v":0},null,null,{"$f":"COUNTIF('EQUIPMENT INVENTORY'!$B:$B,'LABOR-EQUIP'!$B606)","v":0}]
[null,"Employee/\nEquipment",null,"RATE w/","REQUEST #","COST CODE","RATE",null,null,null,null,null,null,null,"REG","OT1","OT2","REG TIME\nCOST","OT1\nCOST","OT2\nCOST",{"$f":"COUNTIF('EQUIPMENT INVENTORY'!$B:$B,'LABOR-EQUIP'!$B607)","v":0}]
[null,null,null,"FRINGE",null,null,null,null,null,null,null,null,null,null,null,null,null,null,null,null,{"$f":"COUNTIF('EQUIPMENT INVENTORY'!$B:$B,'LABOR-EQUIP'!$B608)","v":0}]
[null,null,"REG",{"$f":"IF(ISBLANK(B609),0,VLOOKUP(B609,'PAYROLL RECORD'!$B$8:$V$2005,18,FALSE))","v":0},null,null,null,null,null,null,null,null,null,null,{"$f":"SUM($H609:$N609)","v":0},null,null,{"$f":"IFERROR(D609*O609,\"\")","v":0},null,null,{"$f":"COUNTIF('EQUIPMENT INVENTORY'!$B:$B,'LABOR-EQUIP'!$B609)","v":0}]
[null,{"$f":"IF(ISBLANK(B609),\" \",VLOOKUP(B609,'PAYROLL RECORD'!$B$9:$C$10740,2,FALSE))","v":" "},"OT1",{"$f":"IF(ISBLANK(B609),0,VLOOKUP(B609,'PAYROLL RECORD'!$B$8:$V$2005,19,FALSE))","v":0},{"$f":"+E609","v":0},null,null,null,null,null,null,null,null,null,null,{"$f":"SUM(H610:N610)","v":0},null,null,{"$f":"IF(E610<>\"e\",P610*D610,0)","v":0},null,{"$f":"COUNTIF('EQUIPMENT INVENTORY'!$B:$B,'LABOR-EQUIP'!$B610)","v":0}]
[null,null,"OT2",{"$f":"IF(ISBLANK(B609),0,VLOOKUP(B609,'PAYROLL RECORD'!$B$8:$V$2005,20,FALSE))","v":0},{"$f":"+E610","v":0},null,null,null,null,null,null,null,null,null,null,null,{"$f":"SUM(H611:N611)","v":0},null,null,{"$f":"IF(E611<>\"E\",Q611*D611,0)","v":0},{"$f":"COUNTIF('EQUIPMENT INVENTORY'!$B:$B,'LABOR-EQUIP'!$B611)","v":0}]
[null,"Select type of activity(s).  See ELIGIBLE ACTIVITIES tab for complete descriptions and instructions.  Choose as many activities as applicable for each day/date. ",null,null,null,null,null,null,null,null,null,null,null,null,null,null,null,null,null,null,{"$f":"COUNTIF('EQUIPMENT INVENTORY'!$B:$B,'LABOR-EQUIP'!$B612)","v":0}]
[null,null,null,null,{"$f":"+E611","v":0},{"$f":"IF(ISBLANK(B613),0,VLOOKUP(B613,'EQUIPMENT INVENTORY'!$B$7:$AK$1021,7,0))","v":0},{"$f":"IF(ISBLANK(B613),0,VLOOKUP(B613,'EQUIPMENT INVENTORY'!$B$7:$AK$1021,8,0))","v":0},null,null,null,null,null,null,null,{"$f":"SUM($H613:$N613)","v":0},null,null,{"$f":"O613*G613","v":0},null,null,{"$f":"COUNTIF('EQUIPMENT INVENTORY'!$B:$B,'LABOR-EQUIP'!$B613)","v":0}]
[null,null,null,null,0,{"$f":"IF(ISBLANK(B614),0,VLOOKUP(B614,'EQUIPMENT INVENTORY'!$B$7:$AK$1021,7,0))","v":0},{"$f":"IF(ISBLANK(B614),0,VLOOKUP(B614,'EQUIPMENT INVENTORY'!$B$7:$AK$1021,8,0))","v":0},null,null,null,null,null,null,null,{"$f":"SUM($H614:$N614)","v":0},null,null,{"$f":"O614*G614","v":0},null,null,{"$f":"COUNTIF('EQUIPMENT INVENTORY'!$B:$B,'LABOR-EQUIP'!$B614)","v":0}]
[null,null,null,null,0,{"$f":"IF(ISBLANK(B615),0,VLOOKUP(B615,'EQUIPMENT INVENTORY'!$B$7:$AK$1021,7,0))","v":0},{"$f":"IF(ISBLANK(B615),0,VLOOKUP(B615,'EQUIPMENT INVENTORY'!$B$7:$AK$1021,8,0))","v":0},null,null,null,null,null,null,null,{"$f":"SUM($H615:$N615)","v":0},null,null,{"$f":"O615*G615","v":0},null,null,{"$f":"COUNTIF('EQUIPMENT INVENTORY'!$B:$B,'LABOR-EQUIP'!$B615)","v":0}]
[null,"Employee/\nEquipment",null,"RATE w/","REQUEST #","COST CODE","RATE",null,null,null,null,null,null,null,"REG","OT1","OT2","REG TIME\nCOST","OT1\nCOST","OT2\nCOST",{"$f":"COUNTIF('EQUIPMENT INVENTORY'!$B:$B,'LABOR-EQUIP'!$B616)","v":0}]
[null,null,null,"FRINGE",null,null,null,null,null,null,null,null,null,null,null,null,null,null,null,null,{"$f":"COUNTIF('EQUIPMENT INVENTORY'!$B:$B,'LABOR-EQUIP'!$B617)","v":0}]
[null,null,"REG",{"$f":"IF(ISBLANK(B618),0,VLOOKUP(B618,'PAYROLL RECORD'!$B$8:$V$2005,18,FALSE))","v":0},null,null,null,null,null,null,null,null,null,null,{"$f":"SUM($H618:$N618)","v":0},null,null,{"$f":"IFERROR(D618*O618,\"\")","v":0},null,null,{"$f":"COUNTIF('EQUIPMENT INVENTORY'!$B:$B,'LABOR-EQUIP'!$B618)","v":0}]
[null,{"$f":"IF(ISBLANK(B618),\" \",VLOOKUP(B618,'PAYROLL RECORD'!$B$9:$C$10740,2,FALSE))","v":" "},"OT1",{"$f":"IF(ISBLANK(B618),0,VLOOKUP(B618,'PAYROLL RECORD'!$B$8:$V$2005,19,FALSE))","v":0},{"$f":"+E618","v":0},null,null,null,null,null,null,null,null,null,null,{"$f":"SUM(H619:N619)","v":0},null,null,{"$f":"IF(E619<>\"e\",P619*D619,0)","v":0},null,{"$f":"COUNTIF('EQUIPMENT INVENTORY'!$B:$B,'LABOR-EQUIP'!$B619)","v":0}]
[null,null,"OT2",{"$f":"IF(ISBLANK(B618),0,VLOOKUP(B618,'PAYROLL RECORD'!$B$8:$V$2005,20,FALSE))","v":0},{"$f":"+E619","v":0},null,null,null,null,null,null,null,null,null,null,null,{"$f":"SUM(H620:N620)","v":0},null,null,{"$f":"IF(E620<>\"E\",Q620*D620,0)","v":0},{"$f":"COUNTIF('EQUIPMENT INVENTORY'!$B:$B,'LABOR-EQUIP'!$B620)","v":0}]
[null,"Select type of activity(s).  See ELIGIBLE ACTIVITIES tab for complete descriptions and instructions.  Choose as many activities as applicable for each day/date. ",null,null,null,null,null,null,null,null,null,null,null,null,null,null,null,null,null,null,{"$f":"COUNTIF('EQUIPMENT INVENTORY'!$B:$B,'LABOR-EQUIP'!$B621)","v":0}]
[null,null,null,null,{"$f":"+E620","v":0},{"$f":"IF(ISBLANK(B622),0,VLOOKUP(B622,'EQUIPMENT INVENTORY'!$B$7:$AK$1021,7,0))","v":0},{"$f":"IF(ISBLANK(B622),0,VLOOKUP(B622,'EQUIPMENT INVENTORY'!$B$7:$AK$1021,8,0))","v":0},null,null,null,null,null,null,null,{"$f":"SUM($H622:$N622)","v":0},null,null,{"$f":"O622*G622","v":0},null,null,{"$f":"COUNTIF('EQUIPMENT INVENTORY'!$B:$B,'LABOR-EQUIP'!$B622)","v":0}]
[null,null,null,null,0,{"$f":"IF(ISBLANK(B623),0,VLOOKUP(B623,'EQUIPMENT INVENTORY'!$B$7:$AK$1021,7,0))","v":0},{"$f":"IF(ISBLANK(B623),0,VLOOKUP(B623,'EQUIPMENT INVENTORY'!$B$7:$AK$1021,8,0))","v":0},null,null,null,null,null,null,null,{"$f":"SUM($H623:$N623)","v":0},null,null,{"$f":"O623*G623","v":0},null,null,{"$f":"COUNTIF('EQUIPMENT INVENTORY'!$B:$B,'LABOR-EQUIP'!$B623)","v":0}]
[null,null,null,null,0,{"$f":"IF(ISBLANK(B624),0,VLOOKUP(B624,'EQUIPMENT INVENTORY'!$B$7:$AK$1021,7,0))","v":0},{"$f":"IF(ISBLANK(B624),0,VLOOKUP(B624,'EQUIPMENT INVENTORY'!$B$7:$AK$1021,8,0))","v":0},null,null,null,null,null,null,null,{"$f":"SUM($H624:$N624)","v":0},null,null,{"$f":"O624*G624","v":0},null,null,{"$f":"COUNTIF('EQUIPMENT INVENTORY'!$B:$B,'LABOR-EQUIP'!$B624)","v":0}]
[null,"Employee/\nEquipment",null,"RATE w/","REQUEST #","COST CODE","RATE",null,null,null,null,null,null,null,"REG","OT1","OT2","REG TIME\nCOST","OT1\nCOST","OT2\nCOST",{"$f":"COUNTIF('EQUIPMENT INVENTORY'!$B:$B,'LABOR-EQUIP'!$B625)","v":0}]
[null,null,null,"FRINGE",null,null,null,null,null,null,null,null,null,null,null,null,null,null,null,null,{"$f":"COUNTIF('EQUIPMENT INVENTORY'!$B:$B,'LABOR-EQUIP'!$B626)","v":0}]
[null,null,"REG",{"$f":"IF(ISBLANK(B627),0,VLOOKUP(B627,'PAYROLL RECORD'!$B$8:$V$2005,18,FALSE))","v":0},null,null,null,null,null,null,null,null,null,null,{"$f":"SUM($H627:$N627)","v":0},null,null,{"$f":"IFERROR(D627*O627,\"\")","v":0},null,null,{"$f":"COUNTIF('EQUIPMENT INVENTORY'!$B:$B,'LABOR-EQUIP'!$B627)","v":0}]
[null,{"$f":"IF(ISBLANK(B627),\" \",VLOOKUP(B627,'PAYROLL RECORD'!$B$9:$C$10740,2,FALSE))","v":" "},"OT1",{"$f":"IF(ISBLANK(B627),0,VLOOKUP(B627,'PAYROLL RECORD'!$B$8:$V$2005,19,FALSE))","v":0},{"$f":"+E627","v":0},null,null,null,null,null,null,null,null,null,null,{"$f":"SUM(H628:N628)","v":0},null,null,{"$f":"IF(E628<>\"e\",P628*D628,0)","v":0},null,{"$f":"COUNTIF('EQUIPMENT INVENTORY'!$B:$B,'LABOR-EQUIP'!$B628)","v":0}]
[null,null,"OT2",{"$f":"IF(ISBLANK(B627),0,VLOOKUP(B627,'PAYROLL RECORD'!$B$8:$V$2005,20,FALSE))","v":0},{"$f":"+E628","v":0},null,null,null,null,null,null,null,null,null,null,null,{"$f":"SUM(H629:N629)","v":0},null,null,{"$f":"IF(E629<>\"E\",Q629*D629,0)","v":0},{"$f":"COUNTIF('EQUIPMENT INVENTORY'!$B:$B,'LABOR-EQUIP'!$B629)","v":0}]
[null,"Select type of activity(s).  See ELIGIBLE ACTIVITIES tab for complete descriptions and instructions.  Choose as many activities as applicable for each day/date. ",null,null,null,null,null,null,null,null,null,null,null,null,null,null,null,null,null,null,{"$f":"COUNTIF('EQUIPMENT INVENTORY'!$B:$B,'LABOR-EQUIP'!$B630)","v":0}]
[null,null,null,null,{"$f":"+E629","v":0},{"$f":"IF(ISBLANK(B631),0,VLOOKUP(B631,'EQUIPMENT INVENTORY'!$B$7:$AK$1021,7,0))","v":0},{"$f":"IF(ISBLANK(B631),0,VLOOKUP(B631,'EQUIPMENT INVENTORY'!$B$7:$AK$1021,8,0))","v":0},null,null,null,null,null,null,null,{"$f":"SUM($H631:$N631)","v":0},null,null,{"$f":"O631*G631","v":0},null,null,{"$f":"COUNTIF('EQUIPMENT INVENTORY'!$B:$B,'LABOR-EQUIP'!$B631)","v":0}]
[null,null,null,null,0,{"$f":"IF(ISBLANK(B632),0,VLOOKUP(B632,'EQUIPMENT INVENTORY'!$B$7:$AK$1021,7,0))","v":0},{"$f":"IF(ISBLANK(B632),0,VLOOKUP(B632,'EQUIPMENT INVENTORY'!$B$7:$AK$1021,8,0))","v":0},null,null,null,null,null,null,null,{"$f":"SUM($H632:$N632)","v":0},null,null,{"$f":"O632*G632","v":0},null,null,{"$f":"COUNTIF('EQUIPMENT INVENTORY'!$B:$B,'LABOR-EQUIP'!$B632)","v":0}]
[null,null,null,null,0,{"$f":"IF(ISBLANK(B633),0,VLOOKUP(B633,'EQUIPMENT INVENTORY'!$B$7:$AK$1021,7,0))","v":0},{"$f":"IF(ISBLANK(B633),0,VLOOKUP(B633,'EQUIPMENT INVENTORY'!$B$7:$AK$1021,8,0))","v":0},null,null,null,null,null,null,null,{"$f":"SUM($H633:$N633)","v":0},null,null,{"$f":"O633*G633","v":0},null,null,{"$f":"COUNTIF('EQUIPMENT INVENTORY'!$B:$B,'LABOR-EQUIP'!$B633)","v":0}]
[null,null,null,null,null,null,null,null,null,null,null,null,"LABOR - Page Total",null,{"$f":"O591+O600+O609+O618+O627","v":0},{"$f":"P592+P601+P610+P619+P628","v":0},{"$f":"Q593+Q602+Q611+Q620+Q629","v":0},{"$f":"R591+R600+R609+R618+R627","v":0},{"$f":"S592+S601+S610+S619+S628","v":0},{"$f":"T593+T602+T611+T620+T629","v":0}]
[null,null,null,null,null,null,null,null,null,null,null,null,"EQUIPMENT - Page Total",null,{"$f":"O595+O596+O597+O604+O605+O606+O613+O614+O615+O622+O623+O624+O631+O632+O633","v":0},null,null,{"$f":"R595+R596+R597+R604+R605+R606+R613+R614+R615+R622+R623+R624+R631+R632+R633","v":0}]
[null,null,null,null,null,null,null,null,null,null,null,null,"LABOR - Grand Total",null,{"$f":"SUM($AA:$AA)","v":0},{"$f":"SUM(AB:AB)","v":0},{"$f":"SUM(AC:AC)","v":0},{"$f":"SUM(AD:AD)","v":0},{"$f":"SUM(AE:AE)","v":0},{"$f":"SUM(AF:AF)","v":0},null,null,null,null,null,null,{"$f":"O634","v":0},{"$f":"P634","v":0},{"$f":"Q634","v":0},{"$f":"R634","v":0},{"$f":"S634","v":0},{"$f":"T634","v":0}]
[null,null,null,null,null,null,null,null,null,null,null,null,"EQUIPMENT - Grand Total",null,{"$f":"SUM(AG:AG)","v":0},null,null,{"$f":"SUM(AH:AH)","v":0},null,null,null,null,null,null,null,null,null,null,null,null,null,null,{"$f":"O635","v":0},{"$f":"R635","v":0}]
[]
[]
[null,"APPLICANT NAME",null,null,"DISASTER #",null,null,"PLEASE ENTER DATES FOR EACH DAY WORKED.  THIS ALLOWS FOR TRACKING OF COSTS OVER MULTIPLE DAYS, WEEKS AND/OR YEARS.  USE THE FIRST ROW FOR MONTH/DAY AND THE SECOND ROW FOR YEAR.  DATES DO NOT NEED TO BE CONSECUTIVE. ",null,null,null,null,null,null,"DISASTER TITLE"]
[null,{"$f":"IF('PAYROLL RECORD'!B641=\"\",\"\",'PAYROLL RECORD'!B641)","v":""},null,null,{"$f":"IF('PAYROLL RECORD'!D641=\"\",\"\",'PAYROLL RECORD'!D641)","v":""},null,null,null,null,null,null,null,null,null,{"$f":"IF('PAYROLL RECORD'!G641=\"\",\"\",'PAYROLL RECORD'!G641)","v":""}]
[null,"Employee/\nEquipment",null,"RATE w/","REQUEST #","COST CODE","RATE",null,null,null,null,null,null,null,"REG","OT1","OT2","REG TIME\nCOST","OT1\nCOST","OT2\nCOST"]
[null,null,null,"FRINGE"]
[null,null,"REG",{"$f":"IF(ISBLANK(B644),0,VLOOKUP(B644,'PAYROLL RECORD'!$B$8:$V$2005,18,FALSE))","v":0},null,null,null,null,null,null,null,null,null,null,{"$f":"SUM($H644:$N644)","v":0},null,null,{"$f":"IFERROR(D644*O644,\"\")","v":0},null,null,{"$f":"COUNTIF('EQUIPMENT INVENTORY'!$B:$B,'LABOR-EQUIP'!$B644)","v":0}]
[null,{"$f":"IF(ISBLANK(B644),\" \",VLOOKUP(B644,'PAYROLL RECORD'!$B$9:$C$10740,2,FALSE))","v":" "},"OT1",{"$f":"IF(ISBLANK(B644),0,VLOOKUP(B644,'PAYROLL RECORD'!$B$8:$V$2005,19,FALSE))","v":0},{"$f":"+E644","v":0},null,null,null,null,null,null,null,null,null,null,{"$f":"SUM(H645:N645)","v":0},null,null,{"$f":"IFERROR(P645*D645,\"\")","v":0},null,{"$f":"COUNTIF('EQUIPMENT INVENTORY'!$B:$B,'LABOR-EQUIP'!$B645)","v":0}]
[null,null,"OT2",{"$f":"IF(ISBLANK(B644),0,VLOOKUP(B644,'PAYROLL RECORD'!$B$8:$V$2005,20,FALSE))","v":0},{"$f":"+E644","v":0},null,null,null,null,null,null,null,null,null,null,null,{"$f":"SUM(H646:N646)","v":0},null,null,{"$f":"IFERROR(Q646*D646,\"\")","v":0},{"$f":"COUNTIF('EQUIPMENT INVENTORY'!$B:$B,'LABOR-EQUIP'!$B646)","v":0}]
[null,"Select type of activity(s).  See ELIGIBLE ACTIVITIES tab for complete descriptions and instructions.  Choose as many activities as applicable for each day/date. ",null,null,null,null,null,null,null,null,null,null,null,null,null,null,null,null,null,null,{"$f":"COUNTIF('EQUIPMENT INVENTORY'!$B:$B,'LABOR-EQUIP'!$B647)","v":0}]
[null,null,null,null,{"$f":"+E644","v":0},{"$f":"IF(ISBLANK(B648),0,VLOOKUP(B648,'EQUIPMENT INVENTORY'!$B$7:$AK$1021,7,0))","v":0},{"$f":"IF(ISBLANK(B648),0,VLOOKUP(B648,'EQUIPMENT INVENTORY'!$B$7:$AK$1021,8,0))","v":0},null,null,null,null,null,null,null,{"$f":"SUM($H648:$N648)","v":0},null,null,{"$f":"O648*G648","v":0},null,null,{"$f":"COUNTIF('EQUIPMENT INVENTORY'!$B:$B,'LABOR-EQUIP'!$B648)","v":0}]
[null,null,null,null,{"$f":"+E644","v":0},{"$f":"IF(ISBLANK(B649),0,VLOOKUP(B649,'EQUIPMENT INVENTORY'!$B$7:$AK$1021,7,0))","v":0},{"$f":"IF(ISBLANK(B649),0,VLOOKUP(B649,'EQUIPMENT INVENTORY'!$B$7:$AK$1021,8,0))","v":0},null,null,null,null,null,null,null,{"$f":"SUM($H649:$N649)","v":0},null,null,{"$f":"O649*G649","v":0},null,null,{"$f":"COUNTIF('EQUIPMENT INVENTORY'!$B:$B,'LABOR-EQUIP'!$B649)","v":0}]
[null,null,null,null,{"$f":"+E644","v":0},{"$f":"IF(ISBLANK(B650),0,VLOOKUP(B650,'EQUIPMENT INVENTORY'!$B$7:$AK$1021,7,0))","v":0},{"$f":"IF(ISBLANK(B650),0,VLOOKUP(B650,'EQUIPMENT INVENTORY'!$B$7:$AK$1021,8,0))","v":0},null,null,null,null,null,null,null,{"$f":"SUM($H650:$N650)","v":0},null,null,{"$f":"O650*G650","v":0},null,null,{"$f":"COUNTIF('EQUIPMENT INVENTORY'!$B:$B,'LABOR-EQUIP'!$B650)","v":0}]
[null,"Employee/\nEquipment",null,"RATE w/","REQUEST #","COST CODE","RATE",null,null,null,null,null,null,null,"REG","OT1","OT2","REG TIME\nCOST","OT1\nCOST","OT2\nCOST",{"$f":"COUNTIF('EQUIPMENT INVENTORY'!$B:$B,'LABOR-EQUIP'!$B651)","v":0}]
[null,null,null,"FRINGE",null,null,null,null,null,null,null,null,null,null,null,null,null,null,null,null,{"$f":"COUNTIF('EQUIPMENT INVENTORY'!$B:$B,'LABOR-EQUIP'!$B652)","v":0}]
[null,null,"REG",{"$f":"IF(ISBLANK(B653),0,VLOOKUP(B653,'PAYROLL RECORD'!$B$8:$V$2005,18,FALSE))","v":0},null,null,null,null,null,null,null,null,null,null,{"$f":"SUM($H653:$N653)","v":0},null,null,{"$f":"IFERROR(D653*O653,\"\")","v":0},null,null,{"$f":"COUNTIF('EQUIPMENT INVENTORY'!$B:$B,'LABOR-EQUIP'!$B653)","v":0}]
[null,{"$f":"IF(ISBLANK(B653),\" \",VLOOKUP(B653,'PAYROLL RECORD'!$B$9:$C$10740,2,FALSE))","v":" "},"OT1",{"$f":"IF(ISBLANK(B653),0,VLOOKUP(B653,'PAYROLL RECORD'!$B$8:$V$2005,19,FALSE))","v":0},{"$f":"+E653","v":0},null,null,null,null,null,null,null,null,null,null,{"$f":"SUM(H654:N654)","v":0},null,null,{"$f":"IF(E654<>\"e\",P654*D654,0)","v":0},null,{"$f":"COUNTIF('EQUIPMENT INVENTORY'!$B:$B,'LABOR-EQUIP'!$B654)","v":0}]
[null,null,"OT2",{"$f":"IF(ISBLANK(B653),0,VLOOKUP(B653,'PAYROLL RECORD'!$B$8:$V$2005,20,FALSE))","v":0},{"$f":"+E654","v":0},null,null,null,null,null,null,null,null,null,null,null,{"$f":"SUM(H655:N655)","v":0},null,null,{"$f":"IF(E655<>\"E\",Q655*D655,0)","v":0},{"$f":"COUNTIF('EQUIPMENT INVENTORY'!$B:$B,'LABOR-EQUIP'!$B655)","v":0}]
[null,"Select type of activity(s).  See ELIGIBLE ACTIVITIES tab for complete descriptions and instructions.  Choose as many activities as applicable for each day/date. ",null,null,null,null,null,null,null,null,null,null,null,null,null,null,null,null,null,null,{"$f":"COUNTIF('EQUIPMENT INVENTORY'!$B:$B,'LABOR-EQUIP'!$B656)","v":0}]
[null,null,null,null,{"$f":"+E655","v":0},{"$f":"IF(ISBLANK(B657),0,VLOOKUP(B657,'EQUIPMENT INVENTORY'!$B$7:$AK$1021,7,0))","v":0},{"$f":"IF(ISBLANK(B657),0,VLOOKUP(B657,'EQUIPMENT INVENTORY'!$B$7:$AK$1021,8,0))","v":0},null,null,null,null,null,null,null,{"$f":"SUM($H657:$N657)","v":0},null,null,{"$f":"O657*G657","v":0},null,null,{"$f":"COUNTIF('EQUIPMENT INVENTORY'!$B:$B,'LABOR-EQUIP'!$B657)","v":0}]
[null,null,null,null,0,{"$f":"IF(ISBLANK(B658),0,VLOOKUP(B658,'EQUIPMENT INVENTORY'!$B$7:$AK$1021,7,0))","v":0},{"$f":"IF(ISBLANK(B658),0,VLOOKUP(B658,'EQUIPMENT INVENTORY'!$B$7:$AK$1021,8,0))","v":0},null,null,null,null,null,null,null,{"$f":"SUM($H658:$N658)","v":0},null,null,{"$f":"O658*G658","v":0},null,null,{"$f":"COUNTIF('EQUIPMENT INVENTORY'!$B:$B,'LABOR-EQUIP'!$B658)","v":0}]
[null,null,null,null,0,{"$f":"IF(ISBLANK(B659),0,VLOOKUP(B659,'EQUIPMENT INVENTORY'!$B$7:$AK$1021,7,0))","v":0},{"$f":"IF(ISBLANK(B659),0,VLOOKUP(B659,'EQUIPMENT INVENTORY'!$B$7:$AK$1021,8,0))","v":0},null,null,null,null,null,null,null,{"$f":"SUM($H659:$N659)","v":0},null,null,{"$f":"O659*G659","v":0},null,null,{"$f":"COUNTIF('EQUIPMENT INVENTORY'!$B:$B,'LABOR-EQUIP'!$B659)","v":0}]
[null,"Employee/\nEquipment",null,"RATE w/","REQUEST #","COST CODE","RATE",null,null,null,null,null,null,null,"REG","OT1","OT2","REG TIME\nCOST","OT1\nCOST","OT2\nCOST",{"$f":"COUNTIF('EQUIPMENT INVENTORY'!$B:$B,'LABOR-EQUIP'!$B660)","v":0}]
[null,null,null,"FRINGE",null,null,null,null,null,null,null,null,null,null,null,null,null,null,null,null,{"$f":"COUNTIF('EQUIPMENT INVENTORY'!$B:$B,'LABOR-EQUIP'!$B661)","v":0}]
[null,null,"REG",{"$f":"IF(ISBLANK(B662),0,VLOOKUP(B662,'PAYROLL RECORD'!$B$8:$V$2005,18,FALSE))","v":0},null,null,null,null,null,null,null,null,null,null,{"$f":"SUM($H662:$N662)","v":0},null,null,{"$f":"IFERROR(D662*O662,\"\")","v":0},null,null,{"$f":"COUNTIF('EQUIPMENT INVENTORY'!$B:$B,'LABOR-EQUIP'!$B662)","v":0}]
[null,{"$f":"IF(ISBLANK(B662),\" \",VLOOKUP(B662,'PAYROLL RECORD'!$B$9:$C$10740,2,FALSE))","v":" "},"OT1",{"$f":"IF(ISBLANK(B662),0,VLOOKUP(B662,'PAYROLL RECORD'!$B$8:$V$2005,19,FALSE))","v":0},{"$f":"+E662","v":0},null,null,null,null,null,null,null,null,null,null,{"$f":"SUM(H663:N663)","v":0},null,null,{"$f":"IF(E663<>\"e\",P663*D663,0)","v":0},null,{"$f":"COUNTIF('EQUIPMENT INVENTORY'!$B:$B,'LABOR-EQUIP'!$B663)","v":0}]
[null,null,"OT2",{"$f":"IF(ISBLANK(B662),0,VLOOKUP(B662,'PAYROLL RECORD'!$B$8:$V$2005,20,FALSE))","v":0},{"$f":"+E663","v":0},null,null,null,null,null,null,null,null,null,null,null,{"$f":"SUM(H664:N664)","v":0},null,null,{"$f":"IF(E664<>\"E\",Q664*D664,0)","v":0},{"$f":"COUNTIF('EQUIPMENT INVENTORY'!$B:$B,'LABOR-EQUIP'!$B664)","v":0}]
[null,"Select type of activity(s).  See ELIGIBLE ACTIVITIES tab for complete descriptions and instructions.  Choose as many activities as applicable for each day/date. ",null,null,null,null,null,null,null,null,null,null,null,null,null,null,null,null,null,null,{"$f":"COUNTIF('EQUIPMENT INVENTORY'!$B:$B,'LABOR-EQUIP'!$B665)","v":0}]
[null,null,null,null,{"$f":"+E664","v":0},{"$f":"IF(ISBLANK(B666),0,VLOOKUP(B666,'EQUIPMENT INVENTORY'!$B$7:$AK$1021,7,0))","v":0},{"$f":"IF(ISBLANK(B666),0,VLOOKUP(B666,'EQUIPMENT INVENTORY'!$B$7:$AK$1021,8,0))","v":0},null,null,null,null,null,null,null,{"$f":"SUM($H666:$N666)","v":0},null,null,{"$f":"O666*G666","v":0},null,null,{"$f":"COUNTIF('EQUIPMENT INVENTORY'!$B:$B,'LABOR-EQUIP'!$B666)","v":0}]
[null,null,null,null,0,{"$f":"IF(ISBLANK(B667),0,VLOOKUP(B667,'EQUIPMENT INVENTORY'!$B$7:$AK$1021,7,0))","v":0},{"$f":"IF(ISBLANK(B667),0,VLOOKUP(B667,'EQUIPMENT INVENTORY'!$B$7:$AK$1021,8,0))","v":0},null,null,null,null,null,null,null,{"$f":"SUM($H667:$N667)","v":0},null,null,{"$f":"O667*G667","v":0},null,null,{"$f":"COUNTIF('EQUIPMENT INVENTORY'!$B:$B,'LABOR-EQUIP'!$B667)","v":0}]
[null,null,null,null,0,{"$f":"IF(ISBLANK(B668),0,VLOOKUP(B668,'EQUIPMENT INVENTORY'!$B$7:$AK$1021,7,0))","v":0},{"$f":"IF(ISBLANK(B668),0,VLOOKUP(B668,'EQUIPMENT INVENTORY'!$B$7:$AK$1021,8,0))","v":0},null,null,null,null,null,null,null,{"$f":"SUM($H668:$N668)","v":0},null,null,{"$f":"O668*G668","v":0},null,null,{"$f":"COUNTIF('EQUIPMENT INVENTORY'!$B:$B,'LABOR-EQUIP'!$B668)","v":0}]
[null,"Employee/\nEquipment",null,"RATE w/","REQUEST #","COST CODE","RATE",null,null,null,null,null,null,null,"REG","OT1","OT2","REG TIME\nCOST","OT1\nCOST","OT2\nCOST",{"$f":"COUNTIF('EQUIPMENT INVENTORY'!$B:$B,'LABOR-EQUIP'!$B669)","v":0}]
[null,null,null,"FRINGE",null,null,null,null,null,null,null,null,null,null,null,null,null,null,null,null,{"$f":"COUNTIF('EQUIPMENT INVENTORY'!$B:$B,'LABOR-EQUIP'!$B670)","v":0}]
[null,null,"REG",{"$f":"IF(ISBLANK(B671),0,VLOOKUP(B671,'PAYROLL RECORD'!$B$8:$V$2005,18,FALSE))","v":0},null,null,null,null,null,null,null,null,null,null,{"$f":"SUM($H671:$N671)","v":0},null,null,{"$f":"IFERROR(D671*O671,\"\")","v":0},null,null,{"$f":"COUNTIF('EQUIPMENT INVENTORY'!$B:$B,'LABOR-EQUIP'!$B671)","v":0}]
[null,{"$f":"IF(ISBLANK(B671),\" \",VLOOKUP(B671,'PAYROLL RECORD'!$B$9:$C$10740,2,FALSE))","v":" "},"OT1",{"$f":"IF(ISBLANK(B671),0,VLOOKUP(B671,'PAYROLL RECORD'!$B$8:$V$2005,19,FALSE))","v":0},{"$f":"+E671","v":0},null,null,null,null,null,null,null,null,null,null,{"$f":"SUM(H672:N672)","v":0},null,null,{"$f":"IF(E672<>\"e\",P672*D672,0)","v":0},null,{"$f":"COUNTIF('EQUIPMENT INVENTORY'!$B:$B,'LABOR-EQUIP'!$B672)","v":0}]
[null,null,"OT2",{"$f":"IF(ISBLANK(B671),0,VLOOKUP(B671,'PAYROLL RECORD'!$B$8:$V$2005,20,FALSE))","v":0},{"$f":"+E672","v":0},null,null,null,null,null,null,null,null,null,null,null,{"$f":"SUM(H673:N673)","v":0},null,null,{"$f":"IF(E673<>\"E\",Q673*D673,0)","v":0},{"$f":"COUNTIF('EQUIPMENT INVENTORY'!$B:$B,'LABOR-EQUIP'!$B673)","v":0}]
[null,"Select type of activity(s).  See ELIGIBLE ACTIVITIES tab for complete descriptions and instructions.  Choose as many activities as applicable for each day/date. ",null,null,null,null,null,null,null,null,null,null,null,null,null,null,null,null,null,null,{"$f":"COUNTIF('EQUIPMENT INVENTORY'!$B:$B,'LABOR-EQUIP'!$B674)","v":0}]
[null,null,null,null,{"$f":"+E673","v":0},{"$f":"IF(ISBLANK(B675),0,VLOOKUP(B675,'EQUIPMENT INVENTORY'!$B$7:$AK$1021,7,0))","v":0},{"$f":"IF(ISBLANK(B675),0,VLOOKUP(B675,'EQUIPMENT INVENTORY'!$B$7:$AK$1021,8,0))","v":0},null,null,null,null,null,null,null,{"$f":"SUM($H675:$N675)","v":0},null,null,{"$f":"O675*G675","v":0},null,null,{"$f":"COUNTIF('EQUIPMENT INVENTORY'!$B:$B,'LABOR-EQUIP'!$B675)","v":0}]
[null,null,null,null,0,{"$f":"IF(ISBLANK(B676),0,VLOOKUP(B676,'EQUIPMENT INVENTORY'!$B$7:$AK$1021,7,0))","v":0},{"$f":"IF(ISBLANK(B676),0,VLOOKUP(B676,'EQUIPMENT INVENTORY'!$B$7:$AK$1021,8,0))","v":0},null,null,null,null,null,null,null,{"$f":"SUM($H676:$N676)","v":0},null,null,{"$f":"O676*G676","v":0},null,null,{"$f":"COUNTIF('EQUIPMENT INVENTORY'!$B:$B,'LABOR-EQUIP'!$B676)","v":0}]
[null,null,null,null,0,{"$f":"IF(ISBLANK(B677),0,VLOOKUP(B677,'EQUIPMENT INVENTORY'!$B$7:$AK$1021,7,0))","v":0},{"$f":"IF(ISBLANK(B677),0,VLOOKUP(B677,'EQUIPMENT INVENTORY'!$B$7:$AK$1021,8,0))","v":0},null,null,null,null,null,null,null,{"$f":"SUM($H677:$N677)","v":0},null,null,{"$f":"O677*G677","v":0},null,null,{"$f":"COUNTIF('EQUIPMENT INVENTORY'!$B:$B,'LABOR-EQUIP'!$B677)","v":0}]
[null,"Employee/\nEquipment",null,"RATE w/","REQUEST #","COST CODE","RATE",null,null,null,null,null,null,null,"REG","OT1","OT2","REG TIME\nCOST","OT1\nCOST","OT2\nCOST",{"$f":"COUNTIF('EQUIPMENT INVENTORY'!$B:$B,'LABOR-EQUIP'!$B678)","v":0}]
[null,null,null,"FRINGE",null,null,null,null,null,null,null,null,null,null,null,null,null,null,null,null,{"$f":"COUNTIF('EQUIPMENT INVENTORY'!$B:$B,'LABOR-EQUIP'!$B679)","v":0}]
[null,null,"REG",{"$f":"IF(ISBLANK(B680),0,VLOOKUP(B680,'PAYROLL RECORD'!$B$8:$V$2005,18,FALSE))","v":0},null,null,null,null,null,null,null,null,null,null,{"$f":"SUM($H680:$N680)","v":0},null,null,{"$f":"IFERROR(D680*O680,\"\")","v":0},null,null,{"$f":"COUNTIF('EQUIPMENT INVENTORY'!$B:$B,'LABOR-EQUIP'!$B680)","v":0}]
[null,{"$f":"IF(ISBLANK(B680),\" \",VLOOKUP(B680,'PAYROLL RECORD'!$B$9:$C$10740,2,FALSE))","v":" "},"OT1",{"$f":"IF(ISBLANK(B680),0,VLOOKUP(B680,'PAYROLL RECORD'!$B$8:$V$2005,19,FALSE))","v":0},{"$f":"+E680","v":0},null,null,null,null,null,null,null,null,null,null,{"$f":"SUM(H681:N681)","v":0},null,null,{"$f":"IF(E681<>\"e\",P681*D681,0)","v":0},null,{"$f":"COUNTIF('EQUIPMENT INVENTORY'!$B:$B,'LABOR-EQUIP'!$B681)","v":0}]
[null,null,"OT2",{"$f":"IF(ISBLANK(B680),0,VLOOKUP(B680,'PAYROLL RECORD'!$B$8:$V$2005,20,FALSE))","v":0},{"$f":"+E681","v":0},null,null,null,null,null,null,null,null,null,null,null,{"$f":"SUM(H682:N682)","v":0},null,null,{"$f":"IF(E682<>\"E\",Q682*D682,0)","v":0},{"$f":"COUNTIF('EQUIPMENT INVENTORY'!$B:$B,'LABOR-EQUIP'!$B682)","v":0}]
[null,"Select type of activity(s).  See ELIGIBLE ACTIVITIES tab for complete descriptions and instructions.  Choose as many activities as applicable for each day/date. ",null,null,null,null,null,null,null,null,null,null,null,null,null,null,null,null,null,null,{"$f":"COUNTIF('EQUIPMENT INVENTORY'!$B:$B,'LABOR-EQUIP'!$B683)","v":0}]
[null,null,null,null,{"$f":"+E682","v":0},{"$f":"IF(ISBLANK(B684),0,VLOOKUP(B684,'EQUIPMENT INVENTORY'!$B$7:$AK$1021,7,0))","v":0},{"$f":"IF(ISBLANK(B684),0,VLOOKUP(B684,'EQUIPMENT INVENTORY'!$B$7:$AK$1021,8,0))","v":0},null,null,null,null,null,null,null,{"$f":"SUM($H684:$N684)","v":0},null,null,{"$f":"O684*G684","v":0},null,null,{"$f":"COUNTIF('EQUIPMENT INVENTORY'!$B:$B,'LABOR-EQUIP'!$B684)","v":0}]
[null,null,null,null,0,{"$f":"IF(ISBLANK(B685),0,VLOOKUP(B685,'EQUIPMENT INVENTORY'!$B$7:$AK$1021,7,0))","v":0},{"$f":"IF(ISBLANK(B685),0,VLOOKUP(B685,'EQUIPMENT INVENTORY'!$B$7:$AK$1021,8,0))","v":0},null,null,null,null,null,null,null,{"$f":"SUM($H685:$N685)","v":0},null,null,{"$f":"O685*G685","v":0},null,null,{"$f":"COUNTIF('EQUIPMENT INVENTORY'!$B:$B,'LABOR-EQUIP'!$B685)","v":0}]
[null,null,null,null,0,{"$f":"IF(ISBLANK(B686),0,VLOOKUP(B686,'EQUIPMENT INVENTORY'!$B$7:$AK$1021,7,0))","v":0},{"$f":"IF(ISBLANK(B686),0,VLOOKUP(B686,'EQUIPMENT INVENTORY'!$B$7:$AK$1021,8,0))","v":0},null,null,null,null,null,null,null,{"$f":"SUM($H686:$N686)","v":0},null,null,{"$f":"O686*G686","v":0},null,null,{"$f":"COUNTIF('EQUIPMENT INVENTORY'!$B:$B,'LABOR-EQUIP'!$B686)","v":0}]
[null,null,null,null,null,null,null,null,null,null,null,null,"LABOR - Page Total",null,{"$f":"O644+O653+O662+O671+O680","v":0},{"$f":"P645+P654+P663+P672+P681","v":0},{"$f":"Q646+Q655+Q664+Q673+Q682","v":0},{"$f":"R644+R653+R662+R671+R680","v":0},{"$f":"S645+S654+S663+S672+S681","v":0},{"$f":"T646+T655+T664+T673+T682","v":0}]
[null,null,null,null,null,null,null,null,null,null,null,null,"EQUIPMENT - Page Total",null,{"$f":"O648+O649+O650+O657+O658+O659+O666+O667+O668+O675+O676+O677+O684+O685+O686","v":0},null,null,{"$f":"R648+R649+R650+R657+R658+R659+R666+R667+R668+R675+R676+R677+R684+R685+R686","v":0}]
[null,null,null,null,null,null,null,null,null,null,null,null,"LABOR - Grand Total",null,{"$f":"SUM($AA:$AA)","v":0},{"$f":"SUM(AB:AB)","v":0},{"$f":"SUM(AC:AC)","v":0},{"$f":"SUM(AD:AD)","v":0},{"$f":"SUM(AE:AE)","v":0},{"$f":"SUM(AF:AF)","v":0},null,null,null,null,null,null,{"$f":"O687","v":0},{"$f":"P687","v":0},{"$f":"Q687","v":0},{"$f":"R687","v":0},{"$f":"S687","v":0},{"$f":"T687","v":0}]
[null,null,null,null,null,null,null,null,null,null,null,null,"EQUIPMENT - Grand Total",null,{"$f":"SUM(AG:AG)","v":0},null,null,{"$f":"SUM(AH:AH)","v":0},null,null,null,null,null,null,null,null,null,null,null,null,null,null,{"$f":"O688","v":0},{"$f":"R688","v":0}]
[]
[]
[null,"APPLICANT NAME",null,null,"DISASTER #",null,null,"PLEASE ENTER DATES FOR EACH DAY WORKED.  THIS ALLOWS FOR TRACKING OF COSTS OVER MULTIPLE DAYS, WEEKS AND/OR YEARS.  USE THE FIRST ROW FOR MONTH/DAY AND THE SECOND ROW FOR YEAR.  DATES DO NOT NEED TO BE CONSECUTIVE. ",null,null,null,null,null,null,"DISASTER TITLE"]
[null,{"$f":"IF('PAYROLL RECORD'!B694=\"\",\"\",'PAYROLL RECORD'!B694)","v":""},null,null,{"$f":"IF('PAYROLL RECORD'!D694=\"\",\"\",'PAYROLL RECORD'!D694)","v":""},null,null,null,null,null,null,null,null,null,{"$f":"IF('PAYROLL RECORD'!G694=\"\",\"\",'PAYROLL RECORD'!G694)","v":""}]
[null,"Employee/\nEquipment",null,"RATE w/","REQUEST #","COST CODE","RATE",null,null,null,null,null,null,null,"REG","OT1","OT2","REG TIME\nCOST","OT1\nCOST","OT2\nCOST"]
[null,null,null,"FRINGE"]
[null,null,"REG",{"$f":"IF(ISBLANK(B697),0,VLOOKUP(B697,'PAYROLL RECORD'!$B$8:$V$2005,18,FALSE))","v":0},null,null,null,null,null,null,null,null,null,null,{"$f":"SUM($H697:$N697)","v":0},null,null,{"$f":"IFERROR(D697*O697,\"\")","v":0},null,null,{"$f":"COUNTIF('EQUIPMENT INVENTORY'!$B:$B,'LABOR-EQUIP'!$B697)","v":0}]
[null,{"$f":"IF(ISBLANK(B697),\" \",VLOOKUP(B697,'PAYROLL RECORD'!$B$9:$C$10740,2,FALSE))","v":" "},"OT1",{"$f":"IF(ISBLANK(B697),0,VLOOKUP(B697,'PAYROLL RECORD'!$B$8:$V$2005,19,FALSE))","v":0},{"$f":"+E697","v":0},null,null,null,null,null,null,null,null,null,null,{"$f":"SUM(H698:N698)","v":0},null,null,{"$f":"IFERROR(P698*D698,\"\")","v":0},null,{"$f":"COUNTIF('EQUIPMENT INVENTORY'!$B:$B,'LABOR-EQUIP'!$B698)","v":0}]
[null,null,"OT2",{"$f":"IF(ISBLANK(B697),0,VLOOKUP(B697,'PAYROLL RECORD'!$B$8:$V$2005,20,FALSE))","v":0},{"$f":"+E697","v":0},null,null,null,null,null,null,null,null,null,null,null,{"$f":"SUM(H699:N699)","v":0},null,null,{"$f":"IFERROR(Q699*D699,\"\")","v":0},{"$f":"COUNTIF('EQUIPMENT INVENTORY'!$B:$B,'LABOR-EQUIP'!$B699)","v":0}]
[null,"Select type of activity(s).  See ELIGIBLE ACTIVITIES tab for complete descriptions and instructions.  Choose as many activities as applicable for each day/date. ",null,null,null,null,null,null,null,null,null,null,null,null,null,null,null,null,null,null,{"$f":"COUNTIF('EQUIPMENT INVENTORY'!$B:$B,'LABOR-EQUIP'!$B700)","v":0}]
[null,null,null,null,{"$f":"+E697","v":0},{"$f":"IF(ISBLANK(B701),0,VLOOKUP(B701,'EQUIPMENT INVENTORY'!$B$7:$AK$1021,7,0))","v":0},{"$f":"IF(ISBLANK(B701),0,VLOOKUP(B701,'EQUIPMENT INVENTORY'!$B$7:$AK$1021,8,0))","v":0},null,null,null,null,null,null,null,{"$f":"SUM($H701:$N701)","v":0},null,null,{"$f":"O701*G701","v":0},null,null,{"$f":"COUNTIF('EQUIPMENT INVENTORY'!$B:$B,'LABOR-EQUIP'!$B701)","v":0}]
[null,null,null,null,{"$f":"+E697","v":0},{"$f":"IF(ISBLANK(B702),0,VLOOKUP(B702,'EQUIPMENT INVENTORY'!$B$7:$AK$1021,7,0))","v":0},{"$f":"IF(ISBLANK(B702),0,VLOOKUP(B702,'EQUIPMENT INVENTORY'!$B$7:$AK$1021,8,0))","v":0},null,null,null,null,null,null,null,{"$f":"SUM($H702:$N702)","v":0},null,null,{"$f":"O702*G702","v":0},null,null,{"$f":"COUNTIF('EQUIPMENT INVENTORY'!$B:$B,'LABOR-EQUIP'!$B702)","v":0}]
[null,null,null,null,{"$f":"+E697","v":0},{"$f":"IF(ISBLANK(B703),0,VLOOKUP(B703,'EQUIPMENT INVENTORY'!$B$7:$AK$1021,7,0))","v":0},{"$f":"IF(ISBLANK(B703),0,VLOOKUP(B703,'EQUIPMENT INVENTORY'!$B$7:$AK$1021,8,0))","v":0},null,null,null,null,null,null,null,{"$f":"SUM($H703:$N703)","v":0},null,null,{"$f":"O703*G703","v":0},null,null,{"$f":"COUNTIF('EQUIPMENT INVENTORY'!$B:$B,'LABOR-EQUIP'!$B703)","v":0}]
[null,"Employee/\nEquipment",null,"RATE w/","REQUEST #","COST CODE","RATE",null,null,null,null,null,null,null,"REG","OT1","OT2","REG TIME\nCOST","OT1\nCOST","OT2\nCOST",{"$f":"COUNTIF('EQUIPMENT INVENTORY'!$B:$B,'LABOR-EQUIP'!$B704)","v":0}]
[null,null,null,"FRINGE",null,null,null,null,null,null,null,null,null,null,null,null,null,null,null,null,{"$f":"COUNTIF('EQUIPMENT INVENTORY'!$B:$B,'LABOR-EQUIP'!$B705)","v":0}]
[null,null,"REG",{"$f":"IF(ISBLANK(B706),0,VLOOKUP(B706,'PAYROLL RECORD'!$B$8:$V$2005,18,FALSE))","v":0},null,null,null,null,null,null,null,null,null,null,{"$f":"SUM($H706:$N706)","v":0},null,null,{"$f":"IFERROR(D706*O706,\"\")","v":0},null,null,{"$f":"COUNTIF('EQUIPMENT INVENTORY'!$B:$B,'LABOR-EQUIP'!$B706)","v":0}]
[null,{"$f":"IF(ISBLANK(B706),\" \",VLOOKUP(B706,'PAYROLL RECORD'!$B$9:$C$10740,2,FALSE))","v":" "},"OT1",{"$f":"IF(ISBLANK(B706),0,VLOOKUP(B706,'PAYROLL RECORD'!$B$8:$V$2005,19,FALSE))","v":0},{"$f":"+E706","v":0},null,null,null,null,null,null,null,null,null,null,{"$f":"SUM(H707:N707)","v":0},null,null,{"$f":"IF(E707<>\"e\",P707*D707,0)","v":0},null,{"$f":"COUNTIF('EQUIPMENT INVENTORY'!$B:$B,'LABOR-EQUIP'!$B707)","v":0}]
[null,null,"OT2",{"$f":"IF(ISBLANK(B706),0,VLOOKUP(B706,'PAYROLL RECORD'!$B$8:$V$2005,20,FALSE))","v":0},{"$f":"+E707","v":0},null,null,null,null,null,null,null,null,null,null,null,{"$f":"SUM(H708:N708)","v":0},null,null,{"$f":"IF(E708<>\"E\",Q708*D708,0)","v":0},{"$f":"COUNTIF('EQUIPMENT INVENTORY'!$B:$B,'LABOR-EQUIP'!$B708)","v":0}]
[null,"Select type of activity(s).  See ELIGIBLE ACTIVITIES tab for complete descriptions and instructions.  Choose as many activities as applicable for each day/date. ",null,null,null,null,null,null,null,null,null,null,null,null,null,null,null,null,null,null,{"$f":"COUNTIF('EQUIPMENT INVENTORY'!$B:$B,'LABOR-EQUIP'!$B709)","v":0}]
[null,null,null,null,{"$f":"+E708","v":0},{"$f":"IF(ISBLANK(B710),0,VLOOKUP(B710,'EQUIPMENT INVENTORY'!$B$7:$AK$1021,7,0))","v":0},{"$f":"IF(ISBLANK(B710),0,VLOOKUP(B710,'EQUIPMENT INVENTORY'!$B$7:$AK$1021,8,0))","v":0},null,null,null,null,null,null,null,{"$f":"SUM($H710:$N710)","v":0},null,null,{"$f":"O710*G710","v":0},null,null,{"$f":"COUNTIF('EQUIPMENT INVENTORY'!$B:$B,'LABOR-EQUIP'!$B710)","v":0}]
[null,null,null,null,0,{"$f":"IF(ISBLANK(B711),0,VLOOKUP(B711,'EQUIPMENT INVENTORY'!$B$7:$AK$1021,7,0))","v":0},{"$f":"IF(ISBLANK(B711),0,VLOOKUP(B711,'EQUIPMENT INVENTORY'!$B$7:$AK$1021,8,0))","v":0},null,null,null,null,null,null,null,{"$f":"SUM($H711:$N711)","v":0},null,null,{"$f":"O711*G711","v":0},null,null,{"$f":"COUNTIF('EQUIPMENT INVENTORY'!$B:$B,'LABOR-EQUIP'!$B711)","v":0}]
[null,null,null,null,0,{"$f":"IF(ISBLANK(B712),0,VLOOKUP(B712,'EQUIPMENT INVENTORY'!$B$7:$AK$1021,7,0))","v":0},{"$f":"IF(ISBLANK(B712),0,VLOOKUP(B712,'EQUIPMENT INVENTORY'!$B$7:$AK$1021,8,0))","v":0},null,null,null,null,null,null,null,{"$f":"SUM($H712:$N712)","v":0},null,null,{"$f":"O712*G712","v":0},null,null,{"$f":"COUNTIF('EQUIPMENT INVENTORY'!$B:$B,'LABOR-EQUIP'!$B712)","v":0}]
[null,"Employee/\nEquipment",null,"RATE w/","REQUEST #","COST CODE","RATE",null,null,null,null,null,null,null,"REG","OT1","OT2","REG TIME\nCOST","OT1\nCOST","OT2\nCOST",{"$f":"COUNTIF('EQUIPMENT INVENTORY'!$B:$B,'LABOR-EQUIP'!$B713)","v":0}]
[null,null,null,"FRINGE",null,null,null,null,null,null,null,null,null,null,null,null,null,null,null,null,{"$f":"COUNTIF('EQUIPMENT INVENTORY'!$B:$B,'LABOR-EQUIP'!$B714)","v":0}]
[null,null,"REG",{"$f":"IF(ISBLANK(B715),0,VLOOKUP(B715,'PAYROLL RECORD'!$B$8:$V$2005,18,FALSE))","v":0},null,null,null,null,null,null,null,null,null,null,{"$f":"SUM($H715:$N715)","v":0},null,null,{"$f":"IFERROR(D715*O715,\"\")","v":0},null,null,{"$f":"COUNTIF('EQUIPMENT INVENTORY'!$B:$B,'LABOR-EQUIP'!$B715)","v":0}]
[null,{"$f":"IF(ISBLANK(B715),\" \",VLOOKUP(B715,'PAYROLL RECORD'!$B$9:$C$10740,2,FALSE))","v":" "},"OT1",{"$f":"IF(ISBLANK(B715),0,VLOOKUP(B715,'PAYROLL RECORD'!$B$8:$V$2005,19,FALSE))","v":0},{"$f":"+E715","v":0},null,null,null,null,null,null,null,null,null,null,{"$f":"SUM(H716:N716)","v":0},null,null,{"$f":"IF(E716<>\"e\",P716*D716,0)","v":0},null,{"$f":"COUNTIF('EQUIPMENT INVENTORY'!$B:$B,'LABOR-EQUIP'!$B716)","v":0}]
[null,null,"OT2",{"$f":"IF(ISBLANK(B715),0,VLOOKUP(B715,'PAYROLL RECORD'!$B$8:$V$2005,20,FALSE))","v":0},{"$f":"+E716","v":0},null,null,null,null,null,null,null,null,null,null,null,{"$f":"SUM(H717:N717)","v":0},null,null,{"$f":"IF(E717<>\"E\",Q717*D717,0)","v":0},{"$f":"COUNTIF('EQUIPMENT INVENTORY'!$B:$B,'LABOR-EQUIP'!$B717)","v":0}]
[null,"Select type of activity(s).  See ELIGIBLE ACTIVITIES tab for complete descriptions and instructions.  Choose as many activities as applicable for each day/date. ",null,null,null,null,null,null,null,null,null,null,null,null,null,null,null,null,null,null,{"$f":"COUNTIF('EQUIPMENT INVENTORY'!$B:$B,'LABOR-EQUIP'!$B718)","v":0}]
[null,null,null,null,{"$f":"+E717","v":0},{"$f":"IF(ISBLANK(B719),0,VLOOKUP(B719,'EQUIPMENT INVENTORY'!$B$7:$AK$1021,7,0))","v":0},{"$f":"IF(ISBLANK(B719),0,VLOOKUP(B719,'EQUIPMENT INVENTORY'!$B$7:$AK$1021,8,0))","v":0},null,null,null,null,null,null,null,{"$f":"SUM($H719:$N719)","v":0},null,null,{"$f":"O719*G719","v":0},null,null,{"$f":"COUNTIF('EQUIPMENT INVENTORY'!$B:$B,'LABOR-EQUIP'!$B719)","v":0}]
[null,null,null,null,0,{"$f":"IF(ISBLANK(B720),0,VLOOKUP(B720,'EQUIPMENT INVENTORY'!$B$7:$AK$1021,7,0))","v":0},{"$f":"IF(ISBLANK(B720),0,VLOOKUP(B720,'EQUIPMENT INVENTORY'!$B$7:$AK$1021,8,0))","v":0},null,null,null,null,null,null,null,{"$f":"SUM($H720:$N720)","v":0},null,null,{"$f":"O720*G720","v":0},null,null,{"$f":"COUNTIF('EQUIPMENT INVENTORY'!$B:$B,'LABOR-EQUIP'!$B720)","v":0}]
[null,null,null,null,0,{"$f":"IF(ISBLANK(B721),0,VLOOKUP(B721,'EQUIPMENT INVENTORY'!$B$7:$AK$1021,7,0))","v":0},{"$f":"IF(ISBLANK(B721),0,VLOOKUP(B721,'EQUIPMENT INVENTORY'!$B$7:$AK$1021,8,0))","v":0},null,null,null,null,null,null,null,{"$f":"SUM($H721:$N721)","v":0},null,null,{"$f":"O721*G721","v":0},null,null,{"$f":"COUNTIF('EQUIPMENT INVENTORY'!$B:$B,'LABOR-EQUIP'!$B721)","v":0}]
[null,"Employee/\nEquipment",null,"RATE w/","REQUEST #","COST CODE","RATE",null,null,null,null,null,null,null,"REG","OT1","OT2","REG TIME\nCOST","OT1\nCOST","OT2\nCOST",{"$f":"COUNTIF('EQUIPMENT INVENTORY'!$B:$B,'LABOR-EQUIP'!$B722)","v":0}]
[null,null,null,"FRINGE",null,null,null,null,null,null,null,null,null,null,null,null,null,null,null,null,{"$f":"COUNTIF('EQUIPMENT INVENTORY'!$B:$B,'LABOR-EQUIP'!$B723)","v":0}]
[null,null,"REG",{"$f":"IF(ISBLANK(B724),0,VLOOKUP(B724,'PAYROLL RECORD'!$B$8:$V$2005,18,FALSE))","v":0},null,null,null,null,null,null,null,null,null,null,{"$f":"SUM($H724:$N724)","v":0},null,null,{"$f":"IFERROR(D724*O724,\"\")","v":0},null,null,{"$f":"COUNTIF('EQUIPMENT INVENTORY'!$B:$B,'LABOR-EQUIP'!$B724)","v":0}]
[null,{"$f":"IF(ISBLANK(B724),\" \",VLOOKUP(B724,'PAYROLL RECORD'!$B$9:$C$10740,2,FALSE))","v":" "},"OT1",{"$f":"IF(ISBLANK(B724),0,VLOOKUP(B724,'PAYROLL RECORD'!$B$8:$V$2005,19,FALSE))","v":0},{"$f":"+E724","v":0},null,null,null,null,null,null,null,null,null,null,{"$f":"SUM(H725:N725)","v":0},null,null,{"$f":"IF(E725<>\"e\",P725*D725,0)","v":0},null,{"$f":"COUNTIF('EQUIPMENT INVENTORY'!$B:$B,'LABOR-EQUIP'!$B725)","v":0}]
[null,null,"OT2",{"$f":"IF(ISBLANK(B724),0,VLOOKUP(B724,'PAYROLL RECORD'!$B$8:$V$2005,20,FALSE))","v":0},{"$f":"+E725","v":0},null,null,null,null,null,null,null,null,null,null,null,{"$f":"SUM(H726:N726)","v":0},null,null,{"$f":"IF(E726<>\"E\",Q726*D726,0)","v":0},{"$f":"COUNTIF('EQUIPMENT INVENTORY'!$B:$B,'LABOR-EQUIP'!$B726)","v":0}]
[null,"Select type of activity(s).  See ELIGIBLE ACTIVITIES tab for complete descriptions and instructions.  Choose as many activities as applicable for each day/date. ",null,null,null,null,null,null,null,null,null,null,null,null,null,null,null,null,null,null,{"$f":"COUNTIF('EQUIPMENT INVENTORY'!$B:$B,'LABOR-EQUIP'!$B727)","v":0}]
[null,null,null,null,{"$f":"+E726","v":0},{"$f":"IF(ISBLANK(B728),0,VLOOKUP(B728,'EQUIPMENT INVENTORY'!$B$7:$AK$1021,7,0))","v":0},{"$f":"IF(ISBLANK(B728),0,VLOOKUP(B728,'EQUIPMENT INVENTORY'!$B$7:$AK$1021,8,0))","v":0},null,null,null,null,null,null,null,{"$f":"SUM($H728:$N728)","v":0},null,null,{"$f":"O728*G728","v":0},null,null,{"$f":"COUNTIF('EQUIPMENT INVENTORY'!$B:$B,'LABOR-EQUIP'!$B728)","v":0}]
[null,null,null,null,0,{"$f":"IF(ISBLANK(B729),0,VLOOKUP(B729,'EQUIPMENT INVENTORY'!$B$7:$AK$1021,7,0))","v":0},{"$f":"IF(ISBLANK(B729),0,VLOOKUP(B729,'EQUIPMENT INVENTORY'!$B$7:$AK$1021,8,0))","v":0},null,null,null,null,null,null,null,{"$f":"SUM($H729:$N729)","v":0},null,null,{"$f":"O729*G729","v":0},null,null,{"$f":"COUNTIF('EQUIPMENT INVENTORY'!$B:$B,'LABOR-EQUIP'!$B729)","v":0}]
[null,null,null,null,0,{"$f":"IF(ISBLANK(B730),0,VLOOKUP(B730,'EQUIPMENT INVENTORY'!$B$7:$AK$1021,7,0))","v":0},{"$f":"IF(ISBLANK(B730),0,VLOOKUP(B730,'EQUIPMENT INVENTORY'!$B$7:$AK$1021,8,0))","v":0},null,null,null,null,null,null,null,{"$f":"SUM($H730:$N730)","v":0},null,null,{"$f":"O730*G730","v":0},null,null,{"$f":"COUNTIF('EQUIPMENT INVENTORY'!$B:$B,'LABOR-EQUIP'!$B730)","v":0}]
[null,"Employee/\nEquipment",null,"RATE w/","REQUEST #","COST CODE","RATE",null,null,null,null,null,null,null,"REG","OT1","OT2","REG TIME\nCOST","OT1\nCOST","OT2\nCOST",{"$f":"COUNTIF('EQUIPMENT INVENTORY'!$B:$B,'LABOR-EQUIP'!$B731)","v":0}]
[null,null,null,"FRINGE",null,null,null,null,null,null,null,null,null,null,null,null,null,null,null,null,{"$f":"COUNTIF('EQUIPMENT INVENTORY'!$B:$B,'LABOR-EQUIP'!$B732)","v":0}]
[null,null,"REG",{"$f":"IF(ISBLANK(B733),0,VLOOKUP(B733,'PAYROLL RECORD'!$B$8:$V$2005,18,FALSE))","v":0},null,null,null,null,null,null,null,null,null,null,{"$f":"SUM($H733:$N733)","v":0},null,null,{"$f":"IFERROR(D733*O733,\"\")","v":0},null,null,{"$f":"COUNTIF('EQUIPMENT INVENTORY'!$B:$B,'LABOR-EQUIP'!$B733)","v":0}]
[null,{"$f":"IF(ISBLANK(B733),\" \",VLOOKUP(B733,'PAYROLL RECORD'!$B$9:$C$10740,2,FALSE))","v":" "},"OT1",{"$f":"IF(ISBLANK(B733),0,VLOOKUP(B733,'PAYROLL RECORD'!$B$8:$V$2005,19,FALSE))","v":0},{"$f":"+E733","v":0},null,null,null,null,null,null,null,null,null,null,{"$f":"SUM(H734:N734)","v":0},null,null,{"$f":"IF(E734<>\"e\",P734*D734,0)","v":0},null,{"$f":"COUNTIF('EQUIPMENT INVENTORY'!$B:$B,'LABOR-EQUIP'!$B734)","v":0}]
[null,null,"OT2",{"$f":"IF(ISBLANK(B733),0,VLOOKUP(B733,'PAYROLL RECORD'!$B$8:$V$2005,20,FALSE))","v":0},{"$f":"+E734","v":0},null,null,null,null,null,null,null,null,null,null,null,{"$f":"SUM(H735:N735)","v":0},null,null,{"$f":"IF(E735<>\"E\",Q735*D735,0)","v":0},{"$f":"COUNTIF('EQUIPMENT INVENTORY'!$B:$B,'LABOR-EQUIP'!$B735)","v":0}]
[null,"Select type of activity(s).  See ELIGIBLE ACTIVITIES tab for complete descriptions and instructions.  Choose as many activities as applicable for each day/date. ",null,null,null,null,null,null,null,null,null,null,null,null,null,null,null,null,null,null,{"$f":"COUNTIF('EQUIPMENT INVENTORY'!$B:$B,'LABOR-EQUIP'!$B736)","v":0}]
[null,null,null,null,{"$f":"+E735","v":0},{"$f":"IF(ISBLANK(B737),0,VLOOKUP(B737,'EQUIPMENT INVENTORY'!$B$7:$AK$1021,7,0))","v":0},{"$f":"IF(ISBLANK(B737),0,VLOOKUP(B737,'EQUIPMENT INVENTORY'!$B$7:$AK$1021,8,0))","v":0},null,null,null,null,null,null,null,{"$f":"SUM($H737:$N737)","v":0},null,null,{"$f":"O737*G737","v":0},null,null,{"$f":"COUNTIF('EQUIPMENT INVENTORY'!$B:$B,'LABOR-EQUIP'!$B737)","v":0}]
[null,null,null,null,0,{"$f":"IF(ISBLANK(B738),0,VLOOKUP(B738,'EQUIPMENT INVENTORY'!$B$7:$AK$1021,7,0))","v":0},{"$f":"IF(ISBLANK(B738),0,VLOOKUP(B738,'EQUIPMENT INVENTORY'!$B$7:$AK$1021,8,0))","v":0},null,null,null,null,null,null,null,{"$f":"SUM($H738:$N738)","v":0},null,null,{"$f":"O738*G738","v":0},null,null,{"$f":"COUNTIF('EQUIPMENT INVENTORY'!$B:$B,'LABOR-EQUIP'!$B738)","v":0}]
[null,null,null,null,0,{"$f":"IF(ISBLANK(B739),0,VLOOKUP(B739,'EQUIPMENT INVENTORY'!$B$7:$AK$1021,7,0))","v":0},{"$f":"IF(ISBLANK(B739),0,VLOOKUP(B739,'EQUIPMENT INVENTORY'!$B$7:$AK$1021,8,0))","v":0},null,null,null,null,null,null,null,{"$f":"SUM($H739:$N739)","v":0},null,null,{"$f":"O739*G739","v":0},null,null,{"$f":"COUNTIF('EQUIPMENT INVENTORY'!$B:$B,'LABOR-EQUIP'!$B739)","v":0}]
[null,null,null,null,null,null,null,null,null,null,null,null,"LABOR - Page Total",null,{"$f":"O697+O706+O715+O724+O733","v":0},{"$f":"P698+P707+P716+P725+P734","v":0},{"$f":"Q699+Q708+Q717+Q726+Q735","v":0},{"$f":"R697+R706+R715+R724+R733","v":0},{"$f":"S698+S707+S716+S725+S734","v":0},{"$f":"T699+T708+T717+T726+T735","v":0}]
[null,null,null,null,null,null,null,null,null,null,null,null,"EQUIPMENT - Page Total",null,{"$f":"O701+O702+O703+O710+O711+O712+O719+O720+O721+O728+O729+O730+O737+O738+O739","v":0},null,null,{"$f":"R701+R702+R703+R710+R711+R712+R719+R720+R721+R728+R729+R730+R737+R738+R739","v":0}]
[null,null,null,null,null,null,null,null,null,null,null,null,"LABOR - Grand Total",null,{"$f":"SUM($AA:$AA)","v":0},{"$f":"SUM(AB:AB)","v":0},{"$f":"SUM(AC:AC)","v":0},{"$f":"SUM(AD:AD)","v":0},{"$f":"SUM(AE:AE)","v":0},{"$f":"SUM(AF:AF)","v":0},null,null,null,null,null,null,{"$f":"O740","v":0},{"$f":"P740","v":0},{"$f":"Q740","v":0},{"$f":"R740","v":0},{"$f":"S740","v":0},{"$f":"T740","v":0}]
[null,null,null,null,null,null,null,null,null,null,null,null,"EQUIPMENT - Grand Total",null,{"$f":"SUM(AG:AG)","v":0},null,null,{"$f":"SUM(AH:AH)","v":0},null,null,null,null,null,null,null,null,null,null,null,null,null,null,{"$f":"O741","v":0},{"$f":"R741","v":0}]
[]
[]
[null,"APPLICANT NAME",null,null,"DISASTER #",null,null,"PLEASE ENTER DATES FOR EACH DAY WORKED.  THIS ALLOWS FOR TRACKING OF COSTS OVER MULTIPLE DAYS, WEEKS AND/OR YEARS.  USE THE FIRST ROW FOR MONTH/DAY AND THE SECOND ROW FOR YEAR.  DATES DO NOT NEED TO BE CONSECUTIVE. ",null,null,null,null,null,null,"DISASTER TITLE"]
[null,{"$f":"IF('PAYROLL RECORD'!B747=\"\",\"\",'PAYROLL RECORD'!B747)","v":""},null,null,{"$f":"IF('PAYROLL RECORD'!D747=\"\",\"\",'PAYROLL RECORD'!D747)","v":""},null,null,null,null,null,null,null,null,null,{"$f":"IF('PAYROLL RECORD'!G747=\"\",\"\",'PAYROLL RECORD'!G747)","v":""}]
[null,"Employee/\nEquipment",null,"RATE w/","REQUEST #","COST CODE","RATE",null,null,null,null,null,null,null,"REG","OT1","OT2","REG TIME\nCOST","OT1\nCOST","OT2\nCOST"]
[null,null,null,"FRINGE"]
[null,null,"REG",{"$f":"IF(ISBLANK(B750),0,VLOOKUP(B750,'PAYROLL RECORD'!$B$8:$V$2005,18,FALSE))","v":0},null,null,null,null,null,null,null,null,null,null,{"$f":"SUM($H750:$N750)","v":0},null,null,{"$f":"IFERROR(D750*O750,\"\")","v":0},null,null,{"$f":"COUNTIF('EQUIPMENT INVENTORY'!$B:$B,'LABOR-EQUIP'!$B750)","v":0}]
[null,{"$f":"IF(ISBLANK(B750),\" \",VLOOKUP(B750,'PAYROLL RECORD'!$B$9:$C$10740,2,FALSE))","v":" "},"OT1",{"$f":"IF(ISBLANK(B750),0,VLOOKUP(B750,'PAYROLL RECORD'!$B$8:$V$2005,19,FALSE))","v":0},{"$f":"+E750","v":0},null,null,null,null,null,null,null,null,null,null,{"$f":"SUM(H751:N751)","v":0},null,null,{"$f":"IFERROR(P751*D751,\"\")","v":0},null,{"$f":"COUNTIF('EQUIPMENT INVENTORY'!$B:$B,'LABOR-EQUIP'!$B751)","v":0}]
[null,null,"OT2",{"$f":"IF(ISBLANK(B750),0,VLOOKUP(B750,'PAYROLL RECORD'!$B$8:$V$2005,20,FALSE))","v":0},{"$f":"+E750","v":0},null,null,null,null,null,null,null,null,null,null,null,{"$f":"SUM(H752:N752)","v":0},null,null,{"$f":"IFERROR(Q752*D752,\"\")","v":0},{"$f":"COUNTIF('EQUIPMENT INVENTORY'!$B:$B,'LABOR-EQUIP'!$B752)","v":0}]
[null,"Select type of activity(s).  See ELIGIBLE ACTIVITIES tab for complete descriptions and instructions.  Choose as many activities as applicable for each day/date. ",null,null,null,null,null,null,null,null,null,null,null,null,null,null,null,null,null,null,{"$f":"COUNTIF('EQUIPMENT INVENTORY'!$B:$B,'LABOR-EQUIP'!$B753)","v":0}]
[null,null,null,null,{"$f":"+E750","v":0},{"$f":"IF(ISBLANK(B754),0,VLOOKUP(B754,'EQUIPMENT INVENTORY'!$B$7:$AK$1021,7,0))","v":0},{"$f":"IF(ISBLANK(B754),0,VLOOKUP(B754,'EQUIPMENT INVENTORY'!$B$7:$AK$1021,8,0))","v":0},null,null,null,null,null,null,null,{"$f":"SUM($H754:$N754)","v":0},null,null,{"$f":"O754*G754","v":0},null,null,{"$f":"COUNTIF('EQUIPMENT INVENTORY'!$B:$B,'LABOR-EQUIP'!$B754)","v":0}]
[null,null,null,null,{"$f":"+E750","v":0},{"$f":"IF(ISBLANK(B755),0,VLOOKUP(B755,'EQUIPMENT INVENTORY'!$B$7:$AK$1021,7,0))","v":0},{"$f":"IF(ISBLANK(B755),0,VLOOKUP(B755,'EQUIPMENT INVENTORY'!$B$7:$AK$1021,8,0))","v":0},null,null,null,null,null,null,null,{"$f":"SUM($H755:$N755)","v":0},null,null,{"$f":"O755*G755","v":0},null,null,{"$f":"COUNTIF('EQUIPMENT INVENTORY'!$B:$B,'LABOR-EQUIP'!$B755)","v":0}]
[null,null,null,null,{"$f":"+E750","v":0},{"$f":"IF(ISBLANK(B756),0,VLOOKUP(B756,'EQUIPMENT INVENTORY'!$B$7:$AK$1021,7,0))","v":0},{"$f":"IF(ISBLANK(B756),0,VLOOKUP(B756,'EQUIPMENT INVENTORY'!$B$7:$AK$1021,8,0))","v":0},null,null,null,null,null,null,null,{"$f":"SUM($H756:$N756)","v":0},null,null,{"$f":"O756*G756","v":0},null,null,{"$f":"COUNTIF('EQUIPMENT INVENTORY'!$B:$B,'LABOR-EQUIP'!$B756)","v":0}]
[null,"Employee/\nEquipment",null,"RATE w/","REQUEST #","COST CODE","RATE",null,null,null,null,null,null,null,"REG","OT1","OT2","REG TIME\nCOST","OT1\nCOST","OT2\nCOST",{"$f":"COUNTIF('EQUIPMENT INVENTORY'!$B:$B,'LABOR-EQUIP'!$B757)","v":0}]
[null,null,null,"FRINGE",null,null,null,null,null,null,null,null,null,null,null,null,null,null,null,null,{"$f":"COUNTIF('EQUIPMENT INVENTORY'!$B:$B,'LABOR-EQUIP'!$B758)","v":0}]
[null,null,"REG",{"$f":"IF(ISBLANK(B759),0,VLOOKUP(B759,'PAYROLL RECORD'!$B$8:$V$2005,18,FALSE))","v":0},null,null,null,null,null,null,null,null,null,null,{"$f":"SUM($H759:$N759)","v":0},null,null,{"$f":"IFERROR(D759*O759,\"\")","v":0},null,null,{"$f":"COUNTIF('EQUIPMENT INVENTORY'!$B:$B,'LABOR-EQUIP'!$B759)","v":0}]
[null,{"$f":"IF(ISBLANK(B759),\" \",VLOOKUP(B759,'PAYROLL RECORD'!$B$9:$C$10740,2,FALSE))","v":" "},"OT1",{"$f":"IF(ISBLANK(B759),0,VLOOKUP(B759,'PAYROLL RECORD'!$B$8:$V$2005,19,FALSE))","v":0},{"$f":"+E759","v":0},null,null,null,null,null,null,null,null,null,null,{"$f":"SUM(H760:N760)","v":0},null,null,{"$f":"IF(E760<>\"e\",P760*D760,0)","v":0},null,{"$f":"COUNTIF('EQUIPMENT INVENTORY'!$B:$B,'LABOR-EQUIP'!$B760)","v":0}]
[null,null,"OT2",{"$f":"IF(ISBLANK(B759),0,VLOOKUP(B759,'PAYROLL RECORD'!$B$8:$V$2005,20,FALSE))","v":0},{"$f":"+E760","v":0},null,null,null,null,null,null,null,null,null,null,null,{"$f":"SUM(H761:N761)","v":0},null,null,{"$f":"IF(E761<>\"E\",Q761*D761,0)","v":0},{"$f":"COUNTIF('EQUIPMENT INVENTORY'!$B:$B,'LABOR-EQUIP'!$B761)","v":0}]
[null,"Select type of activity(s).  See ELIGIBLE ACTIVITIES tab for complete descriptions and instructions.  Choose as many activities as applicable for each day/date. ",null,null,null,null,null,null,null,null,null,null,null,null,null,null,null,null,null,null,{"$f":"COUNTIF('EQUIPMENT INVENTORY'!$B:$B,'LABOR-EQUIP'!$B762)","v":0}]
[null,null,null,null,{"$f":"+E761","v":0},{"$f":"IF(ISBLANK(B763),0,VLOOKUP(B763,'EQUIPMENT INVENTORY'!$B$7:$AK$1021,7,0))","v":0},{"$f":"IF(ISBLANK(B763),0,VLOOKUP(B763,'EQUIPMENT INVENTORY'!$B$7:$AK$1021,8,0))","v":0},null,null,null,null,null,null,null,{"$f":"SUM($H763:$N763)","v":0},null,null,{"$f":"O763*G763","v":0},null,null,{"$f":"COUNTIF('EQUIPMENT INVENTORY'!$B:$B,'LABOR-EQUIP'!$B763)","v":0}]
[null,null,null,null,0,{"$f":"IF(ISBLANK(B764),0,VLOOKUP(B764,'EQUIPMENT INVENTORY'!$B$7:$AK$1021,7,0))","v":0},{"$f":"IF(ISBLANK(B764),0,VLOOKUP(B764,'EQUIPMENT INVENTORY'!$B$7:$AK$1021,8,0))","v":0},null,null,null,null,null,null,null,{"$f":"SUM($H764:$N764)","v":0},null,null,{"$f":"O764*G764","v":0},null,null,{"$f":"COUNTIF('EQUIPMENT INVENTORY'!$B:$B,'LABOR-EQUIP'!$B764)","v":0}]
[null,null,null,null,0,{"$f":"IF(ISBLANK(B765),0,VLOOKUP(B765,'EQUIPMENT INVENTORY'!$B$7:$AK$1021,7,0))","v":0},{"$f":"IF(ISBLANK(B765),0,VLOOKUP(B765,'EQUIPMENT INVENTORY'!$B$7:$AK$1021,8,0))","v":0},null,null,null,null,null,null,null,{"$f":"SUM($H765:$N765)","v":0},null,null,{"$f":"O765*G765","v":0},null,null,{"$f":"COUNTIF('EQUIPMENT INVENTORY'!$B:$B,'LABOR-EQUIP'!$B765)","v":0}]
[null,"Employee/\nEquipment",null,"RATE w/","REQUEST #","COST CODE","RATE",null,null,null,null,null,null,null,"REG","OT1","OT2","REG TIME\nCOST","OT1\nCOST","OT2\nCOST",{"$f":"COUNTIF('EQUIPMENT INVENTORY'!$B:$B,'LABOR-EQUIP'!$B766)","v":0}]
[null,null,null,"FRINGE",null,null,null,null,null,null,null,null,null,null,null,null,null,null,null,null,{"$f":"COUNTIF('EQUIPMENT INVENTORY'!$B:$B,'LABOR-EQUIP'!$B767)","v":0}]
[null,null,"REG",{"$f":"IF(ISBLANK(B768),0,VLOOKUP(B768,'PAYROLL RECORD'!$B$8:$V$2005,18,FALSE))","v":0},null,null,null,null,null,null,null,null,null,null,{"$f":"SUM($H768:$N768)","v":0},null,null,{"$f":"IFERROR(D768*O768,\"\")","v":0},null,null,{"$f":"COUNTIF('EQUIPMENT INVENTORY'!$B:$B,'LABOR-EQUIP'!$B768)","v":0}]
[null,{"$f":"IF(ISBLANK(B768),\" \",VLOOKUP(B768,'PAYROLL RECORD'!$B$9:$C$10740,2,FALSE))","v":" "},"OT1",{"$f":"IF(ISBLANK(B768),0,VLOOKUP(B768,'PAYROLL RECORD'!$B$8:$V$2005,19,FALSE))","v":0},{"$f":"+E768","v":0},null,null,null,null,null,null,null,null,null,null,{"$f":"SUM(H769:N769)","v":0},null,null,{"$f":"IF(E769<>\"e\",P769*D769,0)","v":0},null,{"$f":"COUNTIF('EQUIPMENT INVENTORY'!$B:$B,'LABOR-EQUIP'!$B769)","v":0}]
[null,null,"OT2",{"$f":"IF(ISBLANK(B768),0,VLOOKUP(B768,'PAYROLL RECORD'!$B$8:$V$2005,20,FALSE))","v":0},{"$f":"+E769","v":0},null,null,null,null,null,null,null,null,null,null,null,{"$f":"SUM(H770:N770)","v":0},null,null,{"$f":"IF(E770<>\"E\",Q770*D770,0)","v":0},{"$f":"COUNTIF('EQUIPMENT INVENTORY'!$B:$B,'LABOR-EQUIP'!$B770)","v":0}]
[null,"Select type of activity(s).  See ELIGIBLE ACTIVITIES tab for complete descriptions and instructions.  Choose as many activities as applicable for each day/date. ",null,null,null,null,null,null,null,null,null,null,null,null,null,null,null,null,null,null,{"$f":"COUNTIF('EQUIPMENT INVENTORY'!$B:$B,'LABOR-EQUIP'!$B771)","v":0}]
[null,null,null,null,{"$f":"+E770","v":0},{"$f":"IF(ISBLANK(B772),0,VLOOKUP(B772,'EQUIPMENT INVENTORY'!$B$7:$AK$1021,7,0))","v":0},{"$f":"IF(ISBLANK(B772),0,VLOOKUP(B772,'EQUIPMENT INVENTORY'!$B$7:$AK$1021,8,0))","v":0},null,null,null,null,null,null,null,{"$f":"SUM($H772:$N772)","v":0},null,null,{"$f":"O772*G772","v":0},null,null,{"$f":"COUNTIF('EQUIPMENT INVENTORY'!$B:$B,'LABOR-EQUIP'!$B772)","v":0}]
[null,null,null,null,0,{"$f":"IF(ISBLANK(B773),0,VLOOKUP(B773,'EQUIPMENT INVENTORY'!$B$7:$AK$1021,7,0))","v":0},{"$f":"IF(ISBLANK(B773),0,VLOOKUP(B773,'EQUIPMENT INVENTORY'!$B$7:$AK$1021,8,0))","v":0},null,null,null,null,null,null,null,{"$f":"SUM($H773:$N773)","v":0},null,null,{"$f":"O773*G773","v":0},null,null,{"$f":"COUNTIF('EQUIPMENT INVENTORY'!$B:$B,'LABOR-EQUIP'!$B773)","v":0}]
[null,null,null,null,0,{"$f":"IF(ISBLANK(B774),0,VLOOKUP(B774,'EQUIPMENT INVENTORY'!$B$7:$AK$1021,7,0))","v":0},{"$f":"IF(ISBLANK(B774),0,VLOOKUP(B774,'EQUIPMENT INVENTORY'!$B$7:$AK$1021,8,0))","v":0},null,null,null,null,null,null,null,{"$f":"SUM($H774:$N774)","v":0},null,null,{"$f":"O774*G774","v":0},null,null,{"$f":"COUNTIF('EQUIPMENT INVENTORY'!$B:$B,'LABOR-EQUIP'!$B774)","v":0}]
[null,"Employee/\nEquipment",null,"RATE w/","REQUEST #","COST CODE","RATE",null,null,null,null,null,null,null,"REG","OT1","OT2","REG TIME\nCOST","OT1\nCOST","OT2\nCOST",{"$f":"COUNTIF('EQUIPMENT INVENTORY'!$B:$B,'LABOR-EQUIP'!$B775)","v":0}]
[null,null,null,"FRINGE",null,null,null,null,null,null,null,null,null,null,null,null,null,null,null,null,{"$f":"COUNTIF('EQUIPMENT INVENTORY'!$B:$B,'LABOR-EQUIP'!$B776)","v":0}]
[null,null,"REG",{"$f":"IF(ISBLANK(B777),0,VLOOKUP(B777,'PAYROLL RECORD'!$B$8:$V$2005,18,FALSE))","v":0},null,null,null,null,null,null,null,null,null,null,{"$f":"SUM($H777:$N777)","v":0},null,null,{"$f":"IFERROR(D777*O777,\"\")","v":0},null,null,{"$f":"COUNTIF('EQUIPMENT INVENTORY'!$B:$B,'LABOR-EQUIP'!$B777)","v":0}]
[null,{"$f":"IF(ISBLANK(B777),\" \",VLOOKUP(B777,'PAYROLL RECORD'!$B$9:$C$10740,2,FALSE))","v":" "},"OT1",{"$f":"IF(ISBLANK(B777),0,VLOOKUP(B777,'PAYROLL RECORD'!$B$8:$V$2005,19,FALSE))","v":0},{"$f":"+E777","v":0},null,null,null,null,null,null,null,null,null,null,{"$f":"SUM(H778:N778)","v":0},null,null,{"$f":"IF(E778<>\"e\",P778*D778,0)","v":0},null,{"$f":"COUNTIF('EQUIPMENT INVENTORY'!$B:$B,'LABOR-EQUIP'!$B778)","v":0}]
[null,null,"OT2",{"$f":"IF(ISBLANK(B777),0,VLOOKUP(B777,'PAYROLL RECORD'!$B$8:$V$2005,20,FALSE))","v":0},{"$f":"+E778","v":0},null,null,null,null,null,null,null,null,null,null,null,{"$f":"SUM(H779:N779)","v":0},null,null,{"$f":"IF(E779<>\"E\",Q779*D779,0)","v":0},{"$f":"COUNTIF('EQUIPMENT INVENTORY'!$B:$B,'LABOR-EQUIP'!$B779)","v":0}]
[null,"Select type of activity(s).  See ELIGIBLE ACTIVITIES tab for complete descriptions and instructions.  Choose as many activities as applicable for each day/date. ",null,null,null,null,null,null,null,null,null,null,null,null,null,null,null,null,null,null,{"$f":"COUNTIF('EQUIPMENT INVENTORY'!$B:$B,'LABOR-EQUIP'!$B780)","v":0}]
[null,null,null,null,{"$f":"+E779","v":0},{"$f":"IF(ISBLANK(B781),0,VLOOKUP(B781,'EQUIPMENT INVENTORY'!$B$7:$AK$1021,7,0))","v":0},{"$f":"IF(ISBLANK(B781),0,VLOOKUP(B781,'EQUIPMENT INVENTORY'!$B$7:$AK$1021,8,0))","v":0},null,null,null,null,null,null,null,{"$f":"SUM($H781:$N781)","v":0},null,null,{"$f":"O781*G781","v":0},null,null,{"$f":"COUNTIF('EQUIPMENT INVENTORY'!$B:$B,'LABOR-EQUIP'!$B781)","v":0}]
[null,null,null,null,0,{"$f":"IF(ISBLANK(B782),0,VLOOKUP(B782,'EQUIPMENT INVENTORY'!$B$7:$AK$1021,7,0))","v":0},{"$f":"IF(ISBLANK(B782),0,VLOOKUP(B782,'EQUIPMENT INVENTORY'!$B$7:$AK$1021,8,0))","v":0},null,null,null,null,null,null,null,{"$f":"SUM($H782:$N782)","v":0},null,null,{"$f":"O782*G782","v":0},null,null,{"$f":"COUNTIF('EQUIPMENT INVENTORY'!$B:$B,'LABOR-EQUIP'!$B782)","v":0}]
[null,null,null,null,0,{"$f":"IF(ISBLANK(B783),0,VLOOKUP(B783,'EQUIPMENT INVENTORY'!$B$7:$AK$1021,7,0))","v":0},{"$f":"IF(ISBLANK(B783),0,VLOOKUP(B783,'EQUIPMENT INVENTORY'!$B$7:$AK$1021,8,0))","v":0},null,null,null,null,null,null,null,{"$f":"SUM($H783:$N783)","v":0},null,null,{"$f":"O783*G783","v":0},null,null,{"$f":"COUNTIF('EQUIPMENT INVENTORY'!$B:$B,'LABOR-EQUIP'!$B783)","v":0}]
[null,"Employee/\nEquipment",null,"RATE w/","REQUEST #","COST CODE","RATE",null,null,null,null,null,null,null,"REG","OT1","OT2","REG TIME\nCOST","OT1\nCOST","OT2\nCOST",{"$f":"COUNTIF('EQUIPMENT INVENTORY'!$B:$B,'LABOR-EQUIP'!$B784)","v":0}]
[null,null,null,"FRINGE",null,null,null,null,null,null,null,null,null,null,null,null,null,null,null,null,{"$f":"COUNTIF('EQUIPMENT INVENTORY'!$B:$B,'LABOR-EQUIP'!$B785)","v":0}]
[null,null,"REG",{"$f":"IF(ISBLANK(B786),0,VLOOKUP(B786,'PAYROLL RECORD'!$B$8:$V$2005,18,FALSE))","v":0},null,null,null,null,null,null,null,null,null,null,{"$f":"SUM($H786:$N786)","v":0},null,null,{"$f":"IFERROR(D786*O786,\"\")","v":0},null,null,{"$f":"COUNTIF('EQUIPMENT INVENTORY'!$B:$B,'LABOR-EQUIP'!$B786)","v":0}]
[null,{"$f":"IF(ISBLANK(B786),\" \",VLOOKUP(B786,'PAYROLL RECORD'!$B$9:$C$10740,2,FALSE))","v":" "},"OT1",{"$f":"IF(ISBLANK(B786),0,VLOOKUP(B786,'PAYROLL RECORD'!$B$8:$V$2005,19,FALSE))","v":0},{"$f":"+E786","v":0},null,null,null,null,null,null,null,null,null,null,{"$f":"SUM(H787:N787)","v":0},null,null,{"$f":"IF(E787<>\"e\",P787*D787,0)","v":0},null,{"$f":"COUNTIF('EQUIPMENT INVENTORY'!$B:$B,'LABOR-EQUIP'!$B787)","v":0}]
[null,null,"OT2",{"$f":"IF(ISBLANK(B786),0,VLOOKUP(B786,'PAYROLL RECORD'!$B$8:$V$2005,20,FALSE))","v":0},{"$f":"+E787","v":0},null,null,null,null,null,null,null,null,null,null,null,{"$f":"SUM(H788:N788)","v":0},null,null,{"$f":"IF(E788<>\"E\",Q788*D788,0)","v":0},{"$f":"COUNTIF('EQUIPMENT INVENTORY'!$B:$B,'LABOR-EQUIP'!$B788)","v":0}]
[null,"Select type of activity(s).  See ELIGIBLE ACTIVITIES tab for complete descriptions and instructions.  Choose as many activities as applicable for each day/date. ",null,null,null,null,null,null,null,null,null,null,null,null,null,null,null,null,null,null,{"$f":"COUNTIF('EQUIPMENT INVENTORY'!$B:$B,'LABOR-EQUIP'!$B789)","v":0}]
[null,null,null,null,{"$f":"+E788","v":0},{"$f":"IF(ISBLANK(B790),0,VLOOKUP(B790,'EQUIPMENT INVENTORY'!$B$7:$AK$1021,7,0))","v":0},{"$f":"IF(ISBLANK(B790),0,VLOOKUP(B790,'EQUIPMENT INVENTORY'!$B$7:$AK$1021,8,0))","v":0},null,null,null,null,null,null,null,{"$f":"SUM($H790:$N790)","v":0},null,null,{"$f":"O790*G790","v":0},null,null,{"$f":"COUNTIF('EQUIPMENT INVENTORY'!$B:$B,'LABOR-EQUIP'!$B790)","v":0}]
[null,null,null,null,0,{"$f":"IF(ISBLANK(B791),0,VLOOKUP(B791,'EQUIPMENT INVENTORY'!$B$7:$AK$1021,7,0))","v":0},{"$f":"IF(ISBLANK(B791),0,VLOOKUP(B791,'EQUIPMENT INVENTORY'!$B$7:$AK$1021,8,0))","v":0},null,null,null,null,null,null,null,{"$f":"SUM($H791:$N791)","v":0},null,null,{"$f":"O791*G791","v":0},null,null,{"$f":"COUNTIF('EQUIPMENT INVENTORY'!$B:$B,'LABOR-EQUIP'!$B791)","v":0}]
[null,null,null,null,0,{"$f":"IF(ISBLANK(B792),0,VLOOKUP(B792,'EQUIPMENT INVENTORY'!$B$7:$AK$1021,7,0))","v":0},{"$f":"IF(ISBLANK(B792),0,VLOOKUP(B792,'EQUIPMENT INVENTORY'!$B$7:$AK$1021,8,0))","v":0},null,null,null,null,null,null,null,{"$f":"SUM($H792:$N792)","v":0},null,null,{"$f":"O792*G792","v":0},null,null,{"$f":"COUNTIF('EQUIPMENT INVENTORY'!$B:$B,'LABOR-EQUIP'!$B792)","v":0}]
[null,null,null,null,null,null,null,null,null,null,null,null,"LABOR - Page Total",null,{"$f":"O750+O759+O768+O777+O786","v":0},{"$f":"P751+P760+P769+P778+P787","v":0},{"$f":"Q752+Q761+Q770+Q779+Q788","v":0},{"$f":"R750+R759+R768+R777+R786","v":0},{"$f":"S751+S760+S769+S778+S787","v":0},{"$f":"T752+T761+T770+T779+T788","v":0}]
[null,null,null,null,null,null,null,null,null,null,null,null,"EQUIPMENT - Page Total",null,{"$f":"O754+O755+O756+O763+O764+O765+O772+O773+O774+O781+O782+O783+O790+O791+O792","v":0},null,null,{"$f":"R754+R755+R756+R763+R764+R765+R772+R773+R774+R781+R782+R783+R790+R791+R792","v":0}]
[null,null,null,null,null,null,null,null,null,null,null,null,"LABOR - Grand Total",null,{"$f":"SUM($AA:$AA)","v":0},{"$f":"SUM(AB:AB)","v":0},{"$f":"SUM(AC:AC)","v":0},{"$f":"SUM(AD:AD)","v":0},{"$f":"SUM(AE:AE)","v":0},{"$f":"SUM(AF:AF)","v":0},null,null,null,null,null,null,{"$f":"O793","v":0},{"$f":"P793","v":0},{"$f":"Q793","v":0},{"$f":"R793","v":0},{"$f":"S793","v":0},{"$f":"T793","v":0}]
[null,null,null,null,null,null,null,null,null,null,null,null,"EQUIPMENT - Grand Total",null,{"$f":"SUM(AG:AG)","v":0},null,null,{"$f":"SUM(AH:AH)","v":0},null,null,null,null,null,null,null,null,null,null,null,null,null,null,{"$f":"O794","v":0},{"$f":"R794","v":0}]
[]
[]
[null,"APPLICANT NAME",null,null,"DISASTER #",null,null,"PLEASE ENTER DATES FOR EACH DAY WORKED.  THIS ALLOWS FOR TRACKING OF COSTS OVER MULTIPLE DAYS, WEEKS AND/OR YEARS.  USE THE FIRST ROW FOR MONTH/DAY AND THE SECOND ROW FOR YEAR.  DATES DO NOT NEED TO BE CONSECUTIVE. ",null,null,null,null,null,null,"DISASTER TITLE"]
[null,{"$f":"IF('PAYROLL RECORD'!B800=\"\",\"\",'PAYROLL RECORD'!B800)","v":""},null,null,{"$f":"IF('PAYROLL RECORD'!D800=\"\",\"\",'PAYROLL RECORD'!D800)","v":""},null,null,null,null,null,null,null,null,null,{"$f":"IF('PAYROLL RECORD'!G800=\"\",\"\",'PAYROLL RECORD'!G800)","v":""}]
[null,"Employee/\nEquipment",null,"RATE w/","REQUEST #","COST CODE","RATE",null,null,null,null,null,null,null,"REG","OT1","OT2","REG TIME\nCOST","OT1\nCOST","OT2\nCOST"]
[null,null,null,"FRINGE"]
[null,null,"REG",{"$f":"IF(ISBLANK(B803),0,VLOOKUP(B803,'PAYROLL RECORD'!$B$8:$V$2005,18,FALSE))","v":0},null,null,null,null,null,null,null,null,null,null,{"$f":"SUM($H803:$N803)","v":0},null,null,{"$f":"IFERROR(D803*O803,\"\")","v":0},null,null,{"$f":"COUNTIF('EQUIPMENT INVENTORY'!$B:$B,'LABOR-EQUIP'!$B803)","v":0}]
[null,{"$f":"IF(ISBLANK(B803),\" \",VLOOKUP(B803,'PAYROLL RECORD'!$B$9:$C$10740,2,FALSE))","v":" "},"OT1",{"$f":"IF(ISBLANK(B803),0,VLOOKUP(B803,'PAYROLL RECORD'!$B$8:$V$2005,19,FALSE))","v":0},{"$f":"+E803","v":0},null,null,null,null,null,null,null,null,null,null,{"$f":"SUM(H804:N804)","v":0},null,null,{"$f":"IFERROR(P804*D804,\"\")","v":0},null,{"$f":"COUNTIF('EQUIPMENT INVENTORY'!$B:$B,'LABOR-EQUIP'!$B804)","v":0}]
[null,null,"OT2",{"$f":"IF(ISBLANK(B803),0,VLOOKUP(B803,'PAYROLL RECORD'!$B$8:$V$2005,20,FALSE))","v":0},{"$f":"+E803","v":0},null,null,null,null,null,null,null,null,null,null,null,{"$f":"SUM(H805:N805)","v":0},null,null,{"$f":"IFERROR(Q805*D805,\"\")","v":0},{"$f":"COUNTIF('EQUIPMENT INVENTORY'!$B:$B,'LABOR-EQUIP'!$B805)","v":0}]
[null,"Select type of activity(s).  See ELIGIBLE ACTIVITIES tab for complete descriptions and instructions.  Choose as many activities as applicable for each day/date. ",null,null,null,null,null,null,null,null,null,null,null,null,null,null,null,null,null,null,{"$f":"COUNTIF('EQUIPMENT INVENTORY'!$B:$B,'LABOR-EQUIP'!$B806)","v":0}]
[null,null,null,null,{"$f":"+E803","v":0},{"$f":"IF(ISBLANK(B807),0,VLOOKUP(B807,'EQUIPMENT INVENTORY'!$B$7:$AK$1021,7,0))","v":0},{"$f":"IF(ISBLANK(B807),0,VLOOKUP(B807,'EQUIPMENT INVENTORY'!$B$7:$AK$1021,8,0))","v":0},null,null,null,null,null,null,null,{"$f":"SUM($H807:$N807)","v":0},null,null,{"$f":"O807*G807","v":0},null,null,{"$f":"COUNTIF('EQUIPMENT INVENTORY'!$B:$B,'LABOR-EQUIP'!$B807)","v":0}]
[null,null,null,null,{"$f":"+E803","v":0},{"$f":"IF(ISBLANK(B808),0,VLOOKUP(B808,'EQUIPMENT INVENTORY'!$B$7:$AK$1021,7,0))","v":0},{"$f":"IF(ISBLANK(B808),0,VLOOKUP(B808,'EQUIPMENT INVENTORY'!$B$7:$AK$1021,8,0))","v":0},null,null,null,null,null,null,null,{"$f":"SUM($H808:$N808)","v":0},null,null,{"$f":"O808*G808","v":0},null,null,{"$f":"COUNTIF('EQUIPMENT INVENTORY'!$B:$B,'LABOR-EQUIP'!$B808)","v":0}]
[null,null,null,null,{"$f":"+E803","v":0},{"$f":"IF(ISBLANK(B809),0,VLOOKUP(B809,'EQUIPMENT INVENTORY'!$B$7:$AK$1021,7,0))","v":0},{"$f":"IF(ISBLANK(B809),0,VLOOKUP(B809,'EQUIPMENT INVENTORY'!$B$7:$AK$1021,8,0))","v":0},null,null,null,null,null,null,null,{"$f":"SUM($H809:$N809)","v":0},null,null,{"$f":"O809*G809","v":0},null,null,{"$f":"COUNTIF('EQUIPMENT INVENTORY'!$B:$B,'LABOR-EQUIP'!$B809)","v":0}]
[null,"Employee/\nEquipment",null,"RATE w/","REQUEST #","COST CODE","RATE",null,null,null,null,null,null,null,"REG","OT1","OT2","REG TIME\nCOST","OT1\nCOST","OT2\nCOST",{"$f":"COUNTIF('EQUIPMENT INVENTORY'!$B:$B,'LABOR-EQUIP'!$B810)","v":0}]
[null,null,null,"FRINGE",null,null,null,null,null,null,null,null,null,null,null,null,null,null,null,null,{"$f":"COUNTIF('EQUIPMENT INVENTORY'!$B:$B,'LABOR-EQUIP'!$B811)","v":0}]
[null,null,"REG",{"$f":"IF(ISBLANK(B812),0,VLOOKUP(B812,'PAYROLL RECORD'!$B$8:$V$2005,18,FALSE))","v":0},null,null,null,null,null,null,null,null,null,null,{"$f":"SUM($H812:$N812)","v":0},null,null,{"$f":"IFERROR(D812*O812,\"\")","v":0},null,null,{"$f":"COUNTIF('EQUIPMENT INVENTORY'!$B:$B,'LABOR-EQUIP'!$B812)","v":0}]
[null,{"$f":"IF(ISBLANK(B812),\" \",VLOOKUP(B812,'PAYROLL RECORD'!$B$9:$C$10740,2,FALSE))","v":" "},"OT1",{"$f":"IF(ISBLANK(B812),0,VLOOKUP(B812,'PAYROLL RECORD'!$B$8:$V$2005,19,FALSE))","v":0},{"$f":"+E812","v":0},null,null,null,null,null,null,null,null,null,null,{"$f":"SUM(H813:N813)","v":0},null,null,{"$f":"IF(E813<>\"e\",P813*D813,0)","v":0},null,{"$f":"COUNTIF('EQUIPMENT INVENTORY'!$B:$B,'LABOR-EQUIP'!$B813)","v":0}]
[null,null,"OT2",{"$f":"IF(ISBLANK(B812),0,VLOOKUP(B812,'PAYROLL RECORD'!$B$8:$V$2005,20,FALSE))","v":0},{"$f":"+E813","v":0},null,null,null,null,null,null,null,null,null,null,null,{"$f":"SUM(H814:N814)","v":0},null,null,{"$f":"IF(E814<>\"E\",Q814*D814,0)","v":0},{"$f":"COUNTIF('EQUIPMENT INVENTORY'!$B:$B,'LABOR-EQUIP'!$B814)","v":0}]
[null,"Select type of activity(s).  See ELIGIBLE ACTIVITIES tab for complete descriptions and instructions.  Choose as many activities as applicable for each day/date. ",null,null,null,null,null,null,null,null,null,null,null,null,null,null,null,null,null,null,{"$f":"COUNTIF('EQUIPMENT INVENTORY'!$B:$B,'LABOR-EQUIP'!$B815)","v":0}]
[null,null,null,null,{"$f":"+E814","v":0},{"$f":"IF(ISBLANK(B816),0,VLOOKUP(B816,'EQUIPMENT INVENTORY'!$B$7:$AK$1021,7,0))","v":0},{"$f":"IF(ISBLANK(B816),0,VLOOKUP(B816,'EQUIPMENT INVENTORY'!$B$7:$AK$1021,8,0))","v":0},null,null,null,null,null,null,null,{"$f":"SUM($H816:$N816)","v":0},null,null,{"$f":"O816*G816","v":0},null,null,{"$f":"COUNTIF('EQUIPMENT INVENTORY'!$B:$B,'LABOR-EQUIP'!$B816)","v":0}]
[null,null,null,null,0,{"$f":"IF(ISBLANK(B817),0,VLOOKUP(B817,'EQUIPMENT INVENTORY'!$B$7:$AK$1021,7,0))","v":0},{"$f":"IF(ISBLANK(B817),0,VLOOKUP(B817,'EQUIPMENT INVENTORY'!$B$7:$AK$1021,8,0))","v":0},null,null,null,null,null,null,null,{"$f":"SUM($H817:$N817)","v":0},null,null,{"$f":"O817*G817","v":0},null,null,{"$f":"COUNTIF('EQUIPMENT INVENTORY'!$B:$B,'LABOR-EQUIP'!$B817)","v":0}]
[null,null,null,null,0,{"$f":"IF(ISBLANK(B818),0,VLOOKUP(B818,'EQUIPMENT INVENTORY'!$B$7:$AK$1021,7,0))","v":0},{"$f":"IF(ISBLANK(B818),0,VLOOKUP(B818,'EQUIPMENT INVENTORY'!$B$7:$AK$1021,8,0))","v":0},null,null,null,null,null,null,null,{"$f":"SUM($H818:$N818)","v":0},null,null,{"$f":"O818*G818","v":0},null,null,{"$f":"COUNTIF('EQUIPMENT INVENTORY'!$B:$B,'LABOR-EQUIP'!$B818)","v":0}]
[null,"Employee/\nEquipment",null,"RATE w/","REQUEST #","COST CODE","RATE",null,null,null,null,null,null,null,"REG","OT1","OT2","REG TIME\nCOST","OT1\nCOST","OT2\nCOST",{"$f":"COUNTIF('EQUIPMENT INVENTORY'!$B:$B,'LABOR-EQUIP'!$B819)","v":0}]
[null,null,null,"FRINGE",null,null,null,null,null,null,null,null,null,null,null,null,null,null,null,null,{"$f":"COUNTIF('EQUIPMENT INVENTORY'!$B:$B,'LABOR-EQUIP'!$B820)","v":0}]
[null,null,"REG",{"$f":"IF(ISBLANK(B821),0,VLOOKUP(B821,'PAYROLL RECORD'!$B$8:$V$2005,18,FALSE))","v":0},null,null,null,null,null,null,null,null,null,null,{"$f":"SUM($H821:$N821)","v":0},null,null,{"$f":"IFERROR(D821*O821,\"\")","v":0},null,null,{"$f":"COUNTIF('EQUIPMENT INVENTORY'!$B:$B,'LABOR-EQUIP'!$B821)","v":0}]
[null,{"$f":"IF(ISBLANK(B821),\" \",VLOOKUP(B821,'PAYROLL RECORD'!$B$9:$C$10740,2,FALSE))","v":" "},"OT1",{"$f":"IF(ISBLANK(B821),0,VLOOKUP(B821,'PAYROLL RECORD'!$B$8:$V$2005,19,FALSE))","v":0},{"$f":"+E821","v":0},null,null,null,null,null,null,null,null,null,null,{"$f":"SUM(H822:N822)","v":0},null,null,{"$f":"IF(E822<>\"e\",P822*D822,0)","v":0},null,{"$f":"COUNTIF('EQUIPMENT INVENTORY'!$B:$B,'LABOR-EQUIP'!$B822)","v":0}]
[null,null,"OT2",{"$f":"IF(ISBLANK(B821),0,VLOOKUP(B821,'PAYROLL RECORD'!$B$8:$V$2005,20,FALSE))","v":0},{"$f":"+E822","v":0},null,null,null,null,null,null,null,null,null,null,null,{"$f":"SUM(H823:N823)","v":0},null,null,{"$f":"IF(E823<>\"E\",Q823*D823,0)","v":0},{"$f":"COUNTIF('EQUIPMENT INVENTORY'!$B:$B,'LABOR-EQUIP'!$B823)","v":0}]
[null,"Select type of activity(s).  See ELIGIBLE ACTIVITIES tab for complete descriptions and instructions.  Choose as many activities as applicable for each day/date. ",null,null,null,null,null,null,null,null,null,null,null,null,null,null,null,null,null,null,{"$f":"COUNTIF('EQUIPMENT INVENTORY'!$B:$B,'LABOR-EQUIP'!$B824)","v":0}]
[null,null,null,null,{"$f":"+E823","v":0},{"$f":"IF(ISBLANK(B825),0,VLOOKUP(B825,'EQUIPMENT INVENTORY'!$B$7:$AK$1021,7,0))","v":0},{"$f":"IF(ISBLANK(B825),0,VLOOKUP(B825,'EQUIPMENT INVENTORY'!$B$7:$AK$1021,8,0))","v":0},null,null,null,null,null,null,null,{"$f":"SUM($H825:$N825)","v":0},null,null,{"$f":"O825*G825","v":0},null,null,{"$f":"COUNTIF('EQUIPMENT INVENTORY'!$B:$B,'LABOR-EQUIP'!$B825)","v":0}]
[null,null,null,null,0,{"$f":"IF(ISBLANK(B826),0,VLOOKUP(B826,'EQUIPMENT INVENTORY'!$B$7:$AK$1021,7,0))","v":0},{"$f":"IF(ISBLANK(B826),0,VLOOKUP(B826,'EQUIPMENT INVENTORY'!$B$7:$AK$1021,8,0))","v":0},null,null,null,null,null,null,null,{"$f":"SUM($H826:$N826)","v":0},null,null,{"$f":"O826*G826","v":0},null,null,{"$f":"COUNTIF('EQUIPMENT INVENTORY'!$B:$B,'LABOR-EQUIP'!$B826)","v":0}]
[null,null,null,null,0,{"$f":"IF(ISBLANK(B827),0,VLOOKUP(B827,'EQUIPMENT INVENTORY'!$B$7:$AK$1021,7,0))","v":0},{"$f":"IF(ISBLANK(B827),0,VLOOKUP(B827,'EQUIPMENT INVENTORY'!$B$7:$AK$1021,8,0))","v":0},null,null,null,null,null,null,null,{"$f":"SUM($H827:$N827)","v":0},null,null,{"$f":"O827*G827","v":0},null,null,{"$f":"COUNTIF('EQUIPMENT INVENTORY'!$B:$B,'LABOR-EQUIP'!$B827)","v":0}]
[null,"Employee/\nEquipment",null,"RATE w/","REQUEST #","COST CODE","RATE",null,null,null,null,null,null,null,"REG","OT1","OT2","REG TIME\nCOST","OT1\nCOST","OT2\nCOST",{"$f":"COUNTIF('EQUIPMENT INVENTORY'!$B:$B,'LABOR-EQUIP'!$B828)","v":0}]
[null,null,null,"FRINGE",null,null,null,null,null,null,null,null,null,null,null,null,null,null,null,null,{"$f":"COUNTIF('EQUIPMENT INVENTORY'!$B:$B,'LABOR-EQUIP'!$B829)","v":0}]
[null,null,"REG",{"$f":"IF(ISBLANK(B830),0,VLOOKUP(B830,'PAYROLL RECORD'!$B$8:$V$2005,18,FALSE))","v":0},null,null,null,null,null,null,null,null,null,null,{"$f":"SUM($H830:$N830)","v":0},null,null,{"$f":"IFERROR(D830*O830,\"\")","v":0},null,null,{"$f":"COUNTIF('EQUIPMENT INVENTORY'!$B:$B,'LABOR-EQUIP'!$B830)","v":0}]
[null,{"$f":"IF(ISBLANK(B830),\" \",VLOOKUP(B830,'PAYROLL RECORD'!$B$9:$C$10740,2,FALSE))","v":" "},"OT1",{"$f":"IF(ISBLANK(B830),0,VLOOKUP(B830,'PAYROLL RECORD'!$B$8:$V$2005,19,FALSE))","v":0},{"$f":"+E830","v":0},null,null,null,null,null,null,null,null,null,null,{"$f":"SUM(H831:N831)","v":0},null,null,{"$f":"IF(E831<>\"e\",P831*D831,0)","v":0},null,{"$f":"COUNTIF('EQUIPMENT INVENTORY'!$B:$B,'LABOR-EQUIP'!$B831)","v":0}]
[null,null,"OT2",{"$f":"IF(ISBLANK(B830),0,VLOOKUP(B830,'PAYROLL RECORD'!$B$8:$V$2005,20,FALSE))","v":0},{"$f":"+E831","v":0},null,null,null,null,null,null,null,null,null,null,null,{"$f":"SUM(H832:N832)","v":0},null,null,{"$f":"IF(E832<>\"E\",Q832*D832,0)","v":0},{"$f":"COUNTIF('EQUIPMENT INVENTORY'!$B:$B,'LABOR-EQUIP'!$B832)","v":0}]
[null,"Select type of activity(s).  See ELIGIBLE ACTIVITIES tab for complete descriptions and instructions.  Choose as many activities as applicable for each day/date. ",null,null,null,null,null,null,null,null,null,null,null,null,null,null,null,null,null,null,{"$f":"COUNTIF('EQUIPMENT INVENTORY'!$B:$B,'LABOR-EQUIP'!$B833)","v":0}]
[null,null,null,null,{"$f":"+E832","v":0},{"$f":"IF(ISBLANK(B834),0,VLOOKUP(B834,'EQUIPMENT INVENTORY'!$B$7:$AK$1021,7,0))","v":0},{"$f":"IF(ISBLANK(B834),0,VLOOKUP(B834,'EQUIPMENT INVENTORY'!$B$7:$AK$1021,8,0))","v":0},null,null,null,null,null,null,null,{"$f":"SUM($H834:$N834)","v":0},null,null,{"$f":"O834*G834","v":0},null,null,{"$f":"COUNTIF('EQUIPMENT INVENTORY'!$B:$B,'LABOR-EQUIP'!$B834)","v":0}]
[null,null,null,null,0,{"$f":"IF(ISBLANK(B835),0,VLOOKUP(B835,'EQUIPMENT INVENTORY'!$B$7:$AK$1021,7,0))","v":0},{"$f":"IF(ISBLANK(B835),0,VLOOKUP(B835,'EQUIPMENT INVENTORY'!$B$7:$AK$1021,8,0))","v":0},null,null,null,null,null,null,null,{"$f":"SUM($H835:$N835)","v":0},null,null,{"$f":"O835*G835","v":0},null,null,{"$f":"COUNTIF('EQUIPMENT INVENTORY'!$B:$B,'LABOR-EQUIP'!$B835)","v":0}]
[null,null,null,null,0,{"$f":"IF(ISBLANK(B836),0,VLOOKUP(B836,'EQUIPMENT INVENTORY'!$B$7:$AK$1021,7,0))","v":0},{"$f":"IF(ISBLANK(B836),0,VLOOKUP(B836,'EQUIPMENT INVENTORY'!$B$7:$AK$1021,8,0))","v":0},null,null,null,null,null,null,null,{"$f":"SUM($H836:$N836)","v":0},null,null,{"$f":"O836*G836","v":0},null,null,{"$f":"COUNTIF('EQUIPMENT INVENTORY'!$B:$B,'LABOR-EQUIP'!$B836)","v":0}]
[null,"Employee/\nEquipment",null,"RATE w/","REQUEST #","COST CODE","RATE",null,null,null,null,null,null,null,"REG","OT1","OT2","REG TIME\nCOST","OT1\nCOST","OT2\nCOST",{"$f":"COUNTIF('EQUIPMENT INVENTORY'!$B:$B,'LABOR-EQUIP'!$B837)","v":0}]
[null,null,null,"FRINGE",null,null,null,null,null,null,null,null,null,null,null,null,null,null,null,null,{"$f":"COUNTIF('EQUIPMENT INVENTORY'!$B:$B,'LABOR-EQUIP'!$B838)","v":0}]
[null,null,"REG",{"$f":"IF(ISBLANK(B839),0,VLOOKUP(B839,'PAYROLL RECORD'!$B$8:$V$2005,18,FALSE))","v":0},null,null,null,null,null,null,null,null,null,null,{"$f":"SUM($H839:$N839)","v":0},null,null,{"$f":"IFERROR(D839*O839,\"\")","v":0},null,null,{"$f":"COUNTIF('EQUIPMENT INVENTORY'!$B:$B,'LABOR-EQUIP'!$B839)","v":0}]
[null,{"$f":"IF(ISBLANK(B839),\" \",VLOOKUP(B839,'PAYROLL RECORD'!$B$9:$C$10740,2,FALSE))","v":" "},"OT1",{"$f":"IF(ISBLANK(B839),0,VLOOKUP(B839,'PAYROLL RECORD'!$B$8:$V$2005,19,FALSE))","v":0},{"$f":"+E839","v":0},null,null,null,null,null,null,null,null,null,null,{"$f":"SUM(H840:N840)","v":0},null,null,{"$f":"IF(E840<>\"e\",P840*D840,0)","v":0},null,{"$f":"COUNTIF('EQUIPMENT INVENTORY'!$B:$B,'LABOR-EQUIP'!$B840)","v":0}]
[null,null,"OT2",{"$f":"IF(ISBLANK(B839),0,VLOOKUP(B839,'PAYROLL RECORD'!$B$8:$V$2005,20,FALSE))","v":0},{"$f":"+E840","v":0},null,null,null,null,null,null,null,null,null,null,null,{"$f":"SUM(H841:N841)","v":0},null,null,{"$f":"IF(E841<>\"E\",Q841*D841,0)","v":0},{"$f":"COUNTIF('EQUIPMENT INVENTORY'!$B:$B,'LABOR-EQUIP'!$B841)","v":0}]
[null,"Select type of activity(s).  See ELIGIBLE ACTIVITIES tab for complete descriptions and instructions.  Choose as many activities as applicable for each day/date. ",null,null,null,null,null,null,null,null,null,null,null,null,null,null,null,null,null,null,{"$f":"COUNTIF('EQUIPMENT INVENTORY'!$B:$B,'LABOR-EQUIP'!$B842)","v":0}]
[null,null,null,null,{"$f":"+E841","v":0},{"$f":"IF(ISBLANK(B843),0,VLOOKUP(B843,'EQUIPMENT INVENTORY'!$B$7:$AK$1021,7,0))","v":0},{"$f":"IF(ISBLANK(B843),0,VLOOKUP(B843,'EQUIPMENT INVENTORY'!$B$7:$AK$1021,8,0))","v":0},null,null,null,null,null,null,null,{"$f":"SUM($H843:$N843)","v":0},null,null,{"$f":"O843*G843","v":0},null,null,{"$f":"COUNTIF('EQUIPMENT INVENTORY'!$B:$B,'LABOR-EQUIP'!$B843)","v":0}]
[null,null,null,null,0,{"$f":"IF(ISBLANK(B844),0,VLOOKUP(B844,'EQUIPMENT INVENTORY'!$B$7:$AK$1021,7,0))","v":0},{"$f":"IF(ISBLANK(B844),0,VLOOKUP(B844,'EQUIPMENT INVENTORY'!$B$7:$AK$1021,8,0))","v":0},null,null,null,null,null,null,null,{"$f":"SUM($H844:$N844)","v":0},null,null,{"$f":"O844*G844","v":0},null,null,{"$f":"COUNTIF('EQUIPMENT INVENTORY'!$B:$B,'LABOR-EQUIP'!$B844)","v":0}]
[null,null,null,null,0,{"$f":"IF(ISBLANK(B845),0,VLOOKUP(B845,'EQUIPMENT INVENTORY'!$B$7:$AK$1021,7,0))","v":0},{"$f":"IF(ISBLANK(B845),0,VLOOKUP(B845,'EQUIPMENT INVENTORY'!$B$7:$AK$1021,8,0))","v":0},null,null,null,null,null,null,null,{"$f":"SUM($H845:$N845)","v":0},null,null,{"$f":"O845*G845","v":0},null,null,{"$f":"COUNTIF('EQUIPMENT INVENTORY'!$B:$B,'LABOR-EQUIP'!$B845)","v":0}]
[null,null,null,null,null,null,null,null,null,null,null,null,"LABOR - Page Total",null,{"$f":"O803+O812+O821+O830+O839","v":0},{"$f":"P804+P813+P822+P831+P840","v":0},{"$f":"Q805+Q814+Q823+Q832+Q841","v":0},{"$f":"R803+R812+R821+R830+R839","v":0},{"$f":"S804+S813+S822+S831+S840","v":0},{"$f":"T805+T814+T823+T832+T841","v":0}]
[null,null,null,null,null,null,null,null,null,null,null,null,"EQUIPMENT - Page Total",null,{"$f":"O807+O808+O809+O816+O817+O818+O825+O826+O827+O834+O835+O836+O843+O844+O845","v":0},null,null,{"$f":"R807+R808+R809+R816+R817+R818+R825+R826+R827+R834+R835+R836+R843+R844+R845","v":0}]
[null,null,null,null,null,null,null,null,null,null,null,null,"LABOR - Grand Total",null,{"$f":"SUM($AA:$AA)","v":0},{"$f":"SUM(AB:AB)","v":0},{"$f":"SUM(AC:AC)","v":0},{"$f":"SUM(AD:AD)","v":0},{"$f":"SUM(AE:AE)","v":0},{"$f":"SUM(AF:AF)","v":0},null,null,null,null,null,null,{"$f":"O846","v":0},{"$f":"P846","v":0},{"$f":"Q846","v":0},{"$f":"R846","v":0},{"$f":"S846","v":0},{"$f":"T846","v":0}]
[null,null,null,null,null,null,null,null,null,null,null,null,"EQUIPMENT - Grand Total",null,{"$f":"SUM(AG:AG)","v":0},null,null,{"$f":"SUM(AH:AH)","v":0},null,null,null,null,null,null,null,null,null,null,null,null,null,null,{"$f":"O847","v":0},{"$f":"R847","v":0}]
[]
[]
[null,"APPLICANT NAME",null,null,"DISASTER #",null,null,"PLEASE ENTER DATES FOR EACH DAY WORKED.  THIS ALLOWS FOR TRACKING OF COSTS OVER MULTIPLE DAYS, WEEKS AND/OR YEARS.  USE THE FIRST ROW FOR MONTH/DAY AND THE SECOND ROW FOR YEAR.  DATES DO NOT NEED TO BE CONSECUTIVE. ",null,null,null,null,null,null,"DISASTER TITLE"]
[null,{"$f":"IF('PAYROLL RECORD'!B853=\"\",\"\",'PAYROLL RECORD'!B853)","v":""},null,null,{"$f":"IF('PAYROLL RECORD'!D853=\"\",\"\",'PAYROLL RECORD'!D853)","v":""},null,null,null,null,null,null,null,null,null,{"$f":"IF('PAYROLL RECORD'!G853=\"\",\"\",'PAYROLL RECORD'!G853)","v":""}]
[null,"Employee/\nEquipment",null,"RATE w/","REQUEST #","COST CODE","RATE",null,null,null,null,null,null,null,"REG","OT1","OT2","REG TIME\nCOST","OT1\nCOST","OT2\nCOST"]
[null,null,null,"FRINGE"]
[null,null,"REG",{"$f":"IF(ISBLANK(B856),0,VLOOKUP(B856,'PAYROLL RECORD'!$B$8:$V$2005,18,FALSE))","v":0},null,null,null,null,null,null,null,null,null,null,{"$f":"SUM($H856:$N856)","v":0},null,null,{"$f":"IFERROR(D856*O856,\"\")","v":0},null,null,{"$f":"COUNTIF('EQUIPMENT INVENTORY'!$B:$B,'LABOR-EQUIP'!$B856)","v":0}]
[null,{"$f":"IF(ISBLANK(B856),\" \",VLOOKUP(B856,'PAYROLL RECORD'!$B$9:$C$10740,2,FALSE))","v":" "},"OT1",{"$f":"IF(ISBLANK(B856),0,VLOOKUP(B856,'PAYROLL RECORD'!$B$8:$V$2005,19,FALSE))","v":0},{"$f":"+E856","v":0},null,null,null,null,null,null,null,null,null,null,{"$f":"SUM(H857:N857)","v":0},null,null,{"$f":"IFERROR(P857*D857,\"\")","v":0},null,{"$f":"COUNTIF('EQUIPMENT INVENTORY'!$B:$B,'LABOR-EQUIP'!$B857)","v":0}]
[null,null,"OT2",{"$f":"IF(ISBLANK(B856),0,VLOOKUP(B856,'PAYROLL RECORD'!$B$8:$V$2005,20,FALSE))","v":0},{"$f":"+E856","v":0},null,null,null,null,null,null,null,null,null,null,null,{"$f":"SUM(H858:N858)","v":0},null,null,{"$f":"IFERROR(Q858*D858,\"\")","v":0},{"$f":"COUNTIF('EQUIPMENT INVENTORY'!$B:$B,'LABOR-EQUIP'!$B858)","v":0}]
[null,"Select type of activity(s).  See ELIGIBLE ACTIVITIES tab for complete descriptions and instructions.  Choose as many activities as applicable for each day/date. ",null,null,null,null,null,null,null,null,null,null,null,null,null,null,null,null,null,null,{"$f":"COUNTIF('EQUIPMENT INVENTORY'!$B:$B,'LABOR-EQUIP'!$B859)","v":0}]
[null,null,null,null,{"$f":"+E856","v":0},{"$f":"IF(ISBLANK(B860),0,VLOOKUP(B860,'EQUIPMENT INVENTORY'!$B$7:$AK$1021,7,0))","v":0},{"$f":"IF(ISBLANK(B860),0,VLOOKUP(B860,'EQUIPMENT INVENTORY'!$B$7:$AK$1021,8,0))","v":0},null,null,null,null,null,null,null,{"$f":"SUM($H860:$N860)","v":0},null,null,{"$f":"O860*G860","v":0},null,null,{"$f":"COUNTIF('EQUIPMENT INVENTORY'!$B:$B,'LABOR-EQUIP'!$B860)","v":0}]
[null,null,null,null,{"$f":"+E856","v":0},{"$f":"IF(ISBLANK(B861),0,VLOOKUP(B861,'EQUIPMENT INVENTORY'!$B$7:$AK$1021,7,0))","v":0},{"$f":"IF(ISBLANK(B861),0,VLOOKUP(B861,'EQUIPMENT INVENTORY'!$B$7:$AK$1021,8,0))","v":0},null,null,null,null,null,null,null,{"$f":"SUM($H861:$N861)","v":0},null,null,{"$f":"O861*G861","v":0},null,null,{"$f":"COUNTIF('EQUIPMENT INVENTORY'!$B:$B,'LABOR-EQUIP'!$B861)","v":0}]
[null,null,null,null,{"$f":"+E856","v":0},{"$f":"IF(ISBLANK(B862),0,VLOOKUP(B862,'EQUIPMENT INVENTORY'!$B$7:$AK$1021,7,0))","v":0},{"$f":"IF(ISBLANK(B862),0,VLOOKUP(B862,'EQUIPMENT INVENTORY'!$B$7:$AK$1021,8,0))","v":0},null,null,null,null,null,null,null,{"$f":"SUM($H862:$N862)","v":0},null,null,{"$f":"O862*G862","v":0},null,null,{"$f":"COUNTIF('EQUIPMENT INVENTORY'!$B:$B,'LABOR-EQUIP'!$B862)","v":0}]
[null,"Employee/\nEquipment",null,"RATE w/","REQUEST #","COST CODE","RATE",null,null,null,null,null,null,null,"REG","OT1","OT2","REG TIME\nCOST","OT1\nCOST","OT2\nCOST",{"$f":"COUNTIF('EQUIPMENT INVENTORY'!$B:$B,'LABOR-EQUIP'!$B863)","v":0}]
[null,null,null,"FRINGE",null,null,null,null,null,null,null,null,null,null,null,null,null,null,null,null,{"$f":"COUNTIF('EQUIPMENT INVENTORY'!$B:$B,'LABOR-EQUIP'!$B864)","v":0}]
[null,null,"REG",{"$f":"IF(ISBLANK(B865),0,VLOOKUP(B865,'PAYROLL RECORD'!$B$8:$V$2005,18,FALSE))","v":0},null,null,null,null,null,null,null,null,null,null,{"$f":"SUM($H865:$N865)","v":0},null,null,{"$f":"IFERROR(D865*O865,\"\")","v":0},null,null,{"$f":"COUNTIF('EQUIPMENT INVENTORY'!$B:$B,'LABOR-EQUIP'!$B865)","v":0}]
[null,{"$f":"IF(ISBLANK(B865),\" \",VLOOKUP(B865,'PAYROLL RECORD'!$B$9:$C$10740,2,FALSE))","v":" "},"OT1",{"$f":"IF(ISBLANK(B865),0,VLOOKUP(B865,'PAYROLL RECORD'!$B$8:$V$2005,19,FALSE))","v":0},{"$f":"+E865","v":0},null,null,null,null,null,null,null,null,null,null,{"$f":"SUM(H866:N866)","v":0},null,null,{"$f":"IF(E866<>\"e\",P866*D866,0)","v":0},null,{"$f":"COUNTIF('EQUIPMENT INVENTORY'!$B:$B,'LABOR-EQUIP'!$B866)","v":0}]
[null,null,"OT2",{"$f":"IF(ISBLANK(B865),0,VLOOKUP(B865,'PAYROLL RECORD'!$B$8:$V$2005,20,FALSE))","v":0},{"$f":"+E866","v":0},null,null,null,null,null,null,null,null,null,null,null,{"$f":"SUM(H867:N867)","v":0},null,null,{"$f":"IF(E867<>\"E\",Q867*D867,0)","v":0},{"$f":"COUNTIF('EQUIPMENT INVENTORY'!$B:$B,'LABOR-EQUIP'!$B867)","v":0}]
[null,"Select type of activity(s).  See ELIGIBLE ACTIVITIES tab for complete descriptions and instructions.  Choose as many activities as applicable for each day/date. ",null,null,null,null,null,null,null,null,null,null,null,null,null,null,null,null,null,null,{"$f":"COUNTIF('EQUIPMENT INVENTORY'!$B:$B,'LABOR-EQUIP'!$B868)","v":0}]
[null,null,null,null,{"$f":"+E867","v":0},{"$f":"IF(ISBLANK(B869),0,VLOOKUP(B869,'EQUIPMENT INVENTORY'!$B$7:$AK$1021,7,0))","v":0},{"$f":"IF(ISBLANK(B869),0,VLOOKUP(B869,'EQUIPMENT INVENTORY'!$B$7:$AK$1021,8,0))","v":0},null,null,null,null,null,null,null,{"$f":"SUM($H869:$N869)","v":0},null,null,{"$f":"O869*G869","v":0},null,null,{"$f":"COUNTIF('EQUIPMENT INVENTORY'!$B:$B,'LABOR-EQUIP'!$B869)","v":0}]
[null,null,null,null,0,{"$f":"IF(ISBLANK(B870),0,VLOOKUP(B870,'EQUIPMENT INVENTORY'!$B$7:$AK$1021,7,0))","v":0},{"$f":"IF(ISBLANK(B870),0,VLOOKUP(B870,'EQUIPMENT INVENTORY'!$B$7:$AK$1021,8,0))","v":0},null,null,null,null,null,null,null,{"$f":"SUM($H870:$N870)","v":0},null,null,{"$f":"O870*G870","v":0},null,null,{"$f":"COUNTIF('EQUIPMENT INVENTORY'!$B:$B,'LABOR-EQUIP'!$B870)","v":0}]
[null,null,null,null,0,{"$f":"IF(ISBLANK(B871),0,VLOOKUP(B871,'EQUIPMENT INVENTORY'!$B$7:$AK$1021,7,0))","v":0},{"$f":"IF(ISBLANK(B871),0,VLOOKUP(B871,'EQUIPMENT INVENTORY'!$B$7:$AK$1021,8,0))","v":0},null,null,null,null,null,null,null,{"$f":"SUM($H871:$N871)","v":0},null,null,{"$f":"O871*G871","v":0},null,null,{"$f":"COUNTIF('EQUIPMENT INVENTORY'!$B:$B,'LABOR-EQUIP'!$B871)","v":0}]
[null,"Employee/\nEquipment",null,"RATE w/","REQUEST #","COST CODE","RATE",null,null,null,null,null,null,null,"REG","OT1","OT2","REG TIME\nCOST","OT1\nCOST","OT2\nCOST",{"$f":"COUNTIF('EQUIPMENT INVENTORY'!$B:$B,'LABOR-EQUIP'!$B872)","v":0}]
[null,null,null,"FRINGE",null,null,null,null,null,null,null,null,null,null,null,null,null,null,null,null,{"$f":"COUNTIF('EQUIPMENT INVENTORY'!$B:$B,'LABOR-EQUIP'!$B873)","v":0}]
[null,null,"REG",{"$f":"IF(ISBLANK(B874),0,VLOOKUP(B874,'PAYROLL RECORD'!$B$8:$V$2005,18,FALSE))","v":0},null,null,null,null,null,null,null,null,null,null,{"$f":"SUM($H874:$N874)","v":0},null,null,{"$f":"IFERROR(D874*O874,\"\")","v":0},null,null,{"$f":"COUNTIF('EQUIPMENT INVENTORY'!$B:$B,'LABOR-EQUIP'!$B874)","v":0}]
[null,{"$f":"IF(ISBLANK(B874),\" \",VLOOKUP(B874,'PAYROLL RECORD'!$B$9:$C$10740,2,FALSE))","v":" "},"OT1",{"$f":"IF(ISBLANK(B874),0,VLOOKUP(B874,'PAYROLL RECORD'!$B$8:$V$2005,19,FALSE))","v":0},{"$f":"+E874","v":0},null,null,null,null,null,null,null,null,null,null,{"$f":"SUM(H875:N875)","v":0},null,null,{"$f":"IF(E875<>\"e\",P875*D875,0)","v":0},null,{"$f":"COUNTIF('EQUIPMENT INVENTORY'!$B:$B,'LABOR-EQUIP'!$B875)","v":0}]
[null,null,"OT2",{"$f":"IF(ISBLANK(B874),0,VLOOKUP(B874,'PAYROLL RECORD'!$B$8:$V$2005,20,FALSE))","v":0},{"$f":"+E875","v":0},null,null,null,null,null,null,null,null,null,null,null,{"$f":"SUM(H876:N876)","v":0},null,null,{"$f":"IF(E876<>\"E\",Q876*D876,0)","v":0},{"$f":"COUNTIF('EQUIPMENT INVENTORY'!$B:$B,'LABOR-EQUIP'!$B876)","v":0}]
[null,"Select type of activity(s).  See ELIGIBLE ACTIVITIES tab for complete descriptions and instructions.  Choose as many activities as applicable for each day/date. ",null,null,null,null,null,null,null,null,null,null,null,null,null,null,null,null,null,null,{"$f":"COUNTIF('EQUIPMENT INVENTORY'!$B:$B,'LABOR-EQUIP'!$B877)","v":0}]
[null,null,null,null,{"$f":"+E876","v":0},{"$f":"IF(ISBLANK(B878),0,VLOOKUP(B878,'EQUIPMENT INVENTORY'!$B$7:$AK$1021,7,0))","v":0},{"$f":"IF(ISBLANK(B878),0,VLOOKUP(B878,'EQUIPMENT INVENTORY'!$B$7:$AK$1021,8,0))","v":0},null,null,null,null,null,null,null,{"$f":"SUM($H878:$N878)","v":0},null,null,{"$f":"O878*G878","v":0},null,null,{"$f":"COUNTIF('EQUIPMENT INVENTORY'!$B:$B,'LABOR-EQUIP'!$B878)","v":0}]
[null,null,null,null,0,{"$f":"IF(ISBLANK(B879),0,VLOOKUP(B879,'EQUIPMENT INVENTORY'!$B$7:$AK$1021,7,0))","v":0},{"$f":"IF(ISBLANK(B879),0,VLOOKUP(B879,'EQUIPMENT INVENTORY'!$B$7:$AK$1021,8,0))","v":0},null,null,null,null,null,null,null,{"$f":"SUM($H879:$N879)","v":0},null,null,{"$f":"O879*G879","v":0},null,null,{"$f":"COUNTIF('EQUIPMENT INVENTORY'!$B:$B,'LABOR-EQUIP'!$B879)","v":0}]
[null,null,null,null,0,{"$f":"IF(ISBLANK(B880),0,VLOOKUP(B880,'EQUIPMENT INVENTORY'!$B$7:$AK$1021,7,0))","v":0},{"$f":"IF(ISBLANK(B880),0,VLOOKUP(B880,'EQUIPMENT INVENTORY'!$B$7:$AK$1021,8,0))","v":0},null,null,null,null,null,null,null,{"$f":"SUM($H880:$N880)","v":0},null,null,{"$f":"O880*G880","v":0},null,null,{"$f":"COUNTIF('EQUIPMENT INVENTORY'!$B:$B,'LABOR-EQUIP'!$B880)","v":0}]
[null,"Employee/\nEquipment",null,"RATE w/","REQUEST #","COST CODE","RATE",null,null,null,null,null,null,null,"REG","OT1","OT2","REG TIME\nCOST","OT1\nCOST","OT2\nCOST",{"$f":"COUNTIF('EQUIPMENT INVENTORY'!$B:$B,'LABOR-EQUIP'!$B881)","v":0}]
[null,null,null,"FRINGE",null,null,null,null,null,null,null,null,null,null,null,null,null,null,null,null,{"$f":"COUNTIF('EQUIPMENT INVENTORY'!$B:$B,'LABOR-EQUIP'!$B882)","v":0}]
[null,null,"REG",{"$f":"IF(ISBLANK(B883),0,VLOOKUP(B883,'PAYROLL RECORD'!$B$8:$V$2005,18,FALSE))","v":0},null,null,null,null,null,null,null,null,null,null,{"$f":"SUM($H883:$N883)","v":0},null,null,{"$f":"IFERROR(D883*O883,\"\")","v":0},null,null,{"$f":"COUNTIF('EQUIPMENT INVENTORY'!$B:$B,'LABOR-EQUIP'!$B883)","v":0}]
[null,{"$f":"IF(ISBLANK(B883),\" \",VLOOKUP(B883,'PAYROLL RECORD'!$B$9:$C$10740,2,FALSE))","v":" "},"OT1",{"$f":"IF(ISBLANK(B883),0,VLOOKUP(B883,'PAYROLL RECORD'!$B$8:$V$2005,19,FALSE))","v":0},{"$f":"+E883","v":0},null,null,null,null,null,null,null,null,null,null,{"$f":"SUM(H884:N884)","v":0},null,null,{"$f":"IF(E884<>\"e\",P884*D884,0)","v":0},null,{"$f":"COUNTIF('EQUIPMENT INVENTORY'!$B:$B,'LABOR-EQUIP'!$B884)","v":0}]
[null,null,"OT2",{"$f":"IF(ISBLANK(B883),0,VLOOKUP(B883,'PAYROLL RECORD'!$B$8:$V$2005,20,FALSE))","v":0},{"$f":"+E884","v":0},null,null,null,null,null,null,null,null,null,null,null,{"$f":"SUM(H885:N885)","v":0},null,null,{"$f":"IF(E885<>\"E\",Q885*D885,0)","v":0},{"$f":"COUNTIF('EQUIPMENT INVENTORY'!$B:$B,'LABOR-EQUIP'!$B885)","v":0}]
[null,"Select type of activity(s).  See ELIGIBLE ACTIVITIES tab for complete descriptions and instructions.  Choose as many activities as applicable for each day/date. ",null,null,null,null,null,null,null,null,null,null,null,null,null,null,null,null,null,null,{"$f":"COUNTIF('EQUIPMENT INVENTORY'!$B:$B,'LABOR-EQUIP'!$B886)","v":0}]
[null,null,null,null,{"$f":"+E885","v":0},{"$f":"IF(ISBLANK(B887),0,VLOOKUP(B887,'EQUIPMENT INVENTORY'!$B$7:$AK$1021,7,0))","v":0},{"$f":"IF(ISBLANK(B887),0,VLOOKUP(B887,'EQUIPMENT INVENTORY'!$B$7:$AK$1021,8,0))","v":0},null,null,null,null,null,null,null,{"$f":"SUM($H887:$N887)","v":0},null,null,{"$f":"O887*G887","v":0},null,null,{"$f":"COUNTIF('EQUIPMENT INVENTORY'!$B:$B,'LABOR-EQUIP'!$B887)","v":0}]
[null,null,null,null,0,{"$f":"IF(ISBLANK(B888),0,VLOOKUP(B888,'EQUIPMENT INVENTORY'!$B$7:$AK$1021,7,0))","v":0},{"$f":"IF(ISBLANK(B888),0,VLOOKUP(B888,'EQUIPMENT INVENTORY'!$B$7:$AK$1021,8,0))","v":0},null,null,null,null,null,null,null,{"$f":"SUM($H888:$N888)","v":0},null,null,{"$f":"O888*G888","v":0},null,null,{"$f":"COUNTIF('EQUIPMENT INVENTORY'!$B:$B,'LABOR-EQUIP'!$B888)","v":0}]
[null,null,null,null,0,{"$f":"IF(ISBLANK(B889),0,VLOOKUP(B889,'EQUIPMENT INVENTORY'!$B$7:$AK$1021,7,0))","v":0},{"$f":"IF(ISBLANK(B889),0,VLOOKUP(B889,'EQUIPMENT INVENTORY'!$B$7:$AK$1021,8,0))","v":0},null,null,null,null,null,null,null,{"$f":"SUM($H889:$N889)","v":0},null,null,{"$f":"O889*G889","v":0},null,null,{"$f":"COUNTIF('EQUIPMENT INVENTORY'!$B:$B,'LABOR-EQUIP'!$B889)","v":0}]
[null,"Employee/\nEquipment",null,"RATE w/","REQUEST #","COST CODE","RATE",null,null,null,null,null,null,null,"REG","OT1","OT2","REG TIME\nCOST","OT1\nCOST","OT2\nCOST",{"$f":"COUNTIF('EQUIPMENT INVENTORY'!$B:$B,'LABOR-EQUIP'!$B890)","v":0}]
[null,null,null,"FRINGE",null,null,null,null,null,null,null,null,null,null,null,null,null,null,null,null,{"$f":"COUNTIF('EQUIPMENT INVENTORY'!$B:$B,'LABOR-EQUIP'!$B891)","v":0}]
[null,null,"REG",{"$f":"IF(ISBLANK(B892),0,VLOOKUP(B892,'PAYROLL RECORD'!$B$8:$V$2005,18,FALSE))","v":0},null,null,null,null,null,null,null,null,null,null,{"$f":"SUM($H892:$N892)","v":0},null,null,{"$f":"IFERROR(D892*O892,\"\")","v":0},null,null,{"$f":"COUNTIF('EQUIPMENT INVENTORY'!$B:$B,'LABOR-EQUIP'!$B892)","v":0}]
[null,{"$f":"IF(ISBLANK(B892),\" \",VLOOKUP(B892,'PAYROLL RECORD'!$B$9:$C$10740,2,FALSE))","v":" "},"OT1",{"$f":"IF(ISBLANK(B892),0,VLOOKUP(B892,'PAYROLL RECORD'!$B$8:$V$2005,19,FALSE))","v":0},{"$f":"+E892","v":0},null,null,null,null,null,null,null,null,null,null,{"$f":"SUM(H893:N893)","v":0},null,null,{"$f":"IF(E893<>\"e\",P893*D893,0)","v":0},null,{"$f":"COUNTIF('EQUIPMENT INVENTORY'!$B:$B,'LABOR-EQUIP'!$B893)","v":0}]
[null,null,"OT2",{"$f":"IF(ISBLANK(B892),0,VLOOKUP(B892,'PAYROLL RECORD'!$B$8:$V$2005,20,FALSE))","v":0},{"$f":"+E893","v":0},null,null,null,null,null,null,null,null,null,null,null,{"$f":"SUM(H894:N894)","v":0},null,null,{"$f":"IF(E894<>\"E\",Q894*D894,0)","v":0},{"$f":"COUNTIF('EQUIPMENT INVENTORY'!$B:$B,'LABOR-EQUIP'!$B894)","v":0}]
[null,"Select type of activity(s).  See ELIGIBLE ACTIVITIES tab for complete descriptions and instructions.  Choose as many activities as applicable for each day/date. ",null,null,null,null,null,null,null,null,null,null,null,null,null,null,null,null,null,null,{"$f":"COUNTIF('EQUIPMENT INVENTORY'!$B:$B,'LABOR-EQUIP'!$B895)","v":0}]
[null,null,null,null,{"$f":"+E894","v":0},{"$f":"IF(ISBLANK(B896),0,VLOOKUP(B896,'EQUIPMENT INVENTORY'!$B$7:$AK$1021,7,0))","v":0},{"$f":"IF(ISBLANK(B896),0,VLOOKUP(B896,'EQUIPMENT INVENTORY'!$B$7:$AK$1021,8,0))","v":0},null,null,null,null,null,null,null,{"$f":"SUM($H896:$N896)","v":0},null,null,{"$f":"O896*G896","v":0},null,null,{"$f":"COUNTIF('EQUIPMENT INVENTORY'!$B:$B,'LABOR-EQUIP'!$B896)","v":0}]
[null,null,null,null,0,{"$f":"IF(ISBLANK(B897),0,VLOOKUP(B897,'EQUIPMENT INVENTORY'!$B$7:$AK$1021,7,0))","v":0},{"$f":"IF(ISBLANK(B897),0,VLOOKUP(B897,'EQUIPMENT INVENTORY'!$B$7:$AK$1021,8,0))","v":0},null,null,null,null,null,null,null,{"$f":"SUM($H897:$N897)","v":0},null,null,{"$f":"O897*G897","v":0},null,null,{"$f":"COUNTIF('EQUIPMENT INVENTORY'!$B:$B,'LABOR-EQUIP'!$B897)","v":0}]
[null,null,null,null,0,{"$f":"IF(ISBLANK(B898),0,VLOOKUP(B898,'EQUIPMENT INVENTORY'!$B$7:$AK$1021,7,0))","v":0},{"$f":"IF(ISBLANK(B898),0,VLOOKUP(B898,'EQUIPMENT INVENTORY'!$B$7:$AK$1021,8,0))","v":0},null,null,null,null,null,null,null,{"$f":"SUM($H898:$N898)","v":0},null,null,{"$f":"O898*G898","v":0},null,null,{"$f":"COUNTIF('EQUIPMENT INVENTORY'!$B:$B,'LABOR-EQUIP'!$B898)","v":0}]
[null,null,null,null,null,null,null,null,null,null,null,null,"LABOR - Page Total",null,{"$f":"O856+O865+O874+O883+O892","v":0},{"$f":"P857+P866+P875+P884+P893","v":0},{"$f":"Q858+Q867+Q876+Q885+Q894","v":0},{"$f":"R856+R865+R874+R883+R892","v":0},{"$f":"S857+S866+S875+S884+S893","v":0},{"$f":"T858+T867+T876+T885+T894","v":0}]
[null,null,null,null,null,null,null,null,null,null,null,null,"EQUIPMENT - Page Total",null,{"$f":"O860+O861+O862+O869+O870+O871+O878+O879+O880+O887+O888+O889+O896+O897+O898","v":0},null,null,{"$f":"R860+R861+R862+R869+R870+R871+R878+R879+R880+R887+R888+R889+R896+R897+R898","v":0}]
[null,null,null,null,null,null,null,null,null,null,null,null,"LABOR - Grand Total",null,{"$f":"SUM($AA:$AA)","v":0},{"$f":"SUM(AB:AB)","v":0},{"$f":"SUM(AC:AC)","v":0},{"$f":"SUM(AD:AD)","v":0},{"$f":"SUM(AE:AE)","v":0},{"$f":"SUM(AF:AF)","v":0},null,null,null,null,null,null,{"$f":"O899","v":0},{"$f":"P899","v":0},{"$f":"Q899","v":0},{"$f":"R899","v":0},{"$f":"S899","v":0},{"$f":"T899","v":0}]
[null,null,null,null,null,null,null,null,null,null,null,null,"EQUIPMENT - Grand Total",null,{"$f":"SUM(AG:AG)","v":0},null,null,{"$f":"SUM(AH:AH)","v":0},null,null,null,null,null,null,null,null,null,null,null,null,null,null,{"$f":"O900","v":0},{"$f":"R900","v":0}]
[]
[]
[null,"APPLICANT NAME",null,null,"DISASTER #",null,null,"PLEASE ENTER DATES FOR EACH DAY WORKED.  THIS ALLOWS FOR TRACKING OF COSTS OVER MULTIPLE DAYS, WEEKS AND/OR YEARS.  USE THE FIRST ROW FOR MONTH/DAY AND THE SECOND ROW FOR YEAR.  DATES DO NOT NEED TO BE CONSECUTIVE. ",null,null,null,null,null,null,"DISASTER TITLE"]
[null,{"$f":"IF('PAYROLL RECORD'!B906=\"\",\"\",'PAYROLL RECORD'!B906)","v":""},null,null,{"$f":"IF('PAYROLL RECORD'!D906=\"\",\"\",'PAYROLL RECORD'!D906)","v":""},null,null,null,null,null,null,null,null,null,{"$f":"IF('PAYROLL RECORD'!G906=\"\",\"\",'PAYROLL RECORD'!G906)","v":""}]
[null,"Employee/\nEquipment",null,"RATE w/","REQUEST #","COST CODE","RATE",null,null,null,null,null,null,null,"REG","OT1","OT2","REG TIME\nCOST","OT1\nCOST","OT2\nCOST"]
[null,null,null,"FRINGE"]
[null,null,"REG",{"$f":"IF(ISBLANK(B909),0,VLOOKUP(B909,'PAYROLL RECORD'!$B$8:$V$2005,18,FALSE))","v":0},null,null,null,null,null,null,null,null,null,null,{"$f":"SUM($H909:$N909)","v":0},null,null,{"$f":"IFERROR(D909*O909,\"\")","v":0},null,null,{"$f":"COUNTIF('EQUIPMENT INVENTORY'!$B:$B,'LABOR-EQUIP'!$B909)","v":0}]
[null,{"$f":"IF(ISBLANK(B909),\" \",VLOOKUP(B909,'PAYROLL RECORD'!$B$9:$C$10740,2,FALSE))","v":" "},"OT1",{"$f":"IF(ISBLANK(B909),0,VLOOKUP(B909,'PAYROLL RECORD'!$B$8:$V$2005,19,FALSE))","v":0},{"$f":"+E909","v":0},null,null,null,null,null,null,null,null,null,null,{"$f":"SUM(H910:N910)","v":0},null,null,{"$f":"IFERROR(P910*D910,\"\")","v":0},null,{"$f":"COUNTIF('EQUIPMENT INVENTORY'!$B:$B,'LABOR-EQUIP'!$B910)","v":0}]
[null,null,"OT2",{"$f":"IF(ISBLANK(B909),0,VLOOKUP(B909,'PAYROLL RECORD'!$B$8:$V$2005,20,FALSE))","v":0},{"$f":"+E909","v":0},null,null,null,null,null,null,null,null,null,null,null,{"$f":"SUM(H911:N911)","v":0},null,null,{"$f":"IFERROR(Q911*D911,\"\")","v":0},{"$f":"COUNTIF('EQUIPMENT INVENTORY'!$B:$B,'LABOR-EQUIP'!$B911)","v":0}]
[null,"Select type of activity(s).  See ELIGIBLE ACTIVITIES tab for complete descriptions and instructions.  Choose as many activities as applicable for each day/date. ",null,null,null,null,null,null,null,null,null,null,null,null,null,null,null,null,null,null,{"$f":"COUNTIF('EQUIPMENT INVENTORY'!$B:$B,'LABOR-EQUIP'!$B912)","v":0}]
[null,null,null,null,{"$f":"+E909","v":0},{"$f":"IF(ISBLANK(B913),0,VLOOKUP(B913,'EQUIPMENT INVENTORY'!$B$7:$AK$1021,7,0))","v":0},{"$f":"IF(ISBLANK(B913),0,VLOOKUP(B913,'EQUIPMENT INVENTORY'!$B$7:$AK$1021,8,0))","v":0},null,null,null,null,null,null,null,{"$f":"SUM($H913:$N913)","v":0},null,null,{"$f":"O913*G913","v":0},null,null,{"$f":"COUNTIF('EQUIPMENT INVENTORY'!$B:$B,'LABOR-EQUIP'!$B913)","v":0}]
[null,null,null,null,{"$f":"+E909","v":0},{"$f":"IF(ISBLANK(B914),0,VLOOKUP(B914,'EQUIPMENT INVENTORY'!$B$7:$AK$1021,7,0))","v":0},{"$f":"IF(ISBLANK(B914),0,VLOOKUP(B914,'EQUIPMENT INVENTORY'!$B$7:$AK$1021,8,0))","v":0},null,null,null,null,null,null,null,{"$f":"SUM($H914:$N914)","v":0},null,null,{"$f":"O914*G914","v":0},null,null,{"$f":"COUNTIF('EQUIPMENT INVENTORY'!$B:$B,'LABOR-EQUIP'!$B914)","v":0}]
[null,null,null,null,{"$f":"+E909","v":0},{"$f":"IF(ISBLANK(B915),0,VLOOKUP(B915,'EQUIPMENT INVENTORY'!$B$7:$AK$1021,7,0))","v":0},{"$f":"IF(ISBLANK(B915),0,VLOOKUP(B915,'EQUIPMENT INVENTORY'!$B$7:$AK$1021,8,0))","v":0},null,null,null,null,null,null,null,{"$f":"SUM($H915:$N915)","v":0},null,null,{"$f":"O915*G915","v":0},null,null,{"$f":"COUNTIF('EQUIPMENT INVENTORY'!$B:$B,'LABOR-EQUIP'!$B915)","v":0}]
[null,"Employee/\nEquipment",null,"RATE w/","REQUEST #","COST CODE","RATE",null,null,null,null,null,null,null,"REG","OT1","OT2","REG TIME\nCOST","OT1\nCOST","OT2\nCOST",{"$f":"COUNTIF('EQUIPMENT INVENTORY'!$B:$B,'LABOR-EQUIP'!$B916)","v":0}]
[null,null,null,"FRINGE",null,null,null,null,null,null,null,null,null,null,null,null,null,null,null,null,{"$f":"COUNTIF('EQUIPMENT INVENTORY'!$B:$B,'LABOR-EQUIP'!$B917)","v":0}]
[null,null,"REG",{"$f":"IF(ISBLANK(B918),0,VLOOKUP(B918,'PAYROLL RECORD'!$B$8:$V$2005,18,FALSE))","v":0},null,null,null,null,null,null,null,null,null,null,{"$f":"SUM($H918:$N918)","v":0},null,null,{"$f":"IFERROR(D918*O918,\"\")","v":0},null,null,{"$f":"COUNTIF('EQUIPMENT INVENTORY'!$B:$B,'LABOR-EQUIP'!$B918)","v":0}]
[null,{"$f":"IF(ISBLANK(B918),\" \",VLOOKUP(B918,'PAYROLL RECORD'!$B$9:$C$10740,2,FALSE))","v":" "},"OT1",{"$f":"IF(ISBLANK(B918),0,VLOOKUP(B918,'PAYROLL RECORD'!$B$8:$V$2005,19,FALSE))","v":0},{"$f":"+E918","v":0},null,null,null,null,null,null,null,null,null,null,{"$f":"SUM(H919:N919)","v":0},null,null,{"$f":"IF(E919<>\"e\",P919*D919,0)","v":0},null,{"$f":"COUNTIF('EQUIPMENT INVENTORY'!$B:$B,'LABOR-EQUIP'!$B919)","v":0}]
[null,null,"OT2",{"$f":"IF(ISBLANK(B918),0,VLOOKUP(B918,'PAYROLL RECORD'!$B$8:$V$2005,20,FALSE))","v":0},{"$f":"+E919","v":0},null,null,null,null,null,null,null,null,null,null,null,{"$f":"SUM(H920:N920)","v":0},null,null,{"$f":"IF(E920<>\"E\",Q920*D920,0)","v":0},{"$f":"COUNTIF('EQUIPMENT INVENTORY'!$B:$B,'LABOR-EQUIP'!$B920)","v":0}]
[null,"Select type of activity(s).  See ELIGIBLE ACTIVITIES tab for complete descriptions and instructions.  Choose as many activities as applicable for each day/date. ",null,null,null,null,null,null,null,null,null,null,null,null,null,null,null,null,null,null,{"$f":"COUNTIF('EQUIPMENT INVENTORY'!$B:$B,'LABOR-EQUIP'!$B921)","v":0}]
[null,null,null,null,{"$f":"+E920","v":0},{"$f":"IF(ISBLANK(B922),0,VLOOKUP(B922,'EQUIPMENT INVENTORY'!$B$7:$AK$1021,7,0))","v":0},{"$f":"IF(ISBLANK(B922),0,VLOOKUP(B922,'EQUIPMENT INVENTORY'!$B$7:$AK$1021,8,0))","v":0},null,null,null,null,null,null,null,{"$f":"SUM($H922:$N922)","v":0},null,null,{"$f":"O922*G922","v":0},null,null,{"$f":"COUNTIF('EQUIPMENT INVENTORY'!$B:$B,'LABOR-EQUIP'!$B922)","v":0}]
[null,null,null,null,0,{"$f":"IF(ISBLANK(B923),0,VLOOKUP(B923,'EQUIPMENT INVENTORY'!$B$7:$AK$1021,7,0))","v":0},{"$f":"IF(ISBLANK(B923),0,VLOOKUP(B923,'EQUIPMENT INVENTORY'!$B$7:$AK$1021,8,0))","v":0},null,null,null,null,null,null,null,{"$f":"SUM($H923:$N923)","v":0},null,null,{"$f":"O923*G923","v":0},null,null,{"$f":"COUNTIF('EQUIPMENT INVENTORY'!$B:$B,'LABOR-EQUIP'!$B923)","v":0}]
[null,null,null,null,0,{"$f":"IF(ISBLANK(B924),0,VLOOKUP(B924,'EQUIPMENT INVENTORY'!$B$7:$AK$1021,7,0))","v":0},{"$f":"IF(ISBLANK(B924),0,VLOOKUP(B924,'EQUIPMENT INVENTORY'!$B$7:$AK$1021,8,0))","v":0},null,null,null,null,null,null,null,{"$f":"SUM($H924:$N924)","v":0},null,null,{"$f":"O924*G924","v":0},null,null,{"$f":"COUNTIF('EQUIPMENT INVENTORY'!$B:$B,'LABOR-EQUIP'!$B924)","v":0}]
[null,"Employee/\nEquipment",null,"RATE w/","REQUEST #","COST CODE","RATE",null,null,null,null,null,null,null,"REG","OT1","OT2","REG TIME\nCOST","OT1\nCOST","OT2\nCOST",{"$f":"COUNTIF('EQUIPMENT INVENTORY'!$B:$B,'LABOR-EQUIP'!$B925)","v":0}]
[null,null,null,"FRINGE",null,null,null,null,null,null,null,null,null,null,null,null,null,null,null,null,{"$f":"COUNTIF('EQUIPMENT INVENTORY'!$B:$B,'LABOR-EQUIP'!$B926)","v":0}]
[null,null,"REG",{"$f":"IF(ISBLANK(B927),0,VLOOKUP(B927,'PAYROLL RECORD'!$B$8:$V$2005,18,FALSE))","v":0},null,null,null,null,null,null,null,null,null,null,{"$f":"SUM($H927:$N927)","v":0},null,null,{"$f":"IFERROR(D927*O927,\"\")","v":0},null,null,{"$f":"COUNTIF('EQUIPMENT INVENTORY'!$B:$B,'LABOR-EQUIP'!$B927)","v":0}]
[null,{"$f":"IF(ISBLANK(B927),\" \",VLOOKUP(B927,'PAYROLL RECORD'!$B$9:$C$10740,2,FALSE))","v":" "},"OT1",{"$f":"IF(ISBLANK(B927),0,VLOOKUP(B927,'PAYROLL RECORD'!$B$8:$V$2005,19,FALSE))","v":0},{"$f":"+E927","v":0},null,null,null,null,null,null,null,null,null,null,{"$f":"SUM(H928:N928)","v":0},null,null,{"$f":"IF(E928<>\"e\",P928*D928,0)","v":0},null,{"$f":"COUNTIF('EQUIPMENT INVENTORY'!$B:$B,'LABOR-EQUIP'!$B928)","v":0}]
[null,null,"OT2",{"$f":"IF(ISBLANK(B927),0,VLOOKUP(B927,'PAYROLL RECORD'!$B$8:$V$2005,20,FALSE))","v":0},{"$f":"+E928","v":0},null,null,null,null,null,null,null,null,null,null,null,{"$f":"SUM(H929:N929)","v":0},null,null,{"$f":"IF(E929<>\"E\",Q929*D929,0)","v":0},{"$f":"COUNTIF('EQUIPMENT INVENTORY'!$B:$B,'LABOR-EQUIP'!$B929)","v":0}]
[null,"Select type of activity(s).  See ELIGIBLE ACTIVITIES tab for complete descriptions and instructions.  Choose as many activities as applicable for each day/date. ",null,null,null,null,null,null,null,null,null,null,null,null,null,null,null,null,null,null,{"$f":"COUNTIF('EQUIPMENT INVENTORY'!$B:$B,'LABOR-EQUIP'!$B930)","v":0}]
[null,null,null,null,{"$f":"+E929","v":0},{"$f":"IF(ISBLANK(B931),0,VLOOKUP(B931,'EQUIPMENT INVENTORY'!$B$7:$AK$1021,7,0))","v":0},{"$f":"IF(ISBLANK(B931),0,VLOOKUP(B931,'EQUIPMENT INVENTORY'!$B$7:$AK$1021,8,0))","v":0},null,null,null,null,null,null,null,{"$f":"SUM($H931:$N931)","v":0},null,null,{"$f":"O931*G931","v":0},null,null,{"$f":"COUNTIF('EQUIPMENT INVENTORY'!$B:$B,'LABOR-EQUIP'!$B931)","v":0}]
[null,null,null,null,0,{"$f":"IF(ISBLANK(B932),0,VLOOKUP(B932,'EQUIPMENT INVENTORY'!$B$7:$AK$1021,7,0))","v":0},{"$f":"IF(ISBLANK(B932),0,VLOOKUP(B932,'EQUIPMENT INVENTORY'!$B$7:$AK$1021,8,0))","v":0},null,null,null,null,null,null,null,{"$f":"SUM($H932:$N932)","v":0},null,null,{"$f":"O932*G932","v":0},null,null,{"$f":"COUNTIF('EQUIPMENT INVENTORY'!$B:$B,'LABOR-EQUIP'!$B932)","v":0}]
[null,null,null,null,0,{"$f":"IF(ISBLANK(B933),0,VLOOKUP(B933,'EQUIPMENT INVENTORY'!$B$7:$AK$1021,7,0))","v":0},{"$f":"IF(ISBLANK(B933),0,VLOOKUP(B933,'EQUIPMENT INVENTORY'!$B$7:$AK$1021,8,0))","v":0},null,null,null,null,null,null,null,{"$f":"SUM($H933:$N933)","v":0},null,null,{"$f":"O933*G933","v":0},null,null,{"$f":"COUNTIF('EQUIPMENT INVENTORY'!$B:$B,'LABOR-EQUIP'!$B933)","v":0}]
[null,"Employee/\nEquipment",null,"RATE w/","REQUEST #","COST CODE","RATE",null,null,null,null,null,null,null,"REG","OT1","OT2","REG TIME\nCOST","OT1\nCOST","OT2\nCOST",{"$f":"COUNTIF('EQUIPMENT INVENTORY'!$B:$B,'LABOR-EQUIP'!$B934)","v":0}]
[null,null,null,"FRINGE",null,null,null,null,null,null,null,null,null,null,null,null,null,null,null,null,{"$f":"COUNTIF('EQUIPMENT INVENTORY'!$B:$B,'LABOR-EQUIP'!$B935)","v":0}]
[null,null,"REG",{"$f":"IF(ISBLANK(B936),0,VLOOKUP(B936,'PAYROLL RECORD'!$B$8:$V$2005,18,FALSE))","v":0},null,null,null,null,null,null,null,null,null,null,{"$f":"SUM($H936:$N936)","v":0},null,null,{"$f":"IFERROR(D936*O936,\"\")","v":0},null,null,{"$f":"COUNTIF('EQUIPMENT INVENTORY'!$B:$B,'LABOR-EQUIP'!$B936)","v":0}]
[null,{"$f":"IF(ISBLANK(B936),\" \",VLOOKUP(B936,'PAYROLL RECORD'!$B$9:$C$10740,2,FALSE))","v":" "},"OT1",{"$f":"IF(ISBLANK(B936),0,VLOOKUP(B936,'PAYROLL RECORD'!$B$8:$V$2005,19,FALSE))","v":0},{"$f":"+E936","v":0},null,null,null,null,null,null,null,null,null,null,{"$f":"SUM(H937:N937)","v":0},null,null,{"$f":"IF(E937<>\"e\",P937*D937,0)","v":0},null,{"$f":"COUNTIF('EQUIPMENT INVENTORY'!$B:$B,'LABOR-EQUIP'!$B937)","v":0}]
[null,null,"OT2",{"$f":"IF(ISBLANK(B936),0,VLOOKUP(B936,'PAYROLL RECORD'!$B$8:$V$2005,20,FALSE))","v":0},{"$f":"+E937","v":0},null,null,null,null,null,null,null,null,null,null,null,{"$f":"SUM(H938:N938)","v":0},null,null,{"$f":"IF(E938<>\"E\",Q938*D938,0)","v":0},{"$f":"COUNTIF('EQUIPMENT INVENTORY'!$B:$B,'LABOR-EQUIP'!$B938)","v":0}]
[null,"Select type of activity(s).  See ELIGIBLE ACTIVITIES tab for complete descriptions and instructions.  Choose as many activities as applicable for each day/date. ",null,null,null,null,null,null,null,null,null,null,null,null,null,null,null,null,null,null,{"$f":"COUNTIF('EQUIPMENT INVENTORY'!$B:$B,'LABOR-EQUIP'!$B939)","v":0}]
[null,null,null,null,{"$f":"+E938","v":0},{"$f":"IF(ISBLANK(B940),0,VLOOKUP(B940,'EQUIPMENT INVENTORY'!$B$7:$AK$1021,7,0))","v":0},{"$f":"IF(ISBLANK(B940),0,VLOOKUP(B940,'EQUIPMENT INVENTORY'!$B$7:$AK$1021,8,0))","v":0},null,null,null,null,null,null,null,{"$f":"SUM($H940:$N940)","v":0},null,null,{"$f":"O940*G940","v":0},null,null,{"$f":"COUNTIF('EQUIPMENT INVENTORY'!$B:$B,'LABOR-EQUIP'!$B940)","v":0}]
[null,null,null,null,0,{"$f":"IF(ISBLANK(B941),0,VLOOKUP(B941,'EQUIPMENT INVENTORY'!$B$7:$AK$1021,7,0))","v":0},{"$f":"IF(ISBLANK(B941),0,VLOOKUP(B941,'EQUIPMENT INVENTORY'!$B$7:$AK$1021,8,0))","v":0},null,null,null,null,null,null,null,{"$f":"SUM($H941:$N941)","v":0},null,null,{"$f":"O941*G941","v":0},null,null,{"$f":"COUNTIF('EQUIPMENT INVENTORY'!$B:$B,'LABOR-EQUIP'!$B941)","v":0}]
[null,null,null,null,0,{"$f":"IF(ISBLANK(B942),0,VLOOKUP(B942,'EQUIPMENT INVENTORY'!$B$7:$AK$1021,7,0))","v":0},{"$f":"IF(ISBLANK(B942),0,VLOOKUP(B942,'EQUIPMENT INVENTORY'!$B$7:$AK$1021,8,0))","v":0},null,null,null,null,null,null,null,{"$f":"SUM($H942:$N942)","v":0},null,null,{"$f":"O942*G942","v":0},null,null,{"$f":"COUNTIF('EQUIPMENT INVENTORY'!$B:$B,'LABOR-EQUIP'!$B942)","v":0}]
[null,"Employee/\nEquipment",null,"RATE w/","REQUEST #","COST CODE","RATE",null,null,null,null,null,null,null,"REG","OT1","OT2","REG TIME\nCOST","OT1\nCOST","OT2\nCOST",{"$f":"COUNTIF('EQUIPMENT INVENTORY'!$B:$B,'LABOR-EQUIP'!$B943)","v":0}]
[null,null,null,"FRINGE",null,null,null,null,null,null,null,null,null,null,null,null,null,null,null,null,{"$f":"COUNTIF('EQUIPMENT INVENTORY'!$B:$B,'LABOR-EQUIP'!$B944)","v":0}]
[null,null,"REG",{"$f":"IF(ISBLANK(B945),0,VLOOKUP(B945,'PAYROLL RECORD'!$B$8:$V$2005,18,FALSE))","v":0},null,null,null,null,null,null,null,null,null,null,{"$f":"SUM($H945:$N945)","v":0},null,null,{"$f":"IFERROR(D945*O945,\"\")","v":0},null,null,{"$f":"COUNTIF('EQUIPMENT INVENTORY'!$B:$B,'LABOR-EQUIP'!$B945)","v":0}]
[null,{"$f":"IF(ISBLANK(B945),\" \",VLOOKUP(B945,'PAYROLL RECORD'!$B$9:$C$10740,2,FALSE))","v":" "},"OT1",{"$f":"IF(ISBLANK(B945),0,VLOOKUP(B945,'PAYROLL RECORD'!$B$8:$V$2005,19,FALSE))","v":0},{"$f":"+E945","v":0},null,null,null,null,null,null,null,null,null,null,{"$f":"SUM(H946:N946)","v":0},null,null,{"$f":"IF(E946<>\"e\",P946*D946,0)","v":0},null,{"$f":"COUNTIF('EQUIPMENT INVENTORY'!$B:$B,'LABOR-EQUIP'!$B946)","v":0}]
[null,null,"OT2",{"$f":"IF(ISBLANK(B945),0,VLOOKUP(B945,'PAYROLL RECORD'!$B$8:$V$2005,20,FALSE))","v":0},{"$f":"+E946","v":0},null,null,null,null,null,null,null,null,null,null,null,{"$f":"SUM(H947:N947)","v":0},null,null,{"$f":"IF(E947<>\"E\",Q947*D947,0)","v":0},{"$f":"COUNTIF('EQUIPMENT INVENTORY'!$B:$B,'LABOR-EQUIP'!$B947)","v":0}]
[null,"Select type of activity(s).  See ELIGIBLE ACTIVITIES tab for complete descriptions and instructions.  Choose as many activities as applicable for each day/date. ",null,null,null,null,null,null,null,null,null,null,null,null,null,null,null,null,null,null,{"$f":"COUNTIF('EQUIPMENT INVENTORY'!$B:$B,'LABOR-EQUIP'!$B948)","v":0}]
[null,null,null,null,{"$f":"+E947","v":0},{"$f":"IF(ISBLANK(B949),0,VLOOKUP(B949,'EQUIPMENT INVENTORY'!$B$7:$AK$1021,7,0))","v":0},{"$f":"IF(ISBLANK(B949),0,VLOOKUP(B949,'EQUIPMENT INVENTORY'!$B$7:$AK$1021,8,0))","v":0},null,null,null,null,null,null,null,{"$f":"SUM($H949:$N949)","v":0},null,null,{"$f":"O949*G949","v":0},null,null,{"$f":"COUNTIF('EQUIPMENT INVENTORY'!$B:$B,'LABOR-EQUIP'!$B949)","v":0}]
[null,null,null,null,0,{"$f":"IF(ISBLANK(B950),0,VLOOKUP(B950,'EQUIPMENT INVENTORY'!$B$7:$AK$1021,7,0))","v":0},{"$f":"IF(ISBLANK(B950),0,VLOOKUP(B950,'EQUIPMENT INVENTORY'!$B$7:$AK$1021,8,0))","v":0},null,null,null,null,null,null,null,{"$f":"SUM($H950:$N950)","v":0},null,null,{"$f":"O950*G950","v":0},null,null,{"$f":"COUNTIF('EQUIPMENT INVENTORY'!$B:$B,'LABOR-EQUIP'!$B950)","v":0}]
[null,null,null,null,0,{"$f":"IF(ISBLANK(B951),0,VLOOKUP(B951,'EQUIPMENT INVENTORY'!$B$7:$AK$1021,7,0))","v":0},{"$f":"IF(ISBLANK(B951),0,VLOOKUP(B951,'EQUIPMENT INVENTORY'!$B$7:$AK$1021,8,0))","v":0},null,null,null,null,null,null,null,{"$f":"SUM($H951:$N951)","v":0},null,null,{"$f":"O951*G951","v":0},null,null,{"$f":"COUNTIF('EQUIPMENT INVENTORY'!$B:$B,'LABOR-EQUIP'!$B951)","v":0}]
[null,null,null,null,null,null,null,null,null,null,null,null,"LABOR - Page Total",null,{"$f":"O909+O918+O927+O936+O945","v":0},{"$f":"P910+P919+P928+P937+P946","v":0},{"$f":"Q911+Q920+Q929+Q938+Q947","v":0},{"$f":"R909+R918+R927+R936+R945","v":0},{"$f":"S910+S919+S928+S937+S946","v":0},{"$f":"T911+T920+T929+T938+T947","v":0}]
[null,null,null,null,null,null,null,null,null,null,null,null,"EQUIPMENT - Page Total",null,{"$f":"O913+O914+O915+O922+O923+O924+O931+O932+O933+O940+O941+O942+O949+O950+O951","v":0},null,null,{"$f":"R913+R914+R915+R922+R923+R924+R931+R932+R933+R940+R941+R942+R949+R950+R951","v":0}]
[null,null,null,null,null,null,null,null,null,null,null,null,"LABOR - Grand Total",null,{"$f":"SUM($AA:$AA)","v":0},{"$f":"SUM(AB:AB)","v":0},{"$f":"SUM(AC:AC)","v":0},{"$f":"SUM(AD:AD)","v":0},{"$f":"SUM(AE:AE)","v":0},{"$f":"SUM(AF:AF)","v":0},null,null,null,null,null,null,{"$f":"O952","v":0},{"$f":"P952","v":0},{"$f":"Q952","v":0},{"$f":"R952","v":0},{"$f":"S952","v":0},{"$f":"T952","v":0}]
[null,null,null,null,null,null,null,null,null,null,null,null,"EQUIPMENT - Grand Total",null,{"$f":"SUM(AG:AG)","v":0},null,null,{"$f":"SUM(AH:AH)","v":0},null,null,null,null,null,null,null,null,null,null,null,null,null,null,{"$f":"O953","v":0},{"$f":"R953","v":0}]
[]
[]
[null,"APPLICANT NAME",null,null,"DISASTER #",null,null,"PLEASE ENTER DATES FOR EACH DAY WORKED.  THIS ALLOWS FOR TRACKING OF COSTS OVER MULTIPLE DAYS, WEEKS AND/OR YEARS.  USE THE FIRST ROW FOR MONTH/DAY AND THE SECOND ROW FOR YEAR.  DATES DO NOT NEED TO BE CONSECUTIVE. ",null,null,null,null,null,null,"DISASTER TITLE"]
[null,{"$f":"IF('PAYROLL RECORD'!B959=\"\",\"\",'PAYROLL RECORD'!B959)","v":""},null,null,{"$f":"IF('PAYROLL RECORD'!D959=\"\",\"\",'PAYROLL RECORD'!D959)","v":""},null,null,null,null,null,null,null,null,null,{"$f":"IF('PAYROLL RECORD'!G959=\"\",\"\",'PAYROLL RECORD'!G959)","v":""}]
[null,"Employee/\nEquipment",null,"RATE w/","REQUEST #","COST CODE","RATE",null,null,null,null,null,null,null,"REG","OT1","OT2","REG TIME\nCOST","OT1\nCOST","OT2\nCOST"]
[null,null,null,"FRINGE"]
[null,null,"REG",{"$f":"IF(ISBLANK(B962),0,VLOOKUP(B962,'PAYROLL RECORD'!$B$8:$V$2005,18,FALSE))","v":0},null,null,null,null,null,null,null,null,null,null,{"$f":"SUM($H962:$N962)","v":0},null,null,{"$f":"IFERROR(D962*O962,\"\")","v":0},null,null,{"$f":"COUNTIF('EQUIPMENT INVENTORY'!$B:$B,'LABOR-EQUIP'!$B962)","v":0}]
[null,{"$f":"IF(ISBLANK(B962),\" \",VLOOKUP(B962,'PAYROLL RECORD'!$B$9:$C$10740,2,FALSE))","v":" "},"OT1",{"$f":"IF(ISBLANK(B962),0,VLOOKUP(B962,'PAYROLL RECORD'!$B$8:$V$2005,19,FALSE))","v":0},{"$f":"+E962","v":0},null,null,null,null,null,null,null,null,null,null,{"$f":"SUM(H963:N963)","v":0},null,null,{"$f":"IFERROR(P963*D963,\"\")","v":0},null,{"$f":"COUNTIF('EQUIPMENT INVENTORY'!$B:$B,'LABOR-EQUIP'!$B963)","v":0}]
[null,null,"OT2",{"$f":"IF(ISBLANK(B962),0,VLOOKUP(B962,'PAYROLL RECORD'!$B$8:$V$2005,20,FALSE))","v":0},{"$f":"+E962","v":0},null,null,null,null,null,null,null,null,null,null,null,{"$f":"SUM(H964:N964)","v":0},null,null,{"$f":"IFERROR(Q964*D964,\"\")","v":0},{"$f":"COUNTIF('EQUIPMENT INVENTORY'!$B:$B,'LABOR-EQUIP'!$B964)","v":0}]
[null,"Select type of activity(s).  See ELIGIBLE ACTIVITIES tab for complete descriptions and instructions.  Choose as many activities as applicable for each day/date. ",null,null,null,null,null,null,null,null,null,null,null,null,null,null,null,null,null,null,{"$f":"COUNTIF('EQUIPMENT INVENTORY'!$B:$B,'LABOR-EQUIP'!$B965)","v":0}]
[null,null,null,null,{"$f":"+E962","v":0},{"$f":"IF(ISBLANK(B966),0,VLOOKUP(B966,'EQUIPMENT INVENTORY'!$B$7:$AK$1021,7,0))","v":0},{"$f":"IF(ISBLANK(B966),0,VLOOKUP(B966,'EQUIPMENT INVENTORY'!$B$7:$AK$1021,8,0))","v":0},null,null,null,null,null,null,null,{"$f":"SUM($H966:$N966)","v":0},null,null,{"$f":"O966*G966","v":0},null,null,{"$f":"COUNTIF('EQUIPMENT INVENTORY'!$B:$B,'LABOR-EQUIP'!$B966)","v":0}]
[null,null,null,null,{"$f":"+E962","v":0},{"$f":"IF(ISBLANK(B967),0,VLOOKUP(B967,'EQUIPMENT INVENTORY'!$B$7:$AK$1021,7,0))","v":0},{"$f":"IF(ISBLANK(B967),0,VLOOKUP(B967,'EQUIPMENT INVENTORY'!$B$7:$AK$1021,8,0))","v":0},null,null,null,null,null,null,null,{"$f":"SUM($H967:$N967)","v":0},null,null,{"$f":"O967*G967","v":0},null,null,{"$f":"COUNTIF('EQUIPMENT INVENTORY'!$B:$B,'LABOR-EQUIP'!$B967)","v":0}]
[null,null,null,null,{"$f":"+E962","v":0},{"$f":"IF(ISBLANK(B968),0,VLOOKUP(B968,'EQUIPMENT INVENTORY'!$B$7:$AK$1021,7,0))","v":0},{"$f":"IF(ISBLANK(B968),0,VLOOKUP(B968,'EQUIPMENT INVENTORY'!$B$7:$AK$1021,8,0))","v":0},null,null,null,null,null,null,null,{"$f":"SUM($H968:$N968)","v":0},null,null,{"$f":"O968*G968","v":0},null,null,{"$f":"COUNTIF('EQUIPMENT INVENTORY'!$B:$B,'LABOR-EQUIP'!$B968)","v":0}]
[null,"Employee/\nEquipment",null,"RATE w/","REQUEST #","COST CODE","RATE",null,null,null,null,null,null,null,"REG","OT1","OT2","REG TIME\nCOST","OT1\nCOST","OT2\nCOST",{"$f":"COUNTIF('EQUIPMENT INVENTORY'!$B:$B,'LABOR-EQUIP'!$B969)","v":0}]
[null,null,null,"FRINGE",null,null,null,null,null,null,null,null,null,null,null,null,null,null,null,null,{"$f":"COUNTIF('EQUIPMENT INVENTORY'!$B:$B,'LABOR-EQUIP'!$B970)","v":0}]
[null,null,"REG",{"$f":"IF(ISBLANK(B971),0,VLOOKUP(B971,'PAYROLL RECORD'!$B$8:$V$2005,18,FALSE))","v":0},null,null,null,null,null,null,null,null,null,null,{"$f":"SUM($H971:$N971)","v":0},null,null,{"$f":"IFERROR(D971*O971,\"\")","v":0},null,null,{"$f":"COUNTIF('EQUIPMENT INVENTORY'!$B:$B,'LABOR-EQUIP'!$B971)","v":0}]
[null,{"$f":"IF(ISBLANK(B971),\" \",VLOOKUP(B971,'PAYROLL RECORD'!$B$9:$C$10740,2,FALSE))","v":" "},"OT1",{"$f":"IF(ISBLANK(B971),0,VLOOKUP(B971,'PAYROLL RECORD'!$B$8:$V$2005,19,FALSE))","v":0},{"$f":"+E971","v":0},null,null,null,null,null,null,null,null,null,null,{"$f":"SUM(H972:N972)","v":0},null,null,{"$f":"IF(E972<>\"e\",P972*D972,0)","v":0},null,{"$f":"COUNTIF('EQUIPMENT INVENTORY'!$B:$B,'LABOR-EQUIP'!$B972)","v":0}]
[null,null,"OT2",{"$f":"IF(ISBLANK(B971),0,VLOOKUP(B971,'PAYROLL RECORD'!$B$8:$V$2005,20,FALSE))","v":0},{"$f":"+E972","v":0},null,null,null,null,null,null,null,null,null,null,null,{"$f":"SUM(H973:N973)","v":0},null,null,{"$f":"IF(E973<>\"E\",Q973*D973,0)","v":0},{"$f":"COUNTIF('EQUIPMENT INVENTORY'!$B:$B,'LABOR-EQUIP'!$B973)","v":0}]
[null,"Select type of activity(s).  See ELIGIBLE ACTIVITIES tab for complete descriptions and instructions.  Choose as many activities as applicable for each day/date. ",null,null,null,null,null,null,null,null,null,null,null,null,null,null,null,null,null,null,{"$f":"COUNTIF('EQUIPMENT INVENTORY'!$B:$B,'LABOR-EQUIP'!$B974)","v":0}]
[null,null,null,null,{"$f":"+E973","v":0},{"$f":"IF(ISBLANK(B975),0,VLOOKUP(B975,'EQUIPMENT INVENTORY'!$B$7:$AK$1021,7,0))","v":0},{"$f":"IF(ISBLANK(B975),0,VLOOKUP(B975,'EQUIPMENT INVENTORY'!$B$7:$AK$1021,8,0))","v":0},null,null,null,null,null,null,null,{"$f":"SUM($H975:$N975)","v":0},null,null,{"$f":"O975*G975","v":0},null,null,{"$f":"COUNTIF('EQUIPMENT INVENTORY'!$B:$B,'LABOR-EQUIP'!$B975)","v":0}]
[null,null,null,null,0,{"$f":"IF(ISBLANK(B976),0,VLOOKUP(B976,'EQUIPMENT INVENTORY'!$B$7:$AK$1021,7,0))","v":0},{"$f":"IF(ISBLANK(B976),0,VLOOKUP(B976,'EQUIPMENT INVENTORY'!$B$7:$AK$1021,8,0))","v":0},null,null,null,null,null,null,null,{"$f":"SUM($H976:$N976)","v":0},null,null,{"$f":"O976*G976","v":0},null,null,{"$f":"COUNTIF('EQUIPMENT INVENTORY'!$B:$B,'LABOR-EQUIP'!$B976)","v":0}]
[null,null,null,null,0,{"$f":"IF(ISBLANK(B977),0,VLOOKUP(B977,'EQUIPMENT INVENTORY'!$B$7:$AK$1021,7,0))","v":0},{"$f":"IF(ISBLANK(B977),0,VLOOKUP(B977,'EQUIPMENT INVENTORY'!$B$7:$AK$1021,8,0))","v":0},null,null,null,null,null,null,null,{"$f":"SUM($H977:$N977)","v":0},null,null,{"$f":"O977*G977","v":0},null,null,{"$f":"COUNTIF('EQUIPMENT INVENTORY'!$B:$B,'LABOR-EQUIP'!$B977)","v":0}]
[null,"Employee/\nEquipment",null,"RATE w/","REQUEST #","COST CODE","RATE",null,null,null,null,null,null,null,"REG","OT1","OT2","REG TIME\nCOST","OT1\nCOST","OT2\nCOST",{"$f":"COUNTIF('EQUIPMENT INVENTORY'!$B:$B,'LABOR-EQUIP'!$B978)","v":0}]
[null,null,null,"FRINGE",null,null,null,null,null,null,null,null,null,null,null,null,null,null,null,null,{"$f":"COUNTIF('EQUIPMENT INVENTORY'!$B:$B,'LABOR-EQUIP'!$B979)","v":0}]
[null,null,"REG",{"$f":"IF(ISBLANK(B980),0,VLOOKUP(B980,'PAYROLL RECORD'!$B$8:$V$2005,18,FALSE))","v":0},null,null,null,null,null,null,null,null,null,null,{"$f":"SUM($H980:$N980)","v":0},null,null,{"$f":"IFERROR(D980*O980,\"\")","v":0},null,null,{"$f":"COUNTIF('EQUIPMENT INVENTORY'!$B:$B,'LABOR-EQUIP'!$B980)","v":0}]
[null,{"$f":"IF(ISBLANK(B980),\" \",VLOOKUP(B980,'PAYROLL RECORD'!$B$9:$C$10740,2,FALSE))","v":" "},"OT1",{"$f":"IF(ISBLANK(B980),0,VLOOKUP(B980,'PAYROLL RECORD'!$B$8:$V$2005,19,FALSE))","v":0},{"$f":"+E980","v":0},null,null,null,null,null,null,null,null,null,null,{"$f":"SUM(H981:N981)","v":0},null,null,{"$f":"IF(E981<>\"e\",P981*D981,0)","v":0},null,{"$f":"COUNTIF('EQUIPMENT INVENTORY'!$B:$B,'LABOR-EQUIP'!$B981)","v":0}]
[null,null,"OT2",{"$f":"IF(ISBLANK(B980),0,VLOOKUP(B980,'PAYROLL RECORD'!$B$8:$V$2005,20,FALSE))","v":0},{"$f":"+E981","v":0},null,null,null,null,null,null,null,null,null,null,null,{"$f":"SUM(H982:N982)","v":0},null,null,{"$f":"IF(E982<>\"E\",Q982*D982,0)","v":0},{"$f":"COUNTIF('EQUIPMENT INVENTORY'!$B:$B,'LABOR-EQUIP'!$B982)","v":0}]
[null,"Select type of activity(s).  See ELIGIBLE ACTIVITIES tab for complete descriptions and instructions.  Choose as many activities as applicable for each day/date. ",null,null,null,null,null,null,null,null,null,null,null,null,null,null,null,null,null,null,{"$f":"COUNTIF('EQUIPMENT INVENTORY'!$B:$B,'LABOR-EQUIP'!$B983)","v":0}]
[null,null,null,null,{"$f":"+E982","v":0},{"$f":"IF(ISBLANK(B984),0,VLOOKUP(B984,'EQUIPMENT INVENTORY'!$B$7:$AK$1021,7,0))","v":0},{"$f":"IF(ISBLANK(B984),0,VLOOKUP(B984,'EQUIPMENT INVENTORY'!$B$7:$AK$1021,8,0))","v":0},null,null,null,null,null,null,null,{"$f":"SUM($H984:$N984)","v":0},null,null,{"$f":"O984*G984","v":0},null,null,{"$f":"COUNTIF('EQUIPMENT INVENTORY'!$B:$B,'LABOR-EQUIP'!$B984)","v":0}]
[null,null,null,null,0,{"$f":"IF(ISBLANK(B985),0,VLOOKUP(B985,'EQUIPMENT INVENTORY'!$B$7:$AK$1021,7,0))","v":0},{"$f":"IF(ISBLANK(B985),0,VLOOKUP(B985,'EQUIPMENT INVENTORY'!$B$7:$AK$1021,8,0))","v":0},null,null,null,null,null,null,null,{"$f":"SUM($H985:$N985)","v":0},null,null,{"$f":"O985*G985","v":0},null,null,{"$f":"COUNTIF('EQUIPMENT INVENTORY'!$B:$B,'LABOR-EQUIP'!$B985)","v":0}]
[null,null,null,null,0,{"$f":"IF(ISBLANK(B986),0,VLOOKUP(B986,'EQUIPMENT INVENTORY'!$B$7:$AK$1021,7,0))","v":0},{"$f":"IF(ISBLANK(B986),0,VLOOKUP(B986,'EQUIPMENT INVENTORY'!$B$7:$AK$1021,8,0))","v":0},null,null,null,null,null,null,null,{"$f":"SUM($H986:$N986)","v":0},null,null,{"$f":"O986*G986","v":0},null,null,{"$f":"COUNTIF('EQUIPMENT INVENTORY'!$B:$B,'LABOR-EQUIP'!$B986)","v":0}]
[null,"Employee/\nEquipment",null,"RATE w/","REQUEST #","COST CODE","RATE",null,null,null,null,null,null,null,"REG","OT1","OT2","REG TIME\nCOST","OT1\nCOST","OT2\nCOST",{"$f":"COUNTIF('EQUIPMENT INVENTORY'!$B:$B,'LABOR-EQUIP'!$B987)","v":0}]
[null,null,null,"FRINGE",null,null,null,null,null,null,null,null,null,null,null,null,null,null,null,null,{"$f":"COUNTIF('EQUIPMENT INVENTORY'!$B:$B,'LABOR-EQUIP'!$B988)","v":0}]
[null,null,"REG",{"$f":"IF(ISBLANK(B989),0,VLOOKUP(B989,'PAYROLL RECORD'!$B$8:$V$2005,18,FALSE))","v":0},null,null,null,null,null,null,null,null,null,null,{"$f":"SUM($H989:$N989)","v":0},null,null,{"$f":"IFERROR(D989*O989,\"\")","v":0},null,null,{"$f":"COUNTIF('EQUIPMENT INVENTORY'!$B:$B,'LABOR-EQUIP'!$B989)","v":0}]
[null,{"$f":"IF(ISBLANK(B989),\" \",VLOOKUP(B989,'PAYROLL RECORD'!$B$9:$C$10740,2,FALSE))","v":" "},"OT1",{"$f":"IF(ISBLANK(B989),0,VLOOKUP(B989,'PAYROLL RECORD'!$B$8:$V$2005,19,FALSE))","v":0},{"$f":"+E989","v":0},null,null,null,null,null,null,null,null,null,null,{"$f":"SUM(H990:N990)","v":0},null,null,{"$f":"IF(E990<>\"e\",P990*D990,0)","v":0},null,{"$f":"COUNTIF('EQUIPMENT INVENTORY'!$B:$B,'LABOR-EQUIP'!$B990)","v":0}]
[null,null,"OT2",{"$f":"IF(ISBLANK(B989),0,VLOOKUP(B989,'PAYROLL RECORD'!$B$8:$V$2005,20,FALSE))","v":0},{"$f":"+E990","v":0},null,null,null,null,null,null,null,null,null,null,null,{"$f":"SUM(H991:N991)","v":0},null,null,{"$f":"IF(E991<>\"E\",Q991*D991,0)","v":0},{"$f":"COUNTIF('EQUIPMENT INVENTORY'!$B:$B,'LABOR-EQUIP'!$B991)","v":0}]
[null,"Select type of activity(s).  See ELIGIBLE ACTIVITIES tab for complete descriptions and instructions.  Choose as many activities as applicable for each day/date. ",null,null,null,null,null,null,null,null,null,null,null,null,null,null,null,null,null,null,{"$f":"COUNTIF('EQUIPMENT INVENTORY'!$B:$B,'LABOR-EQUIP'!$B992)","v":0}]
[null,null,null,null,{"$f":"+E991","v":0},{"$f":"IF(ISBLANK(B993),0,VLOOKUP(B993,'EQUIPMENT INVENTORY'!$B$7:$AK$1021,7,0))","v":0},{"$f":"IF(ISBLANK(B993),0,VLOOKUP(B993,'EQUIPMENT INVENTORY'!$B$7:$AK$1021,8,0))","v":0},null,null,null,null,null,null,null,{"$f":"SUM($H993:$N993)","v":0},null,null,{"$f":"O993*G993","v":0},null,null,{"$f":"COUNTIF('EQUIPMENT INVENTORY'!$B:$B,'LABOR-EQUIP'!$B993)","v":0}]
[null,null,null,null,0,{"$f":"IF(ISBLANK(B994),0,VLOOKUP(B994,'EQUIPMENT INVENTORY'!$B$7:$AK$1021,7,0))","v":0},{"$f":"IF(ISBLANK(B994),0,VLOOKUP(B994,'EQUIPMENT INVENTORY'!$B$7:$AK$1021,8,0))","v":0},null,null,null,null,null,null,null,{"$f":"SUM($H994:$N994)","v":0},null,null,{"$f":"O994*G994","v":0},null,null,{"$f":"COUNTIF('EQUIPMENT INVENTORY'!$B:$B,'LABOR-EQUIP'!$B994)","v":0}]
[null,null,null,null,0,{"$f":"IF(ISBLANK(B995),0,VLOOKUP(B995,'EQUIPMENT INVENTORY'!$B$7:$AK$1021,7,0))","v":0},{"$f":"IF(ISBLANK(B995),0,VLOOKUP(B995,'EQUIPMENT INVENTORY'!$B$7:$AK$1021,8,0))","v":0},null,null,null,null,null,null,null,{"$f":"SUM($H995:$N995)","v":0},null,null,{"$f":"O995*G995","v":0},null,null,{"$f":"COUNTIF('EQUIPMENT INVENTORY'!$B:$B,'LABOR-EQUIP'!$B995)","v":0}]
[null,"Employee/\nEquipment",null,"RATE w/","REQUEST #","COST CODE","RATE",null,null,null,null,null,null,null,"REG","OT1","OT2","REG TIME\nCOST","OT1\nCOST","OT2\nCOST",{"$f":"COUNTIF('EQUIPMENT INVENTORY'!$B:$B,'LABOR-EQUIP'!$B996)","v":0}]
[null,null,null,"FRINGE",null,null,null,null,null,null,null,null,null,null,null,null,null,null,null,null,{"$f":"COUNTIF('EQUIPMENT INVENTORY'!$B:$B,'LABOR-EQUIP'!$B997)","v":0}]
[null,null,"REG",{"$f":"IF(ISBLANK(B998),0,VLOOKUP(B998,'PAYROLL RECORD'!$B$8:$V$2005,18,FALSE))","v":0},null,null,null,null,null,null,null,null,null,null,{"$f":"SUM($H998:$N998)","v":0},null,null,{"$f":"IFERROR(D998*O998,\"\")","v":0},null,null,{"$f":"COUNTIF('EQUIPMENT INVENTORY'!$B:$B,'LABOR-EQUIP'!$B998)","v":0}]
[null,{"$f":"IF(ISBLANK(B998),\" \",VLOOKUP(B998,'PAYROLL RECORD'!$B$9:$C$10740,2,FALSE))","v":" "},"OT1",{"$f":"IF(ISBLANK(B998),0,VLOOKUP(B998,'PAYROLL RECORD'!$B$8:$V$2005,19,FALSE))","v":0},{"$f":"+E998","v":0},null,null,null,null,null,null,null,null,null,null,{"$f":"SUM(H999:N999)","v":0},null,null,{"$f":"IF(E999<>\"e\",P999*D999,0)","v":0},null,{"$f":"COUNTIF('EQUIPMENT INVENTORY'!$B:$B,'LABOR-EQUIP'!$B999)","v":0}]
[null,null,"OT2",{"$f":"IF(ISBLANK(B998),0,VLOOKUP(B998,'PAYROLL RECORD'!$B$8:$V$2005,20,FALSE))","v":0},{"$f":"+E999","v":0},null,null,null,null,null,null,null,null,null,null,null,{"$f":"SUM(H1000:N1000)","v":0},null,null,{"$f":"IF(E1000<>\"E\",Q1000*D1000,0)","v":0},{"$f":"COUNTIF('EQUIPMENT INVENTORY'!$B:$B,'LABOR-EQUIP'!$B1000)","v":0}]
[null,"Select type of activity(s).  See ELIGIBLE ACTIVITIES tab for complete descriptions and instructions.  Choose as many activities as applicable for each day/date. ",null,null,null,null,null,null,null,null,null,null,null,null,null,null,null,null,null,null,{"$f":"COUNTIF('EQUIPMENT INVENTORY'!$B:$B,'LABOR-EQUIP'!$B1001)","v":0}]
[null,null,null,null,{"$f":"+E1000","v":0},{"$f":"IF(ISBLANK(B1002),0,VLOOKUP(B1002,'EQUIPMENT INVENTORY'!$B$7:$AK$1021,7,0))","v":0},{"$f":"IF(ISBLANK(B1002),0,VLOOKUP(B1002,'EQUIPMENT INVENTORY'!$B$7:$AK$1021,8,0))","v":0},null,null,null,null,null,null,null,{"$f":"SUM($H1002:$N1002)","v":0},null,null,{"$f":"O1002*G1002","v":0},null,null,{"$f":"COUNTIF('EQUIPMENT INVENTORY'!$B:$B,'LABOR-EQUIP'!$B1002)","v":0}]
[null,null,null,null,0,{"$f":"IF(ISBLANK(B1003),0,VLOOKUP(B1003,'EQUIPMENT INVENTORY'!$B$7:$AK$1021,7,0))","v":0},{"$f":"IF(ISBLANK(B1003),0,VLOOKUP(B1003,'EQUIPMENT INVENTORY'!$B$7:$AK$1021,8,0))","v":0},null,null,null,null,null,null,null,{"$f":"SUM($H1003:$N1003)","v":0},null,null,{"$f":"O1003*G1003","v":0},null,null,{"$f":"COUNTIF('EQUIPMENT INVENTORY'!$B:$B,'LABOR-EQUIP'!$B1003)","v":0}]
[null,null,null,null,0,{"$f":"IF(ISBLANK(B1004),0,VLOOKUP(B1004,'EQUIPMENT INVENTORY'!$B$7:$AK$1021,7,0))","v":0},{"$f":"IF(ISBLANK(B1004),0,VLOOKUP(B1004,'EQUIPMENT INVENTORY'!$B$7:$AK$1021,8,0))","v":0},null,null,null,null,null,null,null,{"$f":"SUM($H1004:$N1004)","v":0},null,null,{"$f":"O1004*G1004","v":0},null,null,{"$f":"COUNTIF('EQUIPMENT INVENTORY'!$B:$B,'LABOR-EQUIP'!$B1004)","v":0}]
[null,null,null,null,null,null,null,null,null,null,null,null,"LABOR - Page Total",null,{"$f":"O962+O971+O980+O989+O998","v":0},{"$f":"P963+P972+P981+P990+P999","v":0},{"$f":"Q964+Q973+Q982+Q991+Q1000","v":0},{"$f":"R962+R971+R980+R989+R998","v":0},{"$f":"S963+S972+S981+S990+S999","v":0},{"$f":"T964+T973+T982+T991+T1000","v":0}]
[null,null,null,null,null,null,null,null,null,null,null,null,"EQUIPMENT - Page Total",null,{"$f":"O966+O967+O968+O975+O976+O977+O984+O985+O986+O993+O994+O995+O1002+O1003+O1004","v":0},null,null,{"$f":"R966+R967+R968+R975+R976+R977+R984+R985+R986+R993+R994+R995+R1002+R1003+R1004","v":0}]
[null,null,null,null,null,null,null,null,null,null,null,null,"LABOR - Grand Total",null,{"$f":"SUM($AA:$AA)","v":0},{"$f":"SUM(AB:AB)","v":0},{"$f":"SUM(AC:AC)","v":0},{"$f":"SUM(AD:AD)","v":0},{"$f":"SUM(AE:AE)","v":0},{"$f":"SUM(AF:AF)","v":0},null,null,null,null,null,null,{"$f":"O1005","v":0},{"$f":"P1005","v":0},{"$f":"Q1005","v":0},{"$f":"R1005","v":0},{"$f":"S1005","v":0},{"$f":"T1005","v":0}]
[null,null,null,null,null,null,null,null,null,null,null,null,"EQUIPMENT - Grand Total",null,{"$f":"SUM(AG:AG)","v":0},null,null,{"$f":"SUM(AH:AH)","v":0},null,null,null,null,null,null,null,null,null,null,null,null,null,null,{"$f":"O1006","v":0},{"$f":"R1006","v":0}]
[]
[]
[null,"APPLICANT NAME",null,null,"DISASTER #",null,null,"PLEASE ENTER DATES FOR EACH DAY WORKED.  THIS ALLOWS FOR TRACKING OF COSTS OVER MULTIPLE DAYS, WEEKS AND/OR YEARS.  USE THE FIRST ROW FOR MONTH/DAY AND THE SECOND ROW FOR YEAR.  DATES DO NOT NEED TO BE CONSECUTIVE. ",null,null,null,null,null,null,"DISASTER TITLE"]
[null,{"$f":"IF('PAYROLL RECORD'!B1012=\"\",\"\",'PAYROLL RECORD'!B1012)","v":""},null,null,{"$f":"IF('PAYROLL RECORD'!D1012=\"\",\"\",'PAYROLL RECORD'!D1012)","v":""},null,null,null,null,null,null,null,null,null,{"$f":"IF('PAYROLL RECORD'!G1012=\"\",\"\",'PAYROLL RECORD'!G1012)","v":""}]
[null,"Employee/\nEquipment",null,"RATE w/","REQUEST #","COST CODE","RATE",null,null,null,null,null,null,null,"REG","OT1","OT2","REG TIME\nCOST","OT1\nCOST","OT2\nCOST"]
[null,null,null,"FRINGE"]
[null,null,"REG",{"$f":"IF(ISBLANK(B1015),0,VLOOKUP(B1015,'PAYROLL RECORD'!$B$8:$V$2005,18,FALSE))","v":0},null,null,null,null,null,null,null,null,null,null,{"$f":"SUM($H1015:$N1015)","v":0},null,null,{"$f":"IFERROR(D1015*O1015,\"\")","v":0},null,null,{"$f":"COUNTIF('EQUIPMENT INVENTORY'!$B:$B,'LABOR-EQUIP'!$B1015)","v":0}]
[null,{"$f":"IF(ISBLANK(B1015),\" \",VLOOKUP(B1015,'PAYROLL RECORD'!$B$9:$C$10740,2,FALSE))","v":" "},"OT1",{"$f":"IF(ISBLANK(B1015),0,VLOOKUP(B1015,'PAYROLL RECORD'!$B$8:$V$2005,19,FALSE))","v":0},{"$f":"+E1015","v":0},null,null,null,null,null,null,null,null,null,null,{"$f":"SUM(H1016:N1016)","v":0},null,null,{"$f":"IFERROR(P1016*D1016,\"\")","v":0},null,{"$f":"COUNTIF('EQUIPMENT INVENTORY'!$B:$B,'LABOR-EQUIP'!$B1016)","v":0}]
[null,null,"OT2",{"$f":"IF(ISBLANK(B1015),0,VLOOKUP(B1015,'PAYROLL RECORD'!$B$8:$V$2005,20,FALSE))","v":0},{"$f":"+E1015","v":0},null,null,null,null,null,null,null,null,null,null,null,{"$f":"SUM(H1017:N1017)","v":0},null,null,{"$f":"IFERROR(Q1017*D1017,\"\")","v":0},{"$f":"COUNTIF('EQUIPMENT INVENTORY'!$B:$B,'LABOR-EQUIP'!$B1017)","v":0}]
[null,"Select type of activity(s).  See ELIGIBLE ACTIVITIES tab for complete descriptions and instructions.  Choose as many activities as applicable for each day/date. ",null,null,null,null,null,null,null,null,null,null,null,null,null,null,null,null,null,null,{"$f":"COUNTIF('EQUIPMENT INVENTORY'!$B:$B,'LABOR-EQUIP'!$B1018)","v":0}]
[null,null,null,null,{"$f":"+E1015","v":0},{"$f":"IF(ISBLANK(B1019),0,VLOOKUP(B1019,'EQUIPMENT INVENTORY'!$B$7:$AK$1021,7,0))","v":0},{"$f":"IF(ISBLANK(B1019),0,VLOOKUP(B1019,'EQUIPMENT INVENTORY'!$B$7:$AK$1021,8,0))","v":0},null,null,null,null,null,null,null,{"$f":"SUM($H1019:$N1019)","v":0},null,null,{"$f":"O1019*G1019","v":0},null,null,{"$f":"COUNTIF('EQUIPMENT INVENTORY'!$B:$B,'LABOR-EQUIP'!$B1019)","v":0}]
[null,null,null,null,{"$f":"+E1015","v":0},{"$f":"IF(ISBLANK(B1020),0,VLOOKUP(B1020,'EQUIPMENT INVENTORY'!$B$7:$AK$1021,7,0))","v":0},{"$f":"IF(ISBLANK(B1020),0,VLOOKUP(B1020,'EQUIPMENT INVENTORY'!$B$7:$AK$1021,8,0))","v":0},null,null,null,null,null,null,null,{"$f":"SUM($H1020:$N1020)","v":0},null,null,{"$f":"O1020*G1020","v":0},null,null,{"$f":"COUNTIF('EQUIPMENT INVENTORY'!$B:$B,'LABOR-EQUIP'!$B1020)","v":0}]
[null,null,null,null,{"$f":"+E1015","v":0},{"$f":"IF(ISBLANK(B1021),0,VLOOKUP(B1021,'EQUIPMENT INVENTORY'!$B$7:$AK$1021,7,0))","v":0},{"$f":"IF(ISBLANK(B1021),0,VLOOKUP(B1021,'EQUIPMENT INVENTORY'!$B$7:$AK$1021,8,0))","v":0},null,null,null,null,null,null,null,{"$f":"SUM($H1021:$N1021)","v":0},null,null,{"$f":"O1021*G1021","v":0},null,null,{"$f":"COUNTIF('EQUIPMENT INVENTORY'!$B:$B,'LABOR-EQUIP'!$B1021)","v":0}]
[null,"Employee/\nEquipment",null,"RATE w/","REQUEST #","COST CODE","RATE",null,null,null,null,null,null,null,"REG","OT1","OT2","REG TIME\nCOST","OT1\nCOST","OT2\nCOST",{"$f":"COUNTIF('EQUIPMENT INVENTORY'!$B:$B,'LABOR-EQUIP'!$B1022)","v":0}]
[null,null,null,"FRINGE",null,null,null,null,null,null,null,null,null,null,null,null,null,null,null,null,{"$f":"COUNTIF('EQUIPMENT INVENTORY'!$B:$B,'LABOR-EQUIP'!$B1023)","v":0}]
[null,null,"REG",{"$f":"IF(ISBLANK(B1024),0,VLOOKUP(B1024,'PAYROLL RECORD'!$B$8:$V$2005,18,FALSE))","v":0},null,null,null,null,null,null,null,null,null,null,{"$f":"SUM($H1024:$N1024)","v":0},null,null,{"$f":"IFERROR(D1024*O1024,\"\")","v":0},null,null,{"$f":"COUNTIF('EQUIPMENT INVENTORY'!$B:$B,'LABOR-EQUIP'!$B1024)","v":0}]
[null,{"$f":"IF(ISBLANK(B1024),\" \",VLOOKUP(B1024,'PAYROLL RECORD'!$B$9:$C$10740,2,FALSE))","v":" "},"OT1",{"$f":"IF(ISBLANK(B1024),0,VLOOKUP(B1024,'PAYROLL RECORD'!$B$8:$V$2005,19,FALSE))","v":0},{"$f":"+E1024","v":0},null,null,null,null,null,null,null,null,null,null,{"$f":"SUM(H1025:N1025)","v":0},null,null,{"$f":"IF(E1025<>\"e\",P1025*D1025,0)","v":0},null,{"$f":"COUNTIF('EQUIPMENT INVENTORY'!$B:$B,'LABOR-EQUIP'!$B1025)","v":0}]
[null,null,"OT2",{"$f":"IF(ISBLANK(B1024),0,VLOOKUP(B1024,'PAYROLL RECORD'!$B$8:$V$2005,20,FALSE))","v":0},{"$f":"+E1025","v":0},null,null,null,null,null,null,null,null,null,null,null,{"$f":"SUM(H1026:N1026)","v":0},null,null,{"$f":"IF(E1026<>\"E\",Q1026*D1026,0)","v":0},{"$f":"COUNTIF('EQUIPMENT INVENTORY'!$B:$B,'LABOR-EQUIP'!$B1026)","v":0}]
[null,"Select type of activity(s).  See ELIGIBLE ACTIVITIES tab for complete descriptions and instructions.  Choose as many activities as applicable for each day/date. ",null,null,null,null,null,null,null,null,null,null,null,null,null,null,null,null,null,null,{"$f":"COUNTIF('EQUIPMENT INVENTORY'!$B:$B,'LABOR-EQUIP'!$B1027)","v":0}]
[null,null,null,null,{"$f":"+E1026","v":0},{"$f":"IF(ISBLANK(B1028),0,VLOOKUP(B1028,'EQUIPMENT INVENTORY'!$B$7:$AK$1021,7,0))","v":0},{"$f":"IF(ISBLANK(B1028),0,VLOOKUP(B1028,'EQUIPMENT INVENTORY'!$B$7:$AK$1021,8,0))","v":0},null,null,null,null,null,null,null,{"$f":"SUM($H1028:$N1028)","v":0},null,null,{"$f":"O1028*G1028","v":0},null,null,{"$f":"COUNTIF('EQUIPMENT INVENTORY'!$B:$B,'LABOR-EQUIP'!$B1028)","v":0}]
[null,null,null,null,0,{"$f":"IF(ISBLANK(B1029),0,VLOOKUP(B1029,'EQUIPMENT INVENTORY'!$B$7:$AK$1021,7,0))","v":0},{"$f":"IF(ISBLANK(B1029),0,VLOOKUP(B1029,'EQUIPMENT INVENTORY'!$B$7:$AK$1021,8,0))","v":0},null,null,null,null,null,null,null,{"$f":"SUM($H1029:$N1029)","v":0},null,null,{"$f":"O1029*G1029","v":0},null,null,{"$f":"COUNTIF('EQUIPMENT INVENTORY'!$B:$B,'LABOR-EQUIP'!$B1029)","v":0}]
[null,null,null,null,0,{"$f":"IF(ISBLANK(B1030),0,VLOOKUP(B1030,'EQUIPMENT INVENTORY'!$B$7:$AK$1021,7,0))","v":0},{"$f":"IF(ISBLANK(B1030),0,VLOOKUP(B1030,'EQUIPMENT INVENTORY'!$B$7:$AK$1021,8,0))","v":0},null,null,null,null,null,null,null,{"$f":"SUM($H1030:$N1030)","v":0},null,null,{"$f":"O1030*G1030","v":0},null,null,{"$f":"COUNTIF('EQUIPMENT INVENTORY'!$B:$B,'LABOR-EQUIP'!$B1030)","v":0}]
[null,"Employee/\nEquipment",null,"RATE w/","REQUEST #","COST CODE","RATE",null,null,null,null,null,null,null,"REG","OT1","OT2","REG TIME\nCOST","OT1\nCOST","OT2\nCOST",{"$f":"COUNTIF('EQUIPMENT INVENTORY'!$B:$B,'LABOR-EQUIP'!$B1031)","v":0}]
[null,null,null,"FRINGE",null,null,null,null,null,null,null,null,null,null,null,null,null,null,null,null,{"$f":"COUNTIF('EQUIPMENT INVENTORY'!$B:$B,'LABOR-EQUIP'!$B1032)","v":0}]
[null,null,"REG",{"$f":"IF(ISBLANK(B1033),0,VLOOKUP(B1033,'PAYROLL RECORD'!$B$8:$V$2005,18,FALSE))","v":0},null,null,null,null,null,null,null,null,null,null,{"$f":"SUM($H1033:$N1033)","v":0},null,null,{"$f":"IFERROR(D1033*O1033,\"\")","v":0},null,null,{"$f":"COUNTIF('EQUIPMENT INVENTORY'!$B:$B,'LABOR-EQUIP'!$B1033)","v":0}]
[null,{"$f":"IF(ISBLANK(B1033),\" \",VLOOKUP(B1033,'PAYROLL RECORD'!$B$9:$C$10740,2,FALSE))","v":" "},"OT1",{"$f":"IF(ISBLANK(B1033),0,VLOOKUP(B1033,'PAYROLL RECORD'!$B$8:$V$2005,19,FALSE))","v":0},{"$f":"+E1033","v":0},null,null,null,null,null,null,null,null,null,null,{"$f":"SUM(H1034:N1034)","v":0},null,null,{"$f":"IF(E1034<>\"e\",P1034*D1034,0)","v":0},null,{"$f":"COUNTIF('EQUIPMENT INVENTORY'!$B:$B,'LABOR-EQUIP'!$B1034)","v":0}]
[null,null,"OT2",{"$f":"IF(ISBLANK(B1033),0,VLOOKUP(B1033,'PAYROLL RECORD'!$B$8:$V$2005,20,FALSE))","v":0},{"$f":"+E1034","v":0},null,null,null,null,null,null,null,null,null,null,null,{"$f":"SUM(H1035:N1035)","v":0},null,null,{"$f":"IF(E1035<>\"E\",Q1035*D1035,0)","v":0},{"$f":"COUNTIF('EQUIPMENT INVENTORY'!$B:$B,'LABOR-EQUIP'!$B1035)","v":0}]
[null,"Select type of activity(s).  See ELIGIBLE ACTIVITIES tab for complete descriptions and instructions.  Choose as many activities as applicable for each day/date. ",null,null,null,null,null,null,null,null,null,null,null,null,null,null,null,null,null,null,{"$f":"COUNTIF('EQUIPMENT INVENTORY'!$B:$B,'LABOR-EQUIP'!$B1036)","v":0}]
[null,null,null,null,{"$f":"+E1035","v":0},{"$f":"IF(ISBLANK(B1037),0,VLOOKUP(B1037,'EQUIPMENT INVENTORY'!$B$7:$AK$1021,7,0))","v":0},{"$f":"IF(ISBLANK(B1037),0,VLOOKUP(B1037,'EQUIPMENT INVENTORY'!$B$7:$AK$1021,8,0))","v":0},null,null,null,null,null,null,null,{"$f":"SUM($H1037:$N1037)","v":0},null,null,{"$f":"O1037*G1037","v":0},null,null,{"$f":"COUNTIF('EQUIPMENT INVENTORY'!$B:$B,'LABOR-EQUIP'!$B1037)","v":0}]
[null,null,null,null,0,{"$f":"IF(ISBLANK(B1038),0,VLOOKUP(B1038,'EQUIPMENT INVENTORY'!$B$7:$AK$1021,7,0))","v":0},{"$f":"IF(ISBLANK(B1038),0,VLOOKUP(B1038,'EQUIPMENT INVENTORY'!$B$7:$AK$1021,8,0))","v":0},null,null,null,null,null,null,null,{"$f":"SUM($H1038:$N1038)","v":0},null,null,{"$f":"O1038*G1038","v":0},null,null,{"$f":"COUNTIF('EQUIPMENT INVENTORY'!$B:$B,'LABOR-EQUIP'!$B1038)","v":0}]
[null,null,null,null,0,{"$f":"IF(ISBLANK(B1039),0,VLOOKUP(B1039,'EQUIPMENT INVENTORY'!$B$7:$AK$1021,7,0))","v":0},{"$f":"IF(ISBLANK(B1039),0,VLOOKUP(B1039,'EQUIPMENT INVENTORY'!$B$7:$AK$1021,8,0))","v":0},null,null,null,null,null,null,null,{"$f":"SUM($H1039:$N1039)","v":0},null,null,{"$f":"O1039*G1039","v":0},null,null,{"$f":"COUNTIF('EQUIPMENT INVENTORY'!$B:$B,'LABOR-EQUIP'!$B1039)","v":0}]
[null,"Employee/\nEquipment",null,"RATE w/","REQUEST #","COST CODE","RATE",null,null,null,null,null,null,null,"REG","OT1","OT2","REG TIME\nCOST","OT1\nCOST","OT2\nCOST",{"$f":"COUNTIF('EQUIPMENT INVENTORY'!$B:$B,'LABOR-EQUIP'!$B1040)","v":0}]
[null,null,null,"FRINGE",null,null,null,null,null,null,null,null,null,null,null,null,null,null,null,null,{"$f":"COUNTIF('EQUIPMENT INVENTORY'!$B:$B,'LABOR-EQUIP'!$B1041)","v":0}]
[null,null,"REG",{"$f":"IF(ISBLANK(B1042),0,VLOOKUP(B1042,'PAYROLL RECORD'!$B$8:$V$2005,18,FALSE))","v":0},null,null,null,null,null,null,null,null,null,null,{"$f":"SUM($H1042:$N1042)","v":0},null,null,{"$f":"IFERROR(D1042*O1042,\"\")","v":0},null,null,{"$f":"COUNTIF('EQUIPMENT INVENTORY'!$B:$B,'LABOR-EQUIP'!$B1042)","v":0}]
[null,{"$f":"IF(ISBLANK(B1042),\" \",VLOOKUP(B1042,'PAYROLL RECORD'!$B$9:$C$10740,2,FALSE))","v":" "},"OT1",{"$f":"IF(ISBLANK(B1042),0,VLOOKUP(B1042,'PAYROLL RECORD'!$B$8:$V$2005,19,FALSE))","v":0},{"$f":"+E1042","v":0},null,null,null,null,null,null,null,null,null,null,{"$f":"SUM(H1043:N1043)","v":0},null,null,{"$f":"IF(E1043<>\"e\",P1043*D1043,0)","v":0},null,{"$f":"COUNTIF('EQUIPMENT INVENTORY'!$B:$B,'LABOR-EQUIP'!$B1043)","v":0}]
[null,null,"OT2",{"$f":"IF(ISBLANK(B1042),0,VLOOKUP(B1042,'PAYROLL RECORD'!$B$8:$V$2005,20,FALSE))","v":0},{"$f":"+E1043","v":0},null,null,null,null,null,null,null,null,null,null,null,{"$f":"SUM(H1044:N1044)","v":0},null,null,{"$f":"IF(E1044<>\"E\",Q1044*D1044,0)","v":0},{"$f":"COUNTIF('EQUIPMENT INVENTORY'!$B:$B,'LABOR-EQUIP'!$B1044)","v":0}]
[null,"Select type of activity(s).  See ELIGIBLE ACTIVITIES tab for complete descriptions and instructions.  Choose as many activities as applicable for each day/date. ",null,null,null,null,null,null,null,null,null,null,null,null,null,null,null,null,null,null,{"$f":"COUNTIF('EQUIPMENT INVENTORY'!$B:$B,'LABOR-EQUIP'!$B1045)","v":0}]
[null,null,null,null,{"$f":"+E1044","v":0},{"$f":"IF(ISBLANK(B1046),0,VLOOKUP(B1046,'EQUIPMENT INVENTORY'!$B$7:$AK$1021,7,0))","v":0},{"$f":"IF(ISBLANK(B1046),0,VLOOKUP(B1046,'EQUIPMENT INVENTORY'!$B$7:$AK$1021,8,0))","v":0},null,null,null,null,null,null,null,{"$f":"SUM($H1046:$N1046)","v":0},null,null,{"$f":"O1046*G1046","v":0},null,null,{"$f":"COUNTIF('EQUIPMENT INVENTORY'!$B:$B,'LABOR-EQUIP'!$B1046)","v":0}]
[null,null,null,null,0,{"$f":"IF(ISBLANK(B1047),0,VLOOKUP(B1047,'EQUIPMENT INVENTORY'!$B$7:$AK$1021,7,0))","v":0},{"$f":"IF(ISBLANK(B1047),0,VLOOKUP(B1047,'EQUIPMENT INVENTORY'!$B$7:$AK$1021,8,0))","v":0},null,null,null,null,null,null,null,{"$f":"SUM($H1047:$N1047)","v":0},null,null,{"$f":"O1047*G1047","v":0},null,null,{"$f":"COUNTIF('EQUIPMENT INVENTORY'!$B:$B,'LABOR-EQUIP'!$B1047)","v":0}]
[null,null,null,null,0,{"$f":"IF(ISBLANK(B1048),0,VLOOKUP(B1048,'EQUIPMENT INVENTORY'!$B$7:$AK$1021,7,0))","v":0},{"$f":"IF(ISBLANK(B1048),0,VLOOKUP(B1048,'EQUIPMENT INVENTORY'!$B$7:$AK$1021,8,0))","v":0},null,null,null,null,null,null,null,{"$f":"SUM($H1048:$N1048)","v":0},null,null,{"$f":"O1048*G1048","v":0},null,null,{"$f":"COUNTIF('EQUIPMENT INVENTORY'!$B:$B,'LABOR-EQUIP'!$B1048)","v":0}]
[null,"Employee/\nEquipment",null,"RATE w/","REQUEST #","COST CODE","RATE",null,null,null,null,null,null,null,"REG","OT1","OT2","REG TIME\nCOST","OT1\nCOST","OT2\nCOST",{"$f":"COUNTIF('EQUIPMENT INVENTORY'!$B:$B,'LABOR-EQUIP'!$B1049)","v":0}]
[null,null,null,"FRINGE",null,null,null,null,null,null,null,null,null,null,null,null,null,null,null,null,{"$f":"COUNTIF('EQUIPMENT INVENTORY'!$B:$B,'LABOR-EQUIP'!$B1050)","v":0}]
[null,null,"REG",{"$f":"IF(ISBLANK(B1051),0,VLOOKUP(B1051,'PAYROLL RECORD'!$B$8:$V$2005,18,FALSE))","v":0},null,null,null,null,null,null,null,null,null,null,{"$f":"SUM($H1051:$N1051)","v":0},null,null,{"$f":"IFERROR(D1051*O1051,\"\")","v":0},null,null,{"$f":"COUNTIF('EQUIPMENT INVENTORY'!$B:$B,'LABOR-EQUIP'!$B1051)","v":0}]
[null,{"$f":"IF(ISBLANK(B1051),\" \",VLOOKUP(B1051,'PAYROLL RECORD'!$B$9:$C$10740,2,FALSE))","v":" "},"OT1",{"$f":"IF(ISBLANK(B1051),0,VLOOKUP(B1051,'PAYROLL RECORD'!$B$8:$V$2005,19,FALSE))","v":0},{"$f":"+E1051","v":0},null,null,null,null,null,null,null,null,null,null,{"$f":"SUM(H1052:N1052)","v":0},null,null,{"$f":"IF(E1052<>\"e\",P1052*D1052,0)","v":0},null,{"$f":"COUNTIF('EQUIPMENT INVENTORY'!$B:$B,'LABOR-EQUIP'!$B1052)","v":0}]
[null,null,"OT2",{"$f":"IF(ISBLANK(B1051),0,VLOOKUP(B1051,'PAYROLL RECORD'!$B$8:$V$2005,20,FALSE))","v":0},{"$f":"+E1052","v":0},null,null,null,null,null,null,null,null,null,null,null,{"$f":"SUM(H1053:N1053)","v":0},null,null,{"$f":"IF(E1053<>\"E\",Q1053*D1053,0)","v":0},{"$f":"COUNTIF('EQUIPMENT INVENTORY'!$B:$B,'LABOR-EQUIP'!$B1053)","v":0}]
[null,"Select type of activity(s).  See ELIGIBLE ACTIVITIES tab for complete descriptions and instructions.  Choose as many activities as applicable for each day/date. ",null,null,null,null,null,null,null,null,null,null,null,null,null,null,null,null,null,null,{"$f":"COUNTIF('EQUIPMENT INVENTORY'!$B:$B,'LABOR-EQUIP'!$B1054)","v":0}]
[null,null,null,null,{"$f":"+E1053","v":0},{"$f":"IF(ISBLANK(B1055),0,VLOOKUP(B1055,'EQUIPMENT INVENTORY'!$B$7:$AK$1021,7,0))","v":0},{"$f":"IF(ISBLANK(B1055),0,VLOOKUP(B1055,'EQUIPMENT INVENTORY'!$B$7:$AK$1021,8,0))","v":0},null,null,null,null,null,null,null,{"$f":"SUM($H1055:$N1055)","v":0},null,null,{"$f":"O1055*G1055","v":0},null,null,{"$f":"COUNTIF('EQUIPMENT INVENTORY'!$B:$B,'LABOR-EQUIP'!$B1055)","v":0}]
[null,null,null,null,0,{"$f":"IF(ISBLANK(B1056),0,VLOOKUP(B1056,'EQUIPMENT INVENTORY'!$B$7:$AK$1021,7,0))","v":0},{"$f":"IF(ISBLANK(B1056),0,VLOOKUP(B1056,'EQUIPMENT INVENTORY'!$B$7:$AK$1021,8,0))","v":0},null,null,null,null,null,null,null,{"$f":"SUM($H1056:$N1056)","v":0},null,null,{"$f":"O1056*G1056","v":0},null,null,{"$f":"COUNTIF('EQUIPMENT INVENTORY'!$B:$B,'LABOR-EQUIP'!$B1056)","v":0}]
[null,null,null,null,0,{"$f":"IF(ISBLANK(B1057),0,VLOOKUP(B1057,'EQUIPMENT INVENTORY'!$B$7:$AK$1021,7,0))","v":0},{"$f":"IF(ISBLANK(B1057),0,VLOOKUP(B1057,'EQUIPMENT INVENTORY'!$B$7:$AK$1021,8,0))","v":0},null,null,null,null,null,null,null,{"$f":"SUM($H1057:$N1057)","v":0},null,null,{"$f":"O1057*G1057","v":0},null,null,{"$f":"COUNTIF('EQUIPMENT INVENTORY'!$B:$B,'LABOR-EQUIP'!$B1057)","v":0}]
[null,null,null,null,null,null,null,null,null,null,null,null,"LABOR - Page Total",null,{"$f":"O1015+O1024+O1033+O1042+O1051","v":0},{"$f":"P1016+P1025+P1034+P1043+P1052","v":0},{"$f":"Q1017+Q1026+Q1035+Q1044+Q1053","v":0},{"$f":"R1015+R1024+R1033+R1042+R1051","v":0},{"$f":"S1016+S1025+S1034+S1043+S1052","v":0},{"$f":"T1017+T1026+T1035+T1044+T1053","v":0}]
[null,null,null,null,null,null,null,null,null,null,null,null,"EQUIPMENT - Page Total",null,{"$f":"O1019+O1020+O1021+O1028+O1029+O1030+O1037+O1038+O1039+O1046+O1047+O1048+O1055+O1056+O1057","v":0},null,null,{"$f":"R1019+R1020+R1021+R1028+R1029+R1030+R1037+R1038+R1039+R1046+R1047+R1048+R1055+R1056+R1057","v":0}]
[null,null,null,null,null,null,null,null,null,null,null,null,"LABOR - Grand Total",null,{"$f":"SUM($AA:$AA)","v":0},{"$f":"SUM(AB:AB)","v":0},{"$f":"SUM(AC:AC)","v":0},{"$f":"SUM(AD:AD)","v":0},{"$f":"SUM(AE:AE)","v":0},{"$f":"SUM(AF:AF)","v":0},null,null,null,null,null,null,{"$f":"O1058","v":0},{"$f":"P1058","v":0},{"$f":"Q1058","v":0},{"$f":"R1058","v":0},{"$f":"S1058","v":0},{"$f":"T1058","v":0}]
[null,null,null,null,null,null,null,null,null,null,null,null,"EQUIPMENT - Grand Total",null,{"$f":"SUM(AG:AG)","v":0},null,null,{"$f":"SUM(AH:AH)","v":0},null,null,null,null,null,null,null,null,null,null,null,null,null,null,{"$f":"O1059","v":0},{"$f":"R1059","v":0}]
[]
[]
[null,"APPLICANT NAME",null,null,"DISASTER #",null,null,"PLEASE ENTER DATES FOR EACH DAY WORKED.  THIS ALLOWS FOR TRACKING OF COSTS OVER MULTIPLE DAYS, WEEKS AND/OR YEARS.  USE THE FIRST ROW FOR MONTH/DAY AND THE SECOND ROW FOR YEAR.  DATES DO NOT NEED TO BE CONSECUTIVE. ",null,null,null,null,null,null,"DISASTER TITLE"]
[null,{"$f":"IF('PAYROLL RECORD'!B1065=\"\",\"\",'PAYROLL RECORD'!B1065)","v":""},null,null,{"$f":"IF('PAYROLL RECORD'!D1065=\"\",\"\",'PAYROLL RECORD'!D1065)","v":""},null,null,null,null,null,null,null,null,null,{"$f":"IF('PAYROLL RECORD'!G1065=\"\",\"\",'PAYROLL RECORD'!G1065)","v":""}]
[null,"Employee/\nEquipment",null,"RATE w/","REQUEST #","COST CODE","RATE",null,null,null,null,null,null,null,"REG","OT1","OT2","REG TIME\nCOST","OT1\nCOST","OT2\nCOST"]
[null,null,null,"FRINGE"]
[null,null,"REG",{"$f":"IF(ISBLANK(B1068),0,VLOOKUP(B1068,'PAYROLL RECORD'!$B$8:$V$2005,18,FALSE))","v":0},null,null,null,null,null,null,null,null,null,null,{"$f":"SUM($H1068:$N1068)","v":0},null,null,{"$f":"IFERROR(D1068*O1068,\"\")","v":0},null,null,{"$f":"COUNTIF('EQUIPMENT INVENTORY'!$B:$B,'LABOR-EQUIP'!$B1068)","v":0}]
[null,{"$f":"IF(ISBLANK(B1068),\" \",VLOOKUP(B1068,'PAYROLL RECORD'!$B$9:$C$10740,2,FALSE))","v":" "},"OT1",{"$f":"IF(ISBLANK(B1068),0,VLOOKUP(B1068,'PAYROLL RECORD'!$B$8:$V$2005,19,FALSE))","v":0},{"$f":"+E1068","v":0},null,null,null,null,null,null,null,null,null,null,{"$f":"SUM(H1069:N1069)","v":0},null,null,{"$f":"IFERROR(P1069*D1069,\"\")","v":0},null,{"$f":"COUNTIF('EQUIPMENT INVENTORY'!$B:$B,'LABOR-EQUIP'!$B1069)","v":0}]
[null,null,"OT2",{"$f":"IF(ISBLANK(B1068),0,VLOOKUP(B1068,'PAYROLL RECORD'!$B$8:$V$2005,20,FALSE))","v":0},{"$f":"+E1068","v":0},null,null,null,null,null,null,null,null,null,null,null,{"$f":"SUM(H1070:N1070)","v":0},null,null,{"$f":"IFERROR(Q1070*D1070,\"\")","v":0},{"$f":"COUNTIF('EQUIPMENT INVENTORY'!$B:$B,'LABOR-EQUIP'!$B1070)","v":0}]
[null,"Select type of activity(s).  See ELIGIBLE ACTIVITIES tab for complete descriptions and instructions.  Choose as many activities as applicable for each day/date. ",null,null,null,null,null,null,null,null,null,null,null,null,null,null,null,null,null,null,{"$f":"COUNTIF('EQUIPMENT INVENTORY'!$B:$B,'LABOR-EQUIP'!$B1071)","v":0}]
[null,null,null,null,{"$f":"+E1068","v":0},{"$f":"IF(ISBLANK(B1072),0,VLOOKUP(B1072,'EQUIPMENT INVENTORY'!$B$7:$AK$1021,7,0))","v":0},{"$f":"IF(ISBLANK(B1072),0,VLOOKUP(B1072,'EQUIPMENT INVENTORY'!$B$7:$AK$1021,8,0))","v":0},null,null,null,null,null,null,null,{"$f":"SUM($H1072:$N1072)","v":0},null,null,{"$f":"O1072*G1072","v":0},null,null,{"$f":"COUNTIF('EQUIPMENT INVENTORY'!$B:$B,'LABOR-EQUIP'!$B1072)","v":0}]
[null,null,null,null,{"$f":"+E1068","v":0},{"$f":"IF(ISBLANK(B1073),0,VLOOKUP(B1073,'EQUIPMENT INVENTORY'!$B$7:$AK$1021,7,0))","v":0},{"$f":"IF(ISBLANK(B1073),0,VLOOKUP(B1073,'EQUIPMENT INVENTORY'!$B$7:$AK$1021,8,0))","v":0},null,null,null,null,null,null,null,{"$f":"SUM($H1073:$N1073)","v":0},null,null,{"$f":"O1073*G1073","v":0},null,null,{"$f":"COUNTIF('EQUIPMENT INVENTORY'!$B:$B,'LABOR-EQUIP'!$B1073)","v":0}]
[null,null,null,null,{"$f":"+E1068","v":0},{"$f":"IF(ISBLANK(B1074),0,VLOOKUP(B1074,'EQUIPMENT INVENTORY'!$B$7:$AK$1021,7,0))","v":0},{"$f":"IF(ISBLANK(B1074),0,VLOOKUP(B1074,'EQUIPMENT INVENTORY'!$B$7:$AK$1021,8,0))","v":0},null,null,null,null,null,null,null,{"$f":"SUM($H1074:$N1074)","v":0},null,null,{"$f":"O1074*G1074","v":0},null,null,{"$f":"COUNTIF('EQUIPMENT INVENTORY'!$B:$B,'LABOR-EQUIP'!$B1074)","v":0}]
[null,"Employee/\nEquipment",null,"RATE w/","REQUEST #","COST CODE","RATE",null,null,null,null,null,null,null,"REG","OT1","OT2","REG TIME\nCOST","OT1\nCOST","OT2\nCOST",{"$f":"COUNTIF('EQUIPMENT INVENTORY'!$B:$B,'LABOR-EQUIP'!$B1075)","v":0}]
[null,null,null,"FRINGE",null,null,null,null,null,null,null,null,null,null,null,null,null,null,null,null,{"$f":"COUNTIF('EQUIPMENT INVENTORY'!$B:$B,'LABOR-EQUIP'!$B1076)","v":0}]
[null,null,"REG",{"$f":"IF(ISBLANK(B1077),0,VLOOKUP(B1077,'PAYROLL RECORD'!$B$8:$V$2005,18,FALSE))","v":0},null,null,null,null,null,null,null,null,null,null,{"$f":"SUM($H1077:$N1077)","v":0},null,null,{"$f":"IFERROR(D1077*O1077,\"\")","v":0},null,null,{"$f":"COUNTIF('EQUIPMENT INVENTORY'!$B:$B,'LABOR-EQUIP'!$B1077)","v":0}]
[null,{"$f":"IF(ISBLANK(B1077),\" \",VLOOKUP(B1077,'PAYROLL RECORD'!$B$9:$C$10740,2,FALSE))","v":" "},"OT1",{"$f":"IF(ISBLANK(B1077),0,VLOOKUP(B1077,'PAYROLL RECORD'!$B$8:$V$2005,19,FALSE))","v":0},{"$f":"+E1077","v":0},null,null,null,null,null,null,null,null,null,null,{"$f":"SUM(H1078:N1078)","v":0},null,null,{"$f":"IF(E1078<>\"e\",P1078*D1078,0)","v":0},null,{"$f":"COUNTIF('EQUIPMENT INVENTORY'!$B:$B,'LABOR-EQUIP'!$B1078)","v":0}]
[null,null,"OT2",{"$f":"IF(ISBLANK(B1077),0,VLOOKUP(B1077,'PAYROLL RECORD'!$B$8:$V$2005,20,FALSE))","v":0},{"$f":"+E1078","v":0},null,null,null,null,null,null,null,null,null,null,null,{"$f":"SUM(H1079:N1079)","v":0},null,null,{"$f":"IF(E1079<>\"E\",Q1079*D1079,0)","v":0},{"$f":"COUNTIF('EQUIPMENT INVENTORY'!$B:$B,'LABOR-EQUIP'!$B1079)","v":0}]
[null,"Select type of activity(s).  See ELIGIBLE ACTIVITIES tab for complete descriptions and instructions.  Choose as many activities as applicable for each day/date. ",null,null,null,null,null,null,null,null,null,null,null,null,null,null,null,null,null,null,{"$f":"COUNTIF('EQUIPMENT INVENTORY'!$B:$B,'LABOR-EQUIP'!$B1080)","v":0}]
[null,null,null,null,{"$f":"+E1079","v":0},{"$f":"IF(ISBLANK(B1081),0,VLOOKUP(B1081,'EQUIPMENT INVENTORY'!$B$7:$AK$1021,7,0))","v":0},{"$f":"IF(ISBLANK(B1081),0,VLOOKUP(B1081,'EQUIPMENT INVENTORY'!$B$7:$AK$1021,8,0))","v":0},null,null,null,null,null,null,null,{"$f":"SUM($H1081:$N1081)","v":0},null,null,{"$f":"O1081*G1081","v":0},null,null,{"$f":"COUNTIF('EQUIPMENT INVENTORY'!$B:$B,'LABOR-EQUIP'!$B1081)","v":0}]
[null,null,null,null,0,{"$f":"IF(ISBLANK(B1082),0,VLOOKUP(B1082,'EQUIPMENT INVENTORY'!$B$7:$AK$1021,7,0))","v":0},{"$f":"IF(ISBLANK(B1082),0,VLOOKUP(B1082,'EQUIPMENT INVENTORY'!$B$7:$AK$1021,8,0))","v":0},null,null,null,null,null,null,null,{"$f":"SUM($H1082:$N1082)","v":0},null,null,{"$f":"O1082*G1082","v":0},null,null,{"$f":"COUNTIF('EQUIPMENT INVENTORY'!$B:$B,'LABOR-EQUIP'!$B1082)","v":0}]
[null,null,null,null,0,{"$f":"IF(ISBLANK(B1083),0,VLOOKUP(B1083,'EQUIPMENT INVENTORY'!$B$7:$AK$1021,7,0))","v":0},{"$f":"IF(ISBLANK(B1083),0,VLOOKUP(B1083,'EQUIPMENT INVENTORY'!$B$7:$AK$1021,8,0))","v":0},null,null,null,null,null,null,null,{"$f":"SUM($H1083:$N1083)","v":0},null,null,{"$f":"O1083*G1083","v":0},null,null,{"$f":"COUNTIF('EQUIPMENT INVENTORY'!$B:$B,'LABOR-EQUIP'!$B1083)","v":0}]
[null,"Employee/\nEquipment",null,"RATE w/","REQUEST #","COST CODE","RATE",null,null,null,null,null,null,null,"REG","OT1","OT2","REG TIME\nCOST","OT1\nCOST","OT2\nCOST",{"$f":"COUNTIF('EQUIPMENT INVENTORY'!$B:$B,'LABOR-EQUIP'!$B1084)","v":0}]
[null,null,null,"FRINGE",null,null,null,null,null,null,null,null,null,null,null,null,null,null,null,null,{"$f":"COUNTIF('EQUIPMENT INVENTORY'!$B:$B,'LABOR-EQUIP'!$B1085)","v":0}]
[null,null,"REG",{"$f":"IF(ISBLANK(B1086),0,VLOOKUP(B1086,'PAYROLL RECORD'!$B$8:$V$2005,18,FALSE))","v":0},null,null,null,null,null,null,null,null,null,null,{"$f":"SUM($H1086:$N1086)","v":0},null,null,{"$f":"IFERROR(D1086*O1086,\"\")","v":0},null,null,{"$f":"COUNTIF('EQUIPMENT INVENTORY'!$B:$B,'LABOR-EQUIP'!$B1086)","v":0}]
[null,{"$f":"IF(ISBLANK(B1086),\" \",VLOOKUP(B1086,'PAYROLL RECORD'!$B$9:$C$10740,2,FALSE))","v":" "},"OT1",{"$f":"IF(ISBLANK(B1086),0,VLOOKUP(B1086,'PAYROLL RECORD'!$B$8:$V$2005,19,FALSE))","v":0},{"$f":"+E1086","v":0},null,null,null,null,null,null,null,null,null,null,{"$f":"SUM(H1087:N1087)","v":0},null,null,{"$f":"IF(E1087<>\"e\",P1087*D1087,0)","v":0},null,{"$f":"COUNTIF('EQUIPMENT INVENTORY'!$B:$B,'LABOR-EQUIP'!$B1087)","v":0}]
[null,null,"OT2",{"$f":"IF(ISBLANK(B1086),0,VLOOKUP(B1086,'PAYROLL RECORD'!$B$8:$V$2005,20,FALSE))","v":0},{"$f":"+E1087","v":0},null,null,null,null,null,null,null,null,null,null,null,{"$f":"SUM(H1088:N1088)","v":0},null,null,{"$f":"IF(E1088<>\"E\",Q1088*D1088,0)","v":0},{"$f":"COUNTIF('EQUIPMENT INVENTORY'!$B:$B,'LABOR-EQUIP'!$B1088)","v":0}]
[null,"Select type of activity(s).  See ELIGIBLE ACTIVITIES tab for complete descriptions and instructions.  Choose as many activities as applicable for each day/date. ",null,null,null,null,null,null,null,null,null,null,null,null,null,null,null,null,null,null,{"$f":"COUNTIF('EQUIPMENT INVENTORY'!$B:$B,'LABOR-EQUIP'!$B1089)","v":0}]
[null,null,null,null,{"$f":"+E1088","v":0},{"$f":"IF(ISBLANK(B1090),0,VLOOKUP(B1090,'EQUIPMENT INVENTORY'!$B$7:$AK$1021,7,0))","v":0},{"$f":"IF(ISBLANK(B1090),0,VLOOKUP(B1090,'EQUIPMENT INVENTORY'!$B$7:$AK$1021,8,0))","v":0},null,null,null,null,null,null,null,{"$f":"SUM($H1090:$N1090)","v":0},null,null,{"$f":"O1090*G1090","v":0},null,null,{"$f":"COUNTIF('EQUIPMENT INVENTORY'!$B:$B,'LABOR-EQUIP'!$B1090)","v":0}]
[null,null,null,null,0,{"$f":"IF(ISBLANK(B1091),0,VLOOKUP(B1091,'EQUIPMENT INVENTORY'!$B$7:$AK$1021,7,0))","v":0},{"$f":"IF(ISBLANK(B1091),0,VLOOKUP(B1091,'EQUIPMENT INVENTORY'!$B$7:$AK$1021,8,0))","v":0},null,null,null,null,null,null,null,{"$f":"SUM($H1091:$N1091)","v":0},null,null,{"$f":"O1091*G1091","v":0},null,null,{"$f":"COUNTIF('EQUIPMENT INVENTORY'!$B:$B,'LABOR-EQUIP'!$B1091)","v":0}]
[null,null,null,null,0,{"$f":"IF(ISBLANK(B1092),0,VLOOKUP(B1092,'EQUIPMENT INVENTORY'!$B$7:$AK$1021,7,0))","v":0},{"$f":"IF(ISBLANK(B1092),0,VLOOKUP(B1092,'EQUIPMENT INVENTORY'!$B$7:$AK$1021,8,0))","v":0},null,null,null,null,null,null,null,{"$f":"SUM($H1092:$N1092)","v":0},null,null,{"$f":"O1092*G1092","v":0},null,null,{"$f":"COUNTIF('EQUIPMENT INVENTORY'!$B:$B,'LABOR-EQUIP'!$B1092)","v":0}]
[null,"Employee/\nEquipment",null,"RATE w/","REQUEST #","COST CODE","RATE",null,null,null,null,null,null,null,"REG","OT1","OT2","REG TIME\nCOST","OT1\nCOST","OT2\nCOST",{"$f":"COUNTIF('EQUIPMENT INVENTORY'!$B:$B,'LABOR-EQUIP'!$B1093)","v":0}]
[null,null,null,"FRINGE",null,null,null,null,null,null,null,null,null,null,null,null,null,null,null,null,{"$f":"COUNTIF('EQUIPMENT INVENTORY'!$B:$B,'LABOR-EQUIP'!$B1094)","v":0}]
[null,null,"REG",{"$f":"IF(ISBLANK(B1095),0,VLOOKUP(B1095,'PAYROLL RECORD'!$B$8:$V$2005,18,FALSE))","v":0},null,null,null,null,null,null,null,null,null,null,{"$f":"SUM($H1095:$N1095)","v":0},null,null,{"$f":"IFERROR(D1095*O1095,\"\")","v":0},null,null,{"$f":"COUNTIF('EQUIPMENT INVENTORY'!$B:$B,'LABOR-EQUIP'!$B1095)","v":0}]
[null,{"$f":"IF(ISBLANK(B1095),\" \",VLOOKUP(B1095,'PAYROLL RECORD'!$B$9:$C$10740,2,FALSE))","v":" "},"OT1",{"$f":"IF(ISBLANK(B1095),0,VLOOKUP(B1095,'PAYROLL RECORD'!$B$8:$V$2005,19,FALSE))","v":0},{"$f":"+E1095","v":0},null,null,null,null,null,null,null,null,null,null,{"$f":"SUM(H1096:N1096)","v":0},null,null,{"$f":"IF(E1096<>\"e\",P1096*D1096,0)","v":0},null,{"$f":"COUNTIF('EQUIPMENT INVENTORY'!$B:$B,'LABOR-EQUIP'!$B1096)","v":0}]
[null,null,"OT2",{"$f":"IF(ISBLANK(B1095),0,VLOOKUP(B1095,'PAYROLL RECORD'!$B$8:$V$2005,20,FALSE))","v":0},{"$f":"+E1096","v":0},null,null,null,null,null,null,null,null,null,null,null,{"$f":"SUM(H1097:N1097)","v":0},null,null,{"$f":"IF(E1097<>\"E\",Q1097*D1097,0)","v":0},{"$f":"COUNTIF('EQUIPMENT INVENTORY'!$B:$B,'LABOR-EQUIP'!$B1097)","v":0}]
[null,"Select type of activity(s).  See ELIGIBLE ACTIVITIES tab for complete descriptions and instructions.  Choose as many activities as applicable for each day/date. ",null,null,null,null,null,null,null,null,null,null,null,null,null,null,null,null,null,null,{"$f":"COUNTIF('EQUIPMENT INVENTORY'!$B:$B,'LABOR-EQUIP'!$B1098)","v":0}]
[null,null,null,null,{"$f":"+E1097","v":0},{"$f":"IF(ISBLANK(B1099),0,VLOOKUP(B1099,'EQUIPMENT INVENTORY'!$B$7:$AK$1021,7,0))","v":0},{"$f":"IF(ISBLANK(B1099),0,VLOOKUP(B1099,'EQUIPMENT INVENTORY'!$B$7:$AK$1021,8,0))","v":0},null,null,null,null,null,null,null,{"$f":"SUM($H1099:$N1099)","v":0},null,null,{"$f":"O1099*G1099","v":0},null,null,{"$f":"COUNTIF('EQUIPMENT INVENTORY'!$B:$B,'LABOR-EQUIP'!$B1099)","v":0}]
[null,null,null,null,0,{"$f":"IF(ISBLANK(B1100),0,VLOOKUP(B1100,'EQUIPMENT INVENTORY'!$B$7:$AK$1021,7,0))","v":0},{"$f":"IF(ISBLANK(B1100),0,VLOOKUP(B1100,'EQUIPMENT INVENTORY'!$B$7:$AK$1021,8,0))","v":0},null,null,null,null,null,null,null,{"$f":"SUM($H1100:$N1100)","v":0},null,null,{"$f":"O1100*G1100","v":0},null,null,{"$f":"COUNTIF('EQUIPMENT INVENTORY'!$B:$B,'LABOR-EQUIP'!$B1100)","v":0}]
[null,null,null,null,0,{"$f":"IF(ISBLANK(B1101),0,VLOOKUP(B1101,'EQUIPMENT INVENTORY'!$B$7:$AK$1021,7,0))","v":0},{"$f":"IF(ISBLANK(B1101),0,VLOOKUP(B1101,'EQUIPMENT INVENTORY'!$B$7:$AK$1021,8,0))","v":0},null,null,null,null,null,null,null,{"$f":"SUM($H1101:$N1101)","v":0},null,null,{"$f":"O1101*G1101","v":0},null,null,{"$f":"COUNTIF('EQUIPMENT INVENTORY'!$B:$B,'LABOR-EQUIP'!$B1101)","v":0}]
[null,"Employee/\nEquipment",null,"RATE w/","REQUEST #","COST CODE","RATE",null,null,null,null,null,null,null,"REG","OT1","OT2","REG TIME\nCOST","OT1\nCOST","OT2\nCOST",{"$f":"COUNTIF('EQUIPMENT INVENTORY'!$B:$B,'LABOR-EQUIP'!$B1102)","v":0}]
[null,null,null,"FRINGE",null,null,null,null,null,null,null,null,null,null,null,null,null,null,null,null,{"$f":"COUNTIF('EQUIPMENT INVENTORY'!$B:$B,'LABOR-EQUIP'!$B1103)","v":0}]
[null,null,"REG",{"$f":"IF(ISBLANK(B1104),0,VLOOKUP(B1104,'PAYROLL RECORD'!$B$8:$V$2005,18,FALSE))","v":0},null,null,null,null,null,null,null,null,null,null,{"$f":"SUM($H1104:$N1104)","v":0},null,null,{"$f":"IFERROR(D1104*O1104,\"\")","v":0},null,null,{"$f":"COUNTIF('EQUIPMENT INVENTORY'!$B:$B,'LABOR-EQUIP'!$B1104)","v":0}]
[null,{"$f":"IF(ISBLANK(B1104),\" \",VLOOKUP(B1104,'PAYROLL RECORD'!$B$9:$C$10740,2,FALSE))","v":" "},"OT1",{"$f":"IF(ISBLANK(B1104),0,VLOOKUP(B1104,'PAYROLL RECORD'!$B$8:$V$2005,19,FALSE))","v":0},{"$f":"+E1104","v":0},null,null,null,null,null,null,null,null,null,null,{"$f":"SUM(H1105:N1105)","v":0},null,null,{"$f":"IF(E1105<>\"e\",P1105*D1105,0)","v":0},null,{"$f":"COUNTIF('EQUIPMENT INVENTORY'!$B:$B,'LABOR-EQUIP'!$B1105)","v":0}]
[null,null,"OT2",{"$f":"IF(ISBLANK(B1104),0,VLOOKUP(B1104,'PAYROLL RECORD'!$B$8:$V$2005,20,FALSE))","v":0},{"$f":"+E1105","v":0},null,null,null,null,null,null,null,null,null,null,null,{"$f":"SUM(H1106:N1106)","v":0},null,null,{"$f":"IF(E1106<>\"E\",Q1106*D1106,0)","v":0},{"$f":"COUNTIF('EQUIPMENT INVENTORY'!$B:$B,'LABOR-EQUIP'!$B1106)","v":0}]
[null,"Select type of activity(s).  See ELIGIBLE ACTIVITIES tab for complete descriptions and instructions.  Choose as many activities as applicable for each day/date. ",null,null,null,null,null,null,null,null,null,null,null,null,null,null,null,null,null,null,{"$f":"COUNTIF('EQUIPMENT INVENTORY'!$B:$B,'LABOR-EQUIP'!$B1107)","v":0}]
[null,null,null,null,{"$f":"+E1106","v":0},{"$f":"IF(ISBLANK(B1108),0,VLOOKUP(B1108,'EQUIPMENT INVENTORY'!$B$7:$AK$1021,7,0))","v":0},{"$f":"IF(ISBLANK(B1108),0,VLOOKUP(B1108,'EQUIPMENT INVENTORY'!$B$7:$AK$1021,8,0))","v":0},null,null,null,null,null,null,null,{"$f":"SUM($H1108:$N1108)","v":0},null,null,{"$f":"O1108*G1108","v":0},null,null,{"$f":"COUNTIF('EQUIPMENT INVENTORY'!$B:$B,'LABOR-EQUIP'!$B1108)","v":0}]
[null,null,null,null,0,{"$f":"IF(ISBLANK(B1109),0,VLOOKUP(B1109,'EQUIPMENT INVENTORY'!$B$7:$AK$1021,7,0))","v":0},{"$f":"IF(ISBLANK(B1109),0,VLOOKUP(B1109,'EQUIPMENT INVENTORY'!$B$7:$AK$1021,8,0))","v":0},null,null,null,null,null,null,null,{"$f":"SUM($H1109:$N1109)","v":0},null,null,{"$f":"O1109*G1109","v":0},null,null,{"$f":"COUNTIF('EQUIPMENT INVENTORY'!$B:$B,'LABOR-EQUIP'!$B1109)","v":0}]
[null,null,null,null,0,{"$f":"IF(ISBLANK(B1110),0,VLOOKUP(B1110,'EQUIPMENT INVENTORY'!$B$7:$AK$1021,7,0))","v":0},{"$f":"IF(ISBLANK(B1110),0,VLOOKUP(B1110,'EQUIPMENT INVENTORY'!$B$7:$AK$1021,8,0))","v":0},null,null,null,null,null,null,null,{"$f":"SUM($H1110:$N1110)","v":0},null,null,{"$f":"O1110*G1110","v":0},null,null,{"$f":"COUNTIF('EQUIPMENT INVENTORY'!$B:$B,'LABOR-EQUIP'!$B1110)","v":0}]
[null,null,null,null,null,null,null,null,null,null,null,null,"LABOR - Page Total",null,{"$f":"O1068+O1077+O1086+O1095+O1104","v":0},{"$f":"P1069+P1078+P1087+P1096+P1105","v":0},{"$f":"Q1070+Q1079+Q1088+Q1097+Q1106","v":0},{"$f":"R1068+R1077+R1086+R1095+R1104","v":0},{"$f":"S1069+S1078+S1087+S1096+S1105","v":0},{"$f":"T1070+T1079+T1088+T1097+T1106","v":0}]
[null,null,null,null,null,null,null,null,null,null,null,null,"EQUIPMENT - Page Total",null,{"$f":"O1072+O1073+O1074+O1081+O1082+O1083+O1090+O1091+O1092+O1099+O1100+O1101+O1108+O1109+O1110","v":0},null,null,{"$f":"R1072+R1073+R1074+R1081+R1082+R1083+R1090+R1091+R1092+R1099+R1100+R1101+R1108+R1109+R1110","v":0}]
[null,null,null,null,null,null,null,null,null,null,null,null,"LABOR - Grand Total",null,{"$f":"SUM($AA:$AA)","v":0},{"$f":"SUM(AB:AB)","v":0},{"$f":"SUM(AC:AC)","v":0},{"$f":"SUM(AD:AD)","v":0},{"$f":"SUM(AE:AE)","v":0},{"$f":"SUM(AF:AF)","v":0},null,null,null,null,null,null,{"$f":"O1111","v":0},{"$f":"P1111","v":0},{"$f":"Q1111","v":0},{"$f":"R1111","v":0},{"$f":"S1111","v":0},{"$f":"T1111","v":0}]
[null,null,null,null,null,null,null,null,null,null,null,null,"EQUIPMENT - Grand Total",null,{"$f":"SUM(AG:AG)","v":0},null,null,{"$f":"SUM(AH:AH)","v":0},null,null,null,null,null,null,null,null,null,null,null,null,null,null,{"$f":"O1112","v":0},{"$f":"R1112","v":0}]
[]
[]
[null,"APPLICANT NAME",null,null,"DISASTER #",null,null,"PLEASE ENTER DATES FOR EACH DAY WORKED.  THIS ALLOWS FOR TRACKING OF COSTS OVER MULTIPLE DAYS, WEEKS AND/OR YEARS.  USE THE FIRST ROW FOR MONTH/DAY AND THE SECOND ROW FOR YEAR.  DATES DO NOT NEED TO BE CONSECUTIVE. ",null,null,null,null,null,null,"DISASTER TITLE"]
[null,{"$f":"IF('PAYROLL RECORD'!B1118=\"\",\"\",'PAYROLL RECORD'!B1118)","v":""},null,null,{"$f":"IF('PAYROLL RECORD'!D1118=\"\",\"\",'PAYROLL RECORD'!D1118)","v":""},null,null,null,null,null,null,null,null,null,{"$f":"IF('PAYROLL RECORD'!G1118=\"\",\"\",'PAYROLL RECORD'!G1118)","v":""}]
[null,"Employee/\nEquipment",null,"RATE w/","REQUEST #","COST CODE","RATE",null,null,null,null,null,null,null,"REG","OT1","OT2","REG TIME\nCOST","OT1\nCOST","OT2\nCOST"]
[null,null,null,"FRINGE"]
[null,null,"REG",{"$f":"IF(ISBLANK(B1121),0,VLOOKUP(B1121,'PAYROLL RECORD'!$B$8:$V$2005,18,FALSE))","v":0},null,null,null,null,null,null,null,null,null,null,{"$f":"SUM($H1121:$N1121)","v":0},null,null,{"$f":"IFERROR(D1121*O1121,\"\")","v":0},null,null,{"$f":"COUNTIF('EQUIPMENT INVENTORY'!$B:$B,'LABOR-EQUIP'!$B1121)","v":0}]
[null,{"$f":"IF(ISBLANK(B1121),\" \",VLOOKUP(B1121,'PAYROLL RECORD'!$B$9:$C$10740,2,FALSE))","v":" "},"OT1",{"$f":"IF(ISBLANK(B1121),0,VLOOKUP(B1121,'PAYROLL RECORD'!$B$8:$V$2005,19,FALSE))","v":0},{"$f":"+E1121","v":0},null,null,null,null,null,null,null,null,null,null,{"$f":"SUM(H1122:N1122)","v":0},null,null,{"$f":"IFERROR(P1122*D1122,\"\")","v":0},null,{"$f":"COUNTIF('EQUIPMENT INVENTORY'!$B:$B,'LABOR-EQUIP'!$B1122)","v":0}]
[null,null,"OT2",{"$f":"IF(ISBLANK(B1121),0,VLOOKUP(B1121,'PAYROLL RECORD'!$B$8:$V$2005,20,FALSE))","v":0},{"$f":"+E1121","v":0},null,null,null,null,null,null,null,null,null,null,null,{"$f":"SUM(H1123:N1123)","v":0},null,null,{"$f":"IFERROR(Q1123*D1123,\"\")","v":0},{"$f":"COUNTIF('EQUIPMENT INVENTORY'!$B:$B,'LABOR-EQUIP'!$B1123)","v":0}]
[null,"Select type of activity(s).  See ELIGIBLE ACTIVITIES tab for complete descriptions and instructions.  Choose as many activities as applicable for each day/date. ",null,null,null,null,null,null,null,null,null,null,null,null,null,null,null,null,null,null,{"$f":"COUNTIF('EQUIPMENT INVENTORY'!$B:$B,'LABOR-EQUIP'!$B1124)","v":0}]
[null,null,null,null,{"$f":"+E1121","v":0},{"$f":"IF(ISBLANK(B1125),0,VLOOKUP(B1125,'EQUIPMENT INVENTORY'!$B$7:$AK$1021,7,0))","v":0},{"$f":"IF(ISBLANK(B1125),0,VLOOKUP(B1125,'EQUIPMENT INVENTORY'!$B$7:$AK$1021,8,0))","v":0},null,null,null,null,null,null,null,{"$f":"SUM($H1125:$N1125)","v":0},null,null,{"$f":"O1125*G1125","v":0},null,null,{"$f":"COUNTIF('EQUIPMENT INVENTORY'!$B:$B,'LABOR-EQUIP'!$B1125)","v":0}]
[null,null,null,null,{"$f":"+E1121","v":0},{"$f":"IF(ISBLANK(B1126),0,VLOOKUP(B1126,'EQUIPMENT INVENTORY'!$B$7:$AK$1021,7,0))","v":0},{"$f":"IF(ISBLANK(B1126),0,VLOOKUP(B1126,'EQUIPMENT INVENTORY'!$B$7:$AK$1021,8,0))","v":0},null,null,null,null,null,null,null,{"$f":"SUM($H1126:$N1126)","v":0},null,null,{"$f":"O1126*G1126","v":0},null,null,{"$f":"COUNTIF('EQUIPMENT INVENTORY'!$B:$B,'LABOR-EQUIP'!$B1126)","v":0}]
[null,null,null,null,{"$f":"+E1121","v":0},{"$f":"IF(ISBLANK(B1127),0,VLOOKUP(B1127,'EQUIPMENT INVENTORY'!$B$7:$AK$1021,7,0))","v":0},{"$f":"IF(ISBLANK(B1127),0,VLOOKUP(B1127,'EQUIPMENT INVENTORY'!$B$7:$AK$1021,8,0))","v":0},null,null,null,null,null,null,null,{"$f":"SUM($H1127:$N1127)","v":0},null,null,{"$f":"O1127*G1127","v":0},null,null,{"$f":"COUNTIF('EQUIPMENT INVENTORY'!$B:$B,'LABOR-EQUIP'!$B1127)","v":0}]
[null,"Employee/\nEquipment",null,"RATE w/","REQUEST #","COST CODE","RATE",null,null,null,null,null,null,null,"REG","OT1","OT2","REG TIME\nCOST","OT1\nCOST","OT2\nCOST",{"$f":"COUNTIF('EQUIPMENT INVENTORY'!$B:$B,'LABOR-EQUIP'!$B1128)","v":0}]
[null,null,null,"FRINGE",null,null,null,null,null,null,null,null,null,null,null,null,null,null,null,null,{"$f":"COUNTIF('EQUIPMENT INVENTORY'!$B:$B,'LABOR-EQUIP'!$B1129)","v":0}]
[null,null,"REG",{"$f":"IF(ISBLANK(B1130),0,VLOOKUP(B1130,'PAYROLL RECORD'!$B$8:$V$2005,18,FALSE))","v":0},null,null,null,null,null,null,null,null,null,null,{"$f":"SUM($H1130:$N1130)","v":0},null,null,{"$f":"IFERROR(D1130*O1130,\"\")","v":0},null,null,{"$f":"COUNTIF('EQUIPMENT INVENTORY'!$B:$B,'LABOR-EQUIP'!$B1130)","v":0}]
[null,{"$f":"IF(ISBLANK(B1130),\" \",VLOOKUP(B1130,'PAYROLL RECORD'!$B$9:$C$10740,2,FALSE))","v":" "},"OT1",{"$f":"IF(ISBLANK(B1130),0,VLOOKUP(B1130,'PAYROLL RECORD'!$B$8:$V$2005,19,FALSE))","v":0},{"$f":"+E1130","v":0},null,null,null,null,null,null,null,null,null,null,{"$f":"SUM(H1131:N1131)","v":0},null,null,{"$f":"IF(E1131<>\"e\",P1131*D1131,0)","v":0},null,{"$f":"COUNTIF('EQUIPMENT INVENTORY'!$B:$B,'LABOR-EQUIP'!$B1131)","v":0}]
[null,null,"OT2",{"$f":"IF(ISBLANK(B1130),0,VLOOKUP(B1130,'PAYROLL RECORD'!$B$8:$V$2005,20,FALSE))","v":0},{"$f":"+E1131","v":0},null,null,null,null,null,null,null,null,null,null,null,{"$f":"SUM(H1132:N1132)","v":0},null,null,{"$f":"IF(E1132<>\"E\",Q1132*D1132,0)","v":0},{"$f":"COUNTIF('EQUIPMENT INVENTORY'!$B:$B,'LABOR-EQUIP'!$B1132)","v":0}]
[null,"Select type of activity(s).  See ELIGIBLE ACTIVITIES tab for complete descriptions and instructions.  Choose as many activities as applicable for each day/date. ",null,null,null,null,null,null,null,null,null,null,null,null,null,null,null,null,null,null,{"$f":"COUNTIF('EQUIPMENT INVENTORY'!$B:$B,'LABOR-EQUIP'!$B1133)","v":0}]
[null,null,null,null,{"$f":"+E1132","v":0},{"$f":"IF(ISBLANK(B1134),0,VLOOKUP(B1134,'EQUIPMENT INVENTORY'!$B$7:$AK$1021,7,0))","v":0},{"$f":"IF(ISBLANK(B1134),0,VLOOKUP(B1134,'EQUIPMENT INVENTORY'!$B$7:$AK$1021,8,0))","v":0},null,null,null,null,null,null,null,{"$f":"SUM($H1134:$N1134)","v":0},null,null,{"$f":"O1134*G1134","v":0},null,null,{"$f":"COUNTIF('EQUIPMENT INVENTORY'!$B:$B,'LABOR-EQUIP'!$B1134)","v":0}]
[null,null,null,null,0,{"$f":"IF(ISBLANK(B1135),0,VLOOKUP(B1135,'EQUIPMENT INVENTORY'!$B$7:$AK$1021,7,0))","v":0},{"$f":"IF(ISBLANK(B1135),0,VLOOKUP(B1135,'EQUIPMENT INVENTORY'!$B$7:$AK$1021,8,0))","v":0},null,null,null,null,null,null,null,{"$f":"SUM($H1135:$N1135)","v":0},null,null,{"$f":"O1135*G1135","v":0},null,null,{"$f":"COUNTIF('EQUIPMENT INVENTORY'!$B:$B,'LABOR-EQUIP'!$B1135)","v":0}]
[null,null,null,null,0,{"$f":"IF(ISBLANK(B1136),0,VLOOKUP(B1136,'EQUIPMENT INVENTORY'!$B$7:$AK$1021,7,0))","v":0},{"$f":"IF(ISBLANK(B1136),0,VLOOKUP(B1136,'EQUIPMENT INVENTORY'!$B$7:$AK$1021,8,0))","v":0},null,null,null,null,null,null,null,{"$f":"SUM($H1136:$N1136)","v":0},null,null,{"$f":"O1136*G1136","v":0},null,null,{"$f":"COUNTIF('EQUIPMENT INVENTORY'!$B:$B,'LABOR-EQUIP'!$B1136)","v":0}]
[null,"Employee/\nEquipment",null,"RATE w/","REQUEST #","COST CODE","RATE",null,null,null,null,null,null,null,"REG","OT1","OT2","REG TIME\nCOST","OT1\nCOST","OT2\nCOST",{"$f":"COUNTIF('EQUIPMENT INVENTORY'!$B:$B,'LABOR-EQUIP'!$B1137)","v":0}]
[null,null,null,"FRINGE",null,null,null,null,null,null,null,null,null,null,null,null,null,null,null,null,{"$f":"COUNTIF('EQUIPMENT INVENTORY'!$B:$B,'LABOR-EQUIP'!$B1138)","v":0}]
[null,null,"REG",{"$f":"IF(ISBLANK(B1139),0,VLOOKUP(B1139,'PAYROLL RECORD'!$B$8:$V$2005,18,FALSE))","v":0},null,null,null,null,null,null,null,null,null,null,{"$f":"SUM($H1139:$N1139)","v":0},null,null,{"$f":"IFERROR(D1139*O1139,\"\")","v":0},null,null,{"$f":"COUNTIF('EQUIPMENT INVENTORY'!$B:$B,'LABOR-EQUIP'!$B1139)","v":0}]
[null,{"$f":"IF(ISBLANK(B1139),\" \",VLOOKUP(B1139,'PAYROLL RECORD'!$B$9:$C$10740,2,FALSE))","v":" "},"OT1",{"$f":"IF(ISBLANK(B1139),0,VLOOKUP(B1139,'PAYROLL RECORD'!$B$8:$V$2005,19,FALSE))","v":0},{"$f":"+E1139","v":0},null,null,null,null,null,null,null,null,null,null,{"$f":"SUM(H1140:N1140)","v":0},null,null,{"$f":"IF(E1140<>\"e\",P1140*D1140,0)","v":0},null,{"$f":"COUNTIF('EQUIPMENT INVENTORY'!$B:$B,'LABOR-EQUIP'!$B1140)","v":0}]
[null,null,"OT2",{"$f":"IF(ISBLANK(B1139),0,VLOOKUP(B1139,'PAYROLL RECORD'!$B$8:$V$2005,20,FALSE))","v":0},{"$f":"+E1140","v":0},null,null,null,null,null,null,null,null,null,null,null,{"$f":"SUM(H1141:N1141)","v":0},null,null,{"$f":"IF(E1141<>\"E\",Q1141*D1141,0)","v":0},{"$f":"COUNTIF('EQUIPMENT INVENTORY'!$B:$B,'LABOR-EQUIP'!$B1141)","v":0}]
[null,"Select type of activity(s).  See ELIGIBLE ACTIVITIES tab for complete descriptions and instructions.  Choose as many activities as applicable for each day/date. ",null,null,null,null,null,null,null,null,null,null,null,null,null,null,null,null,null,null,{"$f":"COUNTIF('EQUIPMENT INVENTORY'!$B:$B,'LABOR-EQUIP'!$B1142)","v":0}]
[null,null,null,null,{"$f":"+E1141","v":0},{"$f":"IF(ISBLANK(B1143),0,VLOOKUP(B1143,'EQUIPMENT INVENTORY'!$B$7:$AK$1021,7,0))","v":0},{"$f":"IF(ISBLANK(B1143),0,VLOOKUP(B1143,'EQUIPMENT INVENTORY'!$B$7:$AK$1021,8,0))","v":0},null,null,null,null,null,null,null,{"$f":"SUM($H1143:$N1143)","v":0},null,null,{"$f":"O1143*G1143","v":0},null,null,{"$f":"COUNTIF('EQUIPMENT INVENTORY'!$B:$B,'LABOR-EQUIP'!$B1143)","v":0}]
[null,null,null,null,0,{"$f":"IF(ISBLANK(B1144),0,VLOOKUP(B1144,'EQUIPMENT INVENTORY'!$B$7:$AK$1021,7,0))","v":0},{"$f":"IF(ISBLANK(B1144),0,VLOOKUP(B1144,'EQUIPMENT INVENTORY'!$B$7:$AK$1021,8,0))","v":0},null,null,null,null,null,null,null,{"$f":"SUM($H1144:$N1144)","v":0},null,null,{"$f":"O1144*G1144","v":0},null,null,{"$f":"COUNTIF('EQUIPMENT INVENTORY'!$B:$B,'LABOR-EQUIP'!$B1144)","v":0}]
[null,null,null,null,0,{"$f":"IF(ISBLANK(B1145),0,VLOOKUP(B1145,'EQUIPMENT INVENTORY'!$B$7:$AK$1021,7,0))","v":0},{"$f":"IF(ISBLANK(B1145),0,VLOOKUP(B1145,'EQUIPMENT INVENTORY'!$B$7:$AK$1021,8,0))","v":0},null,null,null,null,null,null,null,{"$f":"SUM($H1145:$N1145)","v":0},null,null,{"$f":"O1145*G1145","v":0},null,null,{"$f":"COUNTIF('EQUIPMENT INVENTORY'!$B:$B,'LABOR-EQUIP'!$B1145)","v":0}]
[null,"Employee/\nEquipment",null,"RATE w/","REQUEST #","COST CODE","RATE",null,null,null,null,null,null,null,"REG","OT1","OT2","REG TIME\nCOST","OT1\nCOST","OT2\nCOST",{"$f":"COUNTIF('EQUIPMENT INVENTORY'!$B:$B,'LABOR-EQUIP'!$B1146)","v":0}]
[null,null,null,"FRINGE",null,null,null,null,null,null,null,null,null,null,null,null,null,null,null,null,{"$f":"COUNTIF('EQUIPMENT INVENTORY'!$B:$B,'LABOR-EQUIP'!$B1147)","v":0}]
[null,null,"REG",{"$f":"IF(ISBLANK(B1148),0,VLOOKUP(B1148,'PAYROLL RECORD'!$B$8:$V$2005,18,FALSE))","v":0},null,null,null,null,null,null,null,null,null,null,{"$f":"SUM($H1148:$N1148)","v":0},null,null,{"$f":"IFERROR(D1148*O1148,\"\")","v":0},null,null,{"$f":"COUNTIF('EQUIPMENT INVENTORY'!$B:$B,'LABOR-EQUIP'!$B1148)","v":0}]
[null,{"$f":"IF(ISBLANK(B1148),\" \",VLOOKUP(B1148,'PAYROLL RECORD'!$B$9:$C$10740,2,FALSE))","v":" "},"OT1",{"$f":"IF(ISBLANK(B1148),0,VLOOKUP(B1148,'PAYROLL RECORD'!$B$8:$V$2005,19,FALSE))","v":0},{"$f":"+E1148","v":0},null,null,null,null,null,null,null,null,null,null,{"$f":"SUM(H1149:N1149)","v":0},null,null,{"$f":"IF(E1149<>\"e\",P1149*D1149,0)","v":0},null,{"$f":"COUNTIF('EQUIPMENT INVENTORY'!$B:$B,'LABOR-EQUIP'!$B1149)","v":0}]
[null,null,"OT2",{"$f":"IF(ISBLANK(B1148),0,VLOOKUP(B1148,'PAYROLL RECORD'!$B$8:$V$2005,20,FALSE))","v":0},{"$f":"+E1149","v":0},null,null,null,null,null,null,null,null,null,null,null,{"$f":"SUM(H1150:N1150)","v":0},null,null,{"$f":"IF(E1150<>\"E\",Q1150*D1150,0)","v":0},{"$f":"COUNTIF('EQUIPMENT INVENTORY'!$B:$B,'LABOR-EQUIP'!$B1150)","v":0}]
[null,"Select type of activity(s).  See ELIGIBLE ACTIVITIES tab for complete descriptions and instructions.  Choose as many activities as applicable for each day/date. ",null,null,null,null,null,null,null,null,null,null,null,null,null,null,null,null,null,null,{"$f":"COUNTIF('EQUIPMENT INVENTORY'!$B:$B,'LABOR-EQUIP'!$B1151)","v":0}]
[null,null,null,null,{"$f":"+E1150","v":0},{"$f":"IF(ISBLANK(B1152),0,VLOOKUP(B1152,'EQUIPMENT INVENTORY'!$B$7:$AK$1021,7,0))","v":0},{"$f":"IF(ISBLANK(B1152),0,VLOOKUP(B1152,'EQUIPMENT INVENTORY'!$B$7:$AK$1021,8,0))","v":0},null,null,null,null,null,null,null,{"$f":"SUM($H1152:$N1152)","v":0},null,null,{"$f":"O1152*G1152","v":0},null,null,{"$f":"COUNTIF('EQUIPMENT INVENTORY'!$B:$B,'LABOR-EQUIP'!$B1152)","v":0}]
[null,null,null,null,0,{"$f":"IF(ISBLANK(B1153),0,VLOOKUP(B1153,'EQUIPMENT INVENTORY'!$B$7:$AK$1021,7,0))","v":0},{"$f":"IF(ISBLANK(B1153),0,VLOOKUP(B1153,'EQUIPMENT INVENTORY'!$B$7:$AK$1021,8,0))","v":0},null,null,null,null,null,null,null,{"$f":"SUM($H1153:$N1153)","v":0},null,null,{"$f":"O1153*G1153","v":0},null,null,{"$f":"COUNTIF('EQUIPMENT INVENTORY'!$B:$B,'LABOR-EQUIP'!$B1153)","v":0}]
[null,null,null,null,0,{"$f":"IF(ISBLANK(B1154),0,VLOOKUP(B1154,'EQUIPMENT INVENTORY'!$B$7:$AK$1021,7,0))","v":0},{"$f":"IF(ISBLANK(B1154),0,VLOOKUP(B1154,'EQUIPMENT INVENTORY'!$B$7:$AK$1021,8,0))","v":0},null,null,null,null,null,null,null,{"$f":"SUM($H1154:$N1154)","v":0},null,null,{"$f":"O1154*G1154","v":0},null,null,{"$f":"COUNTIF('EQUIPMENT INVENTORY'!$B:$B,'LABOR-EQUIP'!$B1154)","v":0}]
[null,"Employee/\nEquipment",null,"RATE w/","REQUEST #","COST CODE","RATE",null,null,null,null,null,null,null,"REG","OT1","OT2","REG TIME\nCOST","OT1\nCOST","OT2\nCOST",{"$f":"COUNTIF('EQUIPMENT INVENTORY'!$B:$B,'LABOR-EQUIP'!$B1155)","v":0}]
[null,null,null,"FRINGE",null,null,null,null,null,null,null,null,null,null,null,null,null,null,null,null,{"$f":"COUNTIF('EQUIPMENT INVENTORY'!$B:$B,'LABOR-EQUIP'!$B1156)","v":0}]
[null,null,"REG",{"$f":"IF(ISBLANK(B1157),0,VLOOKUP(B1157,'PAYROLL RECORD'!$B$8:$V$2005,18,FALSE))","v":0},null,null,null,null,null,null,null,null,null,null,{"$f":"SUM($H1157:$N1157)","v":0},null,null,{"$f":"IFERROR(D1157*O1157,\"\")","v":0},null,null,{"$f":"COUNTIF('EQUIPMENT INVENTORY'!$B:$B,'LABOR-EQUIP'!$B1157)","v":0}]
[null,{"$f":"IF(ISBLANK(B1157),\" \",VLOOKUP(B1157,'PAYROLL RECORD'!$B$9:$C$10740,2,FALSE))","v":" "},"OT1",{"$f":"IF(ISBLANK(B1157),0,VLOOKUP(B1157,'PAYROLL RECORD'!$B$8:$V$2005,19,FALSE))","v":0},{"$f":"+E1157","v":0},null,null,null,null,null,null,null,null,null,null,{"$f":"SUM(H1158:N1158)","v":0},null,null,{"$f":"IF(E1158<>\"e\",P1158*D1158,0)","v":0},null,{"$f":"COUNTIF('EQUIPMENT INVENTORY'!$B:$B,'LABOR-EQUIP'!$B1158)","v":0}]
[null,null,"OT2",{"$f":"IF(ISBLANK(B1157),0,VLOOKUP(B1157,'PAYROLL RECORD'!$B$8:$V$2005,20,FALSE))","v":0},{"$f":"+E1158","v":0},null,null,null,null,null,null,null,null,null,null,null,{"$f":"SUM(H1159:N1159)","v":0},null,null,{"$f":"IF(E1159<>\"E\",Q1159*D1159,0)","v":0},{"$f":"COUNTIF('EQUIPMENT INVENTORY'!$B:$B,'LABOR-EQUIP'!$B1159)","v":0}]
[null,"Select type of activity(s).  See ELIGIBLE ACTIVITIES tab for complete descriptions and instructions.  Choose as many activities as applicable for each day/date. ",null,null,null,null,null,null,null,null,null,null,null,null,null,null,null,null,null,null,{"$f":"COUNTIF('EQUIPMENT INVENTORY'!$B:$B,'LABOR-EQUIP'!$B1160)","v":0}]
[null,null,null,null,{"$f":"+E1159","v":0},{"$f":"IF(ISBLANK(B1161),0,VLOOKUP(B1161,'EQUIPMENT INVENTORY'!$B$7:$AK$1021,7,0))","v":0},{"$f":"IF(ISBLANK(B1161),0,VLOOKUP(B1161,'EQUIPMENT INVENTORY'!$B$7:$AK$1021,8,0))","v":0},null,null,null,null,null,null,null,{"$f":"SUM($H1161:$N1161)","v":0},null,null,{"$f":"O1161*G1161","v":0},null,null,{"$f":"COUNTIF('EQUIPMENT INVENTORY'!$B:$B,'LABOR-EQUIP'!$B1161)","v":0}]
[null,null,null,null,0,{"$f":"IF(ISBLANK(B1162),0,VLOOKUP(B1162,'EQUIPMENT INVENTORY'!$B$7:$AK$1021,7,0))","v":0},{"$f":"IF(ISBLANK(B1162),0,VLOOKUP(B1162,'EQUIPMENT INVENTORY'!$B$7:$AK$1021,8,0))","v":0},null,null,null,null,null,null,null,{"$f":"SUM($H1162:$N1162)","v":0},null,null,{"$f":"O1162*G1162","v":0},null,null,{"$f":"COUNTIF('EQUIPMENT INVENTORY'!$B:$B,'LABOR-EQUIP'!$B1162)","v":0}]
[null,null,null,null,0,{"$f":"IF(ISBLANK(B1163),0,VLOOKUP(B1163,'EQUIPMENT INVENTORY'!$B$7:$AK$1021,7,0))","v":0},{"$f":"IF(ISBLANK(B1163),0,VLOOKUP(B1163,'EQUIPMENT INVENTORY'!$B$7:$AK$1021,8,0))","v":0},null,null,null,null,null,null,null,{"$f":"SUM($H1163:$N1163)","v":0},null,null,{"$f":"O1163*G1163","v":0},null,null,{"$f":"COUNTIF('EQUIPMENT INVENTORY'!$B:$B,'LABOR-EQUIP'!$B1163)","v":0}]
[null,null,null,null,null,null,null,null,null,null,null,null,"LABOR - Page Total",null,{"$f":"O1121+O1130+O1139+O1148+O1157","v":0},{"$f":"P1122+P1131+P1140+P1149+P1158","v":0},{"$f":"Q1123+Q1132+Q1141+Q1150+Q1159","v":0},{"$f":"R1121+R1130+R1139+R1148+R1157","v":0},{"$f":"S1122+S1131+S1140+S1149+S1158","v":0},{"$f":"T1123+T1132+T1141+T1150+T1159","v":0}]
[null,null,null,null,null,null,null,null,null,null,null,null,"EQUIPMENT - Page Total",null,{"$f":"O1125+O1126+O1127+O1134+O1135+O1136+O1143+O1144+O1145+O1152+O1153+O1154+O1161+O1162+O1163","v":0},null,null,{"$f":"R1125+R1126+R1127+R1134+R1135+R1136+R1143+R1144+R1145+R1152+R1153+R1154+R1161+R1162+R1163","v":0}]
[null,null,null,null,null,null,null,null,null,null,null,null,"LABOR - Grand Total",null,{"$f":"SUM($AA:$AA)","v":0},{"$f":"SUM(AB:AB)","v":0},{"$f":"SUM(AC:AC)","v":0},{"$f":"SUM(AD:AD)","v":0},{"$f":"SUM(AE:AE)","v":0},{"$f":"SUM(AF:AF)","v":0},null,null,null,null,null,null,{"$f":"O1164","v":0},{"$f":"P1164","v":0},{"$f":"Q1164","v":0},{"$f":"R1164","v":0},{"$f":"S1164","v":0},{"$f":"T1164","v":0}]
[null,null,null,null,null,null,null,null,null,null,null,null,"EQUIPMENT - Grand Total",null,{"$f":"SUM(AG:AG)","v":0},null,null,{"$f":"SUM(AH:AH)","v":0},null,null,null,null,null,null,null,null,null,null,null,null,null,null,{"$f":"O1165","v":0},{"$f":"R1165","v":0}]
[]
[]
[null,"APPLICANT NAME",null,null,"DISASTER #",null,null,"PLEASE ENTER DATES FOR EACH DAY WORKED.  THIS ALLOWS FOR TRACKING OF COSTS OVER MULTIPLE DAYS, WEEKS AND/OR YEARS.  USE THE FIRST ROW FOR MONTH/DAY AND THE SECOND ROW FOR YEAR.  DATES DO NOT NEED TO BE CONSECUTIVE. ",null,null,null,null,null,null,"DISASTER TITLE"]
[null,{"$f":"IF('PAYROLL RECORD'!B1171=\"\",\"\",'PAYROLL RECORD'!B1171)","v":""},null,null,{"$f":"IF('PAYROLL RECORD'!D1171=\"\",\"\",'PAYROLL RECORD'!D1171)","v":""},null,null,null,null,null,null,null,null,null,{"$f":"IF('PAYROLL RECORD'!G1171=\"\",\"\",'PAYROLL RECORD'!G1171)","v":""}]
[null,"Employee/\nEquipment",null,"RATE w/","REQUEST #","COST CODE","RATE",null,null,null,null,null,null,null,"REG","OT1","OT2","REG TIME\nCOST","OT1\nCOST","OT2\nCOST"]
[null,null,null,"FRINGE"]
[null,null,"REG",{"$f":"IF(ISBLANK(B1174),0,VLOOKUP(B1174,'PAYROLL RECORD'!$B$8:$V$2005,18,FALSE))","v":0},null,null,null,null,null,null,null,null,null,null,{"$f":"SUM($H1174:$N1174)","v":0},null,null,{"$f":"IFERROR(D1174*O1174,\"\")","v":0},null,null,{"$f":"COUNTIF('EQUIPMENT INVENTORY'!$B:$B,'LABOR-EQUIP'!$B1174)","v":0}]
[null,{"$f":"IF(ISBLANK(B1174),\" \",VLOOKUP(B1174,'PAYROLL RECORD'!$B$9:$C$10740,2,FALSE))","v":" "},"OT1",{"$f":"IF(ISBLANK(B1174),0,VLOOKUP(B1174,'PAYROLL RECORD'!$B$8:$V$2005,19,FALSE))","v":0},{"$f":"+E1174","v":0},null,null,null,null,null,null,null,null,null,null,{"$f":"SUM(H1175:N1175)","v":0},null,null,{"$f":"IFERROR(P1175*D1175,\"\")","v":0},null,{"$f":"COUNTIF('EQUIPMENT INVENTORY'!$B:$B,'LABOR-EQUIP'!$B1175)","v":0}]
[null,null,"OT2",{"$f":"IF(ISBLANK(B1174),0,VLOOKUP(B1174,'PAYROLL RECORD'!$B$8:$V$2005,20,FALSE))","v":0},{"$f":"+E1174","v":0},null,null,null,null,null,null,null,null,null,null,null,{"$f":"SUM(H1176:N1176)","v":0},null,null,{"$f":"IFERROR(Q1176*D1176,\"\")","v":0},{"$f":"COUNTIF('EQUIPMENT INVENTORY'!$B:$B,'LABOR-EQUIP'!$B1176)","v":0}]
[null,"Select type of activity(s).  See ELIGIBLE ACTIVITIES tab for complete descriptions and instructions.  Choose as many activities as applicable for each day/date. ",null,null,null,null,null,null,null,null,null,null,null,null,null,null,null,null,null,null,{"$f":"COUNTIF('EQUIPMENT INVENTORY'!$B:$B,'LABOR-EQUIP'!$B1177)","v":0}]
[null,null,null,null,{"$f":"+E1174","v":0},{"$f":"IF(ISBLANK(B1178),0,VLOOKUP(B1178,'EQUIPMENT INVENTORY'!$B$7:$AK$1021,7,0))","v":0},{"$f":"IF(ISBLANK(B1178),0,VLOOKUP(B1178,'EQUIPMENT INVENTORY'!$B$7:$AK$1021,8,0))","v":0},null,null,null,null,null,null,null,{"$f":"SUM($H1178:$N1178)","v":0},null,null,{"$f":"O1178*G1178","v":0},null,null,{"$f":"COUNTIF('EQUIPMENT INVENTORY'!$B:$B,'LABOR-EQUIP'!$B1178)","v":0}]
[null,null,null,null,{"$f":"+E1174","v":0},{"$f":"IF(ISBLANK(B1179),0,VLOOKUP(B1179,'EQUIPMENT INVENTORY'!$B$7:$AK$1021,7,0))","v":0},{"$f":"IF(ISBLANK(B1179),0,VLOOKUP(B1179,'EQUIPMENT INVENTORY'!$B$7:$AK$1021,8,0))","v":0},null,null,null,null,null,null,null,{"$f":"SUM($H1179:$N1179)","v":0},null,null,{"$f":"O1179*G1179","v":0},null,null,{"$f":"COUNTIF('EQUIPMENT INVENTORY'!$B:$B,'LABOR-EQUIP'!$B1179)","v":0}]
[null,null,null,null,{"$f":"+E1174","v":0},{"$f":"IF(ISBLANK(B1180),0,VLOOKUP(B1180,'EQUIPMENT INVENTORY'!$B$7:$AK$1021,7,0))","v":0},{"$f":"IF(ISBLANK(B1180),0,VLOOKUP(B1180,'EQUIPMENT INVENTORY'!$B$7:$AK$1021,8,0))","v":0},null,null,null,null,null,null,null,{"$f":"SUM($H1180:$N1180)","v":0},null,null,{"$f":"O1180*G1180","v":0},null,null,{"$f":"COUNTIF('EQUIPMENT INVENTORY'!$B:$B,'LABOR-EQUIP'!$B1180)","v":0}]
[null,"Employee/\nEquipment",null,"RATE w/","REQUEST #","COST CODE","RATE",null,null,null,null,null,null,null,"REG","OT1","OT2","REG TIME\nCOST","OT1\nCOST","OT2\nCOST",{"$f":"COUNTIF('EQUIPMENT INVENTORY'!$B:$B,'LABOR-EQUIP'!$B1181)","v":0}]
[null,null,null,"FRINGE",null,null,null,null,null,null,null,null,null,null,null,null,null,null,null,null,{"$f":"COUNTIF('EQUIPMENT INVENTORY'!$B:$B,'LABOR-EQUIP'!$B1182)","v":0}]
[null,null,"REG",{"$f":"IF(ISBLANK(B1183),0,VLOOKUP(B1183,'PAYROLL RECORD'!$B$8:$V$2005,18,FALSE))","v":0},null,null,null,null,null,null,null,null,null,null,{"$f":"SUM($H1183:$N1183)","v":0},null,null,{"$f":"IFERROR(D1183*O1183,\"\")","v":0},null,null,{"$f":"COUNTIF('EQUIPMENT INVENTORY'!$B:$B,'LABOR-EQUIP'!$B1183)","v":0}]
[null,{"$f":"IF(ISBLANK(B1183),\" \",VLOOKUP(B1183,'PAYROLL RECORD'!$B$9:$C$10740,2,FALSE))","v":" "},"OT1",{"$f":"IF(ISBLANK(B1183),0,VLOOKUP(B1183,'PAYROLL RECORD'!$B$8:$V$2005,19,FALSE))","v":0},{"$f":"+E1183","v":0},null,null,null,null,null,null,null,null,null,null,{"$f":"SUM(H1184:N1184)","v":0},null,null,{"$f":"IF(E1184<>\"e\",P1184*D1184,0)","v":0},null,{"$f":"COUNTIF('EQUIPMENT INVENTORY'!$B:$B,'LABOR-EQUIP'!$B1184)","v":0}]
[null,null,"OT2",{"$f":"IF(ISBLANK(B1183),0,VLOOKUP(B1183,'PAYROLL RECORD'!$B$8:$V$2005,20,FALSE))","v":0},{"$f":"+E1184","v":0},null,null,null,null,null,null,null,null,null,null,null,{"$f":"SUM(H1185:N1185)","v":0},null,null,{"$f":"IF(E1185<>\"E\",Q1185*D1185,0)","v":0},{"$f":"COUNTIF('EQUIPMENT INVENTORY'!$B:$B,'LABOR-EQUIP'!$B1185)","v":0}]
[null,"Select type of activity(s).  See ELIGIBLE ACTIVITIES tab for complete descriptions and instructions.  Choose as many activities as applicable for each day/date. ",null,null,null,null,null,null,null,null,null,null,null,null,null,null,null,null,null,null,{"$f":"COUNTIF('EQUIPMENT INVENTORY'!$B:$B,'LABOR-EQUIP'!$B1186)","v":0}]
[null,null,null,null,{"$f":"+E1185","v":0},{"$f":"IF(ISBLANK(B1187),0,VLOOKUP(B1187,'EQUIPMENT INVENTORY'!$B$7:$AK$1021,7,0))","v":0},{"$f":"IF(ISBLANK(B1187),0,VLOOKUP(B1187,'EQUIPMENT INVENTORY'!$B$7:$AK$1021,8,0))","v":0},null,null,null,null,null,null,null,{"$f":"SUM($H1187:$N1187)","v":0},null,null,{"$f":"O1187*G1187","v":0},null,null,{"$f":"COUNTIF('EQUIPMENT INVENTORY'!$B:$B,'LABOR-EQUIP'!$B1187)","v":0}]
[null,null,null,null,0,{"$f":"IF(ISBLANK(B1188),0,VLOOKUP(B1188,'EQUIPMENT INVENTORY'!$B$7:$AK$1021,7,0))","v":0},{"$f":"IF(ISBLANK(B1188),0,VLOOKUP(B1188,'EQUIPMENT INVENTORY'!$B$7:$AK$1021,8,0))","v":0},null,null,null,null,null,null,null,{"$f":"SUM($H1188:$N1188)","v":0},null,null,{"$f":"O1188*G1188","v":0},null,null,{"$f":"COUNTIF('EQUIPMENT INVENTORY'!$B:$B,'LABOR-EQUIP'!$B1188)","v":0}]
[null,null,null,null,0,{"$f":"IF(ISBLANK(B1189),0,VLOOKUP(B1189,'EQUIPMENT INVENTORY'!$B$7:$AK$1021,7,0))","v":0},{"$f":"IF(ISBLANK(B1189),0,VLOOKUP(B1189,'EQUIPMENT INVENTORY'!$B$7:$AK$1021,8,0))","v":0},null,null,null,null,null,null,null,{"$f":"SUM($H1189:$N1189)","v":0},null,null,{"$f":"O1189*G1189","v":0},null,null,{"$f":"COUNTIF('EQUIPMENT INVENTORY'!$B:$B,'LABOR-EQUIP'!$B1189)","v":0}]
[null,"Employee/\nEquipment",null,"RATE w/","REQUEST #","COST CODE","RATE",null,null,null,null,null,null,null,"REG","OT1","OT2","REG TIME\nCOST","OT1\nCOST","OT2\nCOST",{"$f":"COUNTIF('EQUIPMENT INVENTORY'!$B:$B,'LABOR-EQUIP'!$B1190)","v":0}]
[null,null,null,"FRINGE",null,null,null,null,null,null,null,null,null,null,null,null,null,null,null,null,{"$f":"COUNTIF('EQUIPMENT INVENTORY'!$B:$B,'LABOR-EQUIP'!$B1191)","v":0}]
[null,null,"REG",{"$f":"IF(ISBLANK(B1192),0,VLOOKUP(B1192,'PAYROLL RECORD'!$B$8:$V$2005,18,FALSE))","v":0},null,null,null,null,null,null,null,null,null,null,{"$f":"SUM($H1192:$N1192)","v":0},null,null,{"$f":"IFERROR(D1192*O1192,\"\")","v":0},null,null,{"$f":"COUNTIF('EQUIPMENT INVENTORY'!$B:$B,'LABOR-EQUIP'!$B1192)","v":0}]
[null,{"$f":"IF(ISBLANK(B1192),\" \",VLOOKUP(B1192,'PAYROLL RECORD'!$B$9:$C$10740,2,FALSE))","v":" "},"OT1",{"$f":"IF(ISBLANK(B1192),0,VLOOKUP(B1192,'PAYROLL RECORD'!$B$8:$V$2005,19,FALSE))","v":0},{"$f":"+E1192","v":0},null,null,null,null,null,null,null,null,null,null,{"$f":"SUM(H1193:N1193)","v":0},null,null,{"$f":"IF(E1193<>\"e\",P1193*D1193,0)","v":0},null,{"$f":"COUNTIF('EQUIPMENT INVENTORY'!$B:$B,'LABOR-EQUIP'!$B1193)","v":0}]
[null,null,"OT2",{"$f":"IF(ISBLANK(B1192),0,VLOOKUP(B1192,'PAYROLL RECORD'!$B$8:$V$2005,20,FALSE))","v":0},{"$f":"+E1193","v":0},null,null,null,null,null,null,null,null,null,null,null,{"$f":"SUM(H1194:N1194)","v":0},null,null,{"$f":"IF(E1194<>\"E\",Q1194*D1194,0)","v":0},{"$f":"COUNTIF('EQUIPMENT INVENTORY'!$B:$B,'LABOR-EQUIP'!$B1194)","v":0}]
[null,"Select type of activity(s).  See ELIGIBLE ACTIVITIES tab for complete descriptions and instructions.  Choose as many activities as applicable for each day/date. ",null,null,null,null,null,null,null,null,null,null,null,null,null,null,null,null,null,null,{"$f":"COUNTIF('EQUIPMENT INVENTORY'!$B:$B,'LABOR-EQUIP'!$B1195)","v":0}]
[null,null,null,null,{"$f":"+E1194","v":0},{"$f":"IF(ISBLANK(B1196),0,VLOOKUP(B1196,'EQUIPMENT INVENTORY'!$B$7:$AK$1021,7,0))","v":0},{"$f":"IF(ISBLANK(B1196),0,VLOOKUP(B1196,'EQUIPMENT INVENTORY'!$B$7:$AK$1021,8,0))","v":0},null,null,null,null,null,null,null,{"$f":"SUM($H1196:$N1196)","v":0},null,null,{"$f":"O1196*G1196","v":0},null,null,{"$f":"COUNTIF('EQUIPMENT INVENTORY'!$B:$B,'LABOR-EQUIP'!$B1196)","v":0}]
[null,null,null,null,0,{"$f":"IF(ISBLANK(B1197),0,VLOOKUP(B1197,'EQUIPMENT INVENTORY'!$B$7:$AK$1021,7,0))","v":0},{"$f":"IF(ISBLANK(B1197),0,VLOOKUP(B1197,'EQUIPMENT INVENTORY'!$B$7:$AK$1021,8,0))","v":0},null,null,null,null,null,null,null,{"$f":"SUM($H1197:$N1197)","v":0},null,null,{"$f":"O1197*G1197","v":0},null,null,{"$f":"COUNTIF('EQUIPMENT INVENTORY'!$B:$B,'LABOR-EQUIP'!$B1197)","v":0}]
[null,null,null,null,0,{"$f":"IF(ISBLANK(B1198),0,VLOOKUP(B1198,'EQUIPMENT INVENTORY'!$B$7:$AK$1021,7,0))","v":0},{"$f":"IF(ISBLANK(B1198),0,VLOOKUP(B1198,'EQUIPMENT INVENTORY'!$B$7:$AK$1021,8,0))","v":0},null,null,null,null,null,null,null,{"$f":"SUM($H1198:$N1198)","v":0},null,null,{"$f":"O1198*G1198","v":0},null,null,{"$f":"COUNTIF('EQUIPMENT INVENTORY'!$B:$B,'LABOR-EQUIP'!$B1198)","v":0}]
[null,"Employee/\nEquipment",null,"RATE w/","REQUEST #","COST CODE","RATE",null,null,null,null,null,null,null,"REG","OT1","OT2","REG TIME\nCOST","OT1\nCOST","OT2\nCOST",{"$f":"COUNTIF('EQUIPMENT INVENTORY'!$B:$B,'LABOR-EQUIP'!$B1199)","v":0}]
[null,null,null,"FRINGE",null,null,null,null,null,null,null,null,null,null,null,null,null,null,null,null,{"$f":"COUNTIF('EQUIPMENT INVENTORY'!$B:$B,'LABOR-EQUIP'!$B1200)","v":0}]
[null,null,"REG",{"$f":"IF(ISBLANK(B1201),0,VLOOKUP(B1201,'PAYROLL RECORD'!$B$8:$V$2005,18,FALSE))","v":0},null,null,null,null,null,null,null,null,null,null,{"$f":"SUM($H1201:$N1201)","v":0},null,null,{"$f":"IFERROR(D1201*O1201,\"\")","v":0},null,null,{"$f":"COUNTIF('EQUIPMENT INVENTORY'!$B:$B,'LABOR-EQUIP'!$B1201)","v":0}]
[null,{"$f":"IF(ISBLANK(B1201),\" \",VLOOKUP(B1201,'PAYROLL RECORD'!$B$9:$C$10740,2,FALSE))","v":" "},"OT1",{"$f":"IF(ISBLANK(B1201),0,VLOOKUP(B1201,'PAYROLL RECORD'!$B$8:$V$2005,19,FALSE))","v":0},{"$f":"+E1201","v":0},null,null,null,null,null,null,null,null,null,null,{"$f":"SUM(H1202:N1202)","v":0},null,null,{"$f":"IF(E1202<>\"e\",P1202*D1202,0)","v":0},null,{"$f":"COUNTIF('EQUIPMENT INVENTORY'!$B:$B,'LABOR-EQUIP'!$B1202)","v":0}]
[null,null,"OT2",{"$f":"IF(ISBLANK(B1201),0,VLOOKUP(B1201,'PAYROLL RECORD'!$B$8:$V$2005,20,FALSE))","v":0},{"$f":"+E1202","v":0},null,null,null,null,null,null,null,null,null,null,null,{"$f":"SUM(H1203:N1203)","v":0},null,null,{"$f":"IF(E1203<>\"E\",Q1203*D1203,0)","v":0},{"$f":"COUNTIF('EQUIPMENT INVENTORY'!$B:$B,'LABOR-EQUIP'!$B1203)","v":0}]
[null,"Select type of activity(s).  See ELIGIBLE ACTIVITIES tab for complete descriptions and instructions.  Choose as many activities as applicable for each day/date. ",null,null,null,null,null,null,null,null,null,null,null,null,null,null,null,null,null,null,{"$f":"COUNTIF('EQUIPMENT INVENTORY'!$B:$B,'LABOR-EQUIP'!$B1204)","v":0}]
[null,null,null,null,{"$f":"+E1203","v":0},{"$f":"IF(ISBLANK(B1205),0,VLOOKUP(B1205,'EQUIPMENT INVENTORY'!$B$7:$AK$1021,7,0))","v":0},{"$f":"IF(ISBLANK(B1205),0,VLOOKUP(B1205,'EQUIPMENT INVENTORY'!$B$7:$AK$1021,8,0))","v":0},null,null,null,null,null,null,null,{"$f":"SUM($H1205:$N1205)","v":0},null,null,{"$f":"O1205*G1205","v":0},null,null,{"$f":"COUNTIF('EQUIPMENT INVENTORY'!$B:$B,'LABOR-EQUIP'!$B1205)","v":0}]
[null,null,null,null,0,{"$f":"IF(ISBLANK(B1206),0,VLOOKUP(B1206,'EQUIPMENT INVENTORY'!$B$7:$AK$1021,7,0))","v":0},{"$f":"IF(ISBLANK(B1206),0,VLOOKUP(B1206,'EQUIPMENT INVENTORY'!$B$7:$AK$1021,8,0))","v":0},null,null,null,null,null,null,null,{"$f":"SUM($H1206:$N1206)","v":0},null,null,{"$f":"O1206*G1206","v":0},null,null,{"$f":"COUNTIF('EQUIPMENT INVENTORY'!$B:$B,'LABOR-EQUIP'!$B1206)","v":0}]
[null,null,null,null,0,{"$f":"IF(ISBLANK(B1207),0,VLOOKUP(B1207,'EQUIPMENT INVENTORY'!$B$7:$AK$1021,7,0))","v":0},{"$f":"IF(ISBLANK(B1207),0,VLOOKUP(B1207,'EQUIPMENT INVENTORY'!$B$7:$AK$1021,8,0))","v":0},null,null,null,null,null,null,null,{"$f":"SUM($H1207:$N1207)","v":0},null,null,{"$f":"O1207*G1207","v":0},null,null,{"$f":"COUNTIF('EQUIPMENT INVENTORY'!$B:$B,'LABOR-EQUIP'!$B1207)","v":0}]
[null,"Employee/\nEquipment",null,"RATE w/","REQUEST #","COST CODE","RATE",null,null,null,null,null,null,null,"REG","OT1","OT2","REG TIME\nCOST","OT1\nCOST","OT2\nCOST",{"$f":"COUNTIF('EQUIPMENT INVENTORY'!$B:$B,'LABOR-EQUIP'!$B1208)","v":0}]
[null,null,null,"FRINGE",null,null,null,null,null,null,null,null,null,null,null,null,null,null,null,null,{"$f":"COUNTIF('EQUIPMENT INVENTORY'!$B:$B,'LABOR-EQUIP'!$B1209)","v":0}]
[null,null,"REG",{"$f":"IF(ISBLANK(B1210),0,VLOOKUP(B1210,'PAYROLL RECORD'!$B$8:$V$2005,18,FALSE))","v":0},null,null,null,null,null,null,null,null,null,null,{"$f":"SUM($H1210:$N1210)","v":0},null,null,{"$f":"IFERROR(D1210*O1210,\"\")","v":0},null,null,{"$f":"COUNTIF('EQUIPMENT INVENTORY'!$B:$B,'LABOR-EQUIP'!$B1210)","v":0}]
[null,{"$f":"IF(ISBLANK(B1210),\" \",VLOOKUP(B1210,'PAYROLL RECORD'!$B$9:$C$10740,2,FALSE))","v":" "},"OT1",{"$f":"IF(ISBLANK(B1210),0,VLOOKUP(B1210,'PAYROLL RECORD'!$B$8:$V$2005,19,FALSE))","v":0},{"$f":"+E1210","v":0},null,null,null,null,null,null,null,null,null,null,{"$f":"SUM(H1211:N1211)","v":0},null,null,{"$f":"IF(E1211<>\"e\",P1211*D1211,0)","v":0},null,{"$f":"COUNTIF('EQUIPMENT INVENTORY'!$B:$B,'LABOR-EQUIP'!$B1211)","v":0}]
[null,null,"OT2",{"$f":"IF(ISBLANK(B1210),0,VLOOKUP(B1210,'PAYROLL RECORD'!$B$8:$V$2005,20,FALSE))","v":0},{"$f":"+E1211","v":0},null,null,null,null,null,null,null,null,null,null,null,{"$f":"SUM(H1212:N1212)","v":0},null,null,{"$f":"IF(E1212<>\"E\",Q1212*D1212,0)","v":0},{"$f":"COUNTIF('EQUIPMENT INVENTORY'!$B:$B,'LABOR-EQUIP'!$B1212)","v":0}]
[null,"Select type of activity(s).  See ELIGIBLE ACTIVITIES tab for complete descriptions and instructions.  Choose as many activities as applicable for each day/date. ",null,null,null,null,null,null,null,null,null,null,null,null,null,null,null,null,null,null,{"$f":"COUNTIF('EQUIPMENT INVENTORY'!$B:$B,'LABOR-EQUIP'!$B1213)","v":0}]
[null,null,null,null,{"$f":"+E1212","v":0},{"$f":"IF(ISBLANK(B1214),0,VLOOKUP(B1214,'EQUIPMENT INVENTORY'!$B$7:$AK$1021,7,0))","v":0},{"$f":"IF(ISBLANK(B1214),0,VLOOKUP(B1214,'EQUIPMENT INVENTORY'!$B$7:$AK$1021,8,0))","v":0},null,null,null,null,null,null,null,{"$f":"SUM($H1214:$N1214)","v":0},null,null,{"$f":"O1214*G1214","v":0},null,null,{"$f":"COUNTIF('EQUIPMENT INVENTORY'!$B:$B,'LABOR-EQUIP'!$B1214)","v":0}]
[null,null,null,null,0,{"$f":"IF(ISBLANK(B1215),0,VLOOKUP(B1215,'EQUIPMENT INVENTORY'!$B$7:$AK$1021,7,0))","v":0},{"$f":"IF(ISBLANK(B1215),0,VLOOKUP(B1215,'EQUIPMENT INVENTORY'!$B$7:$AK$1021,8,0))","v":0},null,null,null,null,null,null,null,{"$f":"SUM($H1215:$N1215)","v":0},null,null,{"$f":"O1215*G1215","v":0},null,null,{"$f":"COUNTIF('EQUIPMENT INVENTORY'!$B:$B,'LABOR-EQUIP'!$B1215)","v":0}]
[null,null,null,null,0,{"$f":"IF(ISBLANK(B1216),0,VLOOKUP(B1216,'EQUIPMENT INVENTORY'!$B$7:$AK$1021,7,0))","v":0},{"$f":"IF(ISBLANK(B1216),0,VLOOKUP(B1216,'EQUIPMENT INVENTORY'!$B$7:$AK$1021,8,0))","v":0},null,null,null,null,null,null,null,{"$f":"SUM($H1216:$N1216)","v":0},null,null,{"$f":"O1216*G1216","v":0},null,null,{"$f":"COUNTIF('EQUIPMENT INVENTORY'!$B:$B,'LABOR-EQUIP'!$B1216)","v":0}]
[null,null,null,null,null,null,null,null,null,null,null,null,"LABOR - Page Total",null,{"$f":"O1174+O1183+O1192+O1201+O1210","v":0},{"$f":"P1175+P1184+P1193+P1202+P1211","v":0},{"$f":"Q1176+Q1185+Q1194+Q1203+Q1212","v":0},{"$f":"R1174+R1183+R1192+R1201+R1210","v":0},{"$f":"S1175+S1184+S1193+S1202+S1211","v":0},{"$f":"T1176+T1185+T1194+T1203+T1212","v":0}]
[null,null,null,null,null,null,null,null,null,null,null,null,"EQUIPMENT - Page Total",null,{"$f":"O1178+O1179+O1180+O1187+O1188+O1189+O1196+O1197+O1198+O1205+O1206+O1207+O1214+O1215+O1216","v":0},null,null,{"$f":"R1178+R1179+R1180+R1187+R1188+R1189+R1196+R1197+R1198+R1205+R1206+R1207+R1214+R1215+R1216","v":0}]
[null,null,null,null,null,null,null,null,null,null,null,null,"LABOR - Grand Total",null,{"$f":"SUM($AA:$AA)","v":0},{"$f":"SUM(AB:AB)","v":0},{"$f":"SUM(AC:AC)","v":0},{"$f":"SUM(AD:AD)","v":0},{"$f":"SUM(AE:AE)","v":0},{"$f":"SUM(AF:AF)","v":0},null,null,null,null,null,null,{"$f":"O1217","v":0},{"$f":"P1217","v":0},{"$f":"Q1217","v":0},{"$f":"R1217","v":0},{"$f":"S1217","v":0},{"$f":"T1217","v":0}]
[null,null,null,null,null,null,null,null,null,null,null,null,"EQUIPMENT - Grand Total",null,{"$f":"SUM(AG:AG)","v":0},null,null,{"$f":"SUM(AH:AH)","v":0},null,null,null,null,null,null,null,null,null,null,null,null,null,null,{"$f":"O1218","v":0},{"$f":"R1218","v":0}]
[]
[]
[null,"APPLICANT NAME",null,null,"DISASTER #",null,null,"PLEASE ENTER DATES FOR EACH DAY WORKED.  THIS ALLOWS FOR TRACKING OF COSTS OVER MULTIPLE DAYS, WEEKS AND/OR YEARS.  USE THE FIRST ROW FOR MONTH/DAY AND THE SECOND ROW FOR YEAR.  DATES DO NOT NEED TO BE CONSECUTIVE. ",null,null,null,null,null,null,"DISASTER TITLE"]
[null,{"$f":"IF('PAYROLL RECORD'!B1224=\"\",\"\",'PAYROLL RECORD'!B1224)","v":""},null,null,{"$f":"IF('PAYROLL RECORD'!D1224=\"\",\"\",'PAYROLL RECORD'!D1224)","v":""},null,null,null,null,null,null,null,null,null,{"$f":"IF('PAYROLL RECORD'!G1224=\"\",\"\",'PAYROLL RECORD'!G1224)","v":""}]
[null,"Employee/\nEquipment",null,"RATE w/","REQUEST #","COST CODE","RATE",null,null,null,null,null,null,null,"REG","OT1","OT2","REG TIME\nCOST","OT1\nCOST","OT2\nCOST"]
[null,null,null,"FRINGE"]
[null,null,"REG",{"$f":"IF(ISBLANK(B1227),0,VLOOKUP(B1227,'PAYROLL RECORD'!$B$8:$V$2005,18,FALSE))","v":0},null,null,null,null,null,null,null,null,null,null,{"$f":"SUM($H1227:$N1227)","v":0},null,null,{"$f":"IFERROR(D1227*O1227,\"\")","v":0},null,null,{"$f":"COUNTIF('EQUIPMENT INVENTORY'!$B:$B,'LABOR-EQUIP'!$B1227)","v":0}]
[null,{"$f":"IF(ISBLANK(B1227),\" \",VLOOKUP(B1227,'PAYROLL RECORD'!$B$9:$C$10740,2,FALSE))","v":" "},"OT1",{"$f":"IF(ISBLANK(B1227),0,VLOOKUP(B1227,'PAYROLL RECORD'!$B$8:$V$2005,19,FALSE))","v":0},{"$f":"+E1227","v":0},null,null,null,null,null,null,null,null,null,null,{"$f":"SUM(H1228:N1228)","v":0},null,null,{"$f":"IFERROR(P1228*D1228,\"\")","v":0},null,{"$f":"COUNTIF('EQUIPMENT INVENTORY'!$B:$B,'LABOR-EQUIP'!$B1228)","v":0}]
[null,null,"OT2",{"$f":"IF(ISBLANK(B1227),0,VLOOKUP(B1227,'PAYROLL RECORD'!$B$8:$V$2005,20,FALSE))","v":0},{"$f":"+E1227","v":0},null,null,null,null,null,null,null,null,null,null,null,{"$f":"SUM(H1229:N1229)","v":0},null,null,{"$f":"IFERROR(Q1229*D1229,\"\")","v":0},{"$f":"COUNTIF('EQUIPMENT INVENTORY'!$B:$B,'LABOR-EQUIP'!$B1229)","v":0}]
[null,"Select type of activity(s).  See ELIGIBLE ACTIVITIES tab for complete descriptions and instructions.  Choose as many activities as applicable for each day/date. ",null,null,null,null,null,null,null,null,null,null,null,null,null,null,null,null,null,null,{"$f":"COUNTIF('EQUIPMENT INVENTORY'!$B:$B,'LABOR-EQUIP'!$B1230)","v":0}]
[null,null,null,null,{"$f":"+E1227","v":0},{"$f":"IF(ISBLANK(B1231),0,VLOOKUP(B1231,'EQUIPMENT INVENTORY'!$B$7:$AK$1021,7,0))","v":0},{"$f":"IF(ISBLANK(B1231),0,VLOOKUP(B1231,'EQUIPMENT INVENTORY'!$B$7:$AK$1021,8,0))","v":0},null,null,null,null,null,null,null,{"$f":"SUM($H1231:$N1231)","v":0},null,null,{"$f":"O1231*G1231","v":0},null,null,{"$f":"COUNTIF('EQUIPMENT INVENTORY'!$B:$B,'LABOR-EQUIP'!$B1231)","v":0}]
[null,null,null,null,{"$f":"+E1227","v":0},{"$f":"IF(ISBLANK(B1232),0,VLOOKUP(B1232,'EQUIPMENT INVENTORY'!$B$7:$AK$1021,7,0))","v":0},{"$f":"IF(ISBLANK(B1232),0,VLOOKUP(B1232,'EQUIPMENT INVENTORY'!$B$7:$AK$1021,8,0))","v":0},null,null,null,null,null,null,null,{"$f":"SUM($H1232:$N1232)","v":0},null,null,{"$f":"O1232*G1232","v":0},null,null,{"$f":"COUNTIF('EQUIPMENT INVENTORY'!$B:$B,'LABOR-EQUIP'!$B1232)","v":0}]
[null,null,null,null,{"$f":"+E1227","v":0},{"$f":"IF(ISBLANK(B1233),0,VLOOKUP(B1233,'EQUIPMENT INVENTORY'!$B$7:$AK$1021,7,0))","v":0},{"$f":"IF(ISBLANK(B1233),0,VLOOKUP(B1233,'EQUIPMENT INVENTORY'!$B$7:$AK$1021,8,0))","v":0},null,null,null,null,null,null,null,{"$f":"SUM($H1233:$N1233)","v":0},null,null,{"$f":"O1233*G1233","v":0},null,null,{"$f":"COUNTIF('EQUIPMENT INVENTORY'!$B:$B,'LABOR-EQUIP'!$B1233)","v":0}]
[null,"Employee/\nEquipment",null,"RATE w/","REQUEST #","COST CODE","RATE",null,null,null,null,null,null,null,"REG","OT1","OT2","REG TIME\nCOST","OT1\nCOST","OT2\nCOST",{"$f":"COUNTIF('EQUIPMENT INVENTORY'!$B:$B,'LABOR-EQUIP'!$B1234)","v":0}]
[null,null,null,"FRINGE",null,null,null,null,null,null,null,null,null,null,null,null,null,null,null,null,{"$f":"COUNTIF('EQUIPMENT INVENTORY'!$B:$B,'LABOR-EQUIP'!$B1235)","v":0}]
[null,null,"REG",{"$f":"IF(ISBLANK(B1236),0,VLOOKUP(B1236,'PAYROLL RECORD'!$B$8:$V$2005,18,FALSE))","v":0},null,null,null,null,null,null,null,null,null,null,{"$f":"SUM($H1236:$N1236)","v":0},null,null,{"$f":"IFERROR(D1236*O1236,\"\")","v":0},null,null,{"$f":"COUNTIF('EQUIPMENT INVENTORY'!$B:$B,'LABOR-EQUIP'!$B1236)","v":0}]
[null,{"$f":"IF(ISBLANK(B1236),\" \",VLOOKUP(B1236,'PAYROLL RECORD'!$B$9:$C$10740,2,FALSE))","v":" "},"OT1",{"$f":"IF(ISBLANK(B1236),0,VLOOKUP(B1236,'PAYROLL RECORD'!$B$8:$V$2005,19,FALSE))","v":0},{"$f":"+E1236","v":0},null,null,null,null,null,null,null,null,null,null,{"$f":"SUM(H1237:N1237)","v":0},null,null,{"$f":"IF(E1237<>\"e\",P1237*D1237,0)","v":0},null,{"$f":"COUNTIF('EQUIPMENT INVENTORY'!$B:$B,'LABOR-EQUIP'!$B1237)","v":0}]
[null,null,"OT2",{"$f":"IF(ISBLANK(B1236),0,VLOOKUP(B1236,'PAYROLL RECORD'!$B$8:$V$2005,20,FALSE))","v":0},{"$f":"+E1237","v":0},null,null,null,null,null,null,null,null,null,null,null,{"$f":"SUM(H1238:N1238)","v":0},null,null,{"$f":"IF(E1238<>\"E\",Q1238*D1238,0)","v":0},{"$f":"COUNTIF('EQUIPMENT INVENTORY'!$B:$B,'LABOR-EQUIP'!$B1238)","v":0}]
[null,"Select type of activity(s).  See ELIGIBLE ACTIVITIES tab for complete descriptions and instructions.  Choose as many activities as applicable for each day/date. ",null,null,null,null,null,null,null,null,null,null,null,null,null,null,null,null,null,null,{"$f":"COUNTIF('EQUIPMENT INVENTORY'!$B:$B,'LABOR-EQUIP'!$B1239)","v":0}]
[null,null,null,null,{"$f":"+E1238","v":0},{"$f":"IF(ISBLANK(B1240),0,VLOOKUP(B1240,'EQUIPMENT INVENTORY'!$B$7:$AK$1021,7,0))","v":0},{"$f":"IF(ISBLANK(B1240),0,VLOOKUP(B1240,'EQUIPMENT INVENTORY'!$B$7:$AK$1021,8,0))","v":0},null,null,null,null,null,null,null,{"$f":"SUM($H1240:$N1240)","v":0},null,null,{"$f":"O1240*G1240","v":0},null,null,{"$f":"COUNTIF('EQUIPMENT INVENTORY'!$B:$B,'LABOR-EQUIP'!$B1240)","v":0}]
[null,null,null,null,0,{"$f":"IF(ISBLANK(B1241),0,VLOOKUP(B1241,'EQUIPMENT INVENTORY'!$B$7:$AK$1021,7,0))","v":0},{"$f":"IF(ISBLANK(B1241),0,VLOOKUP(B1241,'EQUIPMENT INVENTORY'!$B$7:$AK$1021,8,0))","v":0},null,null,null,null,null,null,null,{"$f":"SUM($H1241:$N1241)","v":0},null,null,{"$f":"O1241*G1241","v":0},null,null,{"$f":"COUNTIF('EQUIPMENT INVENTORY'!$B:$B,'LABOR-EQUIP'!$B1241)","v":0}]
[null,null,null,null,0,{"$f":"IF(ISBLANK(B1242),0,VLOOKUP(B1242,'EQUIPMENT INVENTORY'!$B$7:$AK$1021,7,0))","v":0},{"$f":"IF(ISBLANK(B1242),0,VLOOKUP(B1242,'EQUIPMENT INVENTORY'!$B$7:$AK$1021,8,0))","v":0},null,null,null,null,null,null,null,{"$f":"SUM($H1242:$N1242)","v":0},null,null,{"$f":"O1242*G1242","v":0},null,null,{"$f":"COUNTIF('EQUIPMENT INVENTORY'!$B:$B,'LABOR-EQUIP'!$B1242)","v":0}]
[null,"Employee/\nEquipment",null,"RATE w/","REQUEST #","COST CODE","RATE",null,null,null,null,null,null,null,"REG","OT1","OT2","REG TIME\nCOST","OT1\nCOST","OT2\nCOST",{"$f":"COUNTIF('EQUIPMENT INVENTORY'!$B:$B,'LABOR-EQUIP'!$B1243)","v":0}]
[null,null,null,"FRINGE",null,null,null,null,null,null,null,null,null,null,null,null,null,null,null,null,{"$f":"COUNTIF('EQUIPMENT INVENTORY'!$B:$B,'LABOR-EQUIP'!$B1244)","v":0}]
[null,null,"REG",{"$f":"IF(ISBLANK(B1245),0,VLOOKUP(B1245,'PAYROLL RECORD'!$B$8:$V$2005,18,FALSE))","v":0},null,null,null,null,null,null,null,null,null,null,{"$f":"SUM($H1245:$N1245)","v":0},null,null,{"$f":"IFERROR(D1245*O1245,\"\")","v":0},null,null,{"$f":"COUNTIF('EQUIPMENT INVENTORY'!$B:$B,'LABOR-EQUIP'!$B1245)","v":0}]
[null,{"$f":"IF(ISBLANK(B1245),\" \",VLOOKUP(B1245,'PAYROLL RECORD'!$B$9:$C$10740,2,FALSE))","v":" "},"OT1",{"$f":"IF(ISBLANK(B1245),0,VLOOKUP(B1245,'PAYROLL RECORD'!$B$8:$V$2005,19,FALSE))","v":0},{"$f":"+E1245","v":0},null,null,null,null,null,null,null,null,null,null,{"$f":"SUM(H1246:N1246)","v":0},null,null,{"$f":"IF(E1246<>\"e\",P1246*D1246,0)","v":0},null,{"$f":"COUNTIF('EQUIPMENT INVENTORY'!$B:$B,'LABOR-EQUIP'!$B1246)","v":0}]
[null,null,"OT2",{"$f":"IF(ISBLANK(B1245),0,VLOOKUP(B1245,'PAYROLL RECORD'!$B$8:$V$2005,20,FALSE))","v":0},{"$f":"+E1246","v":0},null,null,null,null,null,null,null,null,null,null,null,{"$f":"SUM(H1247:N1247)","v":0},null,null,{"$f":"IF(E1247<>\"E\",Q1247*D1247,0)","v":0},{"$f":"COUNTIF('EQUIPMENT INVENTORY'!$B:$B,'LABOR-EQUIP'!$B1247)","v":0}]
[null,"Select type of activity(s).  See ELIGIBLE ACTIVITIES tab for complete descriptions and instructions.  Choose as many activities as applicable for each day/date. ",null,null,null,null,null,null,null,null,null,null,null,null,null,null,null,null,null,null,{"$f":"COUNTIF('EQUIPMENT INVENTORY'!$B:$B,'LABOR-EQUIP'!$B1248)","v":0}]
[null,null,null,null,{"$f":"+E1247","v":0},{"$f":"IF(ISBLANK(B1249),0,VLOOKUP(B1249,'EQUIPMENT INVENTORY'!$B$7:$AK$1021,7,0))","v":0},{"$f":"IF(ISBLANK(B1249),0,VLOOKUP(B1249,'EQUIPMENT INVENTORY'!$B$7:$AK$1021,8,0))","v":0},null,null,null,null,null,null,null,{"$f":"SUM($H1249:$N1249)","v":0},null,null,{"$f":"O1249*G1249","v":0},null,null,{"$f":"COUNTIF('EQUIPMENT INVENTORY'!$B:$B,'LABOR-EQUIP'!$B1249)","v":0}]
[null,null,null,null,0,{"$f":"IF(ISBLANK(B1250),0,VLOOKUP(B1250,'EQUIPMENT INVENTORY'!$B$7:$AK$1021,7,0))","v":0},{"$f":"IF(ISBLANK(B1250),0,VLOOKUP(B1250,'EQUIPMENT INVENTORY'!$B$7:$AK$1021,8,0))","v":0},null,null,null,null,null,null,null,{"$f":"SUM($H1250:$N1250)","v":0},null,null,{"$f":"O1250*G1250","v":0},null,null,{"$f":"COUNTIF('EQUIPMENT INVENTORY'!$B:$B,'LABOR-EQUIP'!$B1250)","v":0}]
[null,null,null,null,0,{"$f":"IF(ISBLANK(B1251),0,VLOOKUP(B1251,'EQUIPMENT INVENTORY'!$B$7:$AK$1021,7,0))","v":0},{"$f":"IF(ISBLANK(B1251),0,VLOOKUP(B1251,'EQUIPMENT INVENTORY'!$B$7:$AK$1021,8,0))","v":0},null,null,null,null,null,null,null,{"$f":"SUM($H1251:$N1251)","v":0},null,null,{"$f":"O1251*G1251","v":0},null,null,{"$f":"COUNTIF('EQUIPMENT INVENTORY'!$B:$B,'LABOR-EQUIP'!$B1251)","v":0}]
[null,"Employee/\nEquipment",null,"RATE w/","REQUEST #","COST CODE","RATE",null,null,null,null,null,null,null,"REG","OT1","OT2","REG TIME\nCOST","OT1\nCOST","OT2\nCOST",{"$f":"COUNTIF('EQUIPMENT INVENTORY'!$B:$B,'LABOR-EQUIP'!$B1252)","v":0}]
[null,null,null,"FRINGE",null,null,null,null,null,null,null,null,null,null,null,null,null,null,null,null,{"$f":"COUNTIF('EQUIPMENT INVENTORY'!$B:$B,'LABOR-EQUIP'!$B1253)","v":0}]
[null,null,"REG",{"$f":"IF(ISBLANK(B1254),0,VLOOKUP(B1254,'PAYROLL RECORD'!$B$8:$V$2005,18,FALSE))","v":0},null,null,null,null,null,null,null,null,null,null,{"$f":"SUM($H1254:$N1254)","v":0},null,null,{"$f":"IFERROR(D1254*O1254,\"\")","v":0},null,null,{"$f":"COUNTIF('EQUIPMENT INVENTORY'!$B:$B,'LABOR-EQUIP'!$B1254)","v":0}]
[null,{"$f":"IF(ISBLANK(B1254),\" \",VLOOKUP(B1254,'PAYROLL RECORD'!$B$9:$C$10740,2,FALSE))","v":" "},"OT1",{"$f":"IF(ISBLANK(B1254),0,VLOOKUP(B1254,'PAYROLL RECORD'!$B$8:$V$2005,19,FALSE))","v":0},{"$f":"+E1254","v":0},null,null,null,null,null,null,null,null,null,null,{"$f":"SUM(H1255:N1255)","v":0},null,null,{"$f":"IF(E1255<>\"e\",P1255*D1255,0)","v":0},null,{"$f":"COUNTIF('EQUIPMENT INVENTORY'!$B:$B,'LABOR-EQUIP'!$B1255)","v":0}]
[null,null,"OT2",{"$f":"IF(ISBLANK(B1254),0,VLOOKUP(B1254,'PAYROLL RECORD'!$B$8:$V$2005,20,FALSE))","v":0},{"$f":"+E1255","v":0},null,null,null,null,null,null,null,null,null,null,null,{"$f":"SUM(H1256:N1256)","v":0},null,null,{"$f":"IF(E1256<>\"E\",Q1256*D1256,0)","v":0},{"$f":"COUNTIF('EQUIPMENT INVENTORY'!$B:$B,'LABOR-EQUIP'!$B1256)","v":0}]
[null,"Select type of activity(s).  See ELIGIBLE ACTIVITIES tab for complete descriptions and instructions.  Choose as many activities as applicable for each day/date. ",null,null,null,null,null,null,null,null,null,null,null,null,null,null,null,null,null,null,{"$f":"COUNTIF('EQUIPMENT INVENTORY'!$B:$B,'LABOR-EQUIP'!$B1257)","v":0}]
[null,null,null,null,{"$f":"+E1256","v":0},{"$f":"IF(ISBLANK(B1258),0,VLOOKUP(B1258,'EQUIPMENT INVENTORY'!$B$7:$AK$1021,7,0))","v":0},{"$f":"IF(ISBLANK(B1258),0,VLOOKUP(B1258,'EQUIPMENT INVENTORY'!$B$7:$AK$1021,8,0))","v":0},null,null,null,null,null,null,null,{"$f":"SUM($H1258:$N1258)","v":0},null,null,{"$f":"O1258*G1258","v":0},null,null,{"$f":"COUNTIF('EQUIPMENT INVENTORY'!$B:$B,'LABOR-EQUIP'!$B1258)","v":0}]
[null,null,null,null,0,{"$f":"IF(ISBLANK(B1259),0,VLOOKUP(B1259,'EQUIPMENT INVENTORY'!$B$7:$AK$1021,7,0))","v":0},{"$f":"IF(ISBLANK(B1259),0,VLOOKUP(B1259,'EQUIPMENT INVENTORY'!$B$7:$AK$1021,8,0))","v":0},null,null,null,null,null,null,null,{"$f":"SUM($H1259:$N1259)","v":0},null,null,{"$f":"O1259*G1259","v":0},null,null,{"$f":"COUNTIF('EQUIPMENT INVENTORY'!$B:$B,'LABOR-EQUIP'!$B1259)","v":0}]
[null,null,null,null,0,{"$f":"IF(ISBLANK(B1260),0,VLOOKUP(B1260,'EQUIPMENT INVENTORY'!$B$7:$AK$1021,7,0))","v":0},{"$f":"IF(ISBLANK(B1260),0,VLOOKUP(B1260,'EQUIPMENT INVENTORY'!$B$7:$AK$1021,8,0))","v":0},null,null,null,null,null,null,null,{"$f":"SUM($H1260:$N1260)","v":0},null,null,{"$f":"O1260*G1260","v":0},null,null,{"$f":"COUNTIF('EQUIPMENT INVENTORY'!$B:$B,'LABOR-EQUIP'!$B1260)","v":0}]
[null,"Employee/\nEquipment",null,"RATE w/","REQUEST #","COST CODE","RATE",null,null,null,null,null,null,null,"REG","OT1","OT2","REG TIME\nCOST","OT1\nCOST","OT2\nCOST",{"$f":"COUNTIF('EQUIPMENT INVENTORY'!$B:$B,'LABOR-EQUIP'!$B1261)","v":0}]
[null,null,null,"FRINGE",null,null,null,null,null,null,null,null,null,null,null,null,null,null,null,null,{"$f":"COUNTIF('EQUIPMENT INVENTORY'!$B:$B,'LABOR-EQUIP'!$B1262)","v":0}]
[null,null,"REG",{"$f":"IF(ISBLANK(B1263),0,VLOOKUP(B1263,'PAYROLL RECORD'!$B$8:$V$2005,18,FALSE))","v":0},null,null,null,null,null,null,null,null,null,null,{"$f":"SUM($H1263:$N1263)","v":0},null,null,{"$f":"IFERROR(D1263*O1263,\"\")","v":0},null,null,{"$f":"COUNTIF('EQUIPMENT INVENTORY'!$B:$B,'LABOR-EQUIP'!$B1263)","v":0}]
[null,{"$f":"IF(ISBLANK(B1263),\" \",VLOOKUP(B1263,'PAYROLL RECORD'!$B$9:$C$10740,2,FALSE))","v":" "},"OT1",{"$f":"IF(ISBLANK(B1263),0,VLOOKUP(B1263,'PAYROLL RECORD'!$B$8:$V$2005,19,FALSE))","v":0},{"$f":"+E1263","v":0},null,null,null,null,null,null,null,null,null,null,{"$f":"SUM(H1264:N1264)","v":0},null,null,{"$f":"IF(E1264<>\"e\",P1264*D1264,0)","v":0},null,{"$f":"COUNTIF('EQUIPMENT INVENTORY'!$B:$B,'LABOR-EQUIP'!$B1264)","v":0}]
[null,null,"OT2",{"$f":"IF(ISBLANK(B1263),0,VLOOKUP(B1263,'PAYROLL RECORD'!$B$8:$V$2005,20,FALSE))","v":0},{"$f":"+E1264","v":0},null,null,null,null,null,null,null,null,null,null,null,{"$f":"SUM(H1265:N1265)","v":0},null,null,{"$f":"IF(E1265<>\"E\",Q1265*D1265,0)","v":0},{"$f":"COUNTIF('EQUIPMENT INVENTORY'!$B:$B,'LABOR-EQUIP'!$B1265)","v":0}]
[null,"Select type of activity(s).  See ELIGIBLE ACTIVITIES tab for complete descriptions and instructions.  Choose as many activities as applicable for each day/date. ",null,null,null,null,null,null,null,null,null,null,null,null,null,null,null,null,null,null,{"$f":"COUNTIF('EQUIPMENT INVENTORY'!$B:$B,'LABOR-EQUIP'!$B1266)","v":0}]
[null,null,null,null,{"$f":"+E1265","v":0},{"$f":"IF(ISBLANK(B1267),0,VLOOKUP(B1267,'EQUIPMENT INVENTORY'!$B$7:$AK$1021,7,0))","v":0},{"$f":"IF(ISBLANK(B1267),0,VLOOKUP(B1267,'EQUIPMENT INVENTORY'!$B$7:$AK$1021,8,0))","v":0},null,null,null,null,null,null,null,{"$f":"SUM($H1267:$N1267)","v":0},null,null,{"$f":"O1267*G1267","v":0},null,null,{"$f":"COUNTIF('EQUIPMENT INVENTORY'!$B:$B,'LABOR-EQUIP'!$B1267)","v":0}]
[null,null,null,null,0,{"$f":"IF(ISBLANK(B1268),0,VLOOKUP(B1268,'EQUIPMENT INVENTORY'!$B$7:$AK$1021,7,0))","v":0},{"$f":"IF(ISBLANK(B1268),0,VLOOKUP(B1268,'EQUIPMENT INVENTORY'!$B$7:$AK$1021,8,0))","v":0},null,null,null,null,null,null,null,{"$f":"SUM($H1268:$N1268)","v":0},null,null,{"$f":"O1268*G1268","v":0},null,null,{"$f":"COUNTIF('EQUIPMENT INVENTORY'!$B:$B,'LABOR-EQUIP'!$B1268)","v":0}]
[null,null,null,null,0,{"$f":"IF(ISBLANK(B1269),0,VLOOKUP(B1269,'EQUIPMENT INVENTORY'!$B$7:$AK$1021,7,0))","v":0},{"$f":"IF(ISBLANK(B1269),0,VLOOKUP(B1269,'EQUIPMENT INVENTORY'!$B$7:$AK$1021,8,0))","v":0},null,null,null,null,null,null,null,{"$f":"SUM($H1269:$N1269)","v":0},null,null,{"$f":"O1269*G1269","v":0},null,null,{"$f":"COUNTIF('EQUIPMENT INVENTORY'!$B:$B,'LABOR-EQUIP'!$B1269)","v":0}]
[null,null,null,null,null,null,null,null,null,null,null,null,"LABOR - Page Total",null,{"$f":"O1227+O1236+O1245+O1254+O1263","v":0},{"$f":"P1228+P1237+P1246+P1255+P1264","v":0},{"$f":"Q1229+Q1238+Q1247+Q1256+Q1265","v":0},{"$f":"R1227+R1236+R1245+R1254+R1263","v":0},{"$f":"S1228+S1237+S1246+S1255+S1264","v":0},{"$f":"T1229+T1238+T1247+T1256+T1265","v":0}]
[null,null,null,null,null,null,null,null,null,null,null,null,"EQUIPMENT - Page Total",null,{"$f":"O1231+O1232+O1233+O1240+O1241+O1242+O1249+O1250+O1251+O1258+O1259+O1260+O1267+O1268+O1269","v":0},null,null,{"$f":"R1231+R1232+R1233+R1240+R1241+R1242+R1249+R1250+R1251+R1258+R1259+R1260+R1267+R1268+R1269","v":0}]
[null,null,null,null,null,null,null,null,null,null,null,null,"LABOR - Grand Total",null,{"$f":"SUM($AA:$AA)","v":0},{"$f":"SUM(AB:AB)","v":0},{"$f":"SUM(AC:AC)","v":0},{"$f":"SUM(AD:AD)","v":0},{"$f":"SUM(AE:AE)","v":0},{"$f":"SUM(AF:AF)","v":0},null,null,null,null,null,null,{"$f":"O1270","v":0},{"$f":"P1270","v":0},{"$f":"Q1270","v":0},{"$f":"R1270","v":0},{"$f":"S1270","v":0},{"$f":"T1270","v":0}]
[null,null,null,null,null,null,null,null,null,null,null,null,"EQUIPMENT - Grand Total",null,{"$f":"SUM(AG:AG)","v":0},null,null,{"$f":"SUM(AH:AH)","v":0},null,null,null,null,null,null,null,null,null,null,null,null,null,null,{"$f":"O1271","v":0},{"$f":"R1271","v":0}]
[]
[]
[null,"APPLICANT NAME",null,null,"DISASTER #",null,null,"PLEASE ENTER DATES FOR EACH DAY WORKED.  THIS ALLOWS FOR TRACKING OF COSTS OVER MULTIPLE DAYS, WEEKS AND/OR YEARS.  USE THE FIRST ROW FOR MONTH/DAY AND THE SECOND ROW FOR YEAR.  DATES DO NOT NEED TO BE CONSECUTIVE. ",null,null,null,null,null,null,"DISASTER TITLE"]
[null,{"$f":"IF('PAYROLL RECORD'!B1277=\"\",\"\",'PAYROLL RECORD'!B1277)","v":""},null,null,{"$f":"IF('PAYROLL RECORD'!D1277=\"\",\"\",'PAYROLL RECORD'!D1277)","v":""},null,null,null,null,null,null,null,null,null,{"$f":"IF('PAYROLL RECORD'!G1277=\"\",\"\",'PAYROLL RECORD'!G1277)","v":""}]
[null,"Employee/\nEquipment",null,"RATE w/","REQUEST #","COST CODE","RATE",null,null,null,null,null,null,null,"REG","OT1","OT2","REG TIME\nCOST","OT1\nCOST","OT2\nCOST"]
[null,null,null,"FRINGE"]
[null,null,"REG",{"$f":"IF(ISBLANK(B1280),0,VLOOKUP(B1280,'PAYROLL RECORD'!$B$8:$V$2005,18,FALSE))","v":0},null,null,null,null,null,null,null,null,null,null,{"$f":"SUM($H1280:$N1280)","v":0},null,null,{"$f":"IFERROR(D1280*O1280,\"\")","v":0},null,null,{"$f":"COUNTIF('EQUIPMENT INVENTORY'!$B:$B,'LABOR-EQUIP'!$B1280)","v":0}]
[null,{"$f":"IF(ISBLANK(B1280),\" \",VLOOKUP(B1280,'PAYROLL RECORD'!$B$9:$C$10740,2,FALSE))","v":" "},"OT1",{"$f":"IF(ISBLANK(B1280),0,VLOOKUP(B1280,'PAYROLL RECORD'!$B$8:$V$2005,19,FALSE))","v":0},{"$f":"+E1280","v":0},null,null,null,null,null,null,null,null,null,null,{"$f":"SUM(H1281:N1281)","v":0},null,null,{"$f":"IFERROR(P1281*D1281,\"\")","v":0},null,{"$f":"COUNTIF('EQUIPMENT INVENTORY'!$B:$B,'LABOR-EQUIP'!$B1281)","v":0}]
[null,null,"OT2",{"$f":"IF(ISBLANK(B1280),0,VLOOKUP(B1280,'PAYROLL RECORD'!$B$8:$V$2005,20,FALSE))","v":0},{"$f":"+E1280","v":0},null,null,null,null,null,null,null,null,null,null,null,{"$f":"SUM(H1282:N1282)","v":0},null,null,{"$f":"IFERROR(Q1282*D1282,\"\")","v":0},{"$f":"COUNTIF('EQUIPMENT INVENTORY'!$B:$B,'LABOR-EQUIP'!$B1282)","v":0}]
[null,"Select type of activity(s).  See ELIGIBLE ACTIVITIES tab for complete descriptions and instructions.  Choose as many activities as applicable for each day/date. ",null,null,null,null,null,null,null,null,null,null,null,null,null,null,null,null,null,null,{"$f":"COUNTIF('EQUIPMENT INVENTORY'!$B:$B,'LABOR-EQUIP'!$B1283)","v":0}]
[null,null,null,null,{"$f":"+E1280","v":0},{"$f":"IF(ISBLANK(B1284),0,VLOOKUP(B1284,'EQUIPMENT INVENTORY'!$B$7:$AK$1021,7,0))","v":0},{"$f":"IF(ISBLANK(B1284),0,VLOOKUP(B1284,'EQUIPMENT INVENTORY'!$B$7:$AK$1021,8,0))","v":0},null,null,null,null,null,null,null,{"$f":"SUM($H1284:$N1284)","v":0},null,null,{"$f":"O1284*G1284","v":0},null,null,{"$f":"COUNTIF('EQUIPMENT INVENTORY'!$B:$B,'LABOR-EQUIP'!$B1284)","v":0}]
[null,null,null,null,{"$f":"+E1280","v":0},{"$f":"IF(ISBLANK(B1285),0,VLOOKUP(B1285,'EQUIPMENT INVENTORY'!$B$7:$AK$1021,7,0))","v":0},{"$f":"IF(ISBLANK(B1285),0,VLOOKUP(B1285,'EQUIPMENT INVENTORY'!$B$7:$AK$1021,8,0))","v":0},null,null,null,null,null,null,null,{"$f":"SUM($H1285:$N1285)","v":0},null,null,{"$f":"O1285*G1285","v":0},null,null,{"$f":"COUNTIF('EQUIPMENT INVENTORY'!$B:$B,'LABOR-EQUIP'!$B1285)","v":0}]
[null,null,null,null,{"$f":"+E1280","v":0},{"$f":"IF(ISBLANK(B1286),0,VLOOKUP(B1286,'EQUIPMENT INVENTORY'!$B$7:$AK$1021,7,0))","v":0},{"$f":"IF(ISBLANK(B1286),0,VLOOKUP(B1286,'EQUIPMENT INVENTORY'!$B$7:$AK$1021,8,0))","v":0},null,null,null,null,null,null,null,{"$f":"SUM($H1286:$N1286)","v":0},null,null,{"$f":"O1286*G1286","v":0},null,null,{"$f":"COUNTIF('EQUIPMENT INVENTORY'!$B:$B,'LABOR-EQUIP'!$B1286)","v":0}]
[null,"Employee/\nEquipment",null,"RATE w/","REQUEST #","COST CODE","RATE",null,null,null,null,null,null,null,"REG","OT1","OT2","REG TIME\nCOST","OT1\nCOST","OT2\nCOST",{"$f":"COUNTIF('EQUIPMENT INVENTORY'!$B:$B,'LABOR-EQUIP'!$B1287)","v":0}]
[null,null,null,"FRINGE",null,null,null,null,null,null,null,null,null,null,null,null,null,null,null,null,{"$f":"COUNTIF('EQUIPMENT INVENTORY'!$B:$B,'LABOR-EQUIP'!$B1288)","v":0}]
[null,null,"REG",{"$f":"IF(ISBLANK(B1289),0,VLOOKUP(B1289,'PAYROLL RECORD'!$B$8:$V$2005,18,FALSE))","v":0},null,null,null,null,null,null,null,null,null,null,{"$f":"SUM($H1289:$N1289)","v":0},null,null,{"$f":"IFERROR(D1289*O1289,\"\")","v":0},null,null,{"$f":"COUNTIF('EQUIPMENT INVENTORY'!$B:$B,'LABOR-EQUIP'!$B1289)","v":0}]
[null,{"$f":"IF(ISBLANK(B1289),\" \",VLOOKUP(B1289,'PAYROLL RECORD'!$B$9:$C$10740,2,FALSE))","v":" "},"OT1",{"$f":"IF(ISBLANK(B1289),0,VLOOKUP(B1289,'PAYROLL RECORD'!$B$8:$V$2005,19,FALSE))","v":0},{"$f":"+E1289","v":0},null,null,null,null,null,null,null,null,null,null,{"$f":"SUM(H1290:N1290)","v":0},null,null,{"$f":"IF(E1290<>\"e\",P1290*D1290,0)","v":0},null,{"$f":"COUNTIF('EQUIPMENT INVENTORY'!$B:$B,'LABOR-EQUIP'!$B1290)","v":0}]
[null,null,"OT2",{"$f":"IF(ISBLANK(B1289),0,VLOOKUP(B1289,'PAYROLL RECORD'!$B$8:$V$2005,20,FALSE))","v":0},{"$f":"+E1290","v":0},null,null,null,null,null,null,null,null,null,null,null,{"$f":"SUM(H1291:N1291)","v":0},null,null,{"$f":"IF(E1291<>\"E\",Q1291*D1291,0)","v":0},{"$f":"COUNTIF('EQUIPMENT INVENTORY'!$B:$B,'LABOR-EQUIP'!$B1291)","v":0}]
[null,"Select type of activity(s).  See ELIGIBLE ACTIVITIES tab for complete descriptions and instructions.  Choose as many activities as applicable for each day/date. ",null,null,null,null,null,null,null,null,null,null,null,null,null,null,null,null,null,null,{"$f":"COUNTIF('EQUIPMENT INVENTORY'!$B:$B,'LABOR-EQUIP'!$B1292)","v":0}]
[null,null,null,null,{"$f":"+E1291","v":0},{"$f":"IF(ISBLANK(B1293),0,VLOOKUP(B1293,'EQUIPMENT INVENTORY'!$B$7:$AK$1021,7,0))","v":0},{"$f":"IF(ISBLANK(B1293),0,VLOOKUP(B1293,'EQUIPMENT INVENTORY'!$B$7:$AK$1021,8,0))","v":0},null,null,null,null,null,null,null,{"$f":"SUM($H1293:$N1293)","v":0},null,null,{"$f":"O1293*G1293","v":0},null,null,{"$f":"COUNTIF('EQUIPMENT INVENTORY'!$B:$B,'LABOR-EQUIP'!$B1293)","v":0}]
[null,null,null,null,0,{"$f":"IF(ISBLANK(B1294),0,VLOOKUP(B1294,'EQUIPMENT INVENTORY'!$B$7:$AK$1021,7,0))","v":0},{"$f":"IF(ISBLANK(B1294),0,VLOOKUP(B1294,'EQUIPMENT INVENTORY'!$B$7:$AK$1021,8,0))","v":0},null,null,null,null,null,null,null,{"$f":"SUM($H1294:$N1294)","v":0},null,null,{"$f":"O1294*G1294","v":0},null,null,{"$f":"COUNTIF('EQUIPMENT INVENTORY'!$B:$B,'LABOR-EQUIP'!$B1294)","v":0}]
[null,null,null,null,0,{"$f":"IF(ISBLANK(B1295),0,VLOOKUP(B1295,'EQUIPMENT INVENTORY'!$B$7:$AK$1021,7,0))","v":0},{"$f":"IF(ISBLANK(B1295),0,VLOOKUP(B1295,'EQUIPMENT INVENTORY'!$B$7:$AK$1021,8,0))","v":0},null,null,null,null,null,null,null,{"$f":"SUM($H1295:$N1295)","v":0},null,null,{"$f":"O1295*G1295","v":0},null,null,{"$f":"COUNTIF('EQUIPMENT INVENTORY'!$B:$B,'LABOR-EQUIP'!$B1295)","v":0}]
[null,"Employee/\nEquipment",null,"RATE w/","REQUEST #","COST CODE","RATE",null,null,null,null,null,null,null,"REG","OT1","OT2","REG TIME\nCOST","OT1\nCOST","OT2\nCOST",{"$f":"COUNTIF('EQUIPMENT INVENTORY'!$B:$B,'LABOR-EQUIP'!$B1296)","v":0}]
[null,null,null,"FRINGE",null,null,null,null,null,null,null,null,null,null,null,null,null,null,null,null,{"$f":"COUNTIF('EQUIPMENT INVENTORY'!$B:$B,'LABOR-EQUIP'!$B1297)","v":0}]
[null,null,"REG",{"$f":"IF(ISBLANK(B1298),0,VLOOKUP(B1298,'PAYROLL RECORD'!$B$8:$V$2005,18,FALSE))","v":0},null,null,null,null,null,null,null,null,null,null,{"$f":"SUM($H1298:$N1298)","v":0},null,null,{"$f":"IFERROR(D1298*O1298,\"\")","v":0},null,null,{"$f":"COUNTIF('EQUIPMENT INVENTORY'!$B:$B,'LABOR-EQUIP'!$B1298)","v":0}]
[null,{"$f":"IF(ISBLANK(B1298),\" \",VLOOKUP(B1298,'PAYROLL RECORD'!$B$9:$C$10740,2,FALSE))","v":" "},"OT1",{"$f":"IF(ISBLANK(B1298),0,VLOOKUP(B1298,'PAYROLL RECORD'!$B$8:$V$2005,19,FALSE))","v":0},{"$f":"+E1298","v":0},null,null,null,null,null,null,null,null,null,null,{"$f":"SUM(H1299:N1299)","v":0},null,null,{"$f":"IF(E1299<>\"e\",P1299*D1299,0)","v":0},null,{"$f":"COUNTIF('EQUIPMENT INVENTORY'!$B:$B,'LABOR-EQUIP'!$B1299)","v":0}]
[null,null,"OT2",{"$f":"IF(ISBLANK(B1298),0,VLOOKUP(B1298,'PAYROLL RECORD'!$B$8:$V$2005,20,FALSE))","v":0},{"$f":"+E1299","v":0},null,null,null,null,null,null,null,null,null,null,null,{"$f":"SUM(H1300:N1300)","v":0},null,null,{"$f":"IF(E1300<>\"E\",Q1300*D1300,0)","v":0},{"$f":"COUNTIF('EQUIPMENT INVENTORY'!$B:$B,'LABOR-EQUIP'!$B1300)","v":0}]
[null,"Select type of activity(s).  See ELIGIBLE ACTIVITIES tab for complete descriptions and instructions.  Choose as many activities as applicable for each day/date. ",null,null,null,null,null,null,null,null,null,null,null,null,null,null,null,null,null,null,{"$f":"COUNTIF('EQUIPMENT INVENTORY'!$B:$B,'LABOR-EQUIP'!$B1301)","v":0}]
[null,null,null,null,{"$f":"+E1300","v":0},{"$f":"IF(ISBLANK(B1302),0,VLOOKUP(B1302,'EQUIPMENT INVENTORY'!$B$7:$AK$1021,7,0))","v":0},{"$f":"IF(ISBLANK(B1302),0,VLOOKUP(B1302,'EQUIPMENT INVENTORY'!$B$7:$AK$1021,8,0))","v":0},null,null,null,null,null,null,null,{"$f":"SUM($H1302:$N1302)","v":0},null,null,{"$f":"O1302*G1302","v":0},null,null,{"$f":"COUNTIF('EQUIPMENT INVENTORY'!$B:$B,'LABOR-EQUIP'!$B1302)","v":0}]
[null,null,null,null,0,{"$f":"IF(ISBLANK(B1303),0,VLOOKUP(B1303,'EQUIPMENT INVENTORY'!$B$7:$AK$1021,7,0))","v":0},{"$f":"IF(ISBLANK(B1303),0,VLOOKUP(B1303,'EQUIPMENT INVENTORY'!$B$7:$AK$1021,8,0))","v":0},null,null,null,null,null,null,null,{"$f":"SUM($H1303:$N1303)","v":0},null,null,{"$f":"O1303*G1303","v":0},null,null,{"$f":"COUNTIF('EQUIPMENT INVENTORY'!$B:$B,'LABOR-EQUIP'!$B1303)","v":0}]
[null,null,null,null,0,{"$f":"IF(ISBLANK(B1304),0,VLOOKUP(B1304,'EQUIPMENT INVENTORY'!$B$7:$AK$1021,7,0))","v":0},{"$f":"IF(ISBLANK(B1304),0,VLOOKUP(B1304,'EQUIPMENT INVENTORY'!$B$7:$AK$1021,8,0))","v":0},null,null,null,null,null,null,null,{"$f":"SUM($H1304:$N1304)","v":0},null,null,{"$f":"O1304*G1304","v":0},null,null,{"$f":"COUNTIF('EQUIPMENT INVENTORY'!$B:$B,'LABOR-EQUIP'!$B1304)","v":0}]
[null,"Employee/\nEquipment",null,"RATE w/","REQUEST #","COST CODE","RATE",null,null,null,null,null,null,null,"REG","OT1","OT2","REG TIME\nCOST","OT1\nCOST","OT2\nCOST",{"$f":"COUNTIF('EQUIPMENT INVENTORY'!$B:$B,'LABOR-EQUIP'!$B1305)","v":0}]
[null,null,null,"FRINGE",null,null,null,null,null,null,null,null,null,null,null,null,null,null,null,null,{"$f":"COUNTIF('EQUIPMENT INVENTORY'!$B:$B,'LABOR-EQUIP'!$B1306)","v":0}]
[null,null,"REG",{"$f":"IF(ISBLANK(B1307),0,VLOOKUP(B1307,'PAYROLL RECORD'!$B$8:$V$2005,18,FALSE))","v":0},null,null,null,null,null,null,null,null,null,null,{"$f":"SUM($H1307:$N1307)","v":0},null,null,{"$f":"IFERROR(D1307*O1307,\"\")","v":0},null,null,{"$f":"COUNTIF('EQUIPMENT INVENTORY'!$B:$B,'LABOR-EQUIP'!$B1307)","v":0}]
[null,{"$f":"IF(ISBLANK(B1307),\" \",VLOOKUP(B1307,'PAYROLL RECORD'!$B$9:$C$10740,2,FALSE))","v":" "},"OT1",{"$f":"IF(ISBLANK(B1307),0,VLOOKUP(B1307,'PAYROLL RECORD'!$B$8:$V$2005,19,FALSE))","v":0},{"$f":"+E1307","v":0},null,null,null,null,null,null,null,null,null,null,{"$f":"SUM(H1308:N1308)","v":0},null,null,{"$f":"IF(E1308<>\"e\",P1308*D1308,0)","v":0},null,{"$f":"COUNTIF('EQUIPMENT INVENTORY'!$B:$B,'LABOR-EQUIP'!$B1308)","v":0}]
[null,null,"OT2",{"$f":"IF(ISBLANK(B1307),0,VLOOKUP(B1307,'PAYROLL RECORD'!$B$8:$V$2005,20,FALSE))","v":0},{"$f":"+E1308","v":0},null,null,null,null,null,null,null,null,null,null,null,{"$f":"SUM(H1309:N1309)","v":0},null,null,{"$f":"IF(E1309<>\"E\",Q1309*D1309,0)","v":0},{"$f":"COUNTIF('EQUIPMENT INVENTORY'!$B:$B,'LABOR-EQUIP'!$B1309)","v":0}]
[null,"Select type of activity(s).  See ELIGIBLE ACTIVITIES tab for complete descriptions and instructions.  Choose as many activities as applicable for each day/date. ",null,null,null,null,null,null,null,null,null,null,null,null,null,null,null,null,null,null,{"$f":"COUNTIF('EQUIPMENT INVENTORY'!$B:$B,'LABOR-EQUIP'!$B1310)","v":0}]
[null,null,null,null,{"$f":"+E1309","v":0},{"$f":"IF(ISBLANK(B1311),0,VLOOKUP(B1311,'EQUIPMENT INVENTORY'!$B$7:$AK$1021,7,0))","v":0},{"$f":"IF(ISBLANK(B1311),0,VLOOKUP(B1311,'EQUIPMENT INVENTORY'!$B$7:$AK$1021,8,0))","v":0},null,null,null,null,null,null,null,{"$f":"SUM($H1311:$N1311)","v":0},null,null,{"$f":"O1311*G1311","v":0},null,null,{"$f":"COUNTIF('EQUIPMENT INVENTORY'!$B:$B,'LABOR-EQUIP'!$B1311)","v":0}]
[null,null,null,null,0,{"$f":"IF(ISBLANK(B1312),0,VLOOKUP(B1312,'EQUIPMENT INVENTORY'!$B$7:$AK$1021,7,0))","v":0},{"$f":"IF(ISBLANK(B1312),0,VLOOKUP(B1312,'EQUIPMENT INVENTORY'!$B$7:$AK$1021,8,0))","v":0},null,null,null,null,null,null,null,{"$f":"SUM($H1312:$N1312)","v":0},null,null,{"$f":"O1312*G1312","v":0},null,null,{"$f":"COUNTIF('EQUIPMENT INVENTORY'!$B:$B,'LABOR-EQUIP'!$B1312)","v":0}]
[null,null,null,null,0,{"$f":"IF(ISBLANK(B1313),0,VLOOKUP(B1313,'EQUIPMENT INVENTORY'!$B$7:$AK$1021,7,0))","v":0},{"$f":"IF(ISBLANK(B1313),0,VLOOKUP(B1313,'EQUIPMENT INVENTORY'!$B$7:$AK$1021,8,0))","v":0},null,null,null,null,null,null,null,{"$f":"SUM($H1313:$N1313)","v":0},null,null,{"$f":"O1313*G1313","v":0},null,null,{"$f":"COUNTIF('EQUIPMENT INVENTORY'!$B:$B,'LABOR-EQUIP'!$B1313)","v":0}]
[null,"Employee/\nEquipment",null,"RATE w/","REQUEST #","COST CODE","RATE",null,null,null,null,null,null,null,"REG","OT1","OT2","REG TIME\nCOST","OT1\nCOST","OT2\nCOST",{"$f":"COUNTIF('EQUIPMENT INVENTORY'!$B:$B,'LABOR-EQUIP'!$B1314)","v":0}]
[null,null,null,"FRINGE",null,null,null,null,null,null,null,null,null,null,null,null,null,null,null,null,{"$f":"COUNTIF('EQUIPMENT INVENTORY'!$B:$B,'LABOR-EQUIP'!$B1315)","v":0}]
[null,null,"REG",{"$f":"IF(ISBLANK(B1316),0,VLOOKUP(B1316,'PAYROLL RECORD'!$B$8:$V$2005,18,FALSE))","v":0},null,null,null,null,null,null,null,null,null,null,{"$f":"SUM($H1316:$N1316)","v":0},null,null,{"$f":"IFERROR(D1316*O1316,\"\")","v":0},null,null,{"$f":"COUNTIF('EQUIPMENT INVENTORY'!$B:$B,'LABOR-EQUIP'!$B1316)","v":0}]
[null,{"$f":"IF(ISBLANK(B1316),\" \",VLOOKUP(B1316,'PAYROLL RECORD'!$B$9:$C$10740,2,FALSE))","v":" "},"OT1",{"$f":"IF(ISBLANK(B1316),0,VLOOKUP(B1316,'PAYROLL RECORD'!$B$8:$V$2005,19,FALSE))","v":0},{"$f":"+E1316","v":0},null,null,null,null,null,null,null,null,null,null,{"$f":"SUM(H1317:N1317)","v":0},null,null,{"$f":"IF(E1317<>\"e\",P1317*D1317,0)","v":0},null,{"$f":"COUNTIF('EQUIPMENT INVENTORY'!$B:$B,'LABOR-EQUIP'!$B1317)","v":0}]
[null,null,"OT2",{"$f":"IF(ISBLANK(B1316),0,VLOOKUP(B1316,'PAYROLL RECORD'!$B$8:$V$2005,20,FALSE))","v":0},{"$f":"+E1317","v":0},null,null,null,null,null,null,null,null,null,null,null,{"$f":"SUM(H1318:N1318)","v":0},null,null,{"$f":"IF(E1318<>\"E\",Q1318*D1318,0)","v":0},{"$f":"COUNTIF('EQUIPMENT INVENTORY'!$B:$B,'LABOR-EQUIP'!$B1318)","v":0}]
[null,"Select type of activity(s).  See ELIGIBLE ACTIVITIES tab for complete descriptions and instructions.  Choose as many activities as applicable for each day/date. ",null,null,null,null,null,null,null,null,null,null,null,null,null,null,null,null,null,null,{"$f":"COUNTIF('EQUIPMENT INVENTORY'!$B:$B,'LABOR-EQUIP'!$B1319)","v":0}]
[null,null,null,null,{"$f":"+E1318","v":0},{"$f":"IF(ISBLANK(B1320),0,VLOOKUP(B1320,'EQUIPMENT INVENTORY'!$B$7:$AK$1021,7,0))","v":0},{"$f":"IF(ISBLANK(B1320),0,VLOOKUP(B1320,'EQUIPMENT INVENTORY'!$B$7:$AK$1021,8,0))","v":0},null,null,null,null,null,null,null,{"$f":"SUM($H1320:$N1320)","v":0},null,null,{"$f":"O1320*G1320","v":0},null,null,{"$f":"COUNTIF('EQUIPMENT INVENTORY'!$B:$B,'LABOR-EQUIP'!$B1320)","v":0}]
[null,null,null,null,0,{"$f":"IF(ISBLANK(B1321),0,VLOOKUP(B1321,'EQUIPMENT INVENTORY'!$B$7:$AK$1021,7,0))","v":0},{"$f":"IF(ISBLANK(B1321),0,VLOOKUP(B1321,'EQUIPMENT INVENTORY'!$B$7:$AK$1021,8,0))","v":0},null,null,null,null,null,null,null,{"$f":"SUM($H1321:$N1321)","v":0},null,null,{"$f":"O1321*G1321","v":0},null,null,{"$f":"COUNTIF('EQUIPMENT INVENTORY'!$B:$B,'LABOR-EQUIP'!$B1321)","v":0}]
[null,null,null,null,0,{"$f":"IF(ISBLANK(B1322),0,VLOOKUP(B1322,'EQUIPMENT INVENTORY'!$B$7:$AK$1021,7,0))","v":0},{"$f":"IF(ISBLANK(B1322),0,VLOOKUP(B1322,'EQUIPMENT INVENTORY'!$B$7:$AK$1021,8,0))","v":0},null,null,null,null,null,null,null,{"$f":"SUM($H1322:$N1322)","v":0},null,null,{"$f":"O1322*G1322","v":0},null,null,{"$f":"COUNTIF('EQUIPMENT INVENTORY'!$B:$B,'LABOR-EQUIP'!$B1322)","v":0}]
[null,null,null,null,null,null,null,null,null,null,null,null,"LABOR - Page Total",null,{"$f":"O1280+O1289+O1298+O1307+O1316","v":0},{"$f":"P1281+P1290+P1299+P1308+P1317","v":0},{"$f":"Q1282+Q1291+Q1300+Q1309+Q1318","v":0},{"$f":"R1280+R1289+R1298+R1307+R1316","v":0},{"$f":"S1281+S1290+S1299+S1308+S1317","v":0},{"$f":"T1282+T1291+T1300+T1309+T1318","v":0}]
[null,null,null,null,null,null,null,null,null,null,null,null,"EQUIPMENT - Page Total",null,{"$f":"O1284+O1285+O1286+O1293+O1294+O1295+O1302+O1303+O1304+O1311+O1312+O1313+O1320+O1321+O1322","v":0},null,null,{"$f":"R1284+R1285+R1286+R1293+R1294+R1295+R1302+R1303+R1304+R1311+R1312+R1313+R1320+R1321+R1322","v":0}]
[null,null,null,null,null,null,null,null,null,null,null,null,"LABOR - Grand Total",null,{"$f":"SUM($AA:$AA)","v":0},{"$f":"SUM(AB:AB)","v":0},{"$f":"SUM(AC:AC)","v":0},{"$f":"SUM(AD:AD)","v":0},{"$f":"SUM(AE:AE)","v":0},{"$f":"SUM(AF:AF)","v":0},null,null,null,null,null,null,{"$f":"O1323","v":0},{"$f":"P1323","v":0},{"$f":"Q1323","v":0},{"$f":"R1323","v":0},{"$f":"S1323","v":0},{"$f":"T1323","v":0}]
[null,null,null,null,null,null,null,null,null,null,null,null,"EQUIPMENT - Grand Total",null,{"$f":"SUM(AG:AG)","v":0},null,null,{"$f":"SUM(AH:AH)","v":0},null,null,null,null,null,null,null,null,null,null,null,null,null,null,{"$f":"O1324","v":0},{"$f":"R1324","v":0}]
[]
[]
[null,"APPLICANT NAME",null,null,"DISASTER #",null,null,"PLEASE ENTER DATES FOR EACH DAY WORKED.  THIS ALLOWS FOR TRACKING OF COSTS OVER MULTIPLE DAYS, WEEKS AND/OR YEARS.  USE THE FIRST ROW FOR MONTH/DAY AND THE SECOND ROW FOR YEAR.  DATES DO NOT NEED TO BE CONSECUTIVE. ",null,null,null,null,null,null,"DISASTER TITLE"]
[null,{"$f":"IF('PAYROLL RECORD'!B1330=\"\",\"\",'PAYROLL RECORD'!B1330)","v":""},null,null,{"$f":"IF('PAYROLL RECORD'!D1330=\"\",\"\",'PAYROLL RECORD'!D1330)","v":""},null,null,null,null,null,null,null,null,null,{"$f":"IF('PAYROLL RECORD'!G1330=\"\",\"\",'PAYROLL RECORD'!G1330)","v":""}]
[null,"Employee/\nEquipment",null,"RATE w/","REQUEST #","COST CODE","RATE",null,null,null,null,null,null,null,"REG","OT1","OT2","REG TIME\nCOST","OT1\nCOST","OT2\nCOST"]
[null,null,null,"FRINGE"]
[null,null,"REG",{"$f":"IF(ISBLANK(B1333),0,VLOOKUP(B1333,'PAYROLL RECORD'!$B$8:$V$2005,18,FALSE))","v":0},null,null,null,null,null,null,null,null,null,null,{"$f":"SUM($H1333:$N1333)","v":0},null,null,{"$f":"IFERROR(D1333*O1333,\"\")","v":0},null,null,{"$f":"COUNTIF('EQUIPMENT INVENTORY'!$B:$B,'LABOR-EQUIP'!$B1333)","v":0}]
[null,{"$f":"IF(ISBLANK(B1333),\" \",VLOOKUP(B1333,'PAYROLL RECORD'!$B$9:$C$10740,2,FALSE))","v":" "},"OT1",{"$f":"IF(ISBLANK(B1333),0,VLOOKUP(B1333,'PAYROLL RECORD'!$B$8:$V$2005,19,FALSE))","v":0},{"$f":"+E1333","v":0},null,null,null,null,null,null,null,null,null,null,{"$f":"SUM(H1334:N1334)","v":0},null,null,{"$f":"IFERROR(P1334*D1334,\"\")","v":0},null,{"$f":"COUNTIF('EQUIPMENT INVENTORY'!$B:$B,'LABOR-EQUIP'!$B1334)","v":0}]
[null,null,"OT2",{"$f":"IF(ISBLANK(B1333),0,VLOOKUP(B1333,'PAYROLL RECORD'!$B$8:$V$2005,20,FALSE))","v":0},{"$f":"+E1333","v":0},null,null,null,null,null,null,null,null,null,null,null,{"$f":"SUM(H1335:N1335)","v":0},null,null,{"$f":"IFERROR(Q1335*D1335,\"\")","v":0},{"$f":"COUNTIF('EQUIPMENT INVENTORY'!$B:$B,'LABOR-EQUIP'!$B1335)","v":0}]
[null,"Select type of activity(s).  See ELIGIBLE ACTIVITIES tab for complete descriptions and instructions.  Choose as many activities as applicable for each day/date. ",null,null,null,null,null,null,null,null,null,null,null,null,null,null,null,null,null,null,{"$f":"COUNTIF('EQUIPMENT INVENTORY'!$B:$B,'LABOR-EQUIP'!$B1336)","v":0}]
[null,null,null,null,{"$f":"+E1333","v":0},{"$f":"IF(ISBLANK(B1337),0,VLOOKUP(B1337,'EQUIPMENT INVENTORY'!$B$7:$AK$1021,7,0))","v":0},{"$f":"IF(ISBLANK(B1337),0,VLOOKUP(B1337,'EQUIPMENT INVENTORY'!$B$7:$AK$1021,8,0))","v":0},null,null,null,null,null,null,null,{"$f":"SUM($H1337:$N1337)","v":0},null,null,{"$f":"O1337*G1337","v":0},null,null,{"$f":"COUNTIF('EQUIPMENT INVENTORY'!$B:$B,'LABOR-EQUIP'!$B1337)","v":0}]
[null,null,null,null,{"$f":"+E1333","v":0},{"$f":"IF(ISBLANK(B1338),0,VLOOKUP(B1338,'EQUIPMENT INVENTORY'!$B$7:$AK$1021,7,0))","v":0},{"$f":"IF(ISBLANK(B1338),0,VLOOKUP(B1338,'EQUIPMENT INVENTORY'!$B$7:$AK$1021,8,0))","v":0},null,null,null,null,null,null,null,{"$f":"SUM($H1338:$N1338)","v":0},null,null,{"$f":"O1338*G1338","v":0},null,null,{"$f":"COUNTIF('EQUIPMENT INVENTORY'!$B:$B,'LABOR-EQUIP'!$B1338)","v":0}]
[null,null,null,null,{"$f":"+E1333","v":0},{"$f":"IF(ISBLANK(B1339),0,VLOOKUP(B1339,'EQUIPMENT INVENTORY'!$B$7:$AK$1021,7,0))","v":0},{"$f":"IF(ISBLANK(B1339),0,VLOOKUP(B1339,'EQUIPMENT INVENTORY'!$B$7:$AK$1021,8,0))","v":0},null,null,null,null,null,null,null,{"$f":"SUM($H1339:$N1339)","v":0},null,null,{"$f":"O1339*G1339","v":0},null,null,{"$f":"COUNTIF('EQUIPMENT INVENTORY'!$B:$B,'LABOR-EQUIP'!$B1339)","v":0}]
[null,"Employee/\nEquipment",null,"RATE w/","REQUEST #","COST CODE","RATE",null,null,null,null,null,null,null,"REG","OT1","OT2","REG TIME\nCOST","OT1\nCOST","OT2\nCOST",{"$f":"COUNTIF('EQUIPMENT INVENTORY'!$B:$B,'LABOR-EQUIP'!$B1340)","v":0}]
[null,null,null,"FRINGE",null,null,null,null,null,null,null,null,null,null,null,null,null,null,null,null,{"$f":"COUNTIF('EQUIPMENT INVENTORY'!$B:$B,'LABOR-EQUIP'!$B1341)","v":0}]
[null,null,"REG",{"$f":"IF(ISBLANK(B1342),0,VLOOKUP(B1342,'PAYROLL RECORD'!$B$8:$V$2005,18,FALSE))","v":0},null,null,null,null,null,null,null,null,null,null,{"$f":"SUM($H1342:$N1342)","v":0},null,null,{"$f":"IFERROR(D1342*O1342,\"\")","v":0},null,null,{"$f":"COUNTIF('EQUIPMENT INVENTORY'!$B:$B,'LABOR-EQUIP'!$B1342)","v":0}]
[null,{"$f":"IF(ISBLANK(B1342),\" \",VLOOKUP(B1342,'PAYROLL RECORD'!$B$9:$C$10740,2,FALSE))","v":" "},"OT1",{"$f":"IF(ISBLANK(B1342),0,VLOOKUP(B1342,'PAYROLL RECORD'!$B$8:$V$2005,19,FALSE))","v":0},{"$f":"+E1342","v":0},null,null,null,null,null,null,null,null,null,null,{"$f":"SUM(H1343:N1343)","v":0},null,null,{"$f":"IF(E1343<>\"e\",P1343*D1343,0)","v":0},null,{"$f":"COUNTIF('EQUIPMENT INVENTORY'!$B:$B,'LABOR-EQUIP'!$B1343)","v":0}]
[null,null,"OT2",{"$f":"IF(ISBLANK(B1342),0,VLOOKUP(B1342,'PAYROLL RECORD'!$B$8:$V$2005,20,FALSE))","v":0},{"$f":"+E1343","v":0},null,null,null,null,null,null,null,null,null,null,null,{"$f":"SUM(H1344:N1344)","v":0},null,null,{"$f":"IF(E1344<>\"E\",Q1344*D1344,0)","v":0},{"$f":"COUNTIF('EQUIPMENT INVENTORY'!$B:$B,'LABOR-EQUIP'!$B1344)","v":0}]
[null,"Select type of activity(s).  See ELIGIBLE ACTIVITIES tab for complete descriptions and instructions.  Choose as many activities as applicable for each day/date. ",null,null,null,null,null,null,null,null,null,null,null,null,null,null,null,null,null,null,{"$f":"COUNTIF('EQUIPMENT INVENTORY'!$B:$B,'LABOR-EQUIP'!$B1345)","v":0}]
[null,null,null,null,{"$f":"+E1344","v":0},{"$f":"IF(ISBLANK(B1346),0,VLOOKUP(B1346,'EQUIPMENT INVENTORY'!$B$7:$AK$1021,7,0))","v":0},{"$f":"IF(ISBLANK(B1346),0,VLOOKUP(B1346,'EQUIPMENT INVENTORY'!$B$7:$AK$1021,8,0))","v":0},null,null,null,null,null,null,null,{"$f":"SUM($H1346:$N1346)","v":0},null,null,{"$f":"O1346*G1346","v":0},null,null,{"$f":"COUNTIF('EQUIPMENT INVENTORY'!$B:$B,'LABOR-EQUIP'!$B1346)","v":0}]
[null,null,null,null,0,{"$f":"IF(ISBLANK(B1347),0,VLOOKUP(B1347,'EQUIPMENT INVENTORY'!$B$7:$AK$1021,7,0))","v":0},{"$f":"IF(ISBLANK(B1347),0,VLOOKUP(B1347,'EQUIPMENT INVENTORY'!$B$7:$AK$1021,8,0))","v":0},null,null,null,null,null,null,null,{"$f":"SUM($H1347:$N1347)","v":0},null,null,{"$f":"O1347*G1347","v":0},null,null,{"$f":"COUNTIF('EQUIPMENT INVENTORY'!$B:$B,'LABOR-EQUIP'!$B1347)","v":0}]
[null,null,null,null,0,{"$f":"IF(ISBLANK(B1348),0,VLOOKUP(B1348,'EQUIPMENT INVENTORY'!$B$7:$AK$1021,7,0))","v":0},{"$f":"IF(ISBLANK(B1348),0,VLOOKUP(B1348,'EQUIPMENT INVENTORY'!$B$7:$AK$1021,8,0))","v":0},null,null,null,null,null,null,null,{"$f":"SUM($H1348:$N1348)","v":0},null,null,{"$f":"O1348*G1348","v":0},null,null,{"$f":"COUNTIF('EQUIPMENT INVENTORY'!$B:$B,'LABOR-EQUIP'!$B1348)","v":0}]
[null,"Employee/\nEquipment",null,"RATE w/","REQUEST #","COST CODE","RATE",null,null,null,null,null,null,null,"REG","OT1","OT2","REG TIME\nCOST","OT1\nCOST","OT2\nCOST",{"$f":"COUNTIF('EQUIPMENT INVENTORY'!$B:$B,'LABOR-EQUIP'!$B1349)","v":0}]
[null,null,null,"FRINGE",null,null,null,null,null,null,null,null,null,null,null,null,null,null,null,null,{"$f":"COUNTIF('EQUIPMENT INVENTORY'!$B:$B,'LABOR-EQUIP'!$B1350)","v":0}]
[null,null,"REG",{"$f":"IF(ISBLANK(B1351),0,VLOOKUP(B1351,'PAYROLL RECORD'!$B$8:$V$2005,18,FALSE))","v":0},null,null,null,null,null,null,null,null,null,null,{"$f":"SUM($H1351:$N1351)","v":0},null,null,{"$f":"IFERROR(D1351*O1351,\"\")","v":0},null,null,{"$f":"COUNTIF('EQUIPMENT INVENTORY'!$B:$B,'LABOR-EQUIP'!$B1351)","v":0}]
[null,{"$f":"IF(ISBLANK(B1351),\" \",VLOOKUP(B1351,'PAYROLL RECORD'!$B$9:$C$10740,2,FALSE))","v":" "},"OT1",{"$f":"IF(ISBLANK(B1351),0,VLOOKUP(B1351,'PAYROLL RECORD'!$B$8:$V$2005,19,FALSE))","v":0},{"$f":"+E1351","v":0},null,null,null,null,null,null,null,null,null,null,{"$f":"SUM(H1352:N1352)","v":0},null,null,{"$f":"IF(E1352<>\"e\",P1352*D1352,0)","v":0},null,{"$f":"COUNTIF('EQUIPMENT INVENTORY'!$B:$B,'LABOR-EQUIP'!$B1352)","v":0}]
[null,null,"OT2",{"$f":"IF(ISBLANK(B1351),0,VLOOKUP(B1351,'PAYROLL RECORD'!$B$8:$V$2005,20,FALSE))","v":0},{"$f":"+E1352","v":0},null,null,null,null,null,null,null,null,null,null,null,{"$f":"SUM(H1353:N1353)","v":0},null,null,{"$f":"IF(E1353<>\"E\",Q1353*D1353,0)","v":0},{"$f":"COUNTIF('EQUIPMENT INVENTORY'!$B:$B,'LABOR-EQUIP'!$B1353)","v":0}]
[null,"Select type of activity(s).  See ELIGIBLE ACTIVITIES tab for complete descriptions and instructions.  Choose as many activities as applicable for each day/date. ",null,null,null,null,null,null,null,null,null,null,null,null,null,null,null,null,null,null,{"$f":"COUNTIF('EQUIPMENT INVENTORY'!$B:$B,'LABOR-EQUIP'!$B1354)","v":0}]
[null,null,null,null,{"$f":"+E1353","v":0},{"$f":"IF(ISBLANK(B1355),0,VLOOKUP(B1355,'EQUIPMENT INVENTORY'!$B$7:$AK$1021,7,0))","v":0},{"$f":"IF(ISBLANK(B1355),0,VLOOKUP(B1355,'EQUIPMENT INVENTORY'!$B$7:$AK$1021,8,0))","v":0},null,null,null,null,null,null,null,{"$f":"SUM($H1355:$N1355)","v":0},null,null,{"$f":"O1355*G1355","v":0},null,null,{"$f":"COUNTIF('EQUIPMENT INVENTORY'!$B:$B,'LABOR-EQUIP'!$B1355)","v":0}]
[null,null,null,null,0,{"$f":"IF(ISBLANK(B1356),0,VLOOKUP(B1356,'EQUIPMENT INVENTORY'!$B$7:$AK$1021,7,0))","v":0},{"$f":"IF(ISBLANK(B1356),0,VLOOKUP(B1356,'EQUIPMENT INVENTORY'!$B$7:$AK$1021,8,0))","v":0},null,null,null,null,null,null,null,{"$f":"SUM($H1356:$N1356)","v":0},null,null,{"$f":"O1356*G1356","v":0},null,null,{"$f":"COUNTIF('EQUIPMENT INVENTORY'!$B:$B,'LABOR-EQUIP'!$B1356)","v":0}]
[null,null,null,null,0,{"$f":"IF(ISBLANK(B1357),0,VLOOKUP(B1357,'EQUIPMENT INVENTORY'!$B$7:$AK$1021,7,0))","v":0},{"$f":"IF(ISBLANK(B1357),0,VLOOKUP(B1357,'EQUIPMENT INVENTORY'!$B$7:$AK$1021,8,0))","v":0},null,null,null,null,null,null,null,{"$f":"SUM($H1357:$N1357)","v":0},null,null,{"$f":"O1357*G1357","v":0},null,null,{"$f":"COUNTIF('EQUIPMENT INVENTORY'!$B:$B,'LABOR-EQUIP'!$B1357)","v":0}]
[null,"Employee/\nEquipment",null,"RATE w/","REQUEST #","COST CODE","RATE",null,null,null,null,null,null,null,"REG","OT1","OT2","REG TIME\nCOST","OT1\nCOST","OT2\nCOST",{"$f":"COUNTIF('EQUIPMENT INVENTORY'!$B:$B,'LABOR-EQUIP'!$B1358)","v":0}]
[null,null,null,"FRINGE",null,null,null,null,null,null,null,null,null,null,null,null,null,null,null,null,{"$f":"COUNTIF('EQUIPMENT INVENTORY'!$B:$B,'LABOR-EQUIP'!$B1359)","v":0}]
[null,null,"REG",{"$f":"IF(ISBLANK(B1360),0,VLOOKUP(B1360,'PAYROLL RECORD'!$B$8:$V$2005,18,FALSE))","v":0},null,null,null,null,null,null,null,null,null,null,{"$f":"SUM($H1360:$N1360)","v":0},null,null,{"$f":"IFERROR(D1360*O1360,\"\")","v":0},null,null,{"$f":"COUNTIF('EQUIPMENT INVENTORY'!$B:$B,'LABOR-EQUIP'!$B1360)","v":0}]
[null,{"$f":"IF(ISBLANK(B1360),\" \",VLOOKUP(B1360,'PAYROLL RECORD'!$B$9:$C$10740,2,FALSE))","v":" "},"OT1",{"$f":"IF(ISBLANK(B1360),0,VLOOKUP(B1360,'PAYROLL RECORD'!$B$8:$V$2005,19,FALSE))","v":0},{"$f":"+E1360","v":0},null,null,null,null,null,null,null,null,null,null,{"$f":"SUM(H1361:N1361)","v":0},null,null,{"$f":"IF(E1361<>\"e\",P1361*D1361,0)","v":0},null,{"$f":"COUNTIF('EQUIPMENT INVENTORY'!$B:$B,'LABOR-EQUIP'!$B1361)","v":0}]
[null,null,"OT2",{"$f":"IF(ISBLANK(B1360),0,VLOOKUP(B1360,'PAYROLL RECORD'!$B$8:$V$2005,20,FALSE))","v":0},{"$f":"+E1361","v":0},null,null,null,null,null,null,null,null,null,null,null,{"$f":"SUM(H1362:N1362)","v":0},null,null,{"$f":"IF(E1362<>\"E\",Q1362*D1362,0)","v":0},{"$f":"COUNTIF('EQUIPMENT INVENTORY'!$B:$B,'LABOR-EQUIP'!$B1362)","v":0}]
[null,"Select type of activity(s).  See ELIGIBLE ACTIVITIES tab for complete descriptions and instructions.  Choose as many activities as applicable for each day/date. ",null,null,null,null,null,null,null,null,null,null,null,null,null,null,null,null,null,null,{"$f":"COUNTIF('EQUIPMENT INVENTORY'!$B:$B,'LABOR-EQUIP'!$B1363)","v":0}]
[null,null,null,null,{"$f":"+E1362","v":0},{"$f":"IF(ISBLANK(B1364),0,VLOOKUP(B1364,'EQUIPMENT INVENTORY'!$B$7:$AK$1021,7,0))","v":0},{"$f":"IF(ISBLANK(B1364),0,VLOOKUP(B1364,'EQUIPMENT INVENTORY'!$B$7:$AK$1021,8,0))","v":0},null,null,null,null,null,null,null,{"$f":"SUM($H1364:$N1364)","v":0},null,null,{"$f":"O1364*G1364","v":0},null,null,{"$f":"COUNTIF('EQUIPMENT INVENTORY'!$B:$B,'LABOR-EQUIP'!$B1364)","v":0}]
[null,null,null,null,0,{"$f":"IF(ISBLANK(B1365),0,VLOOKUP(B1365,'EQUIPMENT INVENTORY'!$B$7:$AK$1021,7,0))","v":0},{"$f":"IF(ISBLANK(B1365),0,VLOOKUP(B1365,'EQUIPMENT INVENTORY'!$B$7:$AK$1021,8,0))","v":0},null,null,null,null,null,null,null,{"$f":"SUM($H1365:$N1365)","v":0},null,null,{"$f":"O1365*G1365","v":0},null,null,{"$f":"COUNTIF('EQUIPMENT INVENTORY'!$B:$B,'LABOR-EQUIP'!$B1365)","v":0}]
[null,null,null,null,0,{"$f":"IF(ISBLANK(B1366),0,VLOOKUP(B1366,'EQUIPMENT INVENTORY'!$B$7:$AK$1021,7,0))","v":0},{"$f":"IF(ISBLANK(B1366),0,VLOOKUP(B1366,'EQUIPMENT INVENTORY'!$B$7:$AK$1021,8,0))","v":0},null,null,null,null,null,null,null,{"$f":"SUM($H1366:$N1366)","v":0},null,null,{"$f":"O1366*G1366","v":0},null,null,{"$f":"COUNTIF('EQUIPMENT INVENTORY'!$B:$B,'LABOR-EQUIP'!$B1366)","v":0}]
[null,"Employee/\nEquipment",null,"RATE w/","REQUEST #","COST CODE","RATE",null,null,null,null,null,null,null,"REG","OT1","OT2","REG TIME\nCOST","OT1\nCOST","OT2\nCOST",{"$f":"COUNTIF('EQUIPMENT INVENTORY'!$B:$B,'LABOR-EQUIP'!$B1367)","v":0}]
[null,null,null,"FRINGE",null,null,null,null,null,null,null,null,null,null,null,null,null,null,null,null,{"$f":"COUNTIF('EQUIPMENT INVENTORY'!$B:$B,'LABOR-EQUIP'!$B1368)","v":0}]
[null,null,"REG",{"$f":"IF(ISBLANK(B1369),0,VLOOKUP(B1369,'PAYROLL RECORD'!$B$8:$V$2005,18,FALSE))","v":0},null,null,null,null,null,null,null,null,null,null,{"$f":"SUM($H1369:$N1369)","v":0},null,null,{"$f":"IFERROR(D1369*O1369,\"\")","v":0},null,null,{"$f":"COUNTIF('EQUIPMENT INVENTORY'!$B:$B,'LABOR-EQUIP'!$B1369)","v":0}]
[null,{"$f":"IF(ISBLANK(B1369),\" \",VLOOKUP(B1369,'PAYROLL RECORD'!$B$9:$C$10740,2,FALSE))","v":" "},"OT1",{"$f":"IF(ISBLANK(B1369),0,VLOOKUP(B1369,'PAYROLL RECORD'!$B$8:$V$2005,19,FALSE))","v":0},{"$f":"+E1369","v":0},null,null,null,null,null,null,null,null,null,null,{"$f":"SUM(H1370:N1370)","v":0},null,null,{"$f":"IF(E1370<>\"e\",P1370*D1370,0)","v":0},null,{"$f":"COUNTIF('EQUIPMENT INVENTORY'!$B:$B,'LABOR-EQUIP'!$B1370)","v":0}]
[null,null,"OT2",{"$f":"IF(ISBLANK(B1369),0,VLOOKUP(B1369,'PAYROLL RECORD'!$B$8:$V$2005,20,FALSE))","v":0},{"$f":"+E1370","v":0},null,null,null,null,null,null,null,null,null,null,null,{"$f":"SUM(H1371:N1371)","v":0},null,null,{"$f":"IF(E1371<>\"E\",Q1371*D1371,0)","v":0},{"$f":"COUNTIF('EQUIPMENT INVENTORY'!$B:$B,'LABOR-EQUIP'!$B1371)","v":0}]
[null,"Select type of activity(s).  See ELIGIBLE ACTIVITIES tab for complete descriptions and instructions.  Choose as many activities as applicable for each day/date. ",null,null,null,null,null,null,null,null,null,null,null,null,null,null,null,null,null,null,{"$f":"COUNTIF('EQUIPMENT INVENTORY'!$B:$B,'LABOR-EQUIP'!$B1372)","v":0}]
[null,null,null,null,{"$f":"+E1371","v":0},{"$f":"IF(ISBLANK(B1373),0,VLOOKUP(B1373,'EQUIPMENT INVENTORY'!$B$7:$AK$1021,7,0))","v":0},{"$f":"IF(ISBLANK(B1373),0,VLOOKUP(B1373,'EQUIPMENT INVENTORY'!$B$7:$AK$1021,8,0))","v":0},null,null,null,null,null,null,null,{"$f":"SUM($H1373:$N1373)","v":0},null,null,{"$f":"O1373*G1373","v":0},null,null,{"$f":"COUNTIF('EQUIPMENT INVENTORY'!$B:$B,'LABOR-EQUIP'!$B1373)","v":0}]
[null,null,null,null,0,{"$f":"IF(ISBLANK(B1374),0,VLOOKUP(B1374,'EQUIPMENT INVENTORY'!$B$7:$AK$1021,7,0))","v":0},{"$f":"IF(ISBLANK(B1374),0,VLOOKUP(B1374,'EQUIPMENT INVENTORY'!$B$7:$AK$1021,8,0))","v":0},null,null,null,null,null,null,null,{"$f":"SUM($H1374:$N1374)","v":0},null,null,{"$f":"O1374*G1374","v":0},null,null,{"$f":"COUNTIF('EQUIPMENT INVENTORY'!$B:$B,'LABOR-EQUIP'!$B1374)","v":0}]
[null,null,null,null,0,{"$f":"IF(ISBLANK(B1375),0,VLOOKUP(B1375,'EQUIPMENT INVENTORY'!$B$7:$AK$1021,7,0))","v":0},{"$f":"IF(ISBLANK(B1375),0,VLOOKUP(B1375,'EQUIPMENT INVENTORY'!$B$7:$AK$1021,8,0))","v":0},null,null,null,null,null,null,null,{"$f":"SUM($H1375:$N1375)","v":0},null,null,{"$f":"O1375*G1375","v":0},null,null,{"$f":"COUNTIF('EQUIPMENT INVENTORY'!$B:$B,'LABOR-EQUIP'!$B1375)","v":0}]
[null,null,null,null,null,null,null,null,null,null,null,null,"LABOR - Page Total",null,{"$f":"O1333+O1342+O1351+O1360+O1369","v":0},{"$f":"P1334+P1343+P1352+P1361+P1370","v":0},{"$f":"Q1335+Q1344+Q1353+Q1362+Q1371","v":0},{"$f":"R1333+R1342+R1351+R1360+R1369","v":0},{"$f":"S1334+S1343+S1352+S1361+S1370","v":0},{"$f":"T1335+T1344+T1353+T1362+T1371","v":0}]
[null,null,null,null,null,null,null,null,null,null,null,null,"EQUIPMENT - Page Total",null,{"$f":"O1337+O1338+O1339+O1346+O1347+O1348+O1355+O1356+O1357+O1364+O1365+O1366+O1373+O1374+O1375","v":0},null,null,{"$f":"R1337+R1338+R1339+R1346+R1347+R1348+R1355+R1356+R1357+R1364+R1365+R1366+R1373+R1374+R1375","v":0}]
[null,null,null,null,null,null,null,null,null,null,null,null,"LABOR - Grand Total",null,{"$f":"SUM($AA:$AA)","v":0},{"$f":"SUM(AB:AB)","v":0},{"$f":"SUM(AC:AC)","v":0},{"$f":"SUM(AD:AD)","v":0},{"$f":"SUM(AE:AE)","v":0},{"$f":"SUM(AF:AF)","v":0},null,null,null,null,null,null,{"$f":"O1376","v":0},{"$f":"P1376","v":0},{"$f":"Q1376","v":0},{"$f":"R1376","v":0},{"$f":"S1376","v":0},{"$f":"T1376","v":0}]
[null,null,null,null,null,null,null,null,null,null,null,null,"EQUIPMENT - Grand Total",null,{"$f":"SUM(AG:AG)","v":0},null,null,{"$f":"SUM(AH:AH)","v":0},null,null,null,null,null,null,null,null,null,null,null,null,null,null,{"$f":"O1377","v":0},{"$f":"R1377","v":0}]

{"sheet":"ELIGIBLE ACTIVITIES","index":6,"n_rows":98,"n_cols":13,"rows_kept":98,"cut":false,"hidden":false,"merged":[[97,3,97,20],[69,3,69,20],[75,3,75,20],[76,3,76,20],[83,3,83,20],[89,3,89,20],[93,12,93,18],[62,3,62,20],[68,3,68,20],[59,4,59,9],[90,3,90,20],[96,3,96,20],[65,12,65,18],[72,12,72,18],[65,4,65,9],[72,4,72,9],[79,4,79,9],[79,12,79,18],[80,12,80,18],[86,4,86,9],[86,12,86,18],[93,4,93,9],[25,12,25,17],[27,3,27,20],[32,4,32,9],[32,12,32,17],[34,3,34,20],[28,4,28,20],[29,4,29,20],[9,12,9,17],[11,3,11,20],[12,4,12,20],[4,2,4,20],[7,12,7,19],[1,1,1,22],[39,4,39,9],[39,12,39,17],[41,3,41,20],[45,4,45,9],[45,12,45,17],[16,4,16,9],[16,12,16,17],[17,12,17,17],[19,3,19,20],[24,4,24,9],[24,12,24,17],[20,4,20,20],[2,1,2,22],[7,4,7,9],[9,4,9,9],[47,4,47,20],[52,4,52,9],[52,12,52,17],[53,12,53,17],[55,4,55,20]]}
[]
[]
[null,"ELIGIBLE ACTIVITIES"]
[]
[null,null,"When selecting the type of activity(s), please select the corresponding drop down list value.  Applicants may select as many activities as applicable per day per employee.  If the number of activites exceeds 3, please manually adjust the row height to make all activities visible within the cell."]
[]
[]
[null,null,null,null,"DROP DOWN LIST VALUE",null,null,null,null,null,null,null,"ACTIVITY DESCRIPTION"]
[]
[null,null,null,null,"DAMAGE ASSESS",null,null,null,null,null,null,null,"PRELIMINARY DAMAGE ASSESSMENTS"]
[]
[null,null," ","      Examples of this activity include:"]
[null,null,null,null,"a. Compiling damage assessment info for submission to State to obtain Federal disaster declaration."]
[null,null,null,null,"b.  Participating in Joint PDA with FEMA and State to assess damaged areas."]
[]
[]
[null,null,null,null,"MEETINGS",null,null,null,null,null,null,null,"MEETINGS REGARDING THE PA PROGRAM OR"]
[null,null,null,null,null,null,null,null,null,null,null,null,"OVERALL PA DAMAGE CLAIM"]
[]
[null,null,null,"      Examples of this activity include:"]
[null,null,null,null,"a.  Participating in the Recovery Scoping Meeting to address all damages, work performed, etc."]
[null,null,null,null,"b.  Applicant briefings."]
[]
[]
[null,null,null,null,"ORGANIZE SITES",null,null,null,null,null,null,null,"ORGANIZING PA DAMAGE SITES INTO LOGICAL"]
[null,null,null,null,null,null,null,null,null,null,null,null,"GROUPS"]
[]
[null,null,null,"       Examples of this activity include:"]
[null,null,null,null,"a.  Reviewing damage to school complex to group damage sites needing mitigation."]
[null,null,null,null,"b.  Consolidating road projects for inclusion in PAAP Program."]
[]
[]
[null,null,null,null,"CORRESPONDENCE",null,null,null,null,null,null,null,"PREPARING CORRESPONDENCE"]
[]
[null,null,null,"       Examples of this activity include:"]
[null,null,null,null,"a.  Preparing time extension letter and backup to support time extension request to State."]
[null,null,null,null,"b. Preparing appeal package, gathering supporting documentation and researching FEMA policies."]
[]
[]
[null,null,null,null,"SITE INSPECT",null,null,null,null,null,null,null,"SITE INSPECTIONS"]
[]
[null,null,null,"       Examples of this activity include:"]
[null,null,null,null,"a.  Doing site visit with FEMA to inspect damaged facility, take photos and address completed/pending work."]
[]
[]
[null,null,null,null,"TRAVEL COST",null,null,null,null,null,null,null,"TRAVEL EXPENSES"]
[]
[null,null,null,null,"  Examples of this activity include:"]
[null,null,null,null,"a.  Traveling from DPW Dept to Town Hall for RSM meeting with FEMA and State."]
[null,null,null,null,"b.  Traveling from Road Dept to Convoy Road to conduct site visit with FEMA and discuss mitigation options."]
[]
[]
[null,null,null,null,"DAMAGE DESCRIP",null,null,null,null,null,null,null,"DEVELOPING THE DETAILED SITE-SPECIFIC"]
[null,null,null,null,null,null,null,null,null,null,null,null,"DAMAGE DESCRIPTIONS"]
[]
[null,null,null,null,"Examples of this activity include:"]
[null,null,null,null,"a.  Reviewing site inspection notes, orgainzing photos, and verifying damage dimensions for DDD."]
[]
[]
[null,null,null,null,"EVAL MITIGATION",null,null,null,null,null,null,null,"EVALUATING SECTION 406 HAZARD MITIGATION MEASURES"]
[]
[null,null,null,null,"Examples of this activity include:"]
[null,null,null,"     a.  Reviewing HMP proposal and preparing maps, cost analysis and sketches."]
[]
[]
[null,null,null,null,"PREP PROJECTS",null,null,null,null,null,null,null,"PREPARING SMALL AND LARGE PROJECTS"]
[]
[null,null,null,null,"Examples of this activity include:"]
[null,null,null,"     a.  Entering labor, equipment and contract costs into PW workbook for submission to FEMA."]
[null,null,null,"     b.  Preparing backup documentation to support alternate project approval from FEMA."]
[]
[]
[null,null,null,null,"REVIEW PWs",null,null,null,null,null,null,null,"REVIEWING PWs"]
[]
[null,null,null,null,"Examples of this activity include:"]
[null,null,null,"     a.  Reviewing DDD and SOW in Grants Portal to verify accuracy of work and costs."]
[null,null,null,"     b.  Reviewing procurement method for projects to ensure compliance with 2 CFR"]
[]
[]
[null,null,null,null,"DOCUMENT PREP",null,null,null,null,null,null,null,"COLLECTING COPYING, FILING, OR SUBMITTING"]
[null,null,null,null,null,null,null,null,null,null,null,null,"DOCUMENTS TO SUPPORT A CLAIM"]
[]
[null,null,null,null,"Examples of this activity include:"]
[null,null,null,"     a.  Compiling financial disbursement reports, invoices, timesheets, and payroll warrants to support PW costs."]
[]
[]
[null,null,null,null,"FUNDS REQUEST",null,null,null,null,null,null,null,"REQUESTING DISBURSEMENT OF PA FUNDS"]
[]
[null,null,null,null,"Examples of this activity include:"]
[null,null,null,"     a.  Compiling timesheets, payroll records, and activity logs to support project costs."]
[null,null,null,"     b.  Validating contract costs by reviewing invoices, PO's, and proof of payment."]
[]
[]
[null,null,null,null,"TRAINING",null,null,null,null,null,null,null,"TRAINING"]
[]
[null,null,null,null,"Examples of this activity include:"]
[null,null,null,"     a.  Providing training to staff on using the FEMA Grants Portal system."]
[null,null,null,"     b.  Providing PDAT training to staff to ensure compliance with 2 CFR Part 200."]

{"sheet":"DROP DOWN LIST VALUES","index":7,"n_rows":14,"n_cols":5,"rows_kept":14,"cut":false,"hidden":true,"merged":[]}
[]
[null,"DAMAGE ASSESS",null,null,"REQUEST 1"]
[null,"MEETINGS",null,null,"REQUEST 2"]
[null,"ORGANIZE SITES",null,null,"REQUEST 3"]
[null,"CORRESPONDENCE",null,null,"REQUEST 4"]
[null,"SITE INSPECT",null,null,"REQUEST 5"]
[null,"TRAVEL COST",null,null,"REQUEST 6"]
[null,"DAMAGE DESCRIP",null,null,"REQUEST 7"]
[null,"EVAL MITIGATION",null,null,"REQUEST 8"]
[null,"PREP PROJECTS",null,null,"REQUEST 9"]
[null,"REVIEW PWs",null,null,"REQUEST 10"]
[null,"DOCUMENT PREP"]
[null,"FUNDS REQUEST"]
[null,"TRAINING"]

{"sheet":"FRINGE","index":8,"n_rows":61,"n_cols":12,"rows_kept":61,"cut":false,"hidden":false,"merged":[[32,11,32,12],[53,2,54,4],[30,6,30,7],[32,6,32,7],[34,6,34,7],[34,11,34,12],[37,4,37,5],[37,6,37,7],[37,11,37,12],[30,11,30,12],[38,1,38,12],[40,1,42,13],[44,1,45,12],[47,2,48,11],[50,2,51,11],[25,11,25,12],[26,6,26,7],[26,11,26,12],[27,11,27,12],[28,6,28,7],[28,11,28,12],[21,11,21,12],[22,6,22,7],[22,11,22,12],[23,11,23,12],[24,6,24,7],[24,11,24,12],[6,15,6,17],[7,5,7,9],[9,5,9,9],[20,6,20,7],[20,11,20,12],[12,6,12,7],[12,11,12,12],[14,6,14,7],[16,6,16,7],[18,6,18,7],[1,1,1,13],[2,1,2,13],[5,1,5,4],[3,1,3,3],[3,5,3,13],[4,1,4,3],[4,5,4,13]]}
[]
[null,"USE ONLY FOR AVERAGING FRINGE BENEFITS. OTHERWISE, INPUT EACH EMPLOYEE'S FRINGE BENEFIT IN THE APPROPRIATE ROW ON THE PAYROLL RECORD SHEET"]
[null,"APPLICANT'S BENEFITS CALCULATION WORKSHEET"]
[null,"APPLICANT NAME",null,null,"DISASTER #","DISASTER TITLE"]
[null,{"$f":"IF('PAYROLL RECORD'!B5=\"\",\"\",'PAYROLL RECORD'!B5)","v":""},null,null,{"$f":"IF('PAYROLL RECORD'!D5=\"\",\"\",'PAYROLL RECORD'!D5)","v":""},{"$f":"IF('PAYROLL RECORD'!G5=\"\",\"\",'PAYROLL RECORD'!G5)","v":""}]
[]
[]
[null,null,null,null,null,"ENTER TOTAL ANNUAL PAYROLL"]
[]
[]
[null,null,null,null,null,0]
[]
[null,null,null,null,null,null,"REGULAR TIME %",null,null,null,null,"OVERTIME %"]
[]
[null,"Holidays",null,null,null,null,{"$f":"E15*8/2080","v":0}]
[]
[null,"Vacation Leave",null,null,null,null,{"$f":"E17*8/2080","v":0}]
[]
[null,"Sick Leave",null,null,null,null,{"$f":"E19*8/2080","v":0}]
[]
[null,"* Social Security",null,null,null,null,null,null,null,null,null,{"$f":"IF(J21=\"Y\",G21,)","v":0}]
[]
[null,"* Medicare",null,null,null,null,1.4500000000000001E-2,null,null,null,null,{"$f":"IF(J23=\"Y\",G23,)","v":0}]
[]
[null,"* Unemployment",null,null,null,null,{"$f":"IFERROR(E25/F10,\"\")","v":""},null,null,null,null,{"$f":"IF(J25=\"Y\",G25,)","v":0}]
[]
[null,"* Worker's Comp",null,null,null,null,{"$f":"IFERROR(E27/F10,\"\")","v":""},null,null,null,null,{"$f":"IF(J27=\"Y\",G27,)","v":0}]
[]
[null,"** Retirement",null,null,null,null,{"$f":"IFERROR(E29/F10,\"\")","v":""},null,null,null,null,{"$f":"IF(J29=\"Y\",G29,)","v":0}]
[]
[null,"Health Benefits",null,null,null,null,{"$f":"IFERROR(E31/F10,\"\")","v":""}]
[]
[null,"Life Insurance Benefits",null,null,null,null,{"$f":"IFERROR(E33/F10,\"\")","v":""}]
[]
[null,"Other (Describe here)","________________",null,null,null,{"$f":"IFERROR(E35/F10,\"\")","v":""},null,null,null,null,{"$f":"IF(J35=\"Y\",G35,)","v":0}]
[]
[]
[null,null,null,null,"Total Average Fringe Benefit",null,{"$f":"SUM(G15:H35)","v":1.4500000000000001E-2},null,null,null,null,{"$f":"SUM(L21:M35)","v":0}]
[]
[null,"COMMENTS:       "]
[]
[]
[]
[]
[null,"I CERTIFY THAT THE INFORMATION ABOVE WAS TRANSCRIBED FROM PAYROLL RECORDS OR OTHER DOCUMENTS  WHICH ARE AVAILABLE FOR AUDIT."]
[]
[]
[]
[null,"CERTIFIED:"]
[]
[]
[null,"TITLE:"]
[]
[]
[null,"DATE:"]
[]
[]
[]
[]
[]
[null,"* Only categories for overtime fringe benefits."]

{"sheet":"MATERIALS","index":9,"n_rows":263,"n_cols":12,"rows_kept":263,"cut":false,"hidden":false,"merged":[[261,5,261,7],[262,5,262,7],[2,1,2,10],[67,5,67,7],[66,5,66,7],[196,5,196,7],[197,5,197,7],[3,7,3,10],[4,7,4,10],[4,1,4,4],[3,1,3,4],[3,5,3,6],[4,5,4,6],[131,5,131,7],[132,5,132,7]]}
[]
[]
[null,"MATERIALS"]
[null,"APPLICANT NAME",null,null,null,"DISASTER #",null,"DISASTER TITLE"]
[null,{"$f":"IF('PAYROLL RECORD'!B5=\"\",\"\",'PAYROLL RECORD'!B5)","v":""},null,null,null,{"$f":"IF('PAYROLL RECORD'!D5=\"\",\"\",'PAYROLL RECORD'!D5)","v":""},null,{"$f":"IF('PAYROLL RECORD'!G5=\"\",\"\",'PAYROLL RECORD'!G5)","v":""}]
[null,"VENDOR","DESCRIPTION","REQUEST #","INVOICE #","QUANT","UNIT","UNIT PRICE","TOTAL PRICE","PURCHASE DATE","DATE USED"]
[null,null,null,null,null,null,null,0,{"$f":"G7*H7","v":0}]
[null,null,null,null,null,0,null,0,{"$f":"G8*H8","v":0}]
[null,null,null,null,null,null,null,0,0]
[null,null,null,null,null,null,null,0,0]
[null,null,null,null,null,null,null,0,0]
[null,null,null,null,null,null,null,0,0]
[null,null,null,null,null,null,null,0,0]
[null,null,null,null,null,null,null,0,0]
[null,null,null,null,null,null,null,0,0]
[null,null,null,null,null,null,null,0,0]
[null,null,null,null,null,null,null,0,0]
[null,null,null,null,null,null,null,0,0]
[null,null,null,null,null,null,null,0,0]
[null,null,null,null,null,null,null,0,0]
[null,null,null,null,null,null,null,0,0]
[null,null,null,null,null,null,null,0,0]
[null,null,null,null,null,null,null,0,0]
[null,null,null,null,null,null,null,0,0]
[null,null,null,null,null,null,null,0,0]
[null,null,null,null,null,null,null,0,0]
[null,null,null,null,null,null,null,0,0]
[null,null,null,null,null,null,null,0,0]
[null,null,null,null,null,null,null,0,0]
[null,null,null,null,null,null,null,0,0]
[null,null,null,null,null,null,null,0,0]
[null,null,null,null,null,null,null,0,0]
[null,null,null,null,null,null,null,0,0]
[null,null,null,null,null,null,null,0,0]
[null,null,null,null,null,null,null,0,0]
[null,null,null,null,null,null,null,0,0]
[null,null,null,null,null,null,null,0,0]
[null,null,null,null,null,null,null,0,0]
[null,null,null,null,null,null,null,0,0]
[null,null,null,null,null,null,null,0,0]
[null,null,null,null,null,null,null,0,0]
[null,null,null,null,null,null,null,0,0]
[null,null,null,null,null,null,null,0,0]
[null,null,null,null,null,null,null,0,0]
[null,null,null,null,null,null,null,0,0]
[null,null,null,null,null,null,null,0,0]
[null,null,null,null,null,null,null,0,0]
[null,null,null,null,null,null,null,0,0]
[null,null,null,null,null,null,null,0,0]
[null,null,null,null,null,null,null,0,0]
[null,null,null,null,null,null,null,0,0]
[null,null,null,null,null,null,null,0,0]
[null,null,null,null,null,null,null,0,0]
[null,null,null,null,null,null,null,0,0]
[null,null,null,null,null,null,null,0,0]
[null,null,null,null,null,null,null,0,0]
[null,null,null,null,null,null,null,0,0]
[null,null,null,null,null,null,null,0,0]
[null,null,null,null,null,null,null,0,0]
[null,null,null,null,null,null,null,0,0]
[null,null,null,null,null,null,null,0,0]
[null,null,null,null,null,null,null,0,0]
[null,null,null,null,null,null,null,0,0]
[null,null,null,null,null,null,null,0,0]
[null,null,null,null,null,null,null,0,0]
[null,null,null,null,null,null,null,0,0]
[null,null,null,null,null,"MATERIALS - PAGE TOTAL",null,null,{"$f":"SUM($I7:$I66)","v":0},null,null,{"$f":"I67","v":0}]
[null,null,null,null,null,"MATERIALS- GRAND TOTAL",null,null,{"$f":"SUM(L:L)","v":0}]
[null,null,null,null,null,null,null,null,null,null,null," "]
[]
[null,"VENDOR","DESCRIPTION","REQUEST #","INVOICE #","QUANT","UNIT","UNIT PRICE","TOTAL PRICE","PURCHASE DATE","DATE USED"]
[null,null,null,null,null,null,null,0,{"$f":"G72*H72","v":0}]
[null,null,null,null,null,0,null,0,{"$f":"G73*H73","v":0}]
[null,null,null,null,null,null,null,0,0]
[null,null,null,null,null,null,null,0,0]
[null,null,null,null,null,null,null,0,0]
[null,null,null,null,null,null,null,0,0]
[null,null,null,null,null,null,null,0,0]
[null,null,null,null,null,null,null,0,0]
[null,null,null,null,null,null,null,0,0]
[null,null,null,null,null,null,null,0,0]
[null,null,null,null,null,null,null,0,0]
[null,null,null,null,null,null,null,0,0]
[null,null,null,null,null,null,null,0,0]
[null,null,null,null,null,null,null,0,0]
[null,null,null,null,null,null,null,0,0]
[null,null,null,null,null,null,null,0,0]
[null,null,null,null,null,null,null,0,0]
[null,null,null,null,null,null,null,0,0]
[null,null,null,null,null,null,null,0,0]
[null,null,null,null,null,null,null,0,0]
[null,null,null,null,null,null,null,0,0]
[null,null,null,null,null,null,null,0,0]
[null,null,null,null,null,null,null,0,0]
[null,null,null,null,null,null,null,0,0]
[null,null,null,null,null,null,null,0,0]
[null,null,null,null,null,null,null,0,0]
[null,null,null,null,null,null,null,0,0]
[null,null,null,null,null,null,null,0,0]
[null,null,null,null,null,null,null,0,0]
[null,null,null,null,null,null,null,0,0]
[null,null,null,null,null,null,null,0,0]
[null,null,null,null,null,null,null,0,0]
[null,null,null,null,null,null,null,0,0]
[null,null,null,null,null,null,null,0,0]
[null,null,null,null,null,null,null,0,0]
[null,null,null,null,null,null,null,0,0]
[null,null,null,null,null,null,null,0,0]
[null,null,null,null,null,null,null,0,0]
[null,null,null,null,null,null,null,0,0]
[null,null,null,null,null,null,null,0,0]
[null,null,null,null,null,null,null,0,0]
[null,null,null,null,null,null,null,0,0]
[null,null,null,null,null,null,null,0,0]
[null,null,null,null,null,null,null,0,0]
[null,null,null,null,null,null,null,0,0]
[null,null,null,null,null,null,null,0,0]
[null,null,null,null,null,null,null,0,0]
[null,null,null,null,null,null,null,0,0]
[null,null,null,null,null,null,null,0,0]
[null,null,null,null,null,null,null,0,0]
[null,null,null,null,null,null,null,0,0]
[null,null,null,null,null,null,null,0,0]
[null,null,null,null,null,null,null,0,0]
[null,null,null,null,null,null,null,0,0]
[null,null,null,null,null,null,null,0,0]
[null,null,null,null,null,null,null,0,0]
[null,null,null,null,null,null,null,0,0]
[null,null,null,null,null,null,null,0,0]
[null,null,null,null,null,null,null,0,0]
[null,null,null,null,null,null,null,0,0]
[null,null,null,null,null,"MATERIALS - PAGE TOTAL",null,null,{"$f":"SUM($I72:$I131)","v":0},null,null,{"$f":"I132","v":0}]
[null,null,null,null,null,"MATERIALS- GRAND TOTAL",null,null,{"$f":"SUM(L:L)","v":0}]
[]
[]
[null,"VENDOR","DESCRIPTION","REQUEST #","INVOICE #","QUANT","UNIT","UNIT PRICE","TOTAL PRICE","PURCHASE DATE","DATE USED"]
[null,null,null,null,null,null,null,0,{"$f":"G137*H137","v":0}]
[null,null,null,null,null,0,null,0,{"$f":"G138*H138","v":0}]
[null,null,null,null,null,null,null,0,0]
[null,null,null,null,null,null,null,0,0]
[null,null,null,null,null,null,null,0,0]
[null,null,null,null,null,null,null,0,0]
[null,null,null,null,null,null,null,0,0]
[null,null,null,null,null,null,null,0,0]
[null,null,null,null,null,null,null,0,0]
[null,null,null,null,null,null,null,0,0]
[null,null,null,null,null,null,null,0,0]
[null,null,null,null,null,null,null,0,0]
[null,null,null,null,null,null,null,0,0]
[null,null,null,null,null,null,null,0,0]
[null,null,null,null,null,null,null,0,0]
[null,null,null,null,null,null,null,0,0]
[null,null,null,null,null,null,null,0,0]
[null,null,null,null,null,null,null,0,0]
[null,null,null,null,null,null,null,0,0]
[null,null,null,null,null,null,null,0,0]
[null,null,null,null,null,null,null,0,0]
[null,null,null,null,null,null,null,0,0]
[null,null,null,null,null,null,null,0,0]
[null,null,null,null,null,null,null,0,0]
[null,null,null,null,null,null,null,0,0]
[null,null,null,null,null,null,null,0,0]
[null,null,null,null,null,null,null,0,0]
[null,null,null,null,null,null,null,0,0]
[null,null,null,null,null,null,null,0,0]
[null,null,null,null,null,null,null,0,0]
[null,null,null,null,null,null,null,0,0]
[null,null,null,null,null,null,null,0,0]
[null,null,null,null,null,null,null,0,0]
[null,null,null,null,null,null,null,0,0]
[null,null,null,null,null,null,null,0,0]
[null,null,null,null,null,null,null,0,0]
[null,null,null,null,null,null,null,0,0]
[null,null,null,null,null,null,null,0,0]
[null,null,null,null,null,null,null,0,0]
[null,null,null,null,null,null,null,0,0]
[null,null,null,null,null,null,null,0,0]
[null,null,null,null,null,null,null,0,0]
[null,null,null,null,null,null,null,0,0]
[null,null,null,null,null,null,null,0,0]
[null,null,null,null,null,null,null,0,0]
[null,null,null,null,null,null,null,0,0]
[null,null,null,null,null,null,null,0,0]
[null,null,null,null,null,null,null,0,0]
[null,null,null,null,null,null,null,0,0]
[null,null,null,null,null,null,null,0,0]
[null,null,null,null,null,null,null,0,0]
[null,null,null,null,null,null,null,0,0]
[null,null,null,null,null,null,null,0,0]
[null,null,null,null,null,null,null,0,0]
[null,null,null,null,null,null,null,0,0]
[null,null,null,null,null,null,null,0,0]
[null,null,null,null,null,null,null,0,0]
[null,null,null,null,null,null,null,0,0]
[null,null,null,null,null,null,null,0,0]
[null,null,null,null,null,null,null,0,0]
[null,null,null,null,null,"MATERIALS - PAGE TOTAL",null,null,{"$f":"SUM($I137:$I196)","v":0},null,null,{"$f":"I197","v":0}]
[null,null,null,null,null,"MATERIALS- GRAND TOTAL",null,null,{"$f":"SUM(L:L)","v":0}]
[]
[]
[null,"VENDOR","DESCRIPTION","REQUEST #","INVOICE #","QUANT","UNIT","UNIT PRICE","TOTAL PRICE","PURCHASE DATE","DATE USED"]
[null,null,null,null,null,null,null,0,{"$f":"G202*H202","v":0}]
[null,null,null,null,null,0,null,0,{"$f":"G203*H203","v":0}]
[null,null,null,null,null,null,null,0,0]
[null,null,null,null,null,null,null,0,0]
[null,null,null,null,null,null,null,0,0]
[null,null,null,null,null,null,null,0,0]
[null,null,null,null,null,null,null,0,0]
[null,null,null,null,null,null,null,0,0]
[null,null,null,null,null,null,null,0,0]
[null,null,null,null,null,null,null,0,0]
[null,null,null,null,null,null,null,0,0]
[null,null,null,null,null,null,null,0,0]
[null,null,null,null,null,null,null,0,0]
[null,null,null,null,null,null,null,0,0]
[null,null,null,null,null,null,null,0,0]
[null,null,null,null,null,null,null,0,0]
[null,null,null,null,null,null,null,0,0]
[null,null,null,null,null,null,null,0,0]
[null,null,null,null,null,null,null,0,0]
[null,null,null,null,null,null,null,0,0]
[null,null,null,null,null,null,null,0,0]
[null,null,null,null,null,null,null,0,0]
[null,null,null,null,null,null,null,0,0]
[null,null,null,null,null,null,null,0,0]
[null,null,null,null,null,null,null,0,0]
[null,null,null,null,null,null,null,0,0]
[null,null,null,null,null,null,null,0,0]
[null,null,null,null,null,null,null,0,0]
[null,null,null,null,null,null,null,0,0]
[null,null,null,null,null,null,null,0,0]
[null,null,null,null,null,null,null,0,0]
[null,null,null,null,null,null,null,0,0]
[null,null,null,null,null,null,null,0,0]
[null,null,null,null,null,null,null,0,0]
[null,null,null,null,null,null,null,0,0]
[null,null,null,null,null,null,null,0,0]
[null,null,null,null,null,null,null,0,0]
[null,null,null,null,null,null,null,0,0]
[null,null,null,null,null,null,null,0,0]
[null,null,null,null,null,null,null,0,0]
[null,null,null,null,null,null,null,0,0]
[null,null,null,null,null,null,null,0,0]
[null,null,null,null,null,null,null,0,0]
[null,null,null,null,null,null,null,0,0]
[null,null,null,null,null,null,null,0,0]
[null,null,null,null,null,null,null,0,0]
[null,null,null,null,null,null,null,0,0]
[null,null,null,null,null,null,null,0,0]
[null,null,null,null,null,null,null,0,0]
[null,null,null,null,null,null,null,0,0]
[null,null,null,null,null,null,null,0,0]
[null,null,null,null,null,null,null,0,0]
[null,null,null,null,null,null,null,0,0]
[null,null,null,null,null,null,null,0,0]
[null,null,null,null,null,null,null,0,0]
[null,null,null,null,null,null,null,0,0]
[null,null,null,null,null,null,null,0,0]
[null,null,null,null,null,null,null,0,0]
[null,null,null,null,null,null,null,0,0]
[null,null,null,null,null,null,null,0,0]
[null,null,null,null,null,"MATERIALS - PAGE TOTAL",null,null,{"$f":"SUM($I202:$I261)","v":0},null,null,{"$f":"I262","v":0}]
[null,null,null,null,null,"MATERIALS- GRAND TOTAL",null,null,{"$f":"SUM(L:L)","v":0}]

{"sheet":"EQUIPMENT INVENTORY","index":10,"n_rows":601,"n_cols":11,"rows_kept":601,"cut":false,"hidden":false,"merged":[[3,1,3,2],[4,1,4,2],[3,4,3,9],[4,4,4,9],[2,1,2,9]]}
[]
[]
[null,"EQUIPMENT INVENTORY"]
[null,"APPLICANT NAME",null,"DISASTER #:","DISASTER TITLE"]
[null,{"$f":"IF('PAYROLL RECORD'!B5=\"\",\"\",'PAYROLL RECORD'!B5)","v":""},null,{"$f":"IF('PAYROLL RECORD'!D5=\"\",\"\",'PAYROLL RECORD'!D5)","v":""},{"$f":"IF('PAYROLL RECORD'!G5=\"\",\"\",'PAYROLL RECORD'!G5)","v":""}]
[null,"EQUIPMENT","OPERATOR","MAKE","MODEL","HP","CAPACITY SIZE","FEMA COST CODE","ADJUSTED COST CODE UNIT PRICE","COMMENT"]
[null,null,null,null,null,null,null,null,{"$f":"IFERROR(VLOOKUP(H7,'FEMA COST CODE'!B:I,8,FALSE),\"\")","v":""}]
[null,null,null,null,null,null,null,null,{"$f":"IFERROR(VLOOKUP(H8,'FEMA COST CODE'!B:I,8,FALSE),\"\")","v":""}]
[null,null,null,null,null,null,null,null,{"$f":"IFERROR(VLOOKUP(H9,'FEMA COST CODE'!B:I,8,FALSE),\"\")","v":""}]
[null,null,null,null,null,null,null,null,{"$f":"IFERROR(VLOOKUP(H10,'FEMA COST CODE'!B:I,8,FALSE),\"\")","v":""}]
[null,null,null,null,null,null,null,null,{"$f":"IFERROR(VLOOKUP(H11,'FEMA COST CODE'!B:I,8,FALSE),\"\")","v":""}]
[null,null,null,null,null,null,null,null,{"$f":"IFERROR(VLOOKUP(H12,'FEMA COST CODE'!B:I,8,FALSE),\"\")","v":""}]
[null,null,null,null,null,null,null,null,{"$f":"IFERROR(VLOOKUP(H13,'FEMA COST CODE'!B:I,8,FALSE),\"\")","v":""}]
[null,null,null,null,null,null,null,null,{"$f":"IFERROR(VLOOKUP(H14,'FEMA COST CODE'!B:I,8,FALSE),\"\")","v":""}]
[null,null,null,null,null,null,null,null,{"$f":"IFERROR(VLOOKUP(H15,'FEMA COST CODE'!B:I,8,FALSE),\"\")","v":""}]
[null,null,null,null,null,null,null,null,{"$f":"IFERROR(VLOOKUP(H16,'FEMA COST CODE'!B:I,8,FALSE),\"\")","v":""}]
[null,null,null,null,null,null,null,null,{"$f":"IFERROR(VLOOKUP(H17,'FEMA COST CODE'!B:I,8,FALSE),\"\")","v":""}]
[null,null,null,null,null,null,null,null,{"$f":"IFERROR(VLOOKUP(H18,'FEMA COST CODE'!B:I,8,FALSE),\"\")","v":""}]
[null,null,null,null,null,null,null,null,{"$f":"IFERROR(VLOOKUP(H19,'FEMA COST CODE'!B:I,8,FALSE),\"\")","v":""}]
[null,null,null,null,null,null,null,null,{"$f":"IFERROR(VLOOKUP(H20,'FEMA COST CODE'!B:I,8,FALSE),\"\")","v":""}]
[null,null,null,null,null,null,null,null,{"$f":"IFERROR(VLOOKUP(H21,'FEMA COST CODE'!B:I,8,FALSE),\"\")","v":""}]
[null,null,null,null,null,null,null,null,{"$f":"IFERROR(VLOOKUP(H22,'FEMA COST CODE'!B:I,8,FALSE),\"\")","v":""}]
[null,null,null,null,null,null,null,null,{"$f":"IFERROR(VLOOKUP(H23,'FEMA COST CODE'!B:I,8,FALSE),\"\")","v":""}]
[null,null,null,null,null,null,null,null,{"$f":"IFERROR(VLOOKUP(H24,'FEMA COST CODE'!B:I,8,FALSE),\"\")","v":""}]
[null,null,null,null,null,null,null,null,{"$f":"IFERROR(VLOOKUP(H25,'FEMA COST CODE'!B:I,8,FALSE),\"\")","v":""}]
[null,null,null,null,null,null,null,null,{"$f":"IFERROR(VLOOKUP(H26,'FEMA COST CODE'!B:I,8,FALSE),\"\")","v":""}]
[null,null,null,null,null,null,null,null,{"$f":"IFERROR(VLOOKUP(H27,'FEMA COST CODE'!B:I,8,FALSE),\"\")","v":""}]
[null,null,null,null,null,null,null,null,{"$f":"IFERROR(VLOOKUP(H28,'FEMA COST CODE'!B:I,8,FALSE),\"\")","v":""}]
[null,null,null,null,null,null,null,null,{"$f":"IFERROR(VLOOKUP(H29,'FEMA COST CODE'!B:I,8,FALSE),\"\")","v":""}]
[null,null,null,null,null,null,null,null,{"$f":"IFERROR(VLOOKUP(H30,'FEMA COST CODE'!B:I,8,FALSE),\"\")","v":""}]
[null,null,null,null,null,null,null,null,{"$f":"IFERROR(VLOOKUP(H31,'FEMA COST CODE'!B:I,8,FALSE),\"\")","v":""}]
[null,null,null,null,null,null,null,null,{"$f":"IFERROR(VLOOKUP(H32,'FEMA COST CODE'!B:I,8,FALSE),\"\")","v":""}]
[null,null,null,null,null,null,null,null,{"$f":"IFERROR(VLOOKUP(H33,'FEMA COST CODE'!B:I,8,FALSE),\"\")","v":""}]
[null,null,null,null,null,null,null,null,{"$f":"IFERROR(VLOOKUP(H34,'FEMA COST CODE'!B:I,8,FALSE),\"\")","v":""}]
[null,null,null,null,null,null,null,null,{"$f":"IFERROR(VLOOKUP(H35,'FEMA COST CODE'!B:I,8,FALSE),\"\")","v":""}]
[null,null,null,null,null,null,null,null,{"$f":"IFERROR(VLOOKUP(H36,'FEMA COST CODE'!B:I,8,FALSE),\"\")","v":""}]
[null,null,null,null,null,null,null,null,{"$f":"IFERROR(VLOOKUP(H37,'FEMA COST CODE'!B:I,8,FALSE),\"\")","v":""}]
[null,null,null,null,null,null,null,null,{"$f":"IFERROR(VLOOKUP(H38,'FEMA COST CODE'!B:I,8,FALSE),\"\")","v":""}]
[null,null,null,null,null,null,null,null,{"$f":"IFERROR(VLOOKUP(H39,'FEMA COST CODE'!B:I,8,FALSE),\"\")","v":""}]
[null,null,null,null,null,null,null,null,{"$f":"IFERROR(VLOOKUP(H40,'FEMA COST CODE'!B:I,8,FALSE),\"\")","v":""}]
[null,null,null,null,null,null,null,null,{"$f":"IFERROR(VLOOKUP(H41,'FEMA COST CODE'!B:I,8,FALSE),\"\")","v":""}]
[null,null,null,null,null,null,null,null,{"$f":"IFERROR(VLOOKUP(H42,'FEMA COST CODE'!B:I,8,FALSE),\"\")","v":""}]
[null,null,null,null,null,null,null,null,{"$f":"IFERROR(VLOOKUP(H43,'FEMA COST CODE'!B:I,8,FALSE),\"\")","v":""}]
[null,null,null,null,null,null,null,null,{"$f":"IFERROR(VLOOKUP(H44,'FEMA COST CODE'!B:I,8,FALSE),\"\")","v":""}]
[null,null,null,null,null,null,null,null,{"$f":"IFERROR(VLOOKUP(H45,'FEMA COST CODE'!B:I,8,FALSE),\"\")","v":""}]
[null,null,null,null,null,null,null,null,{"$f":"IFERROR(VLOOKUP(H46,'FEMA COST CODE'!B:I,8,FALSE),\"\")","v":""}]
[null,null,null,null,null,null,null,null,{"$f":"IFERROR(VLOOKUP(H47,'FEMA COST CODE'!B:I,8,FALSE),\"\")","v":""}]
[null,null,null,null,null,null,null,null,{"$f":"IFERROR(VLOOKUP(H48,'FEMA COST CODE'!B:I,8,FALSE),\"\")","v":""}]
[null,null,null,null,null,null,null,null,{"$f":"IFERROR(VLOOKUP(H49,'FEMA COST CODE'!B:I,8,FALSE),\"\")","v":""}]
[null,null,null,null,null,null,null,null,{"$f":"IFERROR(VLOOKUP(H50,'FEMA COST CODE'!B:I,8,FALSE),\"\")","v":""}]
[null,null,null,null,null,null,null,null,{"$f":"IFERROR(VLOOKUP(H51,'FEMA COST CODE'!B:I,8,FALSE),\"\")","v":""}]
[null,null,null,null,null,null,null,null,{"$f":"IFERROR(VLOOKUP(H52,'FEMA COST CODE'!B:I,8,FALSE),\"\")","v":""}]
[null,null,null,null,null,null,null,null,{"$f":"IFERROR(VLOOKUP(H53,'FEMA COST CODE'!B:I,8,FALSE),\"\")","v":""}]
[null,null,null,null,null,null,null,null,{"$f":"IFERROR(VLOOKUP(H54,'FEMA COST CODE'!B:I,8,FALSE),\"\")","v":""}]
[null,null,null,null,null,null,null,null,{"$f":"IFERROR(VLOOKUP(H55,'FEMA COST CODE'!B:I,8,FALSE),\"\")","v":""}]
[null,null,null,null,null,null,null,null,{"$f":"IFERROR(VLOOKUP(H56,'FEMA COST CODE'!B:I,8,FALSE),\"\")","v":""}]
[null,null,null,null,null,null,null,null,{"$f":"IFERROR(VLOOKUP(H57,'FEMA COST CODE'!B:I,8,FALSE),\"\")","v":""}]
[null,null,null,null,null,null,null,null,{"$f":"IFERROR(VLOOKUP(H58,'FEMA COST CODE'!B:I,8,FALSE),\"\")","v":""}]
[null,null,null,null,null,null,null,null,{"$f":"IFERROR(VLOOKUP(H59,'FEMA COST CODE'!B:I,8,FALSE),\"\")","v":""}]
[null,null,null,null,null,null,null,null,{"$f":"IFERROR(VLOOKUP(H60,'FEMA COST CODE'!B:I,8,FALSE),\"\")","v":""}]
[null,null,null,null,null,null,null,null,{"$f":"IFERROR(VLOOKUP(H61,'FEMA COST CODE'!B:I,8,FALSE),\"\")","v":""}]
[null,null,null,null,null,null,null,null,{"$f":"IFERROR(VLOOKUP(H62,'FEMA COST CODE'!B:I,8,FALSE),\"\")","v":""}]
[null,null,null,null,null,null,null,null,{"$f":"IFERROR(VLOOKUP(H63,'FEMA COST CODE'!B:I,8,FALSE),\"\")","v":""}]
[null,null,null,null,null,null,null,null,{"$f":"IFERROR(VLOOKUP(H64,'FEMA COST CODE'!B:I,8,FALSE),\"\")","v":""}]
[null,null,null,null,null,null,null,null,{"$f":"IFERROR(VLOOKUP(H65,'FEMA COST CODE'!B:I,8,FALSE),\"\")","v":""}]
[null,null,null,null,null,null,null,null,{"$f":"IFERROR(VLOOKUP(H66,'FEMA COST CODE'!B:I,8,FALSE),\"\")","v":""}]
[null,null,null,null,null,null,null,null,{"$f":"IFERROR(VLOOKUP(H67,'FEMA COST CODE'!B:I,8,FALSE),\"\")","v":""}]
[null,null,null,null,null,null,null,null,{"$f":"IFERROR(VLOOKUP(H68,'FEMA COST CODE'!B:I,8,FALSE),\"\")","v":""}]
[null,null,null,null,null,null,null,null,{"$f":"IFERROR(VLOOKUP(H69,'FEMA COST CODE'!B:I,8,FALSE),\"\")","v":""}]
[null,null,null,null,null,null,null,null,{"$f":"IFERROR(VLOOKUP(H70,'FEMA COST CODE'!B:I,8,FALSE),\"\")","v":""}]
[null,null,null,null,null,null,null,null,{"$f":"IFERROR(VLOOKUP(H71,'FEMA COST CODE'!B:I,8,FALSE),\"\")","v":""}]
[null,null,null,null,null,null,null,null,{"$f":"IFERROR(VLOOKUP(H72,'FEMA COST CODE'!B:I,8,FALSE),\"\")","v":""}]
[null,null,null,null,null,null,null,null,{"$f":"IFERROR(VLOOKUP(H73,'FEMA COST CODE'!B:I,8,FALSE),\"\")","v":""}]
[null,null,null,null,null,null,null,null,{"$f":"IFERROR(VLOOKUP(H74,'FEMA COST CODE'!B:I,8,FALSE),\"\")","v":""}]
[null,null,null,null,null,null,null,null,{"$f":"IFERROR(VLOOKUP(H75,'FEMA COST CODE'!B:I,8,FALSE),\"\")","v":""}]
[null,null,null,null,null,null,null,null,{"$f":"IFERROR(VLOOKUP(H76,'FEMA COST CODE'!B:I,8,FALSE),\"\")","v":""}]
[null,null,null,null,null,null,null,null,{"$f":"IFERROR(VLOOKUP(H77,'FEMA COST CODE'!B:I,8,FALSE),\"\")","v":""}]
[null,null,null,null,null,null,null,null,{"$f":"IFERROR(VLOOKUP(H78,'FEMA COST CODE'!B:I,8,FALSE),\"\")","v":""}]
[null,null,null,null,null,null,null,null,{"$f":"IFERROR(VLOOKUP(H79,'FEMA COST CODE'!B:I,8,FALSE),\"\")","v":""}]
[null,null,null,null,null,null,null,null,{"$f":"IFERROR(VLOOKUP(H80,'FEMA COST CODE'!B:I,8,FALSE),\"\")","v":""}]
[null,null,null,null,null,null,null,null,{"$f":"IFERROR(VLOOKUP(H81,'FEMA COST CODE'!B:I,8,FALSE),\"\")","v":""}]
[null,null,null,null,null,null,null,null,{"$f":"IFERROR(VLOOKUP(H82,'FEMA COST CODE'!B:I,8,FALSE),\"\")","v":""}]
[null,null,null,null,null,null,null,null,{"$f":"IFERROR(VLOOKUP(H83,'FEMA COST CODE'!B:I,8,FALSE),\"\")","v":""}]
[null,null,null,null,null,null,null,null,{"$f":"IFERROR(VLOOKUP(H84,'FEMA COST CODE'!B:I,8,FALSE),\"\")","v":""}]
[null,null,null,null,null,null,null,null,{"$f":"IFERROR(VLOOKUP(H85,'FEMA COST CODE'!B:I,8,FALSE),\"\")","v":""}]
[null,null,null,null,null,null,null,null,{"$f":"IFERROR(VLOOKUP(H86,'FEMA COST CODE'!B:I,8,FALSE),\"\")","v":""}]
[null,null,null,null,null,null,null,null,{"$f":"IFERROR(VLOOKUP(H87,'FEMA COST CODE'!B:I,8,FALSE),\"\")","v":""}]
[null,null,null,null,null,null,null,null,{"$f":"IFERROR(VLOOKUP(H88,'FEMA COST CODE'!B:I,8,FALSE),\"\")","v":""}]
[null,null,null,null,null,null,null,null,{"$f":"IFERROR(VLOOKUP(H89,'FEMA COST CODE'!B:I,8,FALSE),\"\")","v":""}]
[null,null,null,null,null,null,null,null,{"$f":"IFERROR(VLOOKUP(H90,'FEMA COST CODE'!B:I,8,FALSE),\"\")","v":""}]
[null,null,null,null,null,null,null,null,{"$f":"IFERROR(VLOOKUP(H91,'FEMA COST CODE'!B:I,8,FALSE),\"\")","v":""}]
[null,null,null,null,null,null,null,null,{"$f":"IFERROR(VLOOKUP(H92,'FEMA COST CODE'!B:I,8,FALSE),\"\")","v":""}]
[null,null,null,null,null,null,null,null,{"$f":"IFERROR(VLOOKUP(H93,'FEMA COST CODE'!B:I,8,FALSE),\"\")","v":""}]
[null,null,null,null,null,null,null,null,{"$f":"IFERROR(VLOOKUP(H94,'FEMA COST CODE'!B:I,8,FALSE),\"\")","v":""}]
[null,null,null,null,null,null,null,null,{"$f":"IFERROR(VLOOKUP(H95,'FEMA COST CODE'!B:I,8,FALSE),\"\")","v":""}]
[null,null,null,null,null,null,null,null,{"$f":"IFERROR(VLOOKUP(H96,'FEMA COST CODE'!B:I,8,FALSE),\"\")","v":""}]
[null,null,null,null,null,null,null,null,{"$f":"IFERROR(VLOOKUP(H97,'FEMA COST CODE'!B:I,8,FALSE),\"\")","v":""}]
[null,null,null,null,null,null,null,null,{"$f":"IFERROR(VLOOKUP(H98,'FEMA COST CODE'!B:I,8,FALSE),\"\")","v":""}]
[null,null,null,null,null,null,null,null,{"$f":"IFERROR(VLOOKUP(H99,'FEMA COST CODE'!B:I,8,FALSE),\"\")","v":""}]
[null,null,null,null,null,null,null,null,{"$f":"IFERROR(VLOOKUP(H100,'FEMA COST CODE'!B:I,8,FALSE),\"\")","v":""}]
[null,null,null,null,null,null,null,null,{"$f":"IFERROR(VLOOKUP(H101,'FEMA COST CODE'!B:I,8,FALSE),\"\")","v":""}]
[null,null,null,null,null,null,null,null,{"$f":"IFERROR(VLOOKUP(H102,'FEMA COST CODE'!B:I,8,FALSE),\"\")","v":""}]
[null,null,null,null,null,null,null,null,{"$f":"IFERROR(VLOOKUP(H103,'FEMA COST CODE'!B:I,8,FALSE),\"\")","v":""}]
[null,null,null,null,null,null,null,null,{"$f":"IFERROR(VLOOKUP(H104,'FEMA COST CODE'!B:I,8,FALSE),\"\")","v":""}]
[null,null,null,null,null,null,null,null,{"$f":"IFERROR(VLOOKUP(H105,'FEMA COST CODE'!B:I,8,FALSE),\"\")","v":""}]
[null,null,null,null,null,null,null,null,{"$f":"IFERROR(VLOOKUP(H106,'FEMA COST CODE'!B:I,8,FALSE),\"\")","v":""}]
[null,null,null,null,null,null,null,null,{"$f":"IFERROR(VLOOKUP(H107,'FEMA COST CODE'!B:I,8,FALSE),\"\")","v":""}]
[null,null,null,null,null,null,null,null,{"$f":"IFERROR(VLOOKUP(H108,'FEMA COST CODE'!B:I,8,FALSE),\"\")","v":""}]
[null,null,null,null,null,null,null,null,{"$f":"IFERROR(VLOOKUP(H109,'FEMA COST CODE'!B:I,8,FALSE),\"\")","v":""}]
[null,null,null,null,null,null,null,null,{"$f":"IFERROR(VLOOKUP(H110,'FEMA COST CODE'!B:I,8,FALSE),\"\")","v":""}]
[null,null,null,null,null,null,null,null,{"$f":"IFERROR(VLOOKUP(H111,'FEMA COST CODE'!B:I,8,FALSE),\"\")","v":""}]
[null,null,null,null,null,null,null,null,{"$f":"IFERROR(VLOOKUP(H112,'FEMA COST CODE'!B:I,8,FALSE),\"\")","v":""}]
[null,null,null,null,null,null,null,null,{"$f":"IFERROR(VLOOKUP(H113,'FEMA COST CODE'!B:I,8,FALSE),\"\")","v":""}]
[null,null,null,null,null,null,null,null,{"$f":"IFERROR(VLOOKUP(H114,'FEMA COST CODE'!B:I,8,FALSE),\"\")","v":""}]
[null,null,null,null,null,null,null,null,{"$f":"IFERROR(VLOOKUP(H115,'FEMA COST CODE'!B:I,8,FALSE),\"\")","v":""}]
[null,null,null,null,null,null,null,null,{"$f":"IFERROR(VLOOKUP(H116,'FEMA COST CODE'!B:I,8,FALSE),\"\")","v":""}]
[null,null,null,null,null,null,null,null,{"$f":"IFERROR(VLOOKUP(H117,'FEMA COST CODE'!B:I,8,FALSE),\"\")","v":""}]
[null,null,null,null,null,null,null,null,{"$f":"IFERROR(VLOOKUP(H118,'FEMA COST CODE'!B:I,8,FALSE),\"\")","v":""}]
[null,null,null,null,null,null,null,null,{"$f":"IFERROR(VLOOKUP(H119,'FEMA COST CODE'!B:I,8,FALSE),\"\")","v":""}]
[null,null,null,null,null,null,null,null,{"$f":"IFERROR(VLOOKUP(H120,'FEMA COST CODE'!B:I,8,FALSE),\"\")","v":""}]
[null,null,null,null,null,null,null,null,{"$f":"IFERROR(VLOOKUP(H121,'FEMA COST CODE'!B:I,8,FALSE),\"\")","v":""}]
[null,null,null,null,null,null,null,null,{"$f":"IFERROR(VLOOKUP(H122,'FEMA COST CODE'!B:I,8,FALSE),\"\")","v":""}]
[null,null,null,null,null,null,null,null,{"$f":"IFERROR(VLOOKUP(H123,'FEMA COST CODE'!B:I,8,FALSE),\"\")","v":""}]
[null,null,null,null,null,null,null,null,{"$f":"IFERROR(VLOOKUP(H124,'FEMA COST CODE'!B:I,8,FALSE),\"\")","v":""}]
[null,null,null,null,null,null,null,null,{"$f":"IFERROR(VLOOKUP(H125,'FEMA COST CODE'!B:I,8,FALSE),\"\")","v":""}]
[null,null,null,null,null,null,null,null,{"$f":"IFERROR(VLOOKUP(H126,'FEMA COST CODE'!B:I,8,FALSE),\"\")","v":""}]
[null,null,null,null,null,null,null,null,{"$f":"IFERROR(VLOOKUP(H127,'FEMA COST CODE'!B:I,8,FALSE),\"\")","v":""}]
[null,null,null,null,null,null,null,null,{"$f":"IFERROR(VLOOKUP(H128,'FEMA COST CODE'!B:I,8,FALSE),\"\")","v":""}]
[null,null,null,null,null,null,null,null,{"$f":"IFERROR(VLOOKUP(H129,'FEMA COST CODE'!B:I,8,FALSE),\"\")","v":""}]
[null,null,null,null,null,null,null,null,{"$f":"IFERROR(VLOOKUP(H130,'FEMA COST CODE'!B:I,8,FALSE),\"\")","v":""}]
[null,null,null,null,null,null,null,null,{"$f":"IFERROR(VLOOKUP(H131,'FEMA COST CODE'!B:I,8,FALSE),\"\")","v":""}]
[null,null,null,null,null,null,null,null,{"$f":"IFERROR(VLOOKUP(H132,'FEMA COST CODE'!B:I,8,FALSE),\"\")","v":""}]
[null,null,null,null,null,null,null,null,{"$f":"IFERROR(VLOOKUP(H133,'FEMA COST CODE'!B:I,8,FALSE),\"\")","v":""}]
[null,null,null,null,null,null,null,null,{"$f":"IFERROR(VLOOKUP(H134,'FEMA COST CODE'!B:I,8,FALSE),\"\")","v":""}]
[null,null,null,null,null,null,null,null,{"$f":"IFERROR(VLOOKUP(H135,'FEMA COST CODE'!B:I,8,FALSE),\"\")","v":""}]
[null,null,null,null,null,null,null,null,{"$f":"IFERROR(VLOOKUP(H136,'FEMA COST CODE'!B:I,8,FALSE),\"\")","v":""}]
[null,null,null,null,null,null,null,null,{"$f":"IFERROR(VLOOKUP(H137,'FEMA COST CODE'!B:I,8,FALSE),\"\")","v":""}]
[null,null,null,null,null,null,null,null,{"$f":"IFERROR(VLOOKUP(H138,'FEMA COST CODE'!B:I,8,FALSE),\"\")","v":""}]
[null,null,null,null,null,null,null,null,{"$f":"IFERROR(VLOOKUP(H139,'FEMA COST CODE'!B:I,8,FALSE),\"\")","v":""}]
[null,null,null,null,null,null,null,null,{"$f":"IFERROR(VLOOKUP(H140,'FEMA COST CODE'!B:I,8,FALSE),\"\")","v":""}]
[null,null,null,null,null,null,null,null,{"$f":"IFERROR(VLOOKUP(H141,'FEMA COST CODE'!B:I,8,FALSE),\"\")","v":""}]
[null,null,null,null,null,null,null,null,{"$f":"IFERROR(VLOOKUP(H142,'FEMA COST CODE'!B:I,8,FALSE),\"\")","v":""}]
[null,null,null,null,null,null,null,null,{"$f":"IFERROR(VLOOKUP(H143,'FEMA COST CODE'!B:I,8,FALSE),\"\")","v":""}]
[null,null,null,null,null,null,null,null,{"$f":"IFERROR(VLOOKUP(H144,'FEMA COST CODE'!B:I,8,FALSE),\"\")","v":""}]
[null,null,null,null,null,null,null,null,{"$f":"IFERROR(VLOOKUP(H145,'FEMA COST CODE'!B:I,8,FALSE),\"\")","v":""}]
[null,null,null,null,null,null,null,null,{"$f":"IFERROR(VLOOKUP(H146,'FEMA COST CODE'!B:I,8,FALSE),\"\")","v":""}]
[null,null,null,null,null,null,null,null,{"$f":"IFERROR(VLOOKUP(H147,'FEMA COST CODE'!B:I,8,FALSE),\"\")","v":""}]
[null,null,null,null,null,null,null,null,{"$f":"IFERROR(VLOOKUP(H148,'FEMA COST CODE'!B:I,8,FALSE),\"\")","v":""}]
[null,null,null,null,null,null,null,null,{"$f":"IFERROR(VLOOKUP(H149,'FEMA COST CODE'!B:I,8,FALSE),\"\")","v":""}]
[null,null,null,null,null,null,null,null,{"$f":"IFERROR(VLOOKUP(H150,'FEMA COST CODE'!B:I,8,FALSE),\"\")","v":""}]
[null,null,null,null,null,null,null,null,{"$f":"IFERROR(VLOOKUP(H151,'FEMA COST CODE'!B:I,8,FALSE),\"\")","v":""}]
[null,null,null,null,null,null,null,null,{"$f":"IFERROR(VLOOKUP(H152,'FEMA COST CODE'!B:I,8,FALSE),\"\")","v":""}]
[null,null,null,null,null,null,null,null,{"$f":"IFERROR(VLOOKUP(H153,'FEMA COST CODE'!B:I,8,FALSE),\"\")","v":""}]
[null,null,null,null,null,null,null,null,{"$f":"IFERROR(VLOOKUP(H154,'FEMA COST CODE'!B:I,8,FALSE),\"\")","v":""}]
[null,null,null,null,null,null,null,null,{"$f":"IFERROR(VLOOKUP(H155,'FEMA COST CODE'!B:I,8,FALSE),\"\")","v":""}]
[null,null,null,null,null,null,null,null,{"$f":"IFERROR(VLOOKUP(H156,'FEMA COST CODE'!B:I,8,FALSE),\"\")","v":""}]
[null,null,null,null,null,null,null,null,{"$f":"IFERROR(VLOOKUP(H157,'FEMA COST CODE'!B:I,8,FALSE),\"\")","v":""}]
[null,null,null,null,null,null,null,null,{"$f":"IFERROR(VLOOKUP(H158,'FEMA COST CODE'!B:I,8,FALSE),\"\")","v":""}]
[null,null,null,null,null,null,null,null,{"$f":"IFERROR(VLOOKUP(H159,'FEMA COST CODE'!B:I,8,FALSE),\"\")","v":""}]
[null,null,null,null,null,null,null,null,{"$f":"IFERROR(VLOOKUP(H160,'FEMA COST CODE'!B:I,8,FALSE),\"\")","v":""}]
[null,null,null,null,null,null,null,null,{"$f":"IFERROR(VLOOKUP(H161,'FEMA COST CODE'!B:I,8,FALSE),\"\")","v":""}]
[null,null,null,null,null,null,null,null,{"$f":"IFERROR(VLOOKUP(H162,'FEMA COST CODE'!B:I,8,FALSE),\"\")","v":""}]
[null,null,null,null,null,null,null,null,{"$f":"IFERROR(VLOOKUP(H163,'FEMA COST CODE'!B:I,8,FALSE),\"\")","v":""}]
[null,null,null,null,null,null,null,null,{"$f":"IFERROR(VLOOKUP(H164,'FEMA COST CODE'!B:I,8,FALSE),\"\")","v":""}]
[null,null,null,null,null,null,null,null,{"$f":"IFERROR(VLOOKUP(H165,'FEMA COST CODE'!B:I,8,FALSE),\"\")","v":""}]
[null,null,null,null,null,null,null,null,{"$f":"IFERROR(VLOOKUP(H166,'FEMA COST CODE'!B:I,8,FALSE),\"\")","v":""}]
[null,null,null,null,null,null,null,null,{"$f":"IFERROR(VLOOKUP(H167,'FEMA COST CODE'!B:I,8,FALSE),\"\")","v":""}]
[null,null,null,null,null,null,null,null,{"$f":"IFERROR(VLOOKUP(H168,'FEMA COST CODE'!B:I,8,FALSE),\"\")","v":""}]
[null,null,null,null,null,null,null,null,{"$f":"IFERROR(VLOOKUP(H169,'FEMA COST CODE'!B:I,8,FALSE),\"\")","v":""}]
[null,null,null,null,null,null,null,null,{"$f":"IFERROR(VLOOKUP(H170,'FEMA COST CODE'!B:I,8,FALSE),\"\")","v":""}]
[null,null,null,null,null,null,null,null,{"$f":"IFERROR(VLOOKUP(H171,'FEMA COST CODE'!B:I,8,FALSE),\"\")","v":""}]
[null,null,null,null,null,null,null,null,{"$f":"IFERROR(VLOOKUP(H172,'FEMA COST CODE'!B:I,8,FALSE),\"\")","v":""}]
[null,null,null,null,null,null,null,null,{"$f":"IFERROR(VLOOKUP(H173,'FEMA COST CODE'!B:I,8,FALSE),\"\")","v":""}]
[null,null,null,null,null,null,null,null,{"$f":"IFERROR(VLOOKUP(H174,'FEMA COST CODE'!B:I,8,FALSE),\"\")","v":""}]
[null,null,null,null,null,null,null,null,{"$f":"IFERROR(VLOOKUP(H175,'FEMA COST CODE'!B:I,8,FALSE),\"\")","v":""}]
[null,null,null,null,null,null,null,null,{"$f":"IFERROR(VLOOKUP(H176,'FEMA COST CODE'!B:I,8,FALSE),\"\")","v":""}]
[null,null,null,null,null,null,null,null,{"$f":"IFERROR(VLOOKUP(H177,'FEMA COST CODE'!B:I,8,FALSE),\"\")","v":""}]
[null,null,null,null,null,null,null,null,{"$f":"IFERROR(VLOOKUP(H178,'FEMA COST CODE'!B:I,8,FALSE),\"\")","v":""}]
[null,null,null,null,null,null,null,null,{"$f":"IFERROR(VLOOKUP(H179,'FEMA COST CODE'!B:I,8,FALSE),\"\")","v":""}]
[null,null,null,null,null,null,null,null,{"$f":"IFERROR(VLOOKUP(H180,'FEMA COST CODE'!B:I,8,FALSE),\"\")","v":""}]
[null,null,null,null,null,null,null,null,{"$f":"IFERROR(VLOOKUP(H181,'FEMA COST CODE'!B:I,8,FALSE),\"\")","v":""}]
[null,null,null,null,null,null,null,null,{"$f":"IFERROR(VLOOKUP(H182,'FEMA COST CODE'!B:I,8,FALSE),\"\")","v":""}]
[null,null,null,null,null,null,null,null,{"$f":"IFERROR(VLOOKUP(H183,'FEMA COST CODE'!B:I,8,FALSE),\"\")","v":""}]
[null,null,null,null,null,null,null,null,{"$f":"IFERROR(VLOOKUP(H184,'FEMA COST CODE'!B:I,8,FALSE),\"\")","v":""}]
[null,null,null,null,null,null,null,null,{"$f":"IFERROR(VLOOKUP(H185,'FEMA COST CODE'!B:I,8,FALSE),\"\")","v":""}]
[null,null,null,null,null,null,null,null,{"$f":"IFERROR(VLOOKUP(H186,'FEMA COST CODE'!B:I,8,FALSE),\"\")","v":""}]
[null,null,null,null,null,null,null,null,{"$f":"IFERROR(VLOOKUP(H187,'FEMA COST CODE'!B:I,8,FALSE),\"\")","v":""}]
[null,null,null,null,null,null,null,null,{"$f":"IFERROR(VLOOKUP(H188,'FEMA COST CODE'!B:I,8,FALSE),\"\")","v":""}]
[null,null,null,null,null,null,null,null,{"$f":"IFERROR(VLOOKUP(H189,'FEMA COST CODE'!B:I,8,FALSE),\"\")","v":""}]
[null,null,null,null,null,null,null,null,{"$f":"IFERROR(VLOOKUP(H190,'FEMA COST CODE'!B:I,8,FALSE),\"\")","v":""}]
[null,null,null,null,null,null,null,null,{"$f":"IFERROR(VLOOKUP(H191,'FEMA COST CODE'!B:I,8,FALSE),\"\")","v":""}]
[null,null,null,null,null,null,null,null,{"$f":"IFERROR(VLOOKUP(H192,'FEMA COST CODE'!B:I,8,FALSE),\"\")","v":""}]
[null,null,null,null,null,null,null,null,{"$f":"IFERROR(VLOOKUP(H193,'FEMA COST CODE'!B:I,8,FALSE),\"\")","v":""}]
[null,null,null,null,null,null,null,null,{"$f":"IFERROR(VLOOKUP(H194,'FEMA COST CODE'!B:I,8,FALSE),\"\")","v":""}]
[null,null,null,null,null,null,null,null,{"$f":"IFERROR(VLOOKUP(H195,'FEMA COST CODE'!B:I,8,FALSE),\"\")","v":""}]
[null,null,null,null,null,null,null,null,{"$f":"IFERROR(VLOOKUP(H196,'FEMA COST CODE'!B:I,8,FALSE),\"\")","v":""}]
[null,null,null,null,null,null,null,null,{"$f":"IFERROR(VLOOKUP(H197,'FEMA COST CODE'!B:I,8,FALSE),\"\")","v":""}]
[null,null,null,null,null,null,null,null,{"$f":"IFERROR(VLOOKUP(H198,'FEMA COST CODE'!B:I,8,FALSE),\"\")","v":""}]
[null,null,null,null,null,null,null,null,{"$f":"IFERROR(VLOOKUP(H199,'FEMA COST CODE'!B:I,8,FALSE),\"\")","v":""}]
[null,null,null,null,null,null,null,null,{"$f":"IFERROR(VLOOKUP(H200,'FEMA COST CODE'!B:I,8,FALSE),\"\")","v":""}]
[null,null,null,null,null,null,null,null,{"$f":"IFERROR(VLOOKUP(H201,'FEMA COST CODE'!B:I,8,FALSE),\"\")","v":""}]
[null,null,null,null,null,null,null,null,{"$f":"IFERROR(VLOOKUP(H202,'FEMA COST CODE'!B:I,8,FALSE),\"\")","v":""},null," "]
[null,null,null,null,null,null,null,null,{"$f":"IFERROR(VLOOKUP(H203,'FEMA COST CODE'!B:I,8,FALSE),\"\")","v":""}]
[null,null,null,null,null,null,null,null,{"$f":"IFERROR(VLOOKUP(H204,'FEMA COST CODE'!B:I,8,FALSE),\"\")","v":""}]
[null,null,null,null,null,null,null,null,{"$f":"IFERROR(VLOOKUP(H205,'FEMA COST CODE'!B:I,8,FALSE),\"\")","v":""}]
[null,null,null,null,null,null,null,null,{"$f":"IFERROR(VLOOKUP(H206,'FEMA COST CODE'!B:I,8,FALSE),\"\")","v":""}]
[null,null,null,null,null,null,null,null,{"$f":"IFERROR(VLOOKUP(H207,'FEMA COST CODE'!B:I,8,FALSE),\"\")","v":""}]
[null,null,null,null,null,null,null,null,{"$f":"IFERROR(VLOOKUP(H208,'FEMA COST CODE'!B:I,8,FALSE),\"\")","v":""}]
[null,null,null,null,null,null,null,null,{"$f":"IFERROR(VLOOKUP(H209,'FEMA COST CODE'!B:I,8,FALSE),\"\")","v":""}]
[null,null,null,null,null,null,null,null,{"$f":"IFERROR(VLOOKUP(H210,'FEMA COST CODE'!B:I,8,FALSE),\"\")","v":""}]
[null,null,null,null,null,null,null,null,{"$f":"IFERROR(VLOOKUP(H211,'FEMA COST CODE'!B:I,8,FALSE),\"\")","v":""}]
[null,null,null,null,null,null,null,null,{"$f":"IFERROR(VLOOKUP(H212,'FEMA COST CODE'!B:I,8,FALSE),\"\")","v":""}]
[null,null,null,null,null,null,null,null,{"$f":"IFERROR(VLOOKUP(H213,'FEMA COST CODE'!B:I,8,FALSE),\"\")","v":""}]
[null,null,null,null,null,null,null,null,{"$f":"IFERROR(VLOOKUP(H214,'FEMA COST CODE'!B:I,8,FALSE),\"\")","v":""}]
[null,null,null,null,null,null,null,null,{"$f":"IFERROR(VLOOKUP(H215,'FEMA COST CODE'!B:I,8,FALSE),\"\")","v":""}]
[null,null,null,null,null,null,null,null,{"$f":"IFERROR(VLOOKUP(H216,'FEMA COST CODE'!B:I,8,FALSE),\"\")","v":""}]
[null,null,null,null,null,null,null,null,{"$f":"IFERROR(VLOOKUP(H217,'FEMA COST CODE'!B:I,8,FALSE),\"\")","v":""}]
[null,null,null,null,null,null,null,null,{"$f":"IFERROR(VLOOKUP(H218,'FEMA COST CODE'!B:I,8,FALSE),\"\")","v":""}]
[null,null,null,null,null,null,null,null,{"$f":"IFERROR(VLOOKUP(H219,'FEMA COST CODE'!B:I,8,FALSE),\"\")","v":""}]
[null,null,null,null,null,null,null,null,{"$f":"IFERROR(VLOOKUP(H220,'FEMA COST CODE'!B:I,8,FALSE),\"\")","v":""}]
[null,null,null,null,null,null,null,null,{"$f":"IFERROR(VLOOKUP(H221,'FEMA COST CODE'!B:I,8,FALSE),\"\")","v":""}]
[null,null,null,null,null,null,null,null,{"$f":"IFERROR(VLOOKUP(H222,'FEMA COST CODE'!B:I,8,FALSE),\"\")","v":""}]
[null,null,null,null,null,null,null,null,{"$f":"IFERROR(VLOOKUP(H223,'FEMA COST CODE'!B:I,8,FALSE),\"\")","v":""}]
[null,null,null,null,null,null,null,null,{"$f":"IFERROR(VLOOKUP(H224,'FEMA COST CODE'!B:I,8,FALSE),\"\")","v":""}]
[null,null,null,null,null,null,null,null,{"$f":"IFERROR(VLOOKUP(H225,'FEMA COST CODE'!B:I,8,FALSE),\"\")","v":""}]
[null,null,null,null,null,null,null,null,{"$f":"IFERROR(VLOOKUP(H226,'FEMA COST CODE'!B:I,8,FALSE),\"\")","v":""}]
[null,null,null,null,null,null,null,null,{"$f":"IFERROR(VLOOKUP(H227,'FEMA COST CODE'!B:I,8,FALSE),\"\")","v":""}]
[null,null,null,null,null,null,null,null,{"$f":"IFERROR(VLOOKUP(H228,'FEMA COST CODE'!B:I,8,FALSE),\"\")","v":""}]
[null,null,null,null,null,null,null,null,{"$f":"IFERROR(VLOOKUP(H229,'FEMA COST CODE'!B:I,8,FALSE),\"\")","v":""}]
[null,null,null,null,null,null,null,null,{"$f":"IFERROR(VLOOKUP(H230,'FEMA COST CODE'!B:I,8,FALSE),\"\")","v":""}]
[null,null,null,null,null,null,null,null,{"$f":"IFERROR(VLOOKUP(H231,'FEMA COST CODE'!B:I,8,FALSE),\"\")","v":""}]
[null,null,null,null,null,null,null,null,{"$f":"IFERROR(VLOOKUP(H232,'FEMA COST CODE'!B:I,8,FALSE),\"\")","v":""}]
[null,null,null,null,null,null,null,null,{"$f":"IFERROR(VLOOKUP(H233,'FEMA COST CODE'!B:I,8,FALSE),\"\")","v":""}]
[null,null,null,null,null,null,null,null,{"$f":"IFERROR(VLOOKUP(H234,'FEMA COST CODE'!B:I,8,FALSE),\"\")","v":""}]
[null,null,null,null,null,null,null,null,{"$f":"IFERROR(VLOOKUP(H235,'FEMA COST CODE'!B:I,8,FALSE),\"\")","v":""}]
[null,null,null,null,null,null,null,null,{"$f":"IFERROR(VLOOKUP(H236,'FEMA COST CODE'!B:I,8,FALSE),\"\")","v":""}]
[null,null,null,null,null,null,null,null,{"$f":"IFERROR(VLOOKUP(H237,'FEMA COST CODE'!B:I,8,FALSE),\"\")","v":""}]
[null,null,null,null,null,null,null,null,{"$f":"IFERROR(VLOOKUP(H238,'FEMA COST CODE'!B:I,8,FALSE),\"\")","v":""}]
[null,null,null,null,null,null,null,null,{"$f":"IFERROR(VLOOKUP(H239,'FEMA COST CODE'!B:I,8,FALSE),\"\")","v":""}]
[null,null,null,null,null,null,null,null,{"$f":"IFERROR(VLOOKUP(H240,'FEMA COST CODE'!B:I,8,FALSE),\"\")","v":""}]
[null,null,null,null,null,null,null,null,{"$f":"IFERROR(VLOOKUP(H241,'FEMA COST CODE'!B:I,8,FALSE),\"\")","v":""}]
[null,null,null,null,null,null,null,null,{"$f":"IFERROR(VLOOKUP(H242,'FEMA COST CODE'!B:I,8,FALSE),\"\")","v":""}]
[null,null,null,null,null,null,null,null,{"$f":"IFERROR(VLOOKUP(H243,'FEMA COST CODE'!B:I,8,FALSE),\"\")","v":""}]
[null,null,null,null,null,null,null,null,{"$f":"IFERROR(VLOOKUP(H244,'FEMA COST CODE'!B:I,8,FALSE),\"\")","v":""}]
[null,null,null,null,null,null,null,null,{"$f":"IFERROR(VLOOKUP(H245,'FEMA COST CODE'!B:I,8,FALSE),\"\")","v":""}]
[null,null,null,null,null,null,null,null,{"$f":"IFERROR(VLOOKUP(H246,'FEMA COST CODE'!B:I,8,FALSE),\"\")","v":""}]
[null,null,null,null,null,null,null,null,{"$f":"IFERROR(VLOOKUP(H247,'FEMA COST CODE'!B:I,8,FALSE),\"\")","v":""}]
[null,null,null,null,null,null,null,null,{"$f":"IFERROR(VLOOKUP(H248,'FEMA COST CODE'!B:I,8,FALSE),\"\")","v":""}]
[null,null,null,null,null,null,null,null,{"$f":"IFERROR(VLOOKUP(H249,'FEMA COST CODE'!B:I,8,FALSE),\"\")","v":""}]
[null,null,null,null,null,null,null,null,{"$f":"IFERROR(VLOOKUP(H250,'FEMA COST CODE'!B:I,8,FALSE),\"\")","v":""}]
[null,null,null,null,null,null,null,null,{"$f":"IFERROR(VLOOKUP(H251,'FEMA COST CODE'!B:I,8,FALSE),\"\")","v":""}]
[null,null,null,null,null,null,null,null,{"$f":"IFERROR(VLOOKUP(H252,'FEMA COST CODE'!B:I,8,FALSE),\"\")","v":""}]
[null,null,null,null,null,null,null,null,{"$f":"IFERROR(VLOOKUP(H253,'FEMA COST CODE'!B:I,8,FALSE),\"\")","v":""}]
[null,null,null,null,null,null,null,null,{"$f":"IFERROR(VLOOKUP(H254,'FEMA COST CODE'!B:I,8,FALSE),\"\")","v":""}]
[null,null,null,null,null,null,null,null,{"$f":"IFERROR(VLOOKUP(H255,'FEMA COST CODE'!B:I,8,FALSE),\"\")","v":""}]
[null,null,null,null,null,null,null,null,{"$f":"IFERROR(VLOOKUP(H256,'FEMA COST CODE'!B:I,8,FALSE),\"\")","v":""}]
[null,null,null,null,null,null,null,null,{"$f":"IFERROR(VLOOKUP(H257,'FEMA COST CODE'!B:I,8,FALSE),\"\")","v":""}]
[null,null,null,null,null,null,null,null,{"$f":"IFERROR(VLOOKUP(H258,'FEMA COST CODE'!B:I,8,FALSE),\"\")","v":""}]
[null,null,null,null,null,null,null,null,{"$f":"IFERROR(VLOOKUP(H259,'FEMA COST CODE'!B:I,8,FALSE),\"\")","v":""}]
[null,null,null,null,null,null,null,null,{"$f":"IFERROR(VLOOKUP(H260,'FEMA COST CODE'!B:I,8,FALSE),\"\")","v":""}]
[null,null,null,null,null,null,null,null,{"$f":"IFERROR(VLOOKUP(H261,'FEMA COST CODE'!B:I,8,FALSE),\"\")","v":""}]
[null,null,null,null,null,null,null,null,{"$f":"IFERROR(VLOOKUP(H262,'FEMA COST CODE'!B:I,8,FALSE),\"\")","v":""}]
[null,null,null,null,null,null,null,null,{"$f":"IFERROR(VLOOKUP(H263,'FEMA COST CODE'!B:I,8,FALSE),\"\")","v":""}]
[null,null,null,null,null,null,null,null,{"$f":"IFERROR(VLOOKUP(H264,'FEMA COST CODE'!B:I,8,FALSE),\"\")","v":""}]
[null,null,null,null,null,null,null,null,{"$f":"IFERROR(VLOOKUP(H265,'FEMA COST CODE'!B:I,8,FALSE),\"\")","v":""}]
[null,null,null,null,null,null,null,null,{"$f":"IFERROR(VLOOKUP(H266,'FEMA COST CODE'!B:I,8,FALSE),\"\")","v":""}]
[null,null,null,null,null,null,null,null,{"$f":"IFERROR(VLOOKUP(H267,'FEMA COST CODE'!B:I,8,FALSE),\"\")","v":""}]
[null,null,null,null,null,null,null,null,{"$f":"IFERROR(VLOOKUP(H268,'FEMA COST CODE'!B:I,8,FALSE),\"\")","v":""}]
[null,null,null,null,null,null,null,null,{"$f":"IFERROR(VLOOKUP(H269,'FEMA COST CODE'!B:I,8,FALSE),\"\")","v":""}]
[null,null,null,null,null,null,null,null,{"$f":"IFERROR(VLOOKUP(H270,'FEMA COST CODE'!B:I,8,FALSE),\"\")","v":""}]
[null,null,null,null,null,null,null,null,{"$f":"IFERROR(VLOOKUP(H271,'FEMA COST CODE'!B:I,8,FALSE),\"\")","v":""}]
[null,null,null,null,null,null,null,null,{"$f":"IFERROR(VLOOKUP(H272,'FEMA COST CODE'!B:I,8,FALSE),\"\")","v":""}]
[null,null,null,null,null,null,null,null,{"$f":"IFERROR(VLOOKUP(H273,'FEMA COST CODE'!B:I,8,FALSE),\"\")","v":""}]
[null,null,null,null,null,null,null,null,{"$f":"IFERROR(VLOOKUP(H274,'FEMA COST CODE'!B:I,8,FALSE),\"\")","v":""}]
[null,null,null,null,null,null,null,null,{"$f":"IFERROR(VLOOKUP(H275,'FEMA COST CODE'!B:I,8,FALSE),\"\")","v":""}]
[null,null,null,null,null,null,null,null,{"$f":"IFERROR(VLOOKUP(H276,'FEMA COST CODE'!B:I,8,FALSE),\"\")","v":""}]
[null,null,null,null,null,null,null,null,{"$f":"IFERROR(VLOOKUP(H277,'FEMA COST CODE'!B:I,8,FALSE),\"\")","v":""}]
[null,null,null,null,null,null,null,null,{"$f":"IFERROR(VLOOKUP(H278,'FEMA COST CODE'!B:I,8,FALSE),\"\")","v":""}]
[null,null,null,null,null,null,null,null,{"$f":"IFERROR(VLOOKUP(H279,'FEMA COST CODE'!B:I,8,FALSE),\"\")","v":""}]
[null,null,null,null,null,null,null,null,{"$f":"IFERROR(VLOOKUP(H280,'FEMA COST CODE'!B:I,8,FALSE),\"\")","v":""}]
[null,null,null,null,null,null,null,null,{"$f":"IFERROR(VLOOKUP(H281,'FEMA COST CODE'!B:I,8,FALSE),\"\")","v":""}]
[null,null,null,null,null,null,null,null,{"$f":"IFERROR(VLOOKUP(H282,'FEMA COST CODE'!B:I,8,FALSE),\"\")","v":""}]
[null,null,null,null,null,null,null,null,{"$f":"IFERROR(VLOOKUP(H283,'FEMA COST CODE'!B:I,8,FALSE),\"\")","v":""}]
[null,null,null,null,null,null,null,null,{"$f":"IFERROR(VLOOKUP(H284,'FEMA COST CODE'!B:I,8,FALSE),\"\")","v":""}]
[null,null,null,null,null,null,null,null,{"$f":"IFERROR(VLOOKUP(H285,'FEMA COST CODE'!B:I,8,FALSE),\"\")","v":""}]
[null,null,null,null,null,null,null,null,{"$f":"IFERROR(VLOOKUP(H286,'FEMA COST CODE'!B:I,8,FALSE),\"\")","v":""}]
[null,null,null,null,null,null,null,null,{"$f":"IFERROR(VLOOKUP(H287,'FEMA COST CODE'!B:I,8,FALSE),\"\")","v":""}]
[null,null,null,null,null,null,null,null,{"$f":"IFERROR(VLOOKUP(H288,'FEMA COST CODE'!B:I,8,FALSE),\"\")","v":""}]
[null,null,null,null,null,null,null,null,{"$f":"IFERROR(VLOOKUP(H289,'FEMA COST CODE'!B:I,8,FALSE),\"\")","v":""}]
[null,null,null,null,null,null,null,null,{"$f":"IFERROR(VLOOKUP(H290,'FEMA COST CODE'!B:I,8,FALSE),\"\")","v":""}]
[null,null,null,null,null,null,null,null,{"$f":"IFERROR(VLOOKUP(H291,'FEMA COST CODE'!B:I,8,FALSE),\"\")","v":""}]
[null,null,null,null,null,null,null,null,{"$f":"IFERROR(VLOOKUP(H292,'FEMA COST CODE'!B:I,8,FALSE),\"\")","v":""}]
[null,null,null,null,null,null,null,null,{"$f":"IFERROR(VLOOKUP(H293,'FEMA COST CODE'!B:I,8,FALSE),\"\")","v":""}]
[null,null,null,null,null,null,null,null,{"$f":"IFERROR(VLOOKUP(H294,'FEMA COST CODE'!B:I,8,FALSE),\"\")","v":""}]
[null,null,null,null,null,null,null,null,{"$f":"IFERROR(VLOOKUP(H295,'FEMA COST CODE'!B:I,8,FALSE),\"\")","v":""}]
[null,null,null,null,null,null,null,null,{"$f":"IFERROR(VLOOKUP(H296,'FEMA COST CODE'!B:I,8,FALSE),\"\")","v":""}]
[null,null,null,null,null,null,null,null,{"$f":"IFERROR(VLOOKUP(H297,'FEMA COST CODE'!B:I,8,FALSE),\"\")","v":""}]
[null,null,null,null,null,null,null,null,{"$f":"IFERROR(VLOOKUP(H298,'FEMA COST CODE'!B:I,8,FALSE),\"\")","v":""}]
[null,null,null,null,null,null,null,null,{"$f":"IFERROR(VLOOKUP(H299,'FEMA COST CODE'!B:I,8,FALSE),\"\")","v":""}]
[null,null,null,null,null,null,null,null,{"$f":"IFERROR(VLOOKUP(H300,'FEMA COST CODE'!B:I,8,FALSE),\"\")","v":""}]
[null,null,null,null,null,null,null,null,{"$f":"IFERROR(VLOOKUP(H301,'FEMA COST CODE'!B:I,8,FALSE),\"\")","v":""}]
[null,null,null,null,null,null,null,null,{"$f":"IFERROR(VLOOKUP(H302,'FEMA COST CODE'!B:I,8,FALSE),\"\")","v":""}]
[null,null,null,null,null,null,null,null,{"$f":"IFERROR(VLOOKUP(H303,'FEMA COST CODE'!B:I,8,FALSE),\"\")","v":""}]
[null,null,null,null,null,null,null,null,{"$f":"IFERROR(VLOOKUP(H304,'FEMA COST CODE'!B:I,8,FALSE),\"\")","v":""}]
[null,null,null,null,null,null,null,null,{"$f":"IFERROR(VLOOKUP(H305,'FEMA COST CODE'!B:I,8,FALSE),\"\")","v":""}]
[null,null,null,null,null,null,null,null,{"$f":"IFERROR(VLOOKUP(H306,'FEMA COST CODE'!B:I,8,FALSE),\"\")","v":""}]
[null,null,null,null,null,null,null,null,{"$f":"IFERROR(VLOOKUP(H307,'FEMA COST CODE'!B:I,8,FALSE),\"\")","v":""}]
[null,null,null,null,null,null,null,null,{"$f":"IFERROR(VLOOKUP(H308,'FEMA COST CODE'!B:I,8,FALSE),\"\")","v":""}]
[null,null,null,null,null,null,null,null,{"$f":"IFERROR(VLOOKUP(H309,'FEMA COST CODE'!B:I,8,FALSE),\"\")","v":""}]
[null,null,null,null,null,null,null,null,{"$f":"IFERROR(VLOOKUP(H310,'FEMA COST CODE'!B:I,8,FALSE),\"\")","v":""}]
[null,null,null,null,null,null,null,null,{"$f":"IFERROR(VLOOKUP(H311,'FEMA COST CODE'!B:I,8,FALSE),\"\")","v":""}]
[null,null,null,null,null,null,null,null,{"$f":"IFERROR(VLOOKUP(H312,'FEMA COST CODE'!B:I,8,FALSE),\"\")","v":""}]
[null,null,null,null,null,null,null,null,{"$f":"IFERROR(VLOOKUP(H313,'FEMA COST CODE'!B:I,8,FALSE),\"\")","v":""}]
[null,null,null,null,null,null,null,null,{"$f":"IFERROR(VLOOKUP(H314,'FEMA COST CODE'!B:I,8,FALSE),\"\")","v":""}]
[null,null,null,null,null,null,null,null,{"$f":"IFERROR(VLOOKUP(H315,'FEMA COST CODE'!B:I,8,FALSE),\"\")","v":""}]
[null,null,null,null,null,null,null,null,{"$f":"IFERROR(VLOOKUP(H316,'FEMA COST CODE'!B:I,8,FALSE),\"\")","v":""}]
[null,null,null,null,null,null,null,null,{"$f":"IFERROR(VLOOKUP(H317,'FEMA COST CODE'!B:I,8,FALSE),\"\")","v":""}]
[null,null,null,null,null,null,null,null,{"$f":"IFERROR(VLOOKUP(H318,'FEMA COST CODE'!B:I,8,FALSE),\"\")","v":""}]
[null,null,null,null,null,null,null,null,{"$f":"IFERROR(VLOOKUP(H319,'FEMA COST CODE'!B:I,8,FALSE),\"\")","v":""}]
[null,null,null,null,null,null,null,null,{"$f":"IFERROR(VLOOKUP(H320,'FEMA COST CODE'!B:I,8,FALSE),\"\")","v":""}]
[null,null,null,null,null,null,null,null,{"$f":"IFERROR(VLOOKUP(H321,'FEMA COST CODE'!B:I,8,FALSE),\"\")","v":""}]
[null,null,null,null,null,null,null,null,{"$f":"IFERROR(VLOOKUP(H322,'FEMA COST CODE'!B:I,8,FALSE),\"\")","v":""}]
[null,null,null,null,null,null,null,null,{"$f":"IFERROR(VLOOKUP(H323,'FEMA COST CODE'!B:I,8,FALSE),\"\")","v":""}]
[null,null,null,null,null,null,null,null,{"$f":"IFERROR(VLOOKUP(H324,'FEMA COST CODE'!B:I,8,FALSE),\"\")","v":""}]
[null,null,null,null,null,null,null,null,{"$f":"IFERROR(VLOOKUP(H325,'FEMA COST CODE'!B:I,8,FALSE),\"\")","v":""}]
[null,null,null,null,null,null,null,null,{"$f":"IFERROR(VLOOKUP(H326,'FEMA COST CODE'!B:I,8,FALSE),\"\")","v":""}]
[null,null,null,null,null,null,null,null,{"$f":"IFERROR(VLOOKUP(H327,'FEMA COST CODE'!B:I,8,FALSE),\"\")","v":""}]
[null,null,null,null,null,null,null,null,{"$f":"IFERROR(VLOOKUP(H328,'FEMA COST CODE'!B:I,8,FALSE),\"\")","v":""}]
[null,null,null,null,null,null,null,null,{"$f":"IFERROR(VLOOKUP(H329,'FEMA COST CODE'!B:I,8,FALSE),\"\")","v":""}]
[null,null,null,null,null,null,null,null,{"$f":"IFERROR(VLOOKUP(H330,'FEMA COST CODE'!B:I,8,FALSE),\"\")","v":""}]
[null,null,null,null,null,null,null,null,{"$f":"IFERROR(VLOOKUP(H331,'FEMA COST CODE'!B:I,8,FALSE),\"\")","v":""}]
[null,null,null,null,null,null,null,null,{"$f":"IFERROR(VLOOKUP(H332,'FEMA COST CODE'!B:I,8,FALSE),\"\")","v":""}]
[null,null,null,null,null,null,null,null,{"$f":"IFERROR(VLOOKUP(H333,'FEMA COST CODE'!B:I,8,FALSE),\"\")","v":""}]
[null,null,null,null,null,null,null,null,{"$f":"IFERROR(VLOOKUP(H334,'FEMA COST CODE'!B:I,8,FALSE),\"\")","v":""}]
[null,null,null,null,null,null,null,null,{"$f":"IFERROR(VLOOKUP(H335,'FEMA COST CODE'!B:I,8,FALSE),\"\")","v":""}]
[null,null,null,null,null,null,null,null,{"$f":"IFERROR(VLOOKUP(H336,'FEMA COST CODE'!B:I,8,FALSE),\"\")","v":""}]
[null,null,null,null,null,null,null,null,{"$f":"IFERROR(VLOOKUP(H337,'FEMA COST CODE'!B:I,8,FALSE),\"\")","v":""}]
[null,null,null,null,null,null,null,null,{"$f":"IFERROR(VLOOKUP(H338,'FEMA COST CODE'!B:I,8,FALSE),\"\")","v":""}]
[null,null,null,null,null,null,null,null,{"$f":"IFERROR(VLOOKUP(H339,'FEMA COST CODE'!B:I,8,FALSE),\"\")","v":""}]
[null,null,null,null,null,null,null,null,{"$f":"IFERROR(VLOOKUP(H340,'FEMA COST CODE'!B:I,8,FALSE),\"\")","v":""}]
[null,null,null,null,null,null,null,null,{"$f":"IFERROR(VLOOKUP(H341,'FEMA COST CODE'!B:I,8,FALSE),\"\")","v":""}]
[null,null,null,null,null,null,null,null,{"$f":"IFERROR(VLOOKUP(H342,'FEMA COST CODE'!B:I,8,FALSE),\"\")","v":""}]
[null,null,null,null,null,null,null,null,{"$f":"IFERROR(VLOOKUP(H343,'FEMA COST CODE'!B:I,8,FALSE),\"\")","v":""}]
[null,null,null,null,null,null,null,null,{"$f":"IFERROR(VLOOKUP(H344,'FEMA COST CODE'!B:I,8,FALSE),\"\")","v":""}]
[null,null,null,null,null,null,null,null,{"$f":"IFERROR(VLOOKUP(H345,'FEMA COST CODE'!B:I,8,FALSE),\"\")","v":""}]
[null,null,null,null,null,null,null,null,{"$f":"IFERROR(VLOOKUP(H346,'FEMA COST CODE'!B:I,8,FALSE),\"\")","v":""}]
[null,null,null,null,null,null,null,null,{"$f":"IFERROR(VLOOKUP(H347,'FEMA COST CODE'!B:I,8,FALSE),\"\")","v":""}]
[null,null,null,null,null,null,null,null,{"$f":"IFERROR(VLOOKUP(H348,'FEMA COST CODE'!B:I,8,FALSE),\"\")","v":""}]
[null,null,null,null,null,null,null,null,{"$f":"IFERROR(VLOOKUP(H349,'FEMA COST CODE'!B:I,8,FALSE),\"\")","v":""}]
[null,null,null,null,null,null,null,null,{"$f":"IFERROR(VLOOKUP(H350,'FEMA COST CODE'!B:I,8,FALSE),\"\")","v":""}]
[null,null,null,null,null,null,null,null,{"$f":"IFERROR(VLOOKUP(H351,'FEMA COST CODE'!B:I,8,FALSE),\"\")","v":""}]
[null,null,null,null,null,null,null,null,{"$f":"IFERROR(VLOOKUP(H352,'FEMA COST CODE'!B:I,8,FALSE),\"\")","v":""}]
[null,null,null,null,null,null,null,null,{"$f":"IFERROR(VLOOKUP(H353,'FEMA COST CODE'!B:I,8,FALSE),\"\")","v":""}]
[null,null,null,null,null,null,null,null,{"$f":"IFERROR(VLOOKUP(H354,'FEMA COST CODE'!B:I,8,FALSE),\"\")","v":""}]
[null,null,null,null,null,null,null,null,{"$f":"IFERROR(VLOOKUP(H355,'FEMA COST CODE'!B:I,8,FALSE),\"\")","v":""}]
[null,null,null,null,null,null,null,null,{"$f":"IFERROR(VLOOKUP(H356,'FEMA COST CODE'!B:I,8,FALSE),\"\")","v":""}]
[null,null,null,null,null,null,null,null,{"$f":"IFERROR(VLOOKUP(H357,'FEMA COST CODE'!B:I,8,FALSE),\"\")","v":""}]
[null,null,null,null,null,null,null,null,{"$f":"IFERROR(VLOOKUP(H358,'FEMA COST CODE'!B:I,8,FALSE),\"\")","v":""}]
[null,null,null,null,null,null,null,null,{"$f":"IFERROR(VLOOKUP(H359,'FEMA COST CODE'!B:I,8,FALSE),\"\")","v":""}]
[null,null,null,null,null,null,null,null,{"$f":"IFERROR(VLOOKUP(H360,'FEMA COST CODE'!B:I,8,FALSE),\"\")","v":""}]
[null,null,null,null,null,null,null,null,{"$f":"IFERROR(VLOOKUP(H361,'FEMA COST CODE'!B:I,8,FALSE),\"\")","v":""}]
[null,null,null,null,null,null,null,null,{"$f":"IFERROR(VLOOKUP(H362,'FEMA COST CODE'!B:I,8,FALSE),\"\")","v":""}]
[null,null,null,null,null,null,null,null,{"$f":"IFERROR(VLOOKUP(H363,'FEMA COST CODE'!B:I,8,FALSE),\"\")","v":""}]
[null,null,null,null,null,null,null,null,{"$f":"IFERROR(VLOOKUP(H364,'FEMA COST CODE'!B:I,8,FALSE),\"\")","v":""}]
[null,null,null,null,null,null,null,null,{"$f":"IFERROR(VLOOKUP(H365,'FEMA COST CODE'!B:I,8,FALSE),\"\")","v":""}]
[null,null,null,null,null,null,null,null,{"$f":"IFERROR(VLOOKUP(H366,'FEMA COST CODE'!B:I,8,FALSE),\"\")","v":""}]
[null,null,null,null,null,null,null,null,{"$f":"IFERROR(VLOOKUP(H367,'FEMA COST CODE'!B:I,8,FALSE),\"\")","v":""}]
[null,null,null,null,null,null,null,null,{"$f":"IFERROR(VLOOKUP(H368,'FEMA COST CODE'!B:I,8,FALSE),\"\")","v":""}]
[null,null,null,null,null,null,null,null,{"$f":"IFERROR(VLOOKUP(H369,'FEMA COST CODE'!B:I,8,FALSE),\"\")","v":""}]
[null,null,null,null,null,null,null,null,{"$f":"IFERROR(VLOOKUP(H370,'FEMA COST CODE'!B:I,8,FALSE),\"\")","v":""}]
[null,null,null,null,null,null,null,null,{"$f":"IFERROR(VLOOKUP(H371,'FEMA COST CODE'!B:I,8,FALSE),\"\")","v":""}]
[null,null,null,null,null,null,null,null,{"$f":"IFERROR(VLOOKUP(H372,'FEMA COST CODE'!B:I,8,FALSE),\"\")","v":""}]
[null,null,null,null,null,null,null,null,{"$f":"IFERROR(VLOOKUP(H373,'FEMA COST CODE'!B:I,8,FALSE),\"\")","v":""}]
[null,null,null,null,null,null,null,null,{"$f":"IFERROR(VLOOKUP(H374,'FEMA COST CODE'!B:I,8,FALSE),\"\")","v":""}]
[null,null,null,null,null,null,null,null,{"$f":"IFERROR(VLOOKUP(H375,'FEMA COST CODE'!B:I,8,FALSE),\"\")","v":""}]
[null,null,null,null,null,null,null,null,{"$f":"IFERROR(VLOOKUP(H376,'FEMA COST CODE'!B:I,8,FALSE),\"\")","v":""}]
[null,null,null,null,null,null,null,null,{"$f":"IFERROR(VLOOKUP(H377,'FEMA COST CODE'!B:I,8,FALSE),\"\")","v":""}]
[null,null,null,null,null,null,null,null,{"$f":"IFERROR(VLOOKUP(H378,'FEMA COST CODE'!B:I,8,FALSE),\"\")","v":""}]
[null,null,null,null,null,null,null,null,{"$f":"IFERROR(VLOOKUP(H379,'FEMA COST CODE'!B:I,8,FALSE),\"\")","v":""}]
[null,null,null,null,null,null,null,null,{"$f":"IFERROR(VLOOKUP(H380,'FEMA COST CODE'!B:I,8,FALSE),\"\")","v":""}]
[null,null,null,null,null,null,null,null,{"$f":"IFERROR(VLOOKUP(H381,'FEMA COST CODE'!B:I,8,FALSE),\"\")","v":""}]
[null,null,null,null,null,null,null,null,{"$f":"IFERROR(VLOOKUP(H382,'FEMA COST CODE'!B:I,8,FALSE),\"\")","v":""}]
[null,null,null,null,null,null,null,null,{"$f":"IFERROR(VLOOKUP(H383,'FEMA COST CODE'!B:I,8,FALSE),\"\")","v":""}]
[null,null,null,null,null,null,null,null,{"$f":"IFERROR(VLOOKUP(H384,'FEMA COST CODE'!B:I,8,FALSE),\"\")","v":""}]
[null,null,null,null,null,null,null,null,{"$f":"IFERROR(VLOOKUP(H385,'FEMA COST CODE'!B:I,8,FALSE),\"\")","v":""}]
[null,null,null,null,null,null,null,null,{"$f":"IFERROR(VLOOKUP(H386,'FEMA COST CODE'!B:I,8,FALSE),\"\")","v":""}]
[null,null,null,null,null,null,null,null,{"$f":"IFERROR(VLOOKUP(H387,'FEMA COST CODE'!B:I,8,FALSE),\"\")","v":""}]
[null,null,null,null,null,null,null,null,{"$f":"IFERROR(VLOOKUP(H388,'FEMA COST CODE'!B:I,8,FALSE),\"\")","v":""}]
[null,null,null,null,null,null,null,null,{"$f":"IFERROR(VLOOKUP(H389,'FEMA COST CODE'!B:I,8,FALSE),\"\")","v":""}]
[null,null,null,null,null,null,null,null,{"$f":"IFERROR(VLOOKUP(H390,'FEMA COST CODE'!B:I,8,FALSE),\"\")","v":""}]
[null,null,null,null,null,null,null,null,{"$f":"IFERROR(VLOOKUP(H391,'FEMA COST CODE'!B:I,8,FALSE),\"\")","v":""}]
[null,null,null,null,null,null,null,null,{"$f":"IFERROR(VLOOKUP(H392,'FEMA COST CODE'!B:I,8,FALSE),\"\")","v":""}]
[null,null,null,null,null,null,null,null,{"$f":"IFERROR(VLOOKUP(H393,'FEMA COST CODE'!B:I,8,FALSE),\"\")","v":""}]
[null,null,null,null,null,null,null,null,{"$f":"IFERROR(VLOOKUP(H394,'FEMA COST CODE'!B:I,8,FALSE),\"\")","v":""}]
[null,null,null,null,null,null,null,null,{"$f":"IFERROR(VLOOKUP(H395,'FEMA COST CODE'!B:I,8,FALSE),\"\")","v":""}]
[null,null,null,null,null,null,null,null,{"$f":"IFERROR(VLOOKUP(H396,'FEMA COST CODE'!B:I,8,FALSE),\"\")","v":""}]
[null,null,null,null,null,null,null,null,{"$f":"IFERROR(VLOOKUP(H397,'FEMA COST CODE'!B:I,8,FALSE),\"\")","v":""}]
[null,null,null,null,null,null,null,null,{"$f":"IFERROR(VLOOKUP(H398,'FEMA COST CODE'!B:I,8,FALSE),\"\")","v":""}]
[null,null,null,null,null,null,null,null,{"$f":"IFERROR(VLOOKUP(H399,'FEMA COST CODE'!B:I,8,FALSE),\"\")","v":""}]
[null,null,null,null,null,null,null,null,{"$f":"IFERROR(VLOOKUP(H400,'FEMA COST CODE'!B:I,8,FALSE),\"\")","v":""}]
[null,null,null,null,null,null,null,null,{"$f":"IFERROR(VLOOKUP(H401,'FEMA COST CODE'!B:I,8,FALSE),\"\")","v":""}]
[null,null,null,null,null,null,null,null,{"$f":"IFERROR(VLOOKUP(H402,'FEMA COST CODE'!B:I,8,FALSE),\"\")","v":""}]
[null,null,null,null,null,null,null,null,{"$f":"IFERROR(VLOOKUP(H403,'FEMA COST CODE'!B:I,8,FALSE),\"\")","v":""}]
[null,null,null,null,null,null,null,null,{"$f":"IFERROR(VLOOKUP(H404,'FEMA COST CODE'!B:I,8,FALSE),\"\")","v":""}]
[null,null,null,null,null,null,null,null,{"$f":"IFERROR(VLOOKUP(H405,'FEMA COST CODE'!B:I,8,FALSE),\"\")","v":""}]
[null,null,null,null,null,null,null,null,{"$f":"IFERROR(VLOOKUP(H406,'FEMA COST CODE'!B:I,8,FALSE),\"\")","v":""}]
[null,null,null,null,null,null,null,null,{"$f":"IFERROR(VLOOKUP(H407,'FEMA COST CODE'!B:I,8,FALSE),\"\")","v":""}]
[null,null,null,null,null,null,null,null,{"$f":"IFERROR(VLOOKUP(H408,'FEMA COST CODE'!B:I,8,FALSE),\"\")","v":""}]
[null,null,null,null,null,null,null,null,{"$f":"IFERROR(VLOOKUP(H409,'FEMA COST CODE'!B:I,8,FALSE),\"\")","v":""}]
[null,null,null,null,null,null,null,null,{"$f":"IFERROR(VLOOKUP(H410,'FEMA COST CODE'!B:I,8,FALSE),\"\")","v":""}]
[null,null,null,null,null,null,null,null,{"$f":"IFERROR(VLOOKUP(H411,'FEMA COST CODE'!B:I,8,FALSE),\"\")","v":""}]
[null,null,null,null,null,null,null,null,{"$f":"IFERROR(VLOOKUP(H412,'FEMA COST CODE'!B:I,8,FALSE),\"\")","v":""}]
[null,null,null,null,null,null,null,null,{"$f":"IFERROR(VLOOKUP(H413,'FEMA COST CODE'!B:I,8,FALSE),\"\")","v":""}]
[null,null,null,null,null,null,null,null,{"$f":"IFERROR(VLOOKUP(H414,'FEMA COST CODE'!B:I,8,FALSE),\"\")","v":""}]
[null,null,null,null,null,null,null,null,{"$f":"IFERROR(VLOOKUP(H415,'FEMA COST CODE'!B:I,8,FALSE),\"\")","v":""}]
[null,null,null,null,null,null,null,null,{"$f":"IFERROR(VLOOKUP(H416,'FEMA COST CODE'!B:I,8,FALSE),\"\")","v":""}]
[null,null,null,null,null,null,null,null,{"$f":"IFERROR(VLOOKUP(H417,'FEMA COST CODE'!B:I,8,FALSE),\"\")","v":""}]
[null,null,null,null,null,null,null,null,{"$f":"IFERROR(VLOOKUP(H418,'FEMA COST CODE'!B:I,8,FALSE),\"\")","v":""}]
[null,null,null,null,null,null,null,null,{"$f":"IFERROR(VLOOKUP(H419,'FEMA COST CODE'!B:I,8,FALSE),\"\")","v":""}]
[null,null,null,null,null,null,null,null,{"$f":"IFERROR(VLOOKUP(H420,'FEMA COST CODE'!B:I,8,FALSE),\"\")","v":""}]
[null,null,null,null,null,null,null,null,{"$f":"IFERROR(VLOOKUP(H421,'FEMA COST CODE'!B:I,8,FALSE),\"\")","v":""}]
[null,null,null,null,null,null,null,null,{"$f":"IFERROR(VLOOKUP(H422,'FEMA COST CODE'!B:I,8,FALSE),\"\")","v":""}]
[null,null,null,null,null,null,null,null,{"$f":"IFERROR(VLOOKUP(H423,'FEMA COST CODE'!B:I,8,FALSE),\"\")","v":""}]
[null,null,null,null,null,null,null,null,{"$f":"IFERROR(VLOOKUP(H424,'FEMA COST CODE'!B:I,8,FALSE),\"\")","v":""}]
[null,null,null,null,null,null,null,null,{"$f":"IFERROR(VLOOKUP(H425,'FEMA COST CODE'!B:I,8,FALSE),\"\")","v":""}]
[null,null,null,null,null,null,null,null,{"$f":"IFERROR(VLOOKUP(H426,'FEMA COST CODE'!B:I,8,FALSE),\"\")","v":""}]
[null,null,null,null,null,null,null,null,{"$f":"IFERROR(VLOOKUP(H427,'FEMA COST CODE'!B:I,8,FALSE),\"\")","v":""}]
[null,null,null,null,null,null,null,null,{"$f":"IFERROR(VLOOKUP(H428,'FEMA COST CODE'!B:I,8,FALSE),\"\")","v":""}]
[null,null,null,null,null,null,null,null,{"$f":"IFERROR(VLOOKUP(H429,'FEMA COST CODE'!B:I,8,FALSE),\"\")","v":""}]
[null,null,null,null,null,null,null,null,{"$f":"IFERROR(VLOOKUP(H430,'FEMA COST CODE'!B:I,8,FALSE),\"\")","v":""}]
[null,null,null,null,null,null,null,null,{"$f":"IFERROR(VLOOKUP(H431,'FEMA COST CODE'!B:I,8,FALSE),\"\")","v":""}]
[null,null,null,null,null,null,null,null,{"$f":"IFERROR(VLOOKUP(H432,'FEMA COST CODE'!B:I,8,FALSE),\"\")","v":""}]
[null,null,null,null,null,null,null,null,{"$f":"IFERROR(VLOOKUP(H433,'FEMA COST CODE'!B:I,8,FALSE),\"\")","v":""}]
[null,null,null,null,null,null,null,null,{"$f":"IFERROR(VLOOKUP(H434,'FEMA COST CODE'!B:I,8,FALSE),\"\")","v":""}]
[null,null,null,null,null,null,null,null,{"$f":"IFERROR(VLOOKUP(H435,'FEMA COST CODE'!B:I,8,FALSE),\"\")","v":""}]
[null,null,null,null,null,null,null,null,{"$f":"IFERROR(VLOOKUP(H436,'FEMA COST CODE'!B:I,8,FALSE),\"\")","v":""}]
[null,null,null,null,null,null,null,null,{"$f":"IFERROR(VLOOKUP(H437,'FEMA COST CODE'!B:I,8,FALSE),\"\")","v":""}]
[null,null,null,null,null,null,null,null,{"$f":"IFERROR(VLOOKUP(H438,'FEMA COST CODE'!B:I,8,FALSE),\"\")","v":""}]
[null,null,null,null,null,null,null,null,{"$f":"IFERROR(VLOOKUP(H439,'FEMA COST CODE'!B:I,8,FALSE),\"\")","v":""}]
[null,null,null,null,null,null,null,null,{"$f":"IFERROR(VLOOKUP(H440,'FEMA COST CODE'!B:I,8,FALSE),\"\")","v":""}]
[null,null,null,null,null,null,null,null,{"$f":"IFERROR(VLOOKUP(H441,'FEMA COST CODE'!B:I,8,FALSE),\"\")","v":""}]
[null,null,null,null,null,null,null,null,{"$f":"IFERROR(VLOOKUP(H442,'FEMA COST CODE'!B:I,8,FALSE),\"\")","v":""}]
[null,null,null,null,null,null,null,null,{"$f":"IFERROR(VLOOKUP(H443,'FEMA COST CODE'!B:I,8,FALSE),\"\")","v":""}]
[null,null,null,null,null,null,null,null,{"$f":"IFERROR(VLOOKUP(H444,'FEMA COST CODE'!B:I,8,FALSE),\"\")","v":""}]
[null,null,null,null,null,null,null,null,{"$f":"IFERROR(VLOOKUP(H445,'FEMA COST CODE'!B:I,8,FALSE),\"\")","v":""}]
[null,null,null,null,null,null,null,null,{"$f":"IFERROR(VLOOKUP(H446,'FEMA COST CODE'!B:I,8,FALSE),\"\")","v":""}]
[null,null,null,null,null,null,null,null,{"$f":"IFERROR(VLOOKUP(H447,'FEMA COST CODE'!B:I,8,FALSE),\"\")","v":""}]
[null,null,null,null,null,null,null,null,{"$f":"IFERROR(VLOOKUP(H448,'FEMA COST CODE'!B:I,8,FALSE),\"\")","v":""}]
[null,null,null,null,null,null,null,null,{"$f":"IFERROR(VLOOKUP(H449,'FEMA COST CODE'!B:I,8,FALSE),\"\")","v":""}]
[null,null,null,null,null,null,null,null,{"$f":"IFERROR(VLOOKUP(H450,'FEMA COST CODE'!B:I,8,FALSE),\"\")","v":""}]
[null,null,null,null,null,null,null,null,{"$f":"IFERROR(VLOOKUP(H451,'FEMA COST CODE'!B:I,8,FALSE),\"\")","v":""}]
[null,null,null,null,null,null,null,null,{"$f":"IFERROR(VLOOKUP(H452,'FEMA COST CODE'!B:I,8,FALSE),\"\")","v":""}]
[null,null,null,null,null,null,null,null,{"$f":"IFERROR(VLOOKUP(H453,'FEMA COST CODE'!B:I,8,FALSE),\"\")","v":""}]
[null,null,null,null,null,null,null,null,{"$f":"IFERROR(VLOOKUP(H454,'FEMA COST CODE'!B:I,8,FALSE),\"\")","v":""}]
[null,null,null,null,null,null,null,null,{"$f":"IFERROR(VLOOKUP(H455,'FEMA COST CODE'!B:I,8,FALSE),\"\")","v":""}]
[null,null,null,null,null,null,null,null,{"$f":"IFERROR(VLOOKUP(H456,'FEMA COST CODE'!B:I,8,FALSE),\"\")","v":""}]
[null,null,null,null,null,null,null,null,{"$f":"IFERROR(VLOOKUP(H457,'FEMA COST CODE'!B:I,8,FALSE),\"\")","v":""}]
[null,null,null,null,null,null,null,null,{"$f":"IFERROR(VLOOKUP(H458,'FEMA COST CODE'!B:I,8,FALSE),\"\")","v":""}]
[null,null,null,null,null,null,null,null,{"$f":"IFERROR(VLOOKUP(H459,'FEMA COST CODE'!B:I,8,FALSE),\"\")","v":""}]
[null,null,null,null,null,null,null,null,{"$f":"IFERROR(VLOOKUP(H460,'FEMA COST CODE'!B:I,8,FALSE),\"\")","v":""}]
[null,null,null,null,null,null,null,null,{"$f":"IFERROR(VLOOKUP(H461,'FEMA COST CODE'!B:I,8,FALSE),\"\")","v":""}]
[null,null,null,null,null,null,null,null,{"$f":"IFERROR(VLOOKUP(H462,'FEMA COST CODE'!B:I,8,FALSE),\"\")","v":""}]
[null,null,null,null,null,null,null,null,{"$f":"IFERROR(VLOOKUP(H463,'FEMA COST CODE'!B:I,8,FALSE),\"\")","v":""}]
[null,null,null,null,null,null,null,null,{"$f":"IFERROR(VLOOKUP(H464,'FEMA COST CODE'!B:I,8,FALSE),\"\")","v":""}]
[null,null,null,null,null,null,null,null,{"$f":"IFERROR(VLOOKUP(H465,'FEMA COST CODE'!B:I,8,FALSE),\"\")","v":""}]
[null,null,null,null,null,null,null,null,{"$f":"IFERROR(VLOOKUP(H466,'FEMA COST CODE'!B:I,8,FALSE),\"\")","v":""}]
[null,null,null,null,null,null,null,null,{"$f":"IFERROR(VLOOKUP(H467,'FEMA COST CODE'!B:I,8,FALSE),\"\")","v":""}]
[null,null,null,null,null,null,null,null,{"$f":"IFERROR(VLOOKUP(H468,'FEMA COST CODE'!B:I,8,FALSE),\"\")","v":""}]
[null,null,null,null,null,null,null,null,{"$f":"IFERROR(VLOOKUP(H469,'FEMA COST CODE'!B:I,8,FALSE),\"\")","v":""}]
[null,null,null,null,null,null,null,null,{"$f":"IFERROR(VLOOKUP(H470,'FEMA COST CODE'!B:I,8,FALSE),\"\")","v":""}]
[null,null,null,null,null,null,null,null,{"$f":"IFERROR(VLOOKUP(H471,'FEMA COST CODE'!B:I,8,FALSE),\"\")","v":""}]
[null,null,null,null,null,null,null,null,{"$f":"IFERROR(VLOOKUP(H472,'FEMA COST CODE'!B:I,8,FALSE),\"\")","v":""}]
[null,null,null,null,null,null,null,null,{"$f":"IFERROR(VLOOKUP(H473,'FEMA COST CODE'!B:I,8,FALSE),\"\")","v":""}]
[null,null,null,null,null,null,null,null,{"$f":"IFERROR(VLOOKUP(H474,'FEMA COST CODE'!B:I,8,FALSE),\"\")","v":""}]
[null,null,null,null,null,null,null,null,{"$f":"IFERROR(VLOOKUP(H475,'FEMA COST CODE'!B:I,8,FALSE),\"\")","v":""}]
[null,null,null,null,null,null,null,null,{"$f":"IFERROR(VLOOKUP(H476,'FEMA COST CODE'!B:I,8,FALSE),\"\")","v":""}]
[null,null,null,null,null,null,null,null,{"$f":"IFERROR(VLOOKUP(H477,'FEMA COST CODE'!B:I,8,FALSE),\"\")","v":""}]
[null,null,null,null,null,null,null,null,{"$f":"IFERROR(VLOOKUP(H478,'FEMA COST CODE'!B:I,8,FALSE),\"\")","v":""}]
[null,null,null,null,null,null,null,null,{"$f":"IFERROR(VLOOKUP(H479,'FEMA COST CODE'!B:I,8,FALSE),\"\")","v":""}]
[null,null,null,null,null,null,null,null,{"$f":"IFERROR(VLOOKUP(H480,'FEMA COST CODE'!B:I,8,FALSE),\"\")","v":""}]
[null,null,null,null,null,null,null,null,{"$f":"IFERROR(VLOOKUP(H481,'FEMA COST CODE'!B:I,8,FALSE),\"\")","v":""}]
[null,null,null,null,null,null,null,null,{"$f":"IFERROR(VLOOKUP(H482,'FEMA COST CODE'!B:I,8,FALSE),\"\")","v":""}]
[null,null,null,null,null,null,null,null,{"$f":"IFERROR(VLOOKUP(H483,'FEMA COST CODE'!B:I,8,FALSE),\"\")","v":""}]
[null,null,null,null,null,null,null,null,{"$f":"IFERROR(VLOOKUP(H484,'FEMA COST CODE'!B:I,8,FALSE),\"\")","v":""}]
[null,null,null,null,null,null,null,null,{"$f":"IFERROR(VLOOKUP(H485,'FEMA COST CODE'!B:I,8,FALSE),\"\")","v":""}]
[null,null,null,null,null,null,null,null,{"$f":"IFERROR(VLOOKUP(H486,'FEMA COST CODE'!B:I,8,FALSE),\"\")","v":""}]
[null,null,null,null,null,null,null,null,{"$f":"IFERROR(VLOOKUP(H487,'FEMA COST CODE'!B:I,8,FALSE),\"\")","v":""}]
[null,null,null,null,null,null,null,null,{"$f":"IFERROR(VLOOKUP(H488,'FEMA COST CODE'!B:I,8,FALSE),\"\")","v":""}]
[null,null,null,null,null,null,null,null,{"$f":"IFERROR(VLOOKUP(H489,'FEMA COST CODE'!B:I,8,FALSE),\"\")","v":""}]
[null,null,null,null,null,null,null,null,{"$f":"IFERROR(VLOOKUP(H490,'FEMA COST CODE'!B:I,8,FALSE),\"\")","v":""}]
[null,null,null,null,null,null,null,null,{"$f":"IFERROR(VLOOKUP(H491,'FEMA COST CODE'!B:I,8,FALSE),\"\")","v":""}]
[null,null,null,null,null,null,null,null,{"$f":"IFERROR(VLOOKUP(H492,'FEMA COST CODE'!B:I,8,FALSE),\"\")","v":""}]
[null,null,null,null,null,null,null,null,{"$f":"IFERROR(VLOOKUP(H493,'FEMA COST CODE'!B:I,8,FALSE),\"\")","v":""}]
[null,null,null,null,null,null,null,null,{"$f":"IFERROR(VLOOKUP(H494,'FEMA COST CODE'!B:I,8,FALSE),\"\")","v":""}]
[null,null,null,null,null,null,null,null,{"$f":"IFERROR(VLOOKUP(H495,'FEMA COST CODE'!B:I,8,FALSE),\"\")","v":""}]
[null,null,null,null,null,null,null,null,{"$f":"IFERROR(VLOOKUP(H496,'FEMA COST CODE'!B:I,8,FALSE),\"\")","v":""}]
[null,null,null,null,null,null,null,null,{"$f":"IFERROR(VLOOKUP(H497,'FEMA COST CODE'!B:I,8,FALSE),\"\")","v":""}]
[null,null,null,null,null,null,null,null,{"$f":"IFERROR(VLOOKUP(H498,'FEMA COST CODE'!B:I,8,FALSE),\"\")","v":""}]
[null,null,null,null,null,null,null,null,{"$f":"IFERROR(VLOOKUP(H499,'FEMA COST CODE'!B:I,8,FALSE),\"\")","v":""}]
[null,null,null,null,null,null,null,null,{"$f":"IFERROR(VLOOKUP(H500,'FEMA COST CODE'!B:I,8,FALSE),\"\")","v":""}]
[null,null,null,null,null,null,null,null,{"$f":"IFERROR(VLOOKUP(H501,'FEMA COST CODE'!B:I,8,FALSE),\"\")","v":""}]
[null,null,null,null,null,null,null,null,{"$f":"IFERROR(VLOOKUP(H502,'FEMA COST CODE'!B:I,8,FALSE),\"\")","v":""}]
[null,null,null,null,null,null,null,null,{"$f":"IFERROR(VLOOKUP(H503,'FEMA COST CODE'!B:I,8,FALSE),\"\")","v":""}]
[null,null,null,null,null,null,null,null,{"$f":"IFERROR(VLOOKUP(H504,'FEMA COST CODE'!B:I,8,FALSE),\"\")","v":""}]
[null,null,null,null,null,null,null,null,{"$f":"IFERROR(VLOOKUP(H505,'FEMA COST CODE'!B:I,8,FALSE),\"\")","v":""}]
[null,null,null,null,null,null,null,null,{"$f":"IFERROR(VLOOKUP(H506,'FEMA COST CODE'!B:I,8,FALSE),\"\")","v":""}]
[null,null,null,null,null,null,null,null,{"$f":"IFERROR(VLOOKUP(H507,'FEMA COST CODE'!B:I,8,FALSE),\"\")","v":""}]
[null,null,null,null,null,null,null,null,{"$f":"IFERROR(VLOOKUP(H508,'FEMA COST CODE'!B:I,8,FALSE),\"\")","v":""}]
[null,null,null,null,null,null,null,null,{"$f":"IFERROR(VLOOKUP(H509,'FEMA COST CODE'!B:I,8,FALSE),\"\")","v":""}]
[null,null,null,null,null,null,null,null,{"$f":"IFERROR(VLOOKUP(H510,'FEMA COST CODE'!B:I,8,FALSE),\"\")","v":""}]
[null,null,null,null,null,null,null,null,{"$f":"IFERROR(VLOOKUP(H511,'FEMA COST CODE'!B:I,8,FALSE),\"\")","v":""}]
[null,null,null,null,null,null,null,null,{"$f":"IFERROR(VLOOKUP(H512,'FEMA COST CODE'!B:I,8,FALSE),\"\")","v":""}]
[null,null,null,null,null,null,null,null,{"$f":"IFERROR(VLOOKUP(H513,'FEMA COST CODE'!B:I,8,FALSE),\"\")","v":""}]
[null,null,null,null,null,null,null,null,{"$f":"IFERROR(VLOOKUP(H514,'FEMA COST CODE'!B:I,8,FALSE),\"\")","v":""}]
[null,null,null,null,null,null,null,null,{"$f":"IFERROR(VLOOKUP(H515,'FEMA COST CODE'!B:I,8,FALSE),\"\")","v":""}]
[null,null,null,null,null,null,null,null,{"$f":"IFERROR(VLOOKUP(H516,'FEMA COST CODE'!B:I,8,FALSE),\"\")","v":""}]
[null,null,null,null,null,null,null,null,{"$f":"IFERROR(VLOOKUP(H517,'FEMA COST CODE'!B:I,8,FALSE),\"\")","v":""}]
[null,null,null,null,null,null,null,null,{"$f":"IFERROR(VLOOKUP(H518,'FEMA COST CODE'!B:I,8,FALSE),\"\")","v":""}]
[null,null,null,null,null,null,null,null,{"$f":"IFERROR(VLOOKUP(H519,'FEMA COST CODE'!B:I,8,FALSE),\"\")","v":""}]
[null,null,null,null,null,null,null,null,{"$f":"IFERROR(VLOOKUP(H520,'FEMA COST CODE'!B:I,8,FALSE),\"\")","v":""}]
[null,null,null,null,null,null,null,null,{"$f":"IFERROR(VLOOKUP(H521,'FEMA COST CODE'!B:I,8,FALSE),\"\")","v":""}]
[null,null,null,null,null,null,null,null,{"$f":"IFERROR(VLOOKUP(H522,'FEMA COST CODE'!B:I,8,FALSE),\"\")","v":""}]
[null,null,null,null,null,null,null,null,{"$f":"IFERROR(VLOOKUP(H523,'FEMA COST CODE'!B:I,8,FALSE),\"\")","v":""}]
[null,null,null,null,null,null,null,null,{"$f":"IFERROR(VLOOKUP(H524,'FEMA COST CODE'!B:I,8,FALSE),\"\")","v":""}]
[null,null,null,null,null,null,null,null,{"$f":"IFERROR(VLOOKUP(H525,'FEMA COST CODE'!B:I,8,FALSE),\"\")","v":""}]
[null,null,null,null,null,null,null,null,{"$f":"IFERROR(VLOOKUP(H526,'FEMA COST CODE'!B:I,8,FALSE),\"\")","v":""}]
[null,null,null,null,null,null,null,null,{"$f":"IFERROR(VLOOKUP(H527,'FEMA COST CODE'!B:I,8,FALSE),\"\")","v":""}]
[null,null,null,null,null,null,null,null,{"$f":"IFERROR(VLOOKUP(H528,'FEMA COST CODE'!B:I,8,FALSE),\"\")","v":""}]
[null,null,null,null,null,null,null,null,{"$f":"IFERROR(VLOOKUP(H529,'FEMA COST CODE'!B:I,8,FALSE),\"\")","v":""}]
[null,null,null,null,null,null,null,null,{"$f":"IFERROR(VLOOKUP(H530,'FEMA COST CODE'!B:I,8,FALSE),\"\")","v":""}]
[null,null,null,null,null,null,null,null,{"$f":"IFERROR(VLOOKUP(H531,'FEMA COST CODE'!B:I,8,FALSE),\"\")","v":""}]
[null,null,null,null,null,null,null,null,{"$f":"IFERROR(VLOOKUP(H532,'FEMA COST CODE'!B:I,8,FALSE),\"\")","v":""}]
[null,null,null,null,null,null,null,null,{"$f":"IFERROR(VLOOKUP(H533,'FEMA COST CODE'!B:I,8,FALSE),\"\")","v":""}]
[null,null,null,null,null,null,null,null,{"$f":"IFERROR(VLOOKUP(H534,'FEMA COST CODE'!B:I,8,FALSE),\"\")","v":""}]
[null,null,null,null,null,null,null,null,{"$f":"IFERROR(VLOOKUP(H535,'FEMA COST CODE'!B:I,8,FALSE),\"\")","v":""}]
[null,null,null,null,null,null,null,null,{"$f":"IFERROR(VLOOKUP(H536,'FEMA COST CODE'!B:I,8,FALSE),\"\")","v":""}]
[null,null,null,null,null,null,null,null,{"$f":"IFERROR(VLOOKUP(H537,'FEMA COST CODE'!B:I,8,FALSE),\"\")","v":""}]
[null,null,null,null,null,null,null,null,{"$f":"IFERROR(VLOOKUP(H538,'FEMA COST CODE'!B:I,8,FALSE),\"\")","v":""}]
[null,null,null,null,null,null,null,null,{"$f":"IFERROR(VLOOKUP(H539,'FEMA COST CODE'!B:I,8,FALSE),\"\")","v":""}]
[null,null,null,null,null,null,null,null,{"$f":"IFERROR(VLOOKUP(H540,'FEMA COST CODE'!B:I,8,FALSE),\"\")","v":""}]
[null,null,null,null,null,null,null,null,{"$f":"IFERROR(VLOOKUP(H541,'FEMA COST CODE'!B:I,8,FALSE),\"\")","v":""}]
[null,null,null,null,null,null,null,null,{"$f":"IFERROR(VLOOKUP(H542,'FEMA COST CODE'!B:I,8,FALSE),\"\")","v":""}]
[null,null,null,null,null,null,null,null,{"$f":"IFERROR(VLOOKUP(H543,'FEMA COST CODE'!B:I,8,FALSE),\"\")","v":""}]
[null,null,null,null,null,null,null,null,{"$f":"IFERROR(VLOOKUP(H544,'FEMA COST CODE'!B:I,8,FALSE),\"\")","v":""}]
[null,null,null,null,null,null,null,null,{"$f":"IFERROR(VLOOKUP(H545,'FEMA COST CODE'!B:I,8,FALSE),\"\")","v":""}]
[null,null,null,null,null,null,null,null,{"$f":"IFERROR(VLOOKUP(H546,'FEMA COST CODE'!B:I,8,FALSE),\"\")","v":""}]
[null,null,null,null,null,null,null,null,{"$f":"IFERROR(VLOOKUP(H547,'FEMA COST CODE'!B:I,8,FALSE),\"\")","v":""}]
[null,null,null,null,null,null,null,null,{"$f":"IFERROR(VLOOKUP(H548,'FEMA COST CODE'!B:I,8,FALSE),\"\")","v":""}]
[null,null,null,null,null,null,null,null,{"$f":"IFERROR(VLOOKUP(H549,'FEMA COST CODE'!B:I,8,FALSE),\"\")","v":""}]
[null,null,null,null,null,null,null,null,{"$f":"IFERROR(VLOOKUP(H550,'FEMA COST CODE'!B:I,8,FALSE),\"\")","v":""}]
[null,null,null,null,null,null,null,null,{"$f":"IFERROR(VLOOKUP(H551,'FEMA COST CODE'!B:I,8,FALSE),\"\")","v":""}]
[null,null,null,null,null,null,null,null,{"$f":"IFERROR(VLOOKUP(H552,'FEMA COST CODE'!B:I,8,FALSE),\"\")","v":""}]
[null,null,null,null,null,null,null,null,{"$f":"IFERROR(VLOOKUP(H553,'FEMA COST CODE'!B:I,8,FALSE),\"\")","v":""}]
[null,null,null,null,null,null,null,null,{"$f":"IFERROR(VLOOKUP(H554,'FEMA COST CODE'!B:I,8,FALSE),\"\")","v":""}]
[null,null,null,null,null,null,null,null,{"$f":"IFERROR(VLOOKUP(H555,'FEMA COST CODE'!B:I,8,FALSE),\"\")","v":""}]
[null,null,null,null,null,null,null,null,{"$f":"IFERROR(VLOOKUP(H556,'FEMA COST CODE'!B:I,8,FALSE),\"\")","v":""}]
[null,null,null,null,null,null,null,null,{"$f":"IFERROR(VLOOKUP(H557,'FEMA COST CODE'!B:I,8,FALSE),\"\")","v":""}]
[null,null,null,null,null,null,null,null,{"$f":"IFERROR(VLOOKUP(H558,'FEMA COST CODE'!B:I,8,FALSE),\"\")","v":""}]
[null,null,null,null,null,null,null,null,{"$f":"IFERROR(VLOOKUP(H559,'FEMA COST CODE'!B:I,8,FALSE),\"\")","v":""}]
[null,null,null,null,null,null,null,null,{"$f":"IFERROR(VLOOKUP(H560,'FEMA COST CODE'!B:I,8,FALSE),\"\")","v":""}]
[null,null,null,null,null,null,null,null,{"$f":"IFERROR(VLOOKUP(H561,'FEMA COST CODE'!B:I,8,FALSE),\"\")","v":""}]
[null,null,null,null,null,null,null,null,{"$f":"IFERROR(VLOOKUP(H562,'FEMA COST CODE'!B:I,8,FALSE),\"\")","v":""}]
[null,null,null,null,null,null,null,null,{"$f":"IFERROR(VLOOKUP(H563,'FEMA COST CODE'!B:I,8,FALSE),\"\")","v":""}]
[null,null,null,null,null,null,null,null,{"$f":"IFERROR(VLOOKUP(H564,'FEMA COST CODE'!B:I,8,FALSE),\"\")","v":""}]
[null,null,null,null,null,null,null,null,{"$f":"IFERROR(VLOOKUP(H565,'FEMA COST CODE'!B:I,8,FALSE),\"\")","v":""}]
[null,null,null,null,null,null,null,null,{"$f":"IFERROR(VLOOKUP(H566,'FEMA COST CODE'!B:I,8,FALSE),\"\")","v":""}]
[null,null,null,null,null,null,null,null,{"$f":"IFERROR(VLOOKUP(H567,'FEMA COST CODE'!B:I,8,FALSE),\"\")","v":""}]
[null,null,null,null,null,null,null,null,{"$f":"IFERROR(VLOOKUP(H568,'FEMA COST CODE'!B:I,8,FALSE),\"\")","v":""}]
[null,null,null,null,null,null,null,null,{"$f":"IFERROR(VLOOKUP(H569,'FEMA COST CODE'!B:I,8,FALSE),\"\")","v":""}]
[null,null,null,null,null,null,null,null,{"$f":"IFERROR(VLOOKUP(H570,'FEMA COST CODE'!B:I,8,FALSE),\"\")","v":""}]
[null,null,null,null,null,null,null,null,{"$f":"IFERROR(VLOOKUP(H571,'FEMA COST CODE'!B:I,8,FALSE),\"\")","v":""}]
[null,null,null,null,null,null,null,null,{"$f":"IFERROR(VLOOKUP(H572,'FEMA COST CODE'!B:I,8,FALSE),\"\")","v":""}]
[null,null,null,null,null,null,null,null,{"$f":"IFERROR(VLOOKUP(H573,'FEMA COST CODE'!B:I,8,FALSE),\"\")","v":""}]
[null,null,null,null,null,null,null,null,{"$f":"IFERROR(VLOOKUP(H574,'FEMA COST CODE'!B:I,8,FALSE),\"\")","v":""}]
[null,null,null,null,null,null,null,null,{"$f":"IFERROR(VLOOKUP(H575,'FEMA COST CODE'!B:I,8,FALSE),\"\")","v":""}]
[null,null,null,null,null,null,null,null,{"$f":"IFERROR(VLOOKUP(H576,'FEMA COST CODE'!B:I,8,FALSE),\"\")","v":""}]
[null,null,null,null,null,null,null,null,{"$f":"IFERROR(VLOOKUP(H577,'FEMA COST CODE'!B:I,8,FALSE),\"\")","v":""}]
[null,null,null,null,null,null,null,null,{"$f":"IFERROR(VLOOKUP(H578,'FEMA COST CODE'!B:I,8,FALSE),\"\")","v":""}]
[null,null,null,null,null,null,null,null,{"$f":"IFERROR(VLOOKUP(H579,'FEMA COST CODE'!B:I,8,FALSE),\"\")","v":""}]
[null,null,null,null,null,null,null,null,{"$f":"IFERROR(VLOOKUP(H580,'FEMA COST CODE'!B:I,8,FALSE),\"\")","v":""}]
[null,null,null,null,null,null,null,null,{"$f":"IFERROR(VLOOKUP(H581,'FEMA COST CODE'!B:I,8,FALSE),\"\")","v":""}]
[null,null,null,null,null,null,null,null,{"$f":"IFERROR(VLOOKUP(H582,'FEMA COST CODE'!B:I,8,FALSE),\"\")","v":""}]
[null,null,null,null,null,null,null,null,{"$f":"IFERROR(VLOOKUP(H583,'FEMA COST CODE'!B:I,8,FALSE),\"\")","v":""}]
[null,null,null,null,null,null,null,null,{"$f":"IFERROR(VLOOKUP(H584,'FEMA COST CODE'!B:I,8,FALSE),\"\")","v":""}]
[null,null,null,null,null,null,null,null,{"$f":"IFERROR(VLOOKUP(H585,'FEMA COST CODE'!B:I,8,FALSE),\"\")","v":""}]
[null,null,null,null,null,null,null,null,{"$f":"IFERROR(VLOOKUP(H586,'FEMA COST CODE'!B:I,8,FALSE),\"\")","v":""}]
[null,null,null,null,null,null,null,null,{"$f":"IFERROR(VLOOKUP(H587,'FEMA COST CODE'!B:I,8,FALSE),\"\")","v":""}]
[null,null,null,null,null,null,null,null,{"$f":"IFERROR(VLOOKUP(H588,'FEMA COST CODE'!B:I,8,FALSE),\"\")","v":""}]
[null,null,null,null,null,null,null,null,{"$f":"IFERROR(VLOOKUP(H589,'FEMA COST CODE'!B:I,8,FALSE),\"\")","v":""}]
[null,null,null,null,null,null,null,null,{"$f":"IFERROR(VLOOKUP(H590,'FEMA COST CODE'!B:I,8,FALSE),\"\")","v":""}]
[null,null,null,null,null,null,null,null,{"$f":"IFERROR(VLOOKUP(H591,'FEMA COST CODE'!B:I,8,FALSE),\"\")","v":""}]
[null,null,null,null,null,null,null,null,{"$f":"IFERROR(VLOOKUP(H592,'FEMA COST CODE'!B:I,8,FALSE),\"\")","v":""}]
[null,null,null,null,null,null,null,null,{"$f":"IFERROR(VLOOKUP(H593,'FEMA COST CODE'!B:I,8,FALSE),\"\")","v":""}]
[null,null,null,null,null,null,null,null,{"$f":"IFERROR(VLOOKUP(H594,'FEMA COST CODE'!B:I,8,FALSE),\"\")","v":""}]
[null,null,null,null,null,null,null,null,{"$f":"IFERROR(VLOOKUP(H595,'FEMA COST CODE'!B:I,8,FALSE),\"\")","v":""}]
[null,null,null,null,null,null,null,null,{"$f":"IFERROR(VLOOKUP(H596,'FEMA COST CODE'!B:I,8,FALSE),\"\")","v":""}]
[null,null,null,null,null,null,null,null,{"$f":"IFERROR(VLOOKUP(H597,'FEMA COST CODE'!B:I,8,FALSE),\"\")","v":""}]
[null,null,null,null,null,null,null,null,{"$f":"IFERROR(VLOOKUP(H598,'FEMA COST CODE'!B:I,8,FALSE),\"\")","v":""}]
[null,null,null,null,null,null,null,null,{"$f":"IFERROR(VLOOKUP(H599,'FEMA COST CODE'!B:I,8,FALSE),\"\")","v":""}]
[null,null,null,null,null,null,null,null,{"$f":"IFERROR(VLOOKUP(H600,'FEMA COST CODE'!B:I,8,FALSE),\"\")","v":""}]
[null,null,null,null,null,null,null,null,{"$f":"IFERROR(VLOOKUP(H601,'FEMA COST CODE'!B:I,8,FALSE),\"\")","v":""}]

{"sheet":"CONTRACTS","index":11,"n_rows":151,"n_cols":12,"rows_kept":151,"cut":false,"hidden":false,"merged":[[150,4,150,6],[73,8,73,10],[74,8,74,10],[75,4,75,6],[76,4,76,6],[105,8,105,10],[106,8,106,10],[107,8,107,10],[108,8,108,10],[112,4,112,6],[144,8,144,10],[145,8,145,10],[146,8,146,10],[147,8,147,10],[148,8,148,10],[137,8,137,10],[138,8,138,10],[143,8,143,10],[117,8,117,10],[118,8,118,10],[119,8,119,10],[120,8,120,10],[121,8,121,10],[116,8,116,10],[113,4,113,6],[139,8,139,10],[140,8,140,10],[141,8,141,10],[142,8,142,10],[149,4,149,6],[132,8,132,10],[133,8,133,10],[134,8,134,10],[135,8,135,10],[136,8,136,10],[127,8,127,10],[128,8,128,10],[129,8,129,10],[130,8,130,10],[131,8,131,10],[122,8,122,10],[123,8,123,10],[124,8,124,10],[125,8,125,10],[126,8,126,10],[109,8,109,10],[110,8,110,10],[111,8,111,10],[100,8,100,10],[101,8,101,10],[102,8,102,10],[103,8,103,10],[104,8,104,10],[95,8,95,10],[96,8,96,10],[97,8,97,10],[98,8,98,10],[99,8,99,10],[90,8,90,10],[91,8,91,10],[92,8,92,10],[93,8,93,10],[94,8,94,10],[85,8,85,10],[86,8,86,10],[87,8,87,10],[88,8,88,10],[89,8,89,10],[80,8,80,10],[81,8,81,10],[82,8,82,10],[83,8,83,10],[84,8,84,10],[79,8,79,10],[27,8,27,10],[28,8,28,10],[29,8,29,10],[30,8,30,10],[31,8,31,10],[32,8,32,10],[33,8,33,10],[34,8,34,10],[37,8,37,10],[36,8,36,10],[35,8,35,10],[42,8,42,10],[43,8,43,10],[44,8,44,10],[45,8,45,10],[46,8,46,10],[47,8,47,10],[48,8,48,10],[1,1,1,10],[2,1,2,10],[4,1,4,2],[5,8,5,10],[6,8,6,10],[7,8,7,10],[3,1,3,2],[25,8,25,10],[21,8,21,10],[19,8,19,10],[20,8,20,10],[23,8,23,10],[24,8,24,10],[3,5,3,10],[4,5,4,10],[3,3,3,4],[4,3,4,4],[12,8,12,10],[13,8,13,10],[18,8,18,10],[68,8,68,10],[69,8,69,10],[70,8,70,10],[71,8,71,10],[49,8,49,10],[58,8,58,10],[59,8,59,10],[60,8,60,10],[61,8,61,10],[64,8,64,10],[65,8,65,10],[66,8,66,10],[72,8,72,10],[39,4,39,6],[8,8,8,10],[9,8,9,10],[10,8,10,10],[22,8,22,10],[11,8,11,10],[26,8,26,10],[38,4,38,6],[50,8,50,10],[51,8,51,10],[52,8,52,10],[53,8,53,10],[54,8,54,10],[55,8,55,10],[56,8,56,10],[57,8,57,10],[67,8,67,10],[62,8,62,10],[63,8,63,10],[14,8,14,10],[15,8,15,10],[17,8,17,10],[16,8,16,10]]}
[]
[]
[null,"CONTRACTS"]
[null,"APPLICANT NAME",null,"DISASTER #",null,"DISASTER TITLE"]
[null,{"$f":"IF('PAYROLL RECORD'!B5=\"\",\"\",'PAYROLL RECORD'!B5)","v":""},null,{"$f":"IF('PAYROLL RECORD'!D5=\"\",\"\",'PAYROLL RECORD'!D5)","v":""},null,{"$f":"IF('PAYROLL RECORD'!G5=\"\",\"\",'PAYROLL RECORD'!G5)","v":""}]
[null,"Vendor","Description of work performed","REQUEST #","Invoice No:","Dates Worked:","Total Invoice Amount","Total Claim Amount","Comments"]
[]
[]
[]
[]
[]
[]
[]
[]
[]
[]
[]
[]
[]
[]
[]
[]
[]
[]
[]
[]
[]
[]
[]
[]
[]
[]
[]
[]
[]
[]
[null,null,null,null,null,null,null,null,null,null,null,"CONT. PG TOTAL"]
[null,null,null,null,null,null,null,null,null,null,null,{"$f":"$H39","v":0}]
[null,null,null,null,"CONTRACTS - PAGE TOTAL",null,null,{"$f":"SUM(H7:H38)","v":0}]
[null,null,null,null,"CONTRACTS - GRAND TOTAL",null,null,{"$f":"SUM(L:L)","v":0}]
[null,null,null,null,null,null,null,null,null,null,null," "]
[]
[null,"Vendor","Description of work performed","REQUEST #","Invoice No:","Dates Worked:","Total Invoice Amount","Total Claim Amount","Comments"]
[]
[]
[]
[]
[]
[]
[]
[]
[]
[]
[]
[]
[]
[]
[]
[]
[]
[]
[]
[]
[]
[]
[]
[]
[]
[]
[]
[]
[]
[]
[null,null,null,null,null,null,null,null,null,null,null,"CONT. PG TOTAL"]
[null,null,null,null,null,null,null,null,null,null,null,{"$f":"$H76","v":0}]
[null,null,null,null,"CONTRACTS - PAGE TOTAL",null,null,{"$f":"SUM(H44:H75)","v":0}]
[null,null,null,null,"CONTRACTS - GRAND TOTAL",null,null,{"$f":"SUM(L:L)","v":0}]
[]
[]
[null,"Vendor","Description of work performed","REQUEST #","Invoice No:","Dates Worked:","Total Invoice Amount","Total Claim Amount","Comments"]
[]
[]
[]
[]
[]
[]
[]
[]
[]
[]
[]
[]
[]
[]
[]
[]
[]
[]
[]
[]
[]
[]
[]
[]
[]
[]
[]
[]
[]
[]
[null,null,null,null,null,null,null,null,null,null,null,"CONT. PG TOTAL"]
[null,null,null,null,null,null,null,null,null,null,null,{"$f":"$H113","v":0}]
[null,null,null,null,"CONTRACTS - PAGE TOTAL",null,null,{"$f":"SUM(H81:H112)","v":0}]
[null,null,null,null,"CONTRACTS - GRAND TOTAL",null,null,{"$f":"SUM(L:L)","v":0}]
[]
[]
[null,"Vendor","Description of work performed","REQUEST #","Invoice No:","Dates Worked:","Total Invoice Amount","Total Claim Amount","Comments"]
[]
[]
[]
[]
[]
[]
[]
[]
[]
[]
[]
[]
[]
[]
[]
[]
[]
[]
[]
[]
[]
[]
[]
[]
[]
[]
[]
[]
[]
[]
[null,null,null,null,null,null,null,null,null,null,null,"CONT. PG TOTAL"]
[null,null,null,null,null,null,null,null,null,null,null,{"$f":"$H150","v":0}]
[null,null,null,null,"CONTRACTS - PAGE TOTAL",null,null,{"$f":"SUM(H118:H149)","v":0}]
[null,null,null,null,"CONTRACTS - GRAND TOTAL",null,null,{"$f":"SUM(L:L)","v":0}]

{"sheet":"FEMA COST CODE","index":12,"n_rows":556,"n_cols":9,"rows_kept":556,"cut":false,"hidden":false,"merged":[[1,1,2,8]]}
[]
[null,"THESE RATES ARE APPLICABLE TO MAJOR DISASTERS AND EMERGENCIES DECLARED BY THE PRESIDENT ON OR AFTER JULY 26, 2023."]
[]
[null,"Cost\nCode","Equipment","Specifications","Capacity or Size","HP","Notes","Unit","2023 Rate"]
[null,8010,"Air Compressor","Miscellaneous Tank Mounted Air Compressors\n80/25","41 CFM","to 10","Hoses included","hour",1.28]
[null,8011,"Air Compressor","Multiquip DIS100SSK4F","103 CFM","to 30","Hoses included","hour",20.32]
[null,8012,"Air Compressor","Sullivan-Palatek D130Q6IZ","130 CFM","to 50","Hoses included","hour",28.56]
[null,8013,"Air Compressor","Grimmer-Schmidt 175","175 CFM","to 90","Hoses included","hour",31.69]
[null,8014,"Air Compressor","Sullivan-Palatek D375QH6CA","400 CFM","to 145","Hoses included","hour",68.709999999999994]
[null,8015,"Air Compressor","Grimmer-Schmidt 800","575 CFM","to 230","Hoses included","hour",108.12]
[null,8016,"Air Compressor","Ingersoll Rand XP1200WCU","1100 CFM","to 355","Hoses included","hour",172.25]
[null,8017,"Air Compressor","Sullair 1600DTQCA","1600 CFM","to 500","Hoses included","hour",182.81]
[null,8040,"Ambulance",null,"GVW 8600 Pounds","to 298",null,"hour",39.28]
[null,8041,"Ambulance",null,"GVW 11000 Pounds","to 414",null,"hour",48.32]
[null,8050,"Board, Arrow","Miscellaneous Trailer mounted Arrow Boards",null,"to 8","Trailer Mounted","hour",5.71]
[null,8051,"Board, Message","Miscellaneous CMSBBI",null,"to 5","Trailer Mounted","hour",11.62]
[null,8060,"Auger, Portable","Miscellaneous One Man Wheel Mount","16 In","to 6",null,"hour",2.0699999999999998]
[null,8061,"Auger, Portable","Miscellaneous Portable Earth Auger","18 In","to 13",null,"hour",5.09]
[null,8062,"Auger, Tractor Mntd","Miscellaneous TLB Auger Mount","36 In","to 13","Includes digger, boom & mounting hardware","hour",2.77]
[null,8063,"Auger, Truck Mntd","Miscellaneous DH-Avg","24 In","to 100","8'x8'x10' Drophammer","hour",48.94]
[null,8064,"Hydraulic Post Driver","Miscellaneous VIB-Avg","24 In","to 100","Hyd. Impact Hammer","hour",53.28]
[null,8065,"Auger","Horizontal Directional Boring\nMachine","250 X 100","to 300","DD-140B YR-2003","hour",235.66]
[]
[null,8067,"Auger, Directional Boring Machine","Miscellaneous 7K - Horizontal Drilling\nMachines","7,000 lbs","to 25","Maximum Thrust 7K Lbs","hour",80.23]
[null,"8067-1","Directional Boring Machine","Vermeer D24X40A (disc. 2001)","Spindle Torque 4000 ft/lb","to 125",null,"hour",196.01]
[null,8068,"Bush Hog","New Holland 272GMS","72-IN cutting width",0,null,"hour",14.58]
[null,"8068-1","Bush Hog","Vermeer MC3700","12-FT cutting width",0,null,"hour",8.56]
[null,"8068-2","Bush Hog","Bush Hog 2820 Average Retail Rental Rates","85-IN cutting width",0,null,"hour",47.5]
[null,8070,"Automobile","2018 Ford Fusion S Sedan MSRP",null,"to 130",null,"hour",0.68]
[null,8071,"Automobile","2007 Ford F150 XL Reg Cab 4x2",null,"to 130",null,"hour",25.8]
[]
[null,8073,"Automobile, Police","2018 Ford Police Interceptor sedan MSRP,\nFord Government Sales",null,"to 250",null,"hour",19.89]
[null,8074,"Automobile, Police","Ford Explorer",null,"to 210",null,"hour",22.91]
[null,8075,"Motorcycle, Police","Honda ST1300PA Police Motorcycle MSRP",null,0,null,"hour",0.63]
[null,8076,"Automobile - Chevy Trailblazer","Avalanche 4x4 Gas (Disc. 2009)",null,"to 282",null,"mile",42.27]
[null,8077,"Automobile - Ford Expedition","On-Highway Light Duty Trucks - 4X4 1 1/2 310\nCONV DIESEL",null,"to 310","Fire Command Center","hour",30.2]
[null,8078,"MRAP Armored Rescue Vehicle","Military Surplus Vehicle",null,"375-450",null,"hour",64.180000000000007]
[null,8079,"MRAP C-MTV","gvwr 55000 Lbs",null,"to 350",null,"hour",59.91]
[null,8080,"All Terrain Vehicle","Polaris Youth Sportsman 110 EFI",null,"6.5-7.5",null,"hour",10.37]
[null,8081,"All Terrain Vehicle","Polaris Youth Phoenix 200",null,"7.6-8.6",null,"hour",11.14]
[null,8082,"All Terrain Vehicle","Ranger 150 EFI",null,"9.0-10.0",null,"hour",14.84]
[null,8083,"All Terrain Vehicle","RZR 200 EFI",null,"12-14.0",null,"hour",12.01]
[null,8084,"All Terrain Vehicle","Factored from 8080 ($$/cc)",null,"15-17",null,"hour",6.24]
[null,8085,"All Terrain Vehicle","Vitacci Terminator 300cc",null,"18-20",null,"hour",7.54]
[null,8086,"All Terrain Vehicle","Gasoline",null,"26-28","Rate interpolated","hour",12.52]
[null,8087,"All Terrain Vehicle","Gasoline",null,"26-28","Rate interpolated","hour",13.46]
[null,8088,"All Terrain Vehicle","Gasoline",null,"38-40","Rate interpolated","hour",17.2]
[null,8089,"All Terrain Vehicle",null,null,"44-46","Rate interpolated","hour",19.07]
[null,8090,"All Terrain Vehicle","Polaris Ranger XP900",null,"to 100",null,"hour",21.87]
[null,8091,"All Terrain Vehicle",null,null,0,"Rate interpolated","hour",23.74]
[null,8110,"Barge, Deck","Miscellaneous Deck Cargo Barges",null,0,null,"hour",50.8]
[null,8111,"Barge, Deck","Miscellaneous 300 -  Deck Cargo Barges","50'x35'x9'","N/A","Push by Tug-Boat","hour",53.15]
[null,8112,"Barge, Deck","Miscellaneous Deck 1100 -  Deck Cargo Barges","120'x45'x10-FT","N/A","Push by Tug-Boat","hour",93.74]
[null,8113,"Barge, Deck","Miscellaneous 1250 - Deck Cargo Barges","140'x45'x10-FT","N/A","Push by Tug-Boat","hour",103.75]
[null,"A","B","C","D","E","F","G","H"]
[null,"Cost Code","Equipment","Specifications/Manufacturer","Capacity or Size","HP","Notes","Unit","2023 Rates"]
[null,8120,"Boat, Tow","Miscellaneous 55 - Tow Boats","50' - 64'","to 870","Steel","hour",411.9]
[null,8121,"Boat, Tow","Miscellaneous 60 21 - Tow Boats","50' - 64'","to 1050","Steel","hour",481.57]
[null,8122,"Boat, Tow","Miscellaneous 70 30 -  Tow Boats","65' - 99'","to 1350","Steel","hour",712.28]
[null,8123,"Boat, Tow","Miscellaneous 120 -  Tow Boats","100' - 124''","to 2000","Steel","hour",1330.55]
[null,8124,"Airboat","815 AGIS Airboat w/spray unit",null,"to 556",null,"hour",32.18]
[null,8125,"Airboat","815 AGIS Airboat w/spray unit",null,"to 450",null,"hour",32.53]
[null,8126,"Swamp Buggy","ARGO Conquest 800 Outfitter",null,"to 36",null,"hour",35.99]
[null,8129,"Compactor, 2-ton pavement roller","Bid-well 2450","to 76'","to 40",null,"hour",30.1]
[null,8130,"Boat, Row","Miscellaneous Rowboat",null,"N/A","Heavy duty","hour",1.2]
[null,8131,"Boat, Runabout","Marine Equipment Runabouts - 13",null,"to 60",null,"hour",20.51]
[null,8132,"Boat, Tender","Marine Equipment Tenders - 12","to 16'","to 100","Inboard with 360 degree drive","hour",39.159999999999997]
[null,8133,"Boat, Push","Miscellaneous 400 -  Push Boats","to 49'","to 435","Flat hull","hour",254.4]
[null,8134,"Boat, Push","Miscellaneous 525 - Push Boats","50' - 74'","to 525","Flat hull","hour",311.94]
[null,8135,"Boat, Push","Miscellaneous 705 - Push Boats","50' - 74'","to 705","Flat hull","hour",400.41]
[null,8136,"Boat, Push","Miscellaneous 870 - Push Boats","50' - 74'","to 870","Flat hull","hour",460.26]
[null,8137,"Boat, Debris Removal Skiff","Debris Removal Skiff","Length 48'","to 200","New 2023 rate","hour",154.85]
[null,8138,"Boat, Jet","Boat, Jet (Woolridge Xtra Plus Inboard)","Length 20' 4\"","to 100","Shallow Draft","hour",30.93]
[null,8140,"Boat, Tug","Miscellaneous 100 - Inland Tug Boats","Length 16'","to 100","Shallow Draft","hour",54.53]
[null,8141,"Boat, Tug","Miscellaneous 175 - Inland Tug Boats","Length 18'","to 175","With Steering Nozzle","hour",88.35]
[null,8142,"Boat, Tug","Miscellaneous 250 - Inland Tug Boats","Length 26'","to 250","With Steering Nozzle","hour",118.32]
[null,8143,"Boat, Tug","Miscellaneous 380 - Inland Tug Boats","Length 40'","to 380","Standard Rudder","hour",238.82]
[null,8144,"Boat, Tug","Miscellaneous 700 - Inland Tug Boats","Length 51'","to 700","Twin Screw","hour",372.31]
[null,8145,"Jet Ski","2002 Seadoo GTX","Gasoline","to 155",null,"hour",34.32]
[null,8146,"Jet Ski","2018 Seadoo GTX","Gasoline","to 200",null,"hour",10.66]
[null,8147,"Boat, Inflatable Rescue Raft","Zodiac C310 Solid 10’2″",null,0,"No outboard engine. Max for the C310 is 10-HP.","hour",1.4]
[null,8148,"Boat, Runabout","Marine Equipment Runabouts - 13","Gasoline","to 50",null,"hour",20.51]
[null,8149,"Boat, removable engine","2000 Johnson Outboard Motor","Gasoline","to 220",null,"hour",1.96]
[null,8150,"Self Propelled Pavement Brooms","Lay-Mor 6HC/8HC",null,"to 37",null,"hour",69.040000000000006]
[null,8151,"Self Propelled Pavement Brooms","Broce RC-350 (disc. 2011)","96\"","to 76",null,"hour",95.85]
[null,8153,"Broom, Pavement, Mounted","Miscellaneous TRAC MOUNT PTO DRIVE - For\nMounting Pavement Brooms","72\"",null,"Power Takeoff","hour",4.59]
[null,8154,"Broom, Pavement, Pull","Miscellaneous TRACTION PT - Pull Type\nPavement Brooms","84\"",null,"Pull Type","hour",35.450000000000003]
[null,"8154-1","Skid Steer for Broom","Bobcat 453 (disc. 2001)",null,"to 15.7","for propelling mounted broom","hour",27.47]
[null,8155,"Self Propelled Pavement Brooms","Terramite TSS46","6 or 8-FT broom heads","to 33",null,"hour",63.05]
[null,8157,"Sweeper, Pavement","Elgin - Pelican SE","66\" & 36\" broom widths, 3.6-CY hopper","to 100",null,"hour",184.2]
[null,8158,"Sweeper, Pavement","Five Star - Broom Bear","Max 120” sweep width, 4.5-CY hopper","to 230","Freightliner FL70 engine","hour",215.77]
[null,8180,"Bus",null,null,"to 185",null,"hour",41.46]
[null,8181,"Bus",null,null,"to 100",null,"hour",31.99]
[null,8182,"Bus",null,null,"to 230",null,"hour",49.13]
[null,8183,"Blower",null,null,"to 27",null,"hour",19.079999999999998]
[null,"8183-1","Mosquito Sprayer","Adapco - Guardian 95 ES","to 186 CFM","to 9.5","Trailer Mounted","hour",23.33]
[null,8184,"Back-pack Blower",null,null,"to 4.4",null,"hour",1.9]
[null,8185,"Walkbehind Blower",null,null,"to 13",null,"hour",8.4600000000000009]
[null,8187,"Chainsaw","Bar Length = 20\"","3.0 cu in","to 3","Heavy Duty","hour",1.96]
[null,8188,"Chainsaw","Bar Length = 20\"","5.0 cu in","to 6","Heavy Duty","hour",3.16]
[null,8189,"Chainsaw","Bar Length = 20\"","6.0 cu in","to 7","Heavy Duty","hour",3.57]
[null,8190,"Chainsaw","Bar Length = 16\"","2.5 cu in","to 2","Light Duty","hour",2.02]
[null,8191,"Chainsaw","Bar Length = 25\"","7.0 cu in","to 9","Heavy Duty","hour",4.79]
[null,8192,"Chainsaw, Pole","Bar Length = 18\"",null,"N/A","Hydraulic","hour",2.76]
[null,8193,"Skidder, Log","Deere 748E (disc. 1995)","11.52 ft2","to 165",null,"hour",116.1]
[null,8194,"Skidder, Log","Deere 648G II (disc. 2000)","10.45 ft2","to 153",null,"hour",120.55]
[null,8195,"Cutter, Brush","Kershaw 800 (disc. 1998)","7 ft 8 in","to 185","Cutting Width","hour",139.24]
[null,8196,"Cutter, Brush","Kershaw 10-8 (disc. 1993)","7 ft 8 in","to 210","Cutting Width","hour",158.04]
[null,8197,"Cutter, Brush","Kershaw 1200 (disc. 2010)","9 ft 9 in","to 245","Cutting Width. Will process up to 8\" diameter\nmaterial","hour",193.89]
[null,8198,"Buncher, Cutter","Caterpillar 511 Feller Buncher","26.6 ft reach","to 247",null,"hour",229.05]
[null,"A","B","C","D","E","F","G","H"]
[null,"Cost Code","Equipment","Specifications/Manufacturer","Capacity or Size","HP","Notes","Unit","2023 Rates"]
[null,8199,"Log Trailer","Log Trailer (Fixed Gooseneck Trailer Level 3 40)","40 tons","N/A","Deck Length 13 - 47 ft","hour",15.77]
[null,8200,"Chipper, Brush","Woodchuck WC-9HD (disc. 2000)",null,"to 37",null,"hour",42.15]
[null,8201,"Chipper, Brush","Bandit 65 (disc. 2002)","6 In","to 33",null,"hour",55.16]
[null,8202,"Chipper, Brush","Vermeer 1600A (disc. 2002)","8 In","to 100","Trailer Mounted","hour",68.02]
[null,8203,"Chipper, Brush","Mitts & Merrill K12F6 (disc. 2006)","8 In","to 125","Trailer Mounted","hour",72.28]
[null,8204,"Chipper, Brush","Morbark Eeger Beever 1922","19 In","to 174",null,"hour",137.84]
[null,8208,"Loader - Tractor - Knuckleboom","2022 Barko 595ML Crawler Mounted Log\nLoader","7,770 lbs (32' radius) to 38,180 lbs 12'\nradius","to 165",null,"hour",197.06]
[null,8209,"Loader - Wheel","Deere 644L Hybrid","4.3 cu yd","to 231",null,"hour",94.2]
[null,8210,"Clamshell & Dragline, Crawler","Northwest 50-D/5065","149,999 lbs","to 238","Bucket not included in rate","hour",129.08000000000001]
[null,8211,"Clamshell & Dragline, Crawler","Northwest 180-D (76 ton)","250,000 lbs","to 520","Bucket not included in rate","hour",189.13]
[null,8212,"Clamshell, Truck mounted","American 5530","to 150,000 lbs","Carrier HP: 238\nCrane HP: 128",null,"hour",121.14]
[null,8218,"BOMAG Compactor","BW100AD-3",null,"to 33","Tandem Vibratory Compactor","hour",73.819999999999993]
[null,8219,"Compactor -2-Ton Pavement Roller","Single Drum Vibratory Compactor",null,"to 28",null,"hour",64.05]
[null,8220,"Compactor, Hand Held","Miscellaneous Hand Held Vibratory Compactor",null,"to 10",null,"hour",43.36]
[null,8221,"Compactor, towed, vibratory drum","Essick VR-54TEDD (disc. 1991)","Smooth Drum Width 54\"","to 45","Plus towing vehicle","hour",30.51]
[null,8222,"Compactor, vibratory drum","2013 BOMAG BW-120AD-4 (disc. 2013)","Drum Width 47.2\"","to 34",null,"hour",64.73]
[null,8223,"Compactor, pnuematic, wheel","BOMAG BW11-RH","68\" width","to 85",null,"hour",122.99]
[null,8224,"Vibratory Compactor","CATERPILLAR CP-563D (disc. 2003)","Drum Width 51\"","to 145","Single Drum","hour",155.03]
[null,8225,"Compactor, Sanitation","CMI Terex 3-35C (disc. 2009)",null,"to 200",null,"hour",227.07]
[null,8226,"Compactor, Sanitation","Terex TC400",null,"to 390",null,"hour",281.94]
[null,8227,"Compactor, Sanitation","836 (disc. 2001)",null,"to 450",null,"hour",463.02]
[null,8228,"Compactor, towed, pneumatic, wheel","Hercules PT-11","13 tons","N/A","11-Wheels (Towed)","hour",16.07]
[null,8229,"Compactor, Towed Steel Drum Static\nCompactor","Hercules GTD 54120",null,"N/A",null,"hour",25.54]
[null,8240,"Feeder, Grizzly","Misc Vibratory Grizzly Feeder, 35\" x 14', single\ndeck",null,"to 30",null,"hour",22.98]
[null,8241,"Feeder, Grizzly","Misc Vibratory Grizzly Feeder, 52\" x 20', single\ndeck",null,"to 40",null,"hour",29.63]
[null,8242,"Feeder, Grizzly","Misc Vibratory Grizzly Feeder, 62\" x 30',\ndouble deck",null,"to 75",null,"hour",61.22]
[null,8250,"Dozer, crawler","Komatsu D37E-2 (disc. 1993)",null,"to 75",null,"hour",114.27]
[null,8251,"Dozer, crawler","Case 850K LGP (disc. 2004)","2.6 cu yd","to 96",null,"hour",103.66]
[null,8252,"Dozer, crawler","Caterpillar D6E (disc. 1996)",null,"to 155",null,"hour",125.64]
[null,8253,"Dozer, crawler","Komatsu D87E-2 (disc. 2004)","9.2 cu yd","to 230",null,"hour",199.6]
[null,8254,"Dozer, crawler","Caterpillar D8R SERIES II (disc. 2013","11.4 cu yd","to 307",null,"hour",311.49]
[null,8255,"Dozer, crawler","Caterpillar D10T (disc. 2014)","24.2 cu yd","to 574","Semi-U Blade","hour",364.36]
[null,8256,"Dozer, crawler","Caterpillar D11R (disc. 2007)","45.0 cu yd","to 850",null,"hour",504.68]
[null,8260,"Dozer, wheel","Caterpillar 814F (disc. 2006)","3.49 cu yd","to 240",null,"hour",116.72]
[null,8261,"Dozer, wheel","Caterpillar 824G II (disc. 2006)","6.11 cu yd","to 339",null,"hour",178.87]
[null,8262,"Dozer, wheel","Caterpillar 834G (disc. 2006)","10.33 cu yd","to 477",null,"hour",228.4]
[null,8263,"Dozer, wheel","Caterpillar 844G (disc. 2009)",null,"to 625","Semi-U Blade","hour",390.77]
[null,8269,"Box Scraper","84\" Rome Model 5C Pull Scraper","4.1 cu yd","N/A","Add 60 HP tractor for pulling","hour",19.78]
[null,8270,"Bucket, Clamshell","Miscellaneous 1LW","1.0 CY","N/A","Includes teeth. Does not include\nClamshell & Dragline","hour",3.85]
[null,8271,"Bucket, Clamshell","Miscellaneous 2-1/2LW","2.5 CY","N/A","Includes teeth. Does not include\nClamshell & Dragline","hour",6.91]
[null,8272,"Bucket, Clamshell","Miscellaneous 5LW","5.0 CY","N/A","Includes teeth. Does not include\nClamshell & Dragline","hour",10.42]
[null,8273,"Bucket, Clamshell","Miscellaneous 7-1/2S","7.5 CY","N/A","Does not include Clamshell &\nDragline","hour",17.579999999999998]
[null,8275,"Bucket, Dragline","Miscellaneous 2L","2.0 CY","N/A","Does not include Clamshell &","hour",3.37]
[null,null,null,null,null,null,"Dragline"]
[null,8276,"Bucket, Dragline","Miscellaneous 5L","5 CY","N/A","Does not include Clamshell & Dragline","hour",8.33]
[null,"A","B","C","D","E","F","G","H"]
[null,"Cost Code","Equipment","Specifications/Manufacturer","Capacity or Size","HP","Notes","Unit","2023 Rates"]
[null,8277,"Bucket, Dragline","Miscellaneous 10L","10 CY","N/A","Does not include Clamshell & Dragline","hour",11.38]
[null,8278,"Bucket, Dragline","Miscellaneous 14M","14 CY","N/A","Does not include Clamshell & Dragline","hour",16.07]
[null,8280,"Excavator, Hydraulic","Bobcat 331E (disc. 2006)","0.06 CY","to 40","Crawler, includes bucket","hour",48.97]
[null,8281,"Excavator, Hydraulic","Komatsu PC120-6 (disc. 2008)","0.61 CY","to 89","Crawler, includes bucket","hour",96.16]
[null,8282,"Excavator, Hydraulic","Hyundai R210LC-7A (disc. 2010)","1.2 CY","to 143","Crawler, includes bucket","hour",100.52]
[null,8283,"Excavator, Hydraulic","Komatsu PC300 LC-7 (disc. 2007)","2.56 CY","to 246","Crawler, includes bucket","hour",162.85]
[null,8284,"Excavator, Hydraulic","Deere 650D LC (disc. 2010)","4.04 CY","to 463","Crawler, includes bucket","hour",290.23]
[null,8285,"Excavator, Hydraulic","Caterpillar 6015","7.8 CY","to 665","Crawler, includes bucket","hour",580.96]
[null,8286,"Excavator, Hydraulic","Miscellaneous 150.1-200 MTONS","12.6 CY","to 870","Crawler, includes bucket","hour",848.28]
[null,8287,"Excavator, Truck Mounted","2008 Gradall XL 3100 III (disc. 2011)","0.57 CY","to 184","Truck Mounted","hour",214.08]
[null,8288,"Excavator, Truck Mounted","2003 Gradall XL 4100 III (Disc. 2011)","0.62 CY","to 238","Truck Mounted","hour",253.26]
[null,8289,"Excavator, Truck Mounted","2006 Gradall XL 5100 (disc. 2006)","1.25 CY","to 230","Truck Mounted","hour",284.8]
[null,8290,"Trowel, Concrete","Walk-Behind Concrete Floor Trowel","48 IN","to 12",null,"hour",5.77]
[null,8300,"Forklift","Toyota 42-6FGU25 (disc. 2000)","5,000 Lbs","to 59",null,"hour",21.31]
[null,8301,"Forklift","Mitsubishi FD55N","12,000 Lbs","to 77",null,"hour",26.47]
[null,8302,"Forklift","Komatsu FD80T-8 (disc. 2005)","18,000 Lbs","to 130",null,"hour",47.48]
[null,8303,"Forklift","Taylor TE-450M (disc. 1998)","45,000 lbs","to 215",null,"hour",95.17]
[null,8306,"Fork Lift material handler","Caterpillar TH360B (disc. 2007)","7,000 lbs","to 95",null,"hour",91.61]
[null,8307,"Fork Lift material handler","Caterpillar TH460B (disc. 2007)","9,000 Lbs","to 95",null,"hour",121.27]
[null,8308,"Fork Lift material handler","Caterpillar TH560B (disc. 2008)","10,000 lbs","to 118","10,000 Lbs","hour",132.63999999999999]
[null,8309,"Fork Lift Accessory","Top Clamp Forks for handling logs, pipes,\nbeams, etc. (attaches to forklifts)",null,null,null,"hour",4.37]
[null,8310,"Generator","Miscellaneous GAS 5,500 W","5.5 KW","to 5.5","Portable; No Enclosure","hour",4.8600000000000003]
[null,8311,"Generator","Miscellaneous DIESEL 17,000 W","17 KW","to 17","Portable; No Enclosure","hour",14.57]
[null,8312,"Generator","Miscellaneous DIESEL 45 KW","47.5 kW",47.5,"Portable; No Enclosure","hour",24.2]
[null,8313,"Generator","Miscellaneous DIESEL 100 KW","100 KW","to 100","Portable; No Enclosure","hour",56.7]
[null,8314,"Generator","Miscellaneous DIESEL 150 KW","150 KW","to 150","Portable; No Enclosure","hour",85]
[null,8315,"Generator","Miscellaneous DIESEL 225 KW","210 KW","to 210","Portable; No Enclosure","hour",105.65]
[null,8316,"Generator","Miscellaneous DIESEL 300 KW","280 KW","to 280","Open or Enclosed","hour",133.5]
[null,8317,"Generator","Miscellaneous DIESEL 350 KW","350 KW","to 350","Open or Enclosed","hour",154.19999999999999]
[null,"8317-400","Generator","Miscellaneous DIESEL 400 KW","400 KW","to 400","Open or Enclosed","hour",200.52]
[null,8318,"Generator","Miscellaneous DIESEL 500 KW","500 KW","to 500","Open or Enclosed","hour",249.54]
[null,8319,"Generator","Miscellaneous DIESEL 700 KW","700 KW","to 700","Open","hour",314.74]
[null,8320,"Generator","Caterpillar XQC1200 (Enclosed)","1150 KW","to 1500","Prime Output @ 60 Hz 1260 KW","hour",586.29]
[null,8321,"Generator","Generator, 2,500 KW","2500 KW","to 2500",null,"hour",686.16]
[null,8322,"Generator","Miscellaneous DIESEL 1000 KW","1000 KW","to 1000","Open","hour",583.21]
[null,8323,"Generator","Miscellaneous DIESEL 1500 KW","1500 KW","to 1500","Enclosed","hour",892.32]
[null,8324,"Generator","Caterpillar XQC1200 (Enclosed)","1150 KW","to 1150","Enclosed","hour",586.29]
[null,8325,"Generator","Miscellaneous DIESEL 40 KW","40 KW","to 40",null,"hour",28.7]
[null,8326,"Generator","Miscellaneous DIESEL 25 KW","20 KW","to 35",null,"hour",15.31]
[null,8327,"Generator","Miscellaneous DIESEL 800 KW","800 KW","to 800","Enclosed","hour",363.63]
[null,8328,"Generator","Miscellaneous DIESEL 900 KW","900 KW","to 900","Enclosed","hour",468.35]
[null,8329,"Generator","Miscellaneous DIESEL 1000 KW","1000 KW","to 1000","Enclosed","hour",583.21]
[null,8330,"Graders","Ingram MG690 (disc. 1999)","10 Ft","to 110","Rigid Frame equipment","hour",75.12]
[null,8331,"Graders","CAT 12H (disc. 2007)","12 Ft","to 145","Articulated Frame equipment","hour",116.57]
[null,8332,"Graders","CAT 160H (disc. 2007)","14 Ft","to 180","Articulated Frame equipment","hour",164.35]
[null,8334,"Graders","CAT 140","168 x 24 x 0.9 ft","to 250","Articulated Frame equipment","hour",167.74]
[null,8350,"Hose, Discharge","Miscellaneous DH-3/25","3 In Discharge Diameter","N/A","Per 25 foot length Includes couplings","hour",0.15]
[null,8351,"Hose, Discharge","Miscellaneous DH-4/25","4 in Discharge Diameter","N/A","Per 25 foot length Includes couplings","hour",0.23]
[null,8352,"Hose, Discharge","Miscellaneous DH-6/25","6 In Discharge Diameter","N/A","Per 25 foot length Includes couplings","hour",0.6]
[null,8353,"Hose, Discharge","Discharge Hose, 8-IN","8 In Discharge Diameter","N/A","Per 25 foot length Includes couplings","hour",0.66]
[null,8354,"Hose, Discharge","Discharge Hose, 12-IN","12 In Discharge Diameter","N/A","Per 25 foot length Includes couplings","hour",0.97]
[null,8355,"Hose, Discharge","Discharge Hose, 16-IN","16 In Discharge Diameter","N/A","Per 25 foot length Includes couplings","hour",1.8]
[null,8356,"Hose, Suction","Suction Hose - SH-3/25","3 In Diameter","N/A","Per 25 foot length Includes couplings","hour",0.28000000000000003]
[null,8357,"Hose, Suction","Miscellaneous SH-4/25","4 In Diameter","N/A","Per 25 foot length Includes couplings","hour",0.32]
[null,8358,"Hose, Suction","Miscellaneous SH-6/25","6 In Diameter","N/A","Per 25 foot length Includes couplings","hour",1.1100000000000001]
[null,8359,"Hose, Suction","Suction Hose, 8-IN","8 In Diameter","N/A","Per 25 foot length Includes couplings","hour",1.18]
[null,"A","B","C","D","E","F","G","H"]
[null,"Cost Code","Equipment","Specifications/Manufacturer","Capacity or Size","HP","Notes","Unit","2023 Rates"]
[null,8360,"Hose, Suction","Suction Hose, 12-IN","12 In Diameter","N/A","Per 25 foot length Includes couplings","hour",1.82]
[null,8361,"Hose, Suction","Suction Hose, 16-IN","16 In Diameter","N/A","Per 25 foot length Includes couplings","hour",3.48]
[null,8380,"Loader, Crawler","ASV PT-30 (disc. 2010)","1600 lb Tipping Load","to 33.7","Compact Track Loader","hour",43.49]
[null,8381,"Loader, Crawler","Bobcat T190 (disc. 2013)","14.0 CF","to 66","Compact Track Loader","hour",62.21]
[null,8382,"Loader, Crawler","Deere 605C (disc. 2020)","1.7 cu yd","to 99","Standard Crawler Loader, includes bucket","hour",69.08]
[null,8383,"Loader, Crawler","Caterpillar 963C (disc. 2007)","3.2 cu yd","to 158","Standard Crawler Loader, includes bucket","hour",170.79]
[null,8384,"Loader, Crawler","Caterpillar 973C (disc. 2010)","4.19 cu yd","to 239","Standard Crawler Loader, includes bucket","hour",208.16]
[null,8390,"Loader, Wheel","Gehl 280 (disc. 2009)","0.7 cu yd","to 39","Non-Articulated Wheel Loader","hour",37.31]
[null,8391,"Loader, Wheel","Gehl AWS36 (disc. 2012)","1.0 cu yd","to 60","Non-Articulated Wheel Loader","hour",59.65]
[null,8392,"Loader, Wheel","Caterpillar 914G (disc. 2014)","1.7 cu yd","to 95","Articulated Wheel Loader","hour",67.540000000000006]
[null,8393,"Loader, Wheel","New Holland W110B TC - 4WD","2.1 cu yd","to 123","Articulated Wheel Loader","hour",76.62]
[null,8394,"Loader, Wheel","Deere 644K - 4WD (disc. 2019)","4.2 cu yd","to 229","Articulated Wheel Loader","hour",95.09]
[null,8395,"Loader, Wheel","Case 921C - 4WD (disc. 2008)","5.0 cu yd","to 248","Articulated Wheel Loader","hour",109.99]
[null,8396,"Loader, Wheel","CAT 972H (Disc. 2012) - 4WDs","6.0 cu yd","to 287","Articulated Wheel Loader","hour",118.5]
[null,8397,"Loader, Wheel","Komatsu WA500-6 (disc. 2012)","7.3 cu yd","to 353","Articulated Wheel Loader","hour",148.26]
[null,8398,"Loader, Wheel","Komatsu WA600-6 (disc. 2019); 4WD","8.4 cu yd","to 502","Articulated Wheel Loader","hour",211.41]
[null,8399,"Tractor, Wheel","John Deere 6605 (disc. 2005)","100 IN.","to 95","Does not include mower attachment. Add\n$5.24/Hour for flail Industrial towed mower","hour",53.37]
[null,8400,"Tractor, Wheel","New Holland T6030 (disc. 2012)",null,"to 115","Bucket attachment not included in rate","hour",71.05]
[null,8401,"Loader, Tractor, Wheel","Case 580 SUPER L (disc. 2000)","0.87 CY","to 80","Includes backhoe","hour",62.62]
[null,8410,"Mixer, Concrete Portable","CMG-4S - Portable Tilt Drum Concrete Mixer","4.0 cu ft","to 5","Side Dump","hour",2.78]
[null,8411,"Mixer, Concrete Portable","CMG-12E - Portable Tilt Drum Concrete Mixer","12.0 cu ft","to 2","Electric Powered, Side Dump","hour",3.72]
[null,8412,"Mixer, Concrete, Trailer Mntd","NTD-11E - Portable Trailer Mounted Concrete\nMixer","11.0 cu ft","to 10","Electric Powered, Side Dump","hour",9.89]
[null,8413,"Mixer, Concrete, Trailer Mntd","NTD-16G - Portable Trailer Mounted Concrete","16.0 cu ft","to 25","Gas Powered, Trailer Mounted","hour",20.420000000000002]
[null,null,null,"Mixer"]
[null,8414,"Truck, Concrete Mixer","XCMG G10NX1","13.1 cu yd","to 331.2","Self-Propelled (Diesel)","hour",82.58]
[null,8419,"Breaker, Pavement Hand-held","Miscellaneous STANDARD 25-30 LBS","80 - 90 Lbs","N/A","Air powered, add compressor","hour",0.98]
[null,8420,"Breaker, Pavement","Arrow Master 1350",null,"to 80","Self-Propelled (Diesel)","hour",61.22]
[null,8421,"Vibrator, Concrete",44234,"2.5 in head, 16 ft shaft","to 2","Electric Powered","hour",1.39]
[null,8423,"Spreader, Chip","Etnyre Chip Spreader","2.8 CY","to 210",null,"hour",94.46]
[null,8424,"Spreader, Chip","Bearcat 2002","3.8 CY","to 210",null,"hour",129.97999999999999]
[null,8425,"Spreader, Chip, Mounted","8-CONVEYOR - Chip Spreaders for Tail Gate\nMounting","8 Ft","to 6","Trailer & truck mounted.","hour",4.47]
[null,8430,"Paver, Asphalt, Towed","Layton F-525","96-144 in screed width","to 7","Does not include towing vehicle","hour",13.55]
[null,8431,"Paver, Asphalt","BOMAG BF223C Specs (disc. 2008)","98.88 cu ft","to 51","Maximum Paving Width 157.48 in","hour",146.53]
[null,8432,"Paver, Asphalt","BOMAG BF815 (disc. 2010)","8.0 Tons","to 85","96-144 in screed width, 6 in depth","hour",225.42]
[null,8433,"Paver, Asphalt","Caterpillar AP655F","250.0 Tons","to 175","Up to 210.0 ft/min paving speed","hour",331.93]
[null,8434,"Paver, Asphalt","Cedarapids CR452 (disc. 2020)","14.0 Tons, 219.0 CF","to 220","Up to 290.0 ft/min paving speed","hour",337.67]
[null,8436,"Pickup, Asphalt","Cadarapids CR-MS-4 (disc. 2020)",null,"to 113","Does not include towing vehicle","hour",143.46]
[null,8437,"Pickup, Asphalt","Cedarapids CR MS-2",null,"to 113","Does not include towing vehicle","hour",204.01]
[null,8438,"Pickup, Asphalt","Blaw Knox MC330 (disc. 2007)",null,"to 184",null,"hour",320.54000000000002]
[null,8439,"Pickup, Asphalt","Roadtec MTV-1000C",null,"to 275","material transfer vehicle","hour",505.25]
[null,8440,"Striper, Self Propelled","SELF-PROP 40","40 Gal","to 22",null,"hour",16.100000000000001]
[null,8441,"Striper, Self Propelled","SELF-PROP 90","90 Gal","to 60",null,"hour",24.54]
[null,8442,"Striper, Self Propelled","Miscellaneous SELF-PROP 120","120 Gal","to 122",null,"hour",47.99]
[null,8445,"Striper, Truck Mounted","TRKMNT - Truck Mounted","120 Gal","to 460",null,"hour",92.74]
[null,8446,"Striper, Walk-behind","WB SINGLE LINE","12 Gal","to 5","Single Line","hour",2.93]
[null,8447,"Paver Accessory - Belt Extension","Miscellaneous 30 X 60'","30\" x 60'","to 20","Electric Powered","hour",28.84]
[null,8450,"Plow, Snow, Mounted Grader","VP-10 - Grader Snow Removal Equipment","126 in (10.5-FT)","N/A","Add 8331 Grader","hour",15.31]
[null,8451,"Plow, Snow, Mounted Grader","SW-14 - Grader Snow Removal Equipment","168 in (14-FT)","N/A","Add 8332 Grader","hour",17.7]
[null,8452,"Plow, Truck Mounted","One Way Plow","13 Ft","N/A","Add 8722 truck","hour",14.8]
[null,8453,"Plow, Truck Mounted","V-Plow R11 Leveling Wing","11 Ft","N/A","With leveling wing, add 8722 truck","hour",25.89]
[null,8455,"Spreader, Sand","TAILGATE","Tailgate, Chassis mounted","PTO","Truck not included","hour",5.0199999999999996]
[null,8456,"Spreader, Sand","DUMP BODY","Dump Body mounted","PTO","Truck not included","hour",8.1]
[null,8457,"Spreader, Sand","TRUCK MNT","Truck Mounted, (10yd)","N/A","Truck not included","hour",11.05]
[null,8458,"Spreader, Chemical","Miscellaneous 5 Spreader","5.0 cu yd","to 4","Trailer & truck mounted","hour",5.6]
[null,"A","B","C","D","E","F","G","H"]
[null,"Cost Code","Equipment","Specifications/Manufacturer","Capacity or Size","HP","Notes","Unit","2023 Rates"]
[null,8465,"Pump, Trash Pump","Miscellaneous 6 DIESEL","6 In Pump","to 70","Self Priming, 90000 gph, add hoses","hour",60.83]
[null,8466,"Pump, Trash Pump","Miscellaneous 4 DIESEL","4 In Pump","to 60","Self Priming, 44000 gph, add hoses","hour",37.26]
[null,8467,"Pump, Trash Pump","Miscellaneous 4 DIESEL","4 In Pump","to 20","Self Priming, 33000 gph, add hoses","hour",20.74]
[null,8468,"Pump, Trash Pump","Miscellaneous 3 DIESEL","3 In Pump","to 15","Self Priming, 18000 gph, add hoses","hour",13.62]
[null,8469,"Pump, Trash Pump","Miscellaneous 2 DIESEL","2 In Pump","to 7","Self Priming, 10000 gph, add hoses","hour",11.72]
[null,8470,"Pump, Lightweight Centrifugal","6M Alum./PORT.","1.5 In pump","to 4","6500 gph, add hoses","hour",5.19]
[null,8471,"Pump, Lightweight Centrifugal","8M Alum./PORT.","2 In Pump","to 5","10000 gph, add hoses","hour",5.52]
[null,8472,"Pump, Lightweight Centrifugal","18M ALUM./PORT.","3 In Pump","to 8","6,500 gph, add hoses","hour",6.91]
[null,8473,"Pump, Heavy Duty Centrifugal","20M GASOLINE ELECTRIC START","3 In Pump","to 18","20000 gph, add hoses","hour",10.08]
[null,8474,"Pump, Electric Submersible","Miscellaneous 4  Three Phase 25 HP","4 In Pump","to 25","50.0 ft cable length, add hoses","hour",10.99]
[null,8475,"Pump, Electric Submersible","Miscellaneous 6  Three Phase 35 HP","6 In Pump","to 35","50.0 ft cable length, add hoses","hour",12.59]
[null,8476,"Pump, Centrifugal","40M GASOLINE ELECTRIC START","4 In Pump","to 60","40,000 gph, add hoses","hour",26.55]
[null,8477,"Pump, Centrifugal","90M GASOLINE ELECTRIC START Pump","6 In Pump","to 85","90,000 gph, add hoses","hour",36.729999999999997]
[null,8478,"Pump, Centrifugal","350M DIESEL ELECTRIC START Pump","12 In Pump","to 90","350,000 gph, add hoses","hour",42.28]
[null,8479,"Pump",null,null,"to 200",null,"hour",62.93]
[null,8480,"Pump",null,null,"to 275",null,"hour",84.66]
[null,8481,"Pump",null,null,"to 350",null,"hour",101.18]
[null,8482,"Pump",null,null,"to 425",null,"hour",122.68]
[null,8483,"Pump",null,null,"to 500",null,"hour",145.22999999999999]
[null,8484,"Pump",null,null,"to 575",null,"hour",169.17]
[null,8485,"Pump",null,null,"to 650",null,"hour",191.9]
[null,8486,"Aerial Lift, Truck Mounted","BB150 - Telescopic Boom Aerial Lift","41 Ft","N/A","Platform Cap.: 670 lbs. Add this to a truck for\ntotal lift and truck rate","hour",10.82]
[null,8487,"Aerial Lift, Truck Mounted","BB180 - Telescopic Boom Aerial Lift","61 Ft","N/A","Platform Cap.: 700 lbs. Add this to a truck for\ntotal lift and truck rate","hour",23.9]
[null,8488,"Aerial Lift, Truck Mounted","BB1100 - Articulating Boom Aerial Lift","81 Ft","N/A","Platform Cap.: 600 lbs. Add this to a truck for\ntotal lift and truck rate","hour",39.619999999999997]
[null,8489,"Aerial Lift, Truck Mounted","BB1101 - Articulating Boom Aerial Lift","101 Ft","N/A","Platform Cap.: 700 lbs. Add this to a truck for\ntotal lift and truck rate","hour",64.86]
[null,8490,"Aerial Lift, Self Propelled","JLG 40IC (disc. 2000)","40 Ft","to 22","Platform Cap.: 500 lbs.","hour",62.39]
[null,8491,"Aerial Lift, Self Propelled","Niftylift SD50","60 Ft. Ht.","to 21.6","Articulating, Platform Cap.: 500 lbs.","hour",72.67]
[null,8492,"Aerial Lift, Self Propelled","S9070RT-HC","70 Ft. Ht.","to 24.9","Scissor Lift, Platform Cap.: 2000 lbs.","hour",116.14]
[null,8493,"Aerial Lift, Self Propelled","JLG 1250AJP","125 Ft. Ht.","to 75","Articulating, Platform Cap.: 500 lbs.","hour",171.37]
[null,8494,"Aerial Lift, Self Propelled","JLG 1500AJP","150 Ft. Ht.","to 99.8","Articulating, Platform Cap.: 1000 lbs.","hour",189.7]
[null,8495,"I.C. Aerial Lift, Self-Propelled","Miscellaneous BB1-40","75\"x155\", 40Ft Ht.","to 80","Scissor Lift","hour",80.28]
[null,8496,"Crane, Truck Mounted","JLG 1000BT","20,000 LBS","N/A","55.0 ft boom length","hour",39.32]
[null,8497,"Crane, Truck Mounted","JLG 1700A","36,000 LBS","N/A","75.0 ft boom length","hour",55.94]
[null,8498,"Crane, Truck Mounted","Manitex - 30100C","60,000 LBs","N/A","100.0 ft boom length","hour",85.13]
[null,8499,"Trash Pump","Miscellaneous 3 DIESEL","3 In Pump","to 15","Self Priming, 25000 gph, add hoses","hour",13.68]
[null,8500,"Crane, Yard","Shuttlelift 3330FL","17000 lbs/8.5 tons","to 70","30.2 ft boom length","hour",177.29]
[null,8501,"Crane, Rough Terrain","Broderson RT-300-2C","29983 lbs/15 tons","to 155","60 ft boom length","hour",316.63]
[null,8502,"Crane, All Terrain","Grove GMK2035E","69886 lbs/34.9 tons","to 157","95 ft boom length","hour",255.54]
[null,8503,"Crane, All Terrain","Grove GMK3055","119931 lbs/60 tons","to 240","141 ft boom length","hour",290.08]
[null,8504,"Crane, Crawler Mounted Lattice Boom","American HC-125 (disc. 2004)","250004 lbs/125 tons","to 245","300 ft boom length","hour",348.24]
[null,8510,"Saw, Concrete","Miscellaneous 4.6-14MC","14 In","to 14","4.625 in max cut depth","hour",11.89]
[null,8511,"Saw, Concrete","Miscellaneous 10-26SPC","26 In","to 25","10.625 in max cut depth","hour",19.739999999999998]
[null,8512,"Saw, Concrete","Miscellaneous 20-48SPC","48 In","to 65","20.75 in max cut depth","hour",42.16]
[null,8513,"Chain Trencher, Wheel Mounted","Vermeer V8550A (disc. 2008)","60 in depth","to 83",null,"hour",108.77]
[null,8514,"Chain Trencher, Wheel Mounted","Vermeer V120","60 in depth","to 107",null,"hour",300.82]
[null,8517,"Jackhammer (dry)","Miscellaneous 25DRY","25 lbs","Air","Add air compressor and hoses","hour",1.4]
[null,8518,"Jackhammer (wet)","Miscellaneous 30WET","30 lbs","Air","Add air compressor and hoses","hour",1.6]
[null,8521,"Scraper","CAT 611 (Disc. 2004)","15 cu yd heaped","to 262.2",null,"hour",239.81]
[null,8522,"Scraper","621G (disc. 2010)","22 cu yd heaped","to 365",null,"hour",342.28]
[null,8523,"Scraper","631G (disc. 2010)","34 cu yd heaped","to 500",null,"hour",573.69000000000005]
[null,8524,"Scraper","Caterpillar 651E (Disc.2006)","44 cu yd heaped","to 604",null,"hour",653.53]
[null,8540,"Loader, Skid Steer","Bobcat S70","5.8 cu yd","to 23.5",null,"hour",37.32]
[null,8541,"Loader, Skid Steer","Bobcat S205","14 cu yd","to 66",null,"hour",53.24]
[null,"A","B","C","D","E","F","G","H"]
[null,"Cost Code","Equipment","Specifications/Manufacturer","Capacity or Size","HP","Notes","Unit","2023 Rates"]
[null,8542,"Loader, Skid Steer","Bobcat S300 (disc. 2011)","15.4 cu yd","to 81",null,"hour",78.88]
[null,8549,"Snow Plower, Salt Spreader","Towed  Salt Spreader/Snow Plower","26 ft X 8 ft",0,null,"hour",21]
[null,8550,"Snow Blower, Truck Mounted","Miscellaneous Mechanical","60 in Cutting Width","to 30",null,"hour",31.25]
[null,8551,"Snow Blower, Truck Mounted","Miscellaneous 1400 - Rotary Snow Blowers","99.375 in Cutting Width","to 200",null,"hour",106.21]
[null,8552,"Snow Blower, Truck Mounted","Miscellaneous 2000 - Rotary Snow Blowers","102 in Cutting Width","to 340",null,"hour",166.14]
[null,8553,"Snow Blower, Truck Mounted","Miscellaneous 2400 - Rotary Snow Blowers","102 in Cutting Width","to 400",null,"hour",184.14]
[null,8558,"Snow Thrower, Walk Behind","Toro Power Max® 826 OE (37780)","40 ft throwing distance","to 5",null,"hour",3.68]
[null,8559,"Snow Thrower, Walk Behind","Toro 74523 MultiForce 60-in Blower",null,"to 25","60-IN capable mower with 48-IN snow blower\nattachment","hour",17.93]
[null,"8559-1","SnowBroom","Oshkosh Snow Broom",null,"to 450-500",null,"hour",224.84]
[null,8560,"Snow Blower, Self Propelled","Miscellaneous 2000","2000 ft per minute","to 400","102 in cutting width","hour",220.59]
[null,8561,"Snow Blower, Self Propelled","Miscellaneous 2500","2500 ft per minute","to 500","120 in cutting width","hour",249.87]
[null,"8561-1","Snow Blower","MTE Snow Mauler",null,"to 428",null,"hour",317.7]
[null,"8561-2","Snow Blower","Vammas PSB 4500MTE",null,"to 420",null,"hour",325.04000000000002]
[null,8562,"Snow Blower","Miscellaneous 3500","3500 ft per minute","to 600","96.0 in cutting width","hour",287]
[null,8563,"The Vammas 4500","Snow Remover",null,"to 428",null,"hour",322.14999999999998]
[null,8564,"The Vammas 5500","RM300",null,"to 350",null,"hour",262.68]
[null,8565,"Oshkosh Pavement Sweeper","H-Series",null,"to 420",null,"hour",283.74]
[null,8569,"Dust Control De-ice Unit","Hydro Pump with 100-ft of 1/2-in hose",null,null,null,"hour",4.3899999999999997]
[null,8570,"Loader-Backhoe, Wheel","Kubota L39 Backhoe (disc. 2012)","0.5 CY Loader bucket","to 30.5",null,"hour",49.41]
[null,8571,"Loader-Backhoe, Wheel","CASE 580M","1.0 CY Loader bucket","to 80",null,"hour",58.73]
[null,8572,"Loader-Backhoe, Wheel","CAT 420F (Disc. 2017)","1.2 CY Loader bucket","to 93",null,"hour",91.69]
[null,8573,"Loader-Backhoe, Wheel","CAT 430E IT","1.31 CY Loader bucket","to 102",null,"hour",98.35]
[null,8580,"Distributor,  Asphalt","Miscellaneous 550 GAL","550 gal","to 16",null,"hour",16.579999999999998]
[null,8581,"Distributor,  Asphalt","Miscellaneous 1000G","1000-gal","to 38",null,"hour",26.88]
[null,8582,"Distributor,  Asphalt","Miscellaneous 4000G","4000-gal",null,"Power Takeoff","hour",34.659999999999997]
[null,8583,"Distributor",null,null,null,null,"hour",53.99]
[null,8584,"Distributor","Etnyre Chip Spreader","13-FT","to 210",null,"hour",94.46]
[null,8590,"Trailer, Rear Dump","Miscellaneous STANDARD 24 20","20.0 cu yd 24.0 t","N/A",null,"hour",10.17]
[null,8591,"Trailer, Rear Dump","Cap.: 30 cy; Deck Length: 16-ft to 18-ft; Deck:\nLevel",null,"N/A",null,"hour",16.57]
[null,8600,"Trailer, Equipment","Miscellaneous LEVEL 2 30","30 ton","N/A",null,"hour",15.22]
[null,8601,"Trailer, Equipment","Miscellaneous DROP 2 40","40 ton","N/A",null,"hour",17.100000000000001]
[null,8602,"Trailer, Equipment","Miscellaneous DROP 3 60","60 ton","N/A",null,"hour",21.59]
[null,8603,"Trailer, Equipment","Miscellaneous FLUSH 4 120","120 ton","N/A",null,"hour",33.82]
[null,8610,"Trailer, Water","Miscellaneous 1200 4000","4000 gallon","N/A",null,"hour",14.91]
[null,8611,"Trailer, Water","Miscellaneous 1200 6000","6000 gallon","N/A",null,"hour",18.489999999999998]
[null,8612,"Trailer, Water","Miscellaneous 1500 10000","10000 gallon","N/A",null,"hour",21.95]
[null,8613,"Trailer, Water","Miscellaneous 1500 14000","14000 gallon","N/A",null,"hour",27.87]
[null,8614,"Truck - Water Tanker","Miscellaneous GAS 4X2 1500","1500 gallon",175,null,"hour",40.76]
[null,8620,"Trailer Mounted Brush Chippers","Chipping Capacity: 25-IN HP 600","25-IN","to 600",null,"hour",197.31]
[null,8621,"Tub Grinder","Morbark 223","Chipping Capacity: 23-IN","to 630",null,"hour",180.37]
[null,8622,"Tub Grinder","Morbark 40/36 Tub Grinder","Chipping Capacity: 24-IN","800 to 850",null,"Hour",266.91000000000003]
[null,8623,"Tub Grinder","Morbark 50/48X Tub Grinder","Chipping Capacity: 28-IN","to 1050",null,"hour",355.2]
[null,8627,"Horizontal Grinder","Vermeer HG6000 Horizontal Grinder",null,"to 630",null,"hour",73.25]
[null,8628,"Stump Grinder","Vermeer SC852",null,"to 74",null,"hour",60.21]
[null,8629,"Stump Grinder","24-in Grinding Wheel",null,"to 110",null,"hour",57.38]
[null,8630,"Sprayer, Seed","Reinco HG-5-HA, Trailer Mounted",null,"to 20",null,"hour",13.34]
[null,8631,"Sprayer, Seed","Reinco HG-10GXA2, Trailer Mounted",null,"to 35","Single Drum","hour",20.39]
[null,8632,"Sprayer, Seed","Reinco HG-30GX, Truck Mounted",null,"to 115",null,"hour",40.1]
[null,8633,"Mulcher, Trailer Mntd","Finn B70",null,"to 33.5",null,"hour",24.71]
[null,8634,"Mulcher, Trailer Mntd","Reinco M65",null,"to 54","11-Wheels (Towed)","hour",40.840000000000003]
[null,8635,"Mulcher, Trailer Mntd","Reinco M90",null,"to 115",null,"hour",59.32]
[null,8636,"Scraper","Wirtgen WR2400",null,"to 563",null,"hour",628.17999999999995]
[null,8637,"Trailer (Off Highway Bottom Dump)","Load King 2842","28.0 cu yd","N/A",null,"hour",26.29]
[null,8638,"Rake","Barber Beach Sand Rake 600HD",null,0,null,"hour",19.55]
[null,8639,"Chipper","Wildcat 626 Cougar",null,0,null,"hour",43.84]
[null,"A","B","C","D","E","F","G","H"]
[null,"Cost Code","Equipment","Specifications/Manufacturer","Capacity or Size","HP","Notes","Unit","2023 Rates"]
[null,8640,"Trailer, Office","Miscellaneous 8X24",null,0,null,"hour",1.98]
[null,8641,"Trailer, Office","Miscellaneous 8X32",null,0,null,"hour",2.44]
[null,8642,"Trailer, Office","Miscellaneous 10X32",null,0,null,"hour",3.4]
[null,8643,"Trailer",null,null,0,null,"hour",48.17]
[null,8644,"Trailer, Covered Utility Trailer","7-ft x 16-ft",null,0,null,"hour",7.29]
[null,8645,"Trailer, Dodge Ram","12 Station Portable Shower Trailer",null,"to 101",null,"hour",37.58]
[null,8646,"Trailer, Dodge",null,null,"to 200",null,"hour",35.44]
[null,null,"Trencher","Seaman-Parsons T20",null,"to 20",null,"hour",50.19]
[null,8651,"Trencher","Seaman-Parsons T500",null,"to 58",null,"hour",79.2]
[null,8652,"Trencher/Ditcher","New Holland B115B (disc. 2012)","1.5CY","to 108",null,"hour",76.790000000000006]
[null,8653,"Trencher/Ditcher","New Holland T8.330 (disc. 2014)",null,"to 284",null,"hour",167.77]
[null,8654,"Trencher Accessories",null,null,null,null,"hour",2.4300000000000002]
[null,null,"Plow, Cable","Case MAXI-SNEAKER C (disc. 2003)","24-in","to 33.5",null,"hour",21.68]
[null,8661,"Plow, Cable","Seaman-Parsons DP-60","18-in","to 82",null,"hour",58.43]
[null,8662,"Plow, Cable","Seaman-Parsons DP-100","42-in","to 110",null,"hour",68.83]
[null,8670,"Derrick, Hydraulic Digger","Miscellaneous 60/12- Hydraulic Digger\nDerricks",null,"to 275",null,"hour",27.14]
[null,8671,"Derrick, Hydraulic Digger","Miscellaneous 990/14 - Hydraulic Digger\nDerricks",null,"to 310",null,"hour",48.77]
[null,8672,"Movax SP-60","28-32 ton Head",null,"to 178",null,"hour",135.30000000000001]
[null,"8680-1","Truck, Concrete Mixer","Mixer Capacity = 13 cy","13-CY","to 285",null,"hour",73.66]
[null,8680,"Truck, Fire Aerial Platform","112Ft Ladder","3000gpm/1000 gal Water or Foam","to 600",null,"hour",104.96]
[null,8681,"Truck, Fire, Engine Type-1","1000GPM/300gal Engine, with Pump & Roll",null,"to 420",null,"hour",173.47]
[null,8682,"Truck, Fire, Engine Type-2","500GPM/300gal Engine, with Pump & Roll",null,"to 184",null,"hour",163.55000000000001]
[null,8683,"Truck, Fire, Ladder(48ft)(Type-III)","150gpm/500gal Hose 1-1/2\"D 500' Long",null,"to 238",null,"hour",147.82]
[null,8684,"Truck, Fire","100-ft Ladder",null,"to 230","1500gpm Monitor/nozzle","hour",220.55]
[null,8685,"Truck, Fire, Ladder(48ft)(Type-I)","1000gpm/400gal, 500gpm Master Stream\nHose 2-1/2\"D 1200' Long",null,"to 12",null,"hour",190.81]
[null,8686,"Truck, Fire, Ladder(48ft)(Type-II)","500gpm/300gal, Hose 2-1/2\"D 1000' Long",null,"to 60",null,"hour",162.93]
[null,8687,"Truck, Fire, Support Water Tender S1","300GPM/4000+gal S1 Water Tender",null,"to 90",null,"hour",141.87]
[null,8688,"Truck, Fire, Support Water Tender S2","200GPM/2500+gal S2 Water Tender",null,"to 140",null,"hour",128.24]
[null,8689,"Truck, Fire, Support Water Tender S3","200GPM/1000+gal S3 Water Tender",null,"to 215",null,"hour",97.88]
[null,8690,"Truck, Fire",null,null,"to 95",null,"hour",87.14]
[null,8691,"Truck, Fire",null,null,"to 95",null,"hour",92.4]
[null,8692,"Truck, Fire",null,null,"to 118",null,"hour",100.49]
[null,8693,"Truck, Fire",null,null,"to 10",null,"hour",104.13]
[null,8694,"Truck, Fire Ladder",null,null,"to 160",null,"hour",149.91999999999999]
[null,8695,"Truck, Fire Ladder",null,null,"to 240",null,"hour",181.43]
[null,8696,"Truck, Fire",null,null,"to 311",null,"hour",119.39]
[null,8697,"Truck, Fire, Tactical Water Tender T1","250GPM/2000+gal",null,"to 400",null,"hour",148.07]
[null,8698,"Truck, Fire, Tactical Water Tender T2","250GPM/1000+gal",null,"to 500",null,"hour",127.21]
[null,8699,"Truck, Fire, Engine Type-3","150GPM/500gal Engine, with Pump & Roll",null,"to 610",null,"hour",156.74]
[null,8700,"Truck, Flatbed","Miscellaneous 4X2 15KGVW DSL",null,"to 200",null,"hour",32.35]
[null,8701,"Truck, Flatbed","Miscellaneous 4X2 25KGVW GAS",null,"to 275",null,"hour",47.12]
[null,"8701-1","Truck, Flatbed","Miscellaneous 4X2 25KGVW DSL",null,"to 200",null,"hour",35.58]
[null,8702,"Truck, Flatbed","Miscellaneous 4X2 30KGVW DSL",null,"to 217",null,"hour",40.299999999999997]
[null,8703,"Truck, Flatbed","Miscellaneous 6X4 45KGVW DSL",null,"to 380",null,"hour",68.31]
[null,8708,"Trailer, semi","48ft spread axle flatbed",null,"NA",null,"hour",10.74]
[null,8709,"Trailer, semi","Enclosed 48ft, 2 axle trailer",null,"NA",null,"hour",12.17]
[null,8710,"Trailer, semi",null,null,0,null,"hour",12.4]
[null,8711,"Flat bed utility trailer","Non-Tilt Deck Utility Trailers - TOW 2 1 6",null,"NA",null,"hour",2.87]
[null,"8711-1","Sewer Camera Inspection Truck",null,null,null,null,"hour",17.11]
[null,"8711-2","Sewer Camera Inspection Truck","Aries Pathfinder System Control Center, Work\nStation",null,"N/A",null,"hour",104.82]
[null,8712,"Cleaner, Sewer/Catch Basin","Miscellaneous 5-P - Sewer/Catch Basin Cleaner","4 in Discharge Diameter",null,"Power Takeoff","hour",20.62]
[null,null,null,"For Truck Mounting"]
[null,"A","B","C","D","E","F","G","H"]
[null,"Cost Code","Equipment","Specifications/Manufacturer","Capacity or Size","HP","Notes","Unit","2023 Rates"]
[null,8713,"Cleaner, Sewer/Catch Basin","Miscellaneous 14-P - Sewer/Catch Basin","6 In Discharge Diameter",null,"Power Takeoff","hour",27.42]
[null,null,null,"Cleaner For Truck Mounting"]
[null,8714,"Combined Sewer Cleaning","Vacuum Truck 800 Gal Spoils/400 Gal Water",null,"to 74",null,"hour",32.81]
[null,"8714-H","Combined Sewer Cleaning (Accessory","Miscellaneous SH-4/25","4-IN","N/A","50-FT of 4-IN hoses @$0.60/Hour for Vac Truck","hour",0.32]
[null,null,"Hoses)"]
[null,"8714-1","Vector Combine Vaccum Truck",null,"15 Cu Yd","N/A",null,"hour",107.72]
[null,"8714-2","Combined Sewer Cleaning",null,"1500 gal Water","N/A",null,"hour",109.97]
[null,"8714-3","Combined Sewer Cleaning",null,"500-1500 gals","N/A",null,"hour",97.76]
[null,8715,"Truck, Hydro Vac","500-gal debris tank;",null,"N/A",null,"hour",22.92]
[null,8716,"Leaf Vac",null,null,"N/A",null,"hour",65.58]
[null,8717,"Truck, Vacuum",null,null,"N/A",null,"hour",95.06]
[null,8718,"Combined Sewer Cleaning",null,"500-1500 gals","to 370",null,"hour",97.76]
[null,8719,"Litter Picker","Miscellaneous TRAC MOUNT ENG DRIV","Broom Length 72.0 in","to 18",null,"hour",8.3800000000000008]
[null,8720,"Truck, Dump","Miscellaneous 4X4 8YD 30KGVW DSL","7-CY","to 217",null,"hour",55.98]
[null,8721,"Truck, Dump","Miscellaneous 6X4 10YD 40KGVW","8-10-CY","to 315",null,"hour",74.83]
[null,8722,"Truck, Dump","Miscellaneous 6X4 12YD 50KGVW","12-CY","to 400",null,"hour",94.94]
[null,8723,"Truck, Dump",null,"14-CY","to 400",null,"hour",96.03]
[null,8724,"Truck, Dump, Off Highway","Bell B40E (articulated)","24-CY","to 436",null,"hour",174.29]
[null,8725,"Truck, Dump","Miscellaneous 8X4 18YD 85KGVW","18 CY","to 400",null,"Hour",117.13]
[null,8730,"Truck, Garbage",null,null,"to 255",null,"Hour",61.69]
[null,8731,"Truck, Garbage",null,null,"to 325",null,"Hour",70.7]
[null,8733,"E=BAM Services",null,null,"N/A",null,"Hour",3.8]
[null,8734,"Attentuator, Safety","Miscellaneous ALUMINUM-2",null,"N/A",null,"Hour",5.19]
[null,8735,"Truck, Attenuator",null,null,"N/A",null,"Hour",4.82]
[null,8736,"Truck, Tow","Freightliner M2 106 4x2 Diesel (disc. 2015)","GW 26000 lbs","to 175",null,"Hour",54.63]
[null,8744,"Van, Custom",null,null,"to 350",null,"Hour",22.74]
[null,8745,"Van, step","Freightliner 4500 Sprinter 4x2 Diesel (2021)",null,"to 300",null,"Hour",35.6]
[null,8746,"Van-up to 15 passenger","GMC Savana Passenger Van (disc. 2010)",null,"225-300",null,"Hour",35.19]
[null,8747,"Van-up to 15 passenger","GMC Savana 3500 LS Passenger Van (disc.\n2020)",null,"to 265",null,"Hour",40.5]
[null,8748,"Van-cargo","Chevrolet City Express Cargo Van (disc. 2018)",null,"225-300",null,"Hour",26.01]
[null,8749,"Van-cargo","Chevrolet Express Cargo Van (2022)",null,null,null,"Hour",32.64]
[null,8750,"Vehicle, Small",null,null,"to 30",null,"Hour",7.94]
[null,8753,"Vehicle, Recreational",null,null,"to 10",null,"Hour",3.56]
[null,8754,"Motor Coach","GVW=50534, 56 Passenger + 1-Driver",null,"to 430",null,"Hour",79.22]
[null,8755,"Golf Cart",null,null,0,null,"Hour",4.71]
[null,8761,"Vibrator, Concrete","Miscellaneous 2-7/21 - Motor-in-Head",null,"to 2",null,"Hour",1.47]
[null,8770,"Welder, Portable","Miscellaneous GAS 180 DC-CC",null,"to 13",null,"Hour",5.43]
[null,8771,"Welder, Portable","Miscellaneous DIESEL 300 DC-CC",null,"to 33",null,"Hour",11.28]
[null,8772,"Welder, Portable","Miscellaneous GAS 350 DC-CC/CV",null,"to 52",null,"Hour",19.07]
[null,8773,"Welder, Portable","Miscellaneous DIESEL 600 DC-CC/CV DU-OP",null,"to 42",null,"Hour",15.41]
[null,8780,"Truck, Water","Miscellaneous DSL 4X2 2500",null,"to 150",null,"Hour",37.65]
[null,8781,"Truck, Water","Miscellaneous BB2 DSL 6X4 4000 (disc. 1994)",null,"to 250",null,"Hour",61.16]
[null,8789,"Truck, Tractor","On-Highway Truck Tractors 45,001 - 60,000\nGVW",null,"to 400",null,"Hour",87.02]
[null,8790,"Truck, Tractor","On-Highway Truck Tractor - 4X2 25KGVW GAS",null,"to 295",null,"Hour",57.92]
[null,8791,"Truck, Tractor","On-Highway Truck Tractor - 4X2 35KGVW DSL",null,"to 329",null,"Hour",70.72]
[null,8792,"Truck, Tractor","On-Highway Truck Tractor - 6X4 45KGVW DSL",null,"to 380",null,"Hour",81.91]
[null,8793,"Truck","Ford F-450 Cutaway Truck (disc. 2018)",null,"to 390",null,"Hour",80.27]
[null,8794,"Truck, Freight","Dodge Ram Chassis 5500",null,"to 275",null,"Hour",28.84]
[null,8795,"Truck, backhoe carrier","Miscellaneous 4X2 25KGVW DSL",null,"to 380",null,"Hour",35.58]
[null,8796,"Truck, freight","Enclosed w/lift gate. Heavy duty, class 7",null,null,null,"Hour",38.94]
[null,8797,"Truck, freight","M2-106 4x2 Diesel (disc. 2015)",null,"to 250",null,"Hour",54.63]
[null,8798,"Truck","Miscellaneous 4X2 30KGVW DSL",null,"to 300",null,"Hour",40.299999999999997]
[null,8799,"Truck","Miscellaneous 6X4 43KGVW DSL",null,null,null,"Hour",50.95]
[null,8800,"Truck, Pickup",null,null,null,"GSA 2023 Mileage Rate","Mile",0.66]
[null,"A","B","C","D","E","F","G","H"]
[null,"Cost Code","Equipment","Specifications/Manufacturer","Capacity or Size","HP","Notes","Unit","2023 Rates"]
[null,8801,"Truck, Pickup","Miscellaneous 4X2 1/2 160 CONV DSL",160,"to 160",null,"Hour",16.68]
[null,8802,"Truck, Pickup","4X2 1 195 CONV DSL",195,"to 195",null,"Hour",19.91]
[null,8803,"Truck, Pickup","4X2 1 1/4 360 CONV DSL",360,"to 360",null,"Hour",33.03]
[null,8804,"Truck, Pickup","4X2 1 1/2 300 CONV DIESEL",310,"to 310",null,"Hour",29.56]
[null,8805,"Truck, Pickup","Miscellaneous 4X2 1 3/4 360 CONV DSL",360,"to 360",null,"Hour",34.090000000000003]
[null,8806,"Truck, Pickup","Miscellaneous 4X2 3/4 160 CONV DSL",160,"to 160",null,"Hour",17]
[null,8807,"Truck, Pickup","Miscellaneous 4X4 3/4 285 CREW GAS",285,"to 285",null,"Hour",27.78]
[null,8808,"Truck, Pickup","4X4 1 340 CREW DSL",340,"to 340",null,"Hour",31.81]
[null,8809,"Truck, Pickup","4X4 1 1/4 360 CREW GAS",360,"to 360",null,"Hour",35.450000000000003]
[null,8810,"Truck, Pickup","4X4 1 1/2 362 CREW GAS",362,"to 362",null,"Hour",35.869999999999997]
[null,8811,"Truck, Pickup","4X4 1 3/4 362 CREW GAS",362,"to 362",null,"Hour",36.619999999999997]
[null,8820,"Skidder accessory",null,null,"N/A",null,"Hour",2.17]
[null,8821,"Forklift, accessory",null,null,"N/A",null,"Hour",1.93]
[null,8822,"Truck,  Loader","BARKO 495ML Magnum",null,0,null,"Hour",68.930000000000007]
[null,8823,"Chipper- Wood Recycler","Bandit 2400XP",null,"to 645",null,"Hour",243.59]
[null,8824,"Skidder","Caterpillar 525B (disc. 2006)",160,"to 160",null,"Hour",122.04]
[null,8825,"Skidder","Caterpillar 525C (disc. 2014)",182,"to 182",null,"Hour",143.94999999999999]
[null,8840,"Truck, service",null,null,"215-225",null,"Hour",49.8]
[null,8841,"Truck, fuel","Miscellaneous BB2 Gas 4X2 2000",null,"to 200",null,"Hour",38.94]
[null,8842,"Mobile Command Trailer",null,null,0,null,"Hour",18.25]
[null,8843,"Mobile Response Trailer",null,null,0,null,"Hour",17.190000000000001]
[null,8844,"Mobile Command Center","40-ft long; GVWR: 56000 lbs; 20 kw generator",null,"to 400",null,"Hour",106.68]
[null,8845,"Mobile Command Post Vehicle","22-ft long;",null,"to 340",null,"Hour",39.090000000000003]
[null,8846,"Mobile Command Post Vehicle","25'6\" long; GVWR 19500 lbs; Duramax Diesel",null,"to 325",null,"Hour",25.19]
[null,8847,"Mobile Command Center (Trailer)","42\" long",null,null,null,"Hour",39.270000000000003]
[null,8848,"Mobile Command Center (Trailer)",null,null,null,null,"Hour",62.81]
[null,8849,"Mobile Command Center",null,null,"to 280","Generator Rate not included","Hour",68.61]
[null,8850,"Mobile Command Center","GVWR: 22500 lbs; Diesel",null,"to 260",null,"Hour",58.38]
[null,8851,"Mobile Command Van","Sprinter; GVWR: 11030",null,"to 230","Communication Equipment","Hour",53.01]
[null,8852,"Mobile Command Center",null,null,"to 410",null,"Hour",84.3]
[null,8853,"Mobile Command Center",null,null,"to 410",null,"Hour",56.86]
[null,8854,"Mobile Command Vehicle","GVWR: 54600 lbs",null,"to 450",null,"Hour",122.47]
[null,8870,"Light Tower","Miscellaneous HEAVY DUTY-14","30-FT","to 13.5",null,"Hour",9.65]
[null,8871,"Light Tower","Miscellaneous LIGHT DUTY-7-1/2","20-FT","to 7.5",null,"Hour",5.7]
[null,8872,"Sand Bagger Machine",null,null,"2-4.5",null,"Hour",61.23]
[null,8900,"Helicopter",null,null,"to 420",null,"Hour",578.64]
[null,8901,"Helicopter",null,null,"to 420",null,"Hour",605.89]
[null,8902,"Helicopter","Jet Range III-Helicopter",null,"to 650","Jet Range III-Helicopter","Hour",712.45]
[null,8903,"Helicopter","Long Ranger",null,"to 650","Long Ranger","Hour",725.42]
[null,8904,"Helicopter","Twinranger",null,"to 450","Twinranger","Hour",945.76]
[null,8905,"Helicopter","Model Bell 407 EMS- Ambulance",null,"to 250",null,"Hour",774.84]
[null,8906,"Fixed wing","Model Navajo PA-31",null,"to 310",null,"Hour",590.53]
[null,8907,"Fixed wing","PA-31-350, Navajo Chieftain twin\nengine",null,"to 350",null,"Hour",628.44000000000005]
[null,8908,"Helicopter","Fire Fighter Same as S70C",null,"to 1890","Fire Fighter Same as S70C","Hour",3685.48]
[null,8909,"Helicopter","Fire Fighter",null,"to 1890","Fire Fighter","Hour",6887.91]
[null,8910,"Helicopter","Fire Fighter",null,"to 2850","Fire Fighter","Hour",13452.95]
[null,8911,"Helicopter- light utility","Model  Bell 407GX - 7 seater",null,"to 250","Passenger Aircraft","Hour",768.68]
[null,8912,"Helicopter- light utility","Model Bell 206L- 7 seater",null,null,"Passenger Aircraft","Hour",753.24]
[null,8913,"Helicopter","Model Bell-206L4",null,"to 420",null,"Hour",706.55]
[null,8914,"Fixed wing","Blackhawk King Air B200XP61",null,"to 669",null,"Hour",1633.2]
[null,8915,"Fixed wing","Blackhawk Caravan XP42 A",null,"to 850",null,"Hour",914.57]
[null,8916,"Fixed wing","King Air C90 XP135 A",null,"to 550",null,"Hour",1373.27]
[null,8917,"Aerostar Helicopter","Aerostar 601P",null,"to 290",null,"Hour",578.23]
[null,"A","B","C","D","E","F","G","H"]
[null,"Cost Code","Equipment","Specifications/Manufacturer","Capacity or Size","HP","Notes","Unit","2023 Rates"]
[null,8918,"Huey Helicopter","Engine:1 × Lycoming T53-L-11 turboshaft",null,"to 1100","Travel Range 253 NaticalMiles","Hour",1705.85]
[null,8919,"Helicopter","Utility Bell 429",null,"to 710",null,"Hour",1124.18]
[null,8920,"Helicopter","Commercial Bell Huey II",null,null,null,"Hour",1346.58]
[null,8943,"Wire Puller Machine",null,null,"to 30","Overhead/Underground Wire\nPulling Machine","Hour",24.98]
[null,8944,"Wire Tensioning Machine",null,null,0,"Overhead Wire TensioningMachine","Hour",18.39]
[null,8945,"Aerial Lift","Genie GS-2646","1000 lbs",0,"24 Volt","Hour",25.95]

{"sheet":"Labor Template","index":13,"n_rows":57,"n_cols":35,"rows_kept":57,"cut":false,"hidden":true,"merged":[[52,0,53,0],[1,0,1,2],[1,4,1,6],[1,7,1,11],[1,12,1,14],[35,0,36,0],[17,0,18,0],[10,3,12,3],[11,0,12,0],[28,3,30,3],[29,0,30,0],[23,0,24,0],[16,3,18,3],[41,0,42,0],[47,0,48,0],[22,3,24,3],[0,12,0,14],[2,0,3,0],[2,1,3,1],[2,3,3,3],[4,3,6,3],[2,4,3,4],[2,5,3,5],[0,0,0,2],[0,4,0,6],[5,0,6,0],[0,7,0,11],[54,16,54,20],[55,16,55,20],[0,19,0,26],[1,19,1,26],[2,21,3,21],[2,22,3,22],[2,23,3,23],[2,24,3,24],[2,25,3,25],[2,26,3,26],[1,15,1,18],[52,16,52,20],[53,16,53,20],[0,15,0,18],[37,3,39,3],[43,3,45,3],[49,3,51,3],[7,3,9,3],[13,3,15,3],[19,3,21,3],[25,3,27,3],[31,3,33,3],[34,3,36,3],[46,3,48,3],[40,3,42,3]]}
["APPLICANT - FIPS#",null,null,null,"DISASTER #:",null,null,"PROJECT #:",null,null,null,null,"CATEGORY A-G",null,null,"EMMIE #",null,null,null,"Work Completion Date"]
[{"$f":"IF('PAYROLL RECORD'!$B$5=\"START HERE\",\"\",'PAYROLL RECORD'!$B$5)","v":0},null,null,null,{"$f":"IF('PAYROLL RECORD'!$F$5=\"DISASTER\",\"\",'PAYROLL RECORD'!$F$5)","v":0},null,null,{"$f":"IF('PAYROLL RECORD'!$I$5=\"PROJECT #\",\"\",'PAYROLL RECORD'!$I$5)","v":0},null,null,null,null,{"$f":"IF('PAYROLL RECORD'!$M$5=\"CATEGORY\",\"\",'PAYROLL RECORD'!$M$5)","v":0},null,null,{"$f":"IF('PAYROLL RECORD'!$O$5=\"EMMIE #\",\"\",'PAYROLL RECORD'!$O$5)","v":0},null,null,null,{"$f":"IF('PAYROLL RECORD'!$Q$5=\"DATE\",\"\",'PAYROLL RECORD'!$Q$5)","v":"00:00:00"}]
["Employee/\nEquipment",null,"RATE w/",null,"COST CODE","RATE","2014-04-06",{"$f":"G3+1","v":"2014-04-07"},{"$f":"H3+1","v":"2014-04-08"},"2014-04-09","2014-04-10","2014-04-11","2014-04-12","2014-04-13","2014-04-14","2014-04-15","2014-04-16","2014-04-17","2014-04-18","2014-04-19","2014-04-20","REG","OT1","OT2","REG TIME\nCOST","OT1\nCOST","OT2\nCOST"]
[null,null,"FRINGE",null,null,null,{"$f":"IF(G3<=0,\"\",TEXT(WEEKDAY(G3),\"ddd\"))","v":"Sun"},{"$f":"IF(H3<=0,\"\",TEXT(WEEKDAY(H3),\"ddd\"))","v":"Mon"},"Tue","Wed","Thu","Fri","Sat","Sun","Mon","Tue","Wed","Thu","Fri","Sat",{"$f":"IF(U3<=0,\"\",TEXT(WEEKDAY(U3),\"ddd\"))","v":"Sun"}]
[null,"REG",{"$f":"IF(ISBLANK(A5),0,VLOOKUP(A5,'PAYROLL RECORD'!$B$8:$U$2005,18,FALSE))","v":0},null,null,null,null,null,null,null,null,null,null,null,null,null,null,null,null,null,null,{"$f":"SUM($G5:$U5)","v":0},null,null,{"$f":"IF(AND('PAYROLL RECORD'!$M$5=\"A\",C5=\"T\"),C5*V5,0)+IF(AND('PAYROLL RECORD'!$M$5=\"B\",C5=\"T\"),(C5*V5),0)+IF(AND('PAYROLL RECORD'!$M$5=\"Ap\"),(C5*V5),0)+IF('PAYROLL RECORD'!$M$5>=\"C\",C5*V5)","v":0}]
[{"$f":"IF(ISBLANK(A5),\" \",VLOOKUP(A5,'PAYROLL RECORD'!$B$9:$C$10740,2,FALSE))","v":" "},"OT1",{"$f":"IF(ISBLANK(A5),0,VLOOKUP(A5,'PAYROLL RECORD'!$B$8:$U$2005,19,FALSE))","v":0},null,null,null,null,null,null,null,null,null,null,null,null,null,null,null,null,null,null,null,{"$f":"SUM($G6:$U6)","v":0},null,null,{"$f":"W6*C6","v":0}]
[null,"OT2",{"$f":"IF(ISBLANK(A5),0,VLOOKUP(A5,'PAYROLL RECORD'!$B$8:$U$2005,20,FALSE))","v":0},null,null,null,null,null,null,null,null,null,null,null,null,null,null,null,null,null,null,null,null,{"$f":"SUM($G7:$U7)","v":0},null,null,{"$f":"X7*C7","v":0}]
[null,null,null,null,{"$f":"IF(ISBLANK(A8),0,VLOOKUP(A8,'EQUIPMENT INVENTORY'!$B$7:$AK$1021,7,0))","v":0},{"$f":"IF(ISBLANK(A8),0,VLOOKUP(A8,'EQUIPMENT INVENTORY'!$B$7:$AK$1021,8,0))","v":0},null,null,null,null,null,null,null,null,null,null,null,null,null,null,null,{"$f":"SUM($G8:$U8)","v":0},null,null,{"$f":"V8*F8","v":0}]
[null,null,null,null,{"$f":"IF(ISBLANK(A9),0,VLOOKUP(A9,'EQUIPMENT INVENTORY'!$B$7:$AK$1021,7,0))","v":0},{"$f":"IF(ISBLANK(A9),0,VLOOKUP(A9,'EQUIPMENT INVENTORY'!$B$7:$AK$1021,8,0))","v":0},null,null,null,null,null,null,null,null,null,null,null,null,null,null,null,{"$f":"SUM($G9:$U9)","v":0},null,null,{"$f":"V9*F9","v":0}]
[null,null,null,null,{"$f":"IF(ISBLANK(A10),0,VLOOKUP(A10,'EQUIPMENT INVENTORY'!$B$7:$AK$1021,7,0))","v":0},{"$f":"IF(ISBLANK(A10),0,VLOOKUP(A10,'EQUIPMENT INVENTORY'!$B$7:$AK$1021,8,0))","v":0},null,null,null,null,null,null,null,null,null,null,null,null,null,null,null,{"$f":"SUM($G10:$U10)","v":0},null,null,{"$f":"V10*F10","v":0}]
[null,"REG",{"$f":"IF(ISBLANK(A11),0,VLOOKUP(A11,'PAYROLL RECORD'!$B$8:$U$2005,18,FALSE))","v":0},null,null,null,null,null,null,null,null,null,null,null,null,null,null,null,null,null,null,{"$f":"SUM($G11:$U11)","v":0},null,null,{"$f":"IF(AND('PAYROLL RECORD'!$M$5=\"A\",C11=\"T\"),C11*V11,0)+IF(AND('PAYROLL RECORD'!$M$5=\"B\",C11=\"T\"),(C11*V11),0)+IF(AND('PAYROLL RECORD'!$M$5=\"Ap\"),(C11*V11),0)+IF('PAYROLL RECORD'!$M$5>=\"C\",C11*V11)","v":0}]
[{"$f":"IF(ISBLANK(A11),\" \",VLOOKUP(A11,'PAYROLL RECORD'!$B$9:$C$10740,2,FALSE))","v":" "},"OT1",{"$f":"IF(ISBLANK(A11),0,VLOOKUP(A11,'PAYROLL RECORD'!$B$8:$U$2005,19,FALSE))","v":0},null,null,null,null,null,null,null,null,null,null,null,null,null,null,null,null,null,null,null,{"$f":"SUM($G12:$U12)","v":0},null,null,{"$f":"W12*C12","v":0}]
[null,"OT2",{"$f":"IF(ISBLANK(A11),0,VLOOKUP(A11,'PAYROLL RECORD'!$B$8:$U$2005,20,FALSE))","v":0},null,null,null,null,null,null,null,null,null,null,null,null,null,null,null,null,null,null,null,null,{"$f":"SUM($G13:$U13)","v":0},null,null,{"$f":"X13*C13","v":0}]
[null,null,null,null,{"$f":"IF(ISBLANK(A14),0,VLOOKUP(A14,'EQUIPMENT INVENTORY'!$B$7:$AK$1021,7,0))","v":0},{"$f":"IF(ISBLANK(A14),0,VLOOKUP(A14,'EQUIPMENT INVENTORY'!$B$7:$AK$1021,8,0))","v":0},null,null,null,null,null,null,null,null,null,null,null,null,null,null,null,{"$f":"SUM($G14:$U14)","v":0},null,null,{"$f":"V14*F14","v":0}]
[null,null,null,null,{"$f":"IF(ISBLANK(A15),0,VLOOKUP(A15,'EQUIPMENT INVENTORY'!$B$7:$AK$1021,7,0))","v":0},{"$f":"IF(ISBLANK(A15),0,VLOOKUP(A15,'EQUIPMENT INVENTORY'!$B$7:$AK$1021,8,0))","v":0},null,null,null,null,null,null,null,null,null,null,null,null,null,null,null,0,null,null,{"$f":"V15*F15","v":0}]
[null,null,null,null,{"$f":"IF(ISBLANK(A16),0,VLOOKUP(A16,'EQUIPMENT INVENTORY'!$B$7:$AK$1021,7,0))","v":0},{"$f":"IF(ISBLANK(A16),0,VLOOKUP(A16,'EQUIPMENT INVENTORY'!$B$7:$AK$1021,8,0))","v":0},null,null,null,null,null,null,null,null,null,null,null,null,null,null,null,0,null,null,{"$f":"V16*F16","v":0}]
[null,"REG",{"$f":"IF(ISBLANK(A17),0,VLOOKUP(A17,'PAYROLL RECORD'!$B$8:$U$2005,18,FALSE))","v":0},null,null,null,null,null,null,null,null,null,null,null,null,null,null,null,null,null,null,0,null,null,{"$f":"IF(AND('PAYROLL RECORD'!$M$5=\"A\",C17=\"T\"),C17*V17,0)+IF(AND('PAYROLL RECORD'!$M$5=\"B\",C17=\"T\"),(C17*V17),0)+IF(AND('PAYROLL RECORD'!$M$5=\"Ap\"),(C17*V17),0)+IF('PAYROLL RECORD'!$M$5>=\"C\",C17*V17)","v":0}]
[{"$f":"IF(ISBLANK(A17),\" \",VLOOKUP(A17,'PAYROLL RECORD'!$B$9:$C$10740,2,FALSE))","v":" "},"OT1",{"$f":"IF(ISBLANK(A17),0,VLOOKUP(A17,'PAYROLL RECORD'!$B$8:$U$2005,19,FALSE))","v":0},null,null,null,null,null,null,null,null,null,null,null,null,null,null,null,null,null,null,null,{"$f":"SUM($G18:$U18)","v":0},null,null,{"$f":"W18*C18","v":0}]
[null,"OT2",{"$f":"IF(ISBLANK(A17),0,VLOOKUP(A17,'PAYROLL RECORD'!$B$8:$U$2005,20,FALSE))","v":0},null,null,null,null,null,null,null,null,null,null,null,null,null,null,null,null,null,null,null,null,{"$f":"SUM($G19:$U19)","v":0},null,null,{"$f":"X19*C19","v":0}]
[null,null,null,null,{"$f":"IF(ISBLANK(A20),0,VLOOKUP(A20,'EQUIPMENT INVENTORY'!$B$7:$AK$1021,7,0))","v":0},{"$f":"IF(ISBLANK(A20),0,VLOOKUP(A20,'EQUIPMENT INVENTORY'!$B$7:$AK$1021,8,0))","v":0},null,null,null,null,null,null,null,null,null,null,null,null,null,null,null,0,null,null,{"$f":"V20*F20","v":0}]
[null,null,null,null,{"$f":"IF(ISBLANK(A21),0,VLOOKUP(A21,'EQUIPMENT INVENTORY'!$B$7:$AK$1021,7,0))","v":0},{"$f":"IF(ISBLANK(A21),0,VLOOKUP(A21,'EQUIPMENT INVENTORY'!$B$7:$AK$1021,8,0))","v":0},null,null,null,null,null,null,null,null,null,null,null,null,null,null,null,0,null,null,{"$f":"V21*F21","v":0}]
[null,null,null,null,{"$f":"IF(ISBLANK(A22),0,VLOOKUP(A22,'EQUIPMENT INVENTORY'!$B$7:$AK$1021,7,0))","v":0},{"$f":"IF(ISBLANK(A22),0,VLOOKUP(A22,'EQUIPMENT INVENTORY'!$B$7:$AK$1021,8,0))","v":0},null,null,null,null,null,null,null,null,null,null,null,null,null,null,null,0,null,null,{"$f":"V22*F22","v":0}]
[null,"REG",{"$f":"IF(ISBLANK(A23),0,VLOOKUP(A23,'PAYROLL RECORD'!$B$8:$U$2005,18,FALSE))","v":0},null,null,null,null,null,null,null,null,null,null,null,null,null,null,null,null,null,null,0,null,null,{"$f":"IF(AND('PAYROLL RECORD'!$M$5=\"A\",C23=\"T\"),C23*V23,0)+IF(AND('PAYROLL RECORD'!$M$5=\"B\",C23=\"T\"),(C23*V23),0)+IF(AND('PAYROLL RECORD'!$M$5=\"Ap\"),(C23*V23),0)+IF('PAYROLL RECORD'!$M$5>=\"C\",C23*V23)","v":0}]
[{"$f":"IF(ISBLANK(A23),\" \",VLOOKUP(A23,'PAYROLL RECORD'!$B$9:$C$10740,2,FALSE))","v":" "},"OT1",{"$f":"IF(ISBLANK(A23),0,VLOOKUP(A23,'PAYROLL RECORD'!$B$8:$U$2005,19,FALSE))","v":0},null,null,null,null,null,null,null,null,null,null,null,null,null,null,null,null,null,null,null,{"$f":"SUM($G24:$U24)","v":0},null,null,{"$f":"W24*C24","v":0}]
[null,"OT2",{"$f":"IF(ISBLANK(A23),0,VLOOKUP(A23,'PAYROLL RECORD'!$B$8:$U$2005,20,FALSE))","v":0},null,null,null,null,null,null,null,null,null,null,null,null,null,null,null,null,null,null,null,null,{"$f":"SUM($G25:$U25)","v":0},null,null,{"$f":"X25*C25","v":0}]
[null,null,null,null,{"$f":"IF(ISBLANK(A26),0,VLOOKUP(A26,'EQUIPMENT INVENTORY'!$B$7:$AK$1021,7,0))","v":0},{"$f":"IF(ISBLANK(A26),0,VLOOKUP(A26,'EQUIPMENT INVENTORY'!$B$7:$AK$1021,8,0))","v":0},null,null,null,null,null,null,null,null,null,null,null,null,null,null,null,0,null,null,{"$f":"V26*F26","v":0}]
[null,null,null,null,{"$f":"IF(ISBLANK(A27),0,VLOOKUP(A27,'EQUIPMENT INVENTORY'!$B$7:$AK$1021,7,0))","v":0},{"$f":"IF(ISBLANK(A27),0,VLOOKUP(A27,'EQUIPMENT INVENTORY'!$B$7:$AK$1021,8,0))","v":0},null,null,null,null,null,null,null,null,null,null,null,null,null,null,null,0,null,null,{"$f":"V27*F27","v":0}]
[null,null,null,null,{"$f":"IF(ISBLANK(A28),0,VLOOKUP(A28,'EQUIPMENT INVENTORY'!$B$7:$AK$1021,7,0))","v":0},{"$f":"IF(ISBLANK(A28),0,VLOOKUP(A28,'EQUIPMENT INVENTORY'!$B$7:$AK$1021,8,0))","v":0},null,null,null,null,null,null,null,null,null,null,null,null,null,null,null,0,null,null,{"$f":"V28*F28","v":0}]
[null,"REG",{"$f":"IF(ISBLANK(A29),0,VLOOKUP(A29,'PAYROLL RECORD'!$B$8:$U$2005,18,FALSE))","v":0},null,null,null,null,null,null,null,null,null,null,null,null,null,null,null,null,null,null,0,null,null,{"$f":"IF(AND('PAYROLL RECORD'!$M$5=\"A\",C29=\"T\"),C29*V29,0)+IF(AND('PAYROLL RECORD'!$M$5=\"B\",C29=\"T\"),(C29*V29),0)+IF(AND('PAYROLL RECORD'!$M$5=\"Ap\"),(C29*V29),0)+IF('PAYROLL RECORD'!$M$5>=\"C\",C29*V29)","v":0}]
[{"$f":"IF(ISBLANK(A29),\" \",VLOOKUP(A29,'PAYROLL RECORD'!$B$9:$C$10740,2,FALSE))","v":" "},"OT1",{"$f":"IF(ISBLANK(A29),0,VLOOKUP(A29,'PAYROLL RECORD'!$B$8:$U$2005,19,FALSE))","v":0},null,null,null,null,null,null,null,null,null,null,null,null,null,null,null,null,null,null,null,{"$f":"SUM($G30:$U30)","v":0},null,null,{"$f":"W30*C30","v":0}]
[null,"OT2",{"$f":"IF(ISBLANK(A29),0,VLOOKUP(A29,'PAYROLL RECORD'!$B$8:$U$2005,20,FALSE))","v":0},null,null,null,null,null,null,null,null,null,null,null,null,null,null,null,null,null,null,null,null,{"$f":"SUM($G31:$U31)","v":0},null,null,{"$f":"X31*C31","v":0}]
[null,null,null,null,{"$f":"IF(ISBLANK(A32),0,VLOOKUP(A32,'EQUIPMENT INVENTORY'!$B$7:$AK$1021,7,0))","v":0},{"$f":"IF(ISBLANK(A32),0,VLOOKUP(A32,'EQUIPMENT INVENTORY'!$B$7:$AK$1021,8,0))","v":0},null,null,null,null,null,null,null,null,null,null,null,null,null,null,null,0,null,null,{"$f":"V32*F32","v":0}]
[null,null,null,null,{"$f":"IF(ISBLANK(A33),0,VLOOKUP(A33,'EQUIPMENT INVENTORY'!$B$7:$AK$1021,7,0))","v":0},{"$f":"IF(ISBLANK(A33),0,VLOOKUP(A33,'EQUIPMENT INVENTORY'!$B$7:$AK$1021,8,0))","v":0},null,null,null,null,null,null,null,null,null,null,null,null,null,null,null,0,null,null,{"$f":"V33*F33","v":0}]
[null,null,null,null,{"$f":"IF(ISBLANK(A34),0,VLOOKUP(A34,'EQUIPMENT INVENTORY'!$B$7:$AK$1021,7,0))","v":0},{"$f":"IF(ISBLANK(A34),0,VLOOKUP(A34,'EQUIPMENT INVENTORY'!$B$7:$AK$1021,8,0))","v":0},null,null,null,null,null,null,null,null,null,null,null,null,null,null,null,0,null,null,{"$f":"V34*F34","v":0}]
[null,"REG",{"$f":"IF(ISBLANK(A35),0,VLOOKUP(A35,'PAYROLL RECORD'!$B$8:$U$2005,18,FALSE))","v":0},null,null,null,null,null,null,null,null,null,null,null,null,null,null,null,null,null,null,0,null,null,{"$f":"IF(AND('PAYROLL RECORD'!$M$5=\"A\",C35=\"T\"),C35*V35,0)+IF(AND('PAYROLL RECORD'!$M$5=\"B\",C35=\"T\"),(C35*V35),0)+IF(AND('PAYROLL RECORD'!$M$5=\"Ap\"),(C35*V35),0)+IF('PAYROLL RECORD'!$M$5>=\"C\",C35*V35)","v":0}]
[{"$f":"IF(ISBLANK(A35),\" \",VLOOKUP(A35,'PAYROLL RECORD'!$B$9:$C$10740,2,FALSE))","v":" "},"OT1",{"$f":"IF(ISBLANK(A35),0,VLOOKUP(A35,'PAYROLL RECORD'!$B$8:$U$2005,19,FALSE))","v":0},null,null,null,null,null,null,null,null,null,null,null,null,null,null,null,null,null,null,null,{"$f":"SUM($G36:$U36)","v":0},null,null,{"$f":"W36*C36","v":0}]
[null,"OT2",{"$f":"IF(ISBLANK(A35),0,VLOOKUP(A35,'PAYROLL RECORD'!$B$8:$U$2005,20,FALSE))","v":0},null,null,null,null,null,null,null,null,null,null,null,null,null,null,null,null,null,null,null,null,{"$f":"SUM($G37:$U37)","v":0},null,null,{"$f":"X37*C37","v":0}]
[null,null,null,null,{"$f":"IF(ISBLANK(A38),0,VLOOKUP(A38,'EQUIPMENT INVENTORY'!$B$7:$AK$1021,7,0))","v":0},{"$f":"IF(ISBLANK(A38),0,VLOOKUP(A38,'EQUIPMENT INVENTORY'!$B$7:$AK$1021,8,0))","v":0},null,null,null,null,null,null,null,null,null,null,null,null,null,null,null,0,null,null,{"$f":"V38*F38","v":0}]
[null,null,null,null,{"$f":"IF(ISBLANK(A39),0,VLOOKUP(A39,'EQUIPMENT INVENTORY'!$B$7:$AK$1021,7,0))","v":0},{"$f":"IF(ISBLANK(A39),0,VLOOKUP(A39,'EQUIPMENT INVENTORY'!$B$7:$AK$1021,8,0))","v":0},null,null,null,null,null,null,null,null,null,null,null,null,null,null,null,0,null,null,{"$f":"V39*F39","v":0}]
[null,null,null,null,{"$f":"IF(ISBLANK(A40),0,VLOOKUP(A40,'EQUIPMENT INVENTORY'!$B$7:$AK$1021,7,0))","v":0},{"$f":"IF(ISBLANK(A40),0,VLOOKUP(A40,'EQUIPMENT INVENTORY'!$B$7:$AK$1021,8,0))","v":0},null,null,null,null,null,null,null,null,null,null,null,null,null,null,null,0,null,null,{"$f":"V40*F40","v":0}]
[null,"REG",{"$f":"IF(ISBLANK(A41),0,VLOOKUP(A41,'PAYROLL RECORD'!$B$8:$U$2005,18,FALSE))","v":0},null,null,null,null,null,null,null,null,null,null,null,null,null,null,null,null,null,null,0,null,null,{"$f":"IF(AND('PAYROLL RECORD'!$M$5=\"A\",C41=\"T\"),C41*V41,0)+IF(AND('PAYROLL RECORD'!$M$5=\"B\",C41=\"T\"),(C41*V41),0)+IF(AND('PAYROLL RECORD'!$M$5=\"Ap\"),(C41*V41),0)+IF('PAYROLL RECORD'!$M$5>=\"C\",C41*V41)","v":0}]
[{"$f":"IF(ISBLANK(A41),\" \",VLOOKUP(A41,'PAYROLL RECORD'!$B$9:$C$10740,2,FALSE))","v":" "},"OT1",{"$f":"IF(ISBLANK(A41),0,VLOOKUP(A41,'PAYROLL RECORD'!$B$8:$U$2005,19,FALSE))","v":0},null,null,null,null,null,null,null,null,null,null,null,null,null,null,null,null,null,null,null,{"$f":"SUM($G42:$U42)","v":0},null,null,{"$f":"W42*C42","v":0}]
[null,"OT2",{"$f":"IF(ISBLANK(A41),0,VLOOKUP(A41,'PAYROLL RECORD'!$B$8:$U$2005,20,FALSE))","v":0},null,null,null,null,null,null,null,null,null,null,null,null,null,null,null,null,null,null,null,null,{"$f":"SUM($G43:$U43)","v":0},null,null,{"$f":"X43*C43","v":0}]
[null,null,null,null,{"$f":"IF(ISBLANK(A44),0,VLOOKUP(A44,'EQUIPMENT INVENTORY'!$B$7:$AK$1021,7,0))","v":0},{"$f":"IF(ISBLANK(A44),0,VLOOKUP(A44,'EQUIPMENT INVENTORY'!$B$7:$AK$1021,8,0))","v":0},null,null,null,null,null,null,null,null,null,null,null,null,null,null,null,0,null,null,{"$f":"V44*F44","v":0}]
[null,null,null,null,{"$f":"IF(ISBLANK(A45),0,VLOOKUP(A45,'EQUIPMENT INVENTORY'!$B$7:$AK$1021,7,0))","v":0},{"$f":"IF(ISBLANK(A45),0,VLOOKUP(A45,'EQUIPMENT INVENTORY'!$B$7:$AK$1021,8,0))","v":0},null,null,null,null,null,null,null,null,null,null,null,null,null,null,null,0,null,null,{"$f":"V45*F45","v":0}]
[null,null,null,null,{"$f":"IF(ISBLANK(A46),0,VLOOKUP(A46,'EQUIPMENT INVENTORY'!$B$7:$AK$1021,7,0))","v":0},{"$f":"IF(ISBLANK(A46),0,VLOOKUP(A46,'EQUIPMENT INVENTORY'!$B$7:$AK$1021,8,0))","v":0},null,null,null,null,null,null,null,null,null,null,null,null,null,null,null,0,null,null,{"$f":"V46*F46","v":0}]
[null,"REG",{"$f":"IF(ISBLANK(A47),0,VLOOKUP(A47,'PAYROLL RECORD'!$B$8:$U$2005,18,FALSE))","v":0},null,null,null,null,null,null,null,null,null,null,null,null,null,null,null,null,null,null,0,null,null,{"$f":"IF(AND('PAYROLL RECORD'!$M$5=\"A\",C47=\"T\"),C47*V47,0)+IF(AND('PAYROLL RECORD'!$M$5=\"B\",C47=\"T\"),(C47*V47),0)+IF(AND('PAYROLL RECORD'!$M$5=\"Ap\"),(C47*V47),0)+IF('PAYROLL RECORD'!$M$5>=\"C\",C47*V47)","v":0}]
[{"$f":"IF(ISBLANK(A47),\" \",VLOOKUP(A47,'PAYROLL RECORD'!$B$9:$C$10740,2,FALSE))","v":" "},"OT1",{"$f":"IF(ISBLANK(A47),0,VLOOKUP(A47,'PAYROLL RECORD'!$B$8:$U$2005,19,FALSE))","v":0},null,null,null,null,null,null,null,null,null,null,null,null,null,null,null,null,null,null,null,{"$f":"SUM($G48:$U48)","v":0},null,null,{"$f":"W48*C48","v":0}]
[null,"OT2",{"$f":"IF(ISBLANK(A47),0,VLOOKUP(A47,'PAYROLL RECORD'!$B$8:$U$2005,20,FALSE))","v":0},null,null,null,null,null,null,null,null,null,null,null,null,null,null,null,null,null,null,null,null,{"$f":"SUM($G49:$U49)","v":0},null,null,{"$f":"X49*C49","v":0}]
[null,null,null,null,{"$f":"IF(ISBLANK(A50),0,VLOOKUP(A50,'EQUIPMENT INVENTORY'!$B$7:$AK$1021,7,0))","v":0},{"$f":"IF(ISBLANK(A50),0,VLOOKUP(A50,'EQUIPMENT INVENTORY'!$B$7:$AK$1021,8,0))","v":0},null,null,null,null,null,null,null,null,null,null,null,null,null,null,null,0,null,null,{"$f":"V50*F50","v":0}]
[null,null,null,null,{"$f":"IF(ISBLANK(A51),0,VLOOKUP(A51,'EQUIPMENT INVENTORY'!$B$7:$AK$1021,7,0))","v":0},{"$f":"IF(ISBLANK(A51),0,VLOOKUP(A51,'EQUIPMENT INVENTORY'!$B$7:$AK$1021,8,0))","v":0},null,null,null,null,null,null,null,null,null,null,null,null,null,null,null,0,null,null,{"$f":"V51*F51","v":0}]
[null,null,null,null,{"$f":"IF(ISBLANK(A52),0,VLOOKUP(A52,'EQUIPMENT INVENTORY'!$B$7:$AK$1021,7,0))","v":0},{"$f":"IF(ISBLANK(A52),0,VLOOKUP(A52,'EQUIPMENT INVENTORY'!$B$7:$AK$1021,8,0))","v":0},null,null,null,null,null,null,null,null,null,null,null,null,null,null,null,0,null,null,{"$f":"V52*F52","v":0},null,null,"Reg hrs","ot1 hrs","ot2 hrs","equip hrs","Reg $","ot1 $","ot2 $","equip $"]
[null,null,null,null,null,null,null,null,null,null,null,null,null,null,null,null,"LABOR - Page Total",null,null,null,null,{"$f":"V5+V11+V17+V29+V35+V50","v":0},{"$f":"SUM(W5:W52)","v":0},{"$f":"SUM(X5:X52)","v":0},{"$f":"Y5+Y11+Y17+Y29+Y35+Y50","v":0},{"$f":"SUM(Z6:Z52)","v":0},{"$f":"SUM(AA6:AA52)","v":0},{"$f":"V53","v":0},{"$f":"W53","v":0},{"$f":"X53","v":0},{"$f":"W54","v":0},{"$f":"Y53","v":0},{"$f":"Z53","v":0},{"$f":"AA53","v":0},{"$f":"Y54","v":0}]
[null,null,null,null,null,null,null,null,null,null,null,null,null,null,null,null,"EQUIPMENT - Page Total",null,null,null,null,{"$f":"V8+V9+V10+V14+V15+V16+V20+V21+V22+V26+V27+V28+V32+V33+V34+V38+V39+V40+V50+V51+V52","v":0},null,null,{"$f":"Y8+Y9+Y10+Y14+Y15+Y16+Y20+Y21+Y22+Y26+Y27+Y28+Y32+Y33+Y34+Y38+Y39+Y40+Y50+Y51+Y52","v":0}]
[null,null,null,null,null,null,null,null,null,null,null,null,null,null,null,null,"LABOR - Grand Total",null,null,null,null,{"$f":"SUM($AB:$AB)","v":0},{"$f":"SUM($AC:$AC)","v":0},{"$f":"SUM($AD:$AD)","v":0},{"$f":"SUM($AF:$AF)","v":0},{"$f":"SUM($AG:$AG)","v":0},{"$f":"SUM($AH:$AH)","v":0}]
[null,null,null,null,null,null,null,null,null,null,null,null,null,null,null,null,"EQUIPMENT - Grand Total",null,null,null,null,{"$f":"SUM($AE:$AE)","v":0},null,null,{"$f":"SUM($AI:$AI)","v":0}]
[null,null,null,null,null,null,null,null,null,null,null,null,null,null,null,null,null,null,null,null,null,null,null,null,null,null,null,null,null,null,null,null,null,null," "]

{"sheet":"Payroll Record Add In","index":14,"n_rows":21,"n_cols":21,"rows_kept":21,"cut":false,"hidden":true,"merged":[]}
[null,null,null,null,null,null,null,null,6.2E-2,1.4500000000000001E-2,null,null,null,null,null,{"$f":"IF(D1>0,IF(J$5=TRUE,FRINGE!$G$38,(SUM(H1:K1)+SUM(N1:O1)+SUM(E1:G1)*8/2080+SUM(L1:M1)*12/(D1*2080))),0)","v":0},{"$f":"IF($D1>0,IF(J$5=TRUE,FRINGE!$L$38,(SUM(H1:K1)+N1)),0)","v":0},{"$f":"IF(D1<=0,\"\",(D1*(1+P1)))","v":""},{"$f":"IF(D1<=0,\"\",(D1*1.5*(1+Q1)))","v":""},{"$f":"IF(D1<=0,\"\",(D1*(1+Q1)))","v":""}]
[null,null,null,null,null,null,null,null,6.2E-2,1.4500000000000001E-2,null,null,null,null,null,{"$f":"IF(D2>0,IF(J$3=TRUE,FRINGE!$G$38,(SUM(H2:K2)+SUM(N2:O2)+SUM(E2:G2)*8/2080+SUM(L2:M2)*12/(D2*2080))),0)","v":0},{"$f":"IF($D2>0,IF(J$3=TRUE,FRINGE!$L$38,(SUM(H2:K2)+N2)),0)","v":0},{"$f":"IF(D2<=0,\"\",(D2*(1+P2)))","v":""},{"$f":"IF(D2<=0,\"\",(D2*1.5*(1+Q2)))","v":""},{"$f":"IF(D2<=0,\"\",(D2*2*(1+Q2)))","v":""},"FT"]
[null,null,null,null,null,null,null,null,6.2E-2,1.4500000000000001E-2,null,null,null,null,null,{"$f":"IF(D3>0,IF(J$3=TRUE,FRINGE!$G$38,(SUM(H3:K3)+SUM(N3:O3)+SUM(E3:G3)*8/2080+SUM(L3:M3)*12/(D3*2080))),0)","v":0},{"$f":"IF($D3>0,IF(J$3=TRUE,FRINGE!$L$38,(SUM(H3:K3)+N3)),0)","v":0},"","",{"$f":"IF(D3<=0,\"\",(D3*2*(1+Q3)))","v":""},"T"]
[null,null,null,null,null,null,null,null,6.2E-2,1.4500000000000001E-2,null,null,null,null,null,{"$f":"IF(D4>0,IF(J$3=TRUE,FRINGE!$G$38,(SUM(H4:K4)+SUM(N4:O4)+SUM(E4:G4)*8/2080+SUM(L4:M4)*12/(D4*2080))),0)","v":0},{"$f":"IF($D4>0,IF(J$3=TRUE,FRINGE!$L$38,(SUM(H4:K4)+N4)),0)","v":0},"","",{"$f":"IF(D4<=0,\"\",(D4*2*(1+Q4)))","v":""},"PT"]
[null,null,null,null,null,null,null,null,6.2E-2,1.4500000000000001E-2,null,null,null,null,null,{"$f":"IF(D5>0,IF(J$3=TRUE,FRINGE!$G$38,(SUM(I5:K5)+SUM(N5:O5)+SUM(E5:G5)*8/2080+SUM(L5:M5)*12/(D5*2080))),0)","v":0},{"$f":"IF($D5>0,IF(J$3=TRUE,FRINGE!$L$38,(SUM(H5:K5)+N5)),0)","v":0},"","",{"$f":"IF(D5<=0,\"\",(D5*(1+FRINGE!$G$38)))","v":""},"S"]
[null,null,null,null,null,null,null,null,6.2E-2,1.4500000000000001E-2,null,null,null,null,null,{"$f":"IF(D6>0,IF(J$3=TRUE,FRINGE!$G$38,(SUM(I6:K6)+SUM(N6:O6)+SUM(E6:G6)*8/2080+SUM(L6:M6)*12/(D6*2080))),0)","v":0},{"$f":"IF($D6>0,IF(J$3=TRUE,FRINGE!$L$38,(SUM(H6:K6)+N6)),0)","v":0},"","",{"$f":"IF(D6<=0,\"\",(D6*(1+FRINGE!$G$38)))","v":""}]
[null,null,null,null,null,null,null,null,6.2E-2,1.4500000000000001E-2,null,null,null,null,null,{"$f":"IF(D7>0,IF(J$3=TRUE,FRINGE!$G$38,(SUM(I7:K7)+SUM(N7:O7)+SUM(E7:G7)*8/2080+SUM(L7:M7)*12/(D7*2080))),0)","v":0},{"$f":"IF($D7>0,IF(J$3=TRUE,FRINGE!$L$38,(SUM(H7:K7)+N7)),0)","v":0},"","",{"$f":"IF(D7<=0,\"\",(D7*(1+FRINGE!$G$38)))","v":""}]
[null,null,null,null,null,null,null,null,6.2E-2,1.4500000000000001E-2,null,null,null,null,null,{"$f":"IF(D8>0,IF(J$3=TRUE,FRINGE!$G$38,(SUM(I8:K8)+SUM(N8:O8)+SUM(E8:G8)*8/2080+SUM(L8:M8)*12/(D8*2080))),0)","v":0},{"$f":"IF($D8>0,IF(J$3=TRUE,FRINGE!$L$38,(SUM(H8:K8)+N8)),0)","v":0},"","",{"$f":"IF(D8<=0,\"\",(D8*(1+FRINGE!$G$38)))","v":""}]
[null,null,null,null,null,null,null,null,6.2E-2,1.4500000000000001E-2,null,null,null,null,null,{"$f":"IF(D9>0,IF(J$3=TRUE,FRINGE!$G$38,(SUM(I9:K9)+SUM(N9:O9)+SUM(E9:G9)*8/2080+SUM(L9:M9)*12/(D9*2080))),0)","v":0},{"$f":"IF($D9>0,IF(J$3=TRUE,FRINGE!$L$38,(SUM(H9:K9)+N9)),0)","v":0},"","",{"$f":"IF(D9<=0,\"\",(D9*(1+FRINGE!$G$38)))","v":""}]
[null,null,null,null,null,null,null,null,6.2E-2,1.4500000000000001E-2,null,null,null,null,null,{"$f":"IF(D10>0,IF(J$3=TRUE,FRINGE!$G$38,(SUM(I10:K10)+SUM(N10:O10)+SUM(E10:G10)*8/2080+SUM(L10:M10)*12/(D10*2080))),0)","v":0},{"$f":"IF($D10>0,IF(J$3=TRUE,FRINGE!$L$38,(SUM(H10:K10)+N10)),0)","v":0},"","",{"$f":"IF(D10<=0,\"\",(D10*(1+FRINGE!$G$38)))","v":""}]
[null,null,null,null,null,null,null,null,6.2E-2,1.4500000000000001E-2,null,null,null,null,null,{"$f":"IF(D11>0,IF(J$3=TRUE,FRINGE!$G$38,(SUM(I11:K11)+SUM(N11:O11)+SUM(E11:G11)*8/2080+SUM(L11:M11)*12/(D11*2080))),0)","v":0},{"$f":"IF($D11>0,IF(J$3=TRUE,FRINGE!$L$38,(SUM(H11:K11)+N11)),0)","v":0},"","",{"$f":"IF(D11<=0,\"\",(D11*(1+FRINGE!$G$38)))","v":""}]
[null,null,null,null,null,null,null,null,6.2E-2,1.4500000000000001E-2,null,null,null,null,null,{"$f":"IF(D12>0,IF(J$3=TRUE,FRINGE!$G$38,(SUM(I12:K12)+SUM(N12:O12)+SUM(E12:G12)*8/2080+SUM(L12:M12)*12/(D12*2080))),0)","v":0},{"$f":"IF($D12>0,IF(J$3=TRUE,FRINGE!$L$38,(SUM(H12:K12)+N12)),0)","v":0},"","",{"$f":"IF(D12<=0,\"\",(D12*(1+FRINGE!$G$38)))","v":""}]
[null,null,null,null,null,null,null,null,6.2E-2,1.4500000000000001E-2,null,null,null,null,null,{"$f":"IF(D13>0,IF(J$3=TRUE,FRINGE!$G$38,(SUM(I13:K13)+SUM(N13:O13)+SUM(E13:G13)*8/2080+SUM(L13:M13)*12/(D13*2080))),0)","v":0},{"$f":"IF($D13>0,IF(J$3=TRUE,FRINGE!$L$38,(SUM(H13:K13)+N13)),0)","v":0},"","",{"$f":"IF(D13<=0,\"\",(D13*(1+FRINGE!$G$38)))","v":""}]
[null,null,null,null,null,null,null,null,6.2E-2,1.4500000000000001E-2,null,null,null,null,null,{"$f":"IF(D14>0,IF(J$3=TRUE,FRINGE!$G$38,(SUM(I14:K14)+SUM(N14:O14)+SUM(E14:G14)*8/2080+SUM(L14:M14)*12/(D14*2080))),0)","v":0},{"$f":"IF($D14>0,IF(J$3=TRUE,FRINGE!$L$38,(SUM(H14:K14)+N14)),0)","v":0},"","",{"$f":"IF(D14<=0,\"\",(D14*(1+FRINGE!$G$38)))","v":""}]
[null,null,null,null,null,null,null,null,6.2E-2,1.4500000000000001E-2,null,null,null,null,null,{"$f":"IF(D15>0,IF(J$3=TRUE,FRINGE!$G$38,(SUM(I15:K15)+SUM(N15:O15)+SUM(E15:G15)*8/2080+SUM(L15:M15)*12/(D15*2080))),0)","v":0},{"$f":"IF($D15>0,IF(J$3=TRUE,FRINGE!$L$38,(SUM(H15:K15)+N15)),0)","v":0},"","",{"$f":"IF(D15<=0,\"\",(D15*(1+FRINGE!$G$38)))","v":""}]
[null,null,null,null,null,null,null,null,6.2E-2,1.4500000000000001E-2,null,null,null,null,null,{"$f":"IF(D16>0,IF(J$3=TRUE,FRINGE!$G$38,(SUM(I16:K16)+SUM(N16:O16)+SUM(E16:G16)*8/2080+SUM(L16:M16)*12/(D16*2080))),0)","v":0},{"$f":"IF($D16>0,IF(J$3=TRUE,FRINGE!$L$38,(SUM(H16:K16)+N16)),0)","v":0},{"$f":"IF(D16<=0,\"\",(D16*(1+P16)))","v":""},{"$f":"IF(D16<=0,\"\",(D16*1.5*(1+Q16)))","v":""},{"$f":"IF(D16<=0,\"\",(D16*(1+FRINGE!$G$38)))","v":""}]
[null,null,null,null,null,null,null,null,6.2E-2,1.4500000000000001E-2,null,null,null,null,null,{"$f":"IF(D17>0,IF(J$3=TRUE,FRINGE!$G$38,(SUM(I17:K17)+SUM(N17:O17)+SUM(E17:G17)*8/2080+SUM(L17:M17)*12/(D17*2080))),0)","v":0},{"$f":"IF($D17>0,IF(J$3=TRUE,FRINGE!$L$38,(SUM(H17:K17)+N17)),0)","v":0},{"$f":"IF(D17<=0,\"\",(D17*(1+P17)))","v":""},{"$f":"IF(D17<=0,\"\",(D17*1.5*(1+Q17)))","v":""},{"$f":"IF(D17<=0,\"\",(D17*(1+FRINGE!$G$38)))","v":""}]
[null,null,null,null,null,null,null,null,6.2E-2,1.4500000000000001E-2,null,null,null,null,null,{"$f":"IF(D18>0,IF(J$3=TRUE,FRINGE!$G$38,(SUM(I18:K18)+SUM(N18:O18)+SUM(E18:G18)*8/2080+SUM(L18:M18)*12/(D18*2080))),0)","v":0},{"$f":"IF($D18>0,IF(J$3=TRUE,FRINGE!$L$38,(SUM(H18:K18)+N18)),0)","v":0},{"$f":"IF(D18<=0,\"\",(D18*(1+P18)))","v":""},{"$f":"IF(D18<=0,\"\",(D18*1.5*(1+Q18)))","v":""},{"$f":"IF(D18<=0,\"\",(D18*(1+FRINGE!$G$38)))","v":""}]
[null,null,null,null,null,null,null,null,6.2E-2,1.4500000000000001E-2,null,null,null,null,null,{"$f":"IF(D19>0,IF(J$3=TRUE,FRINGE!$G$38,(SUM(I19:K19)+SUM(N19:O19)+SUM(E19:G19)*8/2080+SUM(L19:M19)*12/(D19*2080))),0)","v":0},{"$f":"IF($D19>0,IF(J$3=TRUE,FRINGE!$L$38,(SUM(H19:K19)+N19)),0)","v":0},{"$f":"IF(D19<=0,\"\",(D19*(1+P19)))","v":""},{"$f":"IF(D19<=0,\"\",(D19*1.5*(1+Q19)))","v":""},{"$f":"IF(D19<=0,\"\",(D19*(1+FRINGE!$G$38)))","v":""}]
[null,null,null,null,null,null,null,null,6.2E-2,1.4500000000000001E-2,null,null,null,null,null,{"$f":"IF(D20>0,IF(J$3=TRUE,FRINGE!$G$38,(SUM(I20:K20)+SUM(N20:O20)+SUM(E20:G20)*8/2080+SUM(L20:M20)*12/(D20*2080))),0)","v":0},{"$f":"IF($D20>0,IF(J$3=TRUE,FRINGE!$L$38,(SUM(H20:K20)+N20)),0)","v":0},{"$f":"IF(D20<=0,\"\",(D20*(1+P20)))","v":""},{"$f":"IF(D20<=0,\"\",(D20*1.5*(1+Q20)))","v":""},{"$f":"IF(D20<=0,\"\",(D20*(1+FRINGE!$G$38)))","v":""}]
[null,null,null,null,null,null,null,null,null,null,null,null,null,null,null,null,null,null,null," "]

{"sheet":"Contract Add","index":15,"n_rows":33,"n_cols":10,"rows_kept":33,"cut":false,"hidden":true,"merged":[[8,6,8,8],[9,6,9,8],[10,6,10,8],[11,6,11,8],[31,3,31,4],[20,6,20,8],[21,6,21,8],[22,6,22,8],[23,6,23,8],[24,6,24,8],[25,6,25,8],[26,6,26,8],[27,6,27,8],[28,6,28,8],[29,6,29,8],[30,3,30,4],[19,6,19,8],[18,6,18,8],[0,6,0,8],[1,6,1,8],[2,6,2,8],[3,6,3,8],[4,6,4,8],[5,6,5,8],[14,6,14,8],[15,6,15,8],[16,6,16,8],[17,6,17,8],[12,6,12,8],[13,6,13,8],[6,6,6,8],[7,6,7,8]]}
["Vendor","Description of work performed","Invoice No:","Dates Worked:","Total Invoice Amount","Total Claim Amount","Comments"]
[]
[]
[]
[]
[]
[]
[]
[]
[]
[]
[]
[]
[]
[]
[]
[]
[]
[]
[]
[]
[]
[]
[]
[]
[]
[]
[]
[]
[]
[null,null,null,"Total Cost",null,{"$f":"SUM(F2:F30)","v":0},null,null,null,{"$f":"F31","v":0}]
[null,null,null,"Total From All Pages",null,{"$f":"SUM(J:J)","v":0}]
[null,null,null,null,null,null,null,null,null," "]

{"sheet":"Material Add","index":16,"n_rows":38,"n_cols":10,"rows_kept":38,"cut":false,"hidden":true,"merged":[[0,0,0,1],[1,0,1,1],[1,2,1,3],[2,0,2,1],[2,2,2,3]]}
["Materials"]
["APPLICANT - FIPS#",null,"DISASTER #:",null,null,"PROJECT #:","CATEGORY A-G","EMMIE #","Work Completion Date"]
[{"$f":"IF('PAYROLL RECORD'!$B$5=\"START HERE\",\"\",'PAYROLL RECORD'!$B$5)","v":0},null,{"$f":"IF('PAYROLL RECORD'!$F$5=\"DISASTER\",\"\",'PAYROLL RECORD'!$F$5)","v":0},null,null,{"$f":"IF('PAYROLL RECORD'!$I$5=\"PROJECT #\",\"\",'PAYROLL RECORD'!$I$5)","v":0},{"$f":"IF('PAYROLL RECORD'!$M$5=\"CATEGORY\",\"\",'PAYROLL RECORD'!$M$5)","v":0},{"$f":"IF('PAYROLL RECORD'!$O$5=\"EMMIE #\",\"\",'PAYROLL RECORD'!$O$5)","v":0},{"$f":"IF('PAYROLL RECORD'!$Q$5=\"DATE\",\"\",'PAYROLL RECORD'!$Q$5)","v":"00:00:00"}]
["VENDOR","DESCRIPTION","INVOICE #","QUANT","UNIT","UNIT PRICE","TOTAL PRICE","PURCHASE DATE","DATE USED"]
[null,null,null,null,null,null,{"$f":"D5*F5","v":0}]
[null,null,null,null,null,null,0]
[null,null,null,null,null,null,0]
[null,null,null,null,null,null,0]
[null,null,null,null,null,null,0]
[null,null,null,null,null,null,0]
[null,null,null,null,null,null,0]
[null,null,null,null,null,null,0]
[null,null,null,null,null,null,0]
[null,null,null,null,null,null,0]
[null,null,null,null,null,null,0]
[null,null,null,null,null,null,0]
[null,null,null,null,null,null,0]
[null,null,null,null,null,null,0]
[null,null,null,null,null,null,0]
[null,null,null,null,null,null,0]
[null,null,null,null,null,null,0]
[null,null,null,null,null,null,0]
[null,null,null,null,null,null,0]
[null,null,null,null,null,null,0]
[null,null,null,null,null,null,0]
[null,null,null,null,null,null,0]
[null,null,null,null,null,null,0]
[null,null,null,null,null,null,0]
[null,null,null,null,null,null,0]
[null,null,null,null,null,null,0]
[null,null,null,null,null,null,0]
[null,null,null,null,null,null,0]
[null,null,null,null,null,null,0]
[null,null,null,null,null,null,0]
[null,null,null,null,null,null,0]
[null,null,null,null,null,"TOTAL",{"$f":"SUM(G5:G35)","v":0},null,null,{"$f":"G36","v":0}]
[null,null,null,null,null,"Grand Total",{"$f":"SUM(J:J)","v":0}]
[null,null,null,null,null,null,null,null,null," "]

{"sheet":"VOL LABOR ADD","index":17,"n_rows":48,"n_cols":28,"rows_kept":48,"cut":false,"hidden":true,"merged":[[41,3,42,3],[14,3,15,3],[17,3,18,3],[20,3,21,3],[23,3,24,3],[26,3,27,3],[29,3,30,3],[32,3,33,3],[35,3,36,3],[38,3,39,3],[50,16,50,20],[51,16,51,20],[2,21,3,21],[2,22,3,22],[43,16,43,20],[44,16,44,20],[45,16,45,20],[46,16,46,20],[49,16,49,20],[2,0,3,0],[2,1,3,1],[2,2,3,2],[2,3,3,3],[2,4,3,4],[11,3,12,3],[1,12,1,14],[1,15,1,18],[1,19,1,22],[0,0,0,2],[0,4,0,6],[0,7,0,11],[0,12,0,14],[0,15,0,18],[0,19,0,22],[1,0,1,2],[1,4,1,6],[1,7,1,11],[2,5,3,5],[5,3,6,3],[8,3,9,3]]}
["APPLICANT - FIPS#",null,null,null,"DISASTER #:",null,null,"PROJECT #:",null,null,null,null,"FEMA CAT A-G",null,null,"EMMIE #",null,null,null,"Work Completion Date"]
[{"$f":"IF('PAYROLL RECORD'!$B$5=\"START HERE\",\"\",'PAYROLL RECORD'!$B$5)","v":0},null,null,null,{"$f":"IF('PAYROLL RECORD'!$F$5=\"DISASTER\",\"\",'PAYROLL RECORD'!$F$5)","v":0},null,null,{"$f":"IF('PAYROLL RECORD'!$I$5=\"PROJECT #\",\"\",'PAYROLL RECORD'!$I$5)","v":0},null,null,null,null,{"$f":"IF('PAYROLL RECORD'!$M$5=\"CATEGORY\",\"\",'PAYROLL RECORD'!$M$5)","v":0},null,null,{"$f":"IF('PAYROLL RECORD'!$O$5=\"EMMIE #\",\"\",'PAYROLL RECORD'!$O$5)","v":0},null,null,null,{"$f":"IF('PAYROLL RECORD'!$Q$5=\"DATE\",\"\",'PAYROLL RECORD'!$Q$5)","v":"00:00:00"}]
["Volunteer/\nEquipment",null,"RATE",null,"COST CODE","RATE","2014-04-06",{"$f":"G3+1","v":"2014-04-07"},{"$f":"H3+1","v":"2014-04-08"},"2014-04-09","2014-04-10","2014-04-11","2014-04-12","2014-04-13","2014-04-14","2014-04-15","2014-04-16","2014-04-17","2014-04-18","2014-04-19","2014-04-20","REG","REG TIME\nCOST"]
[null,null,null,null,null,null,{"$f":"IF(G3<=0,\"\",TEXT(WEEKDAY(G3),\"ddd\"))","v":"Sun"},{"$f":"IF(H3<=0,\"\",TEXT(WEEKDAY(H3),\"ddd\"))","v":"Mon"},"Tue","Wed","Thu","Fri","Sat","Sun","Mon","Tue","Wed","Thu","Fri","Sat","Sun"]
[null,"REG",10,null,null,null,null,null,null,null,null,null,null,null,null,null,null,null,null,null,null,{"$f":"SUM(G5:U5)","v":0},{"$f":"C5*V5","v":0}]
[null,null,null,null,{"$f":"IF(ISBLANK(A6),0,VLOOKUP(A6,'EQUIPMENT INVENTORY'!$B$7:$AK$1021,8,0))","v":0},{"$f":"IF(ISBLANK(A6),0,VLOOKUP(A6,'EQUIPMENT INVENTORY'!$B$7:$AK$1021,9,0))","v":0},null,null,null,null,null,null,null,null,null,null,null,null,null,null,null,{"$f":"SUM(G6:R6)","v":0},{"$f":"V6*F6","v":0}]
[null,null,null,null,{"$f":"IF(ISBLANK(A7),0,VLOOKUP(A7,'EQUIPMENT INVENTORY'!$B$7:$AK$1021,8,0))","v":0},{"$f":"IF(ISBLANK(A7),0,VLOOKUP(A7,'EQUIPMENT INVENTORY'!$B$7:$AK$1021,9,0))","v":0},null,null,null,null,null,null,null,null,null,null,null,null,null,null,null,{"$f":"SUM(G7:R7)","v":0},{"$f":"V7*F7","v":0}]
[null,"REG",10,null,null,null,null,null,null,null,null,null,null,null,null,null,null,null,null,null,null,{"$f":"SUM(G8:U8)","v":0},{"$f":"C8*V8","v":0}]
[null,null,null,null,{"$f":"IF(ISBLANK(A9),0,VLOOKUP(A9,'EQUIPMENT INVENTORY'!$B$7:$AK$1021,8,0))","v":0},{"$f":"IF(ISBLANK(A9),0,VLOOKUP(A9,'EQUIPMENT INVENTORY'!$B$7:$AK$1021,9,0))","v":0},null,null,null,null,null,null,null,null,null,null,null,null,null,null,null,{"$f":"SUM(G9:R9)","v":0},{"$f":"V9*F9","v":0}]
[null,null,null,null,{"$f":"IF(ISBLANK(A10),0,VLOOKUP(A10,'EQUIPMENT INVENTORY'!$B$7:$AK$1021,8,0))","v":0},{"$f":"IF(ISBLANK(A10),0,VLOOKUP(A10,'EQUIPMENT INVENTORY'!$B$7:$AK$1021,9,0))","v":0},null,null,null,null,null,null,null,null,null,null,null,null,null,null,null,{"$f":"SUM(G10:R10)","v":0},{"$f":"V10*F10","v":0}]
[null,"REG",10,null,null,null,null,null,null,null,null,null,null,null,null,null,null,null,null,null,null,{"$f":"SUM(G11:U11)","v":0},{"$f":"C11*V11","v":0}]
[null,null,null,null,{"$f":"IF(ISBLANK(A12),0,VLOOKUP(A12,'EQUIPMENT INVENTORY'!$B$7:$AK$1021,8,0))","v":0},{"$f":"IF(ISBLANK(A12),0,VLOOKUP(A12,'EQUIPMENT INVENTORY'!$B$7:$AK$1021,9,0))","v":0},null,null,null,null,null,null,null,null,null,null,null,null,null,null,null,{"$f":"SUM(G12:R12)","v":0},{"$f":"V12*F12","v":0}]
[null,null,null,null,{"$f":"IF(ISBLANK(A13),0,VLOOKUP(A13,'EQUIPMENT INVENTORY'!$B$7:$AK$1021,8,0))","v":0},{"$f":"IF(ISBLANK(A13),0,VLOOKUP(A13,'EQUIPMENT INVENTORY'!$B$7:$AK$1021,9,0))","v":0},null,null,null,null,null,null,null,null,null,null,null,null,null,null,null,{"$f":"SUM(G13:R13)","v":0},{"$f":"V13*F13","v":0}]
[null,"REG",10,null,null,null,null,null,null,null,null,null,null,null,null,null,null,null,null,null,null,{"$f":"SUM(G14:U14)","v":0},{"$f":"C14*V14","v":0}]
[null,null,null,null,{"$f":"IF(ISBLANK(A15),0,VLOOKUP(A15,'EQUIPMENT INVENTORY'!$B$7:$AK$1021,8,0))","v":0},{"$f":"IF(ISBLANK(A15),0,VLOOKUP(A15,'EQUIPMENT INVENTORY'!$B$7:$AK$1021,9,0))","v":0},null,null,null,null,null,null,null,null,null,null,null,null,null,null,null,{"$f":"SUM(G15:R15)","v":0},{"$f":"V15*F15","v":0}]
[null,null,null,null,{"$f":"IF(ISBLANK(A16),0,VLOOKUP(A16,'EQUIPMENT INVENTORY'!$B$7:$AK$1021,8,0))","v":0},{"$f":"IF(ISBLANK(A16),0,VLOOKUP(A16,'EQUIPMENT INVENTORY'!$B$7:$AK$1021,9,0))","v":0},null,null,null,null,null,null,null,null,null,null,null,null,null,null,null,{"$f":"SUM(G16:R16)","v":0},{"$f":"V16*F16","v":0}]
[null,"REG",10,null,null,null,null,null,null,null,null,null,null,null,null,null,null,null,null,null,null,{"$f":"SUM(G17:U17)","v":0},{"$f":"C17*V17","v":0}]
[null,null,null,null,{"$f":"IF(ISBLANK(A18),0,VLOOKUP(A18,'EQUIPMENT INVENTORY'!$B$7:$AK$1021,8,0))","v":0},{"$f":"IF(ISBLANK(A18),0,VLOOKUP(A18,'EQUIPMENT INVENTORY'!$B$7:$AK$1021,9,0))","v":0},null,null,null,null,null,null,null,null,null,null,null,null,null,null,null,{"$f":"SUM(G18:R18)","v":0},{"$f":"V18*F18","v":0}]
[null,null,null,null,{"$f":"IF(ISBLANK(A19),0,VLOOKUP(A19,'EQUIPMENT INVENTORY'!$B$7:$AK$1021,8,0))","v":0},{"$f":"IF(ISBLANK(A19),0,VLOOKUP(A19,'EQUIPMENT INVENTORY'!$B$7:$AK$1021,9,0))","v":0},null,null,null,null,null,null,null,null,null,null,null,null,null,null,null,{"$f":"SUM(G19:R19)","v":0},{"$f":"V19*F19","v":0}]
[null,"REG",10,null,null,null,null,null,null,null,null,null,null,null,null,null,null,null,null,null,null,{"$f":"SUM(G20:U20)","v":0},{"$f":"C20*V20","v":0}]
[null,null,null,null,{"$f":"IF(ISBLANK(A21),0,VLOOKUP(A21,'EQUIPMENT INVENTORY'!$B$7:$AK$1021,8,0))","v":0},{"$f":"IF(ISBLANK(A21),0,VLOOKUP(A21,'EQUIPMENT INVENTORY'!$B$7:$AK$1021,9,0))","v":0},null,null,null,null,null,null,null,null,null,null,null,null,null,null,null,{"$f":"SUM(G21:R21)","v":0},{"$f":"V21*F21","v":0}]
[null,null,null,null,{"$f":"IF(ISBLANK(A22),0,VLOOKUP(A22,'EQUIPMENT INVENTORY'!$B$7:$AK$1021,8,0))","v":0},{"$f":"IF(ISBLANK(A22),0,VLOOKUP(A22,'EQUIPMENT INVENTORY'!$B$7:$AK$1021,9,0))","v":0},null,null,null,null,null,null,null,null,null,null,null,null,null,null,null,{"$f":"SUM(G22:R22)","v":0},{"$f":"V22*F22","v":0}]
[null,"REG",10,null,null,null,null,null,null,null,null,null,null,null,null,null,null,null,null,null,null,{"$f":"SUM(G23:U23)","v":0},{"$f":"C23*V23","v":0}]
[null,null,null,null,{"$f":"IF(ISBLANK(A24),0,VLOOKUP(A24,'EQUIPMENT INVENTORY'!$B$7:$AK$1021,8,0))","v":0},{"$f":"IF(ISBLANK(A24),0,VLOOKUP(A24,'EQUIPMENT INVENTORY'!$B$7:$AK$1021,9,0))","v":0},null,null,null,null,null,null,null,null,null,null,null,null,null,null,null,{"$f":"SUM(G24:R24)","v":0},{"$f":"V24*F24","v":0}]
[null,null,null,null,{"$f":"IF(ISBLANK(A25),0,VLOOKUP(A25,'EQUIPMENT INVENTORY'!$B$7:$AK$1021,8,0))","v":0},{"$f":"IF(ISBLANK(A25),0,VLOOKUP(A25,'EQUIPMENT INVENTORY'!$B$7:$AK$1021,9,0))","v":0},null,null,null,null,null,null,null,null,null,null,null,null,null,null,null,{"$f":"SUM(G25:R25)","v":0},{"$f":"V25*F25","v":0}]
[null,"REG",10,null,null,null,null,null,null,null,null,null,null,null,null,null,null,null,null,null,null,{"$f":"SUM(G26:U26)","v":0},{"$f":"C26*V26","v":0}]
[null,null,null,null,{"$f":"IF(ISBLANK(A27),0,VLOOKUP(A27,'EQUIPMENT INVENTORY'!$B$7:$AK$1021,8,0))","v":0},{"$f":"IF(ISBLANK(A27),0,VLOOKUP(A27,'EQUIPMENT INVENTORY'!$B$7:$AK$1021,9,0))","v":0},null,null,null,null,null,null,null,null,null,null,null,null,null,null,null,{"$f":"SUM(G27:R27)","v":0},{"$f":"V27*F27","v":0}]
[null,null,null,null,{"$f":"IF(ISBLANK(A28),0,VLOOKUP(A28,'EQUIPMENT INVENTORY'!$B$7:$AK$1021,8,0))","v":0},{"$f":"IF(ISBLANK(A28),0,VLOOKUP(A28,'EQUIPMENT INVENTORY'!$B$7:$AK$1021,9,0))","v":0},null,null,null,null,null,null,null,null,null,null,null,null,null,null,null,{"$f":"SUM(G28:R28)","v":0},{"$f":"V28*F28","v":0}]
[null,"REG",10,null,null,null,null,null,null,null,null,null,null,null,null,null,null,null,null,null,null,{"$f":"SUM(G29:U29)","v":0},{"$f":"C29*V29","v":0}]
[null,null,null,null,{"$f":"IF(ISBLANK(A30),0,VLOOKUP(A30,'EQUIPMENT INVENTORY'!$B$7:$AK$1021,8,0))","v":0},{"$f":"IF(ISBLANK(A30),0,VLOOKUP(A30,'EQUIPMENT INVENTORY'!$B$7:$AK$1021,9,0))","v":0},null,null,null,null,null,null,null,null,null,null,null,null,null,null,null,{"$f":"SUM(G30:R30)","v":0},{"$f":"V30*F30","v":0}]
[null,null,null,null,{"$f":"IF(ISBLANK(A31),0,VLOOKUP(A31,'EQUIPMENT INVENTORY'!$B$7:$AK$1021,8,0))","v":0},{"$f":"IF(ISBLANK(A31),0,VLOOKUP(A31,'EQUIPMENT INVENTORY'!$B$7:$AK$1021,9,0))","v":0},null,null,null,null,null,null,null,null,null,null,null,null,null,null,null,{"$f":"SUM(G31:R31)","v":0},{"$f":"V31*F31","v":0}]
[null,"REG",10,null,null,null,null,null,null,null,null,null,null,null,null,null,null,null,null,null,null,{"$f":"SUM(G32:U32)","v":0},{"$f":"C32*V32","v":0}]
[null,null,null,null,{"$f":"IF(ISBLANK(A33),0,VLOOKUP(A33,'EQUIPMENT INVENTORY'!$B$7:$AK$1021,8,0))","v":0},{"$f":"IF(ISBLANK(A33),0,VLOOKUP(A33,'EQUIPMENT INVENTORY'!$B$7:$AK$1021,9,0))","v":0},null,null,null,null,null,null,null,null,null,null,null,null,null,null,null,{"$f":"SUM(G33:R33)","v":0},{"$f":"V33*F33","v":0}]
[null,null,null,null,{"$f":"IF(ISBLANK(A34),0,VLOOKUP(A34,'EQUIPMENT INVENTORY'!$B$7:$AK$1021,8,0))","v":0},{"$f":"IF(ISBLANK(A34),0,VLOOKUP(A34,'EQUIPMENT INVENTORY'!$B$7:$AK$1021,9,0))","v":0},null,null,null,null,null,null,null,null,null,null,null,null,null,null,null,{"$f":"SUM(G34:R34)","v":0},{"$f":"V34*F34","v":0}]
[null,"REG",10,null,null,null,null,null,null,null,null,null,null,null,null,null,null,null,null,null,null,{"$f":"SUM(G35:U35)","v":0},{"$f":"C35*V35","v":0}]
[null,null,null,null,{"$f":"IF(ISBLANK(A36),0,VLOOKUP(A36,'EQUIPMENT INVENTORY'!$B$7:$AK$1021,8,0))","v":0},{"$f":"IF(ISBLANK(A36),0,VLOOKUP(A36,'EQUIPMENT INVENTORY'!$B$7:$AK$1021,9,0))","v":0},null,null,null,null,null,null,null,null,null,null,null,null,null,null,null,{"$f":"SUM(G36:R36)","v":0},{"$f":"V36*F36","v":0}]
[null,null,null,null,{"$f":"IF(ISBLANK(A37),0,VLOOKUP(A37,'EQUIPMENT INVENTORY'!$B$7:$AK$1021,8,0))","v":0},{"$f":"IF(ISBLANK(A37),0,VLOOKUP(A37,'EQUIPMENT INVENTORY'!$B$7:$AK$1021,9,0))","v":0},null,null,null,null,null,null,null,null,null,null,null,null,null,null,null,{"$f":"SUM(G37:R37)","v":0},{"$f":"V37*F37","v":0}]
[null,"REG",10,null,null,null,null,null,null,null,null,null,null,null,null,null,null,null,null,null,null,{"$f":"SUM(G38:U38)","v":0},{"$f":"C38*V38","v":0}]
[null,null,null,null,{"$f":"IF(ISBLANK(A39),0,VLOOKUP(A39,'EQUIPMENT INVENTORY'!$B$7:$AK$1021,8,0))","v":0},{"$f":"IF(ISBLANK(A39),0,VLOOKUP(A39,'EQUIPMENT INVENTORY'!$B$7:$AK$1021,9,0))","v":0},null,null,null,null,null,null,null,null,null,null,null,null,null,null,null,{"$f":"SUM(G39:R39)","v":0},{"$f":"V39*F39","v":0}]
[null,null,null,null,{"$f":"IF(ISBLANK(A40),0,VLOOKUP(A40,'EQUIPMENT INVENTORY'!$B$7:$AK$1021,8,0))","v":0},{"$f":"IF(ISBLANK(A40),0,VLOOKUP(A40,'EQUIPMENT INVENTORY'!$B$7:$AK$1021,9,0))","v":0},null,null,null,null,null,null,null,null,null,null,null,null,null,null,null,{"$f":"SUM(G40:R40)","v":0},{"$f":"V40*F40","v":0}]
[null,"REG",10,null,null,null,null,null,null,null,null,null,null,null,null,null,null,null,null,null,null,{"$f":"SUM(G41:U41)","v":0},{"$f":"C41*V41","v":0}]
[null,null,null,null,{"$f":"IF(ISBLANK(A42),0,VLOOKUP(A42,'EQUIPMENT INVENTORY'!$B$7:$AK$1021,8,0))","v":0},{"$f":"IF(ISBLANK(A42),0,VLOOKUP(A42,'EQUIPMENT INVENTORY'!$B$7:$AK$1021,9,0))","v":0},null,null,null,null,null,null,null,null,null,null,null,null,null,null,null,{"$f":"SUM(G42:R42)","v":0},{"$f":"V42*F42","v":0}]
[null,null,null,null,{"$f":"IF(ISBLANK(A43),0,VLOOKUP(A43,'EQUIPMENT INVENTORY'!$B$7:$AK$1021,8,0))","v":0},{"$f":"IF(ISBLANK(A43),0,VLOOKUP(A43,'EQUIPMENT INVENTORY'!$B$7:$AK$1021,9,0))","v":0},null,null,null,null,null,null,null,null,null,null,null,null,null,null,null,{"$f":"SUM(G43:R43)","v":0},{"$f":"V43*F43","v":0},"labor hr","labor $","equip hrs","equip $"]
[null,null,null,null,null,null,null,null,null,null,null,null,null,null,null,null,"VOLUNTEER LABOR - Page Total",null,null,null,null,{"$f":"V5+V8+V11+V14+V17+V20+V23+V26+V29+V32+V35+V38+V41","v":0},{"$f":"W5+W8+W11+W14+W17+W20+W23+W26+W29+W32+W35+W38+W41","v":0},{"$f":"V44","v":0},{"$f":"W44","v":0},{"$f":"V45","v":0},{"$f":"W45","v":0}]
[null,null,null,null,null,null,null,null,null,null,null,null,null,null,null,null,"VOL EQUIPMENT - Page Total",null,null,null,null,{"$f":"V6+V7+V9+V10+V12+V13+V15+V16+V18+V19+V21+V22+V24+V25+V27+V28+V30+V31+V33+V34+V36+V37+V39+V40+V42+V43","v":0},{"$f":"W6+W7+W9+W10+W12+W13+W15+W16+W18+W19+W21+W22+W24+W25+W27+W28+W30+W31+W33+W34+W36+W37+W39+W40+W42+W43","v":0}]
[null,null,null,null,null,null,null,null,null,null,null,null,null,null,null,null,"VOLUNTEER LABOR - Grand Total",null,null,null,null,{"$f":"SUM($X:$X)","v":0},{"$f":"SUM($Y:$Y)","v":0}]
[null,null,null,null,null,null,null,null,null,null,null,null,null,null,null,null,"VOL EQUIPMENT - Grand Total",null,null,null,null,{"$f":"SUM($Z:$Z)","v":0},{"$f":"SUM($AA:$AA)","v":0}]
[null,null,null,null,null,null,null,null,null,null,null,null,null,null,null,null,null,null,null,null,null,null,null,null,null,null," "," "]

{"sheet":"VOL RECORD ADD","index":18,"n_rows":41,"n_cols":18,"rows_kept":41,"cut":false,"hidden":true,"merged":[[11,4,11,16],[12,4,12,16],[13,4,13,16],[14,4,14,16],[5,4,5,16],[6,4,6,16],[7,4,7,16],[8,4,8,16],[9,4,9,16],[10,4,10,16],[0,4,0,16],[1,4,1,16],[2,4,2,16],[3,4,3,16],[4,4,4,16],[15,4,15,16],[16,4,16,16],[29,4,29,16],[18,4,18,16],[19,4,19,16],[20,4,20,16],[25,4,25,16],[26,4,26,16],[27,4,27,16],[28,4,28,16],[21,4,21,16],[22,4,22,16],[23,4,23,16],[24,4,24,16],[17,4,17,16],[39,4,39,16],[30,4,30,16],[31,4,31,16],[32,4,32,16],[33,4,33,16],[34,4,34,16],[35,4,35,16],[36,4,36,16],[37,4,37,16],[38,4,38,16]]}
[null,"Volunteer","T",10]
[null,"Volunteer","T",10]
[null,"Volunteer","T",10]
[null,"Volunteer","T",10]
[null,"Volunteer","T",10]
[null,"Volunteer","T",10]
[null,"Volunteer","T",10]
[null,"Volunteer","T",10]
[null,"Volunteer","T",10]
[null,"Volunteer","T",10]
[null,"Volunteer","T",10]
[null,"Volunteer","T",10]
[null,"Volunteer","T",10]
[null,"Volunteer","T",10]
[null,"Volunteer","T",10]
[null,"Volunteer","T",10]
[null,"Volunteer","T",10]
[null,"Volunteer","T",10]
[null,"Volunteer","T",10]
[null,"Volunteer","T",10]
[null,"Volunteer","T",10]
[null,"Volunteer","T",10]
[null,"Volunteer","T",10]
[null,"Volunteer","T",10]
[null,"Volunteer","T",10]
[null,"Volunteer","T",10]
[null,"Volunteer","T",10]
[null,"Volunteer","T",10]
[null,"Volunteer","T",10]
[null,"Volunteer","T",10]
[null,"Volunteer","T",10]
[null,"Volunteer","T",10]
[null,"Volunteer","T",10]
[null,"Volunteer","T",10]
[null,"Volunteer","T",10]
[null,"Volunteer","T",10]
[null,"Volunteer","T",10]
[null,"Volunteer","T",10]
[null,"Volunteer","T",10]
[null,"Volunteer","T",10]
[null,null,null,null,null,null,null,null,null,null,null,null,null,null,null,null,null," "]

{"sheet":"Equip Add","index":19,"n_rows":11,"n_cols":11,"rows_kept":11,"cut":false,"hidden":true,"merged":[[6,8,6,9],[7,8,7,9],[8,8,8,9],[9,8,9,9],[0,8,0,9],[1,8,1,9],[2,8,2,9],[3,8,3,9],[4,8,4,9],[5,8,5,9]]}
[]
[]
[]
[]
[]
[]
[]
[]
[]
[]
[null,null,null,null,null,null,null,null,null,null," "]