{"text_format":"1","workbook":"xlsx","n_sheets":5,"sheets":["Guide to EJ Ref List","Project EJ Ref List","PrintExport Friendly","MA_Muni","Complete_CBOList"],"not_rendered":{"charts":0,"images":0,"macros":1,"external_links":0,"defined_names":7,"comments":0,"pivot_tables":0},"unopened":[],"bounds":{"document_bytes":16777216,"sheet_cells":100000,"rows_first":2000,"rows_last":500,"rows_between":2000,"halvings":0,"cell_chars":16384,"cell_head_chars":4096},"cells_cut":0,"cells_raw":0,"read":"whole","date_system":"1900"}

{"sheet":"Guide to EJ Ref List","index":0,"n_rows":32,"n_cols":3,"rows_kept":32,"cut":false,"hidden":false,"merged":[[19,2,19,3],[7,1,8,1],[10,2,10,3],[6,2,6,3],[5,2,5,3],[16,2,16,3],[17,2,17,3],[18,2,18,3],[4,2,4,3],[7,2,7,3],[8,2,8,3],[9,2,9,3],[15,2,15,3],[12,2,12,3],[11,2,11,3]]}
[]
[null,"Massachusetts Environmental Policy Act (MEPA) EJ Reference List Form"]
[null,"Instructions for Creating/Updating Project-Specific EJ Reference List"]
[]
[null,"1.","Download the current version of the MEPA EJ Reference List on the MEPA website: https://www.mass.gov/info-details/environmental-justice-ej-reference-list-form."]
[null,"2.","Once the workbook is downloaded, start populating the \"Project EJ Ref List\" tab with information about the project and project site. Proponents must populate: the project name, the project address, the date when the list was generated/updated, and the filing type (ENF, DEIR, etc.) for which the list was generated/updated.  "]
[null,"3.","Once the project information is populated, the list will automatically populate with organizational contacts serving the entire state."]
[null,"4.","Next, identify any MA Municipalities contained in-part or entirely within your project's designated geographic area (DGA) using the drop-down selection menu. Instructions on determining a project's DGA are available on the MEPA website: https://www.mass.gov/guides/environmental-justice-protocols-and-resources."]
[null,null,"- Note that projects with Boston in their DGA should always select \"Boston - any neighborhood\". In addition, if a project is located in any of the following Boston neighborhoods, these neighborhoods should separately be selected as a MA municipality: Charlestown, Chinatown, Dorchester, East Boston, Hyde Park, Mattapan, Roslindale, and/or Roxbury."]
[null,"5.","The Proponent is encouraged to supplement the project-specific EJ Reference List by conducting its own research to identify any additional local stakeholders who may have interest in the project. Any contacts identified through supplemental research should be added to the left-most table titled \"Supplemental Community Contacts\"."]
[null,null,"- Examples of supplemental local contacts include: neighborhood associations, faith-based ministries, social service organizations, watershed conservation organizations, cultural centers serving immigrant or ethnic communities, mutual aid groups, youth and family programs, community health centers, and/or local small business associations."]
[null,"6.","When all the above steps are completed, click the red button \"Email MEPA-EJ@mass.gov\". An automatic email window should pop-up containing a pre-addressed and pre-titled email. The Proponent must attach a copy of their populated project-specific EJ Reference List to the MEPA EJ inbox (MEPA-EJ@mass.gov) in Excel Workbook format (.xlsx/.xls). The Proponent must send a copy of their project-specific EJ Reference List to the MEPA-EJ@mass.gov account whenever they update the list. "]
[null,"7.","As the \"Project EJ Ref List\" tab is populated, the \"PrintExport Friendly\" tab will automatically generate a printer friendly version of the project-specific EJ Reference List. This tab should be utilized to physically print the EJ Reference List and/or to export the EJ Reference List into a PDF format for inclusion in project documentation. Prior to printing/exporting ensure that all \"blanks\" are filtered from the contact name column in the Project-Specific EJ Reference List Table."]
[null,"Additional guidance on EJ Reference List and distributing project advanced notifications"]
[]
[null,"a.","The EJ Reference List should be utilized as a starting point, not as a “definitive” contact list, for purpose of conducting public involvement activities. The list should be expanded as needed or requested over time, as the project conducts community engagement activities."]
[null,"b.","If the Proponent is developing a distribution list to provide advance notification of the project under 301 CMR 11.05(4), the Proponent must send the EJ Screening Form, to those listed on the \"Project EJ Ref List\" tab. Please see https://www.mass.gov/guides/environmental-justice-protocols-and-resources#-advanced-notification- for additional guidance on providing advanced notification, including guidance on how to proceed if more than 90 days has elapsed since the initial advanced notification was distributed."]
[null,"c.","The EJ Screening Form must be translated into all applicable languages, as discussed here: https://www.mass.gov/guides/environmental-justice-protocols-and-resources#-language-translation-and-interpretation-. The EJ Screening Form and translated versions of the document (as applicable) should be combined in a single document and sent concurrently to MEPA-EJ@mass.gov and to all contacts on the project-specific EJ Reference List. The project name, location, and succinct (3-4 sentence) description of the project should be included in the body of the email along with the following verbiage:"]
[null,null,"\"Community-based organizations and tribal organizations are receiving this notification in accordance with the MEPA Public Involvement Protocol for Environmental Justice Populations, which took effect on January 1, 2022. More information is available on the MEPA website.\""]
[null,"d.","In the event that the Proponent receives requests to be removed from the project-specific EJ Reference List or of any automatic replies that indicate a contact may no longer be at one of the identified organizations, please indicate contact modifications in the \"Proponent Notes\" column on the project-specific EJ Reference List, notify MEPA-EJ@mass.gov of the modification, and await a revised project-specific EJ Reference List from the MEPA-EJ@mass.gov account."]
[]
[]
[null,"Questions and comments may be addressed to:"]
[null,"Kate Harson, MEPA EJ Liaison"]
[null,"Executive Office of Energy and Environmental Affairs (EEA)"]
[null,"MEPA Office"]
[null,"100 Cambridge Street, Suite 1000"]
[null,"Boston, MA 02114 USA"]
[null,"Email: MEPA-EJ@mass.gov"]
[null,null," "]
[]
[null,null," "]

{"sheet":"Project EJ Ref List","index":1,"n_rows":122,"n_cols":18,"rows_kept":122,"cut":false,"hidden":false,"merged":[[13,18,13,19],[7,16,11,17],[13,1,13,2],[61,2,63,2]]}
[]
[null,"Project-Specific EJ Reference List"]
[null,"Please populate all items in the grey boxes. Your Project-Specific EJ Reference List will auto-populate in the table below."]
[null,"Add any supplemental contacts identified through additional research to the right table titled \"Supplemental Community Contacts\"."]
[]
[null,"Project Name: "]
[]
[null,"Project Address:",null,null,null,null,null,null,null,null,null,null,null,null,null,null,"Click below to email MEPA and be sure to attach this completed project-specific EJ Reference List Excel file\n¯"]
[]
[null,"Date Generated: "]
[]
[null,"Filing Type:"]
[]
[null,"MA Municipalities in Project's DGA: ",null,"Blank","All","Blank","Blank","Blank","Blank","Blank"]
[null,null,null,"Blank","All","Blank","Blank","Blank","Blank","Blank"]
[null,null,null,"Note: if there are more than six municipalities in the project DGA, unhide row 14 above. If the DGA contains more than 12 municipalities, contact"]
[null,null,null,"MEPA-EJ@mass.gov for further instructions."]
[null,null,null,{"$f":"IF(OR(D14=\"Boston - Any Neighborhood\",F14=\"Boston - Any Neighborhood\",G14=\"Boston - Any Neighborhood\",H14=\"Boston - Any Neighborhood\",I14=\"Boston - Any Neighborhood\", J14=\"Boston - Any Neighborhood\",D15=\"Boston - Any Neighborhood\",F15=\"Boston - Any Neighborhood\",G15=\"Boston - Any Neighborhood\",H15=\"Boston - Any Neighborhood\",I15=\"Boston - Any Neighborhood\",J15=\"Boston - Any Neighborhood\"),\"☆ If DGA contains any of the following Boston neighborhoods, add them to the MA Muncipalities list: Chinatown, Dorchester, East Boston, Hyde Park, Mattapan, Roslindale, or Roxbury\",\"\")","v":""},null,null,null,null,null,null,null,null,{"$f":"IF(D14=\"Blank\",\"\",IF(COUNTIF(J21:J87,\"Local CBO\")=0,\"☆ No Local CBOs are identified in your project DGA, it is highly encouraged to conduct additional research to find supplemental local contacts\",\"\"))","v":""}]
[null,null,null,"Project-Specific EJ Reference List (auto-populates)",null,null,null,null,null,null,null,null,"Supplemental Community Contacts"]
[null,null,null,"Contact Name ","Intentionally Blank","Title","Phone","Email","Affiliation","Contact Type","Proponent Notes\n(contact status, removal requests, updates)",null,"Contact Name ","Intentionally Blank","Title","Affiliation","Email","Phone"]
[null,null,null,{"$f":"IF(ISBLANK(D6),\"\",_xlfn._xlws.FILTER(Table2[Name],ISNUMBER(FIND(E14,Table2[Municipality]))+ISNUMBER(FIND(D14,Table2[Municipality]))+ISNUMBER(FIND(F14,Table2[Municipality]))+ISNUMBER(FIND(G14,Table2[Municipality]))+ISNUMBER(FIND(H14,Table2[Municipality]))+ISNUMBER(FIND(I14,Table2[Municipality]))+ISNUMBER(FIND(J14,Table2[Municipality]))+ISNUMBER(FIND(D15,Table2[Municipality]))+ISNUMBER(FIND(F15,Table2[Municipality]))+ISNUMBER(FIND(G15,Table2[Municipality]))+ISNUMBER(FIND(H15,Table2[Municipality]))+ISNUMBER(FIND(I15,Table2[Municipality]))+ISNUMBER(FIND(J15,Table2[Municipality]))))","v":""},null,{"$f":"IF(D21=\"\",\"\",VLOOKUP(D21,Table2[],2,0))","v":""},{"$f":"IF(D21=\"\",\"\",VLOOKUP(D21,Table2[],3,0))","v":""},{"$f":"IF(D21=\"\",\"\",VLOOKUP(D21,Table2[],4,0))","v":""},{"$f":"IF(D21=\"\",\"\",VLOOKUP(D21,Table2[],5,0))","v":""},{"$f":"IF(D21=\"\",\"\",VLOOKUP(D21,Table2[],7,0))","v":""}]
[null,null,null,null,null,{"$f":"IF(ISBLANK(D22),\"\",VLOOKUP(D22,Table2[],2,0))","v":""},{"$f":"IF(ISBLANK(D22),\"\",VLOOKUP(D22,Table2[],3,0))","v":""},{"$f":"IF(ISBLANK(D22),\"\",VLOOKUP(D22,Table2[],4,0))","v":""},{"$f":"IF(ISBLANK(D22),\"\",VLOOKUP(D22,Table2[],5,0))","v":""},{"$f":"IF(ISBLANK(D22),\"\",VLOOKUP(D22,Table2[],7,0))","v":""}]
[null,null,null,null,null,{"$f":"IF(ISBLANK(D23),\"\",VLOOKUP(D23,Table2[],2,0))","v":""},{"$f":"IF(ISBLANK(D23),\"\",VLOOKUP(D23,Table2[],3,0))","v":""},{"$f":"IF(ISBLANK(D23),\"\",VLOOKUP(D23,Table2[],4,0))","v":""},{"$f":"IF(ISBLANK(D23),\"\",VLOOKUP(D23,Table2[],5,0))","v":""},{"$f":"IF(ISBLANK(D23),\"\",VLOOKUP(D23,Table2[],7,0))","v":""}]
[null,null,null,null,null,{"$f":"IF(ISBLANK(D24),\"\",VLOOKUP(D24,Table2[],2,0))","v":""},{"$f":"IF(ISBLANK(D24),\"\",VLOOKUP(D24,Table2[],3,0))","v":""},{"$f":"IF(ISBLANK(D24),\"\",VLOOKUP(D24,Table2[],4,0))","v":""},{"$f":"IF(ISBLANK(D24),\"\",VLOOKUP(D24,Table2[],5,0))","v":""},{"$f":"IF(ISBLANK(D24),\"\",VLOOKUP(D24,Table2[],7,0))","v":""}]
[null,null,null,null,null,{"$f":"IF(ISBLANK(D25),\"\",VLOOKUP(D25,Table2[],2,0))","v":""},{"$f":"IF(ISBLANK(D25),\"\",VLOOKUP(D25,Table2[],3,0))","v":""},{"$f":"IF(ISBLANK(D25),\"\",VLOOKUP(D25,Table2[],4,0))","v":""},{"$f":"IF(ISBLANK(D25),\"\",VLOOKUP(D25,Table2[],5,0))","v":""},{"$f":"IF(ISBLANK(D25),\"\",VLOOKUP(D25,Table2[],7,0))","v":""}]
[null,null,null,null,null,{"$f":"IF(ISBLANK(D26),\"\",VLOOKUP(D26,Table2[],2,0))","v":""},{"$f":"IF(ISBLANK(D26),\"\",VLOOKUP(D26,Table2[],3,0))","v":""},{"$f":"IF(ISBLANK(D26),\"\",VLOOKUP(D26,Table2[],4,0))","v":""},{"$f":"IF(ISBLANK(D26),\"\",VLOOKUP(D26,Table2[],5,0))","v":""},{"$f":"IF(ISBLANK(D26),\"\",VLOOKUP(D26,Table2[],7,0))","v":""}]
[null,null,null,null,null,{"$f":"IF(ISBLANK(D27),\"\",VLOOKUP(D27,Table2[],2,0))","v":""},{"$f":"IF(ISBLANK(D27),\"\",VLOOKUP(D27,Table2[],3,0))","v":""},{"$f":"IF(ISBLANK(D27),\"\",VLOOKUP(D27,Table2[],4,0))","v":""},{"$f":"IF(ISBLANK(D27),\"\",VLOOKUP(D27,Table2[],5,0))","v":""},{"$f":"IF(ISBLANK(D27),\"\",VLOOKUP(D27,Table2[],7,0))","v":""}]
[null,null,null,null,null,{"$f":"IF(ISBLANK(D28),\"\",VLOOKUP(D28,Table2[],2,0))","v":""},{"$f":"IF(ISBLANK(D28),\"\",VLOOKUP(D28,Table2[],3,0))","v":""},{"$f":"IF(ISBLANK(D28),\"\",VLOOKUP(D28,Table2[],4,0))","v":""},{"$f":"IF(ISBLANK(D28),\"\",VLOOKUP(D28,Table2[],5,0))","v":""},{"$f":"IF(ISBLANK(D28),\"\",VLOOKUP(D28,Table2[],7,0))","v":""}]
[null,null,null,null,null,{"$f":"IF(ISBLANK(D29),\"\",VLOOKUP(D29,Table2[],2,0))","v":""},{"$f":"IF(ISBLANK(D29),\"\",VLOOKUP(D29,Table2[],3,0))","v":""},{"$f":"IF(ISBLANK(D29),\"\",VLOOKUP(D29,Table2[],4,0))","v":""},{"$f":"IF(ISBLANK(D29),\"\",VLOOKUP(D29,Table2[],5,0))","v":""},{"$f":"IF(ISBLANK(D29),\"\",VLOOKUP(D29,Table2[],7,0))","v":""}]
[null,null,null,null,null,{"$f":"IF(ISBLANK(D30),\"\",VLOOKUP(D30,Table2[],2,0))","v":""},{"$f":"IF(ISBLANK(D30),\"\",VLOOKUP(D30,Table2[],3,0))","v":""},{"$f":"IF(ISBLANK(D30),\"\",VLOOKUP(D30,Table2[],4,0))","v":""},{"$f":"IF(ISBLANK(D30),\"\",VLOOKUP(D30,Table2[],5,0))","v":""},{"$f":"IF(ISBLANK(D30),\"\",VLOOKUP(D30,Table2[],7,0))","v":""}]
[null,null,null,null,null,{"$f":"IF(ISBLANK(D31),\"\",VLOOKUP(D31,Table2[],2,0))","v":""},{"$f":"IF(ISBLANK(D31),\"\",VLOOKUP(D31,Table2[],3,0))","v":""},{"$f":"IF(ISBLANK(D31),\"\",VLOOKUP(D31,Table2[],4,0))","v":""},{"$f":"IF(ISBLANK(D31),\"\",VLOOKUP(D31,Table2[],5,0))","v":""},{"$f":"IF(ISBLANK(D31),\"\",VLOOKUP(D31,Table2[],7,0))","v":""}]
[null,null,null,null,null,{"$f":"IF(ISBLANK(D32),\"\",VLOOKUP(D32,Table2[],2,0))","v":""},{"$f":"IF(ISBLANK(D32),\"\",VLOOKUP(D32,Table2[],3,0))","v":""},{"$f":"IF(ISBLANK(D32),\"\",VLOOKUP(D32,Table2[],4,0))","v":""},{"$f":"IF(ISBLANK(D32),\"\",VLOOKUP(D32,Table2[],5,0))","v":""},{"$f":"IF(ISBLANK(D32),\"\",VLOOKUP(D32,Table2[],7,0))","v":""}]
[null,null,null,null,null,{"$f":"IF(ISBLANK(D33),\"\",VLOOKUP(D33,Table2[],2,0))","v":""},{"$f":"IF(ISBLANK(D33),\"\",VLOOKUP(D33,Table2[],3,0))","v":""},{"$f":"IF(ISBLANK(D33),\"\",VLOOKUP(D33,Table2[],4,0))","v":""},{"$f":"IF(ISBLANK(D33),\"\",VLOOKUP(D33,Table2[],5,0))","v":""},{"$f":"IF(ISBLANK(D33),\"\",VLOOKUP(D33,Table2[],7,0))","v":""}]
[null,null,null,null,null,{"$f":"IF(ISBLANK(D34),\"\",VLOOKUP(D34,Table2[],2,0))","v":""},{"$f":"IF(ISBLANK(D34),\"\",VLOOKUP(D34,Table2[],3,0))","v":""},{"$f":"IF(ISBLANK(D34),\"\",VLOOKUP(D34,Table2[],4,0))","v":""},{"$f":"IF(ISBLANK(D34),\"\",VLOOKUP(D34,Table2[],5,0))","v":""},{"$f":"IF(ISBLANK(D34),\"\",VLOOKUP(D34,Table2[],7,0))","v":""}]
[null,null,null,null,null,{"$f":"IF(ISBLANK(D35),\"\",VLOOKUP(D35,Table2[],2,0))","v":""},{"$f":"IF(ISBLANK(D35),\"\",VLOOKUP(D35,Table2[],3,0))","v":""},{"$f":"IF(ISBLANK(D35),\"\",VLOOKUP(D35,Table2[],4,0))","v":""},{"$f":"IF(ISBLANK(D35),\"\",VLOOKUP(D35,Table2[],5,0))","v":""},{"$f":"IF(ISBLANK(D35),\"\",VLOOKUP(D35,Table2[],7,0))","v":""}]
[null,null,null,null,null,{"$f":"IF(ISBLANK(D36),\"\",VLOOKUP(D36,Table2[],2,0))","v":""},{"$f":"IF(ISBLANK(D36),\"\",VLOOKUP(D36,Table2[],3,0))","v":""},{"$f":"IF(ISBLANK(D36),\"\",VLOOKUP(D36,Table2[],4,0))","v":""},{"$f":"IF(ISBLANK(D36),\"\",VLOOKUP(D36,Table2[],5,0))","v":""},{"$f":"IF(ISBLANK(D36),\"\",VLOOKUP(D36,Table2[],7,0))","v":""}]
[null,null,null,null,null,{"$f":"IF(ISBLANK(D37),\"\",VLOOKUP(D37,Table2[],2,0))","v":""},{"$f":"IF(ISBLANK(D37),\"\",VLOOKUP(D37,Table2[],3,0))","v":""},{"$f":"IF(ISBLANK(D37),\"\",VLOOKUP(D37,Table2[],4,0))","v":""},{"$f":"IF(ISBLANK(D37),\"\",VLOOKUP(D37,Table2[],5,0))","v":""},{"$f":"IF(ISBLANK(D37),\"\",VLOOKUP(D37,Table2[],7,0))","v":""}]
[null,null,null,null,null,{"$f":"IF(ISBLANK(D38),\"\",VLOOKUP(D38,Table2[],2,0))","v":""},{"$f":"IF(ISBLANK(D38),\"\",VLOOKUP(D38,Table2[],3,0))","v":""},{"$f":"IF(ISBLANK(D38),\"\",VLOOKUP(D38,Table2[],4,0))","v":""},{"$f":"IF(ISBLANK(D38),\"\",VLOOKUP(D38,Table2[],5,0))","v":""},{"$f":"IF(ISBLANK(D38),\"\",VLOOKUP(D38,Table2[],7,0))","v":""}]
[null,null,null,null,null,{"$f":"IF(ISBLANK(D39),\"\",VLOOKUP(D39,Table2[],2,0))","v":""},{"$f":"IF(ISBLANK(D39),\"\",VLOOKUP(D39,Table2[],3,0))","v":""},{"$f":"IF(ISBLANK(D39),\"\",VLOOKUP(D39,Table2[],4,0))","v":""},{"$f":"IF(ISBLANK(D39),\"\",VLOOKUP(D39,Table2[],5,0))","v":""},{"$f":"IF(ISBLANK(D39),\"\",VLOOKUP(D39,Table2[],7,0))","v":""}]
[null,null,null,null,null,{"$f":"IF(ISBLANK(D40),\"\",VLOOKUP(D40,Table2[],2,0))","v":""},{"$f":"IF(ISBLANK(D40),\"\",VLOOKUP(D40,Table2[],3,0))","v":""},{"$f":"IF(ISBLANK(D40),\"\",VLOOKUP(D40,Table2[],4,0))","v":""},{"$f":"IF(ISBLANK(D40),\"\",VLOOKUP(D40,Table2[],5,0))","v":""},{"$f":"IF(ISBLANK(D40),\"\",VLOOKUP(D40,Table2[],7,0))","v":""}]
[null,null,null,null,null,{"$f":"IF(ISBLANK(D41),\"\",VLOOKUP(D41,Table2[],2,0))","v":""},{"$f":"IF(ISBLANK(D41),\"\",VLOOKUP(D41,Table2[],3,0))","v":""},{"$f":"IF(ISBLANK(D41),\"\",VLOOKUP(D41,Table2[],4,0))","v":""},{"$f":"IF(ISBLANK(D41),\"\",VLOOKUP(D41,Table2[],5,0))","v":""},{"$f":"IF(ISBLANK(D41),\"\",VLOOKUP(D41,Table2[],7,0))","v":""}]
[null,null,null,null,null,{"$f":"IF(ISBLANK(D42),\"\",VLOOKUP(D42,Table2[],2,0))","v":""},{"$f":"IF(ISBLANK(D42),\"\",VLOOKUP(D42,Table2[],3,0))","v":""},{"$f":"IF(ISBLANK(D42),\"\",VLOOKUP(D42,Table2[],4,0))","v":""},{"$f":"IF(ISBLANK(D42),\"\",VLOOKUP(D42,Table2[],5,0))","v":""},{"$f":"IF(ISBLANK(D42),\"\",VLOOKUP(D42,Table2[],7,0))","v":""}]
[null,null,null,null,null,{"$f":"IF(ISBLANK(D43),\"\",VLOOKUP(D43,Table2[],2,0))","v":""},{"$f":"IF(ISBLANK(D43),\"\",VLOOKUP(D43,Table2[],3,0))","v":""},{"$f":"IF(ISBLANK(D43),\"\",VLOOKUP(D43,Table2[],4,0))","v":""},{"$f":"IF(ISBLANK(D43),\"\",VLOOKUP(D43,Table2[],5,0))","v":""},{"$f":"IF(ISBLANK(D43),\"\",VLOOKUP(D43,Table2[],7,0))","v":""}]
[null,null,null,null,null,{"$f":"IF(ISBLANK(D44),\"\",VLOOKUP(D44,Table2[],2,0))","v":""},{"$f":"IF(ISBLANK(D44),\"\",VLOOKUP(D44,Table2[],3,0))","v":""},{"$f":"IF(ISBLANK(D44),\"\",VLOOKUP(D44,Table2[],4,0))","v":""},{"$f":"IF(ISBLANK(D44),\"\",VLOOKUP(D44,Table2[],5,0))","v":""},{"$f":"IF(ISBLANK(D44),\"\",VLOOKUP(D44,Table2[],7,0))","v":""}]
[null,null,null,null,null,{"$f":"IF(ISBLANK(D45),\"\",VLOOKUP(D45,Table2[],2,0))","v":""},{"$f":"IF(ISBLANK(D45),\"\",VLOOKUP(D45,Table2[],3,0))","v":""},{"$f":"IF(ISBLANK(D45),\"\",VLOOKUP(D45,Table2[],4,0))","v":""},{"$f":"IF(ISBLANK(D45),\"\",VLOOKUP(D45,Table2[],5,0))","v":""},{"$f":"IF(ISBLANK(D45),\"\",VLOOKUP(D45,Table2[],7,0))","v":""}]
[null,null,null,null,null,{"$f":"IF(ISBLANK(D46),\"\",VLOOKUP(D46,Table2[],2,0))","v":""},{"$f":"IF(ISBLANK(D46),\"\",VLOOKUP(D46,Table2[],3,0))","v":""},{"$f":"IF(ISBLANK(D46),\"\",VLOOKUP(D46,Table2[],4,0))","v":""},{"$f":"IF(ISBLANK(D46),\"\",VLOOKUP(D46,Table2[],5,0))","v":""},{"$f":"IF(ISBLANK(D46),\"\",VLOOKUP(D46,Table2[],7,0))","v":""}]
[null,null,null,null,null,{"$f":"IF(ISBLANK(D47),\"\",VLOOKUP(D47,Table2[],2,0))","v":""},{"$f":"IF(ISBLANK(D47),\"\",VLOOKUP(D47,Table2[],3,0))","v":""},{"$f":"IF(ISBLANK(D47),\"\",VLOOKUP(D47,Table2[],4,0))","v":""},{"$f":"IF(ISBLANK(D47),\"\",VLOOKUP(D47,Table2[],5,0))","v":""},{"$f":"IF(ISBLANK(D47),\"\",VLOOKUP(D47,Table2[],7,0))","v":""}]
[null,null,null,null,null,{"$f":"IF(ISBLANK(D48),\"\",VLOOKUP(D48,Table2[],2,0))","v":""},{"$f":"IF(ISBLANK(D48),\"\",VLOOKUP(D48,Table2[],3,0))","v":""},{"$f":"IF(ISBLANK(D48),\"\",VLOOKUP(D48,Table2[],4,0))","v":""},{"$f":"IF(ISBLANK(D48),\"\",VLOOKUP(D48,Table2[],5,0))","v":""},{"$f":"IF(ISBLANK(D48),\"\",VLOOKUP(D48,Table2[],7,0))","v":""}]
[null,null,null,null,null,{"$f":"IF(ISBLANK(D49),\"\",VLOOKUP(D49,Table2[],2,0))","v":""},{"$f":"IF(ISBLANK(D49),\"\",VLOOKUP(D49,Table2[],3,0))","v":""},{"$f":"IF(ISBLANK(D49),\"\",VLOOKUP(D49,Table2[],4,0))","v":""},{"$f":"IF(ISBLANK(D49),\"\",VLOOKUP(D49,Table2[],5,0))","v":""},{"$f":"IF(ISBLANK(D49),\"\",VLOOKUP(D49,Table2[],7,0))","v":""}]
[null,null,null,null,null,{"$f":"IF(ISBLANK(D50),\"\",VLOOKUP(D50,Table2[],2,0))","v":""},{"$f":"IF(ISBLANK(D50),\"\",VLOOKUP(D50,Table2[],3,0))","v":""},{"$f":"IF(ISBLANK(D50),\"\",VLOOKUP(D50,Table2[],4,0))","v":""},{"$f":"IF(ISBLANK(D50),\"\",VLOOKUP(D50,Table2[],5,0))","v":""},{"$f":"IF(ISBLANK(D50),\"\",VLOOKUP(D50,Table2[],7,0))","v":""}]
[null,null,null,null,null,{"$f":"IF(ISBLANK(D51),\"\",VLOOKUP(D51,Table2[],2,0))","v":""},{"$f":"IF(ISBLANK(D51),\"\",VLOOKUP(D51,Table2[],3,0))","v":""},{"$f":"IF(ISBLANK(D51),\"\",VLOOKUP(D51,Table2[],4,0))","v":""},{"$f":"IF(ISBLANK(D51),\"\",VLOOKUP(D51,Table2[],5,0))","v":""},{"$f":"IF(ISBLANK(D51),\"\",VLOOKUP(D51,Table2[],7,0))","v":""}]
[null,null,null,null,null,{"$f":"IF(ISBLANK(D52),\"\",VLOOKUP(D52,Table2[],2,0))","v":""},{"$f":"IF(ISBLANK(D52),\"\",VLOOKUP(D52,Table2[],3,0))","v":""},{"$f":"IF(ISBLANK(D52),\"\",VLOOKUP(D52,Table2[],4,0))","v":""},{"$f":"IF(ISBLANK(D52),\"\",VLOOKUP(D52,Table2[],5,0))","v":""},{"$f":"IF(ISBLANK(D52),\"\",VLOOKUP(D52,Table2[],7,0))","v":""}]
[null,null,null,null,null,{"$f":"IF(ISBLANK(D53),\"\",VLOOKUP(D53,Table2[],2,0))","v":""},{"$f":"IF(ISBLANK(D53),\"\",VLOOKUP(D53,Table2[],3,0))","v":""},{"$f":"IF(ISBLANK(D53),\"\",VLOOKUP(D53,Table2[],4,0))","v":""},{"$f":"IF(ISBLANK(D53),\"\",VLOOKUP(D53,Table2[],5,0))","v":""},{"$f":"IF(ISBLANK(D53),\"\",VLOOKUP(D53,Table2[],7,0))","v":""}]
[null,null,null,null,null,{"$f":"IF(ISBLANK(D54),\"\",VLOOKUP(D54,Table2[],2,0))","v":""},{"$f":"IF(ISBLANK(D54),\"\",VLOOKUP(D54,Table2[],3,0))","v":""},{"$f":"IF(ISBLANK(D54),\"\",VLOOKUP(D54,Table2[],4,0))","v":""},{"$f":"IF(ISBLANK(D54),\"\",VLOOKUP(D54,Table2[],5,0))","v":""},{"$f":"IF(ISBLANK(D54),\"\",VLOOKUP(D54,Table2[],7,0))","v":""}]
[null,null,null,null,null,{"$f":"IF(ISBLANK(D55),\"\",VLOOKUP(D55,Table2[],2,0))","v":""},{"$f":"IF(ISBLANK(D55),\"\",VLOOKUP(D55,Table2[],3,0))","v":""},{"$f":"IF(ISBLANK(D55),\"\",VLOOKUP(D55,Table2[],4,0))","v":""},{"$f":"IF(ISBLANK(D55),\"\",VLOOKUP(D55,Table2[],5,0))","v":""},{"$f":"IF(ISBLANK(D55),\"\",VLOOKUP(D55,Table2[],7,0))","v":""}]
[null,null,null,null,null,{"$f":"IF(ISBLANK(D56),\"\",VLOOKUP(D56,Table2[],2,0))","v":""},{"$f":"IF(ISBLANK(D56),\"\",VLOOKUP(D56,Table2[],3,0))","v":""},{"$f":"IF(ISBLANK(D56),\"\",VLOOKUP(D56,Table2[],4,0))","v":""},{"$f":"IF(ISBLANK(D56),\"\",VLOOKUP(D56,Table2[],5,0))","v":""},{"$f":"IF(ISBLANK(D56),\"\",VLOOKUP(D56,Table2[],7,0))","v":""}]
[null,null,null,null,null,{"$f":"IF(ISBLANK(D57),\"\",VLOOKUP(D57,Table2[],2,0))","v":""},{"$f":"IF(ISBLANK(D57),\"\",VLOOKUP(D57,Table2[],3,0))","v":""},{"$f":"IF(ISBLANK(D57),\"\",VLOOKUP(D57,Table2[],4,0))","v":""},{"$f":"IF(ISBLANK(D57),\"\",VLOOKUP(D57,Table2[],5,0))","v":""},{"$f":"IF(ISBLANK(D57),\"\",VLOOKUP(D57,Table2[],7,0))","v":""}]
[null,null,null,null,null,{"$f":"IF(ISBLANK(D58),\"\",VLOOKUP(D58,Table2[],2,0))","v":""},{"$f":"IF(ISBLANK(D58),\"\",VLOOKUP(D58,Table2[],3,0))","v":""},{"$f":"IF(ISBLANK(D58),\"\",VLOOKUP(D58,Table2[],4,0))","v":""},{"$f":"IF(ISBLANK(D58),\"\",VLOOKUP(D58,Table2[],5,0))","v":""},{"$f":"IF(ISBLANK(D58),\"\",VLOOKUP(D58,Table2[],7,0))","v":""}]
[null,null,null,null,null,{"$f":"IF(ISBLANK(D59),\"\",VLOOKUP(D59,Table2[],2,0))","v":""},{"$f":"IF(ISBLANK(D59),\"\",VLOOKUP(D59,Table2[],3,0))","v":""},{"$f":"IF(ISBLANK(D59),\"\",VLOOKUP(D59,Table2[],4,0))","v":""},{"$f":"IF(ISBLANK(D59),\"\",VLOOKUP(D59,Table2[],5,0))","v":""},{"$f":"IF(ISBLANK(D59),\"\",VLOOKUP(D59,Table2[],7,0))","v":""}]
[null,null,null,null,null,{"$f":"IF(ISBLANK(D60),\"\",VLOOKUP(D60,Table2[],2,0))","v":""},{"$f":"IF(ISBLANK(D60),\"\",VLOOKUP(D60,Table2[],3,0))","v":""},{"$f":"IF(ISBLANK(D60),\"\",VLOOKUP(D60,Table2[],4,0))","v":""},{"$f":"IF(ISBLANK(D60),\"\",VLOOKUP(D60,Table2[],5,0))","v":""},{"$f":"IF(ISBLANK(D60),\"\",VLOOKUP(D60,Table2[],7,0))","v":""}]
[null,null,null,null,null,{"$f":"IF(ISBLANK(D61),\"\",VLOOKUP(D61,Table2[],2,0))","v":""},{"$f":"IF(ISBLANK(D61),\"\",VLOOKUP(D61,Table2[],3,0))","v":""},{"$f":"IF(ISBLANK(D61),\"\",VLOOKUP(D61,Table2[],4,0))","v":""},{"$f":"IF(ISBLANK(D61),\"\",VLOOKUP(D61,Table2[],5,0))","v":""},{"$f":"IF(ISBLANK(D61),\"\",VLOOKUP(D61,Table2[],7,0))","v":""}]
[null,null,{"$f":"IF(ISBLANK(D67),\"\",\"Unhide rows below to show additional contacts\")","v":""},null,null,{"$f":"IF(ISBLANK(D62),\"\",VLOOKUP(D62,Table2[],2,0))","v":""},{"$f":"IF(ISBLANK(D62),\"\",VLOOKUP(D62,Table2[],3,0))","v":""},{"$f":"IF(ISBLANK(D62),\"\",VLOOKUP(D62,Table2[],4,0))","v":""},{"$f":"IF(ISBLANK(D62),\"\",VLOOKUP(D62,Table2[],5,0))","v":""},{"$f":"IF(ISBLANK(D62),\"\",VLOOKUP(D62,Table2[],7,0))","v":""}]
[null,null,null,null,null,{"$f":"IF(ISBLANK(D63),\"\",VLOOKUP(D63,Table2[],2,0))","v":""},{"$f":"IF(ISBLANK(D63),\"\",VLOOKUP(D63,Table2[],3,0))","v":""},{"$f":"IF(ISBLANK(D63),\"\",VLOOKUP(D63,Table2[],4,0))","v":""},{"$f":"IF(ISBLANK(D63),\"\",VLOOKUP(D63,Table2[],5,0))","v":""},{"$f":"IF(ISBLANK(D63),\"\",VLOOKUP(D63,Table2[],7,0))","v":""}]
[null,null,null,null,null,{"$f":"IF(ISBLANK(D64),\"\",VLOOKUP(D64,Table2[],2,0))","v":""},{"$f":"IF(ISBLANK(D64),\"\",VLOOKUP(D64,Table2[],3,0))","v":""},{"$f":"IF(ISBLANK(D64),\"\",VLOOKUP(D64,Table2[],4,0))","v":""},{"$f":"IF(ISBLANK(D64),\"\",VLOOKUP(D64,Table2[],5,0))","v":""},{"$f":"IF(ISBLANK(D64),\"\",VLOOKUP(D64,Table2[],7,0))","v":""}]
[null,null,null,null,null,{"$f":"IF(ISBLANK(D65),\"\",VLOOKUP(D65,Table2[],2,0))","v":""},{"$f":"IF(ISBLANK(D65),\"\",VLOOKUP(D65,Table2[],3,0))","v":""},{"$f":"IF(ISBLANK(D65),\"\",VLOOKUP(D65,Table2[],4,0))","v":""},{"$f":"IF(ISBLANK(D65),\"\",VLOOKUP(D65,Table2[],5,0))","v":""},{"$f":"IF(ISBLANK(D65),\"\",VLOOKUP(D65,Table2[],7,0))","v":""}]
[null,null,null,null,null,{"$f":"IF(ISBLANK(D66),\"\",VLOOKUP(D66,Table2[],2,0))","v":""},{"$f":"IF(ISBLANK(D66),\"\",VLOOKUP(D66,Table2[],3,0))","v":""},{"$f":"IF(ISBLANK(D66),\"\",VLOOKUP(D66,Table2[],4,0))","v":""},{"$f":"IF(ISBLANK(D66),\"\",VLOOKUP(D66,Table2[],5,0))","v":""},{"$f":"IF(ISBLANK(D66),\"\",VLOOKUP(D66,Table2[],7,0))","v":""}]
[null,null,null,null,null,{"$f":"IF(ISBLANK(D67),\"\",VLOOKUP(D67,Table2[],2,0))","v":""},{"$f":"IF(ISBLANK(D67),\"\",VLOOKUP(D67,Table2[],3,0))","v":""},{"$f":"IF(ISBLANK(D67),\"\",VLOOKUP(D67,Table2[],4,0))","v":""},{"$f":"IF(ISBLANK(D67),\"\",VLOOKUP(D67,Table2[],5,0))","v":""},{"$f":"IF(ISBLANK(D67),\"\",VLOOKUP(D67,Table2[],7,0))","v":""}]
[null,null,null,null,null,{"$f":"IF(ISBLANK(D68),\"\",VLOOKUP(D68,Table2[],2,0))","v":""},{"$f":"IF(ISBLANK(D68),\"\",VLOOKUP(D68,Table2[],3,0))","v":""},{"$f":"IF(ISBLANK(D68),\"\",VLOOKUP(D68,Table2[],4,0))","v":""},{"$f":"IF(ISBLANK(D68),\"\",VLOOKUP(D68,Table2[],5,0))","v":""},{"$f":"IF(ISBLANK(D68),\"\",VLOOKUP(D68,Table2[],7,0))","v":""}]
[null,null,null,null,null,{"$f":"IF(ISBLANK(D69),\"\",VLOOKUP(D69,Table2[],2,0))","v":""},{"$f":"IF(ISBLANK(D69),\"\",VLOOKUP(D69,Table2[],3,0))","v":""},{"$f":"IF(ISBLANK(D69),\"\",VLOOKUP(D69,Table2[],4,0))","v":""},{"$f":"IF(ISBLANK(D69),\"\",VLOOKUP(D69,Table2[],5,0))","v":""},{"$f":"IF(ISBLANK(D69),\"\",VLOOKUP(D69,Table2[],7,0))","v":""}]
[null,null,null,null,null,{"$f":"IF(ISBLANK(D70),\"\",VLOOKUP(D70,Table2[],2,0))","v":""},{"$f":"IF(ISBLANK(D70),\"\",VLOOKUP(D70,Table2[],3,0))","v":""},{"$f":"IF(ISBLANK(D70),\"\",VLOOKUP(D70,Table2[],4,0))","v":""},{"$f":"IF(ISBLANK(D70),\"\",VLOOKUP(D70,Table2[],5,0))","v":""},{"$f":"IF(ISBLANK(D70),\"\",VLOOKUP(D70,Table2[],7,0))","v":""}]
[null,null,null,null,null,{"$f":"IF(ISBLANK(D71),\"\",VLOOKUP(D71,Table2[],2,0))","v":""},{"$f":"IF(ISBLANK(D71),\"\",VLOOKUP(D71,Table2[],3,0))","v":""},{"$f":"IF(ISBLANK(D71),\"\",VLOOKUP(D71,Table2[],4,0))","v":""},{"$f":"IF(ISBLANK(D71),\"\",VLOOKUP(D71,Table2[],5,0))","v":""},{"$f":"IF(ISBLANK(D71),\"\",VLOOKUP(D71,Table2[],7,0))","v":""}]
[null,null,null,null,null,{"$f":"IF(ISBLANK(D72),\"\",VLOOKUP(D72,Table2[],2,0))","v":""},{"$f":"IF(ISBLANK(D72),\"\",VLOOKUP(D72,Table2[],3,0))","v":""},{"$f":"IF(ISBLANK(D72),\"\",VLOOKUP(D72,Table2[],4,0))","v":""},{"$f":"IF(ISBLANK(D72),\"\",VLOOKUP(D72,Table2[],5,0))","v":""},{"$f":"IF(ISBLANK(D72),\"\",VLOOKUP(D72,Table2[],7,0))","v":""}]
[null,null,null,null,null,{"$f":"IF(ISBLANK(D73),\"\",VLOOKUP(D73,Table2[],2,0))","v":""},{"$f":"IF(ISBLANK(D73),\"\",VLOOKUP(D73,Table2[],3,0))","v":""},{"$f":"IF(ISBLANK(D73),\"\",VLOOKUP(D73,Table2[],4,0))","v":""},{"$f":"IF(ISBLANK(D73),\"\",VLOOKUP(D73,Table2[],5,0))","v":""},{"$f":"IF(ISBLANK(D73),\"\",VLOOKUP(D73,Table2[],7,0))","v":""}]
[null,null,null,null,null,{"$f":"IF(ISBLANK(D74),\"\",VLOOKUP(D74,Table2[],2,0))","v":""},{"$f":"IF(ISBLANK(D74),\"\",VLOOKUP(D74,Table2[],3,0))","v":""},{"$f":"IF(ISBLANK(D74),\"\",VLOOKUP(D74,Table2[],4,0))","v":""},{"$f":"IF(ISBLANK(D74),\"\",VLOOKUP(D74,Table2[],5,0))","v":""},{"$f":"IF(ISBLANK(D74),\"\",VLOOKUP(D74,Table2[],7,0))","v":""}]
[null,null,null,null,null,{"$f":"IF(ISBLANK(D75),\"\",VLOOKUP(D75,Table2[],2,0))","v":""},{"$f":"IF(ISBLANK(D75),\"\",VLOOKUP(D75,Table2[],3,0))","v":""},{"$f":"IF(ISBLANK(D75),\"\",VLOOKUP(D75,Table2[],4,0))","v":""},{"$f":"IF(ISBLANK(D75),\"\",VLOOKUP(D75,Table2[],5,0))","v":""},{"$f":"IF(ISBLANK(D75),\"\",VLOOKUP(D75,Table2[],7,0))","v":""}]
[null,null,null,null,null,{"$f":"IF(ISBLANK(D76),\"\",VLOOKUP(D76,Table2[],2,0))","v":""},{"$f":"IF(ISBLANK(D76),\"\",VLOOKUP(D76,Table2[],3,0))","v":""},{"$f":"IF(ISBLANK(D76),\"\",VLOOKUP(D76,Table2[],4,0))","v":""},{"$f":"IF(ISBLANK(D76),\"\",VLOOKUP(D76,Table2[],5,0))","v":""},{"$f":"IF(ISBLANK(D76),\"\",VLOOKUP(D76,Table2[],7,0))","v":""}]
[null,null,null,null,null,{"$f":"IF(ISBLANK(D77),\"\",VLOOKUP(D77,Table2[],2,0))","v":""},{"$f":"IF(ISBLANK(D77),\"\",VLOOKUP(D77,Table2[],3,0))","v":""},{"$f":"IF(ISBLANK(D77),\"\",VLOOKUP(D77,Table2[],4,0))","v":""},{"$f":"IF(ISBLANK(D77),\"\",VLOOKUP(D77,Table2[],5,0))","v":""},{"$f":"IF(ISBLANK(D77),\"\",VLOOKUP(D77,Table2[],7,0))","v":""}]
[null,null,null,null,null,{"$f":"IF(ISBLANK(D78),\"\",VLOOKUP(D78,Table2[],2,0))","v":""},{"$f":"IF(ISBLANK(D78),\"\",VLOOKUP(D78,Table2[],3,0))","v":""},{"$f":"IF(ISBLANK(D78),\"\",VLOOKUP(D78,Table2[],4,0))","v":""},{"$f":"IF(ISBLANK(D78),\"\",VLOOKUP(D78,Table2[],5,0))","v":""},{"$f":"IF(ISBLANK(D78),\"\",VLOOKUP(D78,Table2[],7,0))","v":""}]
[null,null,null,null,null,{"$f":"IF(ISBLANK(D79),\"\",VLOOKUP(D79,Table2[],2,0))","v":""},{"$f":"IF(ISBLANK(D79),\"\",VLOOKUP(D79,Table2[],3,0))","v":""},{"$f":"IF(ISBLANK(D79),\"\",VLOOKUP(D79,Table2[],4,0))","v":""},{"$f":"IF(ISBLANK(D79),\"\",VLOOKUP(D79,Table2[],5,0))","v":""},{"$f":"IF(ISBLANK(D79),\"\",VLOOKUP(D79,Table2[],7,0))","v":""}]
[null,null,null,null,null,{"$f":"IF(ISBLANK(D80),\"\",VLOOKUP(D80,Table2[],2,0))","v":""},{"$f":"IF(ISBLANK(D80),\"\",VLOOKUP(D80,Table2[],3,0))","v":""},{"$f":"IF(ISBLANK(D80),\"\",VLOOKUP(D80,Table2[],4,0))","v":""},{"$f":"IF(ISBLANK(D80),\"\",VLOOKUP(D80,Table2[],5,0))","v":""},{"$f":"IF(ISBLANK(D80),\"\",VLOOKUP(D80,Table2[],7,0))","v":""}]
[null,null,null,null,null,{"$f":"IF(ISBLANK(D81),\"\",VLOOKUP(D81,Table2[],2,0))","v":""},{"$f":"IF(ISBLANK(D81),\"\",VLOOKUP(D81,Table2[],3,0))","v":""},{"$f":"IF(ISBLANK(D81),\"\",VLOOKUP(D81,Table2[],4,0))","v":""},{"$f":"IF(ISBLANK(D81),\"\",VLOOKUP(D81,Table2[],5,0))","v":""},{"$f":"IF(ISBLANK(D81),\"\",VLOOKUP(D81,Table2[],7,0))","v":""}]
[null,null,null,null,null,{"$f":"IF(ISBLANK(D82),\"\",VLOOKUP(D82,Table2[],2,0))","v":""},{"$f":"IF(ISBLANK(D82),\"\",VLOOKUP(D82,Table2[],3,0))","v":""},{"$f":"IF(ISBLANK(D82),\"\",VLOOKUP(D82,Table2[],4,0))","v":""},{"$f":"IF(ISBLANK(D82),\"\",VLOOKUP(D82,Table2[],5,0))","v":""},{"$f":"IF(ISBLANK(D82),\"\",VLOOKUP(D82,Table2[],7,0))","v":""}]
[null,null,null,null,null,{"$f":"IF(ISBLANK(D83),\"\",VLOOKUP(D83,Table2[],2,0))","v":""},{"$f":"IF(ISBLANK(D83),\"\",VLOOKUP(D83,Table2[],3,0))","v":""},{"$f":"IF(ISBLANK(D83),\"\",VLOOKUP(D83,Table2[],4,0))","v":""},{"$f":"IF(ISBLANK(D83),\"\",VLOOKUP(D83,Table2[],5,0))","v":""},{"$f":"IF(ISBLANK(D83),\"\",VLOOKUP(D83,Table2[],7,0))","v":""}]
[null,null,null,null,null,{"$f":"IF(ISBLANK(D84),\"\",VLOOKUP(D84,Table2[],2,0))","v":""},{"$f":"IF(ISBLANK(D84),\"\",VLOOKUP(D84,Table2[],3,0))","v":""},{"$f":"IF(ISBLANK(D84),\"\",VLOOKUP(D84,Table2[],4,0))","v":""},{"$f":"IF(ISBLANK(D84),\"\",VLOOKUP(D84,Table2[],5,0))","v":""},{"$f":"IF(ISBLANK(D84),\"\",VLOOKUP(D84,Table2[],7,0))","v":""}]
[null,null,null,null,null,{"$f":"IF(ISBLANK(D85),\"\",VLOOKUP(D85,Table2[],2,0))","v":""},{"$f":"IF(ISBLANK(D85),\"\",VLOOKUP(D85,Table2[],3,0))","v":""},{"$f":"IF(ISBLANK(D85),\"\",VLOOKUP(D85,Table2[],4,0))","v":""},{"$f":"IF(ISBLANK(D85),\"\",VLOOKUP(D85,Table2[],5,0))","v":""},{"$f":"IF(ISBLANK(D85),\"\",VLOOKUP(D85,Table2[],7,0))","v":""}]
[null,null,null,null,null,{"$f":"IF(ISBLANK(D86),\"\",VLOOKUP(D86,Table2[],2,0))","v":""},{"$f":"IF(ISBLANK(D86),\"\",VLOOKUP(D86,Table2[],3,0))","v":""},{"$f":"IF(ISBLANK(D86),\"\",VLOOKUP(D86,Table2[],4,0))","v":""},{"$f":"IF(ISBLANK(D86),\"\",VLOOKUP(D86,Table2[],5,0))","v":""},{"$f":"IF(ISBLANK(D86),\"\",VLOOKUP(D86,Table2[],7,0))","v":""}]
[null,null,null,null,null,{"$f":"IF(ISBLANK(D87),\"\",VLOOKUP(D87,Table2[],2,0))","v":""},{"$f":"IF(ISBLANK(D87),\"\",VLOOKUP(D87,Table2[],3,0))","v":""},{"$f":"IF(ISBLANK(D87),\"\",VLOOKUP(D87,Table2[],4,0))","v":""},{"$f":"IF(ISBLANK(D87),\"\",VLOOKUP(D87,Table2[],5,0))","v":""},{"$f":"IF(ISBLANK(D87),\"\",VLOOKUP(D87,Table2[],7,0))","v":""}]
[null,null,null,null,null,{"$f":"IF(ISBLANK(D88),\"\",VLOOKUP(D88,Table2[],2,0))","v":""},{"$f":"IF(ISBLANK(D88),\"\",VLOOKUP(D88,Table2[],3,0))","v":""},{"$f":"IF(ISBLANK(D88),\"\",VLOOKUP(D88,Table2[],4,0))","v":""},{"$f":"IF(ISBLANK(D88),\"\",VLOOKUP(D88,Table2[],5,0))","v":""},{"$f":"IF(ISBLANK(D88),\"\",VLOOKUP(D88,Table2[],7,0))","v":""}]
[null,null,null,null,null,{"$f":"IF(ISBLANK(D89),\"\",VLOOKUP(D89,Table2[],2,0))","v":""},{"$f":"IF(ISBLANK(D89),\"\",VLOOKUP(D89,Table2[],3,0))","v":""},{"$f":"IF(ISBLANK(D89),\"\",VLOOKUP(D89,Table2[],4,0))","v":""},{"$f":"IF(ISBLANK(D89),\"\",VLOOKUP(D89,Table2[],5,0))","v":""},{"$f":"IF(ISBLANK(D89),\"\",VLOOKUP(D89,Table2[],7,0))","v":""}]
[null,null,null,null,null,{"$f":"IF(ISBLANK(D90),\"\",VLOOKUP(D90,Table2[],2,0))","v":""},{"$f":"IF(ISBLANK(D90),\"\",VLOOKUP(D90,Table2[],3,0))","v":""},{"$f":"IF(ISBLANK(D90),\"\",VLOOKUP(D90,Table2[],4,0))","v":""},{"$f":"IF(ISBLANK(D90),\"\",VLOOKUP(D90,Table2[],5,0))","v":""},{"$f":"IF(ISBLANK(D90),\"\",VLOOKUP(D90,Table2[],7,0))","v":""}]
[null,null,null,null,null,{"$f":"IF(ISBLANK(D91),\"\",VLOOKUP(D91,Table2[],2,0))","v":""},{"$f":"IF(ISBLANK(D91),\"\",VLOOKUP(D91,Table2[],3,0))","v":""},{"$f":"IF(ISBLANK(D91),\"\",VLOOKUP(D91,Table2[],4,0))","v":""},{"$f":"IF(ISBLANK(D91),\"\",VLOOKUP(D91,Table2[],5,0))","v":""},{"$f":"IF(ISBLANK(D91),\"\",VLOOKUP(D91,Table2[],7,0))","v":""}]
[null,null,null,null,null,{"$f":"IF(ISBLANK(D92),\"\",VLOOKUP(D92,Table2[],2,0))","v":""},{"$f":"IF(ISBLANK(D92),\"\",VLOOKUP(D92,Table2[],3,0))","v":""},{"$f":"IF(ISBLANK(D92),\"\",VLOOKUP(D92,Table2[],4,0))","v":""},{"$f":"IF(ISBLANK(D92),\"\",VLOOKUP(D92,Table2[],5,0))","v":""},{"$f":"IF(ISBLANK(D92),\"\",VLOOKUP(D92,Table2[],7,0))","v":""}]
[null,null,null,null,null,{"$f":"IF(ISBLANK(D93),\"\",VLOOKUP(D93,Table2[],2,0))","v":""},{"$f":"IF(ISBLANK(D93),\"\",VLOOKUP(D93,Table2[],3,0))","v":""},{"$f":"IF(ISBLANK(D93),\"\",VLOOKUP(D93,Table2[],4,0))","v":""},{"$f":"IF(ISBLANK(D93),\"\",VLOOKUP(D93,Table2[],5,0))","v":""},{"$f":"IF(ISBLANK(D93),\"\",VLOOKUP(D93,Table2[],7,0))","v":""}]
[null,null,null,null,null,{"$f":"IF(ISBLANK(D94),\"\",VLOOKUP(D94,Table2[],2,0))","v":""},{"$f":"IF(ISBLANK(D94),\"\",VLOOKUP(D94,Table2[],3,0))","v":""},{"$f":"IF(ISBLANK(D94),\"\",VLOOKUP(D94,Table2[],4,0))","v":""},{"$f":"IF(ISBLANK(D94),\"\",VLOOKUP(D94,Table2[],5,0))","v":""},{"$f":"IF(ISBLANK(D94),\"\",VLOOKUP(D94,Table2[],7,0))","v":""}]
[null,null,null,null,null,{"$f":"IF(ISBLANK(D95),\"\",VLOOKUP(D95,Table2[],2,0))","v":""},{"$f":"IF(ISBLANK(D95),\"\",VLOOKUP(D95,Table2[],3,0))","v":""},{"$f":"IF(ISBLANK(D95),\"\",VLOOKUP(D95,Table2[],4,0))","v":""},{"$f":"IF(ISBLANK(D95),\"\",VLOOKUP(D95,Table2[],5,0))","v":""},{"$f":"IF(ISBLANK(D95),\"\",VLOOKUP(D95,Table2[],7,0))","v":""}]
[null,null,null,null,null,{"$f":"IF(ISBLANK(D96),\"\",VLOOKUP(D96,Table2[],2,0))","v":""},{"$f":"IF(ISBLANK(D96),\"\",VLOOKUP(D96,Table2[],3,0))","v":""},{"$f":"IF(ISBLANK(D96),\"\",VLOOKUP(D96,Table2[],4,0))","v":""},{"$f":"IF(ISBLANK(D96),\"\",VLOOKUP(D96,Table2[],5,0))","v":""},{"$f":"IF(ISBLANK(D96),\"\",VLOOKUP(D96,Table2[],7,0))","v":""}]
[null,null,null,null,null,{"$f":"IF(ISBLANK(D97),\"\",VLOOKUP(D97,Table2[],2,0))","v":""},{"$f":"IF(ISBLANK(D97),\"\",VLOOKUP(D97,Table2[],3,0))","v":""},{"$f":"IF(ISBLANK(D97),\"\",VLOOKUP(D97,Table2[],4,0))","v":""},{"$f":"IF(ISBLANK(D97),\"\",VLOOKUP(D97,Table2[],5,0))","v":""},{"$f":"IF(ISBLANK(D97),\"\",VLOOKUP(D97,Table2[],7,0))","v":""}]
[null,null,null,null,null,{"$f":"IF(ISBLANK(D98),\"\",VLOOKUP(D98,Table2[],2,0))","v":""},{"$f":"IF(ISBLANK(D98),\"\",VLOOKUP(D98,Table2[],3,0))","v":""},{"$f":"IF(ISBLANK(D98),\"\",VLOOKUP(D98,Table2[],4,0))","v":""},{"$f":"IF(ISBLANK(D98),\"\",VLOOKUP(D98,Table2[],5,0))","v":""},{"$f":"IF(ISBLANK(D98),\"\",VLOOKUP(D98,Table2[],7,0))","v":""}]
[null,null,null,null,null,{"$f":"IF(ISBLANK(D99),\"\",VLOOKUP(D99,Table2[],2,0))","v":""},{"$f":"IF(ISBLANK(D99),\"\",VLOOKUP(D99,Table2[],3,0))","v":""},{"$f":"IF(ISBLANK(D99),\"\",VLOOKUP(D99,Table2[],4,0))","v":""},{"$f":"IF(ISBLANK(D99),\"\",VLOOKUP(D99,Table2[],5,0))","v":""},{"$f":"IF(ISBLANK(D99),\"\",VLOOKUP(D99,Table2[],7,0))","v":""}]
[null,null,null,null,null,{"$f":"IF(ISBLANK(D100),\"\",VLOOKUP(D100,Table2[],2,0))","v":""},{"$f":"IF(ISBLANK(D100),\"\",VLOOKUP(D100,Table2[],3,0))","v":""},{"$f":"IF(ISBLANK(D100),\"\",VLOOKUP(D100,Table2[],4,0))","v":""},{"$f":"IF(ISBLANK(D100),\"\",VLOOKUP(D100,Table2[],5,0))","v":""},{"$f":"IF(ISBLANK(D100),\"\",VLOOKUP(D100,Table2[],7,0))","v":""}]
[null,null,null,null,null,{"$f":"IF(ISBLANK(D101),\"\",VLOOKUP(D101,Table2[],2,0))","v":""},{"$f":"IF(ISBLANK(D101),\"\",VLOOKUP(D101,Table2[],3,0))","v":""},{"$f":"IF(ISBLANK(D101),\"\",VLOOKUP(D101,Table2[],4,0))","v":""},{"$f":"IF(ISBLANK(D101),\"\",VLOOKUP(D101,Table2[],5,0))","v":""},{"$f":"IF(ISBLANK(D101),\"\",VLOOKUP(D101,Table2[],7,0))","v":""}]
[null,null,null,null,null,{"$f":"IF(ISBLANK(D102),\"\",VLOOKUP(D102,Table2[],2,0))","v":""},{"$f":"IF(ISBLANK(D102),\"\",VLOOKUP(D102,Table2[],3,0))","v":""},{"$f":"IF(ISBLANK(D102),\"\",VLOOKUP(D102,Table2[],4,0))","v":""},{"$f":"IF(ISBLANK(D102),\"\",VLOOKUP(D102,Table2[],5,0))","v":""},{"$f":"IF(ISBLANK(D102),\"\",VLOOKUP(D102,Table2[],7,0))","v":""}]
[null,null,null,null,null,{"$f":"IF(ISBLANK(D103),\"\",VLOOKUP(D103,Table2[],2,0))","v":""},{"$f":"IF(ISBLANK(D103),\"\",VLOOKUP(D103,Table2[],3,0))","v":""},{"$f":"IF(ISBLANK(D103),\"\",VLOOKUP(D103,Table2[],4,0))","v":""},{"$f":"IF(ISBLANK(D103),\"\",VLOOKUP(D103,Table2[],5,0))","v":""},{"$f":"IF(ISBLANK(D103),\"\",VLOOKUP(D103,Table2[],7,0))","v":""}]
[null,null,null,null,null,{"$f":"IF(ISBLANK(D104),\"\",VLOOKUP(D104,Table2[],2,0))","v":""},{"$f":"IF(ISBLANK(D104),\"\",VLOOKUP(D104,Table2[],3,0))","v":""},{"$f":"IF(ISBLANK(D104),\"\",VLOOKUP(D104,Table2[],4,0))","v":""},{"$f":"IF(ISBLANK(D104),\"\",VLOOKUP(D104,Table2[],5,0))","v":""},{"$f":"IF(ISBLANK(D104),\"\",VLOOKUP(D104,Table2[],7,0))","v":""}]
[null,null,null,null,null,{"$f":"IF(ISBLANK(D105),\"\",VLOOKUP(D105,Table2[],2,0))","v":""},{"$f":"IF(ISBLANK(D105),\"\",VLOOKUP(D105,Table2[],3,0))","v":""},{"$f":"IF(ISBLANK(D105),\"\",VLOOKUP(D105,Table2[],4,0))","v":""},{"$f":"IF(ISBLANK(D105),\"\",VLOOKUP(D105,Table2[],5,0))","v":""},{"$f":"IF(ISBLANK(D105),\"\",VLOOKUP(D105,Table2[],7,0))","v":""}]
[null,null,null,null,null,{"$f":"IF(ISBLANK(D106),\"\",VLOOKUP(D106,Table2[],2,0))","v":""},{"$f":"IF(ISBLANK(D106),\"\",VLOOKUP(D106,Table2[],3,0))","v":""},{"$f":"IF(ISBLANK(D106),\"\",VLOOKUP(D106,Table2[],4,0))","v":""},{"$f":"IF(ISBLANK(D106),\"\",VLOOKUP(D106,Table2[],5,0))","v":""},{"$f":"IF(ISBLANK(D106),\"\",VLOOKUP(D106,Table2[],7,0))","v":""}]
[null,null,null,null,null,{"$f":"IF(ISBLANK(D107),\"\",VLOOKUP(D107,Table2[],2,0))","v":""},{"$f":"IF(ISBLANK(D107),\"\",VLOOKUP(D107,Table2[],3,0))","v":""},{"$f":"IF(ISBLANK(D107),\"\",VLOOKUP(D107,Table2[],4,0))","v":""},{"$f":"IF(ISBLANK(D107),\"\",VLOOKUP(D107,Table2[],5,0))","v":""},{"$f":"IF(ISBLANK(D107),\"\",VLOOKUP(D107,Table2[],7,0))","v":""}]
[null,null,null,null,null,{"$f":"IF(ISBLANK(D108),\"\",VLOOKUP(D108,Table2[],2,0))","v":""},{"$f":"IF(ISBLANK(D108),\"\",VLOOKUP(D108,Table2[],3,0))","v":""},{"$f":"IF(ISBLANK(D108),\"\",VLOOKUP(D108,Table2[],4,0))","v":""},{"$f":"IF(ISBLANK(D108),\"\",VLOOKUP(D108,Table2[],5,0))","v":""},{"$f":"IF(ISBLANK(D108),\"\",VLOOKUP(D108,Table2[],7,0))","v":""}]
[null,null,null,null,null,{"$f":"IF(ISBLANK(D109),\"\",VLOOKUP(D109,Table2[],2,0))","v":""},{"$f":"IF(ISBLANK(D109),\"\",VLOOKUP(D109,Table2[],3,0))","v":""},{"$f":"IF(ISBLANK(D109),\"\",VLOOKUP(D109,Table2[],4,0))","v":""},{"$f":"IF(ISBLANK(D109),\"\",VLOOKUP(D109,Table2[],5,0))","v":""},{"$f":"IF(ISBLANK(D109),\"\",VLOOKUP(D109,Table2[],7,0))","v":""}]
[null,null,null,null,null,{"$f":"IF(ISBLANK(D110),\"\",VLOOKUP(D110,Table2[],2,0))","v":""},{"$f":"IF(ISBLANK(D110),\"\",VLOOKUP(D110,Table2[],3,0))","v":""},{"$f":"IF(ISBLANK(D110),\"\",VLOOKUP(D110,Table2[],4,0))","v":""},{"$f":"IF(ISBLANK(D110),\"\",VLOOKUP(D110,Table2[],5,0))","v":""},{"$f":"IF(ISBLANK(D110),\"\",VLOOKUP(D110,Table2[],7,0))","v":""}]
[null,null,null,null,null,{"$f":"IF(ISBLANK(D111),\"\",VLOOKUP(D111,Table2[],2,0))","v":""},{"$f":"IF(ISBLANK(D111),\"\",VLOOKUP(D111,Table2[],3,0))","v":""},{"$f":"IF(ISBLANK(D111),\"\",VLOOKUP(D111,Table2[],4,0))","v":""},{"$f":"IF(ISBLANK(D111),\"\",VLOOKUP(D111,Table2[],5,0))","v":""},{"$f":"IF(ISBLANK(D111),\"\",VLOOKUP(D111,Table2[],7,0))","v":""}]
[null,null,null,null,null,{"$f":"IF(ISBLANK(D112),\"\",VLOOKUP(D112,Table2[],2,0))","v":""},{"$f":"IF(ISBLANK(D112),\"\",VLOOKUP(D112,Table2[],3,0))","v":""},{"$f":"IF(ISBLANK(D112),\"\",VLOOKUP(D112,Table2[],4,0))","v":""},{"$f":"IF(ISBLANK(D112),\"\",VLOOKUP(D112,Table2[],5,0))","v":""},{"$f":"IF(ISBLANK(D112),\"\",VLOOKUP(D112,Table2[],7,0))","v":""}]
[null,null,null,null,null,{"$f":"IF(ISBLANK(D113),\"\",VLOOKUP(D113,Table2[],2,0))","v":""},{"$f":"IF(ISBLANK(D113),\"\",VLOOKUP(D113,Table2[],3,0))","v":""},{"$f":"IF(ISBLANK(D113),\"\",VLOOKUP(D113,Table2[],4,0))","v":""},{"$f":"IF(ISBLANK(D113),\"\",VLOOKUP(D113,Table2[],5,0))","v":""},{"$f":"IF(ISBLANK(D113),\"\",VLOOKUP(D113,Table2[],7,0))","v":""}]
[null,null,null,null,null,{"$f":"IF(ISBLANK(D114),\"\",VLOOKUP(D114,Table2[],2,0))","v":""},{"$f":"IF(ISBLANK(D114),\"\",VLOOKUP(D114,Table2[],3,0))","v":""},{"$f":"IF(ISBLANK(D114),\"\",VLOOKUP(D114,Table2[],4,0))","v":""},{"$f":"IF(ISBLANK(D114),\"\",VLOOKUP(D114,Table2[],5,0))","v":""},{"$f":"IF(ISBLANK(D114),\"\",VLOOKUP(D114,Table2[],7,0))","v":""}]
[null,null,null,null,null,{"$f":"IF(ISBLANK(D115),\"\",VLOOKUP(D115,Table2[],2,0))","v":""},{"$f":"IF(ISBLANK(D115),\"\",VLOOKUP(D115,Table2[],3,0))","v":""},{"$f":"IF(ISBLANK(D115),\"\",VLOOKUP(D115,Table2[],4,0))","v":""},{"$f":"IF(ISBLANK(D115),\"\",VLOOKUP(D115,Table2[],5,0))","v":""},{"$f":"IF(ISBLANK(D115),\"\",VLOOKUP(D115,Table2[],7,0))","v":""}]
[null,null,null,null,null,{"$f":"IF(ISBLANK(D116),\"\",VLOOKUP(D116,Table2[],2,0))","v":""},{"$f":"IF(ISBLANK(D116),\"\",VLOOKUP(D116,Table2[],3,0))","v":""},{"$f":"IF(ISBLANK(D116),\"\",VLOOKUP(D116,Table2[],4,0))","v":""},{"$f":"IF(ISBLANK(D116),\"\",VLOOKUP(D116,Table2[],5,0))","v":""},{"$f":"IF(ISBLANK(D116),\"\",VLOOKUP(D116,Table2[],7,0))","v":""}]
[null,null,null,null,null,{"$f":"IF(ISBLANK(D117),\"\",VLOOKUP(D117,Table2[],2,0))","v":""},{"$f":"IF(ISBLANK(D117),\"\",VLOOKUP(D117,Table2[],3,0))","v":""},{"$f":"IF(ISBLANK(D117),\"\",VLOOKUP(D117,Table2[],4,0))","v":""},{"$f":"IF(ISBLANK(D117),\"\",VLOOKUP(D117,Table2[],5,0))","v":""},{"$f":"IF(ISBLANK(D117),\"\",VLOOKUP(D117,Table2[],7,0))","v":""}]
[null,null,null,null,null,{"$f":"IF(ISBLANK(D118),\"\",VLOOKUP(D118,Table2[],2,0))","v":""},{"$f":"IF(ISBLANK(D118),\"\",VLOOKUP(D118,Table2[],3,0))","v":""},{"$f":"IF(ISBLANK(D118),\"\",VLOOKUP(D118,Table2[],4,0))","v":""},{"$f":"IF(ISBLANK(D118),\"\",VLOOKUP(D118,Table2[],5,0))","v":""},{"$f":"IF(ISBLANK(D118),\"\",VLOOKUP(D118,Table2[],7,0))","v":""}]
[]
[null,null,null,{"$f":"_xlfn.CONCAT(D14,\" - \", D6)","v":"Blank - "}]
[null,null,null,{"$f":"IF(COUNTIF(D120,\"*Boston*\")>0,\"Boston\",\"\")","v":""}]
[null,null,null,{"$f":"IF(D121=\"\",D120,_xlfn.CONCAT(D121,\" - \",D6))","v":"Blank - "}]

{"sheet":"PrintExport Friendly","index":2,"n_rows":117,"n_cols":17,"rows_kept":117,"cut":false,"hidden":false,"merged":[[60,2,62,2],[8,15,11,16],[14,1,14,2],[14,17,14,18]]}
[]
[]
[null,"Printer/Export Friendly Project-Specific EJ Reference List"]
[null,"Populate the \"Project EJ Ref List\" tab to generate a printer friendly format of the list"]
[null,"Before printing, ensure any \"blanks\" are filtered from the \"Contact Name\" column in the table below."]
[]
[null,"Project Name: ",null,{"$f":"IF('Project EJ Ref List'!$D$6=0,\"\",'Project EJ Ref List'!$D$6)","v":""}]
[]
[null,"Project Address:",null,{"$f":"IF('Project EJ Ref List'!D8=0,\"\", 'Project EJ Ref List'!D8)","v":""}]
[]
[null,"Date Generated: ",null,{"$f":"IF('Project EJ Ref List'!D10=0,\"\",'Project EJ Ref List'!D10)","v":""}]
[]
[null,null,null,{"$f":"'Project EJ Ref List'!D14","v":"Blank"},{"$f":"'Project EJ Ref List'!F14","v":"Blank"},{"$f":"'Project EJ Ref List'!G14","v":"Blank"},{"$f":"'Project EJ Ref List'!H14","v":"Blank"},{"$f":"'Project EJ Ref List'!I14","v":"Blank"},{"$f":"'Project EJ Ref List'!J14","v":"Blank"}]
[null,null,null,{"$f":"'Project EJ Ref List'!D15","v":"Blank"},{"$f":"'Project EJ Ref List'!F15","v":"Blank"},{"$f":"'Project EJ Ref List'!G15","v":"Blank"},{"$f":"'Project EJ Ref List'!H15","v":"Blank"},{"$f":"'Project EJ Ref List'!I15","v":"Blank"},{"$f":"'Project EJ Ref List'!J15","v":"Blank"}]
[null,"Municipalities in Project's DGA: ",null,{"$f":"_xlfn.TEXTJOIN(\", \",TRUE, IF(D13:I14<>\"Blank\",D13:I14,\"\"))","v":""}]
[]
[]
[null,null,null,"Project-Specific EJ Reference List",null,null,null,null,null,null,null,{"$f":"IF(L20=\"\",\"No supplemental community contacts were identified\",'Project EJ Ref List'!M19)","v":"No supplemental community contacts were identified"}]
[null,null,null,"Contact Name ","Title","Phone","Email","Affiliation","Contact Type","Proponent Notes\n(contact status, removal requests, updates)",null,"Contact Name ","Intentionally Blank","Title","Affiliation","Email","Phone"]
[null,null,null,{"$f":"IF('Project EJ Ref List'!D21=0,\"\",'Project EJ Ref List'!D21)","v":""},{"$f":"_xlfn.IFNA(IF(D20=\"\",\"\",VLOOKUP(D20,Table2[],2,0)),\"\")","v":""},{"$f":"_xlfn.IFNA(IF(D20=\"\",\"\",VLOOKUP(D20,Table2[],3,0)),\"\")","v":""},{"$f":"_xlfn.IFNA(IF(D20=\"\",\"\",VLOOKUP(D20,Table2[],4,0)),\"\")","v":""},{"$f":"_xlfn.IFNA(IF(D20=\"\",\"\",VLOOKUP(D20,Table2[],5,0)),\"\")","v":""},{"$f":"_xlfn.IFNA(IF(D20=\"\",\"\",VLOOKUP(D20,Table2[],7,0)),\"\")","v":""},{"$f":"IF(Table1[[#This Row],[Contact Name ]]=\"\",\"\",IF('Project EJ Ref List'!K21=0,\"none\",'Project EJ Ref List'!K21))","v":""},null,{"$f":"IF('Project EJ Ref List'!M21=0,\"\",'Project EJ Ref List'!M21)","v":""},null,{"$f":"IF(IF($L20=\"\",\"\",'Project EJ Ref List'!O21)=0,\"NA\",IF($L20=\"\",\"\",'Project EJ Ref List'!O21))","v":""},{"$f":"IF(IF($L20=\"\",\"\",'Project EJ Ref List'!P21)=0,\"NA\",IF($L20=\"\",\"\",'Project EJ Ref List'!P21))","v":""},{"$f":"IF(IF($L20=\"\",\"\",'Project EJ Ref List'!Q21)=0,\"NA\",IF($L20=\"\",\"\",'Project EJ Ref List'!Q21))","v":""},{"$f":"IF(IF($L20=\"\",\"\",'Project EJ Ref List'!R21)=0,\"NA\",IF($L20=\"\",\"\",'Project EJ Ref List'!R21))","v":""}]
[null,null,null,{"$f":"IF('Project EJ Ref List'!D22=0,\"\",'Project EJ Ref List'!D22)","v":""},{"$f":"_xlfn.IFNA(IF(D21=\"\",\"\",VLOOKUP(D21,Table2[],2,0)),\"\")","v":""},{"$f":"_xlfn.IFNA(IF(D21=\"\",\"\",VLOOKUP(D21,Table2[],3,0)),\"\")","v":""},{"$f":"_xlfn.IFNA(IF(D21=\"\",\"\",VLOOKUP(D21,Table2[],4,0)),\"\")","v":""},{"$f":"_xlfn.IFNA(IF(D21=\"\",\"\",VLOOKUP(D21,Table2[],5,0)),\"\")","v":""},{"$f":"_xlfn.IFNA(IF(D21=\"\",\"\",VLOOKUP(D21,Table2[],7,0)),\"\")","v":""},{"$f":"IF(Table1[[#This Row],[Contact Name ]]=\"\",\"\",IF('Project EJ Ref List'!K22=0,\"none\",'Project EJ Ref List'!K22))","v":""},null,{"$f":"IF('Project EJ Ref List'!M22=0,\"\",'Project EJ Ref List'!M22)","v":""},null,{"$f":"IF(IF($L21=\"\",\"\",'Project EJ Ref List'!O22)=0,\"NA\",IF($L21=\"\",\"\",'Project EJ Ref List'!O22))","v":""},{"$f":"IF(IF($L21=\"\",\"\",'Project EJ Ref List'!P22)=0,\"NA\",IF($L21=\"\",\"\",'Project EJ Ref List'!P22))","v":""},{"$f":"IF(IF($L21=\"\",\"\",'Project EJ Ref List'!Q22)=0,\"NA\",IF($L21=\"\",\"\",'Project EJ Ref List'!Q22))","v":""},{"$f":"IF(IF($L21=\"\",\"\",'Project EJ Ref List'!R22)=0,\"NA\",IF($L21=\"\",\"\",'Project EJ Ref List'!R22))","v":""}]
[null,null,null,{"$f":"IF('Project EJ Ref List'!D23=0,\"\",'Project EJ Ref List'!D23)","v":""},{"$f":"_xlfn.IFNA(IF(D22=\"\",\"\",VLOOKUP(D22,Table2[],2,0)),\"\")","v":""},{"$f":"_xlfn.IFNA(IF(D22=\"\",\"\",VLOOKUP(D22,Table2[],3,0)),\"\")","v":""},{"$f":"_xlfn.IFNA(IF(D22=\"\",\"\",VLOOKUP(D22,Table2[],4,0)),\"\")","v":""},{"$f":"_xlfn.IFNA(IF(D22=\"\",\"\",VLOOKUP(D22,Table2[],5,0)),\"\")","v":""},{"$f":"_xlfn.IFNA(IF(D22=\"\",\"\",VLOOKUP(D22,Table2[],7,0)),\"\")","v":""},{"$f":"IF(Table1[[#This Row],[Contact Name ]]=\"\",\"\",IF('Project EJ Ref List'!K23=0,\"none\",'Project EJ Ref List'!K23))","v":""},null,{"$f":"IF('Project EJ Ref List'!M23=0,\"\",'Project EJ Ref List'!M23)","v":""},null,{"$f":"IF(IF($L22=\"\",\"\",'Project EJ Ref List'!O23)=0,\"NA\",IF($L22=\"\",\"\",'Project EJ Ref List'!O23))","v":""},{"$f":"IF(IF($L22=\"\",\"\",'Project EJ Ref List'!P23)=0,\"NA\",IF($L22=\"\",\"\",'Project EJ Ref List'!P23))","v":""},{"$f":"IF(IF($L22=\"\",\"\",'Project EJ Ref List'!Q23)=0,\"NA\",IF($L22=\"\",\"\",'Project EJ Ref List'!Q23))","v":""},{"$f":"IF(IF($L22=\"\",\"\",'Project EJ Ref List'!R23)=0,\"NA\",IF($L22=\"\",\"\",'Project EJ Ref List'!R23))","v":""}]
[null,null,null,{"$f":"IF('Project EJ Ref List'!D24=0,\"\",'Project EJ Ref List'!D24)","v":""},{"$f":"_xlfn.IFNA(IF(D23=\"\",\"\",VLOOKUP(D23,Table2[],2,0)),\"\")","v":""},{"$f":"_xlfn.IFNA(IF(D23=\"\",\"\",VLOOKUP(D23,Table2[],3,0)),\"\")","v":""},{"$f":"_xlfn.IFNA(IF(D23=\"\",\"\",VLOOKUP(D23,Table2[],4,0)),\"\")","v":""},{"$f":"_xlfn.IFNA(IF(D23=\"\",\"\",VLOOKUP(D23,Table2[],5,0)),\"\")","v":""},{"$f":"_xlfn.IFNA(IF(D23=\"\",\"\",VLOOKUP(D23,Table2[],7,0)),\"\")","v":""},{"$f":"IF(Table1[[#This Row],[Contact Name ]]=\"\",\"\",IF('Project EJ Ref List'!K24=0,\"none\",'Project EJ Ref List'!K24))","v":""},null,{"$f":"IF('Project EJ Ref List'!M24=0,\"\",'Project EJ Ref List'!M24)","v":""},null,{"$f":"IF(IF($L23=\"\",\"\",'Project EJ Ref List'!O24)=0,\"NA\",IF($L23=\"\",\"\",'Project EJ Ref List'!O24))","v":""},{"$f":"IF(IF($L23=\"\",\"\",'Project EJ Ref List'!P24)=0,\"NA\",IF($L23=\"\",\"\",'Project EJ Ref List'!P24))","v":""},{"$f":"IF(IF($L23=\"\",\"\",'Project EJ Ref List'!Q24)=0,\"NA\",IF($L23=\"\",\"\",'Project EJ Ref List'!Q24))","v":""},{"$f":"IF(IF($L23=\"\",\"\",'Project EJ Ref List'!R24)=0,\"NA\",IF($L23=\"\",\"\",'Project EJ Ref List'!R24))","v":""}]
[null,null,null,{"$f":"IF('Project EJ Ref List'!D25=0,\"\",'Project EJ Ref List'!D25)","v":""},{"$f":"_xlfn.IFNA(IF(D24=\"\",\"\",VLOOKUP(D24,Table2[],2,0)),\"\")","v":""},{"$f":"_xlfn.IFNA(IF(D24=\"\",\"\",VLOOKUP(D24,Table2[],3,0)),\"\")","v":""},{"$f":"_xlfn.IFNA(IF(D24=\"\",\"\",VLOOKUP(D24,Table2[],4,0)),\"\")","v":""},{"$f":"_xlfn.IFNA(IF(D24=\"\",\"\",VLOOKUP(D24,Table2[],5,0)),\"\")","v":""},{"$f":"_xlfn.IFNA(IF(D24=\"\",\"\",VLOOKUP(D24,Table2[],7,0)),\"\")","v":""},{"$f":"IF(Table1[[#This Row],[Contact Name ]]=\"\",\"\",IF('Project EJ Ref List'!K25=0,\"none\",'Project EJ Ref List'!K25))","v":""},null,{"$f":"IF('Project EJ Ref List'!M25=0,\"\",'Project EJ Ref List'!M25)","v":""},null,{"$f":"IF(IF($L24=\"\",\"\",'Project EJ Ref List'!O25)=0,\"NA\",IF($L24=\"\",\"\",'Project EJ Ref List'!O25))","v":""},{"$f":"IF(IF($L24=\"\",\"\",'Project EJ Ref List'!P25)=0,\"NA\",IF($L24=\"\",\"\",'Project EJ Ref List'!P25))","v":""},{"$f":"IF(IF($L24=\"\",\"\",'Project EJ Ref List'!Q25)=0,\"NA\",IF($L24=\"\",\"\",'Project EJ Ref List'!Q25))","v":""},{"$f":"IF(IF($L24=\"\",\"\",'Project EJ Ref List'!R25)=0,\"NA\",IF($L24=\"\",\"\",'Project EJ Ref List'!R25))","v":""}]
[null,null,null,{"$f":"IF('Project EJ Ref List'!D26=0,\"\",'Project EJ Ref List'!D26)","v":""},{"$f":"_xlfn.IFNA(IF(D25=\"\",\"\",VLOOKUP(D25,Table2[],2,0)),\"\")","v":""},{"$f":"_xlfn.IFNA(IF(D25=\"\",\"\",VLOOKUP(D25,Table2[],3,0)),\"\")","v":""},{"$f":"_xlfn.IFNA(IF(D25=\"\",\"\",VLOOKUP(D25,Table2[],4,0)),\"\")","v":""},{"$f":"_xlfn.IFNA(IF(D25=\"\",\"\",VLOOKUP(D25,Table2[],5,0)),\"\")","v":""},{"$f":"_xlfn.IFNA(IF(D25=\"\",\"\",VLOOKUP(D25,Table2[],7,0)),\"\")","v":""},{"$f":"IF(Table1[[#This Row],[Contact Name ]]=\"\",\"\",IF('Project EJ Ref List'!K26=0,\"none\",'Project EJ Ref List'!K26))","v":""},null,{"$f":"IF('Project EJ Ref List'!M26=0,\"\",'Project EJ Ref List'!M26)","v":""},null,{"$f":"IF(IF($L25=\"\",\"\",'Project EJ Ref List'!O26)=0,\"NA\",IF($L25=\"\",\"\",'Project EJ Ref List'!O26))","v":""},{"$f":"IF(IF($L25=\"\",\"\",'Project EJ Ref List'!P26)=0,\"NA\",IF($L25=\"\",\"\",'Project EJ Ref List'!P26))","v":""},{"$f":"IF(IF($L25=\"\",\"\",'Project EJ Ref List'!Q26)=0,\"NA\",IF($L25=\"\",\"\",'Project EJ Ref List'!Q26))","v":""},{"$f":"IF(IF($L25=\"\",\"\",'Project EJ Ref List'!R26)=0,\"NA\",IF($L25=\"\",\"\",'Project EJ Ref List'!R26))","v":""}]
[null,null,null,{"$f":"IF('Project EJ Ref List'!D27=0,\"\",'Project EJ Ref List'!D27)","v":""},{"$f":"_xlfn.IFNA(IF(D26=\"\",\"\",VLOOKUP(D26,Table2[],2,0)),\"\")","v":""},{"$f":"_xlfn.IFNA(IF(D26=\"\",\"\",VLOOKUP(D26,Table2[],3,0)),\"\")","v":""},{"$f":"_xlfn.IFNA(IF(D26=\"\",\"\",VLOOKUP(D26,Table2[],4,0)),\"\")","v":""},{"$f":"_xlfn.IFNA(IF(D26=\"\",\"\",VLOOKUP(D26,Table2[],5,0)),\"\")","v":""},{"$f":"_xlfn.IFNA(IF(D26=\"\",\"\",VLOOKUP(D26,Table2[],7,0)),\"\")","v":""},{"$f":"IF(Table1[[#This Row],[Contact Name ]]=\"\",\"\",IF('Project EJ Ref List'!K27=0,\"none\",'Project EJ Ref List'!K27))","v":""},null,{"$f":"IF('Project EJ Ref List'!M27=0,\"\",'Project EJ Ref List'!M27)","v":""},null,{"$f":"IF(IF($L26=\"\",\"\",'Project EJ Ref List'!O27)=0,\"NA\",IF($L26=\"\",\"\",'Project EJ Ref List'!O27))","v":""},{"$f":"IF(IF($L26=\"\",\"\",'Project EJ Ref List'!P27)=0,\"NA\",IF($L26=\"\",\"\",'Project EJ Ref List'!P27))","v":""},{"$f":"IF(IF($L26=\"\",\"\",'Project EJ Ref List'!Q27)=0,\"NA\",IF($L26=\"\",\"\",'Project EJ Ref List'!Q27))","v":""},{"$f":"IF(IF($L26=\"\",\"\",'Project EJ Ref List'!R27)=0,\"NA\",IF($L26=\"\",\"\",'Project EJ Ref List'!R27))","v":""}]
[null,null,null,{"$f":"IF('Project EJ Ref List'!D28=0,\"\",'Project EJ Ref List'!D28)","v":""},{"$f":"_xlfn.IFNA(IF(D27=\"\",\"\",VLOOKUP(D27,Table2[],2,0)),\"\")","v":""},{"$f":"_xlfn.IFNA(IF(D27=\"\",\"\",VLOOKUP(D27,Table2[],3,0)),\"\")","v":""},{"$f":"_xlfn.IFNA(IF(D27=\"\",\"\",VLOOKUP(D27,Table2[],4,0)),\"\")","v":""},{"$f":"_xlfn.IFNA(IF(D27=\"\",\"\",VLOOKUP(D27,Table2[],5,0)),\"\")","v":""},{"$f":"_xlfn.IFNA(IF(D27=\"\",\"\",VLOOKUP(D27,Table2[],7,0)),\"\")","v":""},{"$f":"IF(Table1[[#This Row],[Contact Name ]]=\"\",\"\",IF('Project EJ Ref List'!K28=0,\"none\",'Project EJ Ref List'!K28))","v":""},null,{"$f":"IF('Project EJ Ref List'!M28=0,\"\",'Project EJ Ref List'!M28)","v":""},null,{"$f":"IF(IF($L27=\"\",\"\",'Project EJ Ref List'!O28)=0,\"NA\",IF($L27=\"\",\"\",'Project EJ Ref List'!O28))","v":""},{"$f":"IF(IF($L27=\"\",\"\",'Project EJ Ref List'!P28)=0,\"NA\",IF($L27=\"\",\"\",'Project EJ Ref List'!P28))","v":""},{"$f":"IF(IF($L27=\"\",\"\",'Project EJ Ref List'!Q28)=0,\"NA\",IF($L27=\"\",\"\",'Project EJ Ref List'!Q28))","v":""},{"$f":"IF(IF($L27=\"\",\"\",'Project EJ Ref List'!R28)=0,\"NA\",IF($L27=\"\",\"\",'Project EJ Ref List'!R28))","v":""}]
[null,null,null,{"$f":"IF('Project EJ Ref List'!D29=0,\"\",'Project EJ Ref List'!D29)","v":""},{"$f":"_xlfn.IFNA(IF(D28=\"\",\"\",VLOOKUP(D28,Table2[],2,0)),\"\")","v":""},{"$f":"_xlfn.IFNA(IF(D28=\"\",\"\",VLOOKUP(D28,Table2[],3,0)),\"\")","v":""},{"$f":"_xlfn.IFNA(IF(D28=\"\",\"\",VLOOKUP(D28,Table2[],4,0)),\"\")","v":""},{"$f":"_xlfn.IFNA(IF(D28=\"\",\"\",VLOOKUP(D28,Table2[],5,0)),\"\")","v":""},{"$f":"_xlfn.IFNA(IF(D28=\"\",\"\",VLOOKUP(D28,Table2[],7,0)),\"\")","v":""},{"$f":"IF(Table1[[#This Row],[Contact Name ]]=\"\",\"\",IF('Project EJ Ref List'!K29=0,\"none\",'Project EJ Ref List'!K29))","v":""},null,{"$f":"IF('Project EJ Ref List'!M29=0,\"\",'Project EJ Ref List'!M29)","v":""},null,{"$f":"IF(IF($L28=\"\",\"\",'Project EJ Ref List'!O29)=0,\"NA\",IF($L28=\"\",\"\",'Project EJ Ref List'!O29))","v":""},{"$f":"IF(IF($L28=\"\",\"\",'Project EJ Ref List'!P29)=0,\"NA\",IF($L28=\"\",\"\",'Project EJ Ref List'!P29))","v":""},{"$f":"IF(IF($L28=\"\",\"\",'Project EJ Ref List'!Q29)=0,\"NA\",IF($L28=\"\",\"\",'Project EJ Ref List'!Q29))","v":""},{"$f":"IF(IF($L28=\"\",\"\",'Project EJ Ref List'!R29)=0,\"NA\",IF($L28=\"\",\"\",'Project EJ Ref List'!R29))","v":""}]
[null,null,null,{"$f":"IF('Project EJ Ref List'!D30=0,\"\",'Project EJ Ref List'!D30)","v":""},{"$f":"_xlfn.IFNA(IF(D29=\"\",\"\",VLOOKUP(D29,Table2[],2,0)),\"\")","v":""},{"$f":"_xlfn.IFNA(IF(D29=\"\",\"\",VLOOKUP(D29,Table2[],3,0)),\"\")","v":""},{"$f":"_xlfn.IFNA(IF(D29=\"\",\"\",VLOOKUP(D29,Table2[],4,0)),\"\")","v":""},{"$f":"_xlfn.IFNA(IF(D29=\"\",\"\",VLOOKUP(D29,Table2[],5,0)),\"\")","v":""},{"$f":"_xlfn.IFNA(IF(D29=\"\",\"\",VLOOKUP(D29,Table2[],7,0)),\"\")","v":""},{"$f":"IF(Table1[[#This Row],[Contact Name ]]=\"\",\"\",IF('Project EJ Ref List'!K30=0,\"none\",'Project EJ Ref List'!K30))","v":""},null,{"$f":"IF('Project EJ Ref List'!M30=0,\"\",'Project EJ Ref List'!M30)","v":""},null,{"$f":"IF(IF($L29=\"\",\"\",'Project EJ Ref List'!O30)=0,\"NA\",IF($L29=\"\",\"\",'Project EJ Ref List'!O30))","v":""},{"$f":"IF(IF($L29=\"\",\"\",'Project EJ Ref List'!P30)=0,\"NA\",IF($L29=\"\",\"\",'Project EJ Ref List'!P30))","v":""},{"$f":"IF(IF($L29=\"\",\"\",'Project EJ Ref List'!Q30)=0,\"NA\",IF($L29=\"\",\"\",'Project EJ Ref List'!Q30))","v":""},{"$f":"IF(IF($L29=\"\",\"\",'Project EJ Ref List'!R30)=0,\"NA\",IF($L29=\"\",\"\",'Project EJ Ref List'!R30))","v":""}]
[null,null,null,{"$f":"IF('Project EJ Ref List'!D31=0,\"\",'Project EJ Ref List'!D31)","v":""},{"$f":"_xlfn.IFNA(IF(D30=\"\",\"\",VLOOKUP(D30,Table2[],2,0)),\"\")","v":""},{"$f":"_xlfn.IFNA(IF(D30=\"\",\"\",VLOOKUP(D30,Table2[],3,0)),\"\")","v":""},{"$f":"_xlfn.IFNA(IF(D30=\"\",\"\",VLOOKUP(D30,Table2[],4,0)),\"\")","v":""},{"$f":"_xlfn.IFNA(IF(D30=\"\",\"\",VLOOKUP(D30,Table2[],5,0)),\"\")","v":""},{"$f":"_xlfn.IFNA(IF(D30=\"\",\"\",VLOOKUP(D30,Table2[],7,0)),\"\")","v":""},{"$f":"IF(Table1[[#This Row],[Contact Name ]]=\"\",\"\",IF('Project EJ Ref List'!K31=0,\"none\",'Project EJ Ref List'!K31))","v":""},null,{"$f":"IF('Project EJ Ref List'!M31=0,\"\",'Project EJ Ref List'!M31)","v":""},null,{"$f":"IF(IF($L30=\"\",\"\",'Project EJ Ref List'!O31)=0,\"NA\",IF($L30=\"\",\"\",'Project EJ Ref List'!O31))","v":""},{"$f":"IF(IF($L30=\"\",\"\",'Project EJ Ref List'!P31)=0,\"NA\",IF($L30=\"\",\"\",'Project EJ Ref List'!P31))","v":""},{"$f":"IF(IF($L30=\"\",\"\",'Project EJ Ref List'!Q31)=0,\"NA\",IF($L30=\"\",\"\",'Project EJ Ref List'!Q31))","v":""},{"$f":"IF(IF($L30=\"\",\"\",'Project EJ Ref List'!R31)=0,\"NA\",IF($L30=\"\",\"\",'Project EJ Ref List'!R31))","v":""}]
[null,null,null,{"$f":"IF('Project EJ Ref List'!D32=0,\"\",'Project EJ Ref List'!D32)","v":""},{"$f":"_xlfn.IFNA(IF(D31=\"\",\"\",VLOOKUP(D31,Table2[],2,0)),\"\")","v":""},{"$f":"_xlfn.IFNA(IF(D31=\"\",\"\",VLOOKUP(D31,Table2[],3,0)),\"\")","v":""},{"$f":"_xlfn.IFNA(IF(D31=\"\",\"\",VLOOKUP(D31,Table2[],4,0)),\"\")","v":""},{"$f":"_xlfn.IFNA(IF(D31=\"\",\"\",VLOOKUP(D31,Table2[],5,0)),\"\")","v":""},{"$f":"_xlfn.IFNA(IF(D31=\"\",\"\",VLOOKUP(D31,Table2[],7,0)),\"\")","v":""},{"$f":"IF(Table1[[#This Row],[Contact Name ]]=\"\",\"\",IF('Project EJ Ref List'!K32=0,\"none\",'Project EJ Ref List'!K32))","v":""},null,{"$f":"IF('Project EJ Ref List'!M32=0,\"\",'Project EJ Ref List'!M32)","v":""},null,{"$f":"IF(IF($L31=\"\",\"\",'Project EJ Ref List'!O32)=0,\"NA\",IF($L31=\"\",\"\",'Project EJ Ref List'!O32))","v":""},{"$f":"IF(IF($L31=\"\",\"\",'Project EJ Ref List'!P32)=0,\"NA\",IF($L31=\"\",\"\",'Project EJ Ref List'!P32))","v":""},{"$f":"IF(IF($L31=\"\",\"\",'Project EJ Ref List'!Q32)=0,\"NA\",IF($L31=\"\",\"\",'Project EJ Ref List'!Q32))","v":""},{"$f":"IF(IF($L31=\"\",\"\",'Project EJ Ref List'!R32)=0,\"NA\",IF($L31=\"\",\"\",'Project EJ Ref List'!R32))","v":""}]
[null,null,null,{"$f":"IF('Project EJ Ref List'!D33=0,\"\",'Project EJ Ref List'!D33)","v":""},{"$f":"_xlfn.IFNA(IF(D32=\"\",\"\",VLOOKUP(D32,Table2[],2,0)),\"\")","v":""},{"$f":"_xlfn.IFNA(IF(D32=\"\",\"\",VLOOKUP(D32,Table2[],3,0)),\"\")","v":""},{"$f":"_xlfn.IFNA(IF(D32=\"\",\"\",VLOOKUP(D32,Table2[],4,0)),\"\")","v":""},{"$f":"_xlfn.IFNA(IF(D32=\"\",\"\",VLOOKUP(D32,Table2[],5,0)),\"\")","v":""},{"$f":"_xlfn.IFNA(IF(D32=\"\",\"\",VLOOKUP(D32,Table2[],7,0)),\"\")","v":""},{"$f":"IF(Table1[[#This Row],[Contact Name ]]=\"\",\"\",IF('Project EJ Ref List'!K33=0,\"none\",'Project EJ Ref List'!K33))","v":""},null,{"$f":"IF('Project EJ Ref List'!M33=0,\"\",'Project EJ Ref List'!M33)","v":""},null,{"$f":"IF(IF($L32=\"\",\"\",'Project EJ Ref List'!O33)=0,\"NA\",IF($L32=\"\",\"\",'Project EJ Ref List'!O33))","v":""},{"$f":"IF(IF($L32=\"\",\"\",'Project EJ Ref List'!P33)=0,\"NA\",IF($L32=\"\",\"\",'Project EJ Ref List'!P33))","v":""},{"$f":"IF(IF($L32=\"\",\"\",'Project EJ Ref List'!Q33)=0,\"NA\",IF($L32=\"\",\"\",'Project EJ Ref List'!Q33))","v":""},{"$f":"IF(IF($L32=\"\",\"\",'Project EJ Ref List'!R33)=0,\"NA\",IF($L32=\"\",\"\",'Project EJ Ref List'!R33))","v":""}]
[null,null,null,{"$f":"IF('Project EJ Ref List'!D34=0,\"\",'Project EJ Ref List'!D34)","v":""},{"$f":"_xlfn.IFNA(IF(D33=\"\",\"\",VLOOKUP(D33,Table2[],2,0)),\"\")","v":""},{"$f":"_xlfn.IFNA(IF(D33=\"\",\"\",VLOOKUP(D33,Table2[],3,0)),\"\")","v":""},{"$f":"_xlfn.IFNA(IF(D33=\"\",\"\",VLOOKUP(D33,Table2[],4,0)),\"\")","v":""},{"$f":"_xlfn.IFNA(IF(D33=\"\",\"\",VLOOKUP(D33,Table2[],5,0)),\"\")","v":""},{"$f":"_xlfn.IFNA(IF(D33=\"\",\"\",VLOOKUP(D33,Table2[],7,0)),\"\")","v":""},{"$f":"IF(Table1[[#This Row],[Contact Name ]]=\"\",\"\",IF('Project EJ Ref List'!K34=0,\"none\",'Project EJ Ref List'!K34))","v":""},null,{"$f":"IF('Project EJ Ref List'!M34=0,\"\",'Project EJ Ref List'!M34)","v":""},null,{"$f":"IF(IF($L33=\"\",\"\",'Project EJ Ref List'!O34)=0,\"NA\",IF($L33=\"\",\"\",'Project EJ Ref List'!O34))","v":""},{"$f":"IF(IF($L33=\"\",\"\",'Project EJ Ref List'!P34)=0,\"NA\",IF($L33=\"\",\"\",'Project EJ Ref List'!P34))","v":""},{"$f":"IF(IF($L33=\"\",\"\",'Project EJ Ref List'!Q34)=0,\"NA\",IF($L33=\"\",\"\",'Project EJ Ref List'!Q34))","v":""},{"$f":"IF(IF($L33=\"\",\"\",'Project EJ Ref List'!R34)=0,\"NA\",IF($L33=\"\",\"\",'Project EJ Ref List'!R34))","v":""}]
[null,null,null,{"$f":"IF('Project EJ Ref List'!D35=0,\"\",'Project EJ Ref List'!D35)","v":""},{"$f":"_xlfn.IFNA(IF(D34=\"\",\"\",VLOOKUP(D34,Table2[],2,0)),\"\")","v":""},{"$f":"_xlfn.IFNA(IF(D34=\"\",\"\",VLOOKUP(D34,Table2[],3,0)),\"\")","v":""},{"$f":"_xlfn.IFNA(IF(D34=\"\",\"\",VLOOKUP(D34,Table2[],4,0)),\"\")","v":""},{"$f":"_xlfn.IFNA(IF(D34=\"\",\"\",VLOOKUP(D34,Table2[],5,0)),\"\")","v":""},{"$f":"_xlfn.IFNA(IF(D34=\"\",\"\",VLOOKUP(D34,Table2[],7,0)),\"\")","v":""},{"$f":"IF(Table1[[#This Row],[Contact Name ]]=\"\",\"\",IF('Project EJ Ref List'!K35=0,\"none\",'Project EJ Ref List'!K35))","v":""},null,{"$f":"IF('Project EJ Ref List'!M35=0,\"\",'Project EJ Ref List'!M35)","v":""},null,{"$f":"IF(IF($L34=\"\",\"\",'Project EJ Ref List'!O35)=0,\"NA\",IF($L34=\"\",\"\",'Project EJ Ref List'!O35))","v":""},{"$f":"IF(IF($L34=\"\",\"\",'Project EJ Ref List'!P35)=0,\"NA\",IF($L34=\"\",\"\",'Project EJ Ref List'!P35))","v":""},{"$f":"IF(IF($L34=\"\",\"\",'Project EJ Ref List'!Q35)=0,\"NA\",IF($L34=\"\",\"\",'Project EJ Ref List'!Q35))","v":""},{"$f":"IF(IF($L34=\"\",\"\",'Project EJ Ref List'!R35)=0,\"NA\",IF($L34=\"\",\"\",'Project EJ Ref List'!R35))","v":""}]
[null,null,null,{"$f":"IF('Project EJ Ref List'!D36=0,\"\",'Project EJ Ref List'!D36)","v":""},{"$f":"_xlfn.IFNA(IF(D35=\"\",\"\",VLOOKUP(D35,Table2[],2,0)),\"\")","v":""},{"$f":"_xlfn.IFNA(IF(D35=\"\",\"\",VLOOKUP(D35,Table2[],3,0)),\"\")","v":""},{"$f":"_xlfn.IFNA(IF(D35=\"\",\"\",VLOOKUP(D35,Table2[],4,0)),\"\")","v":""},{"$f":"_xlfn.IFNA(IF(D35=\"\",\"\",VLOOKUP(D35,Table2[],5,0)),\"\")","v":""},{"$f":"_xlfn.IFNA(IF(D35=\"\",\"\",VLOOKUP(D35,Table2[],7,0)),\"\")","v":""},{"$f":"IF(Table1[[#This Row],[Contact Name ]]=\"\",\"\",IF('Project EJ Ref List'!K36=0,\"none\",'Project EJ Ref List'!K36))","v":""},null,{"$f":"IF('Project EJ Ref List'!M36=0,\"\",'Project EJ Ref List'!M36)","v":""},null,{"$f":"IF(IF($L35=\"\",\"\",'Project EJ Ref List'!O36)=0,\"NA\",IF($L35=\"\",\"\",'Project EJ Ref List'!O36))","v":""},{"$f":"IF(IF($L35=\"\",\"\",'Project EJ Ref List'!P36)=0,\"NA\",IF($L35=\"\",\"\",'Project EJ Ref List'!P36))","v":""},{"$f":"IF(IF($L35=\"\",\"\",'Project EJ Ref List'!Q36)=0,\"NA\",IF($L35=\"\",\"\",'Project EJ Ref List'!Q36))","v":""},{"$f":"IF(IF($L35=\"\",\"\",'Project EJ Ref List'!R36)=0,\"NA\",IF($L35=\"\",\"\",'Project EJ Ref List'!R36))","v":""}]
[null,null,null,{"$f":"IF('Project EJ Ref List'!D37=0,\"\",'Project EJ Ref List'!D37)","v":""},{"$f":"_xlfn.IFNA(IF(D36=\"\",\"\",VLOOKUP(D36,Table2[],2,0)),\"\")","v":""},{"$f":"_xlfn.IFNA(IF(D36=\"\",\"\",VLOOKUP(D36,Table2[],3,0)),\"\")","v":""},{"$f":"_xlfn.IFNA(IF(D36=\"\",\"\",VLOOKUP(D36,Table2[],4,0)),\"\")","v":""},{"$f":"_xlfn.IFNA(IF(D36=\"\",\"\",VLOOKUP(D36,Table2[],5,0)),\"\")","v":""},{"$f":"_xlfn.IFNA(IF(D36=\"\",\"\",VLOOKUP(D36,Table2[],7,0)),\"\")","v":""},{"$f":"IF(Table1[[#This Row],[Contact Name ]]=\"\",\"\",IF('Project EJ Ref List'!K37=0,\"none\",'Project EJ Ref List'!K37))","v":""},null,{"$f":"IF('Project EJ Ref List'!M37=0,\"\",'Project EJ Ref List'!M37)","v":""},null,{"$f":"IF(IF($L36=\"\",\"\",'Project EJ Ref List'!O37)=0,\"NA\",IF($L36=\"\",\"\",'Project EJ Ref List'!O37))","v":""},{"$f":"IF(IF($L36=\"\",\"\",'Project EJ Ref List'!P37)=0,\"NA\",IF($L36=\"\",\"\",'Project EJ Ref List'!P37))","v":""},{"$f":"IF(IF($L36=\"\",\"\",'Project EJ Ref List'!Q37)=0,\"NA\",IF($L36=\"\",\"\",'Project EJ Ref List'!Q37))","v":""},{"$f":"IF(IF($L36=\"\",\"\",'Project EJ Ref List'!R37)=0,\"NA\",IF($L36=\"\",\"\",'Project EJ Ref List'!R37))","v":""}]
[null,null,null,{"$f":"IF('Project EJ Ref List'!D38=0,\"\",'Project EJ Ref List'!D38)","v":""},{"$f":"_xlfn.IFNA(IF(D37=\"\",\"\",VLOOKUP(D37,Table2[],2,0)),\"\")","v":""},{"$f":"_xlfn.IFNA(IF(D37=\"\",\"\",VLOOKUP(D37,Table2[],3,0)),\"\")","v":""},{"$f":"_xlfn.IFNA(IF(D37=\"\",\"\",VLOOKUP(D37,Table2[],4,0)),\"\")","v":""},{"$f":"_xlfn.IFNA(IF(D37=\"\",\"\",VLOOKUP(D37,Table2[],5,0)),\"\")","v":""},{"$f":"_xlfn.IFNA(IF(D37=\"\",\"\",VLOOKUP(D37,Table2[],7,0)),\"\")","v":""},{"$f":"IF(Table1[[#This Row],[Contact Name ]]=\"\",\"\",IF('Project EJ Ref List'!K38=0,\"none\",'Project EJ Ref List'!K38))","v":""},null,{"$f":"IF('Project EJ Ref List'!M38=0,\"\",'Project EJ Ref List'!M38)","v":""},null,{"$f":"IF(IF($L37=\"\",\"\",'Project EJ Ref List'!O38)=0,\"NA\",IF($L37=\"\",\"\",'Project EJ Ref List'!O38))","v":""},{"$f":"IF(IF($L37=\"\",\"\",'Project EJ Ref List'!P38)=0,\"NA\",IF($L37=\"\",\"\",'Project EJ Ref List'!P38))","v":""},{"$f":"IF(IF($L37=\"\",\"\",'Project EJ Ref List'!Q38)=0,\"NA\",IF($L37=\"\",\"\",'Project EJ Ref List'!Q38))","v":""},{"$f":"IF(IF($L37=\"\",\"\",'Project EJ Ref List'!R38)=0,\"NA\",IF($L37=\"\",\"\",'Project EJ Ref List'!R38))","v":""}]
[null,null,null,{"$f":"IF('Project EJ Ref List'!D39=0,\"\",'Project EJ Ref List'!D39)","v":""},{"$f":"_xlfn.IFNA(IF(D38=\"\",\"\",VLOOKUP(D38,Table2[],2,0)),\"\")","v":""},{"$f":"_xlfn.IFNA(IF(D38=\"\",\"\",VLOOKUP(D38,Table2[],3,0)),\"\")","v":""},{"$f":"_xlfn.IFNA(IF(D38=\"\",\"\",VLOOKUP(D38,Table2[],4,0)),\"\")","v":""},{"$f":"_xlfn.IFNA(IF(D38=\"\",\"\",VLOOKUP(D38,Table2[],5,0)),\"\")","v":""},{"$f":"_xlfn.IFNA(IF(D38=\"\",\"\",VLOOKUP(D38,Table2[],7,0)),\"\")","v":""},{"$f":"IF(Table1[[#This Row],[Contact Name ]]=\"\",\"\",IF('Project EJ Ref List'!K39=0,\"none\",'Project EJ Ref List'!K39))","v":""},null,{"$f":"IF('Project EJ Ref List'!M39=0,\"\",'Project EJ Ref List'!M39)","v":""},null,{"$f":"IF(IF($L38=\"\",\"\",'Project EJ Ref List'!O39)=0,\"NA\",IF($L38=\"\",\"\",'Project EJ Ref List'!O39))","v":""},{"$f":"IF(IF($L38=\"\",\"\",'Project EJ Ref List'!P39)=0,\"NA\",IF($L38=\"\",\"\",'Project EJ Ref List'!P39))","v":""},{"$f":"IF(IF($L38=\"\",\"\",'Project EJ Ref List'!Q39)=0,\"NA\",IF($L38=\"\",\"\",'Project EJ Ref List'!Q39))","v":""},{"$f":"IF(IF($L38=\"\",\"\",'Project EJ Ref List'!R39)=0,\"NA\",IF($L38=\"\",\"\",'Project EJ Ref List'!R39))","v":""}]
[null,null,null,{"$f":"IF('Project EJ Ref List'!D40=0,\"\",'Project EJ Ref List'!D40)","v":""},{"$f":"_xlfn.IFNA(IF(D39=\"\",\"\",VLOOKUP(D39,Table2[],2,0)),\"\")","v":""},{"$f":"_xlfn.IFNA(IF(D39=\"\",\"\",VLOOKUP(D39,Table2[],3,0)),\"\")","v":""},{"$f":"_xlfn.IFNA(IF(D39=\"\",\"\",VLOOKUP(D39,Table2[],4,0)),\"\")","v":""},{"$f":"_xlfn.IFNA(IF(D39=\"\",\"\",VLOOKUP(D39,Table2[],5,0)),\"\")","v":""},{"$f":"_xlfn.IFNA(IF(D39=\"\",\"\",VLOOKUP(D39,Table2[],7,0)),\"\")","v":""},{"$f":"IF(Table1[[#This Row],[Contact Name ]]=\"\",\"\",IF('Project EJ Ref List'!K40=0,\"none\",'Project EJ Ref List'!K40))","v":""},null,{"$f":"IF('Project EJ Ref List'!M40=0,\"\",'Project EJ Ref List'!M40)","v":""},null,{"$f":"IF(IF($L39=\"\",\"\",'Project EJ Ref List'!O40)=0,\"NA\",IF($L39=\"\",\"\",'Project EJ Ref List'!O40))","v":""},{"$f":"IF(IF($L39=\"\",\"\",'Project EJ Ref List'!P40)=0,\"NA\",IF($L39=\"\",\"\",'Project EJ Ref List'!P40))","v":""},{"$f":"IF(IF($L39=\"\",\"\",'Project EJ Ref List'!Q40)=0,\"NA\",IF($L39=\"\",\"\",'Project EJ Ref List'!Q40))","v":""},{"$f":"IF(IF($L39=\"\",\"\",'Project EJ Ref List'!R40)=0,\"NA\",IF($L39=\"\",\"\",'Project EJ Ref List'!R40))","v":""}]
[null,null,null,{"$f":"IF('Project EJ Ref List'!D41=0,\"\",'Project EJ Ref List'!D41)","v":""},{"$f":"_xlfn.IFNA(IF(D40=\"\",\"\",VLOOKUP(D40,Table2[],2,0)),\"\")","v":""},{"$f":"_xlfn.IFNA(IF(D40=\"\",\"\",VLOOKUP(D40,Table2[],3,0)),\"\")","v":""},{"$f":"_xlfn.IFNA(IF(D40=\"\",\"\",VLOOKUP(D40,Table2[],4,0)),\"\")","v":""},{"$f":"_xlfn.IFNA(IF(D40=\"\",\"\",VLOOKUP(D40,Table2[],5,0)),\"\")","v":""},{"$f":"_xlfn.IFNA(IF(D40=\"\",\"\",VLOOKUP(D40,Table2[],7,0)),\"\")","v":""},{"$f":"IF(Table1[[#This Row],[Contact Name ]]=\"\",\"\",IF('Project EJ Ref List'!K41=0,\"none\",'Project EJ Ref List'!K41))","v":""},null,{"$f":"IF('Project EJ Ref List'!M41=0,\"\",'Project EJ Ref List'!M41)","v":""},null,{"$f":"IF(IF($L40=\"\",\"\",'Project EJ Ref List'!O41)=0,\"NA\",IF($L40=\"\",\"\",'Project EJ Ref List'!O41))","v":""},{"$f":"IF(IF($L40=\"\",\"\",'Project EJ Ref List'!P41)=0,\"NA\",IF($L40=\"\",\"\",'Project EJ Ref List'!P41))","v":""},{"$f":"IF(IF($L40=\"\",\"\",'Project EJ Ref List'!Q41)=0,\"NA\",IF($L40=\"\",\"\",'Project EJ Ref List'!Q41))","v":""},{"$f":"IF(IF($L40=\"\",\"\",'Project EJ Ref List'!R41)=0,\"NA\",IF($L40=\"\",\"\",'Project EJ Ref List'!R41))","v":""}]
[null,null,null,{"$f":"IF('Project EJ Ref List'!D42=0,\"\",'Project EJ Ref List'!D42)","v":""},{"$f":"_xlfn.IFNA(IF(D41=\"\",\"\",VLOOKUP(D41,Table2[],2,0)),\"\")","v":""},{"$f":"_xlfn.IFNA(IF(D41=\"\",\"\",VLOOKUP(D41,Table2[],3,0)),\"\")","v":""},{"$f":"_xlfn.IFNA(IF(D41=\"\",\"\",VLOOKUP(D41,Table2[],4,0)),\"\")","v":""},{"$f":"_xlfn.IFNA(IF(D41=\"\",\"\",VLOOKUP(D41,Table2[],5,0)),\"\")","v":""},{"$f":"_xlfn.IFNA(IF(D41=\"\",\"\",VLOOKUP(D41,Table2[],7,0)),\"\")","v":""},{"$f":"IF(Table1[[#This Row],[Contact Name ]]=\"\",\"\",IF('Project EJ Ref List'!K42=0,\"none\",'Project EJ Ref List'!K42))","v":""},null,{"$f":"IF('Project EJ Ref List'!M42=0,\"\",'Project EJ Ref List'!M42)","v":""},null,{"$f":"IF(IF($L41=\"\",\"\",'Project EJ Ref List'!O42)=0,\"NA\",IF($L41=\"\",\"\",'Project EJ Ref List'!O42))","v":""},{"$f":"IF(IF($L41=\"\",\"\",'Project EJ Ref List'!P42)=0,\"NA\",IF($L41=\"\",\"\",'Project EJ Ref List'!P42))","v":""},{"$f":"IF(IF($L41=\"\",\"\",'Project EJ Ref List'!Q42)=0,\"NA\",IF($L41=\"\",\"\",'Project EJ Ref List'!Q42))","v":""},{"$f":"IF(IF($L41=\"\",\"\",'Project EJ Ref List'!R42)=0,\"NA\",IF($L41=\"\",\"\",'Project EJ Ref List'!R42))","v":""}]
[null,null,null,{"$f":"IF('Project EJ Ref List'!D43=0,\"\",'Project EJ Ref List'!D43)","v":""},{"$f":"_xlfn.IFNA(IF(D42=\"\",\"\",VLOOKUP(D42,Table2[],2,0)),\"\")","v":""},{"$f":"_xlfn.IFNA(IF(D42=\"\",\"\",VLOOKUP(D42,Table2[],3,0)),\"\")","v":""},{"$f":"_xlfn.IFNA(IF(D42=\"\",\"\",VLOOKUP(D42,Table2[],4,0)),\"\")","v":""},{"$f":"_xlfn.IFNA(IF(D42=\"\",\"\",VLOOKUP(D42,Table2[],5,0)),\"\")","v":""},{"$f":"_xlfn.IFNA(IF(D42=\"\",\"\",VLOOKUP(D42,Table2[],7,0)),\"\")","v":""},{"$f":"IF(Table1[[#This Row],[Contact Name ]]=\"\",\"\",IF('Project EJ Ref List'!K43=0,\"none\",'Project EJ Ref List'!K43))","v":""},null,{"$f":"IF('Project EJ Ref List'!M43=0,\"\",'Project EJ Ref List'!M43)","v":""},null,{"$f":"IF(IF($L42=\"\",\"\",'Project EJ Ref List'!O43)=0,\"NA\",IF($L42=\"\",\"\",'Project EJ Ref List'!O43))","v":""},{"$f":"IF(IF($L42=\"\",\"\",'Project EJ Ref List'!P43)=0,\"NA\",IF($L42=\"\",\"\",'Project EJ Ref List'!P43))","v":""},{"$f":"IF(IF($L42=\"\",\"\",'Project EJ Ref List'!Q43)=0,\"NA\",IF($L42=\"\",\"\",'Project EJ Ref List'!Q43))","v":""},{"$f":"IF(IF($L42=\"\",\"\",'Project EJ Ref List'!R43)=0,\"NA\",IF($L42=\"\",\"\",'Project EJ Ref List'!R43))","v":""}]
[null,null,null,{"$f":"IF('Project EJ Ref List'!D44=0,\"\",'Project EJ Ref List'!D44)","v":""},{"$f":"_xlfn.IFNA(IF(D43=\"\",\"\",VLOOKUP(D43,Table2[],2,0)),\"\")","v":""},{"$f":"_xlfn.IFNA(IF(D43=\"\",\"\",VLOOKUP(D43,Table2[],3,0)),\"\")","v":""},{"$f":"_xlfn.IFNA(IF(D43=\"\",\"\",VLOOKUP(D43,Table2[],4,0)),\"\")","v":""},{"$f":"_xlfn.IFNA(IF(D43=\"\",\"\",VLOOKUP(D43,Table2[],5,0)),\"\")","v":""},{"$f":"_xlfn.IFNA(IF(D43=\"\",\"\",VLOOKUP(D43,Table2[],7,0)),\"\")","v":""},{"$f":"IF(Table1[[#This Row],[Contact Name ]]=\"\",\"\",IF('Project EJ Ref List'!K44=0,\"none\",'Project EJ Ref List'!K44))","v":""},null,{"$f":"IF('Project EJ Ref List'!M44=0,\"\",'Project EJ Ref List'!M44)","v":""},null,{"$f":"IF(IF($L43=\"\",\"\",'Project EJ Ref List'!O44)=0,\"NA\",IF($L43=\"\",\"\",'Project EJ Ref List'!O44))","v":""},{"$f":"IF(IF($L43=\"\",\"\",'Project EJ Ref List'!P44)=0,\"NA\",IF($L43=\"\",\"\",'Project EJ Ref List'!P44))","v":""},{"$f":"IF(IF($L43=\"\",\"\",'Project EJ Ref List'!Q44)=0,\"NA\",IF($L43=\"\",\"\",'Project EJ Ref List'!Q44))","v":""},{"$f":"IF(IF($L43=\"\",\"\",'Project EJ Ref List'!R44)=0,\"NA\",IF($L43=\"\",\"\",'Project EJ Ref List'!R44))","v":""}]
[null,null,null,{"$f":"IF('Project EJ Ref List'!D45=0,\"\",'Project EJ Ref List'!D45)","v":""},{"$f":"_xlfn.IFNA(IF(D44=\"\",\"\",VLOOKUP(D44,Table2[],2,0)),\"\")","v":""},{"$f":"_xlfn.IFNA(IF(D44=\"\",\"\",VLOOKUP(D44,Table2[],3,0)),\"\")","v":""},{"$f":"_xlfn.IFNA(IF(D44=\"\",\"\",VLOOKUP(D44,Table2[],4,0)),\"\")","v":""},{"$f":"_xlfn.IFNA(IF(D44=\"\",\"\",VLOOKUP(D44,Table2[],5,0)),\"\")","v":""},{"$f":"_xlfn.IFNA(IF(D44=\"\",\"\",VLOOKUP(D44,Table2[],7,0)),\"\")","v":""},{"$f":"IF(Table1[[#This Row],[Contact Name ]]=\"\",\"\",IF('Project EJ Ref List'!K45=0,\"none\",'Project EJ Ref List'!K45))","v":""},null,{"$f":"IF('Project EJ Ref List'!M45=0,\"\",'Project EJ Ref List'!M45)","v":""},null,{"$f":"IF(IF($L44=\"\",\"\",'Project EJ Ref List'!O45)=0,\"NA\",IF($L44=\"\",\"\",'Project EJ Ref List'!O45))","v":""},{"$f":"IF(IF($L44=\"\",\"\",'Project EJ Ref List'!P45)=0,\"NA\",IF($L44=\"\",\"\",'Project EJ Ref List'!P45))","v":""},{"$f":"IF(IF($L44=\"\",\"\",'Project EJ Ref List'!Q45)=0,\"NA\",IF($L44=\"\",\"\",'Project EJ Ref List'!Q45))","v":""},{"$f":"IF(IF($L44=\"\",\"\",'Project EJ Ref List'!R45)=0,\"NA\",IF($L44=\"\",\"\",'Project EJ Ref List'!R45))","v":""}]
[null,null,null,{"$f":"IF('Project EJ Ref List'!D46=0,\"\",'Project EJ Ref List'!D46)","v":""},{"$f":"_xlfn.IFNA(IF(D45=\"\",\"\",VLOOKUP(D45,Table2[],2,0)),\"\")","v":""},{"$f":"_xlfn.IFNA(IF(D45=\"\",\"\",VLOOKUP(D45,Table2[],3,0)),\"\")","v":""},{"$f":"_xlfn.IFNA(IF(D45=\"\",\"\",VLOOKUP(D45,Table2[],4,0)),\"\")","v":""},{"$f":"_xlfn.IFNA(IF(D45=\"\",\"\",VLOOKUP(D45,Table2[],5,0)),\"\")","v":""},{"$f":"_xlfn.IFNA(IF(D45=\"\",\"\",VLOOKUP(D45,Table2[],7,0)),\"\")","v":""},{"$f":"IF(Table1[[#This Row],[Contact Name ]]=\"\",\"\",IF('Project EJ Ref List'!K46=0,\"none\",'Project EJ Ref List'!K46))","v":""},null,{"$f":"IF('Project EJ Ref List'!M46=0,\"\",'Project EJ Ref List'!M46)","v":""},null,{"$f":"IF(IF($L45=\"\",\"\",'Project EJ Ref List'!O46)=0,\"NA\",IF($L45=\"\",\"\",'Project EJ Ref List'!O46))","v":""},{"$f":"IF(IF($L45=\"\",\"\",'Project EJ Ref List'!P46)=0,\"NA\",IF($L45=\"\",\"\",'Project EJ Ref List'!P46))","v":""},{"$f":"IF(IF($L45=\"\",\"\",'Project EJ Ref List'!Q46)=0,\"NA\",IF($L45=\"\",\"\",'Project EJ Ref List'!Q46))","v":""},{"$f":"IF(IF($L45=\"\",\"\",'Project EJ Ref List'!R46)=0,\"NA\",IF($L45=\"\",\"\",'Project EJ Ref List'!R46))","v":""}]
[null,null,null,{"$f":"IF('Project EJ Ref List'!D47=0,\"\",'Project EJ Ref List'!D47)","v":""},{"$f":"_xlfn.IFNA(IF(D46=\"\",\"\",VLOOKUP(D46,Table2[],2,0)),\"\")","v":""},{"$f":"_xlfn.IFNA(IF(D46=\"\",\"\",VLOOKUP(D46,Table2[],3,0)),\"\")","v":""},{"$f":"_xlfn.IFNA(IF(D46=\"\",\"\",VLOOKUP(D46,Table2[],4,0)),\"\")","v":""},{"$f":"_xlfn.IFNA(IF(D46=\"\",\"\",VLOOKUP(D46,Table2[],5,0)),\"\")","v":""},{"$f":"_xlfn.IFNA(IF(D46=\"\",\"\",VLOOKUP(D46,Table2[],7,0)),\"\")","v":""},{"$f":"IF(Table1[[#This Row],[Contact Name ]]=\"\",\"\",IF('Project EJ Ref List'!K47=0,\"none\",'Project EJ Ref List'!K47))","v":""},null,{"$f":"IF('Project EJ Ref List'!M47=0,\"\",'Project EJ Ref List'!M47)","v":""},null,{"$f":"IF(IF($L46=\"\",\"\",'Project EJ Ref List'!O47)=0,\"NA\",IF($L46=\"\",\"\",'Project EJ Ref List'!O47))","v":""},{"$f":"IF(IF($L46=\"\",\"\",'Project EJ Ref List'!P47)=0,\"NA\",IF($L46=\"\",\"\",'Project EJ Ref List'!P47))","v":""},{"$f":"IF(IF($L46=\"\",\"\",'Project EJ Ref List'!Q47)=0,\"NA\",IF($L46=\"\",\"\",'Project EJ Ref List'!Q47))","v":""},{"$f":"IF(IF($L46=\"\",\"\",'Project EJ Ref List'!R47)=0,\"NA\",IF($L46=\"\",\"\",'Project EJ Ref List'!R47))","v":""}]
[null,null,null,{"$f":"IF('Project EJ Ref List'!D48=0,\"\",'Project EJ Ref List'!D48)","v":""},{"$f":"_xlfn.IFNA(IF(D47=\"\",\"\",VLOOKUP(D47,Table2[],2,0)),\"\")","v":""},{"$f":"_xlfn.IFNA(IF(D47=\"\",\"\",VLOOKUP(D47,Table2[],3,0)),\"\")","v":""},{"$f":"_xlfn.IFNA(IF(D47=\"\",\"\",VLOOKUP(D47,Table2[],4,0)),\"\")","v":""},{"$f":"_xlfn.IFNA(IF(D47=\"\",\"\",VLOOKUP(D47,Table2[],5,0)),\"\")","v":""},{"$f":"_xlfn.IFNA(IF(D47=\"\",\"\",VLOOKUP(D47,Table2[],7,0)),\"\")","v":""},{"$f":"IF(Table1[[#This Row],[Contact Name ]]=\"\",\"\",IF('Project EJ Ref List'!K48=0,\"none\",'Project EJ Ref List'!K48))","v":""},null,{"$f":"IF('Project EJ Ref List'!M48=0,\"\",'Project EJ Ref List'!M48)","v":""},null,{"$f":"IF(IF($L47=\"\",\"\",'Project EJ Ref List'!O48)=0,\"NA\",IF($L47=\"\",\"\",'Project EJ Ref List'!O48))","v":""},{"$f":"IF(IF($L47=\"\",\"\",'Project EJ Ref List'!P48)=0,\"NA\",IF($L47=\"\",\"\",'Project EJ Ref List'!P48))","v":""},{"$f":"IF(IF($L47=\"\",\"\",'Project EJ Ref List'!Q48)=0,\"NA\",IF($L47=\"\",\"\",'Project EJ Ref List'!Q48))","v":""},{"$f":"IF(IF($L47=\"\",\"\",'Project EJ Ref List'!R48)=0,\"NA\",IF($L47=\"\",\"\",'Project EJ Ref List'!R48))","v":""}]
[null,null,null,{"$f":"IF('Project EJ Ref List'!D49=0,\"\",'Project EJ Ref List'!D49)","v":""},{"$f":"_xlfn.IFNA(IF(D48=\"\",\"\",VLOOKUP(D48,Table2[],2,0)),\"\")","v":""},{"$f":"_xlfn.IFNA(IF(D48=\"\",\"\",VLOOKUP(D48,Table2[],3,0)),\"\")","v":""},{"$f":"_xlfn.IFNA(IF(D48=\"\",\"\",VLOOKUP(D48,Table2[],4,0)),\"\")","v":""},{"$f":"_xlfn.IFNA(IF(D48=\"\",\"\",VLOOKUP(D48,Table2[],5,0)),\"\")","v":""},{"$f":"_xlfn.IFNA(IF(D48=\"\",\"\",VLOOKUP(D48,Table2[],7,0)),\"\")","v":""},{"$f":"IF(Table1[[#This Row],[Contact Name ]]=\"\",\"\",IF('Project EJ Ref List'!K49=0,\"none\",'Project EJ Ref List'!K49))","v":""},null,{"$f":"IF('Project EJ Ref List'!M49=0,\"\",'Project EJ Ref List'!M49)","v":""},null,{"$f":"IF(IF($L48=\"\",\"\",'Project EJ Ref List'!O49)=0,\"NA\",IF($L48=\"\",\"\",'Project EJ Ref List'!O49))","v":""},{"$f":"IF(IF($L48=\"\",\"\",'Project EJ Ref List'!P49)=0,\"NA\",IF($L48=\"\",\"\",'Project EJ Ref List'!P49))","v":""},{"$f":"IF(IF($L48=\"\",\"\",'Project EJ Ref List'!Q49)=0,\"NA\",IF($L48=\"\",\"\",'Project EJ Ref List'!Q49))","v":""},{"$f":"IF(IF($L48=\"\",\"\",'Project EJ Ref List'!R49)=0,\"NA\",IF($L48=\"\",\"\",'Project EJ Ref List'!R49))","v":""}]
[null,null,null,{"$f":"IF('Project EJ Ref List'!D50=0,\"\",'Project EJ Ref List'!D50)","v":""},{"$f":"_xlfn.IFNA(IF(D49=\"\",\"\",VLOOKUP(D49,Table2[],2,0)),\"\")","v":""},{"$f":"_xlfn.IFNA(IF(D49=\"\",\"\",VLOOKUP(D49,Table2[],3,0)),\"\")","v":""},{"$f":"_xlfn.IFNA(IF(D49=\"\",\"\",VLOOKUP(D49,Table2[],4,0)),\"\")","v":""},{"$f":"_xlfn.IFNA(IF(D49=\"\",\"\",VLOOKUP(D49,Table2[],5,0)),\"\")","v":""},{"$f":"_xlfn.IFNA(IF(D49=\"\",\"\",VLOOKUP(D49,Table2[],7,0)),\"\")","v":""},{"$f":"IF(Table1[[#This Row],[Contact Name ]]=\"\",\"\",IF('Project EJ Ref List'!K50=0,\"none\",'Project EJ Ref List'!K50))","v":""},null,{"$f":"IF('Project EJ Ref List'!M50=0,\"\",'Project EJ Ref List'!M50)","v":""},null,{"$f":"IF(IF($L49=\"\",\"\",'Project EJ Ref List'!O50)=0,\"NA\",IF($L49=\"\",\"\",'Project EJ Ref List'!O50))","v":""},{"$f":"IF(IF($L49=\"\",\"\",'Project EJ Ref List'!P50)=0,\"NA\",IF($L49=\"\",\"\",'Project EJ Ref List'!P50))","v":""},{"$f":"IF(IF($L49=\"\",\"\",'Project EJ Ref List'!Q50)=0,\"NA\",IF($L49=\"\",\"\",'Project EJ Ref List'!Q50))","v":""},{"$f":"IF(IF($L49=\"\",\"\",'Project EJ Ref List'!R50)=0,\"NA\",IF($L49=\"\",\"\",'Project EJ Ref List'!R50))","v":""}]
[null,null,null,{"$f":"IF('Project EJ Ref List'!D51=0,\"\",'Project EJ Ref List'!D51)","v":""},{"$f":"_xlfn.IFNA(IF(D50=\"\",\"\",VLOOKUP(D50,Table2[],2,0)),\"\")","v":""},{"$f":"_xlfn.IFNA(IF(D50=\"\",\"\",VLOOKUP(D50,Table2[],3,0)),\"\")","v":""},{"$f":"_xlfn.IFNA(IF(D50=\"\",\"\",VLOOKUP(D50,Table2[],4,0)),\"\")","v":""},{"$f":"_xlfn.IFNA(IF(D50=\"\",\"\",VLOOKUP(D50,Table2[],5,0)),\"\")","v":""},{"$f":"_xlfn.IFNA(IF(D50=\"\",\"\",VLOOKUP(D50,Table2[],7,0)),\"\")","v":""},{"$f":"IF(Table1[[#This Row],[Contact Name ]]=\"\",\"\",IF('Project EJ Ref List'!K51=0,\"none\",'Project EJ Ref List'!K51))","v":""},null,{"$f":"IF('Project EJ Ref List'!M51=0,\"\",'Project EJ Ref List'!M51)","v":""},null,{"$f":"IF(IF($L50=\"\",\"\",'Project EJ Ref List'!O51)=0,\"NA\",IF($L50=\"\",\"\",'Project EJ Ref List'!O51))","v":""},{"$f":"IF(IF($L50=\"\",\"\",'Project EJ Ref List'!P51)=0,\"NA\",IF($L50=\"\",\"\",'Project EJ Ref List'!P51))","v":""},{"$f":"IF(IF($L50=\"\",\"\",'Project EJ Ref List'!Q51)=0,\"NA\",IF($L50=\"\",\"\",'Project EJ Ref List'!Q51))","v":""},{"$f":"IF(IF($L50=\"\",\"\",'Project EJ Ref List'!R51)=0,\"NA\",IF($L50=\"\",\"\",'Project EJ Ref List'!R51))","v":""}]
[null,null,null,{"$f":"IF('Project EJ Ref List'!D52=0,\"\",'Project EJ Ref List'!D52)","v":""},{"$f":"_xlfn.IFNA(IF(D51=\"\",\"\",VLOOKUP(D51,Table2[],2,0)),\"\")","v":""},{"$f":"_xlfn.IFNA(IF(D51=\"\",\"\",VLOOKUP(D51,Table2[],3,0)),\"\")","v":""},{"$f":"_xlfn.IFNA(IF(D51=\"\",\"\",VLOOKUP(D51,Table2[],4,0)),\"\")","v":""},{"$f":"_xlfn.IFNA(IF(D51=\"\",\"\",VLOOKUP(D51,Table2[],5,0)),\"\")","v":""},{"$f":"_xlfn.IFNA(IF(D51=\"\",\"\",VLOOKUP(D51,Table2[],7,0)),\"\")","v":""},{"$f":"IF(Table1[[#This Row],[Contact Name ]]=\"\",\"\",IF('Project EJ Ref List'!K52=0,\"none\",'Project EJ Ref List'!K52))","v":""},null,{"$f":"IF('Project EJ Ref List'!M52=0,\"\",'Project EJ Ref List'!M52)","v":""},null,{"$f":"IF(IF($L51=\"\",\"\",'Project EJ Ref List'!O52)=0,\"NA\",IF($L51=\"\",\"\",'Project EJ Ref List'!O52))","v":""},{"$f":"IF(IF($L51=\"\",\"\",'Project EJ Ref List'!P52)=0,\"NA\",IF($L51=\"\",\"\",'Project EJ Ref List'!P52))","v":""},{"$f":"IF(IF($L51=\"\",\"\",'Project EJ Ref List'!Q52)=0,\"NA\",IF($L51=\"\",\"\",'Project EJ Ref List'!Q52))","v":""},{"$f":"IF(IF($L51=\"\",\"\",'Project EJ Ref List'!R52)=0,\"NA\",IF($L51=\"\",\"\",'Project EJ Ref List'!R52))","v":""}]
[null,null,null,{"$f":"IF('Project EJ Ref List'!D53=0,\"\",'Project EJ Ref List'!D53)","v":""},{"$f":"_xlfn.IFNA(IF(D52=\"\",\"\",VLOOKUP(D52,Table2[],2,0)),\"\")","v":""},{"$f":"_xlfn.IFNA(IF(D52=\"\",\"\",VLOOKUP(D52,Table2[],3,0)),\"\")","v":""},{"$f":"_xlfn.IFNA(IF(D52=\"\",\"\",VLOOKUP(D52,Table2[],4,0)),\"\")","v":""},{"$f":"_xlfn.IFNA(IF(D52=\"\",\"\",VLOOKUP(D52,Table2[],5,0)),\"\")","v":""},{"$f":"_xlfn.IFNA(IF(D52=\"\",\"\",VLOOKUP(D52,Table2[],7,0)),\"\")","v":""},{"$f":"IF(Table1[[#This Row],[Contact Name ]]=\"\",\"\",IF('Project EJ Ref List'!K53=0,\"none\",'Project EJ Ref List'!K53))","v":""},null,{"$f":"IF('Project EJ Ref List'!M53=0,\"\",'Project EJ Ref List'!M53)","v":""},null,{"$f":"IF(IF($L52=\"\",\"\",'Project EJ Ref List'!O53)=0,\"NA\",IF($L52=\"\",\"\",'Project EJ Ref List'!O53))","v":""},{"$f":"IF(IF($L52=\"\",\"\",'Project EJ Ref List'!P53)=0,\"NA\",IF($L52=\"\",\"\",'Project EJ Ref List'!P53))","v":""},{"$f":"IF(IF($L52=\"\",\"\",'Project EJ Ref List'!Q53)=0,\"NA\",IF($L52=\"\",\"\",'Project EJ Ref List'!Q53))","v":""},{"$f":"IF(IF($L52=\"\",\"\",'Project EJ Ref List'!R53)=0,\"NA\",IF($L52=\"\",\"\",'Project EJ Ref List'!R53))","v":""}]
[null,null,null,{"$f":"IF('Project EJ Ref List'!D54=0,\"\",'Project EJ Ref List'!D54)","v":""},{"$f":"_xlfn.IFNA(IF(D53=\"\",\"\",VLOOKUP(D53,Table2[],2,0)),\"\")","v":""},{"$f":"_xlfn.IFNA(IF(D53=\"\",\"\",VLOOKUP(D53,Table2[],3,0)),\"\")","v":""},{"$f":"_xlfn.IFNA(IF(D53=\"\",\"\",VLOOKUP(D52,Table2[],4,0)),\"\")","v":""},{"$f":"_xlfn.IFNA(IF(D53=\"\",\"\",VLOOKUP(D53,Table2[],5,0)),\"\")","v":""},{"$f":"_xlfn.IFNA(IF(D53=\"\",\"\",VLOOKUP(D53,Table2[],7,0)),\"\")","v":""},{"$f":"IF(Table1[[#This Row],[Contact Name ]]=\"\",\"\",IF('Project EJ Ref List'!K54=0,\"none\",'Project EJ Ref List'!K54))","v":""},null,{"$f":"IF('Project EJ Ref List'!M54=0,\"\",'Project EJ Ref List'!M54)","v":""},null,{"$f":"IF(IF($L53=\"\",\"\",'Project EJ Ref List'!O54)=0,\"NA\",IF($L53=\"\",\"\",'Project EJ Ref List'!O54))","v":""},{"$f":"IF(IF($L53=\"\",\"\",'Project EJ Ref List'!P54)=0,\"NA\",IF($L53=\"\",\"\",'Project EJ Ref List'!P54))","v":""},{"$f":"IF(IF($L53=\"\",\"\",'Project EJ Ref List'!Q54)=0,\"NA\",IF($L53=\"\",\"\",'Project EJ Ref List'!Q54))","v":""},{"$f":"IF(IF($L53=\"\",\"\",'Project EJ Ref List'!R54)=0,\"NA\",IF($L53=\"\",\"\",'Project EJ Ref List'!R54))","v":""}]
[null,null,null,{"$f":"IF('Project EJ Ref List'!D55=0,\"\",'Project EJ Ref List'!D55)","v":""},{"$f":"_xlfn.IFNA(IF(D54=\"\",\"\",VLOOKUP(D54,Table2[],2,0)),\"\")","v":""},{"$f":"_xlfn.IFNA(IF(D54=\"\",\"\",VLOOKUP(D54,Table2[],3,0)),\"\")","v":""},{"$f":"_xlfn.IFNA(IF(D54=\"\",\"\",VLOOKUP(D53,Table2[],4,0)),\"\")","v":""},{"$f":"_xlfn.IFNA(IF(D54=\"\",\"\",VLOOKUP(D54,Table2[],5,0)),\"\")","v":""},{"$f":"_xlfn.IFNA(IF(D54=\"\",\"\",VLOOKUP(D54,Table2[],7,0)),\"\")","v":""},{"$f":"IF(Table1[[#This Row],[Contact Name ]]=\"\",\"\",IF('Project EJ Ref List'!K55=0,\"none\",'Project EJ Ref List'!K55))","v":""},null,{"$f":"IF('Project EJ Ref List'!M55=0,\"\",'Project EJ Ref List'!M55)","v":""},null,{"$f":"IF(IF($L54=\"\",\"\",'Project EJ Ref List'!O55)=0,\"NA\",IF($L54=\"\",\"\",'Project EJ Ref List'!O55))","v":""},{"$f":"IF(IF($L54=\"\",\"\",'Project EJ Ref List'!P55)=0,\"NA\",IF($L54=\"\",\"\",'Project EJ Ref List'!P55))","v":""},{"$f":"IF(IF($L54=\"\",\"\",'Project EJ Ref List'!Q55)=0,\"NA\",IF($L54=\"\",\"\",'Project EJ Ref List'!Q55))","v":""},{"$f":"IF(IF($L54=\"\",\"\",'Project EJ Ref List'!R55)=0,\"NA\",IF($L54=\"\",\"\",'Project EJ Ref List'!R55))","v":""}]
[null,null,null,{"$f":"IF('Project EJ Ref List'!D56=0,\"\",'Project EJ Ref List'!D56)","v":""},{"$f":"_xlfn.IFNA(IF(D55=\"\",\"\",VLOOKUP(D55,Table2[],2,0)),\"\")","v":""},{"$f":"_xlfn.IFNA(IF(D55=\"\",\"\",VLOOKUP(D55,Table2[],3,0)),\"\")","v":""},{"$f":"_xlfn.IFNA(IF(D55=\"\",\"\",VLOOKUP(D54,Table2[],4,0)),\"\")","v":""},{"$f":"_xlfn.IFNA(IF(D55=\"\",\"\",VLOOKUP(D55,Table2[],5,0)),\"\")","v":""},{"$f":"_xlfn.IFNA(IF(D55=\"\",\"\",VLOOKUP(D55,Table2[],7,0)),\"\")","v":""},{"$f":"IF(Table1[[#This Row],[Contact Name ]]=\"\",\"\",IF('Project EJ Ref List'!K56=0,\"none\",'Project EJ Ref List'!K56))","v":""},null,{"$f":"IF('Project EJ Ref List'!M56=0,\"\",'Project EJ Ref List'!M56)","v":""},null,{"$f":"IF(IF($L55=\"\",\"\",'Project EJ Ref List'!O56)=0,\"NA\",IF($L55=\"\",\"\",'Project EJ Ref List'!O56))","v":""},{"$f":"IF(IF($L55=\"\",\"\",'Project EJ Ref List'!P56)=0,\"NA\",IF($L55=\"\",\"\",'Project EJ Ref List'!P56))","v":""},{"$f":"IF(IF($L55=\"\",\"\",'Project EJ Ref List'!Q56)=0,\"NA\",IF($L55=\"\",\"\",'Project EJ Ref List'!Q56))","v":""},{"$f":"IF(IF($L55=\"\",\"\",'Project EJ Ref List'!R56)=0,\"NA\",IF($L55=\"\",\"\",'Project EJ Ref List'!R56))","v":""}]
[null,null,null,{"$f":"IF('Project EJ Ref List'!D57=0,\"\",'Project EJ Ref List'!D57)","v":""},{"$f":"_xlfn.IFNA(IF(D56=\"\",\"\",VLOOKUP(D56,Table2[],2,0)),\"\")","v":""},{"$f":"_xlfn.IFNA(IF(D56=\"\",\"\",VLOOKUP(D56,Table2[],3,0)),\"\")","v":""},{"$f":"_xlfn.IFNA(IF(D56=\"\",\"\",VLOOKUP(D55,Table2[],4,0)),\"\")","v":""},{"$f":"_xlfn.IFNA(IF(D56=\"\",\"\",VLOOKUP(D56,Table2[],5,0)),\"\")","v":""},{"$f":"_xlfn.IFNA(IF(D56=\"\",\"\",VLOOKUP(D56,Table2[],7,0)),\"\")","v":""},{"$f":"IF(Table1[[#This Row],[Contact Name ]]=\"\",\"\",IF('Project EJ Ref List'!K57=0,\"none\",'Project EJ Ref List'!K57))","v":""},null,{"$f":"IF('Project EJ Ref List'!M57=0,\"\",'Project EJ Ref List'!M57)","v":""},null,{"$f":"IF(IF($L56=\"\",\"\",'Project EJ Ref List'!O57)=0,\"NA\",IF($L56=\"\",\"\",'Project EJ Ref List'!O57))","v":""},{"$f":"IF(IF($L56=\"\",\"\",'Project EJ Ref List'!P57)=0,\"NA\",IF($L56=\"\",\"\",'Project EJ Ref List'!P57))","v":""},{"$f":"IF(IF($L56=\"\",\"\",'Project EJ Ref List'!Q57)=0,\"NA\",IF($L56=\"\",\"\",'Project EJ Ref List'!Q57))","v":""},{"$f":"IF(IF($L56=\"\",\"\",'Project EJ Ref List'!R57)=0,\"NA\",IF($L56=\"\",\"\",'Project EJ Ref List'!R57))","v":""}]
[null,null,null,{"$f":"IF('Project EJ Ref List'!D58=0,\"\",'Project EJ Ref List'!D58)","v":""},{"$f":"_xlfn.IFNA(IF(D57=\"\",\"\",VLOOKUP(D57,Table2[],2,0)),\"\")","v":""},{"$f":"_xlfn.IFNA(IF(D57=\"\",\"\",VLOOKUP(D57,Table2[],3,0)),\"\")","v":""},{"$f":"_xlfn.IFNA(IF(D57=\"\",\"\",VLOOKUP(D56,Table2[],4,0)),\"\")","v":""},{"$f":"_xlfn.IFNA(IF(D57=\"\",\"\",VLOOKUP(D57,Table2[],5,0)),\"\")","v":""},{"$f":"_xlfn.IFNA(IF(D57=\"\",\"\",VLOOKUP(D57,Table2[],7,0)),\"\")","v":""},{"$f":"IF(Table1[[#This Row],[Contact Name ]]=\"\",\"\",IF('Project EJ Ref List'!K58=0,\"none\",'Project EJ Ref List'!K58))","v":""},null,{"$f":"IF('Project EJ Ref List'!M58=0,\"\",'Project EJ Ref List'!M58)","v":""},null,{"$f":"IF(IF($L57=\"\",\"\",'Project EJ Ref List'!O58)=0,\"NA\",IF($L57=\"\",\"\",'Project EJ Ref List'!O58))","v":""},{"$f":"IF(IF($L57=\"\",\"\",'Project EJ Ref List'!P58)=0,\"NA\",IF($L57=\"\",\"\",'Project EJ Ref List'!P58))","v":""},{"$f":"IF(IF($L57=\"\",\"\",'Project EJ Ref List'!Q58)=0,\"NA\",IF($L57=\"\",\"\",'Project EJ Ref List'!Q58))","v":""},{"$f":"IF(IF($L57=\"\",\"\",'Project EJ Ref List'!R58)=0,\"NA\",IF($L57=\"\",\"\",'Project EJ Ref List'!R58))","v":""}]
[null,null,null,{"$f":"IF('Project EJ Ref List'!D59=0,\"\",'Project EJ Ref List'!D59)","v":""},{"$f":"_xlfn.IFNA(IF(D58=\"\",\"\",VLOOKUP(D58,Table2[],2,0)),\"\")","v":""},{"$f":"_xlfn.IFNA(IF(D58=\"\",\"\",VLOOKUP(D58,Table2[],3,0)),\"\")","v":""},{"$f":"_xlfn.IFNA(IF(D58=\"\",\"\",VLOOKUP(D57,Table2[],4,0)),\"\")","v":""},{"$f":"_xlfn.IFNA(IF(D58=\"\",\"\",VLOOKUP(D58,Table2[],5,0)),\"\")","v":""},{"$f":"_xlfn.IFNA(IF(D58=\"\",\"\",VLOOKUP(D58,Table2[],7,0)),\"\")","v":""},{"$f":"IF(Table1[[#This Row],[Contact Name ]]=\"\",\"\",IF('Project EJ Ref List'!K59=0,\"none\",'Project EJ Ref List'!K59))","v":""},null,{"$f":"IF('Project EJ Ref List'!M59=0,\"\",'Project EJ Ref List'!M59)","v":""},null,{"$f":"IF(IF($L58=\"\",\"\",'Project EJ Ref List'!O59)=0,\"NA\",IF($L58=\"\",\"\",'Project EJ Ref List'!O59))","v":""},{"$f":"IF(IF($L58=\"\",\"\",'Project EJ Ref List'!P59)=0,\"NA\",IF($L58=\"\",\"\",'Project EJ Ref List'!P59))","v":""},{"$f":"IF(IF($L58=\"\",\"\",'Project EJ Ref List'!Q59)=0,\"NA\",IF($L58=\"\",\"\",'Project EJ Ref List'!Q59))","v":""},{"$f":"IF(IF($L58=\"\",\"\",'Project EJ Ref List'!R59)=0,\"NA\",IF($L58=\"\",\"\",'Project EJ Ref List'!R59))","v":""}]
[null,null,null,{"$f":"IF('Project EJ Ref List'!D60=0,\"\",'Project EJ Ref List'!D60)","v":""},{"$f":"_xlfn.IFNA(IF(D59=\"\",\"\",VLOOKUP(D59,Table2[],2,0)),\"\")","v":""},{"$f":"_xlfn.IFNA(IF(D59=\"\",\"\",VLOOKUP(D59,Table2[],3,0)),\"\")","v":""},{"$f":"_xlfn.IFNA(IF(D59=\"\",\"\",VLOOKUP(D58,Table2[],4,0)),\"\")","v":""},{"$f":"_xlfn.IFNA(IF(D59=\"\",\"\",VLOOKUP(D59,Table2[],5,0)),\"\")","v":""},{"$f":"_xlfn.IFNA(IF(D59=\"\",\"\",VLOOKUP(D59,Table2[],7,0)),\"\")","v":""},{"$f":"IF(Table1[[#This Row],[Contact Name ]]=\"\",\"\",IF('Project EJ Ref List'!K60=0,\"none\",'Project EJ Ref List'!K60))","v":""},null,{"$f":"IF('Project EJ Ref List'!M60=0,\"\",'Project EJ Ref List'!M60)","v":""},null,{"$f":"IF(IF($L59=\"\",\"\",'Project EJ Ref List'!O60)=0,\"NA\",IF($L59=\"\",\"\",'Project EJ Ref List'!O60))","v":""},{"$f":"IF(IF($L59=\"\",\"\",'Project EJ Ref List'!P60)=0,\"NA\",IF($L59=\"\",\"\",'Project EJ Ref List'!P60))","v":""},{"$f":"IF(IF($L59=\"\",\"\",'Project EJ Ref List'!Q60)=0,\"NA\",IF($L59=\"\",\"\",'Project EJ Ref List'!Q60))","v":""},{"$f":"IF(IF($L59=\"\",\"\",'Project EJ Ref List'!R60)=0,\"NA\",IF($L59=\"\",\"\",'Project EJ Ref List'!R60))","v":""}]
[null,null,null,{"$f":"IF('Project EJ Ref List'!D61=0,\"\",'Project EJ Ref List'!D61)","v":""},{"$f":"_xlfn.IFNA(IF(D60=\"\",\"\",VLOOKUP(D60,Table2[],2,0)),\"\")","v":""},{"$f":"_xlfn.IFNA(IF(D60=\"\",\"\",VLOOKUP(D60,Table2[],3,0)),\"\")","v":""},{"$f":"_xlfn.IFNA(IF(D60=\"\",\"\",VLOOKUP(D59,Table2[],4,0)),\"\")","v":""},{"$f":"_xlfn.IFNA(IF(D60=\"\",\"\",VLOOKUP(D60,Table2[],5,0)),\"\")","v":""},{"$f":"_xlfn.IFNA(IF(D60=\"\",\"\",VLOOKUP(D60,Table2[],7,0)),\"\")","v":""},{"$f":"IF(Table1[[#This Row],[Contact Name ]]=\"\",\"\",IF('Project EJ Ref List'!K61=0,\"none\",'Project EJ Ref List'!K61))","v":""},null,{"$f":"IF('Project EJ Ref List'!M61=0,\"\",'Project EJ Ref List'!M61)","v":""},null,{"$f":"IF(IF($L60=\"\",\"\",'Project EJ Ref List'!O61)=0,\"NA\",IF($L60=\"\",\"\",'Project EJ Ref List'!O61))","v":""},{"$f":"IF(IF($L60=\"\",\"\",'Project EJ Ref List'!P61)=0,\"NA\",IF($L60=\"\",\"\",'Project EJ Ref List'!P61))","v":""},{"$f":"IF(IF($L60=\"\",\"\",'Project EJ Ref List'!Q61)=0,\"NA\",IF($L60=\"\",\"\",'Project EJ Ref List'!Q61))","v":""},{"$f":"IF(IF($L60=\"\",\"\",'Project EJ Ref List'!R61)=0,\"NA\",IF($L60=\"\",\"\",'Project EJ Ref List'!R61))","v":""}]
[null,null,null,{"$f":"IF('Project EJ Ref List'!D62=0,\"\",'Project EJ Ref List'!D62)","v":""},{"$f":"_xlfn.IFNA(IF(D61=\"\",\"\",VLOOKUP(D61,Table2[],2,0)),\"\")","v":""},{"$f":"_xlfn.IFNA(IF(D61=\"\",\"\",VLOOKUP(D61,Table2[],3,0)),\"\")","v":""},{"$f":"_xlfn.IFNA(IF(D61=\"\",\"\",VLOOKUP(D60,Table2[],4,0)),\"\")","v":""},{"$f":"_xlfn.IFNA(IF(D61=\"\",\"\",VLOOKUP(D61,Table2[],5,0)),\"\")","v":""},{"$f":"_xlfn.IFNA(IF(D61=\"\",\"\",VLOOKUP(D61,Table2[],7,0)),\"\")","v":""},{"$f":"IF(Table1[[#This Row],[Contact Name ]]=\"\",\"\",IF('Project EJ Ref List'!K62=0,\"none\",'Project EJ Ref List'!K62))","v":""},null,{"$f":"IF('Project EJ Ref List'!M62=0,\"\",'Project EJ Ref List'!M62)","v":""},null,{"$f":"IF(IF($L61=\"\",\"\",'Project EJ Ref List'!O62)=0,\"NA\",IF($L61=\"\",\"\",'Project EJ Ref List'!O62))","v":""},{"$f":"IF(IF($L61=\"\",\"\",'Project EJ Ref List'!P62)=0,\"NA\",IF($L61=\"\",\"\",'Project EJ Ref List'!P62))","v":""},{"$f":"IF(IF($L61=\"\",\"\",'Project EJ Ref List'!Q62)=0,\"NA\",IF($L61=\"\",\"\",'Project EJ Ref List'!Q62))","v":""},{"$f":"IF(IF($L61=\"\",\"\",'Project EJ Ref List'!R62)=0,\"NA\",IF($L61=\"\",\"\",'Project EJ Ref List'!R62))","v":""}]
[null,null,null,{"$f":"IF('Project EJ Ref List'!D63=0,\"\",'Project EJ Ref List'!D63)","v":""},{"$f":"_xlfn.IFNA(IF(D62=\"\",\"\",VLOOKUP(D62,Table2[],2,0)),\"\")","v":""},{"$f":"_xlfn.IFNA(IF(D62=\"\",\"\",VLOOKUP(D62,Table2[],3,0)),\"\")","v":""},{"$f":"_xlfn.IFNA(IF(D62=\"\",\"\",VLOOKUP(D61,Table2[],4,0)),\"\")","v":""},{"$f":"_xlfn.IFNA(IF(D62=\"\",\"\",VLOOKUP(D62,Table2[],5,0)),\"\")","v":""},{"$f":"_xlfn.IFNA(IF(D62=\"\",\"\",VLOOKUP(D62,Table2[],7,0)),\"\")","v":""},{"$f":"IF(Table1[[#This Row],[Contact Name ]]=\"\",\"\",IF('Project EJ Ref List'!K63=0,\"none\",'Project EJ Ref List'!K63))","v":""},null,{"$f":"IF('Project EJ Ref List'!M63=0,\"\",'Project EJ Ref List'!M63)","v":""},null,{"$f":"IF(IF($L62=\"\",\"\",'Project EJ Ref List'!O63)=0,\"NA\",IF($L62=\"\",\"\",'Project EJ Ref List'!O63))","v":""},{"$f":"IF(IF($L62=\"\",\"\",'Project EJ Ref List'!P63)=0,\"NA\",IF($L62=\"\",\"\",'Project EJ Ref List'!P63))","v":""},{"$f":"IF(IF($L62=\"\",\"\",'Project EJ Ref List'!Q63)=0,\"NA\",IF($L62=\"\",\"\",'Project EJ Ref List'!Q63))","v":""},{"$f":"IF(IF($L62=\"\",\"\",'Project EJ Ref List'!R63)=0,\"NA\",IF($L62=\"\",\"\",'Project EJ Ref List'!R63))","v":""}]
[null,null,null,{"$f":"IF('Project EJ Ref List'!D64=0,\"\",'Project EJ Ref List'!D64)","v":""},{"$f":"_xlfn.IFNA(IF(D63=\"\",\"\",VLOOKUP(D63,Table2[],2,0)),\"\")","v":""},{"$f":"_xlfn.IFNA(IF(D63=\"\",\"\",VLOOKUP(D63,Table2[],3,0)),\"\")","v":""},{"$f":"_xlfn.IFNA(IF(D63=\"\",\"\",VLOOKUP(D62,Table2[],4,0)),\"\")","v":""},{"$f":"_xlfn.IFNA(IF(D63=\"\",\"\",VLOOKUP(D63,Table2[],5,0)),\"\")","v":""},{"$f":"_xlfn.IFNA(IF(D63=\"\",\"\",VLOOKUP(D63,Table2[],7,0)),\"\")","v":""},{"$f":"IF(Table1[[#This Row],[Contact Name ]]=\"\",\"\",IF('Project EJ Ref List'!K64=0,\"none\",'Project EJ Ref List'!K64))","v":""},null,{"$f":"IF('Project EJ Ref List'!M64=0,\"\",'Project EJ Ref List'!M64)","v":""},null,{"$f":"IF(IF($L63=\"\",\"\",'Project EJ Ref List'!O64)=0,\"NA\",IF($L63=\"\",\"\",'Project EJ Ref List'!O64))","v":""},{"$f":"IF(IF($L63=\"\",\"\",'Project EJ Ref List'!P64)=0,\"NA\",IF($L63=\"\",\"\",'Project EJ Ref List'!P64))","v":""},{"$f":"IF(IF($L63=\"\",\"\",'Project EJ Ref List'!Q64)=0,\"NA\",IF($L63=\"\",\"\",'Project EJ Ref List'!Q64))","v":""},{"$f":"IF(IF($L63=\"\",\"\",'Project EJ Ref List'!R64)=0,\"NA\",IF($L63=\"\",\"\",'Project EJ Ref List'!R64))","v":""}]
[null,null,null,{"$f":"IF('Project EJ Ref List'!D65=0,\"\",'Project EJ Ref List'!D65)","v":""},{"$f":"_xlfn.IFNA(IF(D64=\"\",\"\",VLOOKUP(D64,Table2[],2,0)),\"\")","v":""},{"$f":"_xlfn.IFNA(IF(D64=\"\",\"\",VLOOKUP(D64,Table2[],3,0)),\"\")","v":""},{"$f":"_xlfn.IFNA(IF(D64=\"\",\"\",VLOOKUP(D63,Table2[],4,0)),\"\")","v":""},{"$f":"_xlfn.IFNA(IF(D64=\"\",\"\",VLOOKUP(D64,Table2[],5,0)),\"\")","v":""},{"$f":"_xlfn.IFNA(IF(D64=\"\",\"\",VLOOKUP(D64,Table2[],7,0)),\"\")","v":""},{"$f":"IF(Table1[[#This Row],[Contact Name ]]=\"\",\"\",IF('Project EJ Ref List'!K65=0,\"none\",'Project EJ Ref List'!K65))","v":""},null,{"$f":"IF('Project EJ Ref List'!M65=0,\"\",'Project EJ Ref List'!M65)","v":""},null,{"$f":"IF(IF($L64=\"\",\"\",'Project EJ Ref List'!O65)=0,\"NA\",IF($L64=\"\",\"\",'Project EJ Ref List'!O65))","v":""},{"$f":"IF(IF($L64=\"\",\"\",'Project EJ Ref List'!P65)=0,\"NA\",IF($L64=\"\",\"\",'Project EJ Ref List'!P65))","v":""},{"$f":"IF(IF($L64=\"\",\"\",'Project EJ Ref List'!Q65)=0,\"NA\",IF($L64=\"\",\"\",'Project EJ Ref List'!Q65))","v":""},{"$f":"IF(IF($L64=\"\",\"\",'Project EJ Ref List'!R65)=0,\"NA\",IF($L64=\"\",\"\",'Project EJ Ref List'!R65))","v":""}]
[null,null,null,{"$f":"IF('Project EJ Ref List'!D66=0,\"\",'Project EJ Ref List'!D66)","v":""},{"$f":"_xlfn.IFNA(IF(D65=\"\",\"\",VLOOKUP(D65,Table2[],2,0)),\"\")","v":""},{"$f":"_xlfn.IFNA(IF(D65=\"\",\"\",VLOOKUP(D65,Table2[],3,0)),\"\")","v":""},{"$f":"_xlfn.IFNA(IF(D65=\"\",\"\",VLOOKUP(D64,Table2[],4,0)),\"\")","v":""},{"$f":"_xlfn.IFNA(IF(D65=\"\",\"\",VLOOKUP(D65,Table2[],5,0)),\"\")","v":""},{"$f":"_xlfn.IFNA(IF(D65=\"\",\"\",VLOOKUP(D65,Table2[],7,0)),\"\")","v":""},{"$f":"IF(Table1[[#This Row],[Contact Name ]]=\"\",\"\",IF('Project EJ Ref List'!K66=0,\"none\",'Project EJ Ref List'!K66))","v":""},null,{"$f":"IF('Project EJ Ref List'!M66=0,\"\",'Project EJ Ref List'!M66)","v":""},null,{"$f":"IF(IF($L65=\"\",\"\",'Project EJ Ref List'!O66)=0,\"NA\",IF($L65=\"\",\"\",'Project EJ Ref List'!O66))","v":""},{"$f":"IF(IF($L65=\"\",\"\",'Project EJ Ref List'!P66)=0,\"NA\",IF($L65=\"\",\"\",'Project EJ Ref List'!P66))","v":""},{"$f":"IF(IF($L65=\"\",\"\",'Project EJ Ref List'!Q66)=0,\"NA\",IF($L65=\"\",\"\",'Project EJ Ref List'!Q66))","v":""},{"$f":"IF(IF($L65=\"\",\"\",'Project EJ Ref List'!R66)=0,\"NA\",IF($L65=\"\",\"\",'Project EJ Ref List'!R66))","v":""}]
[null,null,null,{"$f":"IF('Project EJ Ref List'!D67=0,\"\",'Project EJ Ref List'!D67)","v":""},{"$f":"_xlfn.IFNA(IF(D66=\"\",\"\",VLOOKUP(D66,Table2[],2,0)),\"\")","v":""},{"$f":"_xlfn.IFNA(IF(D66=\"\",\"\",VLOOKUP(D66,Table2[],3,0)),\"\")","v":""},{"$f":"_xlfn.IFNA(IF(D66=\"\",\"\",VLOOKUP(D65,Table2[],4,0)),\"\")","v":""},{"$f":"_xlfn.IFNA(IF(D66=\"\",\"\",VLOOKUP(D66,Table2[],5,0)),\"\")","v":""},{"$f":"_xlfn.IFNA(IF(D66=\"\",\"\",VLOOKUP(D66,Table2[],7,0)),\"\")","v":""},{"$f":"IF(Table1[[#This Row],[Contact Name ]]=\"\",\"\",IF('Project EJ Ref List'!K67=0,\"none\",'Project EJ Ref List'!K67))","v":""},null,{"$f":"IF('Project EJ Ref List'!M67=0,\"\",'Project EJ Ref List'!M67)","v":""},null,{"$f":"IF(IF($L66=\"\",\"\",'Project EJ Ref List'!O67)=0,\"NA\",IF($L66=\"\",\"\",'Project EJ Ref List'!O67))","v":""},{"$f":"IF(IF($L66=\"\",\"\",'Project EJ Ref List'!P67)=0,\"NA\",IF($L66=\"\",\"\",'Project EJ Ref List'!P67))","v":""},{"$f":"IF(IF($L66=\"\",\"\",'Project EJ Ref List'!Q67)=0,\"NA\",IF($L66=\"\",\"\",'Project EJ Ref List'!Q67))","v":""},{"$f":"IF(IF($L66=\"\",\"\",'Project EJ Ref List'!R67)=0,\"NA\",IF($L66=\"\",\"\",'Project EJ Ref List'!R67))","v":""}]
[null,null,null,{"$f":"IF('Project EJ Ref List'!D68=0,\"\",'Project EJ Ref List'!D68)","v":""},{"$f":"_xlfn.IFNA(IF(D67=\"\",\"\",VLOOKUP(D67,Table2[],2,0)),\"\")","v":""},{"$f":"_xlfn.IFNA(IF(D67=\"\",\"\",VLOOKUP(D67,Table2[],3,0)),\"\")","v":""},{"$f":"_xlfn.IFNA(IF(D67=\"\",\"\",VLOOKUP(D66,Table2[],4,0)),\"\")","v":""},{"$f":"_xlfn.IFNA(IF(D67=\"\",\"\",VLOOKUP(D67,Table2[],5,0)),\"\")","v":""},{"$f":"_xlfn.IFNA(IF(D67=\"\",\"\",VLOOKUP(D67,Table2[],7,0)),\"\")","v":""},{"$f":"IF(Table1[[#This Row],[Contact Name ]]=\"\",\"\",IF('Project EJ Ref List'!K68=0,\"none\",'Project EJ Ref List'!K68))","v":""},null,{"$f":"IF('Project EJ Ref List'!M68=0,\"\",'Project EJ Ref List'!M68)","v":""},null,{"$f":"IF(IF($L67=\"\",\"\",'Project EJ Ref List'!O68)=0,\"NA\",IF($L67=\"\",\"\",'Project EJ Ref List'!O68))","v":""},{"$f":"IF(IF($L67=\"\",\"\",'Project EJ Ref List'!P68)=0,\"NA\",IF($L67=\"\",\"\",'Project EJ Ref List'!P68))","v":""},{"$f":"IF(IF($L67=\"\",\"\",'Project EJ Ref List'!Q68)=0,\"NA\",IF($L67=\"\",\"\",'Project EJ Ref List'!Q68))","v":""},{"$f":"IF(IF($L67=\"\",\"\",'Project EJ Ref List'!R68)=0,\"NA\",IF($L67=\"\",\"\",'Project EJ Ref List'!R68))","v":""}]
[null,null,null,{"$f":"IF('Project EJ Ref List'!D69=0,\"\",'Project EJ Ref List'!D69)","v":""},{"$f":"_xlfn.IFNA(IF(D68=\"\",\"\",VLOOKUP(D68,Table2[],2,0)),\"\")","v":""},{"$f":"_xlfn.IFNA(IF(D68=\"\",\"\",VLOOKUP(D68,Table2[],3,0)),\"\")","v":""},{"$f":"_xlfn.IFNA(IF(D68=\"\",\"\",VLOOKUP(D67,Table2[],4,0)),\"\")","v":""},{"$f":"_xlfn.IFNA(IF(D68=\"\",\"\",VLOOKUP(D68,Table2[],5,0)),\"\")","v":""},{"$f":"_xlfn.IFNA(IF(D68=\"\",\"\",VLOOKUP(D68,Table2[],7,0)),\"\")","v":""},{"$f":"IF(Table1[[#This Row],[Contact Name ]]=\"\",\"\",IF('Project EJ Ref List'!K69=0,\"none\",'Project EJ Ref List'!K69))","v":""},null,{"$f":"IF('Project EJ Ref List'!M69=0,\"\",'Project EJ Ref List'!M69)","v":""},null,{"$f":"IF(IF($L68=\"\",\"\",'Project EJ Ref List'!O69)=0,\"NA\",IF($L68=\"\",\"\",'Project EJ Ref List'!O69))","v":""},{"$f":"IF(IF($L68=\"\",\"\",'Project EJ Ref List'!P69)=0,\"NA\",IF($L68=\"\",\"\",'Project EJ Ref List'!P69))","v":""},{"$f":"IF(IF($L68=\"\",\"\",'Project EJ Ref List'!Q69)=0,\"NA\",IF($L68=\"\",\"\",'Project EJ Ref List'!Q69))","v":""},{"$f":"IF(IF($L68=\"\",\"\",'Project EJ Ref List'!R69)=0,\"NA\",IF($L68=\"\",\"\",'Project EJ Ref List'!R69))","v":""}]
[null,null,null,{"$f":"IF('Project EJ Ref List'!D70=0,\"\",'Project EJ Ref List'!D70)","v":""},{"$f":"_xlfn.IFNA(IF(D69=\"\",\"\",VLOOKUP(D69,Table2[],2,0)),\"\")","v":""},{"$f":"_xlfn.IFNA(IF(D69=\"\",\"\",VLOOKUP(D69,Table2[],3,0)),\"\")","v":""},{"$f":"_xlfn.IFNA(IF(D69=\"\",\"\",VLOOKUP(D68,Table2[],4,0)),\"\")","v":""},{"$f":"_xlfn.IFNA(IF(D69=\"\",\"\",VLOOKUP(D69,Table2[],5,0)),\"\")","v":""},{"$f":"_xlfn.IFNA(IF(D69=\"\",\"\",VLOOKUP(D69,Table2[],7,0)),\"\")","v":""},{"$f":"IF(Table1[[#This Row],[Contact Name ]]=\"\",\"\",IF('Project EJ Ref List'!K70=0,\"none\",'Project EJ Ref List'!K70))","v":""},null,{"$f":"IF('Project EJ Ref List'!M70=0,\"\",'Project EJ Ref List'!M70)","v":""},null,{"$f":"IF(IF($L69=\"\",\"\",'Project EJ Ref List'!O70)=0,\"NA\",IF($L69=\"\",\"\",'Project EJ Ref List'!O70))","v":""},{"$f":"IF(IF($L69=\"\",\"\",'Project EJ Ref List'!P70)=0,\"NA\",IF($L69=\"\",\"\",'Project EJ Ref List'!P70))","v":""},{"$f":"IF(IF($L69=\"\",\"\",'Project EJ Ref List'!Q70)=0,\"NA\",IF($L69=\"\",\"\",'Project EJ Ref List'!Q70))","v":""},{"$f":"IF(IF($L69=\"\",\"\",'Project EJ Ref List'!R70)=0,\"NA\",IF($L69=\"\",\"\",'Project EJ Ref List'!R70))","v":""}]
[null,null,null,{"$f":"IF('Project EJ Ref List'!D71=0,\"\",'Project EJ Ref List'!D71)","v":""},{"$f":"_xlfn.IFNA(IF(D70=\"\",\"\",VLOOKUP(D70,Table2[],2,0)),\"\")","v":""},{"$f":"_xlfn.IFNA(IF(D70=\"\",\"\",VLOOKUP(D70,Table2[],3,0)),\"\")","v":""},{"$f":"_xlfn.IFNA(IF(D70=\"\",\"\",VLOOKUP(D69,Table2[],4,0)),\"\")","v":""},{"$f":"_xlfn.IFNA(IF(D70=\"\",\"\",VLOOKUP(D70,Table2[],5,0)),\"\")","v":""},{"$f":"_xlfn.IFNA(IF(D70=\"\",\"\",VLOOKUP(D70,Table2[],7,0)),\"\")","v":""},{"$f":"IF(Table1[[#This Row],[Contact Name ]]=\"\",\"\",IF('Project EJ Ref List'!K71=0,\"none\",'Project EJ Ref List'!K71))","v":""},null,{"$f":"IF('Project EJ Ref List'!M71=0,\"\",'Project EJ Ref List'!M71)","v":""},null,{"$f":"IF(IF($L70=\"\",\"\",'Project EJ Ref List'!O71)=0,\"NA\",IF($L70=\"\",\"\",'Project EJ Ref List'!O71))","v":""},{"$f":"IF(IF($L70=\"\",\"\",'Project EJ Ref List'!P71)=0,\"NA\",IF($L70=\"\",\"\",'Project EJ Ref List'!P71))","v":""},{"$f":"IF(IF($L70=\"\",\"\",'Project EJ Ref List'!Q71)=0,\"NA\",IF($L70=\"\",\"\",'Project EJ Ref List'!Q71))","v":""},{"$f":"IF(IF($L70=\"\",\"\",'Project EJ Ref List'!R71)=0,\"NA\",IF($L70=\"\",\"\",'Project EJ Ref List'!R71))","v":""}]
[null,null,null,{"$f":"IF('Project EJ Ref List'!D72=0,\"\",'Project EJ Ref List'!D72)","v":""},{"$f":"_xlfn.IFNA(IF(D71=\"\",\"\",VLOOKUP(D71,Table2[],2,0)),\"\")","v":""},{"$f":"_xlfn.IFNA(IF(D71=\"\",\"\",VLOOKUP(D71,Table2[],3,0)),\"\")","v":""},{"$f":"_xlfn.IFNA(IF(D71=\"\",\"\",VLOOKUP(D70,Table2[],4,0)),\"\")","v":""},{"$f":"_xlfn.IFNA(IF(D71=\"\",\"\",VLOOKUP(D71,Table2[],5,0)),\"\")","v":""},{"$f":"_xlfn.IFNA(IF(D71=\"\",\"\",VLOOKUP(D71,Table2[],7,0)),\"\")","v":""},{"$f":"IF(Table1[[#This Row],[Contact Name ]]=\"\",\"\",IF('Project EJ Ref List'!K72=0,\"none\",'Project EJ Ref List'!K72))","v":""},null,{"$f":"IF('Project EJ Ref List'!M72=0,\"\",'Project EJ Ref List'!M72)","v":""},null,{"$f":"IF(IF($L71=\"\",\"\",'Project EJ Ref List'!O72)=0,\"NA\",IF($L71=\"\",\"\",'Project EJ Ref List'!O72))","v":""},{"$f":"IF(IF($L71=\"\",\"\",'Project EJ Ref List'!P72)=0,\"NA\",IF($L71=\"\",\"\",'Project EJ Ref List'!P72))","v":""},{"$f":"IF(IF($L71=\"\",\"\",'Project EJ Ref List'!Q72)=0,\"NA\",IF($L71=\"\",\"\",'Project EJ Ref List'!Q72))","v":""},{"$f":"IF(IF($L71=\"\",\"\",'Project EJ Ref List'!R72)=0,\"NA\",IF($L71=\"\",\"\",'Project EJ Ref List'!R72))","v":""}]
[null,null,null,{"$f":"IF('Project EJ Ref List'!D73=0,\"\",'Project EJ Ref List'!D73)","v":""},{"$f":"_xlfn.IFNA(IF(D72=\"\",\"\",VLOOKUP(D72,Table2[],2,0)),\"\")","v":""},{"$f":"_xlfn.IFNA(IF(D72=\"\",\"\",VLOOKUP(D72,Table2[],3,0)),\"\")","v":""},{"$f":"_xlfn.IFNA(IF(D72=\"\",\"\",VLOOKUP(D71,Table2[],4,0)),\"\")","v":""},{"$f":"_xlfn.IFNA(IF(D72=\"\",\"\",VLOOKUP(D72,Table2[],5,0)),\"\")","v":""},{"$f":"_xlfn.IFNA(IF(D72=\"\",\"\",VLOOKUP(D72,Table2[],7,0)),\"\")","v":""},{"$f":"IF(Table1[[#This Row],[Contact Name ]]=\"\",\"\",IF('Project EJ Ref List'!K73=0,\"none\",'Project EJ Ref List'!K73))","v":""},null,{"$f":"IF('Project EJ Ref List'!M73=0,\"\",'Project EJ Ref List'!M73)","v":""},null,{"$f":"IF(IF($L72=\"\",\"\",'Project EJ Ref List'!O73)=0,\"NA\",IF($L72=\"\",\"\",'Project EJ Ref List'!O73))","v":""},{"$f":"IF(IF($L72=\"\",\"\",'Project EJ Ref List'!P73)=0,\"NA\",IF($L72=\"\",\"\",'Project EJ Ref List'!P73))","v":""},{"$f":"IF(IF($L72=\"\",\"\",'Project EJ Ref List'!Q73)=0,\"NA\",IF($L72=\"\",\"\",'Project EJ Ref List'!Q73))","v":""},{"$f":"IF(IF($L72=\"\",\"\",'Project EJ Ref List'!R73)=0,\"NA\",IF($L72=\"\",\"\",'Project EJ Ref List'!R73))","v":""}]
[null,null,null,{"$f":"IF('Project EJ Ref List'!D74=0,\"\",'Project EJ Ref List'!D74)","v":""},{"$f":"_xlfn.IFNA(IF(D73=\"\",\"\",VLOOKUP(D73,Table2[],2,0)),\"\")","v":""},{"$f":"_xlfn.IFNA(IF(D73=\"\",\"\",VLOOKUP(D73,Table2[],3,0)),\"\")","v":""},{"$f":"_xlfn.IFNA(IF(D73=\"\",\"\",VLOOKUP(D72,Table2[],4,0)),\"\")","v":""},{"$f":"_xlfn.IFNA(IF(D73=\"\",\"\",VLOOKUP(D73,Table2[],5,0)),\"\")","v":""},{"$f":"_xlfn.IFNA(IF(D73=\"\",\"\",VLOOKUP(D73,Table2[],7,0)),\"\")","v":""},{"$f":"IF(Table1[[#This Row],[Contact Name ]]=\"\",\"\",IF('Project EJ Ref List'!K74=0,\"none\",'Project EJ Ref List'!K74))","v":""},null,{"$f":"IF('Project EJ Ref List'!M74=0,\"\",'Project EJ Ref List'!M74)","v":""},null,{"$f":"IF(IF($L73=\"\",\"\",'Project EJ Ref List'!O74)=0,\"NA\",IF($L73=\"\",\"\",'Project EJ Ref List'!O74))","v":""},{"$f":"IF(IF($L73=\"\",\"\",'Project EJ Ref List'!P74)=0,\"NA\",IF($L73=\"\",\"\",'Project EJ Ref List'!P74))","v":""},{"$f":"IF(IF($L73=\"\",\"\",'Project EJ Ref List'!Q74)=0,\"NA\",IF($L73=\"\",\"\",'Project EJ Ref List'!Q74))","v":""},{"$f":"IF(IF($L73=\"\",\"\",'Project EJ Ref List'!R74)=0,\"NA\",IF($L73=\"\",\"\",'Project EJ Ref List'!R74))","v":""}]
[null,null,null,{"$f":"IF('Project EJ Ref List'!D75=0,\"\",'Project EJ Ref List'!D75)","v":""},{"$f":"_xlfn.IFNA(IF(D74=\"\",\"\",VLOOKUP(D74,Table2[],2,0)),\"\")","v":""},{"$f":"_xlfn.IFNA(IF(D74=\"\",\"\",VLOOKUP(D74,Table2[],3,0)),\"\")","v":""},{"$f":"_xlfn.IFNA(IF(D74=\"\",\"\",VLOOKUP(D73,Table2[],4,0)),\"\")","v":""},{"$f":"_xlfn.IFNA(IF(D74=\"\",\"\",VLOOKUP(D74,Table2[],5,0)),\"\")","v":""},{"$f":"_xlfn.IFNA(IF(D74=\"\",\"\",VLOOKUP(D74,Table2[],7,0)),\"\")","v":""},{"$f":"IF(Table1[[#This Row],[Contact Name ]]=\"\",\"\",IF('Project EJ Ref List'!K75=0,\"none\",'Project EJ Ref List'!K75))","v":""},null,{"$f":"IF('Project EJ Ref List'!M75=0,\"\",'Project EJ Ref List'!M75)","v":""},null,{"$f":"IF(IF($L74=\"\",\"\",'Project EJ Ref List'!O75)=0,\"NA\",IF($L74=\"\",\"\",'Project EJ Ref List'!O75))","v":""},{"$f":"IF(IF($L74=\"\",\"\",'Project EJ Ref List'!P75)=0,\"NA\",IF($L74=\"\",\"\",'Project EJ Ref List'!P75))","v":""},{"$f":"IF(IF($L74=\"\",\"\",'Project EJ Ref List'!Q75)=0,\"NA\",IF($L74=\"\",\"\",'Project EJ Ref List'!Q75))","v":""},{"$f":"IF(IF($L74=\"\",\"\",'Project EJ Ref List'!R75)=0,\"NA\",IF($L74=\"\",\"\",'Project EJ Ref List'!R75))","v":""}]
[null,null,null,{"$f":"IF('Project EJ Ref List'!D76=0,\"\",'Project EJ Ref List'!D76)","v":""},{"$f":"_xlfn.IFNA(IF(D75=\"\",\"\",VLOOKUP(D75,Table2[],2,0)),\"\")","v":""},{"$f":"_xlfn.IFNA(IF(D75=\"\",\"\",VLOOKUP(D75,Table2[],3,0)),\"\")","v":""},{"$f":"_xlfn.IFNA(IF(D75=\"\",\"\",VLOOKUP(D74,Table2[],4,0)),\"\")","v":""},{"$f":"_xlfn.IFNA(IF(D75=\"\",\"\",VLOOKUP(D75,Table2[],5,0)),\"\")","v":""},{"$f":"_xlfn.IFNA(IF(D75=\"\",\"\",VLOOKUP(D75,Table2[],7,0)),\"\")","v":""},{"$f":"IF(Table1[[#This Row],[Contact Name ]]=\"\",\"\",IF('Project EJ Ref List'!K76=0,\"none\",'Project EJ Ref List'!K76))","v":""},null,{"$f":"IF('Project EJ Ref List'!M76=0,\"\",'Project EJ Ref List'!M76)","v":""},null,{"$f":"IF(IF($L75=\"\",\"\",'Project EJ Ref List'!O76)=0,\"NA\",IF($L75=\"\",\"\",'Project EJ Ref List'!O76))","v":""},{"$f":"IF(IF($L75=\"\",\"\",'Project EJ Ref List'!P76)=0,\"NA\",IF($L75=\"\",\"\",'Project EJ Ref List'!P76))","v":""},{"$f":"IF(IF($L75=\"\",\"\",'Project EJ Ref List'!Q76)=0,\"NA\",IF($L75=\"\",\"\",'Project EJ Ref List'!Q76))","v":""},{"$f":"IF(IF($L75=\"\",\"\",'Project EJ Ref List'!R76)=0,\"NA\",IF($L75=\"\",\"\",'Project EJ Ref List'!R76))","v":""}]
[null,null,null,{"$f":"IF('Project EJ Ref List'!D77=0,\"\",'Project EJ Ref List'!D77)","v":""},{"$f":"_xlfn.IFNA(IF(D76=\"\",\"\",VLOOKUP(D76,Table2[],2,0)),\"\")","v":""},{"$f":"_xlfn.IFNA(IF(D76=\"\",\"\",VLOOKUP(D76,Table2[],3,0)),\"\")","v":""},{"$f":"_xlfn.IFNA(IF(D76=\"\",\"\",VLOOKUP(D75,Table2[],4,0)),\"\")","v":""},{"$f":"_xlfn.IFNA(IF(D76=\"\",\"\",VLOOKUP(D76,Table2[],5,0)),\"\")","v":""},{"$f":"_xlfn.IFNA(IF(D76=\"\",\"\",VLOOKUP(D76,Table2[],7,0)),\"\")","v":""},{"$f":"IF(Table1[[#This Row],[Contact Name ]]=\"\",\"\",IF('Project EJ Ref List'!K77=0,\"none\",'Project EJ Ref List'!K77))","v":""},null,{"$f":"IF('Project EJ Ref List'!M77=0,\"\",'Project EJ Ref List'!M77)","v":""},null,{"$f":"IF(IF($L76=\"\",\"\",'Project EJ Ref List'!O77)=0,\"NA\",IF($L76=\"\",\"\",'Project EJ Ref List'!O77))","v":""},{"$f":"IF(IF($L76=\"\",\"\",'Project EJ Ref List'!P77)=0,\"NA\",IF($L76=\"\",\"\",'Project EJ Ref List'!P77))","v":""},{"$f":"IF(IF($L76=\"\",\"\",'Project EJ Ref List'!Q77)=0,\"NA\",IF($L76=\"\",\"\",'Project EJ Ref List'!Q77))","v":""},{"$f":"IF(IF($L76=\"\",\"\",'Project EJ Ref List'!R77)=0,\"NA\",IF($L76=\"\",\"\",'Project EJ Ref List'!R77))","v":""}]
[null,null,null,{"$f":"IF('Project EJ Ref List'!D78=0,\"\",'Project EJ Ref List'!D78)","v":""},{"$f":"_xlfn.IFNA(IF(D77=\"\",\"\",VLOOKUP(D77,Table2[],2,0)),\"\")","v":""},{"$f":"_xlfn.IFNA(IF(D77=\"\",\"\",VLOOKUP(D77,Table2[],3,0)),\"\")","v":""},{"$f":"_xlfn.IFNA(IF(D77=\"\",\"\",VLOOKUP(D76,Table2[],4,0)),\"\")","v":""},{"$f":"_xlfn.IFNA(IF(D77=\"\",\"\",VLOOKUP(D77,Table2[],5,0)),\"\")","v":""},{"$f":"_xlfn.IFNA(IF(D77=\"\",\"\",VLOOKUP(D77,Table2[],7,0)),\"\")","v":""},{"$f":"IF(Table1[[#This Row],[Contact Name ]]=\"\",\"\",IF('Project EJ Ref List'!K78=0,\"none\",'Project EJ Ref List'!K78))","v":""},null,{"$f":"IF('Project EJ Ref List'!M78=0,\"\",'Project EJ Ref List'!M78)","v":""},null,{"$f":"IF(IF($L77=\"\",\"\",'Project EJ Ref List'!O78)=0,\"NA\",IF($L77=\"\",\"\",'Project EJ Ref List'!O78))","v":""},{"$f":"IF(IF($L77=\"\",\"\",'Project EJ Ref List'!P78)=0,\"NA\",IF($L77=\"\",\"\",'Project EJ Ref List'!P78))","v":""},{"$f":"IF(IF($L77=\"\",\"\",'Project EJ Ref List'!Q78)=0,\"NA\",IF($L77=\"\",\"\",'Project EJ Ref List'!Q78))","v":""},{"$f":"IF(IF($L77=\"\",\"\",'Project EJ Ref List'!R78)=0,\"NA\",IF($L77=\"\",\"\",'Project EJ Ref List'!R78))","v":""}]
[null,null,null,{"$f":"IF('Project EJ Ref List'!D79=0,\"\",'Project EJ Ref List'!D79)","v":""},{"$f":"_xlfn.IFNA(IF(D78=\"\",\"\",VLOOKUP(D78,Table2[],2,0)),\"\")","v":""},{"$f":"_xlfn.IFNA(IF(D78=\"\",\"\",VLOOKUP(D78,Table2[],3,0)),\"\")","v":""},{"$f":"_xlfn.IFNA(IF(D78=\"\",\"\",VLOOKUP(D77,Table2[],4,0)),\"\")","v":""},{"$f":"_xlfn.IFNA(IF(D78=\"\",\"\",VLOOKUP(D78,Table2[],5,0)),\"\")","v":""},{"$f":"_xlfn.IFNA(IF(D78=\"\",\"\",VLOOKUP(D78,Table2[],7,0)),\"\")","v":""},{"$f":"IF(Table1[[#This Row],[Contact Name ]]=\"\",\"\",IF('Project EJ Ref List'!K79=0,\"none\",'Project EJ Ref List'!K79))","v":""},null,{"$f":"IF('Project EJ Ref List'!M79=0,\"\",'Project EJ Ref List'!M79)","v":""},null,{"$f":"IF(IF($L78=\"\",\"\",'Project EJ Ref List'!O79)=0,\"NA\",IF($L78=\"\",\"\",'Project EJ Ref List'!O79))","v":""},{"$f":"IF(IF($L78=\"\",\"\",'Project EJ Ref List'!P79)=0,\"NA\",IF($L78=\"\",\"\",'Project EJ Ref List'!P79))","v":""},{"$f":"IF(IF($L78=\"\",\"\",'Project EJ Ref List'!Q79)=0,\"NA\",IF($L78=\"\",\"\",'Project EJ Ref List'!Q79))","v":""},{"$f":"IF(IF($L78=\"\",\"\",'Project EJ Ref List'!R79)=0,\"NA\",IF($L78=\"\",\"\",'Project EJ Ref List'!R79))","v":""}]
[null,null,null,{"$f":"IF('Project EJ Ref List'!D80=0,\"\",'Project EJ Ref List'!D80)","v":""},{"$f":"_xlfn.IFNA(IF(D79=\"\",\"\",VLOOKUP(D79,Table2[],2,0)),\"\")","v":""},{"$f":"_xlfn.IFNA(IF(D79=\"\",\"\",VLOOKUP(D79,Table2[],3,0)),\"\")","v":""},{"$f":"_xlfn.IFNA(IF(D79=\"\",\"\",VLOOKUP(D78,Table2[],4,0)),\"\")","v":""},{"$f":"_xlfn.IFNA(IF(D79=\"\",\"\",VLOOKUP(D79,Table2[],5,0)),\"\")","v":""},{"$f":"_xlfn.IFNA(IF(D79=\"\",\"\",VLOOKUP(D79,Table2[],7,0)),\"\")","v":""},{"$f":"IF(Table1[[#This Row],[Contact Name ]]=\"\",\"\",IF('Project EJ Ref List'!K80=0,\"none\",'Project EJ Ref List'!K80))","v":""},null,{"$f":"IF('Project EJ Ref List'!M80=0,\"\",'Project EJ Ref List'!M80)","v":""},null,{"$f":"IF(IF($L79=\"\",\"\",'Project EJ Ref List'!O80)=0,\"NA\",IF($L79=\"\",\"\",'Project EJ Ref List'!O80))","v":""},{"$f":"IF(IF($L79=\"\",\"\",'Project EJ Ref List'!P80)=0,\"NA\",IF($L79=\"\",\"\",'Project EJ Ref List'!P80))","v":""},{"$f":"IF(IF($L79=\"\",\"\",'Project EJ Ref List'!Q80)=0,\"NA\",IF($L79=\"\",\"\",'Project EJ Ref List'!Q80))","v":""},{"$f":"IF(IF($L79=\"\",\"\",'Project EJ Ref List'!R80)=0,\"NA\",IF($L79=\"\",\"\",'Project EJ Ref List'!R80))","v":""}]
[null,null,null,{"$f":"IF('Project EJ Ref List'!D81=0,\"\",'Project EJ Ref List'!D81)","v":""},{"$f":"_xlfn.IFNA(IF(D80=\"\",\"\",VLOOKUP(D80,Table2[],2,0)),\"\")","v":""},{"$f":"_xlfn.IFNA(IF(D80=\"\",\"\",VLOOKUP(D80,Table2[],3,0)),\"\")","v":""},{"$f":"_xlfn.IFNA(IF(D80=\"\",\"\",VLOOKUP(D79,Table2[],4,0)),\"\")","v":""},{"$f":"_xlfn.IFNA(IF(D80=\"\",\"\",VLOOKUP(D80,Table2[],5,0)),\"\")","v":""},{"$f":"_xlfn.IFNA(IF(D80=\"\",\"\",VLOOKUP(D80,Table2[],7,0)),\"\")","v":""},{"$f":"IF(Table1[[#This Row],[Contact Name ]]=\"\",\"\",IF('Project EJ Ref List'!K81=0,\"none\",'Project EJ Ref List'!K81))","v":""},null,{"$f":"IF('Project EJ Ref List'!M81=0,\"\",'Project EJ Ref List'!M81)","v":""},null,{"$f":"IF(IF($L80=\"\",\"\",'Project EJ Ref List'!O81)=0,\"NA\",IF($L80=\"\",\"\",'Project EJ Ref List'!O81))","v":""},{"$f":"IF(IF($L80=\"\",\"\",'Project EJ Ref List'!P81)=0,\"NA\",IF($L80=\"\",\"\",'Project EJ Ref List'!P81))","v":""},{"$f":"IF(IF($L80=\"\",\"\",'Project EJ Ref List'!Q81)=0,\"NA\",IF($L80=\"\",\"\",'Project EJ Ref List'!Q81))","v":""},{"$f":"IF(IF($L80=\"\",\"\",'Project EJ Ref List'!R81)=0,\"NA\",IF($L80=\"\",\"\",'Project EJ Ref List'!R81))","v":""}]
[null,null,null,{"$f":"IF('Project EJ Ref List'!D82=0,\"\",'Project EJ Ref List'!D82)","v":""},{"$f":"_xlfn.IFNA(IF(D81=\"\",\"\",VLOOKUP(D81,Table2[],2,0)),\"\")","v":""},{"$f":"_xlfn.IFNA(IF(D81=\"\",\"\",VLOOKUP(D81,Table2[],3,0)),\"\")","v":""},{"$f":"_xlfn.IFNA(IF(D81=\"\",\"\",VLOOKUP(D80,Table2[],4,0)),\"\")","v":""},{"$f":"_xlfn.IFNA(IF(D81=\"\",\"\",VLOOKUP(D81,Table2[],5,0)),\"\")","v":""},{"$f":"_xlfn.IFNA(IF(D81=\"\",\"\",VLOOKUP(D81,Table2[],7,0)),\"\")","v":""},{"$f":"IF(Table1[[#This Row],[Contact Name ]]=\"\",\"\",IF('Project EJ Ref List'!K82=0,\"none\",'Project EJ Ref List'!K82))","v":""},null,{"$f":"IF('Project EJ Ref List'!M82=0,\"\",'Project EJ Ref List'!M82)","v":""},null,{"$f":"IF(IF($L81=\"\",\"\",'Project EJ Ref List'!O82)=0,\"NA\",IF($L81=\"\",\"\",'Project EJ Ref List'!O82))","v":""},{"$f":"IF(IF($L81=\"\",\"\",'Project EJ Ref List'!P82)=0,\"NA\",IF($L81=\"\",\"\",'Project EJ Ref List'!P82))","v":""},{"$f":"IF(IF($L81=\"\",\"\",'Project EJ Ref List'!Q82)=0,\"NA\",IF($L81=\"\",\"\",'Project EJ Ref List'!Q82))","v":""},{"$f":"IF(IF($L81=\"\",\"\",'Project EJ Ref List'!R82)=0,\"NA\",IF($L81=\"\",\"\",'Project EJ Ref List'!R82))","v":""}]
[null,null,null,{"$f":"IF('Project EJ Ref List'!D83=0,\"\",'Project EJ Ref List'!D83)","v":""},{"$f":"_xlfn.IFNA(IF(D82=\"\",\"\",VLOOKUP(D82,Table2[],2,0)),\"\")","v":""},{"$f":"_xlfn.IFNA(IF(D82=\"\",\"\",VLOOKUP(D82,Table2[],3,0)),\"\")","v":""},{"$f":"_xlfn.IFNA(IF(D82=\"\",\"\",VLOOKUP(D81,Table2[],4,0)),\"\")","v":""},{"$f":"_xlfn.IFNA(IF(D82=\"\",\"\",VLOOKUP(D82,Table2[],5,0)),\"\")","v":""},{"$f":"_xlfn.IFNA(IF(D82=\"\",\"\",VLOOKUP(D82,Table2[],7,0)),\"\")","v":""},{"$f":"IF(Table1[[#This Row],[Contact Name ]]=\"\",\"\",IF('Project EJ Ref List'!K83=0,\"none\",'Project EJ Ref List'!K83))","v":""},null,{"$f":"IF('Project EJ Ref List'!M83=0,\"\",'Project EJ Ref List'!M83)","v":""},null,{"$f":"IF(IF($L82=\"\",\"\",'Project EJ Ref List'!O83)=0,\"NA\",IF($L82=\"\",\"\",'Project EJ Ref List'!O83))","v":""},{"$f":"IF(IF($L82=\"\",\"\",'Project EJ Ref List'!P83)=0,\"NA\",IF($L82=\"\",\"\",'Project EJ Ref List'!P83))","v":""},{"$f":"IF(IF($L82=\"\",\"\",'Project EJ Ref List'!Q83)=0,\"NA\",IF($L82=\"\",\"\",'Project EJ Ref List'!Q83))","v":""},{"$f":"IF(IF($L82=\"\",\"\",'Project EJ Ref List'!R83)=0,\"NA\",IF($L82=\"\",\"\",'Project EJ Ref List'!R83))","v":""}]
[null,null,null,{"$f":"IF('Project EJ Ref List'!D84=0,\"\",'Project EJ Ref List'!D84)","v":""},{"$f":"_xlfn.IFNA(IF(D83=\"\",\"\",VLOOKUP(D83,Table2[],2,0)),\"\")","v":""},{"$f":"_xlfn.IFNA(IF(D83=\"\",\"\",VLOOKUP(D83,Table2[],3,0)),\"\")","v":""},{"$f":"_xlfn.IFNA(IF(D83=\"\",\"\",VLOOKUP(D82,Table2[],4,0)),\"\")","v":""},{"$f":"_xlfn.IFNA(IF(D83=\"\",\"\",VLOOKUP(D83,Table2[],5,0)),\"\")","v":""},{"$f":"_xlfn.IFNA(IF(D83=\"\",\"\",VLOOKUP(D83,Table2[],7,0)),\"\")","v":""},{"$f":"IF(Table1[[#This Row],[Contact Name ]]=\"\",\"\",IF('Project EJ Ref List'!K84=0,\"none\",'Project EJ Ref List'!K84))","v":""},null,{"$f":"IF('Project EJ Ref List'!M84=0,\"\",'Project EJ Ref List'!M84)","v":""},null,{"$f":"IF(IF($L83=\"\",\"\",'Project EJ Ref List'!O84)=0,\"NA\",IF($L83=\"\",\"\",'Project EJ Ref List'!O84))","v":""},{"$f":"IF(IF($L83=\"\",\"\",'Project EJ Ref List'!P84)=0,\"NA\",IF($L83=\"\",\"\",'Project EJ Ref List'!P84))","v":""},{"$f":"IF(IF($L83=\"\",\"\",'Project EJ Ref List'!Q84)=0,\"NA\",IF($L83=\"\",\"\",'Project EJ Ref List'!Q84))","v":""},{"$f":"IF(IF($L83=\"\",\"\",'Project EJ Ref List'!R84)=0,\"NA\",IF($L83=\"\",\"\",'Project EJ Ref List'!R84))","v":""}]
[null,null,null,{"$f":"IF('Project EJ Ref List'!D85=0,\"\",'Project EJ Ref List'!D85)","v":""},{"$f":"_xlfn.IFNA(IF(D84=\"\",\"\",VLOOKUP(D84,Table2[],2,0)),\"\")","v":""},{"$f":"_xlfn.IFNA(IF(D84=\"\",\"\",VLOOKUP(D84,Table2[],3,0)),\"\")","v":""},{"$f":"_xlfn.IFNA(IF(D84=\"\",\"\",VLOOKUP(D83,Table2[],4,0)),\"\")","v":""},{"$f":"_xlfn.IFNA(IF(D84=\"\",\"\",VLOOKUP(D84,Table2[],5,0)),\"\")","v":""},{"$f":"_xlfn.IFNA(IF(D84=\"\",\"\",VLOOKUP(D84,Table2[],7,0)),\"\")","v":""},{"$f":"IF(Table1[[#This Row],[Contact Name ]]=\"\",\"\",IF('Project EJ Ref List'!K85=0,\"none\",'Project EJ Ref List'!K85))","v":""},null,{"$f":"IF('Project EJ Ref List'!M85=0,\"\",'Project EJ Ref List'!M85)","v":""},null,{"$f":"IF(IF($L84=\"\",\"\",'Project EJ Ref List'!O85)=0,\"NA\",IF($L84=\"\",\"\",'Project EJ Ref List'!O85))","v":""},{"$f":"IF(IF($L84=\"\",\"\",'Project EJ Ref List'!P85)=0,\"NA\",IF($L84=\"\",\"\",'Project EJ Ref List'!P85))","v":""},{"$f":"IF(IF($L84=\"\",\"\",'Project EJ Ref List'!Q85)=0,\"NA\",IF($L84=\"\",\"\",'Project EJ Ref List'!Q85))","v":""},{"$f":"IF(IF($L84=\"\",\"\",'Project EJ Ref List'!R85)=0,\"NA\",IF($L84=\"\",\"\",'Project EJ Ref List'!R85))","v":""}]
[null,null,null,{"$f":"IF('Project EJ Ref List'!D86=0,\"\",'Project EJ Ref List'!D86)","v":""},{"$f":"_xlfn.IFNA(IF(D85=\"\",\"\",VLOOKUP(D85,Table2[],2,0)),\"\")","v":""},{"$f":"_xlfn.IFNA(IF(D85=\"\",\"\",VLOOKUP(D85,Table2[],3,0)),\"\")","v":""},{"$f":"_xlfn.IFNA(IF(D85=\"\",\"\",VLOOKUP(D84,Table2[],4,0)),\"\")","v":""},{"$f":"_xlfn.IFNA(IF(D85=\"\",\"\",VLOOKUP(D85,Table2[],5,0)),\"\")","v":""},{"$f":"_xlfn.IFNA(IF(D85=\"\",\"\",VLOOKUP(D85,Table2[],7,0)),\"\")","v":""},{"$f":"IF(Table1[[#This Row],[Contact Name ]]=\"\",\"\",IF('Project EJ Ref List'!K86=0,\"none\",'Project EJ Ref List'!K86))","v":""},null,{"$f":"IF('Project EJ Ref List'!M86=0,\"\",'Project EJ Ref List'!M86)","v":""},null,{"$f":"IF(IF($L85=\"\",\"\",'Project EJ Ref List'!O86)=0,\"NA\",IF($L85=\"\",\"\",'Project EJ Ref List'!O86))","v":""},{"$f":"IF(IF($L85=\"\",\"\",'Project EJ Ref List'!P86)=0,\"NA\",IF($L85=\"\",\"\",'Project EJ Ref List'!P86))","v":""},{"$f":"IF(IF($L85=\"\",\"\",'Project EJ Ref List'!Q86)=0,\"NA\",IF($L85=\"\",\"\",'Project EJ Ref List'!Q86))","v":""},{"$f":"IF(IF($L85=\"\",\"\",'Project EJ Ref List'!R86)=0,\"NA\",IF($L85=\"\",\"\",'Project EJ Ref List'!R86))","v":""}]
[null,null,null,{"$f":"IF('Project EJ Ref List'!D87=0,\"\",'Project EJ Ref List'!D87)","v":""},{"$f":"_xlfn.IFNA(IF(D86=\"\",\"\",VLOOKUP(D86,Table2[],2,0)),\"\")","v":""},{"$f":"_xlfn.IFNA(IF(D86=\"\",\"\",VLOOKUP(D86,Table2[],3,0)),\"\")","v":""},{"$f":"_xlfn.IFNA(IF(D86=\"\",\"\",VLOOKUP(D85,Table2[],4,0)),\"\")","v":""},{"$f":"_xlfn.IFNA(IF(D86=\"\",\"\",VLOOKUP(D86,Table2[],5,0)),\"\")","v":""},{"$f":"_xlfn.IFNA(IF(D86=\"\",\"\",VLOOKUP(D86,Table2[],7,0)),\"\")","v":""},{"$f":"IF(Table1[[#This Row],[Contact Name ]]=\"\",\"\",IF('Project EJ Ref List'!K87=0,\"none\",'Project EJ Ref List'!K87))","v":""},null,{"$f":"IF('Project EJ Ref List'!M87=0,\"\",'Project EJ Ref List'!M87)","v":""},null,{"$f":"IF(IF($L86=\"\",\"\",'Project EJ Ref List'!O87)=0,\"NA\",IF($L86=\"\",\"\",'Project EJ Ref List'!O87))","v":""},{"$f":"IF(IF($L86=\"\",\"\",'Project EJ Ref List'!P87)=0,\"NA\",IF($L86=\"\",\"\",'Project EJ Ref List'!P87))","v":""},{"$f":"IF(IF($L86=\"\",\"\",'Project EJ Ref List'!Q87)=0,\"NA\",IF($L86=\"\",\"\",'Project EJ Ref List'!Q87))","v":""},{"$f":"IF(IF($L86=\"\",\"\",'Project EJ Ref List'!R87)=0,\"NA\",IF($L86=\"\",\"\",'Project EJ Ref List'!R87))","v":""}]
[null,null,null,{"$f":"IF('Project EJ Ref List'!D88=0,\"\",'Project EJ Ref List'!D88)","v":""},{"$f":"_xlfn.IFNA(IF(D87=\"\",\"\",VLOOKUP(D87,Table2[],2,0)),\"\")","v":""},{"$f":"_xlfn.IFNA(IF(D87=\"\",\"\",VLOOKUP(D87,Table2[],3,0)),\"\")","v":""},{"$f":"_xlfn.IFNA(IF(D87=\"\",\"\",VLOOKUP(D86,Table2[],4,0)),\"\")","v":""},{"$f":"_xlfn.IFNA(IF(D87=\"\",\"\",VLOOKUP(D87,Table2[],5,0)),\"\")","v":""},{"$f":"_xlfn.IFNA(IF(D87=\"\",\"\",VLOOKUP(D87,Table2[],7,0)),\"\")","v":""},{"$f":"IF(Table1[[#This Row],[Contact Name ]]=\"\",\"\",IF('Project EJ Ref List'!K88=0,\"none\",'Project EJ Ref List'!K88))","v":""},null,{"$f":"IF('Project EJ Ref List'!M88=0,\"\",'Project EJ Ref List'!M88)","v":""},null,{"$f":"IF(IF($L87=\"\",\"\",'Project EJ Ref List'!O88)=0,\"NA\",IF($L87=\"\",\"\",'Project EJ Ref List'!O88))","v":""},{"$f":"IF(IF($L87=\"\",\"\",'Project EJ Ref List'!P88)=0,\"NA\",IF($L87=\"\",\"\",'Project EJ Ref List'!P88))","v":""},{"$f":"IF(IF($L87=\"\",\"\",'Project EJ Ref List'!Q88)=0,\"NA\",IF($L87=\"\",\"\",'Project EJ Ref List'!Q88))","v":""},{"$f":"IF(IF($L87=\"\",\"\",'Project EJ Ref List'!R88)=0,\"NA\",IF($L87=\"\",\"\",'Project EJ Ref List'!R88))","v":""}]
[null,null,null,{"$f":"IF('Project EJ Ref List'!D89=0,\"\",'Project EJ Ref List'!D89)","v":""},{"$f":"_xlfn.IFNA(IF(D88=\"\",\"\",VLOOKUP(D88,Table2[],2,0)),\"\")","v":""},{"$f":"_xlfn.IFNA(IF(D88=\"\",\"\",VLOOKUP(D88,Table2[],3,0)),\"\")","v":""},{"$f":"_xlfn.IFNA(IF(D88=\"\",\"\",VLOOKUP(D87,Table2[],4,0)),\"\")","v":""},{"$f":"_xlfn.IFNA(IF(D88=\"\",\"\",VLOOKUP(D88,Table2[],5,0)),\"\")","v":""},{"$f":"_xlfn.IFNA(IF(D88=\"\",\"\",VLOOKUP(D88,Table2[],7,0)),\"\")","v":""},{"$f":"IF(Table1[[#This Row],[Contact Name ]]=\"\",\"\",IF('Project EJ Ref List'!K89=0,\"none\",'Project EJ Ref List'!K89))","v":""},null,{"$f":"IF('Project EJ Ref List'!M89=0,\"\",'Project EJ Ref List'!M89)","v":""},null,{"$f":"IF(IF($L88=\"\",\"\",'Project EJ Ref List'!O89)=0,\"NA\",IF($L88=\"\",\"\",'Project EJ Ref List'!O89))","v":""},{"$f":"IF(IF($L88=\"\",\"\",'Project EJ Ref List'!P89)=0,\"NA\",IF($L88=\"\",\"\",'Project EJ Ref List'!P89))","v":""},{"$f":"IF(IF($L88=\"\",\"\",'Project EJ Ref List'!Q89)=0,\"NA\",IF($L88=\"\",\"\",'Project EJ Ref List'!Q89))","v":""},{"$f":"IF(IF($L88=\"\",\"\",'Project EJ Ref List'!R89)=0,\"NA\",IF($L88=\"\",\"\",'Project EJ Ref List'!R89))","v":""}]
[null,null,null,{"$f":"IF('Project EJ Ref List'!D90=0,\"\",'Project EJ Ref List'!D90)","v":""},{"$f":"_xlfn.IFNA(IF(D89=\"\",\"\",VLOOKUP(D89,Table2[],2,0)),\"\")","v":""},{"$f":"_xlfn.IFNA(IF(D89=\"\",\"\",VLOOKUP(D89,Table2[],3,0)),\"\")","v":""},{"$f":"_xlfn.IFNA(IF(D89=\"\",\"\",VLOOKUP(D88,Table2[],4,0)),\"\")","v":""},{"$f":"_xlfn.IFNA(IF(D89=\"\",\"\",VLOOKUP(D89,Table2[],5,0)),\"\")","v":""},{"$f":"_xlfn.IFNA(IF(D89=\"\",\"\",VLOOKUP(D89,Table2[],7,0)),\"\")","v":""},{"$f":"IF(Table1[[#This Row],[Contact Name ]]=\"\",\"\",IF('Project EJ Ref List'!K90=0,\"none\",'Project EJ Ref List'!K90))","v":""},null,{"$f":"IF('Project EJ Ref List'!M90=0,\"\",'Project EJ Ref List'!M90)","v":""},null,{"$f":"IF(IF($L89=\"\",\"\",'Project EJ Ref List'!O90)=0,\"NA\",IF($L89=\"\",\"\",'Project EJ Ref List'!O90))","v":""},{"$f":"IF(IF($L89=\"\",\"\",'Project EJ Ref List'!P90)=0,\"NA\",IF($L89=\"\",\"\",'Project EJ Ref List'!P90))","v":""},{"$f":"IF(IF($L89=\"\",\"\",'Project EJ Ref List'!Q90)=0,\"NA\",IF($L89=\"\",\"\",'Project EJ Ref List'!Q90))","v":""},{"$f":"IF(IF($L89=\"\",\"\",'Project EJ Ref List'!R90)=0,\"NA\",IF($L89=\"\",\"\",'Project EJ Ref List'!R90))","v":""}]
[null,null,null,{"$f":"IF('Project EJ Ref List'!D91=0,\"\",'Project EJ Ref List'!D91)","v":""},{"$f":"_xlfn.IFNA(IF(D90=\"\",\"\",VLOOKUP(D90,Table2[],2,0)),\"\")","v":""},{"$f":"_xlfn.IFNA(IF(D90=\"\",\"\",VLOOKUP(D90,Table2[],3,0)),\"\")","v":""},{"$f":"_xlfn.IFNA(IF(D90=\"\",\"\",VLOOKUP(D89,Table2[],4,0)),\"\")","v":""},{"$f":"_xlfn.IFNA(IF(D90=\"\",\"\",VLOOKUP(D90,Table2[],5,0)),\"\")","v":""},{"$f":"_xlfn.IFNA(IF(D90=\"\",\"\",VLOOKUP(D90,Table2[],7,0)),\"\")","v":""},{"$f":"IF(Table1[[#This Row],[Contact Name ]]=\"\",\"\",IF('Project EJ Ref List'!K91=0,\"none\",'Project EJ Ref List'!K91))","v":""},null,{"$f":"IF('Project EJ Ref List'!M91=0,\"\",'Project EJ Ref List'!M91)","v":""},null,{"$f":"IF(IF($L90=\"\",\"\",'Project EJ Ref List'!O91)=0,\"NA\",IF($L90=\"\",\"\",'Project EJ Ref List'!O91))","v":""},{"$f":"IF(IF($L90=\"\",\"\",'Project EJ Ref List'!P91)=0,\"NA\",IF($L90=\"\",\"\",'Project EJ Ref List'!P91))","v":""},{"$f":"IF(IF($L90=\"\",\"\",'Project EJ Ref List'!Q91)=0,\"NA\",IF($L90=\"\",\"\",'Project EJ Ref List'!Q91))","v":""},{"$f":"IF(IF($L90=\"\",\"\",'Project EJ Ref List'!R91)=0,\"NA\",IF($L90=\"\",\"\",'Project EJ Ref List'!R91))","v":""}]
[null,null,null,{"$f":"IF('Project EJ Ref List'!D92=0,\"\",'Project EJ Ref List'!D92)","v":""},{"$f":"_xlfn.IFNA(IF(D91=\"\",\"\",VLOOKUP(D91,Table2[],2,0)),\"\")","v":""},{"$f":"_xlfn.IFNA(IF(D91=\"\",\"\",VLOOKUP(D91,Table2[],3,0)),\"\")","v":""},{"$f":"_xlfn.IFNA(IF(D91=\"\",\"\",VLOOKUP(D90,Table2[],4,0)),\"\")","v":""},{"$f":"_xlfn.IFNA(IF(D91=\"\",\"\",VLOOKUP(D91,Table2[],5,0)),\"\")","v":""},{"$f":"_xlfn.IFNA(IF(D91=\"\",\"\",VLOOKUP(D91,Table2[],7,0)),\"\")","v":""},{"$f":"IF(Table1[[#This Row],[Contact Name ]]=\"\",\"\",IF('Project EJ Ref List'!K92=0,\"none\",'Project EJ Ref List'!K92))","v":""},null,{"$f":"IF('Project EJ Ref List'!M92=0,\"\",'Project EJ Ref List'!M92)","v":""},null,{"$f":"IF(IF($L91=\"\",\"\",'Project EJ Ref List'!O92)=0,\"NA\",IF($L91=\"\",\"\",'Project EJ Ref List'!O92))","v":""},{"$f":"IF(IF($L91=\"\",\"\",'Project EJ Ref List'!P92)=0,\"NA\",IF($L91=\"\",\"\",'Project EJ Ref List'!P92))","v":""},{"$f":"IF(IF($L91=\"\",\"\",'Project EJ Ref List'!Q92)=0,\"NA\",IF($L91=\"\",\"\",'Project EJ Ref List'!Q92))","v":""},{"$f":"IF(IF($L91=\"\",\"\",'Project EJ Ref List'!R92)=0,\"NA\",IF($L91=\"\",\"\",'Project EJ Ref List'!R92))","v":""}]
[null,null,null,{"$f":"IF('Project EJ Ref List'!D93=0,\"\",'Project EJ Ref List'!D93)","v":""},{"$f":"_xlfn.IFNA(IF(D92=\"\",\"\",VLOOKUP(D92,Table2[],2,0)),\"\")","v":""},{"$f":"_xlfn.IFNA(IF(D92=\"\",\"\",VLOOKUP(D92,Table2[],3,0)),\"\")","v":""},{"$f":"_xlfn.IFNA(IF(D92=\"\",\"\",VLOOKUP(D91,Table2[],4,0)),\"\")","v":""},{"$f":"_xlfn.IFNA(IF(D92=\"\",\"\",VLOOKUP(D92,Table2[],5,0)),\"\")","v":""},{"$f":"_xlfn.IFNA(IF(D92=\"\",\"\",VLOOKUP(D92,Table2[],7,0)),\"\")","v":""},{"$f":"IF(Table1[[#This Row],[Contact Name ]]=\"\",\"\",IF('Project EJ Ref List'!K93=0,\"none\",'Project EJ Ref List'!K93))","v":""},null,{"$f":"IF('Project EJ Ref List'!M93=0,\"\",'Project EJ Ref List'!M93)","v":""},null,{"$f":"IF(IF($L92=\"\",\"\",'Project EJ Ref List'!O93)=0,\"NA\",IF($L92=\"\",\"\",'Project EJ Ref List'!O93))","v":""},{"$f":"IF(IF($L92=\"\",\"\",'Project EJ Ref List'!P93)=0,\"NA\",IF($L92=\"\",\"\",'Project EJ Ref List'!P93))","v":""},{"$f":"IF(IF($L92=\"\",\"\",'Project EJ Ref List'!Q93)=0,\"NA\",IF($L92=\"\",\"\",'Project EJ Ref List'!Q93))","v":""},{"$f":"IF(IF($L92=\"\",\"\",'Project EJ Ref List'!R93)=0,\"NA\",IF($L92=\"\",\"\",'Project EJ Ref List'!R93))","v":""}]
[null,null,null,{"$f":"IF('Project EJ Ref List'!D94=0,\"\",'Project EJ Ref List'!D94)","v":""},{"$f":"_xlfn.IFNA(IF(D93=\"\",\"\",VLOOKUP(D93,Table2[],2,0)),\"\")","v":""},{"$f":"_xlfn.IFNA(IF(D93=\"\",\"\",VLOOKUP(D93,Table2[],3,0)),\"\")","v":""},{"$f":"_xlfn.IFNA(IF(D93=\"\",\"\",VLOOKUP(D92,Table2[],4,0)),\"\")","v":""},{"$f":"_xlfn.IFNA(IF(D93=\"\",\"\",VLOOKUP(D93,Table2[],5,0)),\"\")","v":""},{"$f":"_xlfn.IFNA(IF(D93=\"\",\"\",VLOOKUP(D93,Table2[],7,0)),\"\")","v":""},{"$f":"IF(Table1[[#This Row],[Contact Name ]]=\"\",\"\",IF('Project EJ Ref List'!K94=0,\"none\",'Project EJ Ref List'!K94))","v":""},null,{"$f":"IF('Project EJ Ref List'!M94=0,\"\",'Project EJ Ref List'!M94)","v":""},null,{"$f":"IF(IF($L93=\"\",\"\",'Project EJ Ref List'!O94)=0,\"NA\",IF($L93=\"\",\"\",'Project EJ Ref List'!O94))","v":""},{"$f":"IF(IF($L93=\"\",\"\",'Project EJ Ref List'!P94)=0,\"NA\",IF($L93=\"\",\"\",'Project EJ Ref List'!P94))","v":""},{"$f":"IF(IF($L93=\"\",\"\",'Project EJ Ref List'!Q94)=0,\"NA\",IF($L93=\"\",\"\",'Project EJ Ref List'!Q94))","v":""},{"$f":"IF(IF($L93=\"\",\"\",'Project EJ Ref List'!R94)=0,\"NA\",IF($L93=\"\",\"\",'Project EJ Ref List'!R94))","v":""}]
[null,null,null,{"$f":"IF('Project EJ Ref List'!D95=0,\"\",'Project EJ Ref List'!D95)","v":""},{"$f":"_xlfn.IFNA(IF(D94=\"\",\"\",VLOOKUP(D94,Table2[],2,0)),\"\")","v":""},{"$f":"_xlfn.IFNA(IF(D94=\"\",\"\",VLOOKUP(D94,Table2[],3,0)),\"\")","v":""},{"$f":"_xlfn.IFNA(IF(D94=\"\",\"\",VLOOKUP(D93,Table2[],4,0)),\"\")","v":""},{"$f":"_xlfn.IFNA(IF(D94=\"\",\"\",VLOOKUP(D94,Table2[],5,0)),\"\")","v":""},{"$f":"_xlfn.IFNA(IF(D94=\"\",\"\",VLOOKUP(D94,Table2[],7,0)),\"\")","v":""},{"$f":"IF(Table1[[#This Row],[Contact Name ]]=\"\",\"\",IF('Project EJ Ref List'!K95=0,\"none\",'Project EJ Ref List'!K95))","v":""},null,{"$f":"IF('Project EJ Ref List'!M95=0,\"\",'Project EJ Ref List'!M95)","v":""},null,{"$f":"IF(IF($L94=\"\",\"\",'Project EJ Ref List'!O95)=0,\"NA\",IF($L94=\"\",\"\",'Project EJ Ref List'!O95))","v":""},{"$f":"IF(IF($L94=\"\",\"\",'Project EJ Ref List'!P95)=0,\"NA\",IF($L94=\"\",\"\",'Project EJ Ref List'!P95))","v":""},{"$f":"IF(IF($L94=\"\",\"\",'Project EJ Ref List'!Q95)=0,\"NA\",IF($L94=\"\",\"\",'Project EJ Ref List'!Q95))","v":""},{"$f":"IF(IF($L94=\"\",\"\",'Project EJ Ref List'!R95)=0,\"NA\",IF($L94=\"\",\"\",'Project EJ Ref List'!R95))","v":""}]
[null,null,null,{"$f":"IF('Project EJ Ref List'!D96=0,\"\",'Project EJ Ref List'!D96)","v":""},{"$f":"_xlfn.IFNA(IF(D95=\"\",\"\",VLOOKUP(D95,Table2[],2,0)),\"\")","v":""},{"$f":"_xlfn.IFNA(IF(D95=\"\",\"\",VLOOKUP(D95,Table2[],3,0)),\"\")","v":""},{"$f":"_xlfn.IFNA(IF(D95=\"\",\"\",VLOOKUP(D94,Table2[],4,0)),\"\")","v":""},{"$f":"_xlfn.IFNA(IF(D95=\"\",\"\",VLOOKUP(D95,Table2[],5,0)),\"\")","v":""},{"$f":"_xlfn.IFNA(IF(D95=\"\",\"\",VLOOKUP(D95,Table2[],7,0)),\"\")","v":""},{"$f":"IF(Table1[[#This Row],[Contact Name ]]=\"\",\"\",IF('Project EJ Ref List'!K96=0,\"none\",'Project EJ Ref List'!K96))","v":""},null,{"$f":"IF('Project EJ Ref List'!M96=0,\"\",'Project EJ Ref List'!M96)","v":""},null,{"$f":"IF(IF($L95=\"\",\"\",'Project EJ Ref List'!O96)=0,\"NA\",IF($L95=\"\",\"\",'Project EJ Ref List'!O96))","v":""},{"$f":"IF(IF($L95=\"\",\"\",'Project EJ Ref List'!P96)=0,\"NA\",IF($L95=\"\",\"\",'Project EJ Ref List'!P96))","v":""},{"$f":"IF(IF($L95=\"\",\"\",'Project EJ Ref List'!Q96)=0,\"NA\",IF($L95=\"\",\"\",'Project EJ Ref List'!Q96))","v":""},{"$f":"IF(IF($L95=\"\",\"\",'Project EJ Ref List'!R96)=0,\"NA\",IF($L95=\"\",\"\",'Project EJ Ref List'!R96))","v":""}]
[null,null,null,{"$f":"IF('Project EJ Ref List'!D97=0,\"\",'Project EJ Ref List'!D97)","v":""},{"$f":"_xlfn.IFNA(IF(D96=\"\",\"\",VLOOKUP(D96,Table2[],2,0)),\"\")","v":""},{"$f":"_xlfn.IFNA(IF(D96=\"\",\"\",VLOOKUP(D96,Table2[],3,0)),\"\")","v":""},{"$f":"_xlfn.IFNA(IF(D96=\"\",\"\",VLOOKUP(D95,Table2[],4,0)),\"\")","v":""},{"$f":"_xlfn.IFNA(IF(D96=\"\",\"\",VLOOKUP(D96,Table2[],5,0)),\"\")","v":""},{"$f":"_xlfn.IFNA(IF(D96=\"\",\"\",VLOOKUP(D96,Table2[],7,0)),\"\")","v":""},{"$f":"IF(Table1[[#This Row],[Contact Name ]]=\"\",\"\",IF('Project EJ Ref List'!K97=0,\"none\",'Project EJ Ref List'!K97))","v":""},null,{"$f":"IF('Project EJ Ref List'!M97=0,\"\",'Project EJ Ref List'!M97)","v":""},null,{"$f":"IF(IF($L96=\"\",\"\",'Project EJ Ref List'!O97)=0,\"NA\",IF($L96=\"\",\"\",'Project EJ Ref List'!O97))","v":""},{"$f":"IF(IF($L96=\"\",\"\",'Project EJ Ref List'!P97)=0,\"NA\",IF($L96=\"\",\"\",'Project EJ Ref List'!P97))","v":""},{"$f":"IF(IF($L96=\"\",\"\",'Project EJ Ref List'!Q97)=0,\"NA\",IF($L96=\"\",\"\",'Project EJ Ref List'!Q97))","v":""},{"$f":"IF(IF($L96=\"\",\"\",'Project EJ Ref List'!R97)=0,\"NA\",IF($L96=\"\",\"\",'Project EJ Ref List'!R97))","v":""}]
[null,null,null,{"$f":"IF('Project EJ Ref List'!D98=0,\"\",'Project EJ Ref List'!D98)","v":""},{"$f":"_xlfn.IFNA(IF(D97=\"\",\"\",VLOOKUP(D97,Table2[],2,0)),\"\")","v":""},{"$f":"_xlfn.IFNA(IF(D97=\"\",\"\",VLOOKUP(D97,Table2[],3,0)),\"\")","v":""},{"$f":"_xlfn.IFNA(IF(D97=\"\",\"\",VLOOKUP(D96,Table2[],4,0)),\"\")","v":""},{"$f":"_xlfn.IFNA(IF(D97=\"\",\"\",VLOOKUP(D97,Table2[],5,0)),\"\")","v":""},{"$f":"_xlfn.IFNA(IF(D97=\"\",\"\",VLOOKUP(D97,Table2[],7,0)),\"\")","v":""},{"$f":"IF(Table1[[#This Row],[Contact Name ]]=\"\",\"\",IF('Project EJ Ref List'!K98=0,\"none\",'Project EJ Ref List'!K98))","v":""},null,{"$f":"IF('Project EJ Ref List'!M98=0,\"\",'Project EJ Ref List'!M98)","v":""},null,{"$f":"IF(IF($L97=\"\",\"\",'Project EJ Ref List'!O98)=0,\"NA\",IF($L97=\"\",\"\",'Project EJ Ref List'!O98))","v":""},{"$f":"IF(IF($L97=\"\",\"\",'Project EJ Ref List'!P98)=0,\"NA\",IF($L97=\"\",\"\",'Project EJ Ref List'!P98))","v":""},{"$f":"IF(IF($L97=\"\",\"\",'Project EJ Ref List'!Q98)=0,\"NA\",IF($L97=\"\",\"\",'Project EJ Ref List'!Q98))","v":""},{"$f":"IF(IF($L97=\"\",\"\",'Project EJ Ref List'!R98)=0,\"NA\",IF($L97=\"\",\"\",'Project EJ Ref List'!R98))","v":""}]
[null,null,null,{"$f":"IF('Project EJ Ref List'!D99=0,\"\",'Project EJ Ref List'!D99)","v":""},{"$f":"_xlfn.IFNA(IF(D98=\"\",\"\",VLOOKUP(D98,Table2[],2,0)),\"\")","v":""},{"$f":"_xlfn.IFNA(IF(D98=\"\",\"\",VLOOKUP(D98,Table2[],3,0)),\"\")","v":""},{"$f":"_xlfn.IFNA(IF(D98=\"\",\"\",VLOOKUP(D97,Table2[],4,0)),\"\")","v":""},{"$f":"_xlfn.IFNA(IF(D98=\"\",\"\",VLOOKUP(D98,Table2[],5,0)),\"\")","v":""},{"$f":"_xlfn.IFNA(IF(D98=\"\",\"\",VLOOKUP(D98,Table2[],7,0)),\"\")","v":""},{"$f":"IF(Table1[[#This Row],[Contact Name ]]=\"\",\"\",IF('Project EJ Ref List'!K99=0,\"none\",'Project EJ Ref List'!K99))","v":""},null,{"$f":"IF('Project EJ Ref List'!M99=0,\"\",'Project EJ Ref List'!M99)","v":""},null,{"$f":"IF(IF($L98=\"\",\"\",'Project EJ Ref List'!O99)=0,\"NA\",IF($L98=\"\",\"\",'Project EJ Ref List'!O99))","v":""},{"$f":"IF(IF($L98=\"\",\"\",'Project EJ Ref List'!P99)=0,\"NA\",IF($L98=\"\",\"\",'Project EJ Ref List'!P99))","v":""},{"$f":"IF(IF($L98=\"\",\"\",'Project EJ Ref List'!Q99)=0,\"NA\",IF($L98=\"\",\"\",'Project EJ Ref List'!Q99))","v":""},{"$f":"IF(IF($L98=\"\",\"\",'Project EJ Ref List'!R99)=0,\"NA\",IF($L98=\"\",\"\",'Project EJ Ref List'!R99))","v":""}]
[null,null,null,{"$f":"IF('Project EJ Ref List'!D100=0,\"\",'Project EJ Ref List'!D100)","v":""},{"$f":"_xlfn.IFNA(IF(D99=\"\",\"\",VLOOKUP(D99,Table2[],2,0)),\"\")","v":""},{"$f":"_xlfn.IFNA(IF(D99=\"\",\"\",VLOOKUP(D99,Table2[],3,0)),\"\")","v":""},{"$f":"_xlfn.IFNA(IF(D99=\"\",\"\",VLOOKUP(D98,Table2[],4,0)),\"\")","v":""},{"$f":"_xlfn.IFNA(IF(D99=\"\",\"\",VLOOKUP(D99,Table2[],5,0)),\"\")","v":""},{"$f":"_xlfn.IFNA(IF(D99=\"\",\"\",VLOOKUP(D99,Table2[],7,0)),\"\")","v":""},{"$f":"IF(Table1[[#This Row],[Contact Name ]]=\"\",\"\",IF('Project EJ Ref List'!K100=0,\"none\",'Project EJ Ref List'!K100))","v":""},null,{"$f":"IF('Project EJ Ref List'!M100=0,\"\",'Project EJ Ref List'!M100)","v":""},null,{"$f":"IF(IF($L99=\"\",\"\",'Project EJ Ref List'!O100)=0,\"NA\",IF($L99=\"\",\"\",'Project EJ Ref List'!O100))","v":""},{"$f":"IF(IF($L99=\"\",\"\",'Project EJ Ref List'!P100)=0,\"NA\",IF($L99=\"\",\"\",'Project EJ Ref List'!P100))","v":""},{"$f":"IF(IF($L99=\"\",\"\",'Project EJ Ref List'!Q100)=0,\"NA\",IF($L99=\"\",\"\",'Project EJ Ref List'!Q100))","v":""},{"$f":"IF(IF($L99=\"\",\"\",'Project EJ Ref List'!R100)=0,\"NA\",IF($L99=\"\",\"\",'Project EJ Ref List'!R100))","v":""}]
[null,null,null,{"$f":"IF('Project EJ Ref List'!D101=0,\"\",'Project EJ Ref List'!D101)","v":""},{"$f":"_xlfn.IFNA(IF(D100=\"\",\"\",VLOOKUP(D100,Table2[],2,0)),\"\")","v":""},{"$f":"_xlfn.IFNA(IF(D100=\"\",\"\",VLOOKUP(D100,Table2[],3,0)),\"\")","v":""},{"$f":"_xlfn.IFNA(IF(D100=\"\",\"\",VLOOKUP(D99,Table2[],4,0)),\"\")","v":""},{"$f":"_xlfn.IFNA(IF(D100=\"\",\"\",VLOOKUP(D100,Table2[],5,0)),\"\")","v":""},{"$f":"_xlfn.IFNA(IF(D100=\"\",\"\",VLOOKUP(D100,Table2[],7,0)),\"\")","v":""},{"$f":"IF(Table1[[#This Row],[Contact Name ]]=\"\",\"\",IF('Project EJ Ref List'!K101=0,\"none\",'Project EJ Ref List'!K101))","v":""},null,{"$f":"IF('Project EJ Ref List'!M101=0,\"\",'Project EJ Ref List'!M101)","v":""},null,{"$f":"IF(IF($L100=\"\",\"\",'Project EJ Ref List'!O101)=0,\"NA\",IF($L100=\"\",\"\",'Project EJ Ref List'!O101))","v":""},{"$f":"IF(IF($L100=\"\",\"\",'Project EJ Ref List'!P101)=0,\"NA\",IF($L100=\"\",\"\",'Project EJ Ref List'!P101))","v":""},{"$f":"IF(IF($L100=\"\",\"\",'Project EJ Ref List'!Q101)=0,\"NA\",IF($L100=\"\",\"\",'Project EJ Ref List'!Q101))","v":""},{"$f":"IF(IF($L100=\"\",\"\",'Project EJ Ref List'!R101)=0,\"NA\",IF($L100=\"\",\"\",'Project EJ Ref List'!R101))","v":""}]
[null,null,null,{"$f":"IF('Project EJ Ref List'!D102=0,\"\",'Project EJ Ref List'!D102)","v":""},{"$f":"_xlfn.IFNA(IF(D101=\"\",\"\",VLOOKUP(D101,Table2[],2,0)),\"\")","v":""},{"$f":"_xlfn.IFNA(IF(D101=\"\",\"\",VLOOKUP(D101,Table2[],3,0)),\"\")","v":""},{"$f":"_xlfn.IFNA(IF(D101=\"\",\"\",VLOOKUP(D100,Table2[],4,0)),\"\")","v":""},{"$f":"_xlfn.IFNA(IF(D101=\"\",\"\",VLOOKUP(D101,Table2[],5,0)),\"\")","v":""},{"$f":"_xlfn.IFNA(IF(D101=\"\",\"\",VLOOKUP(D101,Table2[],7,0)),\"\")","v":""},{"$f":"IF(Table1[[#This Row],[Contact Name ]]=\"\",\"\",IF('Project EJ Ref List'!K102=0,\"none\",'Project EJ Ref List'!K102))","v":""},null,{"$f":"IF('Project EJ Ref List'!M102=0,\"\",'Project EJ Ref List'!M102)","v":""},null,{"$f":"IF(IF($L101=\"\",\"\",'Project EJ Ref List'!O102)=0,\"NA\",IF($L101=\"\",\"\",'Project EJ Ref List'!O102))","v":""},{"$f":"IF(IF($L101=\"\",\"\",'Project EJ Ref List'!P102)=0,\"NA\",IF($L101=\"\",\"\",'Project EJ Ref List'!P102))","v":""},{"$f":"IF(IF($L101=\"\",\"\",'Project EJ Ref List'!Q102)=0,\"NA\",IF($L101=\"\",\"\",'Project EJ Ref List'!Q102))","v":""},{"$f":"IF(IF($L101=\"\",\"\",'Project EJ Ref List'!R102)=0,\"NA\",IF($L101=\"\",\"\",'Project EJ Ref List'!R102))","v":""}]
[null,null,null,{"$f":"IF('Project EJ Ref List'!D103=0,\"\",'Project EJ Ref List'!D103)","v":""},{"$f":"_xlfn.IFNA(IF(D102=\"\",\"\",VLOOKUP(D102,Table2[],2,0)),\"\")","v":""},{"$f":"_xlfn.IFNA(IF(D102=\"\",\"\",VLOOKUP(D102,Table2[],3,0)),\"\")","v":""},{"$f":"_xlfn.IFNA(IF(D102=\"\",\"\",VLOOKUP(D101,Table2[],4,0)),\"\")","v":""},{"$f":"_xlfn.IFNA(IF(D102=\"\",\"\",VLOOKUP(D102,Table2[],5,0)),\"\")","v":""},{"$f":"_xlfn.IFNA(IF(D102=\"\",\"\",VLOOKUP(D102,Table2[],7,0)),\"\")","v":""},{"$f":"IF(Table1[[#This Row],[Contact Name ]]=\"\",\"\",IF('Project EJ Ref List'!K103=0,\"none\",'Project EJ Ref List'!K103))","v":""},null,{"$f":"IF('Project EJ Ref List'!M103=0,\"\",'Project EJ Ref List'!M103)","v":""},null,{"$f":"IF(IF($L102=\"\",\"\",'Project EJ Ref List'!O103)=0,\"NA\",IF($L102=\"\",\"\",'Project EJ Ref List'!O103))","v":""},{"$f":"IF(IF($L102=\"\",\"\",'Project EJ Ref List'!P103)=0,\"NA\",IF($L102=\"\",\"\",'Project EJ Ref List'!P103))","v":""},{"$f":"IF(IF($L102=\"\",\"\",'Project EJ Ref List'!Q103)=0,\"NA\",IF($L102=\"\",\"\",'Project EJ Ref List'!Q103))","v":""},{"$f":"IF(IF($L102=\"\",\"\",'Project EJ Ref List'!R103)=0,\"NA\",IF($L102=\"\",\"\",'Project EJ Ref List'!R103))","v":""}]
[null,null,null,{"$f":"IF('Project EJ Ref List'!D104=0,\"\",'Project EJ Ref List'!D104)","v":""},{"$f":"_xlfn.IFNA(IF(D103=\"\",\"\",VLOOKUP(D103,Table2[],2,0)),\"\")","v":""},{"$f":"_xlfn.IFNA(IF(D103=\"\",\"\",VLOOKUP(D103,Table2[],3,0)),\"\")","v":""},{"$f":"_xlfn.IFNA(IF(D103=\"\",\"\",VLOOKUP(D102,Table2[],4,0)),\"\")","v":""},{"$f":"_xlfn.IFNA(IF(D103=\"\",\"\",VLOOKUP(D103,Table2[],5,0)),\"\")","v":""},{"$f":"_xlfn.IFNA(IF(D103=\"\",\"\",VLOOKUP(D103,Table2[],7,0)),\"\")","v":""},{"$f":"IF(Table1[[#This Row],[Contact Name ]]=\"\",\"\",IF('Project EJ Ref List'!K104=0,\"none\",'Project EJ Ref List'!K104))","v":""},null,{"$f":"IF('Project EJ Ref List'!M104=0,\"\",'Project EJ Ref List'!M104)","v":""},null,{"$f":"IF(IF($L103=\"\",\"\",'Project EJ Ref List'!O104)=0,\"NA\",IF($L103=\"\",\"\",'Project EJ Ref List'!O104))","v":""},{"$f":"IF(IF($L103=\"\",\"\",'Project EJ Ref List'!P104)=0,\"NA\",IF($L103=\"\",\"\",'Project EJ Ref List'!P104))","v":""},{"$f":"IF(IF($L103=\"\",\"\",'Project EJ Ref List'!Q104)=0,\"NA\",IF($L103=\"\",\"\",'Project EJ Ref List'!Q104))","v":""},{"$f":"IF(IF($L103=\"\",\"\",'Project EJ Ref List'!R104)=0,\"NA\",IF($L103=\"\",\"\",'Project EJ Ref List'!R104))","v":""}]
[null,null,null,{"$f":"IF('Project EJ Ref List'!D105=0,\"\",'Project EJ Ref List'!D105)","v":""},{"$f":"_xlfn.IFNA(IF(D104=\"\",\"\",VLOOKUP(D104,Table2[],2,0)),\"\")","v":""},{"$f":"_xlfn.IFNA(IF(D104=\"\",\"\",VLOOKUP(D104,Table2[],3,0)),\"\")","v":""},{"$f":"_xlfn.IFNA(IF(D104=\"\",\"\",VLOOKUP(D103,Table2[],4,0)),\"\")","v":""},{"$f":"_xlfn.IFNA(IF(D104=\"\",\"\",VLOOKUP(D104,Table2[],5,0)),\"\")","v":""},{"$f":"_xlfn.IFNA(IF(D104=\"\",\"\",VLOOKUP(D104,Table2[],7,0)),\"\")","v":""},{"$f":"IF(Table1[[#This Row],[Contact Name ]]=\"\",\"\",IF('Project EJ Ref List'!K105=0,\"none\",'Project EJ Ref List'!K105))","v":""},null,{"$f":"IF('Project EJ Ref List'!M105=0,\"\",'Project EJ Ref List'!M105)","v":""},null,{"$f":"IF(IF($L104=\"\",\"\",'Project EJ Ref List'!O105)=0,\"NA\",IF($L104=\"\",\"\",'Project EJ Ref List'!O105))","v":""},{"$f":"IF(IF($L104=\"\",\"\",'Project EJ Ref List'!P105)=0,\"NA\",IF($L104=\"\",\"\",'Project EJ Ref List'!P105))","v":""},{"$f":"IF(IF($L104=\"\",\"\",'Project EJ Ref List'!Q105)=0,\"NA\",IF($L104=\"\",\"\",'Project EJ Ref List'!Q105))","v":""},{"$f":"IF(IF($L104=\"\",\"\",'Project EJ Ref List'!R105)=0,\"NA\",IF($L104=\"\",\"\",'Project EJ Ref List'!R105))","v":""}]
[null,null,null,{"$f":"IF('Project EJ Ref List'!D106=0,\"\",'Project EJ Ref List'!D106)","v":""},{"$f":"_xlfn.IFNA(IF(D105=\"\",\"\",VLOOKUP(D105,Table2[],2,0)),\"\")","v":""},{"$f":"_xlfn.IFNA(IF(D105=\"\",\"\",VLOOKUP(D105,Table2[],3,0)),\"\")","v":""},{"$f":"_xlfn.IFNA(IF(D105=\"\",\"\",VLOOKUP(D104,Table2[],4,0)),\"\")","v":""},{"$f":"_xlfn.IFNA(IF(D105=\"\",\"\",VLOOKUP(D105,Table2[],5,0)),\"\")","v":""},{"$f":"_xlfn.IFNA(IF(D105=\"\",\"\",VLOOKUP(D105,Table2[],7,0)),\"\")","v":""},{"$f":"IF(Table1[[#This Row],[Contact Name ]]=\"\",\"\",IF('Project EJ Ref List'!K106=0,\"none\",'Project EJ Ref List'!K106))","v":""},null,{"$f":"IF('Project EJ Ref List'!M106=0,\"\",'Project EJ Ref List'!M106)","v":""},null,{"$f":"IF(IF($L105=\"\",\"\",'Project EJ Ref List'!O106)=0,\"NA\",IF($L105=\"\",\"\",'Project EJ Ref List'!O106))","v":""},{"$f":"IF(IF($L105=\"\",\"\",'Project EJ Ref List'!P106)=0,\"NA\",IF($L105=\"\",\"\",'Project EJ Ref List'!P106))","v":""},{"$f":"IF(IF($L105=\"\",\"\",'Project EJ Ref List'!Q106)=0,\"NA\",IF($L105=\"\",\"\",'Project EJ Ref List'!Q106))","v":""},{"$f":"IF(IF($L105=\"\",\"\",'Project EJ Ref List'!R106)=0,\"NA\",IF($L105=\"\",\"\",'Project EJ Ref List'!R106))","v":""}]
[null,null,null,{"$f":"IF('Project EJ Ref List'!D107=0,\"\",'Project EJ Ref List'!D107)","v":""},{"$f":"_xlfn.IFNA(IF(D106=\"\",\"\",VLOOKUP(D106,Table2[],2,0)),\"\")","v":""},{"$f":"_xlfn.IFNA(IF(D106=\"\",\"\",VLOOKUP(D106,Table2[],3,0)),\"\")","v":""},{"$f":"_xlfn.IFNA(IF(D106=\"\",\"\",VLOOKUP(D105,Table2[],4,0)),\"\")","v":""},{"$f":"_xlfn.IFNA(IF(D106=\"\",\"\",VLOOKUP(D106,Table2[],5,0)),\"\")","v":""},{"$f":"_xlfn.IFNA(IF(D106=\"\",\"\",VLOOKUP(D106,Table2[],7,0)),\"\")","v":""},{"$f":"IF(Table1[[#This Row],[Contact Name ]]=\"\",\"\",IF('Project EJ Ref List'!K107=0,\"none\",'Project EJ Ref List'!K107))","v":""},null,{"$f":"IF('Project EJ Ref List'!M107=0,\"\",'Project EJ Ref List'!M107)","v":""},null,{"$f":"IF(IF($L106=\"\",\"\",'Project EJ Ref List'!O107)=0,\"NA\",IF($L106=\"\",\"\",'Project EJ Ref List'!O107))","v":""},{"$f":"IF(IF($L106=\"\",\"\",'Project EJ Ref List'!P107)=0,\"NA\",IF($L106=\"\",\"\",'Project EJ Ref List'!P107))","v":""},{"$f":"IF(IF($L106=\"\",\"\",'Project EJ Ref List'!Q107)=0,\"NA\",IF($L106=\"\",\"\",'Project EJ Ref List'!Q107))","v":""},{"$f":"IF(IF($L106=\"\",\"\",'Project EJ Ref List'!R107)=0,\"NA\",IF($L106=\"\",\"\",'Project EJ Ref List'!R107))","v":""}]
[null,null,null,{"$f":"IF('Project EJ Ref List'!D108=0,\"\",'Project EJ Ref List'!D108)","v":""},{"$f":"_xlfn.IFNA(IF(D107=\"\",\"\",VLOOKUP(D107,Table2[],2,0)),\"\")","v":""},{"$f":"_xlfn.IFNA(IF(D107=\"\",\"\",VLOOKUP(D107,Table2[],3,0)),\"\")","v":""},{"$f":"_xlfn.IFNA(IF(D107=\"\",\"\",VLOOKUP(D106,Table2[],4,0)),\"\")","v":""},{"$f":"_xlfn.IFNA(IF(D107=\"\",\"\",VLOOKUP(D107,Table2[],5,0)),\"\")","v":""},{"$f":"_xlfn.IFNA(IF(D107=\"\",\"\",VLOOKUP(D107,Table2[],7,0)),\"\")","v":""},{"$f":"IF(Table1[[#This Row],[Contact Name ]]=\"\",\"\",IF('Project EJ Ref List'!K108=0,\"none\",'Project EJ Ref List'!K108))","v":""},null,{"$f":"IF('Project EJ Ref List'!M108=0,\"\",'Project EJ Ref List'!M108)","v":""},null,{"$f":"IF(IF($L107=\"\",\"\",'Project EJ Ref List'!O108)=0,\"NA\",IF($L107=\"\",\"\",'Project EJ Ref List'!O108))","v":""},{"$f":"IF(IF($L107=\"\",\"\",'Project EJ Ref List'!P108)=0,\"NA\",IF($L107=\"\",\"\",'Project EJ Ref List'!P108))","v":""},{"$f":"IF(IF($L107=\"\",\"\",'Project EJ Ref List'!Q108)=0,\"NA\",IF($L107=\"\",\"\",'Project EJ Ref List'!Q108))","v":""},{"$f":"IF(IF($L107=\"\",\"\",'Project EJ Ref List'!R108)=0,\"NA\",IF($L107=\"\",\"\",'Project EJ Ref List'!R108))","v":""}]
[null,null,null,{"$f":"IF('Project EJ Ref List'!D109=0,\"\",'Project EJ Ref List'!D109)","v":""},{"$f":"_xlfn.IFNA(IF(D108=\"\",\"\",VLOOKUP(D108,Table2[],2,0)),\"\")","v":""},{"$f":"_xlfn.IFNA(IF(D108=\"\",\"\",VLOOKUP(D108,Table2[],3,0)),\"\")","v":""},{"$f":"_xlfn.IFNA(IF(D108=\"\",\"\",VLOOKUP(D107,Table2[],4,0)),\"\")","v":""},{"$f":"_xlfn.IFNA(IF(D108=\"\",\"\",VLOOKUP(D108,Table2[],5,0)),\"\")","v":""},{"$f":"_xlfn.IFNA(IF(D108=\"\",\"\",VLOOKUP(D108,Table2[],7,0)),\"\")","v":""},{"$f":"IF(Table1[[#This Row],[Contact Name ]]=\"\",\"\",IF('Project EJ Ref List'!K109=0,\"none\",'Project EJ Ref List'!K109))","v":""},null,{"$f":"IF('Project EJ Ref List'!M109=0,\"\",'Project EJ Ref List'!M109)","v":""},null,{"$f":"IF(IF($L108=\"\",\"\",'Project EJ Ref List'!O109)=0,\"NA\",IF($L108=\"\",\"\",'Project EJ Ref List'!O109))","v":""},{"$f":"IF(IF($L108=\"\",\"\",'Project EJ Ref List'!P109)=0,\"NA\",IF($L108=\"\",\"\",'Project EJ Ref List'!P109))","v":""},{"$f":"IF(IF($L108=\"\",\"\",'Project EJ Ref List'!Q109)=0,\"NA\",IF($L108=\"\",\"\",'Project EJ Ref List'!Q109))","v":""},{"$f":"IF(IF($L108=\"\",\"\",'Project EJ Ref List'!R109)=0,\"NA\",IF($L108=\"\",\"\",'Project EJ Ref List'!R109))","v":""}]
[null,null,null,{"$f":"IF('Project EJ Ref List'!D110=0,\"\",'Project EJ Ref List'!D110)","v":""},{"$f":"_xlfn.IFNA(IF(D109=\"\",\"\",VLOOKUP(D109,Table2[],2,0)),\"\")","v":""},{"$f":"_xlfn.IFNA(IF(D109=\"\",\"\",VLOOKUP(D109,Table2[],3,0)),\"\")","v":""},{"$f":"_xlfn.IFNA(IF(D109=\"\",\"\",VLOOKUP(D108,Table2[],4,0)),\"\")","v":""},{"$f":"_xlfn.IFNA(IF(D109=\"\",\"\",VLOOKUP(D109,Table2[],5,0)),\"\")","v":""},{"$f":"_xlfn.IFNA(IF(D109=\"\",\"\",VLOOKUP(D109,Table2[],7,0)),\"\")","v":""},{"$f":"IF(Table1[[#This Row],[Contact Name ]]=\"\",\"\",IF('Project EJ Ref List'!K110=0,\"none\",'Project EJ Ref List'!K110))","v":""},null,{"$f":"IF('Project EJ Ref List'!M110=0,\"\",'Project EJ Ref List'!M110)","v":""},null,{"$f":"IF(IF($L109=\"\",\"\",'Project EJ Ref List'!O110)=0,\"NA\",IF($L109=\"\",\"\",'Project EJ Ref List'!O110))","v":""},{"$f":"IF(IF($L109=\"\",\"\",'Project EJ Ref List'!P110)=0,\"NA\",IF($L109=\"\",\"\",'Project EJ Ref List'!P110))","v":""},{"$f":"IF(IF($L109=\"\",\"\",'Project EJ Ref List'!Q110)=0,\"NA\",IF($L109=\"\",\"\",'Project EJ Ref List'!Q110))","v":""},{"$f":"IF(IF($L109=\"\",\"\",'Project EJ Ref List'!R110)=0,\"NA\",IF($L109=\"\",\"\",'Project EJ Ref List'!R110))","v":""}]
[null,null,null,{"$f":"IF('Project EJ Ref List'!D111=0,\"\",'Project EJ Ref List'!D111)","v":""},{"$f":"_xlfn.IFNA(IF(D110=\"\",\"\",VLOOKUP(D110,Table2[],2,0)),\"\")","v":""},{"$f":"_xlfn.IFNA(IF(D110=\"\",\"\",VLOOKUP(D110,Table2[],3,0)),\"\")","v":""},{"$f":"_xlfn.IFNA(IF(D110=\"\",\"\",VLOOKUP(D109,Table2[],4,0)),\"\")","v":""},{"$f":"_xlfn.IFNA(IF(D110=\"\",\"\",VLOOKUP(D110,Table2[],5,0)),\"\")","v":""},{"$f":"_xlfn.IFNA(IF(D110=\"\",\"\",VLOOKUP(D110,Table2[],7,0)),\"\")","v":""},{"$f":"IF(Table1[[#This Row],[Contact Name ]]=\"\",\"\",IF('Project EJ Ref List'!K111=0,\"none\",'Project EJ Ref List'!K111))","v":""},null,{"$f":"IF('Project EJ Ref List'!M111=0,\"\",'Project EJ Ref List'!M111)","v":""},null,{"$f":"IF(IF($L110=\"\",\"\",'Project EJ Ref List'!O111)=0,\"NA\",IF($L110=\"\",\"\",'Project EJ Ref List'!O111))","v":""},{"$f":"IF(IF($L110=\"\",\"\",'Project EJ Ref List'!P111)=0,\"NA\",IF($L110=\"\",\"\",'Project EJ Ref List'!P111))","v":""},{"$f":"IF(IF($L110=\"\",\"\",'Project EJ Ref List'!Q111)=0,\"NA\",IF($L110=\"\",\"\",'Project EJ Ref List'!Q111))","v":""},{"$f":"IF(IF($L110=\"\",\"\",'Project EJ Ref List'!R111)=0,\"NA\",IF($L110=\"\",\"\",'Project EJ Ref List'!R111))","v":""}]
[null,null,null,{"$f":"IF('Project EJ Ref List'!D112=0,\"\",'Project EJ Ref List'!D112)","v":""},{"$f":"_xlfn.IFNA(IF(D111=\"\",\"\",VLOOKUP(D111,Table2[],2,0)),\"\")","v":""},{"$f":"_xlfn.IFNA(IF(D111=\"\",\"\",VLOOKUP(D111,Table2[],3,0)),\"\")","v":""},{"$f":"_xlfn.IFNA(IF(D111=\"\",\"\",VLOOKUP(D110,Table2[],4,0)),\"\")","v":""},{"$f":"_xlfn.IFNA(IF(D111=\"\",\"\",VLOOKUP(D111,Table2[],5,0)),\"\")","v":""},{"$f":"_xlfn.IFNA(IF(D111=\"\",\"\",VLOOKUP(D111,Table2[],7,0)),\"\")","v":""},{"$f":"IF(Table1[[#This Row],[Contact Name ]]=\"\",\"\",IF('Project EJ Ref List'!K112=0,\"none\",'Project EJ Ref List'!K112))","v":""},null,{"$f":"IF('Project EJ Ref List'!M112=0,\"\",'Project EJ Ref List'!M112)","v":""},null,{"$f":"IF(IF($L111=\"\",\"\",'Project EJ Ref List'!O112)=0,\"NA\",IF($L111=\"\",\"\",'Project EJ Ref List'!O112))","v":""},{"$f":"IF(IF($L111=\"\",\"\",'Project EJ Ref List'!P112)=0,\"NA\",IF($L111=\"\",\"\",'Project EJ Ref List'!P112))","v":""},{"$f":"IF(IF($L111=\"\",\"\",'Project EJ Ref List'!Q112)=0,\"NA\",IF($L111=\"\",\"\",'Project EJ Ref List'!Q112))","v":""},{"$f":"IF(IF($L111=\"\",\"\",'Project EJ Ref List'!R112)=0,\"NA\",IF($L111=\"\",\"\",'Project EJ Ref List'!R112))","v":""}]
[null,null,null,{"$f":"IF('Project EJ Ref List'!D113=0,\"\",'Project EJ Ref List'!D113)","v":""},{"$f":"_xlfn.IFNA(IF(D112=\"\",\"\",VLOOKUP(D112,Table2[],2,0)),\"\")","v":""},{"$f":"_xlfn.IFNA(IF(D112=\"\",\"\",VLOOKUP(D112,Table2[],3,0)),\"\")","v":""},{"$f":"_xlfn.IFNA(IF(D112=\"\",\"\",VLOOKUP(D111,Table2[],4,0)),\"\")","v":""},{"$f":"_xlfn.IFNA(IF(D112=\"\",\"\",VLOOKUP(D112,Table2[],5,0)),\"\")","v":""},{"$f":"_xlfn.IFNA(IF(D112=\"\",\"\",VLOOKUP(D112,Table2[],7,0)),\"\")","v":""},{"$f":"IF(Table1[[#This Row],[Contact Name ]]=\"\",\"\",IF('Project EJ Ref List'!K113=0,\"none\",'Project EJ Ref List'!K113))","v":""},null,{"$f":"IF('Project EJ Ref List'!M113=0,\"\",'Project EJ Ref List'!M113)","v":""},null,{"$f":"IF(IF($L112=\"\",\"\",'Project EJ Ref List'!O113)=0,\"NA\",IF($L112=\"\",\"\",'Project EJ Ref List'!O113))","v":""},{"$f":"IF(IF($L112=\"\",\"\",'Project EJ Ref List'!P113)=0,\"NA\",IF($L112=\"\",\"\",'Project EJ Ref List'!P113))","v":""},{"$f":"IF(IF($L112=\"\",\"\",'Project EJ Ref List'!Q113)=0,\"NA\",IF($L112=\"\",\"\",'Project EJ Ref List'!Q113))","v":""},{"$f":"IF(IF($L112=\"\",\"\",'Project EJ Ref List'!R113)=0,\"NA\",IF($L112=\"\",\"\",'Project EJ Ref List'!R113))","v":""}]
[null,null,null,null,null,null,null,null,null,null,null,{"$f":"IF('Project EJ Ref List'!M114=0,\"\",'Project EJ Ref List'!M114)","v":""},null,{"$f":"IF('Project EJ Ref List'!O114=0,\"\",'Project EJ Ref List'!O114)","v":""},{"$f":"IF('Project EJ Ref List'!P114=0,\"\",'Project EJ Ref List'!P114)","v":""},{"$f":"IF('Project EJ Ref List'!Q114=0,\"\",'Project EJ Ref List'!Q114)","v":""},{"$f":"IF('Project EJ Ref List'!R114=0,\"\",'Project EJ Ref List'!R114)","v":""}]
[null,null,null,null,null,null,null,null,null,null,null,{"$f":"IF('Project EJ Ref List'!M115=0,\"\",'Project EJ Ref List'!M115)","v":""},null,{"$f":"IF('Project EJ Ref List'!O115=0,\"\",'Project EJ Ref List'!O115)","v":""},{"$f":"IF('Project EJ Ref List'!P115=0,\"\",'Project EJ Ref List'!P115)","v":""},{"$f":"IF('Project EJ Ref List'!Q115=0,\"\",'Project EJ Ref List'!Q115)","v":""},{"$f":"IF('Project EJ Ref List'!R115=0,\"\",'Project EJ Ref List'!R115)","v":""}]
[null,null,null,null,null,null,null,null,null,null,null,{"$f":"IF('Project EJ Ref List'!M116=0,\"\",'Project EJ Ref List'!M116)","v":""},null,{"$f":"IF('Project EJ Ref List'!O116=0,\"\",'Project EJ Ref List'!O116)","v":""},{"$f":"IF('Project EJ Ref List'!P116=0,\"\",'Project EJ Ref List'!P116)","v":""},{"$f":"IF('Project EJ Ref List'!Q116=0,\"\",'Project EJ Ref List'!Q116)","v":""},{"$f":"IF('Project EJ Ref List'!R116=0,\"\",'Project EJ Ref List'!R116)","v":""}]
[null,null,null,null,null,null,null,null,null,null,null,{"$f":"IF('Project EJ Ref List'!M117=0,\"\",'Project EJ Ref List'!M117)","v":""},null,{"$f":"IF('Project EJ Ref List'!O117=0,\"\",'Project EJ Ref List'!O117)","v":""},{"$f":"IF('Project EJ Ref List'!P117=0,\"\",'Project EJ Ref List'!P117)","v":""},{"$f":"IF('Project EJ Ref List'!Q117=0,\"\",'Project EJ Ref List'!Q117)","v":""},{"$f":"IF('Project EJ Ref List'!R117=0,\"\",'Project EJ Ref List'!R117)","v":""}]
[null,null,null,null,null,null,null,null,null,null,null,{"$f":"IF('Project EJ Ref List'!M118=0,\"\",'Project EJ Ref List'!M118)","v":""},null,{"$f":"IF('Project EJ Ref List'!O118=0,\"\",'Project EJ Ref List'!O118)","v":""},{"$f":"IF('Project EJ Ref List'!P118=0,\"\",'Project EJ Ref List'!P118)","v":""},{"$f":"IF('Project EJ Ref List'!Q118=0,\"\",'Project EJ Ref List'!Q118)","v":""},{"$f":"IF('Project EJ Ref List'!R118=0,\"\",'Project EJ Ref List'!R118)","v":""}]

{"sheet":"MA_Muni","index":3,"n_rows":361,"n_cols":1,"rows_kept":361,"cut":false,"hidden":true,"merged":[]}
["MA Municipalities"]
["Blank"]
["Boston - Any Neighborhood"]
["Boston - Charlestown"]
["Boston - Chinatown"]
["Boston - Dorchester"]
["Boston - East Boston"]
["Boston - Hyde Park"]
["Boston - Mattapan"]
["Boston - Roslindale"]
["Boston - Roxbury"]
["Worcester"]
["Springfield "]
["Cambridge"]
["Lowell"]
["Brockton"]
["Quincy"]
["Lynn"]
["New Bedford"]
["Fall River"]
["Lawrence"]
["Newton"]
["Somerville"]
["Framingham"]
["Haverhill"]
["Malden"]
["Waltham"]
["Brookline"]
["Revere"]
["Plymouth"]
["Medford"]
["Taunton"]
["Weymouth"]
["Chicopee"]
["Peabody"]
["Methuen"]
["Everett"]
["Barnstable"]
["Attleboro"]
["Arlington"]
["Salem"]
["Pittsfield"]
["Leominster"]
["Beverly"]
["Billerica"]
["Fitchburg"]
["Marlborough"]
["Woburn"]
["Westfield"]
["Chelsea"]
["Amherst"]
["Braintree"]
["Shrewsbury"]
["Holyoke"]
["Natick"]
["Andover "]
["Chelmsford"]
["Watertown"]
["Randolph"]
["Lexington"]
["Dartmouth"]
["Franklin"]
["Dracut"]
["Falmouth"]
["Needham"]
["Norwood"]
["Tewksbury"]
["North Andover"]
["North Attleborough"]
["Milford"]
["Melrose"]
["Gloucester"]
["Northampton"]
["Wellesley"]
["Stoughton"]
["West Springfield"]
["Agawam"]
["Bridgewater"]
["Milton"]
["Saugus"]
["Danvers"]
["Belmont"]
["Wakefield"]
["Walpole"]
["Burlington"]
["Marshfield"]
["Reading"]
["Dedham"]
["Easton"]
["Yarmouth"]
["Westford"]
["Canton"]
["Hingham"]
["Middleborough"]
["Acton"]
["Mansfield"]
["Wilmington"]
["Wareham"]
["Stoneham"]
["Winchester"]
["Westborough"]
["Gardner"]
["Ludlow"]
["Bourne"]
["Marblehead"]
["Sandwich"]
["Hudson"]
["Holden"]
["Grafton"]
["Winthrop"]
["Norton"]
["Scituate"]
["Sudbury"]
["Ashland"]
["Hopkinton"]
["Foxborough"]
["Sharon"]
["Concord"]
["Pembroke"]
["Somerset"]
["Newburyport"]
["South Hadley"]
["Rockland"]
["Webster"]
["Greenfield"]
["Southbridge"]
["Amesbury"]
["Swansea"]
["Abington"]
["Bellingham"]
["Auburn"]
["East Longmeadow"]
["Westport"]
["Northbridge"]
["Westwood"]
["Easthampton"]
["Duxbury"]
["Fairhaven"]
["Longmeadow"]
["Northborough"]
["North Reading"]
["Seekonk"]
["Clinton"]
["Belchertown"]
["Raynham"]
["Whitman"]
["Swampscott"]
["Mashpee"]
["Holliston"]
["Hanover"]
["Dennis"]
["Wilbraham"]
["East Bridgewater"]
["Bedford "]
["Nantucket"]
["Uxbridge"]
["Wayland"]
["Millbury"]
["Ipswich"]
["Kingston"]
["Harwich"]
["Oxford"]
["Charlton"]
["Medway"]
["Lynnfield"]
["North Adams"]
["Medfield"]
["Rehoboth"]
["Palmer"]
["Tyngsborough"]
["Wrentham"]
["Spencer"]
["Athol"]
["Dudley"]
["Weston"]
["Lunenburg"]
["Norfolk"]
["Carver"]
["Pepperell"]
["Lakeville"]
["Holbrook"]
["Norwell"]
["Groton"]
["Leicester"]
["Maynard"]
["Hanson"]
["Acushnet"]
["Southborough"]
["Winchendon"]
["Brewster"]
["Littleton"]
["Hull"]
["Ware"]
["Plainville"]
["Sturbridge"]
["Middleton"]
["Sutton"]
["Salisbury"]
["Southwick"]
["Blackstone"]
["Freetown"]
["Townsend"]
["Rutland"]
["Douglas"]
["Montague"]
["Ayer"]
["Georgetown"]
["Millis"]
["Lancaster"]
["Cohasset"]
["Westminster"]
["Boxford"]
["Adams "]
["Monson"]
["Templeton"]
["Dighton"]
["Upton"]
["Sterling"]
["West Boylston"]
["Halifax"]
["West Bridgewater"]
["Orange"]
["Hamilton"]
["Williamstown"]
["Shirley"]
["Stow"]
["Great Barrington"]
["Lincoln"]
["Rockport"]
["Harvard"]
["Berkley"]
["Groveland"]
["Merrimac"]
["Newbury"]
["Chatham"]
["Topsfield"]
["Mattapoisett"]
["Dalton"]
["Ashburnham"]
["Orleans"]
["Mendon"]
["Southampton"]
["Rowley"]
["Granby"]
["Hopedale"]
["Dover"]
["Lee"]
["Eastham"]
["Rochester"]
["Bolton"]
["Barre"]
["Boxborough"]
["Manchester-by-the-Sea"]
["Marion"]
["Oak Bluffs"]
["Hadley "]
["Carlisle"]
["Edgartown"]
["Lenox"]
["Deerfield"]
["Paxton"]
["Wenham"]
["Warren"]
["Hampden"]
["Boylston"]
["Tisbury"]
["Avon"]
["North Brookfield"]
["West Newbury"]
["Sherborn"]
["Hubbardston"]
["West Brookfield"]
["Brimfield"]
["Essex"]
["Provincetown"]
["Sunderland"]
["Wellfleet"]
["West Tisbury"]
["Princeton"]
["Brookfield"]
["Dunstable"]
["Hatfield"]
["Nahant"]
["Sheffield"]
["Cheshire"]
["Ashby"]
["Millville"]
["Berlin"]
["Lanesborough"]
["Plympton"]
["Northfield"]
["Hardwick"]
["Holland"]
["Williamsburg"]
["Truro"]
["East Brookfield"]
["Bernardston"]
["Huntington"]
["Stockbridge "]
["Becket"]
["Hinsdale"]
["Shelburne"]
["Leverett"]
["Oakham"]
["Wales"]
["Buckland"]
["Conway"]
["Phillipston"]
["Shutesbury"]
["Ashfield"]
["Erving"]
["Clarksburg"]
["Russell"]
["Otis"]
["Westhampton"]
["Whately"]
["Colrain"]
["Gill"]
["Granville"]
["New Marlborough"]
["Richmond"]
["Egremont"]
["West Stockbridge"]
["Pelham"]
["Royalston"]
["Chester"]
["Blandford"]
["Chilmark"]
["Petersham"]
["Worthington"]
["Chesterfield"]
["Charlemont"]
["Monterey"]
["New Braintree"]
["Sandisfield"]
["New Salem"]
["Goshen"]
["Wendell"]
["Windsor"]
["Cummington"]
["Montgomery"]
["Peru"]
["Warwick"]
["Hancock"]
["Leyden"]
["Heath"]
["Florida"]
["Savoy"]
["Plainfield"]
["Washington"]
["Alford"]
["Tolland"]
["Aquinnah"]
["Tyringham"]
["Rowe"]
["Middlefield"]
["Hawley"]
["New Ashford"]
["Mount Washington"]
["Monroe"]
["Gosnold"]

{"sheet":"Complete_CBOList","index":4,"n_rows":119,"n_cols":7,"rows_kept":119,"cut":false,"hidden":true,"merged":[]}
["Name","Title","Phone","Email","Affiliation","Municipality","Contact Type"]
["Jane Winn","Executive Director","(413) 464-9402 ","team@thebeatnews.org","Berkshire Environmental Action Team","Adams , Alford, Becket, Cheshire, Clarksburg, Dalton, Egermont, Florida, Great Barrington, Hancock, Hinsdale, Lanesborough, Lee, Lenox, Monterey, Mount Washington, New Ashford, New Marlborough, North Adams, Otis, Peru, Pittsfield, Richmond, Sandisfield, Savoy, Sheffield, Springfield , Stockbridge , Tyringham, Washington, West Stockbridge, Williamstown, Windsor ","Local CBO"]
["Courteny Morehouse","Principal Planner","(413) 442-1512 x26","cmorehouse@berkshireplanning.org","Berkshire Regional Planning Commission (BRPC)","Adams , Alford, Becket, Cheshire, Clarksburg, Dalton, Egremont, Florida,  Great Barrington, Hancock, Hinsdale, Lanesborough, Lee, Lenox, Monterey, Mount Washington, New Ashford, New Marlborough, North Adams, Otis, Peru, Pittsfield, Richmond, Sandisfield, Savoy, Sheffield, Stockbridge , Tyringham, Washington, West Stockbridge, Williamstown, Windsor","Local CBO"]
["Erin O'Brien","Communications","(856) 304-8703","eobrien@berkshirehabitat.org","Central Berkshire Habitat for Humanity","Adams , Alford, Becket, Clarksburg, Dalton, Great Barrington, Hinsdale, Lanesborough, Lee, Lenox, Mount Washington, Otis, Pittsfield, Williamstown","Local CBO"]
["Arianna Collins","Executive Director","Not Provided","a.collins@hoorwa.org","Hoosic River Watershed Association (HooRWA)","Adams , Berkshire, Cheshire, Clarksburg, Hancock, Lanesboro, New Ashford, North Adams, Savoy, Williamstown. ","Local CBO"]
["Mark Wamsley","Conservation Director","Not Provided","mark@kestreltrust.org","Kestrel Land Trust","Agawam, Amherst , Belchertown, Chicopee, Easthampton, Granby, Hadley , Hatfield, Holyoke, Leverett, Ludlow, North Amherst, Northampton, Pelham, Shutesbury, South Hadley, Southampton, Springfield , Sunderland, Westhampton, West Springfield, Whately, Williamsburg","Local CBO"]
["Sarita Hudson","Director Programs & Development","(413) 794-7739","shudson@publichealthwm.org","Public Health Institute of Western Mass","Agawam, Amherst, Buckland, Charlemont, Chicopee, Easthampton, Greenfield, Hadley , Holyoke, Huntington, Ludlow, Monroe, Northampton, Orange, Palmer, Rowe, Southwick, Springfield , Sunderland, Ware, West Springfield, Westfield, Wendell","Local CBO"]
["Erik Reardon","Berkshire Watershed Director ","978-914-3634","ereardon@hvatoday.org\nhva@hvatoday.org","Housatonic Valley Association (HVA)","Alford, Becket, Dalton, Egremont, Great Barrington, Lee, Lenox, Monterey, Mount Washington, New Marlborough, North Adams, Otis, Pittsfield, Richmond, Sandisfield, Sheffield, Stockbridge , Tyringham, Washington, and West Stockbridge","Local CBO"]
["Claire B.W. Muller","Movement Building Director","(508) 308-9261","claire@uumassaction.org ","Unitarian Universalist Mass Action Network","All","Statewide CBO"]
["Julia Blatt","Executive Director","(617) 714-4272","juliablatt@massriversalliance.org","Mass Rivers Alliance","All","Statewide CBO"]
["Jodi  Valenta","Massachusetts State Director","(617) 367-6200","Jodi.Valenta@tpl.org","The Trust for Public Land","All","Statewide CBO"]
["Kerry Bowie","Board President","Not Provided","kerry@msaadapartners.com ","Browning the GreenSpace","All","Statewide CBO"]
["Sylvia Broude","Executive Director","(617) 292-4821","sylvia@communityactionworks.org","Community Action Works","All","Statewide CBO"]
["Britteny Jenkins","Vice President ","Not Provided","Bjenkins@clf.org","Conservation Law Foundation ","All","Statewide CBO"]
["Alex  St. Pierre","Director of Communities & Toxics","Not Provided","aestpierre@clf.org","Conservation Law Foundation ","All","Statewide CBO"]
["Paulina Muratore","Director of Transportation Justice and Infrastructure","Not Provided","pmuratore@clf.org","Conservation Law Foundation ","All","Statewide CBO"]
["Breanne Frank","Associate Attorney","Not Provided","bfrank@clf.org","Conservation Law Foundation ","All","Statewide CBO"]
["Amy  Boyd Rabin","Vice President of Policy","(617) 221-8258","aboydrabin@environmentalleague.org","Environmental  League of Massachusetts","All","Statewide CBO"]
["Ben Hellerstein","MA State Director","(617) 747-4368","ben@environmentmassachusetts.org ","Environment Massachusetts","All","Statewide CBO"]
["Robb Johnson","Executive Director","(978) 443-2233","robb@massland.org","Mass Land Trust Coalition","All","Statewide CBO"]
["Cindy  Luppi","New England Director","(617) 338-8131 x208","cluppi@cleanwater.org ","Clean Water Action","All","Statewide CBO"]
["Dálida Rocha","Executive Director","Not Provided","dalida@n2nma.org","Neighbor to Neighbor Mass. ","All","Statewide CBO"]
["Lezlie Braxton Campbell","Deputy Director","Not Provided","braxton@n2nma.org","Neighbor to Neighbor Mass. ","All","Statewide CBO"]
["Lena Entin ","Director of Individual Giving","Not Provided ","lena@n2nma.org","Neighbor to Neighbor Mass. ","All","Statewide CBO"]
["Danny  Timpona","Organizing Director","Not Provided","danny@n2nma.org","Neighbor to Neighbor Mass. ","All","Statewide CBO"]
["Miles Gresham","Campaign Director","Not Provided ","miles@n2nma.org","Neighbor to Neighbor Mass. ","All","Statewide CBO"]
["Rob Moir","Executive Director","Not Provided","rob@oceanriver.org ","Ocean River Institute","All","Statewide CBO"]
["Vickash Mohanka","Director, MA Chapter","Not Provided","vick.mohanka@sierraclub.org","Sierra Club MA","All","Statewide CBO"]
["Heidi Ricci","Director of Policy","Not Provided","hricci@massaudubon.org ","Mass Audubon","All","Statewide CBO"]
["Bettina Washington","Tribal Historic Preservation Officer","(508) 560-9014","thpo@wampanoagtribe-nsn.gov","Wampanoag Tribe of Gay Head (Aquinnah)","All","Federal Tribe"]
["Brian Weeden","Chair","(774) 413-0520","Brian.Weeden@mwtribe-nsn.gov","Mashpee Wampanoag Tribe","All","Federal Tribe"]
["Nakia Hendricks Jr.","Office Manager","Not Provided","106Review@mwtribe-nsn.gov","Mashpee Wampanoag Tribe","All","Federal Tribe"]
["David Weeden","THPO/Director","(774) 327.0068","David.Weeden@mwtribe-nsn.gov","Mashpee Wampanoag Tribe","All","Federal Tribe"]
["Alma Gordon","President","Not Provided","tribalcouncil@chappaquiddickwampanoag.org ","Chappaquiddick Tribe of the Wampanoag Nation","All","Indigenous Org"]
["Cheryll Toney Holley","Chair","(774) 317-9138","crwritings@gmail.com","Nipmuc Nation (Hassanamisco Nipmucs)","All","Indigenous Org"]
["John Peters, Jr.","Executive Director","(617) 573-1292","john.peters@mass.gov ","Massachusetts Commission on Indian Affairs (MCIA)","All","Indigenous Org"]
["Melissa Ferretti","Chair","(508) 304-5023","melissa@herringpondtribe.org ","Herring Pond Wampanoag Tribe","All","Indigenous Org"]
["Patricia D. Rocker","Council Chair","Not Provided","rockerpatriciad@verizon.net","Chappaquiddick Tribe of the Wampanoag Nation, Whale Clan ","All","Indigenous Org"]
["Raquel Halsey","Executive Director","(617) 232-0343","rhalsey@naicob.org","North American Indian Center of Boston","All","Indigenous Org"]
["Cora Pierce","Not Provided","Not Provided","Coradot@yahoo.com","Pocassett Wampanoag Tribe","All","Indigenous Org"]
["Elizabeth Solomon","Not Provided","Not Provided","Solomon.Elizabeth@gmail.com","Massachusetts Tribe at Ponkapoag","All","Indigenous Org"]
["Barry Margolin","Chair, Policy & Program Committee","Not Provided","info@capecodclimate.org","Cape Cod Climate Change Collaborative","Barnstable, Bourne, Brewester, Chatham, Dennis, Eastham, Falmouth, Harwich, Mashpee, Martha's Vineyard, Nantucket, Orleans, Provincetown, Sandwich, Truro, Wellfleet, Yarmouth","Local CBO"]
["Kristina Dower","Executive Director","(508) 771-1727","info@cacci.cc","Community Action Committee of Cape Cod & Islands","Barnstable, Bourne, Brewester, Chatham, Dennis, Eastham, Falmouth, Harwich, Mashpee, Martha's Vineyard, Nantucket, Orleans, Provincetown, Sandwich, Truro, Wellfleet, Yarmouth","Local CBO"]
["Stockbridge-Munsee Tribe","Historic Preservation Manager","(413) 884-6048","THPO@Mohican-nsn.gov","Stockbridge-Munsee Tribe","Berkshire County, Agawam, Amherst, Athol, Charlemont, Chicopee, Easthampton, Gardner, Greenfield, Hadley , Heath, Hubbardston, Ludlow, Monroe, Northampton, Orange,  Palmer, Rowe, Royalston, Southwick, Springfield , Sunderland, Ware, Wendell, West Springfield, Westfield","Federal Tribe"]
["Mireille Bejjani"," Energy Justice Director","Not Provided","mbejjani8@gmail.com","Community Action Works","Beverly, Gloucester, Ipswich, Lynn, Marblehead, Peabody, Rockport, Salem, Swampscott, Cohasset, Hull, Scituate, Carver, Duxbury, Kingston, Marshfield, Plymouth,\nChicopee, Easthampton, Hadley , Holyoke, Northampton, Springfield ","Local CBO"]
["Joy  Gary","Executive Director ","(617) 825-3846","joy@bostonfarms.org","Boston Farms Community Land Trust","Boston - Any Neighborhood","Local CBO"]
["Linda Orel","Chief Impact Officer","Not Provided","lorel@bostonharbornow.org","Boston Harbor Now","Boston - Any Neighborhood","Local CBO"]
["Lydia  Lowe","Executive Director ","(617) 259-1503","lydia@chinatownclt.org","Chinatown Community Land Trust ","Boston - Any Neighborhood","Local CBO"]
["Karen Chen","Executive Director","(617) 357-4499","karen@cpaboston.org","Chinese Progressive Association","Boston - Any Neighborhood","Local CBO"]
["Natalicia Tracy","Executive Director","(617) 659-4548","natalicia@massclu.org","Mass Community Labor United","Boston - Any Neighborhood","Local CBO"]
["Noemi Mimi Ramos","Executive Director","Not Provided","mimi.neunited4justice@gmail.com","New England United for Justice","Boston - Any Neighborhood","Local CBO"]
["Aliya  Zwyer","Public Policy Coordinator ","Not Provided","zwyer@savetheharbor.org","Save the Harbor/Save the Bay","Boston - Any Neighborhood","Local CBO"]
["Chris  Mancini","Executive Director ","Not Provided","Mancini@SaveTheHarbor.org","Save the Harbor/Save the Bay","Boston - Any Neighborhood","Local CBO"]
["Jason Rundle ","Policy Coordinator ","Not Provided","Rundle@SaveTheHarbor.org","Save the Harbor/Save the Bay","Boston - Any Neighborhood","Local CBO"]
["Bruce  Berman","Not Provided","(617) 293-6243","Bruce@bostonharbor.com","Save the Harbor/Save the Bay","Boston - Any Neighborhood","Local CBO"]
["Deb Fastino","Executive Director","(617) 316-0456","dfastino@aol.com","Coalition for Social Justice","Boston - Any Neighborhood, Attleboro, Taunton","Local CBO"]
["Heather  Miller","Not Provided","(617) 540-5650 x1073","hmiller@crwa.org","Charles River Watershed Assoc.","Boston - Any Neighborhood, Brookline, Arlington, Ashland, Belmont, Cambridge, Dedham, Dover, Foxborough, Holliston, Hopkinton, Lexington, Lincoln, Medfield, Millis, Natick, Needham, Newton, Norfolk, Sherborn, Somerville, Walpole, Waltham, Watertown, Wayland, Wellesley, Weston, Westwood, Wrentham, Bellingham, Franklin, Hopedale, Medway, Mendon, Milford","Local CBO"]
["Laura Jasinski","Executive Director","Not Provided","ljasinski@thecharles.org","Charles River Conservancy","Boston - Any Neighborhood, Cambridge, Newton, Watertown, Waltham ","Local CBO"]
["Hin Sang  Yu","Co-Chair","(603) 905-9915","chinatownresidents@gmail.com","Chinatown Resident Association","Boston - Chinatown","Local CBO"]
["Gail Latimore","Executive Director","Not Provided","gail@csndc.com","Codman Square Neighborhood Development Corporation","Boston - Dorchester","Local CBO"]
["Saba Ijadi","Climate Justice Coordinator","(617) 533-9564","fairmountclimate@dbedc.org","Fairmount/Indigo Line Community Development Corporation (CDC) Collaborative","Boston - Dorchester","Local CBO"]
["Orlando Perilla","Chairman "," (617) 288-9766","Not Provided","Harbor Point Community Task Force","Boston - Dorchester","Local CBO"]
["Valeska Daley","Not Provided","Not Provided","director@uphamscorner.org","Upham's Corner Main Street","Boston - Dorchester","Local CBO"]
["George Huynh","Not Provided","Not Provided","george@vietaid.org","Vietnamese American Initiative for Development (VietAID)","Boston - Dorchester","Local CBO"]
["Chris Marchi","Vice President ","Not Provided ","cbmarchi@gmail.com","Air, Inc. ","Boston - East Boston","Local CBO"]
["Andres Ripley","Natural Resource Specialist ","Not Provided","ripley@neponset.org","Neponset River Watershed Association","Boston - Hyde Park, Boston - Mattapan, Boston - Dorchester, Canton, Dedham, Dover, Foxborough, Medfield, Milton, Norwood, Quincy, Randolph, Sharon, Walpole, Westwood, Stoughton","Local CBO"]
["Patricia Alvarez","Not Provided","Not Provided","palvarez@swbcdc.org","Southwest Boston Community Development Corporation","Boston - Hyde Park, Boston - Mattapan, Boston - Roslindale","Local CBO"]
["Dwaign Tyndal","Executive Director","(617) 442-3343","dwaign@ace-ej.org","Alternatives for Community & Environment","Boston - Roxbury","Local CBO"]
["Sofia Owen","Staff Attorney","(617) 442-3343","sofia@ace-ej.org","Alternatives for Community & Environment","Boston - Roxbury","Local CBO"]
["Evelyn Friedman","Interim Executive Director","617-427-3599","efriedman@nuestracdc.org","Nuestra Comunidad CDC","Boston - Roxbury","Local CBO"]
["Anne Conway","Director of Real Estate Development","Not Provided","aconway@nuestracdc.org","Nuestra Comunidad CDC","Boston - Roxbury","Local CBO"]
["Rene Mardones","Director of Community Organizing","Not Provided","rmardones@dsni.org","Dudley Street Neighborhood Initiative","Boston - Roxbury, Boston - Dorchester","Local CBO"]
["Dan Gilbarg","Brockton Organizer","(508) 588-9665","dgilbarg@coalitionforsocialjustice.org","Coalition for Social Justice","Brockton","Local CBO"]
["Gladys Vega","Executive Director","(617) 889-6080","gladysv@chelseacollab.org","Chelsea Collaborative, Inc.","Chelsea","Local CBO"]
["Roseann Bongiovanni","Executive Director","(617) 466-3076 x1","RoseannB@GreenRootsChelsea.org","GreenRoots, Inc. ","Chelsea","Local CBO"]
["Magdalena  Ayed","Executive Director","Not Provided","Magdalena@Harborkeepers.org","Harborkeepers","Chelsea","Local CBO"]
["Antonio  Amaya","Executive Director "," (617) 387-9996","lacomunidadinc@yahoo.com","La Comunidad ","Everett","Local CBO"]
["Patrick Herron","Executive Director","Not Provided","Patrick.Herron@mysticriver.org","Mystic River Watershed Association","Everett, Malden, Medford, Melrose, Reading, Stoneham, Wakefield, Boston - Charlestown, Chelsea, Boston - East Boston, Revere, Winthrop, Arlington, Belmont, Burlington, Cambridge, Lexington, Somerville, Watertown, Wilmington, Winchester, Woburn","Local CBO"]
["Karl Alexander","Greenways Program Manager","Not Provided","karl.alexander@mysticriver.org","Mystic River Watershed Association","Everett, Malden, Medford, Melrose, Reading, Stoneham, Wakefield, Boston - Charlestown, Chelsea, Boston - East Boston, Revere, Winthrop, Arlington, Belmont, Burlington, Cambridge, Lexington, Somerville, Watertown, Wilmington, Winchester, Woburn","Local CBO"]
["Marissa Zampino","Community Organizer","Not Provided","marissa.zampino@mysticriver.org","Mystic River Watershed Association","Everett, Malden, Medford, Melrose, Reading, Stoneham, Wakefield, Boston - Charlestown, Chelsea, Boston - East Boston, Revere, Winthrop, Arlington, Belmont, Burlington, Cambridge, Lexington, Somerville, Watertown, Wilmington, Winchester, Woburn","Local CBO"]
["Sarah","Adkins","Not Provided","info@greencambridge.org","Green Cambridge","Cambridge","Local CBO"]
["Sabrina Davis ","Fall River Organizer","(508) 678-5497","Sab.cndavis@gmail.com","Coalition for Social Justice","Fall River","Local CBO"]
["Gwyneth Packard","Volunteer","Not Provided","engagefalmouth@gmail.com","Engage Falmouth","Falmouth","Local CBO"]
["Wayne Lingafelter ","Executive Director","Not Provided","WLingafelter@falmouthedic.org","Falmouth  Economic Development & Industrial Corporation","Falmouth","Local CBO"]
["Reverend Bob Murphy","Retired Minister","(727) 942-7316","murphydalzell@aol.com","Unitarian Universalist Congregation of Falmouth","Falmouth","Local CBO"]
["Kit O'Connor","Office Administrator","(508) 457-0449","admin@uuffm.org","Unitarian Universalist Fellowship of Falmouth","Falmouth","Local CBO"]
["Melissa Langley","Lab and Monitoring Coordinator","Not Provided","mlangley@ctriver.org","Connecticut River Conservancy","Gardner, Hubbardston, Agawam, Amherst, Athol, Charlemont, Chicopee, Easthampton,  Greenfield, Hadley, Heath, Ludlow, Monroe, Northampton, Orange, Palmer, Rowe, Royalston, Southwick, Springfield , Sunderland, Ware, Wendell, West Springfield, Westfield","Local CBO"]
["Andrea Donlon","Massachusetts River Steward","Not Provided","adonlon@ctriver.org","Connecticut River Watershed Council","Greenfield","Local CBO"]
["Jeannette Rivera","Holyoke Organizer","Not Provided","jeannette@n2nma.org","Neighbor to Neighbor","Holyoke ","Local CBO"]
["Eddie Rosa","Community Programs Director","Not Provided","erosa@groundworklawrence.org","Groundwork Lawrence","Lawrence, Haverhill, Methuen, Andover , North Andover","Local CBO"]
["Lesly Melendez","Executive Director","(978) 974-0770 x7020","lmelendez@groundworklawrence.org","Groundwork Lawrence","Lawrence, Haverhill, Methuen, Andover , North Andover","Local CBO"]
["Neddy Latimer","Not Provided","(978) 534-3145","info@spanishamericancenter.org","Spanish American Center","Leominster","Local CBO"]
["Ricki  Pappo ","Chair ","Not Provided","Lexclimateaction@gmail.com","Lexington Climate Action Network ","Lexington ","Local CBO"]
["Ali Jacobs","Co-Executive Director","(413) 636-8042","ali@millcitygrows.org","Mill City Grows","Lowell ","Local CBO"]
["Courtney McSparron","Co-Executive Director","Not Provided","courtney@millcitygrows.org","Mill City Grows","Lowell ","Local CBO"]
["Norris Guscott","Not Provided","Not Provided","nguscott@lynnma.gov","Lynn Food and Fitness Alliance","Lynn","Local CBO"]
["Emily Molden","Resource Conservationist","Not Provided","emily@nantucketlandcouncil.org","Nantucket Land Council","Nantucket","Local CBO"]
["Marlene  Pollock","New Bedford Organizer","(508) 999-2777","marlenepollock929@gmail.com","Coalition for Social Justice","New Bedford","Local CBO"]
["Corinn Williams","Executive Director","Not Provided","corinn@cedcnewbedford.org","Community Economic Development Center","New Bedford","Local CBO"]
["Buddy Andrade","Chair ","Not Provided","OBVDCBR@gmail.com","Old Bedford Village ","New Bedford","Local CBO"]
["Maura Valdez","Executive Director","(508) 974-3535","MValdez@groundworksouthcoast.org","Groundwork Southcoast","New Bedford, Acushnet, Dartmouth, Fall River, Fairhaven, Marion, Mattapoisett, Somerset, Swansea, Westport, Wareham","Local CBO"]
["Admin and Operations","Admin and Operations","Not Provided","adminandops@groundworksouthcoast.org","Groundwork Southcoast","New Bedford, Acushnet, Dartmouth, Fall River, Fairhaven, Marion, Mattapoisett, Somerset, Swansea, Westport, Wareham","Local CBO"]
["Lauren Rexford","Program Director, Energy Programs","(617) 657-5317","lrexford@qcap.org","Quincy Community Action Program","Quincy, Weymouth, Braintree, Milton","Local CBO"]
["Aisha Sanders","Executive Director","Not Provided","aisha@groundworksomerville.org","Groundwork Somerville ","Somerville","Local CBO"]
["Tanisha  Arena","Not Provided","Not Provided","tanisha@arisespringfield.org","Arise for Social Justice ","Springfield ","Local CBO"]
["Liz O'Gilvie","Interim Director","Not Provided","liz@gardeningthecommunity.org","Gardening the Community","Springfield ","Local CBO"]
["Lezlie Braxton Campbell","Deputy Director","Not Provided","braxton@n2nma.org","Neighbor to Neighbor","Springfield ","Local CBO"]
["Maria Ligus","Executive Director ","(413) 747-0090","mligus@newnorthcc.org","New North Citizens' Council ","Springfield ","Local CBO"]
["Trey  Rivera","Executive Assistant ","(413) 746-4885","Trivera@newnorthcc.org","New North Citizens' Council ","Springfield ","Local CBO"]
["Kristen Melo","Co-Founder/Director","Not Provided","klm.wraft@gmail.com","Westfield Residents Advocating for Themselves","Westfield","Local CBO"]
["Hauke Kite-Powell","Chair","(508) 548-1400","hauke@whoi.edu","Woods Hole Diversity Advisory Committee","Woods Hole, Falmouth","Local CBO"]
["Dave  McMahon","Project Director ","(508) 579-9249","davemcmahon@dismasisfamily.org","Commonwealth Green Low Income Housing Coalition","Worcester","Local CBO"]
["Yuribe Sanchez-Rijo","Lynn Organizer","Not Provided","yuribe@n2nma.org","Neighbor to Neighbor","Lynn","Local CBO"]
["Daniel Kintu","Lynn Organizer","Not Provided","daniel@n2nma","Neighbor to Neighbor","Lynn","Local CBO"]
["Juan Williams","Worcester Organizer","Not Provided","Juan@n2nma.org","Neighbor to Neighbor","Worcester","Local CBO"]
["Yahjira Feliciano","Worcester Organizer","Not Provided","yahjira@n2nma.org","Neighbor to Neighbor","Worcester","Local CBO"]
["Grace Sliwoski ","Not Provided","(508) 799-9139","grace@recworcester.org","Regional Environmental Council","Worcester","Local CBO"]
["Donna  Warshaw","Not Provided","(508) 799-6942","dwarshaw@wescdc.org","Worcester East Side Community Development Corporation ","Worcester","Local CBO"]
["Matt Feinstein","Co-Director","Not Provided","matt@worcesterroots.org","Worcester Roots","Worcester","Local CBO"]