Workbook
Name AgencyCampus: Source!$F$2:$F$53
Name Independent_Verifier: '[1]Drop-Down Lists'!$H$2
Name Names: 'EV Charging Stations source'!#REF!
Name Official_Names: '[1]Drop-Down Lists'!$F$2:$F$352
Name State_Abbreviations: '[1]Drop-Down Lists'!$E$2:$E$51
Name Utility_Providers: '[1]Drop-Down Lists'!$G$2:$G$6

Sheet Intro & Instructions
A1: EXECUTIVE OFFICE OF ENERGY AND ENVIRONMENTAL AFFAIRS
A2: DEPARTMENT OF ENERGY RESOURCES
A3: Leading by Example Program
A4: Fiscal Year 2026 Energy Tracking and Reporting Form
A5: July 1, 2025 through June 30, 2026
A7: Leading by Example Program FY26 Energy Tracking and Reporting Form
A8: Measuring and tracking energy data for Massachusetts state agencies and public higher education is a critical component of the state’s Leading by Example Program (LBE). In order to track progress in meeting greenhouse gas, energy reduction targets, and renewable energy goals, collecting & analyzing agency and campus energy data is imperative.
A9: With the help of your agency, Leading by Example tracks energy consumption and cost data for a variety of fuel sources in the Commonwealth, as well as information on other sustainability efforts. Please use this form to submit your agency/campus FY26 energy data to LBE. The FY26 Tracking Form divides the fuels tracked into separate tabs for easier navigation. The summary boxes below describe information requested in each tab, as well as highlights any new additions to the FY26 form. Reporting should include all owned facilities within your agency/campus and be consistent from year to year.
A10: Thank you for working with us to track your energy and sustainability data for your facilities - we appreciate your time and effort!
A12: The deadline for submitting the FY26 Tracking Form is Friday, December 4, 2026.
A13: Please submit via email to Sophia Vitello (sophia.vitello@mass.gov).
A14: Please contact Sophia Vitello via email or by phone at 617-626-7353 if you need assistance in gathering your energy data.
A16: RECENT & UPDATED ELEMENTS OF FY26 TRACKING FORM
A17: General | C17: Where appropriate, we have automated additional tabs to pre-populate with previously submitted data. As with last year's form, ALL pre-populated fields rely on the selection of your agency/campus from the "Contact Information" tab dropdown. If not selected, no data will pre-populate. Additionally, you will no longer be able to select your agency/campus on individual tabs. We have also condensed or removed some sheets to try simplify the reporting process.
A18: Data Sources | C18: For the FY26 form, in an effort to relieve the reporting burden as much as possible on state entities, LBE has created a Data Sources tab that shows which categories of data LBE can collect from external resources such as utility databases that entities do not need to report in this form and which data we still rely on the entity to report.
A20: To the best of your ability, please enter the correct information and energy consumption data in the following tabs:
A21: Contact Info | B21: Select your agency/campus from the dropdown list provided and contact information will autpopulate. Additional fields are available for contact information that is incorrect or not listed.
A22: Square Footage | B22: Agency/campus square footage is pre-populated using your FY25 reported data. If square footage has changed from last year or is incorrect, please provide new/corrected square footage in the space provided. If you have added a new building or demolished an existing building, please provide as much information as possible in the fields provided.
A23: Electricity Consumption | B23: This tab includes electricity consumption and costs associated with grid electricity purchases, on-site generation, and net meter credit agreements. Please fill out electricity data for all the sources that apply to your facilities. Please note that we also ask for data on Renewable Energy Certificates and Alternative Energy Credits purchased/sold separate from the DCAMM state contract.
A24: Building Fuel Consumption | B24: This tab includes energy data associated with all building fuels except for electricity and on-site generation at buildings. Please enter consumption information for all non-electric building energy use in this tab, including natural gas, oil, propane, etc.
A25: Vehicle & Other Fuel Consumption | B25: This tab includes vehicle energy data, as well as energy data associated with any facility operations not attributed to building or vehicle use (e.g. fuel for boats/aircraft, landscaping equipment, etc.).
A26: Installed Clean Power | B26: On this tab you will find a pre-populated list of renewable, onsite generation, energy storage, and renewable thermal projects that have been reported to LBE for your agency/campus, along with their installed capacity. Please make any corrections, where necessary, and enter any additional renewable projects that you have installed.
A27: Vehicle Fleet | B27: This tab requests information about vehicle fleets. All LBE partners should respond to Sections I and II. Section III is applicable to those entities that do not purchase/lease vehicles through the Office of Vehicle Management (OVM). Please only include vehicles that are owned and operated by your agency or the Commonwealth. GVWR refers to the Gross Vehicle Weight Rating of an asset.
A28: EV Charging Stations | B28: This tab requests information about current and upcoming EV charging stations at your facilities.
A29: EE-Decarb Projects | B29: This tab includes a request for information on any energy efficiency or decarbonization projects that were initiated and/or completed in FY26.
A30: Embodied Carbon | B30: This tab includes a request for information on any projects that incorporated embodied carbon considerations in the decision-making process in FY26.
A31: Sustainability | B31: This tab requests information on a suite of sustainability efforts at your facilities including, waste diversion, water use & conervation, sustainable lanscaping activities, and other sustainability efforts not captured elsewhere in the tracking form.
A33: If a cell is highlighted in yellow, please make sure to check the values. If the highlighted data is incorrect, please include explanation if possible for any discrepancies.
A34: The deadline for submitting the FY26 Tracking Form is Friday, December 4, 2026.
A35: Please submit via email to Sophia Vitello (sophia.vitello@mass.gov).
A36: Please contact Sophia Vitello via email or by phone at 617-626-7353 if you need assistance in gathering your energy data.

Sheet Data Sources
A1: Please consult the list below to determine what data your entity needs to report (as compared to the data that LBE can collect through external resources). Contact sophia.vitello@mass.gov with any questions on the information below. As noted in column I, LBE relies on entity reporting for the additional form tabs, such as renewable deployment, sustainability efforts, and energy efficiency projects.
A3: Energy & Fuel Data Source Key
A4: MEI/CEI | B4: LBE collects data from online utility database. LBE is able to collect your entity's grid electricity and/or natural gas data from the online utility databases (MEI & CEI); LBE will provide utility usage numbers for your entity to review.
A5: Agency (highlighted in red) | B5: State entity must provide data. LBE is unable to collect this data from external resources and asks that your entity report this data.
A6: Agency (missing accounts in MEI) (highlighted in red) | B6: State entity must provide data. LBE is able to collect this data from its online utility database (MEI) but first needs your entity to report utility account numbers to ensure database can collect complete data.
A7: OSD | B7: LBE collects data from OSD vendor reports. LBE is able to collect data from the OSD statetwide contract vendor reports for delivered and/or vehicle fuels. If LBE currently lists OSD as the data source for delivered and/or vehicle fuels but your entity does not purchase off contract, please note that and report the correct number in the tracking form. Otherwise, LBE will provide these delivered/vehicle fuel usage numbers for your entity to review.
A8: OVM | B8: LBE collects data from OVM database. LBE is able to collect your entity's fleet inventory from the Office of Vehicle Management's (OVM) state fleet database. If your entity does not utilize OVM's database but OVM is listed as the source, please note that and report the correct fleet inventory either in the form or as an attachment.
A9: N/A (for propane) | B9: No propane usage N/A is listed for entities that have not used propane historically. If your entity is listed as N/A but did use propane in FY26, please report use and cost in the form.
A11: State Entity | B11: Grid Electricity | C11: Natural Gas | D11: Delivered Fuels | E11: Vehicle Fuels | F11: Propane | G11: Fleet | H11: EVSE | I11: All Other Form Tabs
A12: Berkshire Comm. College | B12: Agency (missing accounts in MEI) | C12: MEI | D12: Agency | E12: OSD | F12: N/A | G12: Agency | H12: Agency | I12: Agency
A13: Bridgewater State University | B13: Agency (missing accounts in MEI) | C13: Agency (missing accounts in MEI) | D13: OSD | E13: OSD | F13: N/A | G13: Agency | H13: Agency | I13: Agency
A14: Bristol Comm. College | B14: MEI | C14: Agency (missing accounts in MEI) | D14: Agency | E14: OSD | F14: N/A | G14: Agency | H14: Agency | I14: Agency
A15: Bunker Hill Comm. College | B15: MEI | C15: MEI | D15: Agency | E15: OSD | F15: N/A | G15: Agency | H15: Agency | I15: Agency
A16: Bureau of the State House | B16: MEI | C16: MEI | D16: OSD | E16: OSD | F16: N/A | G16: OVM | H16: Agency | I16: Agency
A17: Cape Cod Comm. College | B17: MEI | C17: MEI | D17: Agency | E17: OSD | F17: N/A | G17: Agency | H17: Agency | I17: Agency
A18: Chelsea Soldiers' Home | B18: MEI | C18: MEI | D18: OSD | E18: OSD | F18: N/A | G18: OVM | H18: Agency | I18: Agency
A19: Dept. of Conservation and Recreation | B19: MEI | C19: MEI | D19: OSD | E19: OSD | F19: Agency | G19: OVM | H19: Agency | I19: Agency
A20: Dept. of Correction | B20: MEI | C20: MEI | D20: OSD | E20: OSD | F20: Agency | G20: OVM | H20: Agency | I20: Agency
A21: Dept. of Developmental Services | B21: MEI | C21: MEI | D21: OSD | E21: OSD | F21: Agency | G21: OVM | H21: Agency | I21: Agency
A22: Dept. of Fire Services | B22: MEI | C22: MEI | D22: OSD | E22: OSD | F22: Agency | G22: OVM | H22: Agency | I22: Agency
... A61: Worcester State University | B61: Agency (missing accounts in MEI) | C61: Agency (missing accounts in MEI) | D61: Agency | E61: OSD | F61: Agency | G61: Agency | H61: Agency | I61: Agency

Sheet Contact Information 
A1: INSTRUCTIONS ON FILLING OUT TAB
A2: Contact Info | B2: Select your agency/campus from a dropdown list provided and contact information will auto-populate. If contact information is incorrect, please note changes where appropriate and clearly mark the change (highlighting, underlining, etc). If additional contacts should be included for your campus, please list them in the yellow boxes.
B3: Note: If your agency/campus is not selected from the dropdown menu below, subsequent tabs will not display any pre-populated data.
B4: Please answer all items in yellow, where appropriate.
A6: Contact Information
C8: Agency/Campus: | I8: Please select your answer from the dropdown
A10: Contact Name 1: | C10: =IFERROR(VLOOKUP($I$8,'Contacts Source'!$A$1:$Q$53,2,FALSE),"") -> - | I10: Email: | K10: =IFERROR(VLOOKUP($I$8,'Contacts Source'!$A$1:$Q$53,4,FALSE),"") -> -
A11: Title: | C11: =IFERROR(VLOOKUP($I$8,'Contacts Source'!$A$1:$Q$53,3,FALSE),"") -> - | I11: Phone: | K11: =IFERROR(VLOOKUP($I$8,'Contacts Source'!$A$1:$Q$53,5,FALSE),"") -> -
A13: Contact Name 2: | C13: =IFERROR(VLOOKUP($I$8,'Contacts Source'!$A$1:$Q$53,6,FALSE),"") -> - | I13: Email: | K13: =IFERROR(VLOOKUP($I$8,'Contacts Source'!$A$1:$Q$53,8,FALSE),"") -> -
A14: Title: | C14: =IFERROR(VLOOKUP($I$8,'Contacts Source'!$A$1:$Q$53,7,FALSE),"") -> - | I14: Phone: | K14: =IFERROR(VLOOKUP($I$8,'Contacts Source'!$A$1:$Q$53,9,FALSE),"") -> -
A16: Contact Name 3: | C16: =IFERROR(VLOOKUP($I$8,'Contacts Source'!$A$1:$Q$53,10,FALSE),"") -> - | I16: Email: | K16: =IFERROR(VLOOKUP($I$8,'Contacts Source'!$A$1:$Q$53,12,FALSE),"") -> -
A17: Title: | C17: =IFERROR(VLOOKUP($I$8,'Contacts Source'!$A$1:$Q$53,11,FALSE),"") -> - | I17: Phone: | K17: =IFERROR(VLOOKUP($I$8,'Contacts Source'!$A$1:$Q$53,13,FALSE),"") -> -
A19: Contact Name 4: | C19: =IFERROR(VLOOKUP($I$8,'Contacts Source'!$A$1:$Q$53,14,FALSE),"") -> - | I19: Email: | K19: =IFERROR(VLOOKUP($I$8,'Contacts Source'!$A$1:$Q$53,16,FALSE),"") -> -
A20: Title: | C20: =IFERROR(VLOOKUP($I$8,'Contacts Source'!$A$1:$Q$53,15,FALSE),"") -> - | I20: Phone: | K20: =IFERROR(VLOOKUP($I$8,'Contacts Source'!$A$1:$Q$53,17,FALSE),"") -> -

Sheet Contacts Source
A1: Agency | B1: Contact | C1: Contact Title | D1: Email | E1: Phone | F1: Alternate Contact | G1: Alternate Contact Title | H1: Alternate Email | I1: Alternate Phone | J1: Alternate Contact 2 | K1: Alternate Contact Title 2 | L1: Alternate Email 2 | M1: Alternate Phone 2 | N1: Alternate Contact 3 | O1: Alternate Contact Title 3 | P1: Alternate Email 3 | Q1: Alternate Phone 3
A2: Please select your answer from the dropdown | B2: - | C2: - | D2: - | E2: - | F2: - | G2: - | H2: - | I2: - | J2: - | K2: - | L2: - | M2: - | N2: - | O2: - | P2: - | Q2: -
A3: Berkshire Community College | B3: Jason Dion | C3: Director of Facilites | D3: jdion@berkshirecc.edu | E3: 413-236-3015 | F3: David Moran | G3: Building Maintenance Supervisor | H3: dmoran@berkshirecc.edu | I3: (413) 236-3028 | J3: - | K3: - | L3: - | M3: - | N3: - | O3: - | P3: - | Q3: -
A4: Bridgewater State University | B4: Patricia Delaney | C4: Asst. Director EH&S Officer | D4: PDELANEY@bridgew.edu | E4: 508-531-2751 | F4: Karen Jason | G4: Vice President Operations | H4: kjason@bridgew.edu | I4: 508-531-2750 | J4: Mark Carmody | K4: Associate Vice President Operations | L4: m1carmody@bridgew.edu | M4: 508-531-2972 | N4: - | O4: - | P4: - | Q4: -
A5: Bristol Community College | B5: Jo Ann Bentley | C5: Asst. VP of Administration & Finance | D5: JoAnn.Bentley@bristolcc.edu | E5: 508-678-2811 x3058 | F5: Barbara Cadima | G5: Facilities | H5: Barbara.Cadima@bristolcc.edu | I5: 774-357-2533 | J5: - | K5: - | L5: - | M5: - | N5: - | O5: - | P5: - | Q5: -
A6: Bunker Hill Community College | B6: Gary Bigelow | C6: Executive Director of Facilities | D6: gbigelow@bhcc.mass.edu | E6: 617-936-1985 | F6: - | G6: - | H6: - | I6: - | J6: - | K6: - | L6: - | M6: - | N6: - | O6: - | P6: - | Q6: -
A7: Bureau of the State House | B7: - | C7: - | D7: - | E7: - | F7: - | G7: - | H7: - | I7: - | J7: - | K7: - | L7: - | M7: - | N7: - | O7: - | P7: - | Q7: -
A8: Cape Cod Community College | B8: Joseph MacKinnon | C8: Director, Facilities Management | D8: jmackinnon@capecod.edu | E8: - | F8: Mark Waldruff | G8: Facilities Associate | H8: mwaldruff@capecod.edu | I8: 508-362-2131 x4324 | J8: Steve Zazzera | K8: Project Specialist | L8: szazzera@capecod.edu | M8: 774-330-4411 | N8: - | O8: - | P8: - | Q8: -
A9: Chelsea Soldiers' Home | B9: Robert Maniatis | C9: Chief Operating Officer | D9: robert.maniatis@mass.gov | E9: 617-887-7170 | F9: Scott Consaul | G9: Director of Facilities | H9: scott.consaul2@mass.gov | I9: 617-887-8691 | J9: - | K9: - | L9: - | M9: - | N9: - | O9: - | P9: - | Q9: -
A10: Dept. of Conservation and Recreation | B10: Ryan Kingston | C10: Decarbonization Planning Manager | D10: ryan.c.kingston@mass.gov | E10: - | F10: Susan F. Hamilton | G10: Assistant Deputy Commissioner | H10: susan.f.hamilton@mass.gov | I10: 617-719-8210 | J10: - | K10: - | L10: - | M10: - | N10: - | O10: - | P10: - | Q10: -
A11: Dept. of Correction | B11: Andy Bakinowski | C11: Environmental Consultant | D11: Andrew.W.Bakinowski@doc.state.ma.us | E11: (508)422-3660 | F11: - | G11: - | H11: - | I11: - | J11: - | K11: - | L11: - | M11: - | N11: - | O11: - | P11: - | Q11: -
A12: Dept. of Developmental Services | B12: - | C12: - | D12: - | E12: - | F12: - | G12: - | H12: - | I12: - | J12: - | K12: - | L12: - | M12: - | N12: - | O12: - | P12: - | Q12: -
... A43: Roxbury Community College | B43: Shami Qazi | C43: Director of Facilities | D43: sqazi@rcc.mass.edu | E43: - | F43: Ken Hall | G43: Facilities Manager | H43: khall@rcc.mass.edu | I43: - | J43: - | K43: - | L43: - | M43: - | N43: - | O43: - | P43: - | Q43: -
A44: Salem State University | B44: John Macdonald | C44: Energy Manager | D44: jmacdonald2@salemstate.edu | E44: 978-542-5147 | F44: Suzanne Gray | G44: Staff Associate | H44: sgray2@salemstate.edu | I44: 978-542-4839 | J44: Luigi Marcone | K44: AVP, Capital Planning and Facilities Management | L44: lmarcone@salemstate.edu | M44: 978-542-5137
A45: Springfield Technical Community College | B45: Debra Avery | C45: Senior Director of Facilities | D45: ddavery@stcc.edu | E45: 413-755-4607 | F45: Peter Smith | G45: Program Manager | H45: pm2301smith@stcc.edu | I45: 413-755-4688 | J45: - | K45: - | L45: - | M45: - | N45: - | O45: - | P45: - | Q45: -
A46: Trial Court | B46: - | C46: - | D46: - | E46: - | F46: - | G46: - | H46: - | I46: - | J46: - | K46: - | L46: - | M46: - | N46: - | O46: - | P46: - | Q46: -
A47: UMass Amherst | B47: Ezra Small | C47: Campus Sustainability Manager | D47: esmall@umass.edu | E47: 413-545-0799 | F47: - | G47: - | H47: - | I47: - | J47: - | K47: - | L47: - | M47: - | N47: - | O47: - | P47: - | Q47: -
A48: UMass Boston | B48: Janna Cohen-Rosenthal | C48: Sustainability & Resiliency Planner | D48: Janna.CohenRosenthal@umb.edu | E48: - | F48: Dennis Swinford | G48: Dir. Campus Planning & Sustainability | H48: dennis.swinford@umb.edu | I48: (617) 287-5162 | J48: - | K48: - | L48: - | M48: - | N48: - | O48: - | P48: - | Q48: -
A49: UMass Dartmouth | B49: Jamie Jacquart | C49: Asst. Director of Campus Sustainability | D49: jjacquart@umassd.edu | E49: 508-999-8880 | F49: J. Jerue | G49: Assistant Vice Chancellor for Facilities Operations | H49: jjerue@umassd.edu | I49: 508-999-9216 | J49: Karen Parker | K49: Director of Facilities Operations | L49: kparker8@umassd.edu | M49: 508-999-8100 | N49: -- | O49: -- | P49: -- | Q49: --
A50: UMass Lowell | B50: Nicole Kelly | C50: Assistant Director, Office of Sustainability | D50: Nicole_Kelly@uml.edu | E50: 978-934-2303 | N50: - | O50: - | P50: - | Q50: -
A51: UMass Medical | B51: Suzanne Wood | C51: Sustainability & Energy Manager | D51: suzanne.wood@umassmed.edu | E51: 508-856-6324 | F51: - | G51: - | H51: - | I51: - | J51: - | K51: - | L51: - | M51: - | N51: - | O51: - | P51: - | Q51: -
A52: Westfield State University | B52: Thomas Therrien | C52: Exec. Director, Facilities & Operations | D52: ttherrien@westfield.ma.edu | E52: 413-572-8689 | F52: Shawn Robbins | G52: Director, Environmental Health and Safety | H52: srobbins@westfield.ma.edu | I52: 413-572-5209 | J52: - | K52: - | L52: - | M52: - | N52: - | O52: - | P52: - | Q52: -
A53: Worcester State University | B53: Nancy Ramsdell | C53: Director Operations & Planning Support Services, Facilities | D53: nramsdell@worcester.edu | E53: 508-929-8720 | F53: Jill Parrett | H53: jparrett@worcester.edu | J53: - | K53: - | L53: - | M53: - | N53: - | O53: - | P53: - | Q53: -

Sheet Square Footage
A1: INSTRUCTIONS ON FILLING OUT TAB
A2: Square Footage | D2: Select your agency/campus from a dropdown list provided and provide square footage and space optimization information. If you have added a new building or demolished an existing building, please provide an occupancy date.
D3: Please answer items in yellow, where applicable.
A5: Square Footage & Space Optimization
A6: LBE is tracking Energy Usage Intensity (EUI: kBtu/SF) for the various agencies. We use your square footage to determine the EUI for your overall agency. If square footage has changed since last year, please use the space in Question 2 for updated square footage for FY26 and include occupancy dates/details for any new buildings.
A8: 1 | B8: Current square footage in LBE database (as reported in your last tracking form submission) | K8: =IFERROR(VLOOKUP('Contact Information '!I8,Source!$F$3:$G$53,2,FALSE), "Please Select Your Agency/Campus on Contact Tab") -> Please Select Your Agency/Campus on Contact Tab
A10: 2 | B10: Should LBE use the above square footage for FY26 reporting? | K10: Please Select
B11: =IF(K10="no","Please provide updated FY26 square footage here -->","")
A13: If reporting a different square footage from last year, please indicate the increases or decreases in square footage and provide available details below
A14: Name of Building | E14: Building Type | H14: Square Footage | K14: Type of Change (+/-) | N14: Date of Change | Q14: Approximate Date of Change
A22: Please provide any additional notes regarding square footage changes below:

Sheet Electricity Consumption
A1: INSTRUCTIONS ON FILLING OUT TAB
A2: Electricity | B2: This tab includes electricity consumption and costs associated with grid electricity purchases, on-site generation, and net meter credit agreements. Please fill out electricity data for all the sources that apply to your facilities. Please note that we also ask for data on Renewable Energy Certificates, Alternative Energy Credits and SMART incentives. If these incentives are managed by DCAMM, you do not need to report as part of this tracking form submission. If these incentives are managed by your agency/campus or another entity separate from DCAMM, please report any available information in Section V below. If "Calculated Rate" cell is highlighted, please verify the total consumption and cost.
B3: Please answer all items in yellow if applicable.
A5: Electricity Purchases, On-site Generation, Net-metering & RECs/AECs
A6: Section I: Grid electricity purchases
A7: Section II: On-site power generation owned and operated by Commonwealth
A8: Section III: On-site power generation through power purchase agreement
A9: Section IV: Net metering credit purchase agreements
A10: Section V: Energy credits. Please include RECs/AECs sold or purchased through state contract vendors or others
A12: Section I
A13: Grid Electricity Purchases
A14: CATEGORY | B14: FY26 CONSUMPTION | C14: UNIT* | D14: TOTAL COST (Include Supply + T&D) | E14: CALCULATED RATE | F14: NOTES
A15: Grid Electricity | C15: kWh | E15: =IFERROR(D15/B15,0) -> 0
A17: Section II
A18: OnSite Generation - State Owned
A19: On-site power generation owned and operated by Commonwealth
A20: CATEGORY | B20: FY26 GENERATION | C20: UNIT* | D20: REQUESTED INFORMATION (highlighted cells only) | F20: NOTES
A21: CHP/ Co-Generation
A22: Onsite Electricity Generation | B22: 0 | C22: kWh | D22: List fuel used for equipment
A23: Onsite Thermal Output | B23: 0 | C23: kBtu
A24: Solar PV
A25: Generation consumed on site | B25: 0 | C25: kWh
A26: Excess Generation to Grid | B26: 0 | C26: kWh
A27: Wind
A28: Generation consumed on site | B28: 0 | C28: kWh
A29: Excess Generation to Grid | B29: 0 | C29: kWh
A30: Hydro
A31: Generation consumed on site | B31: 0 | C31: kWh
A32: Excess Generation to Grid | B32: 0 | C32: kWh
A33: Anaerobic Digestion (AD)
A34: Generation consumed on site | B34: 0 | C34: kWh
A35: Excess Generation to Grid | B35: 0 | C35: kWh
A36: Other Renewables
A37: Generation consumed on site | B37: 0 | C37: kWh | D37: List renewable type
A38: Excess Generation to Grid | B38: 0 | C38: kWh
A40: Section III
A41: OnSite Generation - PPA
A42: Power generation through power purchase agreement
A43: CATEGORY | B43: FY26 GENERATION | C43: UNIT* | D43: RATE | E43: TOTAL EXPENDITURES | F43: REQUESTED INFORMATION (highlighted cells only) | G43: NOTES
A44: CHP/ Co-Generation
...

Sheet Building Fuel Consumption
A1: INSTRUCTIONS ON FILLING OUT TAB
A2: Other Building Fuels | B2: This tab includes energy data associated with all building fuels except for electricity and on-site generation at buildings. Please enter consumption information all non-electric building energy use in this tab, including natural gas, oil, propane, etc. If "Calculated Rate" cell is highlighted, please verify the total consumption and cost.
B3: Please answer all items in yellow, if applicable.
A5: Building Energy Use (Fuels other than Electricity)
A6: CATEGORY | B6: FY26 CONSUMPTION | C6: UNIT | D6: TOTAL COST | E6: CALCULATED RATE | F6: ADDITIONAL INFORMATION | G6: NOTES
A7: Natural Gas | B7: 0 | C7: therms | D7: 0 | E7: =IFERROR(D7/B7,0) -> 0
A8: Liquid Natural Gas | B8: 0 | C8: therms | D8: 0 | E8: =IFERROR(D8/B8,0) -> 0
A10: Fuel Oil #2 for Buildings/CHP | B10: 0 | C10: gallons | D10: 0 | E10: =IFERROR(D10/B10,0) -> 0
A11: Diesel for Buildings/CHP
A12: Bioheat #2 Heating Oil | B12: 0 | C12: gallons | D12: 0 | E12: =IFERROR(D12/B12,0) -> 0
A13: Fuel Oil #2 for Emergency Generators
A14: Diesel for Emergency Generators | B14: 0 | C14: gallons | D14: 0 | E14: =IFERROR(D14/B14,0) -> 0
A15: Fuel Oil #4 | B15: 0 | C15: gallons | D15: 0 | E15: =IFERROR(D15/B15,0) -> 0
A16: Fuel Oil #6 | B16: 0 | C16: gallons | D16: 0 | E16: =IFERROR(D16/B16,0) -> 0
A17: Propane (cooking and/or heating) | B17: 0 | C17: gallons | D17: 0 | E17: =IFERROR(D17/B17,0) -> 0
A19: Purchased Steam | B19: 0 | C19: mlbs | D19: 0 | E19: =IFERROR(D19/B19,0) -> 0
A20: Wood Chips | B20: 0 | C20: tons | D20: 0 | E20: =IFERROR(D20/B20,0) -> 0
A21: Pellets | B21: 0 | C21: tons | D21: 0 | E21: =IFERROR(D21/B21,0) -> 0
A22: Other (please list) | B22: 0 | C22: Select Units | D22: 0 | E22: =IFERROR(D22/B22,0) -> 0
A24: For purchased bioheat, please provide any available information below:
A25: Vendor Name
A26: Blend (e.g. B5, B10, B20, etc.)
A27: Bioheat source (e.g. soy, cooking oil, etc.)
A28: Associated emission reductions
A29: Do you know if the fuel meets APS eligibility requirements?

Sheet Vehicle&Other Fuel Consumption
A1: INSTRUCTIONS ON FILLING OUT TAB
A2: Vehicle & Other Fuels | B2: This tab includes vehicle energy data, as well as energy data associated with any facility operations not attributed to building or vehicle use (e.g. fuel for boats/aircraft, landscaping equipment, etc.). If an "Calculated Rate" cell is highlighted, please verify the total consumption and cost.
B3: Please answer all items in yellow if applicable.
A5: Vehicle Energy Use
A6: FUEL TYPE | B6: FY26 CONSUMPTION | C6: UNIT | D6: TOTAL COST | E6: CALCULATED RATE | F6: ADDITIONAL INFORMATION | G6: NOTES
A7: Gasoline | B7: 0 | C7: gallons | D7: 0 | E7: =IFERROR(D7/B7,0) -> 0
A8: Diesel | B8: 0 | C8: gallons | D8: 0 | E8: =IFERROR(D8/B8,0) -> 0
A9: Renewable Diesel | B9: 0 | C9: gallons | D9: 0 | E9: =IFERROR(D9/B9,0) -> 0 | F9: Note feedstocks (i.e., used cooking oil)
A10: Biodiesel blend | B10: 0 | C10: gallons | D10: 0 | E10: =IFERROR(D10/B10,0) -> 0
A11: Ethanol (E85) | B11: 0 | C11: gallons | D11: 0 | E11: =IFERROR(D11/B11,0) -> 0
A12: Compressed Natural Gas (CNG) | B12: 0 | C12: gallons | D12: 0 | E12: =IFERROR(D12/B12,0) -> 0
A13: Propane | C13: gallons | E13: =IFERROR(D13/B13,0) -> 0
A14: Jet Fuel | B14: 0 | C14: gallons | D14: 0 | E14: =IFERROR(D14/B14,0) -> 0
A15: Electric | B15: 0 | C15: kWh | D15: 0 | E15: =IFERROR(D15/B15,0) -> 0 | F15: Is this kWh included in your overall grid electricity value?
A16: Other | B16: 0 | C16: Select Units | D16: 0 | E16: =IFERROR(D16/B16,0) -> 0
A18: Other Fuel Energy Use
A19: Please provide below consumption data for fuels use to provide power, heat or other energy to needs that are not associated with the day to day operations and building maintenance of state facilities. Examples of this may include, but are not limited to, fuel used for training, industrial, grounds maintenance, or maritime purposes.
A20: FUEL TYPE | B20: FY26 CONSUMPTION | C20: UNIT | D20: TOTAL COST | E20: CALCULATED RATE | F20: FUEL PURPOSE | G20: NOTES
B21: 0 | D21: 0 | E21: =IFERROR(D21/B21,0) -> 0
B22: 0 | D22: 0 | E22: =IFERROR(D22/B22,0) -> 0
B23: 0 | D23: 0 | E23: =IFERROR(D23/B23,0) -> 0
B24: 0 | D24: 0 | E24: =IFERROR(D24/B24,0) -> 0
B25: 0 | D25: 0 | E25: =IFERROR(D25/B25,0) -> 0
B26: 0 | D26: 0 | E26: =IFERROR(D26/B26,0) -> 0
A28: For purchased biofuel, please provide any available information below:
A29: Vendor Name
A30: Blend (e.g. B5, B10, B20, etc.)
A31: Bioheat source (e.g. soy, cooking oil, etc.)
A32: Associated emission reductions

Sheet Source
A1: Select Technology | B1: Select Technology | D1: Select Units | F1: Agency | G1: FY25 Square Footage | I1: Please Select | L1: NG Units | M1: Fuel Oil Units | N1: Propane | O1: Woods | P1: Steam | Q1: other | S1: Please Select | T1: Please Select | U1: Please Select | V1: Please Select | W1: Please Select | X1: Please Select | Z1: Select Ownership Model | AB1: Please Select | AD1: Please Select | AG1: Select System Type | AI1: Select Ownership Model | AK1: Please Select from the Dropdown | AM1: Select System Type | AO1: Please Select | AQ1: Other - Please Select | AS1: Please Select | AV1: Please Select | AZ1: Please Select | BC1: Do you have irrigation | BD1: Irrigation assessment | BE1: Irrigation tracking | BG1: Please Select
A2: Anaerobic Digestion | B2: Air source heat pump | D2: MMBtu | F2: Please select your answer from the dropdown | G2: - | I2: Yes | L2: therms | M2: gallons | N2: gallons | O2: tons | P2: mlbs | Q2: therms | S2: Yes | T2: Yes | U2: 1 station | V2: 3 Heads | W2: Level 1 | X2: Single Head | Z2: Agency/State Owned | AB2: Public | AD2: No Changes, Please Use Last Year's Data | AG2: Energy Storage (Stand alone) | AI2: Site owned & operated | AK2: Peak demand mgmt/energy cost savings | AM2: Behind-the-Meter | AO2: Single stream | AQ2: CNG | AS2: Yes | AV2: Implemented | AZ2: Peak demand mgmt/energy cost savings | BC2: Yes | BD2: Yes | BE2: Yes | BG2: Zero-turn mower
A3: Clean Combined Heat and Power (CHP)/Co-Generation | B3: Biomass | D3: MW | F3: Berkshire Community College | G3: 304401 | I3: No | L3: CCF | M3: barrels | N3: other | O3: Btu | P3: Btu | Q3: CCF | S3: No | T3: No | U3: 2-5 stations | V3: Plugs | W3: Level 2 | X3: Dual Head | Z3: Power Purchase Agreement | AB3: Fleet Charging Only | AD3: Some Changes, Please See Updates Below | AG3: Energy Storage (Paired w/ RPS Class 1 resource) | AI3: 3rd part-owned & operated | AK3: Integration with on-site renewables | AM3: Standalone (w/ off-takers) | AO3: Multi-stream | AQ3: LNG | AS3: No | AV3: In Progress | AZ3: Integration with on-site renewables | BC3: No | BD3: No | BE3: No | BG3: Stand-on mower
A4: Hydro | B4: Clean Combined Heat and Power (CHP) | D4: kW | F4: Bridgewater State University | G4: 2062731 | I4: Not sure | L4: Btu | M4: other | O4: MMBtu | P4: MMBtu | Q4: Btu | S4: Do Not Generate | T4: Not Sure | U4: 5-8 stations | W4: Fast Charger | X4: Other | Z4: Other | AB4: Employee Charging Only | AD4: Never Reported, All New Data | AG4: Energy Storage (Paired w/ RPS Class 2 resource) | AI4: Other (please describe in notes) | AK4: Resilience & power backup | AM4: Standalone (w/o off-takers) | AO4: Other | AQ4: LPG | AS4: Not sure? | AV4: Planned | AZ4: Resilience & power backup | BC4: Unsure | BD4: Maybe | BG4: Ride-on mower
A5: Wind | B5: Ground source heat pump | D5: kBtu/hr | F5: Bristol Community College | G5: 404491 | L5: MMBtu | O5: kW | P5: other | Q5: MMBtu | S5: Do Not Know | T5: n/a | U5: more than 5 stations | V5: Other | W5: Other | AB5: Other | AG5: Other | AK5: Revenue generation | AQ5: Propane | AS5: Help! What's EO594?! | AV5: Unsure | AZ5: Revenue generation | BG5: Push mower
A6: Solar PV (Building) | B6: Solar Thermal | D6: Gallons | F6: Bunker Hill Community College | G6: 481475 | L6: gallons | O6: other | Q6: gallons | AK6: Other | AQ6: Dual-fuel/Bi-fuel | AZ6: Multiple - please list at right | BG6: Leaf blower
A7: Solar PV (Ground) | B7: Other | D7: Other | F7: Bureau of the State House | G7: 650000 | L7: other | Q7: barrels | BG7: String trimmer
A8: Solar PV (Canopy) | F8: Cape Cod Community College | G8: 330254 | Q8: other | BG8: Pole saw
A9: Other | F9: Chelsea Soldiers' Home | G9: 721058 | BG9: Chainsaw
F10: Dept. of Conservation and Recreation | G10: N/A | BG10: Other
F11: Dept. of Correction | G11: 5903400
F12: Dept. of Developmental Services | G12: 1238051
A13: Decarb/Electrification Projects | F13: Dept. of Fire Services | G13: 201174
A14: Decarb Plan/Roadmap | F14: Dept. of Fish and Game | G14: N/A
A15: Project Implementation | F15: Dept. of Mental Health | G15: 1812030
F16: Dept. of Public Health | G16: 2481221
F17: Dept. of State Police | G17: 781119
F18: Dept. of Youth Services | G18: 559530
F19: Div. of Capital Asset Management | G19: 2856249
F20: Environmental Police | G20: N/A
F21: Fitchburg State University | G21: 1589858
F22: Framingham State University | G22: 1444264
F23: Greenfield Community College | G23: 305637
F24: Holyoke Community College | G24: 594566
F25: Holyoke Soldiers' Home | G25: 228576
F26: MA Data Centers | G26: N/A
F27: Mass. Bay Community College | G27: 349412
F28: Mass. Bay Transportation Authority | G28: 9754756
F29: Mass. College of Art & Design | G29: 1147269
F30: Mass. College of Liberal Arts | G30: 797073
F31: Mass. Maritime Academy | G31: 750859
F32: Mass. Water Resources Authority | G32: N/A
F33: Massasoit Community College | G33: 562339
F34: MassDEP - owned | G34: 21828
F35: MassDOT - Highway & Turnpike Divisions | G35: N/A
F36: MassPort Authority | G36: N/A
F37: Middlesex Community College | G37: 479716
F38: Military Division | G38: 1356040
F39: Mount Wachusett Community College | G39: 537032
F40: North Shore Community College | G40: 497777
...

Sheet Vehicle Fleet
A1: INSTRUCTIONS ON FILLING OUT TAB
A2: Vehicle Fleet | B2: This tab requests information about vehicle fleets. All LBE partners should respond to Section I. Section II is applicable only to those entities that do not purchase/lease vehicles through the Office of Vehicle Management (OVM). Please only include leased and owned on-road vehicles that are operated by your agency or the Commonwealth.
B3: Please answer all items in yellow where applicable.
B4: Section I: Current and future fleet questions. Please answer to the best of your ability.
B5: Section II: Fleet Overview & Inventory. Please provide the requested fleet information and inventory (if possible) as indicated.
A7: Section I: Fleet Questions
A8: Please answer the related fleet questions below before proceeding to the next section.
A9: Have you purchased/leased or do you plan on acquiring any zero-emission vehicles (battery electric/plug-in hybrid electric) in FY26? (Note: If you would like support or assistance in deploying charging for these vehicles, please see EV Charging tab) | J9: Please Select
A10: If possible, please provide any available details below
A13: If yes, please provide an estimate of the number of zero-emission vehicles you have acquired or plan to acquire in FY26. | J13: ##
A17: Would you like assistance with planning or purchasing of zero-emissions assets for your fleet (e.g. fleet analysis, ZEV model information, grant application support, etc)? | J17: Please Select
A18: If possible, please indicate any assitance you are seeking
A22: Section II: Fleet Overview & Inventory
A23: For agencies/campuses that do not purchase/lease through OVM please provide data, where available, for yellow sections below. If you would prefer that LBE send you the current fleet overview we have on file for your entity to update, please reach out to Sophia (sophia.vitello@mass.gov). If available, LBE kindly asks that you also submit a detailed fleet inventory with this tracking form (it can be a simple Excel spreadsheet with make, model, fuel type, vehicle class/GVWR if possible).
A24: Light Duty Vehicles (0 - 8,500 lbs)
A25: Fuel Type | C25: Passenger Cars | D25: SUVs | E25: Pickup Trucks | F25: Passenger Vans | G25: Cargo Vans | H25: Neighboorhood/ Utility Vehicles* | I25: Motorcycles | J25: Notes
A26: Gasoline
A27: Diesel
A28: Hybrid Electric (HEV)
A29: Plug-in Hybrid Electric (PHEV)
A30: Battery Electric (BEV)
A31: Other - Please Select
A32: Other - Please Select
A33: Other - Please Select
A34: TOTAL | C34: =SUM(C26:C33) -> 0 | D34: =SUM(D26:D33) -> 0 | E34: =SUM(E26:E33) -> 0 | F34: =SUM(F26:F33) -> 0 | G34: =SUM(G26:G33) -> 0 | H34: =SUM(H26:H33) -> 0 | I34: =SUM(I26:I33) -> 0
A35: *includes light-duty plated assets that can technically drive on roads such as GEMs, Gators, UTVs, etc.
G36: Total LD Fleet Vehicles (<8,501 lbs) | I36: =SUM(C34:I34) -> 0 | J36: If calculated fleet total is incorrect, please indicate below
C39: Medium Duty Vehicles (8,501 - 14,000 lbs) | G39: Heavy Duty (>14,000 lbs)
A40: Fuel Type | C40: Pickup Trucks | D40: Passenger Vans | E40: Cargo Vans | F40: Other Medium Duty | G40: Trucks | H40: Other Heavy Duty | I40: Notes
A41: Gasoline
A42: Diesel
A43: Hybrid Electric (HEV)
A44: Plug-in Hybrid Electric (PHEV)
A45: Battery Electric (BEV)
A46: Other - Please Select
A47: TOTAL | C47: =SUM(C41:C46) -> 0 | D47: =SUM(D41:D46) -> 0 | E47: =SUM(E41:E46) -> 0 | F47: =SUM(F41:F46) -> 0 | G47: =SUM(G41:G46) -> 0 | H47: =SUM(H41:H46) -> 0
G49: Total MD/HD Fleet Vehicles (>8,500 lbs) | I49: =SUM(C47:H47) -> 0 | J49: If calculated fleet total is incorrect, please indicate below
A53: Do you have any off-road vehicles/equipment in your fleet (ATV, tractor, excavator, bulldozer, sweeper, etc.)? | J53: Please Select
A54: If possible, please provide the number of off-road vehicles

Sheet EV Charging Stations
A1: INSTRUCTIONS ON FILLING OUT TAB
A2: EV Charging Stations | C2: On this tab you will find a list of EV charging stations that have been reported to LBE for your agency/campus, along with charging station details. Please make any corrections where necessary and enter any additional stations that you have installed.
C3: Note: Dropdown lists will help to populate fields. If you have additional information not included in the lists, please make a note of this in the "Notes" section.
C4: Please answer all items in yellow where applicable.
C6: Agency/Campus: | E6: ='Contact Information '!I8 -> Please select your answer from the dropdown
A9: EV Charging Stations
A10: Section I | B10: Existing EV Charging Stations. This EV charging stations section is pre-populated, please verify and correct.
A11: Section II | B11: Expected EV Charging Stations. Please add any EV charging stations that are planned or in progress.
A13: SECTION I
A14: EV Charging Stations at State Facilities
A15: Please review the pre-populated list, where applicable enter details in Corrections/Notes column.
A16: If you have additional EV charging stations that are not in the pre-populated list, please add them in yellow rows below.
B17: Site | C17: Site Details | D17: Type of Charger | E17: # of stations | F17: # of ports | G17: Installation Date | H17: Access Type (e.g., Public, Fleet) | I17: Corrections/Notes
A18: 1 | B18: =IFERROR(VLOOKUP($E$6&$A18,'EV Charging Stations source'!$A:$K,4,FALSE),"") | C18: =IFERROR(VLOOKUP($E$6&$A18,'EV Charging Stations source'!$A:$K,5,FALSE),"") | D18: =IFERROR(VLOOKUP($E$6&$A18,'EV Charging Stations source'!$A:$K,6,FALSE),"") | E18: =IFERROR(VLOOKUP($E$6&$A18,'EV Charging Stations source'!$A:$K,7,FALSE),"") | F18: =IFERROR(VLOOKUP($E$6&$A18,'EV Charging Stations source'!$A:$K,8,FALSE),"") | G18: =IFERROR(VLOOKUP($E$6&$A18,'EV Charging Stations source'!$A:$K,9,FALSE)," ") | H18: =IFERROR(VLOOKUP($E$6&$A18,'EV Charging Stations source'!$A:$K,10,FALSE)," ")
A19: 2 | B19: =IFERROR(VLOOKUP($E$6&$A19,'EV Charging Stations source'!$A:$K,4,FALSE),"") | C19: =IFERROR(VLOOKUP($E$6&$A19,'EV Charging Stations source'!$A:$K,5,FALSE),"") | D19: =IFERROR(VLOOKUP($E$6&$A19,'EV Charging Stations source'!$A:$K,6,FALSE),"") | E19: =IFERROR(VLOOKUP($E$6&$A19,'EV Charging Stations source'!$A:$K,7,FALSE),"") | F19: =IFERROR(VLOOKUP($E$6&$A19,'EV Charging Stations source'!$A:$K,8,FALSE),"") | G19: =IFERROR(VLOOKUP($E$6&$A19,'EV Charging Stations source'!$A:$K,9,FALSE)," ") | H19: =IFERROR(VLOOKUP($E$6&$A19,'EV Charging Stations source'!$A:$K,10,FALSE)," ")
A20: 3 | B20: =IFERROR(VLOOKUP($E$6&$A20,'EV Charging Stations source'!$A:$K,4,FALSE),"") | C20: =IFERROR(VLOOKUP($E$6&$A20,'EV Charging Stations source'!$A:$K,5,FALSE),"") | D20: =IFERROR(VLOOKUP($E$6&$A20,'EV Charging Stations source'!$A:$K,6,FALSE),"") | E20: =IFERROR(VLOOKUP($E$6&$A20,'EV Charging Stations source'!$A:$K,7,FALSE),"") | F20: =IFERROR(VLOOKUP($E$6&$A20,'EV Charging Stations source'!$A:$K,8,FALSE),"") | G20: =IFERROR(VLOOKUP($E$6&$A20,'EV Charging Stations source'!$A:$K,9,FALSE)," ") | H20: =IFERROR(VLOOKUP($E$6&$A20,'EV Charging Stations source'!$A:$K,10,FALSE)," ")
A21: 4 | B21: =IFERROR(VLOOKUP($E$6&$A21,'EV Charging Stations source'!$A:$K,4,FALSE),"") | C21: =IFERROR(VLOOKUP($E$6&$A21,'EV Charging Stations source'!$A:$K,5,FALSE),"") | D21: =IFERROR(VLOOKUP($E$6&$A21,'EV Charging Stations source'!$A:$K,6,FALSE),"") | E21: =IFERROR(VLOOKUP($E$6&$A21,'EV Charging Stations source'!$A:$K,7,FALSE),"") | F21: =IFERROR(VLOOKUP($E$6&$A21,'EV Charging Stations source'!$A:$K,8,FALSE),"") | G21: =IFERROR(VLOOKUP($E$6&$A21,'EV Charging Stations source'!$A:$K,9,FALSE)," ") | H21: =IFERROR(VLOOKUP($E$6&$A21,'EV Charging Stations source'!$A:$K,10,FALSE)," ")
A22: 5 | B22: =IFERROR(VLOOKUP($E$6&$A22,'EV Charging Stations source'!$A:$K,4,FALSE),"") | C22: =IFERROR(VLOOKUP($E$6&$A22,'EV Charging Stations source'!$A:$K,5,FALSE),"") | D22: =IFERROR(VLOOKUP($E$6&$A22,'EV Charging Stations source'!$A:$K,6,FALSE),"") | E22: =IFERROR(VLOOKUP($E$6&$A22,'EV Charging Stations source'!$A:$K,7,FALSE),"") | F22: =IFERROR(VLOOKUP($E$6&$A22,'EV Charging Stations source'!$A:$K,8,FALSE),"") | G22: =IFERROR(VLOOKUP($E$6&$A22,'EV Charging Stations source'!$A:$K,9,FALSE)," ") | H22: =IFERROR(VLOOKUP($E$6&$A22,'EV Charging Stations source'!$A:$K,10,FALSE)," ")
A23: 6 | B23: =IFERROR(VLOOKUP($E$6&$A23,'EV Charging Stations source'!$A:$K,4,FALSE),"") | C23: =IFERROR(VLOOKUP($E$6&$A23,'EV Charging Stations source'!$A:$K,5,FALSE),"") | D23: =IFERROR(VLOOKUP($E$6&$A23,'EV Charging Stations source'!$A:$K,6,FALSE),"") | E23: =IFERROR(VLOOKUP($E$6&$A23,'EV Charging Stations source'!$A:$K,7,FALSE),"") | F23: =IFERROR(VLOOKUP($E$6&$A23,'EV Charging Stations source'!$A:$K,8,FALSE),"") | G23: =IFERROR(VLOOKUP($E$6&$A23,'EV Charging Stations source'!$A:$K,9,FALSE)," ") | H23: =IFERROR(VLOOKUP($E$6&$A23,'EV Charging Stations source'!$A:$K,10,FALSE)," ")
A24: 7 | B24: =IFERROR(VLOOKUP($E$6&$A24,'EV Charging Stations source'!$A:$K,4,FALSE),"") | C24: =IFERROR(VLOOKUP($E$6&$A24,'EV Charging Stations source'!$A:$K,5,FALSE),"") | D24: =IFERROR(VLOOKUP($E$6&$A24,'EV Charging Stations source'!$A:$K,6,FALSE),"") | E24: =IFERROR(VLOOKUP($E$6&$A24,'EV Charging Stations source'!$A:$K,7,FALSE),"") | F24: =IFERROR(VLOOKUP($E$6&$A24,'EV Charging Stations source'!$A:$K,8,FALSE),"") | G24: =IFERROR(VLOOKUP($E$6&$A24,'EV Charging Stations source'!$A:$K,9,FALSE)," ") | H24: =IFERROR(VLOOKUP($E$6&$A24,'EV Charging Stations source'!$A:$K,10,FALSE)," ")
A25: 8 | B25: =IFERROR(VLOOKUP($E$6&$A25,'EV Charging Stations source'!$A:$K,4,FALSE),"") | C25: =IFERROR(VLOOKUP($E$6&$A25,'EV Charging Stations source'!$A:$K,5,FALSE),"") | D25: =IFERROR(VLOOKUP($E$6&$A25,'EV Charging Stations source'!$A:$K,6,FALSE),"") | E25: =IFERROR(VLOOKUP($E$6&$A25,'EV Charging Stations source'!$A:$K,7,FALSE),"") | F25: =IFERROR(VLOOKUP($E$6&$A25,'EV Charging Stations source'!$A:$K,8,FALSE),"") | G25: =IFERROR(VLOOKUP($E$6&$A25,'EV Charging Stations source'!$A:$K,9,FALSE)," ") | H25: =IFERROR(VLOOKUP($E$6&$A25,'EV Charging Stations source'!$A:$K,10,FALSE)," ")
A26: 9 | B26: =IFERROR(VLOOKUP($E$6&$A26,'EV Charging Stations source'!$A:$K,4,FALSE),"") | C26: =IFERROR(VLOOKUP($E$6&$A26,'EV Charging Stations source'!$A:$K,5,FALSE),"") | D26: =IFERROR(VLOOKUP($E$6&$A26,'EV Charging Stations source'!$A:$K,6,FALSE),"") | E26: =IFERROR(VLOOKUP($E$6&$A26,'EV Charging Stations source'!$A:$K,7,FALSE),"") | F26: =IFERROR(VLOOKUP($E$6&$A26,'EV Charging Stations source'!$A:$K,8,FALSE),"") | G26: =IFERROR(VLOOKUP($E$6&$A26,'EV Charging Stations source'!$A:$K,9,FALSE)," ") | H26: =IFERROR(VLOOKUP($E$6&$A26,'EV Charging Stations source'!$A:$K,10,FALSE)," ")
A27: 10 | B27: =IFERROR(VLOOKUP($E$6&$A27,'EV Charging Stations source'!$A:$K,4,FALSE),"") | C27: =IFERROR(VLOOKUP($E$6&$A27,'EV Charging Stations source'!$A:$K,5,FALSE),"") | D27: =IFERROR(VLOOKUP($E$6&$A27,'EV Charging Stations source'!$A:$K,6,FALSE),"") | E27: =IFERROR(VLOOKUP($E$6&$A27,'EV Charging Stations source'!$A:$K,7,FALSE),"") | F27: =IFERROR(VLOOKUP($E$6&$A27,'EV Charging Stations source'!$A:$K,8,FALSE),"") | G27: =IFERROR(VLOOKUP($E$6&$A27,'EV Charging Stations source'!$A:$K,9,FALSE)," ") | H27: =IFERROR(VLOOKUP($E$6&$A27,'EV Charging Stations source'!$A:$K,10,FALSE)," ")
A28: 11 | B28: =IFERROR(VLOOKUP($E$6&$A28,'EV Charging Stations source'!$A:$K,4,FALSE),"") | C28: =IFERROR(VLOOKUP($E$6&$A28,'EV Charging Stations source'!$A:$K,5,FALSE),"") | D28: =IFERROR(VLOOKUP($E$6&$A28,'EV Charging Stations source'!$A:$K,6,FALSE),"") | E28: =IFERROR(VLOOKUP($E$6&$A28,'EV Charging Stations source'!$A:$K,7,FALSE),"") | F28: =IFERROR(VLOOKUP($E$6&$A28,'EV Charging Stations source'!$A:$K,8,FALSE),"") | G28: =IFERROR(VLOOKUP($E$6&$A28,'EV Charging Stations source'!$A:$K,9,FALSE)," ") | H28: =IFERROR(VLOOKUP($E$6&$A28,'EV Charging Stations source'!$A:$K,10,FALSE)," ")
A29: 12 | B29: =IFERROR(VLOOKUP($E$6&$A29,'EV Charging Stations source'!$A:$K,4,FALSE),"") | C29: =IFERROR(VLOOKUP($E$6&$A29,'EV Charging Stations source'!$A:$K,5,FALSE),"") | D29: =IFERROR(VLOOKUP($E$6&$A29,'EV Charging Stations source'!$A:$K,6,FALSE),"") | E29: =IFERROR(VLOOKUP($E$6&$A29,'EV Charging Stations source'!$A:$K,7,FALSE),"") | F29: =IFERROR(VLOOKUP($E$6&$A29,'EV Charging Stations source'!$A:$K,8,FALSE),"") | G29: =IFERROR(VLOOKUP($E$6&$A29,'EV Charging Stations source'!$A:$K,9,FALSE)," ") | H29: =IFERROR(VLOOKUP($E$6&$A29,'EV Charging Stations source'!$A:$K,10,FALSE)," ")
... A53: 36 | B53: =IFERROR(VLOOKUP($E$6&$A53,'EV Charging Stations source'!$A:$K,4,FALSE),"") | C53: =IFERROR(VLOOKUP($E$6&$A53,'EV Charging Stations source'!$A:$K,5,FALSE),"") | D53: =IFERROR(VLOOKUP($E$6&$A53,'EV Charging Stations source'!$A:$K,6,FALSE),"") | E53: =IFERROR(VLOOKUP($E$6&$A53,'EV Charging Stations source'!$A:$K,7,FALSE),"") | F53: =IFERROR(VLOOKUP($E$6&$A53,'EV Charging Stations source'!$A:$K,8,FALSE),"") | G53: =IFERROR(VLOOKUP($E$6&$A53,'EV Charging Stations source'!$A:$K,9,FALSE)," ") | H53: =IFERROR(VLOOKUP($E$6&$A53,'EV Charging Stations source'!$A:$K,10,FALSE)," ")
A55: Add any EV charging stations that are currently installed but NOT listed in Section I.
B56: Site Name | C56: Site Address | D56: Type of Charger | E56: # of Stations | F56: Single or Dual Head? | G56: Installation Date (Month & Year) | H56: Access | I56: Corrections/Notes
D57: Please Select | F57: Please Select | H57: Please Select
D58: Please Select | F58: Please Select | H58: Please Select
D59: Please Select | F59: Please Select | H59: Please Select
D60: Please Select | F60: Please Select | H60: Please Select
D61: Please Select | F61: Please Select | H61: Please Select
D62: Please Select | F62: Please Select | H62: Please Select
D63: Please Select | F63: Please Select | H63: Please Select
D64: Please Select | F64: Please Select | H64: Please Select
D65: Please Select | F65: Please Select | H65: Please Select
A67: SECTION II
A68: EV Charging Stations in progress or planned
A69: If you have additional EV charging station installation projects that are in progress or planned within the next year, please list them below.
...

Sheet EV Charging Stations source
A1: Agency # | B1: # | C1: Agency | D1: Site | E1: Site Address/Details | F1: Charger Type | G1: # of stations | H1: # of ports | I1: Installation Date | J1: Access Type | K1: Notes
A2: =C2&B2 -> Barnstable Sheriff's Office1 | B2: 1 | C2: Barnstable Sheriff's Office | D2: Barnstable Sheriff | E2: 6000 Sheriff's Place | F2: Level 2 | G2: 4 | H2: 8 | I2: 45566 | J2: Fleet Charging Only
A3: =C3&B3 -> Barnstable Sheriff's Office2 | B3: 2 | C3: Barnstable Sheriff's Office | D3: Former Sheriff's Residence | E3: 3195 Main Street | F3: Level 2 | G3: 1 | H3: 2 | I3: 45834 | J3: Fleet Charging Only
A4: =C4&B4 -> Berkshire Community College1 | B4: 1 | C4: Berkshire Community College | D4: Berkshire Community College | E4: 1350 West Street | F4: Level 2 | G4: 8 | H4: 8 | I4: 45870 | J4: Fleet Charging Only
A5: =C5&B5 -> Bridgewater State University1 | B5: 1 | C5: Bridgewater State University | D5: BRIDGEWATER STATE UNIVERSITY | E5: Great Hill Drive | F5: Level 2 | G5: 3 | H5: 6 | I5: Pre-2023 | J5: Fleet Charging Only
A6: =C6&B6 -> Bridgewater State University2 | B6: 2 | C6: Bridgewater State University | D6: Dana Mohler-Faria Science & Mathematics Center | E6: 24 Park Ave | F6: Level 1 | G6: 8 | H6: 16 | I6: None listed | J6: Employees Only
A7: =C7&B7 -> Bridgewater State University3 | B7: 3 | C7: Bridgewater State University | D7: Tinsley Center | E7: 325 Plymouth St | F7: Level 1 | G7: 2 | H7: 4 | I7: None listed | J7: Employees Only
A8: =C8&B8 -> Bridgewater State University4 | B8: 4 | C8: Bridgewater State University | D8: Bridgewater State University | E8: 200 Great Hill Drive | F8: Level 2 | G8: 2 | H8: 4 | I8: 45461 | J8: Fleet Charging Only
A9: =C9&B9 -> Bristol Community College1 | B9: 1 | C9: Bristol Community College | D9: BRISTOL COMMUNITY COLLEGE | E9: 777 Elsbree Street | F9: Level 2 | G9: 1 | H9: 2 | I9: None listed | J9: Public
A10: =C10&B10 -> Bristol Community College2 | B10: 2 | C10: Bristol Community College | D10: BRISTOL COMMUNITY COLLEGE | E10: 777 Elsbree Street | F10: Level 2 | G10: 5 | H10: 10 | I10: None listed | J10: Public
A11: =C11&B11 -> Bristol Community College3 | B11: 3 | C11: Bristol Community College | D11: BRISTOL COMMUNITY COLLEGE | E11: 777 Elsbree Street | F11: Level 2 | G11: 5 | H11: 10 | I11: None listed | J11: Public
A12: =C12&B12 -> Bristol Community College4 | B12: 4 | C12: Bristol Community College | D12: BRISTOL COMMUNITY COLLEGE | E12: 777 Elsbree Street | F12: DCFC | G12: 6 | H12: 12 | I12: Fall 2025 | J12: Public
A13: =C13&B13 -> Bunker Hill Community College1 | B13: 1 | C13: Bunker Hill Community College | D13: Bunker Hill Community College | E13: 250 New Rutherford Avenue | F13: Level 2 | G13: 6 | H13: 11 | I13: 45413 | J13: Employees/Students Only
A14: =C14&B14 -> Cape Cod Community College1 | B14: 1 | C14: Cape Cod Community College | D14: Cape Cod CC Lot 12 | E14: 2240 Lyannough Road | F14: Level 2 | G14: 2 | H14: 4 | I14: 45108 | J14: Public
A15: =C15&B15 -> Cape Cod Community College2 | B15: 2 | C15: Cape Cod Community College | D15: Frank & Maureen Wilkens Science & Engineering Center | E15: 2240 Lyannough Road | F15: Level 2 | G15: 1 | H15: 2 | I15: 44805 | J15: Public
A16: =C16&B16 -> Cape Cod Regional Transit Authority1 | B16: 1 | C16: Cape Cod Regional Transit Authority | D16: HYANNIS TRANSPORTATION CENTER | E16: 215 Iyannough Road | F16: Level 2 | G16: 1 | H16: 2 | I16: None listed | J16: Public
A17: =C17&B17 -> Cape Cod Regional Transit Authority2 | B17: 2 | C17: Cape Cod Regional Transit Authority | D17: HYANNIS TRANSPORTATION CENTER | E17: 215 Iyannough Road | F17: Level 2 | G17: 10 | H17: 20 | I17: None listed | J17: Public
A18: =C18&B18 -> Chief Medical Examiner1 | B18: 1 | C18: Chief Medical Examiner | D18: Cape Cod Office | E18: 1 Simpkins Road | F18: Level 2 | G18: 1 | H18: 2 | I18: 45717 | J18: Fleet Charging Only
A19: =C19&B19 -> Chief Medical Examiner2 | B19: 2 | C19: Chief Medical Examiner | D19: Westfield Office | E19: 178 East Mountain Road | F19: Level 2 | G19: 1 | H19: 2 | I19: 45717 | J19: Fleet Charging Only
A20: =C20&B20 -> Chief Medical Examiner3 | B20: 3 | C20: Chief Medical Examiner | D20: Boston Office | E20: 720 Albany Street | F20: Level 2 | G20: 2 | H20: 2 | I20: 45717 | J20: Fleet Charging Only
A21: =C21&B21 -> Div. of Capital Asset Management & Maintenance1 | B21: 1 | C21: Div. of Capital Asset Management & Maintenance | D21: DIVISION OF CAPITAL ASSET MANAGEMENT | E21: 436 Dwight Street | F21: Level 2 | G21: 1 | H21: 2 | I21: None listed | J21: Other
A22: =C22&B22 -> Div. of Capital Asset Management & Maintenance2 | B22: 2 | C22: Div. of Capital Asset Management & Maintenance | D22: McCormack Building | E22: 1 Ashburton Place | F22: Level 2 | G22: 3 | H22: 6 | I22: None listed | J22: Public
A23: =C23&B23 -> Div. of Capital Asset Management & Maintenance3 | B23: 3 | C23: Div. of Capital Asset Management & Maintenance | D23: Mass. Information Technology Center | E23: 200 Arlington Street | F23: Level 2 | G23: 4 | H23: 8 | I23: 45566 | J23: Fleet Charging Only
A24: =C24&B24 -> Div. of Capital Asset Management & Maintenance4 | B24: 4 | C24: Div. of Capital Asset Management & Maintenance | D24: McCormack Building | E24: 1 Ashburton Place | F24: Level 2 | G24: 2 | H24: 4 | I24: 45717 | J24: Fleet Charging Only
A25: =C25&B25 -> Div. of Capital Asset Management & Maintenance5 | B25: 5 | C25: Div. of Capital Asset Management & Maintenance | D25: Springfield State Office Building | E25: 436 Dwight Street | F25: Level 2 | G25: 3 | H25: 6 | I25: 45566 | J25: Fleet Charging Only
A26: =C26&B26 -> Div. of Capital Asset Management & Maintenance6 | B26: 6 | C26: Div. of Capital Asset Management & Maintenance | D26: Pittsfield State Office Building | E26: 333 East Street | F26: Level 2 | G26: 2 | H26: 4 | I26: 45566 | J26: Fleet Charging Only
A27: =C27&B27 -> Div. of Capital Asset Management & Maintenance7 | B27: 7 | C27: Div. of Capital Asset Management & Maintenance | D27: ITD Data Center at Springfield | E27: 53 Elliot Street | F27: Level 2 | G27: 2 | H27: 2 | I27: 45717 | J27: Fleet Charging Only
A28: =C28&B28 -> Dept. of Agriculture1 | B28: 1 | C28: Dept. of Agriculture | D28: Dept. of Agriculture | E28: 225 Turnpike Road | F28: Level 2 | G28: 2 | H28: 4 | I28: 45261 | J28: Fleet Charging Only
A29: =C29&B29 -> Dept. of Conservation & Recreation1 | B29: 1 | C29: Dept. of Conservation & Recreation | D29: DCR Walden Pond | E29: 915 Walden St | F29: Level 2 | G29: 2 | H29: 4 | I29: 42988 | J29: Public
A30: =C30&B30 -> Dept. of Conservation & Recreation2 | B30: 2 | C30: Dept. of Conservation & Recreation | D30: North Point Maintenance Facility | E30: 6 Museum Way | F30: Level 2 | G30: 3 | H30: 6 | I30: 45041 | J30: Fleet Charging Only
A31: =C31&B31 -> Dept. of Conservation & Recreation3 | B31: 3 | C31: Dept. of Conservation & Recreation | D31: Worcester Visitor Center | E31: 2 Clancy Way | F31: Level 2 | G31: 1 | H31: 1 | I31: None listed | J31: Public
A32: =C32&B32 -> Dept. of Conservation & Recreation4 | B32: 4 | C32: Dept. of Conservation & Recreation | D32: Edwin H Land Blvd PSO Garage Building | E32: 24 Monsignor O'Brien Highway | F32: Level 2 | G32: 1 | H32: 3 | I32: 45261 | J32: Fleet Charging Only
A33: =C33&B33 -> Dept. of Conservation & Recreation5 | B33: 5 | C33: Dept. of Conservation & Recreation | D33: Wompatuck State Park Torpedo Shed | E33: 204 Union Street | F33: Level 2 | G33: 1 | H33: 4 | I33: 45261 | J33: Fleet Charging Only
A34: =C34&B34 -> Dept. of Conservation & Recreation6 | B34: 6 | C34: Dept. of Conservation & Recreation | D34: Fall River Heritage State Park Boat House | E34: 200 Davol Street | F34: Level 2 | G34: 1 | H34: 3 | I34: 45261 | J34: Fleet Charging Only
A35: =C35&B35 -> Dept. of Conservation & Recreation7 | B35: 7 | C35: Dept. of Conservation & Recreation | D35: Waquoit Bay Operations Building | E35: 131 Waquoit Highway | F35: Level 2 | G35: 1 | H35: 3 | I35: 45309 | J35: Fleet Charging Only
A36: =C36&B36 -> Dept. of Conservation & Recreation8 | B36: 8 | C36: Dept. of Conservation & Recreation | D36: Bajko Rink | E36: 75 Turtle Pond Parkway | F36: Level 2 | G36: 3 | H36: 6 | I36: 45890 | J36: Public
A37: =C37&B37 -> Dept. of Conservation & Recreation9 | B37: 9 | C37: Dept. of Conservation & Recreation | D37: Neponset Garage | E37: 475 Neponset Avenue | F37: Level 2 | G37: 1 | H37: 1 | I37: 45292 | J37: Fleet Charging Only
A38: =C38&B38 -> Dept. of Conservation & Recreation10 | B38: 10 | C38: Dept. of Conservation & Recreation | D38: Quabbin Reservoir Watershed | E38: 100 Winsor Dam Road | F38: Level 2 | G38: 3 | H38: 6 | I38: 45536 | J38: Fleet Charging Only
A39: =C39&B39 -> Dept. of Conservation & Recreation11 | B39: 11 | C39: Dept. of Conservation & Recreation | D39: Dunn State Park | E39: 289 Pearl Street | F39: Level 2 | G39: 1 | H39: 1 | I39: 45323 | J39: Fleet Charging Only
A40: =C40&B40 -> Dept. of Conservation & Recreation12 | B40: 12 | C40: Dept. of Conservation & Recreation | D40: Hopkinton State Park | E40: 164 Cedar Street | F40: Level 2 | G40: 1 | H40: 3 | I40: 45323 | J40: Fleet Charging Only
...

Sheet Renewable Thermal Sites
A1: =C1&B1 -> Agency# | B1: # | C1: Agency | D1: System Type | E1: Site | F1: City/Town | G1: Capacity | H1: Capacity Units | I1: FY Complete
A2: =C2&B2 -> Berkshire County Sheriff's Office1 | B2: 1 | C2: Berkshire County Sheriff's Office | D2: Solar Thermal | E2: Berkshire HOC Main Facility- Sheriff | F2: Berkshire | I2: 2015
A3: =C3&B3 -> Bridgewater State University1 | B3: 1 | C3: Bridgewater State University | D3: Solar Thermal | E3: Bridgewater State University | F3: Bridgewater | G3: 40 (units) | I3: 2012
A4: =C4&B4 -> Bridgewater State University2 | B4: 2 | C4: Bridgewater State University | D4: Solar Thermal | E4: Bridgewater State University | F4: Bridgewater | I4: 2022
A5: =C5&B5 -> Bridgewater State University3 | B5: 3 | C5: Bridgewater State University | D5: Solar Thermal | E5: Bridgewater State University | F5: Bridgewater
A6: =C6&B6 -> Bridgewater State University4 | B6: 4 | C6: Bridgewater State University | D6: Solar Thermal | E6: Bridgewater State University | F6: Bridgewater | G6: 1.3 kW | I6: 2021
A7: =C7&B7 -> Bridgewater State University5 | B7: 5 | C7: Bridgewater State University | D7: Solar Thermal | E7: Bridgewater State University | F7: Bridgewater | I7: 2023
A8: =C8&B8 -> Bridgewater State University6 | B8: 6 | C8: Bridgewater State University | D8: Solar Thermal | E8: Bridgewater State University | F8: Bridgewater
A9: =C9&B9 -> Bridgewater State University7 | B9: 7 | C9: Bridgewater State University | D9: Solar Thermal | E9: Bridgewater State University | F9: Bridgewater | I9: 2023
A10: =C10&B10 -> Bristol Community College1 | B10: 1 | C10: Bristol Community College | D10: Ground Source Heat Pump | E10: Bristol Community College | F10: Fall River | G10: 120 | I10: 2016
A11: =C11&B11 -> Bristol Community College2 | B11: 2 | C11: Bristol Community College | D11: Air Source Heat Pump | E11: Bristol Community College | F11: Fall River | G11: 130 (tons) | I11: 2016
A12: =C12&B12 -> Bristol Community College3 | B12: 3 | C12: Bristol Community College | D12: Solar Thermal | E12: Bristol Community College | F12: Fall River | G12: 181 (MMBtu) | I12: 2016
A13: =C13&B13 -> Bristol County Sheriff's Office1 | B13: 1 | C13: Bristol County Sheriff's Office | D13: Solar Thermal | E13: Bristol County Sheriff's Office | F13: North Dartmouth | G13: 919 sq ft | I13: 2017
A14: =C14&B14 -> Dept. of Conservation & Recreation1 | B14: 1 | C14: Dept. of Conservation & Recreation | D14: Biomass | E14: DCR Blackstone Heritage Corridor | F14: Worcester | G14: 3x191 (MBH) | I14: 2018
A15: =C15&B15 -> Dept. of Conservation & Recreation2 | B15: 2 | C15: Dept. of Conservation & Recreation | D15: Biomass | E15: DCR Camp Nihan | F15: Saugus | G15: 191 (MBH) | I15: 2016
A16: =C16&B16 -> Dept. of Conservation & Recreation3 | B16: 3 | C16: Dept. of Conservation & Recreation | D16: Biomass | E16: DCR Holyoke Range State Park | F16: Amherst | G16: 191 (MBH) | I16: 2010
A17: =C17&B17 -> Dept. of Conservation & Recreation4 | B17: 4 | C17: Dept. of Conservation & Recreation | D17: Biomass | E17: DCR Holyoke Range State Park | F17: Amherst | G17: 191 (MBH) | I17: 2010
A18: =C18&B18 -> Dept. of Conservation & Recreation5 | B18: 5 | C18: Dept. of Conservation & Recreation | D18: Air Source Heat Pump | E18: DCR Halibut Point State Park | F18: Rockport | I18: 2019
