Workbook

Sheet Instructions
A1: INSTRUCTIONS FOR DEVELOPING A CHART FOR NEW YEAR
A3: 1. Create a copy of this workbook with the new year in the name.
A4: 2. Go to the "20XX SMI" tab. Change the tab name to include the new year. Follow the instructions to update the numbers.
B5: Note that information must stay in exactly the same cells to be picked up correctly to compute the chart
A6: 3. Go to the "20XX FPG" tab. Change the tab name to include th enew year. Follow th instructions to update the numbers.
B7: Note that information must stay in exactly the same cells to be picked up correctly to compute the chart
A8: 4. The tab "Chart with formulas" will update automatically with the new year's data. Verify as follows:
B9: Spot-check that the first row uses the updated poverty guidelines, in monthly terms.
B10: Spot-check that the right-side numbers in the last row use the 85% SMI figures, in monthly terms.
B11: Spot-check that, within each family size, the amount of dollars is the same in every row, with the except of in the first row.
B12: Compare to the prior workbook. Any large differences in numbers should be investigated.
A13: 5. The final chart can then by copy/pasted, as values, into the publication version of the parent fee chart (after copied, make sure to change the effective dates at the top and bottom right and update the example calculation in step 4.

Sheet 2027 SMI
A1: APPLICABLE SMI NUMBERS
A3: If the SMI table is available in this format, copy/paste the information for 85% SMI into the cells in orange.
A4: The chart will refer to the monthly data in these cells.
A5: If the SMI information is not yet available, look below for information on how to obtain the updated SMI information.
A6: Uses that information to construct the dollar amounts for each row, for each family size.
A9: COMMONWEALTH OF MASSACHUSETTS
A10: DEPARTMENT OF EARLY EDUCATION AND CARE
A11: INCOME ELIGIBILITY TABLE
A14: % of State Median Income (SMI) | B14: Family of Two | D14: Family of Three | F14: Family of Four | H14: Family of Five | J14: Family of Six | L14: Family of Seven
B16: Annual | C16: Monthly* | D16: Annual | E16: Monthly | F16: Annual | G16: Monthly | H16: Annual | I16: Monthly | J16: Annual | K16: Monthly | L16: Annual | M16: Monthly
A17: 85% SMI | B17: =C36 -> 99271 | C17: =C37 -> 8272.6 | D17: =D36 -> 122629 | E17: =D37 -> 10219.1 | F17: =E36 -> 145987 | G17: =E37 -> 12165.6 | H17: =F36 -> 169345 | I17: =F37 -> 14112.1 | J17: =G36 -> 192703 | K17: =G37 -> 16058.6 | L17: =H36 -> 197082 | M17: =H37 -> 16423.5
A19: % of State Median Income (SMI) | B19: Family of Eight | D19: Family of Nine | F19: Family of Ten | H19: Family of Eleven | J19: Family of Twelve
B21: Annual | C21: Monthly | D21: Annual | E21: Monthly | F21: Annual | G21: Monthly | H21: Annual | I21: Monthly | J21: Annual | K21: Monthly
A22: 85% SMI | B22: =I36 -> 201462 | C22: =I37 -> 16788.5 | D22: =J36 -> 205841 | E22: =J37 -> 17153.4 | F22: =K36 -> 210221 | G22: =K37 -> 17518.4 | H22: =L36 -> 214600 | I22: =L37 -> 17883.3 | J22: =M36 -> 218980 | K22: =M37 -> 18248.3
O23: 0 | P23: =+O23*5 -> 0 | Q23: =+O23*0.6 -> 0 | R23: =+Q23*5 -> 0
A24: Underlying source is the information released each year for LIHEAP purposes:
A25: Here is the document with SMIs for use in FFY 2027
A26: https://acf.gov/sites/default/files/documents/ocs/COMM_LIHEAP_Att4SMITable_States_FY2027.pdf | O26: 4.5 | P26: =+O26*5 -> 22.5 | Q26: =+O26*0.6 -> 2.7 | R26: =+Q26*5 -> 13.5
O27: 5.5 | P27: =+O27*5 -> 27.5 | Q27: =+O27*0.6 -> 3.3 | R27: =+Q27*5 -> 16.5
A28: IF YOU NEED TO UPDATE THE SMI NUMBERS FROM THIS SOURCE:
A29: In the table, find the row for Massachusetts and find the number in the first column -- SMI for a 4-person family: | H29: 171749 | O29: 6.5 | P29: =+O29*5 -> 32.5 | Q29: =+O29*0.6 -> 3.9 | R29: =+Q29*5 -> 19.5
A30: Figure for other family sizes are obtained relative to that number, as follows: | O30: 7.5 | P30: =+O30*5 -> 37.5 | Q30: =+O30*0.6 -> 4.5 | R30: =+Q30*5 -> 22.5
C32: Family size
C33: 2 | D33: 3 | E33: 4 | F33: 5 | G33: 6 | H33: 7 | I33: 8 | J33: 9 | K33: 10 | L33: 11 | M33: 12
B34: factor relative to size 4 | C34: 0.68 | D34: 0.84 | E34: 1 | F34: 1.16 | G34: 1.32 | H34: 1.35 | I34: 1.38 | J34: 1.41 | K34: 1.44 | L34: 1.47 | M34: 1.5
B35: 100% SMI | C35: =+C34*$H$29 -> 116789.32 | D35: =+D34*$H$29 -> 144269.16 | E35: =+E34*$H$29 -> 171749 | F35: =+F34*$H$29 -> 199228.84 | G35: =+G34*$H$29 -> 226708.68 | H35: =+H34*$H$29 -> 231861.15 | I35: =+I34*$H$29 -> 237013.62 | J35: =+J34*$H$29 -> 242166.09 | ... M35: =+M34*$H$29 -> 257623.5
B36: 85% SMI annual | C36: ='TAB A'!B12 -> 99271 | D36: ='TAB A'!D12 -> 122629 | E36: ='TAB A'!F12 -> 145987 | F36: ='TAB A'!H12 -> 169345 | G36: ='TAB A'!J12 -> 192703 | H36: ='TAB A'!L12 -> 197082 | I36: ='TAB A'!B19 -> 201462 | J36: ='TAB A'!D19 -> 205841 | K36: ='TAB A'!F19 -> 210221 | L36: ='TAB A'!H19 -> 214600 | M36: ='TAB A'!J19 -> 218980
B37: 85% SMI monthly | C37: =ROUND(C36/12,1) -> 8272.6 | D37: =ROUND(D36/12,1) -> 10219.1 | E37: =ROUND(E36/12,1) -> 12165.6 | F37: =ROUND(F36/12,1) -> 14112.1 | G37: =ROUND(G36/12,1) -> 16058.6 | H37: =ROUND(H36/12,1) -> 16423.5 | I37: =ROUND(I36/12,1) -> 16788.5 | J37: =ROUND(J36/12,1) -> 17153.4 | ... M37: =ROUND(M36/12,1) -> 18248.3
O38: 8 | P38: =+O38*5 -> 40 | Q38: =+O38*0.6 -> 4.8 | R38: =+Q38*5 -> 24
A39: these #s do not change | O39: 32 | P39: =+O39*5 -> 160 | Q39: =+O39*0.6 -> 19.2 | R39: =+Q39*5 -> 96
A40: update automatically if new 4-person SMI is filled in | O40: 35 | P40: =+O40*5 -> 175 | Q40: =+O40*0.6 -> 21 | R40: =+Q40*5 -> 105
O41: 41 | P41: =+O41*5 -> 205 | Q41: =+O41*0.6 -> 24.6 | R41: =+Q41*5 -> 123

Sheet 2027 FPG
A1: APPLICABLE FPG NUMBERS
A3: Go to the HHS/ASPE webpage with the poverty guidelines -- typically released in late January or early February.
A4: Here is the page with the 2026poverty guidelines: https://aspe.hhs.gov/poverty-guidelines
A5: Find the section for the 48 contiguous states and DC.
A6: Uses that information to construct the dollar amounts for each row, for each family size.
A7: These cells will update automatically
A10: Family Size | B10: Annual Income | C10: Monthly Income | D10: For families/households with more than 8 persons, add this amount for each additional person: | E10: 5680
A11: 1 | B11: 15960 | C11: =ROUND(B11/12,0) -> 1330
A12: 2 | B12: 21640 | C12: =ROUND(B12/12,0) -> 1803
A13: 3 | B13: 27320 | C13: =ROUND(B13/12,0) -> 2277
A14: 4 | B14: 33000 | C14: =ROUND(B14/12,0) -> 2750
A15: 5 | B15: 38680 | C15: =ROUND(B15/12,0) -> 3223
A16: 6 | B16: 44360 | C16: =ROUND(B16/12,0) -> 3697
A17: 7 | B17: 50040 | C17: =ROUND(B17/12,0) -> 4170
A18: 8 | B18: 55720 | C18: =ROUND(B18/12,0) -> 4643
A19: 9 | B19: =B18+$E$10 -> 61400 | C19: =ROUND(B19/12,0) -> 5117
A20: 10 | B20: =B19+$E$10 -> 67080 | C20: =ROUND(B20/12,0) -> 5590
A21: 11 | B21: =B20+$E$10 -> 72760 | C21: =ROUND(B21/12,0) -> 6063
A22: 12 | B22: =B21+$E$10 -> 78440 | C22: =ROUND(B22/12,0) -> 6537

Sheet TAB A
A1: COMMONWEALTH OF MASSACHUSETTS
A2: DEPARTMENT OF EARLY EDUCATION AND CARE
A3: INCOME ELIGIBILITY TABLE
A5: Use This Form to Determine Family Eligibility:
A6: 1. Find the column with the family's size written at the top. 2. Read down the column until you come to the correct income (either annual or monthly). 3. Then read directly across to the left to determine "Percent of State Median Income." 4. Please refer to relevant SMI Percentage (i.e. initial vs. reassessment - OR - special needs) to determine the family's eligibility.
A8: % of State Median Income (SMI) | B8: Family of Two | D8: Family of Three | F8: Family of Four | H8: Family of Five | J8: Family of Six | L8: Family of Seven
B10: Annual | C10: Monthly* | D10: Annual | E10: Monthly | F10: Annual | G10: Monthly | H10: Annual | I10: Monthly | J10: Annual | K10: Monthly | L10: Annual | M10: Monthly
A11: 50% SMI | B11: =ROUND(+B13*0.5,0) -> 58395 | C11: =ROUND(+B11/12,0) -> 4866 | D11: =ROUND(+D13*0.5,0) -> 72135 | E11: =ROUND(+D11/12,0) -> 6011 | F11: =ROUND(+F13*0.5,0) -> 85875 | G11: =ROUND(+F11/12,0) -> 7156 | H11: =ROUND(+H13*0.5,0) -> 99615 | I11: =ROUND(+H11/12,0) -> 8301 | J11: =ROUND(+J13*0.5,0) -> 113355 | K11: =ROUND(+J11/12,0) -> 9446 | L11: =ROUND(+L13*0.5,0) -> 115931 | M11: =ROUND(+L11/12,0) -> 9661
A12: 85% SMI | B12: =ROUND(+B13*0.85,0) -> 99271 | C12: =ROUND(+B12/12,0) -> 8273 | D12: =ROUND(+D13*0.85,0) -> 122629 | E12: =ROUND(+D12/12,0) -> 10219 | F12: =ROUND(+F13*0.85,0) -> 145987 | G12: =ROUND(+F12/12,0) -> 12166 | H12: =ROUND(+H13*0.85,0) -> 169345 | I12: =ROUND(+H12/12,0) -> 14112 | J12: =ROUND(+J13*0.85,0) -> 192703 | K12: =ROUND(+J12/12,0) -> 16059 | L12: =ROUND(+L13*0.85,0) -> 197082 | M12: =ROUND(+L12/12,0) -> 16424
A13: 100% SMI | B13: =ROUND('Current SMI Family of 4 '!A1*0.68,0) -> 116789 | C13: =ROUND(+B13/12,0) -> 9732 | D13: =ROUND('Current SMI Family of 4 '!A1*0.84,0) -> 144269 | E13: =ROUND(+D13/12,0) -> 12022 | F13: ='Current SMI Family of 4 '!A1 -> 171749 | G13: =ROUND(+F13/12,0) -> 14312 | H13: =ROUND('Current SMI Family of 4 '!A1*1.16,0) -> 199229 | I13: =ROUND(H13/12,0) -> 16602 | J13: =ROUND('Current SMI Family of 4 '!A1*1.32,0) -> 226709 | K13: =ROUND(J13/12,0) -> 18892 | L13: =ROUND('Current SMI Family of 4 '!A1*1.35,0) -> 231861 | M13: =ROUND(L13/12,0) -> 19322
A15: % of State Median Income (SMI) | B15: Family of Eight | D15: Family of Nine | F15: Family of Ten | H15: Family of Eleven | J15: Family of Twelve
B17: Annual | C17: Monthly | D17: Annual | E17: Monthly | F17: Annual | G17: Monthly | H17: Annual | I17: Monthly | J17: Annual | K17: Monthly
A18: 50% SMI | B18: =ROUND(+B20*0.5,0) -> 118507 | C18: =ROUND(+B18/12,0) -> 9876 | D18: =ROUND(+D20*0.5,0) -> 121083 | E18: =ROUND(+D18/12,0) -> 10090 | F18: =ROUND(+F20*0.5,0) -> 123660 | G18: =ROUND(+F18/12,0) -> 10305 | H18: =ROUND(+H20*0.5,0) -> 126236 | I18: =ROUND(+H18/12,0) -> 10520 | J18: =ROUND(+J20*0.5,0) -> 128812 | K18: =ROUND(+J18/12,0) -> 10734
A19: 85% SMI | B19: =ROUND(+B20*0.85,0) -> 201462 | C19: =ROUND(+B19/12,0) -> 16789 | D19: =ROUND(+D20*0.85,0) -> 205841 | E19: =ROUND(+D19/12,0) -> 17153 | F19: =ROUND(+F20*0.85,0) -> 210221 | G19: =ROUND(+F19/12,0) -> 17518 | H19: =ROUND(+H20*0.85,0) -> 214600 | I19: =ROUND(+H19/12,0) -> 17883 | J19: =ROUND(+J20*0.85,0) -> 218980 | K19: =ROUND(+J19/12,0) -> 18248
A20: 100% SMI | B20: =ROUND('Current SMI Family of 4 '!A1*1.38,0) -> 237014 | C20: =ROUND(B20/12,0) -> 19751 | D20: =ROUND('Current SMI Family of 4 '!A1*1.41,0) -> 242166 | E20: =ROUND(D20/12,0) -> 20181 | F20: =ROUND('Current SMI Family of 4 '!A1*1.44,0) -> 247319 | G20: =ROUND(F20/12,0) -> 20610 | H20: =ROUND('Current SMI Family of 4 '!A1*1.47,0) -> 252471 | I20: =ROUND(H20/12,0) -> 21039 | J20: =ROUND('Current SMI Family of 4 '!A1*1.5,0) -> 257624 | K20: =ROUND(J20/12,0) -> 21469
O21: 0 | P21: =+O21*5 -> 0 | Q21: =+O21*0.6 -> 0 | R21: =+Q21*5 -> 0
O22: 4.5 | P22: =+O22*5 -> 22.5 | Q22: =+O22*0.6 -> 2.7 | R22: =+Q22*5 -> 13.5
O23: 5.5 | P23: =+O23*5 -> 27.5 | Q23: =+O23*0.6 -> 3.3 | R23: =+Q23*5 -> 16.5
O24: 6.5 | P24: =+O24*5 -> 32.5 | Q24: =+O24*0.6 -> 3.9 | R24: =+Q24*5 -> 19.5
O25: 7.5 | P25: =+O25*5 -> 37.5 | Q25: =+O25*0.6 -> 4.5 | R25: =+Q25*5 -> 22.5
O26: 8 | P26: =+O26*5 -> 40 | Q26: =+O26*0.6 -> 4.8 | R26: =+Q26*5 -> 24
O27: 8.5 | P27: =+O27*5 -> 42.5 | Q27: =+O27*0.6 -> 5.1 | R27: =+Q27*5 -> 25.5
O28: 9 | P28: =+O28*5 -> 45 | Q28: =+O28*0.6 -> 5.4 | R28: =+Q28*5 -> 27
O29: 12.5 | P29: =+O29*5 -> 62.5 | Q29: =+O29*0.6 -> 7.5 | R29: =+Q29*5 -> 37.5
O30: 15 | P30: =+O30*5 -> 75 | Q30: =+O30*0.6 -> 9 | R30: =+Q30*5 -> 45
O31: 16.5 | P31: =+O31*5 -> 82.5 | Q31: =+O31*0.6 -> 9.9 | R31: =+Q31*5 -> 49.5
O32: 17.5 | P32: =+O32*5 -> 87.5 | Q32: =+O32*0.6 -> 10.5 | R32: =+Q32*5 -> 52.5
... O46: 41 | P46: =+O46*5 -> 205 | Q46: =+O46*0.6 -> 24.6 | R46: =+Q46*5 -> 123

Sheet PARENT FEE CHART 
C1: COMMONWEALTH OF MASSACHUSETTS
C2: DEPARTMENT OF EARLY EDUCATION AND CARE
C3: EEC FINANCIAL ASSISTANCE PARENT FEE TABLE - EFFECTIVE OCTOBER 1, 2026
C5: Parent Co-Payment Schedule is used to determine the parent’s co-payment once the family is determined to be eligible and is being enrolled in an early education and care program.
C6: The Parent Fee Table is used to determine the household's parent fee once the family is determined to be eligible for subsidized child care and is being enrolled in an early education and care program. Use these steps to determine a family's Parent Fee
C7: 1. Find the column with the family's size written at the top. 2. Read down the column until you come to the correct income bracket for the family's gross monthly income. 3. Then read directly across to the right until you are under the “Monthly Parent Fee Percentage” column to get the percent of income for the family's fee level. 4. Calculate the family's actual parent fee as follows: Subtract the FPG for the family size (FPG can be found as the upper income limit of Fee Level 1) from the family's gross monthly income. Then multiply the resulting dollar value times the percent for the family's fee level to get the monthly parent fee value. For example: A family of 2 with monthly income of $3,502 would be in Fee Level 9. Subtract the FPG from their gross income ($3,502 minus $1,803) to get $1,699. Multiply 7.15% times $1,699 for a monthly fee value of $121.48. Divide by 22 for a daily fee value of $5.52.
B8: FEE LEVEL | C8: GROSS MONTHLY INCOME | Z8: MONTHLY PARENT FEE PERCENTAGE (Apply percentage to income above poverty line to calculate the fee)
C9: Family of Two | E9: Family of Three | G9: Family of Four | I9: Family of Five | K9: Family of Six | M9: Family of Seven | O9: Family of Eight | Q9: Family of Nine | S9: Family of Ten | U9: Family of Eleven | W9: Family of Twelve
C10: Min. Income | D10: Max Income | E10: Min. Income | F10: Max Income | G10: Min. Income | H10: Max Income | I10: Min. Income | J10: Max Income | K10: Min. Income | L10: Max Income | M10: Min. Income | N10: Max Income | O10: Min. Income | P10: Max Income | Q10: Min. Income | R10: Max Income | S10: Min. Income | T10: Max Income | U10: Min. Income | V10: Max Income | W10: Min. Income | X10: Max Income
A11: FPG | B11: 1 | C11: 0 | D11: ='2027 FPG'!C12 -> 1803 | E11: 0 | F11: ='2027 FPG'!C13 -> 2277 | G11: 0 | H11: ='2027 FPG'!C14 -> 2750 | I11: 0 | J11: ='2027 FPG'!C15 -> 3223 | K11: 0 | L11: ='2027 FPG'!C16 -> 3697 | M11: 0 | N11: ='2027 FPG'!C17 -> 4170 | O11: 0 | P11: ='2027 FPG'!C18 -> 4643 | Q11: 0 | R11: ='2027 FPG'!C19 -> 5117 | S11: 0 | T11: ='2027 FPG'!C20 -> 5590 | U11: 0 | V11: ='2027 FPG'!C21 -> 6063 | W11: 0 | X11: ='2027 FPG'!C22 -> 6537 | Z11: 0
B12: 2 | C12: =D11+1 -> 1804 | D12: =D11+D$43 -> 2043 | E12: =F11+1 -> 2278 | F12: =F11+F$43 -> 2571 | G12: =H11+1 -> 2751 | H12: =H11+H$43 -> 3099 | I12: =J11+1 -> 3224 | J12: =J11+J$43 -> 3626 | K12: =L11+1 -> 3698 | L12: =L11+L$43 -> 4155 | M12: =N11+1 -> 4171 | N12: =N11+N$43 -> 4624 | O12: =P11+1 -> 4644 | P12: =P11+P$43 -> 5093 | Q12: =R11+1 -> 5118 | R12: =R11+R$43 -> 5563 | S12: =T11+1 -> 5591 | T12: =T11+T$43 -> 6032 | U12: =V11+1 -> 6064 | V12: =V11+V$43 -> 6501 | W12: =X11+1 -> 6538 | X12: =X11+X$43 -> 6971 | Z12: 0.04
B13: 3 | C13: =D12+1 -> 2044 | D13: =D12+D$43 -> 2283 | E13: =F12+1 -> 2572 | F13: =F12+F$43 -> 2865 | G13: =H12+1 -> 3100 | H13: =H12+H$43 -> 3448 | I13: =J12+1 -> 3627 | J13: =J12+J$43 -> 4029 | K13: =L12+1 -> 4156 | L13: =L12+L$43 -> 4613 | M13: =N12+1 -> 4625 | N13: =N12+N$43 -> 5078 | O13: =P12+1 -> 5094 | P13: =P12+P$43 -> 5543 | Q13: =R12+1 -> 5564 | R13: =R12+R$43 -> 6009 | S13: =T12+1 -> 6033 | T13: =T12+T$43 -> 6474 | U13: =V12+1 -> 6502 | V13: =V12+V$43 -> 6939 | W13: =X12+1 -> 6972 | X13: =X12+X$43 -> 7405 | Z13: 0.0445
B14: 4 | C14: =D13+1 -> 2284 | D14: =D13+D$43 -> 2523 | E14: =F13+1 -> 2866 | F14: =F13+F$43 -> 3159 | G14: =H13+1 -> 3449 | H14: =H13+H$43 -> 3797 | I14: =J13+1 -> 4030 | J14: =J13+J$43 -> 4432 | K14: =L13+1 -> 4614 | L14: =L13+L$43 -> 5071 | M14: =N13+1 -> 5079 | N14: =N13+N$43 -> 5532 | O14: =P13+1 -> 5544 | P14: =P13+P$43 -> 5993 | Q14: =R13+1 -> 6010 | R14: =R13+R$43 -> 6455 | S14: =T13+1 -> 6475 | T14: =T13+T$43 -> 6916 | U14: =V13+1 -> 6940 | V14: =V13+V$43 -> 7377 | W14: =X13+1 -> 7406 | X14: =X13+X$43 -> 7839 | Z14: 0.049
B15: 5 | C15: =D14+1 -> 2524 | D15: =D14+D$43 -> 2763 | E15: =F14+1 -> 3160 | F15: =F14+F$43 -> 3453 | G15: =H14+1 -> 3798 | H15: =H14+H$43 -> 4146 | I15: =J14+1 -> 4433 | J15: =J14+J$43 -> 4835 | K15: =L14+1 -> 5072 | L15: =L14+L$43 -> 5529 | M15: =N14+1 -> 5533 | N15: =N14+N$43 -> 5986 | O15: =P14+1 -> 5994 | P15: =P14+P$43 -> 6443 | Q15: =R14+1 -> 6456 | R15: =R14+R$43 -> 6901 | S15: =T14+1 -> 6917 | T15: =T14+T$43 -> 7358 | U15: =V14+1 -> 7378 | V15: =V14+V$43 -> 7815 | W15: =X14+1 -> 7840 | X15: =X14+X$43 -> 8273 | Z15: 0.0535
B16: 6 | C16: =D15+1 -> 2764 | D16: =D15+D$43 -> 3003 | E16: =F15+1 -> 3454 | F16: =F15+F$43 -> 3747 | G16: =H15+1 -> 4147 | H16: =H15+H$43 -> 4495 | I16: =J15+1 -> 4836 | J16: =J15+J$43 -> 5238 | K16: =L15+1 -> 5530 | L16: =L15+L$43 -> 5987 | M16: =N15+1 -> 5987 | N16: =N15+N$43 -> 6440 | O16: =P15+1 -> 6444 | P16: =P15+P$43 -> 6893 | Q16: =R15+1 -> 6902 | R16: =R15+R$43 -> 7347 | S16: =T15+1 -> 7359 | T16: =T15+T$43 -> 7800 | U16: =V15+1 -> 7816 | V16: =V15+V$43 -> 8253 | W16: =X15+1 -> 8274 | X16: =X15+X$43 -> 8707 | Z16: 0.058
B17: 7 | C17: =D16+1 -> 3004 | D17: =D16+D$43 -> 3243 | E17: =F16+1 -> 3748 | F17: =F16+F$43 -> 4041 | G17: =H16+1 -> 4496 | H17: =H16+H$43 -> 4844 | I17: =J16+1 -> 5239 | J17: =J16+J$43 -> 5641 | K17: =L16+1 -> 5988 | L17: =L16+L$43 -> 6445 | M17: =N16+1 -> 6441 | N17: =N16+N$43 -> 6894 | O17: =P16+1 -> 6894 | P17: =P16+P$43 -> 7343 | Q17: =R16+1 -> 7348 | R17: =R16+R$43 -> 7793 | S17: =T16+1 -> 7801 | T17: =T16+T$43 -> 8242 | U17: =V16+1 -> 8254 | V17: =V16+V$43 -> 8691 | W17: =X16+1 -> 8708 | X17: =X16+X$43 -> 9141 | Z17: 0.0625
B18: 8 | C18: =D17+1 -> 3244 | D18: =D17+D$43 -> 3483 | E18: =F17+1 -> 4042 | F18: =F17+F$43 -> 4335 | G18: =H17+1 -> 4845 | H18: =H17+H$43 -> 5193 | I18: =J17+1 -> 5642 | J18: =J17+J$43 -> 6044 | K18: =L17+1 -> 6446 | L18: =L17+L$43 -> 6903 | M18: =N17+1 -> 6895 | N18: =N17+N$43 -> 7348 | O18: =P17+1 -> 7344 | P18: =P17+P$43 -> 7793 | Q18: =R17+1 -> 7794 | R18: =R17+R$43 -> 8239 | S18: =T17+1 -> 8243 | T18: =T17+T$43 -> 8684 | U18: =V17+1 -> 8692 | V18: =V17+V$43 -> 9129 | W18: =X17+1 -> 9142 | X18: =X17+X$43 -> 9575 | Z18: 0.067
B19: 9 | C19: =D18+1 -> 3484 | D19: =D18+D$43 -> 3723 | E19: =F18+1 -> 4336 | F19: =F18+F$43 -> 4629 | G19: =H18+1 -> 5194 | H19: =H18+H$43 -> 5542 | I19: =J18+1 -> 6045 | J19: =J18+J$43 -> 6447 | K19: =L18+1 -> 6904 | L19: =L18+L$43 -> 7361 | M19: =N18+1 -> 7349 | N19: =N18+N$43 -> 7802 | O19: =P18+1 -> 7794 | P19: =P18+P$43 -> 8243 | Q19: =R18+1 -> 8240 | R19: =R18+R$43 -> 8685 | S19: =T18+1 -> 8685 | T19: =T18+T$43 -> 9126 | U19: =V18+1 -> 9130 | V19: =V18+V$43 -> 9567 | W19: =X18+1 -> 9576 | X19: =X18+X$43 -> 10009 | Z19: 0.0715
B20: 10 | C20: =D19+1 -> 3724 | D20: =D19+D$43 -> 3963 | E20: =F19+1 -> 4630 | F20: =F19+F$43 -> 4923 | G20: =H19+1 -> 5543 | H20: =H19+H$43 -> 5891 | I20: =J19+1 -> 6448 | J20: =J19+J$43 -> 6850 | K20: =L19+1 -> 7362 | L20: =L19+L$43 -> 7819 | M20: =N19+1 -> 7803 | N20: =N19+N$43 -> 8256 | O20: =P19+1 -> 8244 | P20: =P19+P$43 -> 8693 | Q20: =R19+1 -> 8686 | R20: =R19+R$43 -> 9131 | S20: =T19+1 -> 9127 | T20: =T19+T$43 -> 9568 | U20: =V19+1 -> 9568 | V20: =V19+V$43 -> 10005 | W20: =X19+1 -> 10010 | X20: =X19+X$43 -> 10443 | Z20: 0.076
B21: 11 | C21: =D20+1 -> 3964 | D21: =D20+D$43 -> 4203 | E21: =F20+1 -> 4924 | F21: =F20+F$43 -> 5217 | G21: =H20+1 -> 5892 | H21: =H20+H$43 -> 6240 | I21: =J20+1 -> 6851 | J21: =J20+J$43 -> 7253 | K21: =L20+1 -> 7820 | L21: =L20+L$43 -> 8277 | M21: =N20+1 -> 8257 | N21: =N20+N$43 -> 8710 | O21: =P20+1 -> 8694 | P21: =P20+P$43 -> 9143 | Q21: =R20+1 -> 9132 | R21: =R20+R$43 -> 9577 | S21: =T20+1 -> 9569 | T21: =T20+T$43 -> 10010 | U21: =V20+1 -> 10006 | V21: =V20+V$43 -> 10443 | W21: =X20+1 -> 10444 | X21: =X20+X$43 -> 10877 | Z21: 0.0805
B22: 12 | C22: =D21+1 -> 4204 | D22: =D21+D$43 -> 4443 | E22: =F21+1 -> 5218 | F22: =F21+F$43 -> 5511 | G22: =H21+1 -> 6241 | H22: =H21+H$43 -> 6589 | I22: =J21+1 -> 7254 | J22: =J21+J$43 -> 7656 | K22: =L21+1 -> 8278 | L22: =L21+L$43 -> 8735 | M22: =N21+1 -> 8711 | N22: =N21+N$43 -> 9164 | O22: =P21+1 -> 9144 | P22: =P21+P$43 -> 9593 | Q22: =R21+1 -> 9578 | R22: =R21+R$43 -> 10023 | S22: =T21+1 -> 10011 | T22: =T21+T$43 -> 10452 | U22: =V21+1 -> 10444 | V22: =V21+V$43 -> 10881 | W22: =X21+1 -> 10878 | X22: =X21+X$43 -> 11311 | Z22: 0.085
B23: 13 | C23: =D22+1 -> 4444 | D23: =D22+D$43 -> 4683 | E23: =F22+1 -> 5512 | F23: =F22+F$43 -> 5805 | G23: =H22+1 -> 6590 | H23: =H22+H$43 -> 6938 | I23: =J22+1 -> 7657 | J23: =J22+J$43 -> 8059 | K23: =L22+1 -> 8736 | L23: =L22+L$43 -> 9193 | M23: =N22+1 -> 9165 | N23: =N22+N$43 -> 9618 | O23: =P22+1 -> 9594 | P23: =P22+P$43 -> 10043 | Q23: =R22+1 -> 10024 | R23: =R22+R$43 -> 10469 | S23: =T22+1 -> 10453 | T23: =T22+T$43 -> 10894 | U23: =V22+1 -> 10882 | V23: =V22+V$43 -> 11319 | W23: =X22+1 -> 11312 | X23: =X22+X$43 -> 11745 | Z23: 0.0895
... B37: 27 | C37: =D36+1 -> 7804 | D37: =D36+D$43 -> 8043 | E37: =F36+1 -> 9628 | F37: =F36+F$43 -> 9921 | G37: =H36+1 -> 11476 | H37: =H36+H$43 -> 11824 | I37: =J36+1 -> 13299 | J37: =J36+J$43 -> 13701 | K37: =L36+1 -> 15148 | L37: =L36+L$43 -> 15605 | M37: =N36+1 -> 15521 | N37: =N36+N$43 -> 15974 | O37: =P36+1 -> 15894 | P37: =P36+P$43 -> 16343 | Q37: =R36+1 -> 16268 | R37: =R36+R$43 -> 16713 | S37: =T36+1 -> 16641 | T37: =T36+T$43 -> 17082 | U37: =V36+1 -> 17014 | V37: =V36+V$43 -> 17451 | W37: =X36+1 -> 17388 | X37: =X36+X$43 -> 17821 | Z37: 0.1525
A38: 85% SMI | B38: 28 | C38: =D37+1 -> 8044 | D38: ='2027 SMI'!C17 -> 8272.6 | E38: =F37+1 -> 9922 | F38: ='2027 SMI'!E17 -> 10219.1 | G38: =H37+1 -> 11825 | H38: ='2027 SMI'!G17 -> 12165.6 | I38: =J37+1 -> 13702 | J38: ='2027 SMI'!I17 -> 14112.1 | K38: =L37+1 -> 15606 | L38: ='2027 SMI'!K17 -> 16058.6 | M38: =N37+1 -> 15975 | N38: ='2027 SMI'!M17 -> 16423.5 | O38: =P37+1 -> 16344 | P38: ='2027 SMI'!C22 -> 16788.5 | Q38: =R37+1 -> 16714 | R38: ='2027 SMI'!E22 -> 17153.4 | S38: =T37+1 -> 17083 | T38: ='2027 SMI'!G22 -> 17518.4 | U38: =V37+1 -> 17452 | V38: ='2027 SMI'!I22 -> 17883.3 | W38: =X37+1 -> 17822 | X38: ='2027 SMI'!K22 -> 18248.3 | Z38: 0.156
D40: *To calculate monthly income from weekly income statements, multiply the weekly income by 4.33
D41: *To calculate monthly income from bi-weekly income statements, multiply the bi-weekly income by 2.17
A43: Dollar amount between each threshold ((85% SMI - FPG) / (Number of thresholds -1)) | D43: =ROUND((D38-D11)/27,0) -> 240 | F43: =ROUND((F38-F11)/27,0) -> 294 | H43: =ROUND((H38-H11)/27,0) -> 349 | J43: =ROUND((J38-J11)/27,0) -> 403 | L43: =ROUND((L38-L11)/27,0) -> 458 | N43: =ROUND((N38-N11)/27,0) -> 454 | P43: =ROUND((P38-P11)/27,0) -> 450 | R43: =ROUND((R38-R11)/27,0) -> 446 | T43: =ROUND((T38-T11)/27,0) -> 442 | V43: =ROUND((V38-V11)/27,0) -> 438 | X43: =ROUND((X38-X11)/27,0) -> 434
D46: =D38/D11 -> 4.5882418 | F46: =F38/F11 -> 4.4879666 | H46: =H38/H11 -> 4.4238545 | J46: =J38/J11 -> 4.3785603 | L46: =L38/L11 -> 4.3436841 | N46: =N38/N11 -> 3.9384892 | P46: =P38/P11 -> 3.6158734 | R46: =R38/R11 -> 3.3522376 | T46: =T38/T11 -> 3.1338819 | V46: =V38/V11 -> 2.9495794 | X46: =X38/X11 -> 2.7915405

Sheet Current SMI Family of 4 
A1: 171749 | C1: 100% SMI

Sheet Source
A2: https://acf.gov/sites/default/files/documents/ocs/COMM_LIHEAP_Att4SMITable_States_FY2027.pdf

Sheet chart from fed website
T1: 024 POVERTY GUIDELINES FOR THE 48 CONTIGUOUS STATES AND THE DISTRICT OF COLUMBIA
T2: Persons in family/household | U2: Poverty guideline
T3: 1 | U3: 15960
A4: https://aspe.hhs.gov/topics/poverty-economic-mobility/poverty-guidelines | T4: 2 | U4: 21640
T5: 3 | U5: 27320
T6: 4 | U6: 33000
T7: 5 | U7: 38680
T8: 6 | U8: 44360
T9: 7 | U9: 50040
T10: 8 | U10: 55720

Sheet Curren SMI Family of 4
A1: 125335
