{"text_format":"1","workbook":"xlsx","n_sheets":21,"sheets":["USER INTERFACE","subroutine engine","master data","Validation","SWA data","IECC 2021 warehouse","IECC 2021 secondary school","IECC 2021 primary school","IECC 2021 retrail strip","IECC 2021 stand alone retail","IECC 2021 sit down restaurant","IECC 2021 fast food restaurant","IECC 2021 outpat health care","IECC 2021 small office","IECC 2021 medium office","IECC 2021 large office","IECC 2021 small hotel","IECC 2021 large hotel","IECC 2021 hospital","IECC 2021 apartment midrise","IECC 2021 high rise MF"],"not_rendered":{"charts":0,"images":0,"macros":1,"external_links":0,"defined_names":2,"comments":0,"pivot_tables":0},"unopened":[],"bounds":{"document_bytes":16777216,"sheet_cells":100000,"rows_first":2000,"rows_last":500,"rows_between":2000,"halvings":0,"cell_chars":16384,"cell_head_chars":4096},"cells_cut":0,"cells_raw":0,"read":"whole","date_system":"1900"}

{"sheet":"USER INTERFACE","index":0,"n_rows":54,"n_cols":18,"rows_kept":54,"cut":false,"hidden":false,"merged":[[27,5,27,6],[26,7,26,8],[26,10,26,12],[26,14,26,16]]}
[]
["Emissions Footprint Estimation Tool"]
[]
[null,"The objective of this tool is to provide an estimate of project emissions for ENF reporting."]
[]
[null,"To use the tool:"]
[null,"     populate the area of each proposed building (column B), in square feet."]
[null,"     use the pull down menu to select building use (column C)"]
[]
[null,"For mixed use buildings, use multiple rows.  For example, if a building is proposed to be 10,000-sf ground floor retail and 40,000-sf residential"]
[null,"use two rows, one for the retail and one for the residential."]
[]
[null,"If more then twenty rows are needed, use multiples of this spreadsheet and sum the totals."]
[]
[null,"Electric and gas EUI estimates are based on pre-solved prototypes available here https://www.energycodes.gov/prototype-building-models"]
[]
[null,"Emission rates are: 600 lbs/MWhr for grid electricitly and 116 lbs/MMBtu"]
[]
[null,"For office sizes"]
[null,null,"Use \"small office\" if <=20,000-sf"]
[null,null,"Use \"large office\" if >20,000-sf"]
[]
[null,"For hotel sizes"]
[null,null,"Use \"small hotel\" if <=50,000-sf"]
[null,null,"Use \"large hotel\" if >50,000-sf"]
[]
[null,null,null,null,null,null,null,"EUI (kBtu/sf-yr)",null,null,"Annual Emissions (tpy)",null,null,null,"Emissions - 2050 (tpy)"]
["Building (or use) No.","Area (sf)","Use","Efficiency-Level","Space Heating","Water and Cooking      (if space heating is fossil, this value must also be fossil)",null,"fossil fuel","electric",null,"fossil","electric","total",null,"fossil","electric","total"]
[1,8000,"restaurant (sit down)","stretch/opt-in","fossil","fossil",{"$f":"IF(AND(E29=\"fossil\",F29=\"electric\"),\"error\",\"\")","v":""},{"$f":"_xlfn.IFNA('subroutine engine'!M12,0)","v":190.15285658071241},{"$f":"_xlfn.IFNA('subroutine engine'!N12,0)","v":123.72288716929256},null,{"$f":"_xlfn.IFNA(H29*B29/1000*116/2000,\"\")","v":88.230925453450567},{"$f":"_xlfn.IFNA(I29*B29*1000/3412/1000*600/2000,\"\")","v":87.026649825997126},{"$f":"_xlfn.IFNA(SUM(K29:L29),\"\")","v":175.25757527944768},null,{"$f":"_xlfn.IFNA(H29*B29/1000*116/2000,\"\")","v":88.230925453450567},{"$f":"_xlfn.IFNA(I29*B29*1000/3412/1000*50/2000,\"\")","v":7.2522208188330932},{"$f":"_xlfn.IFNA(SUM(O29:P29),\"\")","v":95.483146272283662}]
[2,150000,"office (large)","stretch/opt-in","fossil","fossil",{"$f":"IF(AND(E30=\"fossil\",F30=\"electric\"),\"error\",\"\")","v":""},{"$f":"_xlfn.IFNA('subroutine engine'!M13,0)","v":2.2849047473859105},{"$f":"_xlfn.IFNA('subroutine engine'!N13,0)","v":43.21118719325132},null,{"$f":"_xlfn.IFNA(H30*B30/1000*116/2000,\"\")","v":19.878671302257423},{"$f":"_xlfn.IFNA(I30*B30*1000/3412/1000*600/2000,\"\")","v":569.90135512787492},{"$f":"_xlfn.IFNA(SUM(K30:L30),\"\")","v":589.78002643013235},null,{"$f":"_xlfn.IFNA(H30*B30/1000*116/2000,\"\")","v":19.878671302257423},{"$f":"_xlfn.IFNA(I30*B30*1000/3412/1000*50/2000,\"\")","v":47.49177959398957},{"$f":"_xlfn.IFNA(SUM(O30:P30),\"\")","v":67.370450896246993}]
[3,200000,"multifamily (high rise)","stretch/opt-in","fossil","fossil","",{"$f":"_xlfn.IFNA('subroutine engine'!M14,0)","v":17.470238835417721},{"$f":"_xlfn.IFNA('subroutine engine'!N14,0)","v":24.468821699147561},null,202.65477049084558,430.28408615148112,632.93885664232675,null,202.65477049084558,35.857007179290093,238.51177767013567]
[4,45000,"warehouse","stretch/opt-in","fossil","fossil","",{"$f":"_xlfn.IFNA('subroutine engine'!M15,0)","v":4.316968355721265},{"$f":"_xlfn.IFNA('subroutine engine'!N15,0)","v":6.0309193963399954},null,{"$f":"_xlfn.IFNA(H32*B32/1000*116/2000,\"\")","v":11.267287408432502},23.862078502517569,35.129365910950071,null,11.267287408432502,1.9885065418764638,13.255793950308966]
[5,null,null,"stretch/opt-in","fossil","fossil","",{"$f":"_xlfn.IFNA('subroutine engine'!M16,0)","v":0},{"$f":"_xlfn.IFNA('subroutine engine'!N16,0)","v":0},null,0,0,0,null,0,0,0]
[6,null,null,"stretch/opt-in","fossil","fossil","",{"$f":"_xlfn.IFNA('subroutine engine'!M17,0)","v":0},{"$f":"_xlfn.IFNA('subroutine engine'!N17,0)","v":0},null,0,0,0,null,0,0,0]
[7,null,null,"stretch/opt-in","fossil","fossil","",{"$f":"_xlfn.IFNA('subroutine engine'!M18,0)","v":0},{"$f":"_xlfn.IFNA('subroutine engine'!N18,0)","v":0},null,0,0,0,null,0,0,0]
[8,null,null,"stretch/opt-in","fossil","fossil","",{"$f":"_xlfn.IFNA('subroutine engine'!M19,0)","v":0},{"$f":"_xlfn.IFNA('subroutine engine'!N19,0)","v":0},null,0,0,0,null,0,0,0]
[9,null,null,"stretch/opt-in","fossil","fossil","",{"$f":"_xlfn.IFNA('subroutine engine'!M20,0)","v":0},{"$f":"_xlfn.IFNA('subroutine engine'!N20,0)","v":0},null,0,0,0,null,0,0,0]
[10,null,null,"stretch/opt-in","fossil","fossil","",{"$f":"_xlfn.IFNA('subroutine engine'!M21,0)","v":0},{"$f":"_xlfn.IFNA('subroutine engine'!N21,0)","v":0},null,0,0,0,null,0,0,0]
[11,null,null,"stretch/opt-in","fossil","fossil","",{"$f":"_xlfn.IFNA('subroutine engine'!M22,0)","v":0},{"$f":"_xlfn.IFNA('subroutine engine'!N22,0)","v":0},null,0,0,0,null,0,0,0]
[12,null,null,"stretch/opt-in","fossil","fossil","",{"$f":"_xlfn.IFNA('subroutine engine'!M23,0)","v":0},{"$f":"_xlfn.IFNA('subroutine engine'!N23,0)","v":0},null,0,0,0,null,0,0,0]
[13,null,null,"stretch/opt-in","fossil","fossil","",{"$f":"_xlfn.IFNA('subroutine engine'!M24,0)","v":0},{"$f":"_xlfn.IFNA('subroutine engine'!N24,0)","v":0},null,0,0,0,null,0,0,0]
[14,null,null,"stretch/opt-in","fossil","fossil","",{"$f":"_xlfn.IFNA('subroutine engine'!M25,0)","v":0},{"$f":"_xlfn.IFNA('subroutine engine'!N25,0)","v":0},null,0,0,0,null,0,0,0]
[15,null,null,"stretch/opt-in","fossil","fossil","",{"$f":"_xlfn.IFNA('subroutine engine'!M26,0)","v":0},{"$f":"_xlfn.IFNA('subroutine engine'!N26,0)","v":0},null,0,0,0,null,0,0,0]
[16,null,null,"stretch/opt-in","fossil","fossil","",{"$f":"_xlfn.IFNA('subroutine engine'!M27,0)","v":0},{"$f":"_xlfn.IFNA('subroutine engine'!N27,0)","v":0},null,0,0,0,null,0,0,0]
[17,null,null,"stretch/opt-in","fossil","fossil","",{"$f":"_xlfn.IFNA('subroutine engine'!M28,0)","v":0},{"$f":"_xlfn.IFNA('subroutine engine'!N28,0)","v":0},null,0,0,0,null,0,0,0]
[18,null,null,"stretch/opt-in","fossil","fossil","",{"$f":"_xlfn.IFNA('subroutine engine'!M29,0)","v":0},{"$f":"_xlfn.IFNA('subroutine engine'!N29,0)","v":0},null,0,0,0,null,0,0,0]
[19,null,null,"stretch/opt-in","fossil","fossil","",{"$f":"_xlfn.IFNA('subroutine engine'!M30,0)","v":0},{"$f":"_xlfn.IFNA('subroutine engine'!N30,0)","v":0},null,0,0,0,null,0,0,0]
[20,null,null,"stretch/opt-in","fossil","fossil","",{"$f":"_xlfn.IFNA('subroutine engine'!M31,0)","v":0},{"$f":"_xlfn.IFNA('subroutine engine'!N31,0)","v":0},null,0,0,0,null,0,0,0]
[null,null,null,"stretch/opt-in","fossil","fossil","",{"$f":"_xlfn.IFNA('subroutine engine'!M32,0)","v":0},{"$f":"_xlfn.IFNA('subroutine engine'!N32,0)","v":0},null,0,0,0,null,0,0,0]
[]
[null,null,null,null,null,null,null,null,null,null,null,"Total project emissions to enter into ENF form - represents near-term emissions rate",{"$f":"SUM(M29:M49)","v":1433.1058242628569},null,null,null,null,"tpy"]
[]
[]
[null,null,null,null,null,null,null,null,null,null,null,null,null,null,null,"Total project emissions - for informational purposes - represents long-term emissions rate",{"$f":"SUM(Q29:Q49)","v":414.62116878897524}]

{"sheet":"subroutine engine","index":1,"n_rows":32,"n_cols":14,"rows_kept":32,"cut":false,"hidden":true,"merged":[[8,4,8,6],[9,8,9,10],[8,12,8,13]]}
[]
[]
[]
[]
[]
[]
[]
[]
[null,null,null,null,"Commitment",null,null,null,null,null,null,null,"EUI"]
[null,null,"Building Area","Building Use","Efficiency","Space Heating","Water and Cooking",null,"navigation",null,null,null,"fossil fuel","electric"]
[null,null,"(sf)","(choose one)",null,null,null,null,"building use","space","water/cooking",null,"(kBtu/sf-yr)","(kBtu/sf-yr)"]
[null,null,{"$f":"'USER INTERFACE'!B29","v":8000},{"$f":"'USER INTERFACE'!C29","v":"restaurant (sit down)"},{"$f":"'USER INTERFACE'!D29","v":"stretch/opt-in"},{"$f":"'USER INTERFACE'!E29","v":"fossil"},{"$f":"'USER INTERFACE'!F29","v":"fossil"},null,{"$f":"MATCH(D12, 'master data'!E$14:EI$14, 0)","v":46},{"$f":"IF(E12=Validation!K$9, 0, IF(E12=Validation!K$10, 3, IF(E12=Validation!K$11, 6)))","v":3},{"$f":"IF(AND(F12=Validation!K$13,G12=Validation!K$13),0,IF(AND(F12=Validation!K$14,G12=Validation!K$13),1,IF(AND(F12=Validation!K$14, G12=Validation!K$14), 2, 0)))","v":0},null,{"$f":"INDEX('master data'!E$14:EI$20, 6, SUM(I12:K12))","v":190.15285658071241},{"$f":"INDEX('master data'!E$14:EI$20,7,SUM(I12:K12))","v":123.72288716929256}]
[null,null,{"$f":"'USER INTERFACE'!B30","v":150000},{"$f":"'USER INTERFACE'!C30","v":"office (large)"},{"$f":"'USER INTERFACE'!D30","v":"stretch/opt-in"},{"$f":"'USER INTERFACE'!E30","v":"fossil"},{"$f":"'USER INTERFACE'!F30","v":"fossil"},null,{"$f":"MATCH(D13, 'master data'!E$14:EI$14, 0)","v":82},{"$f":"IF(E13=Validation!K$9, 0, IF(E13=Validation!K$10, 3, IF(E13=Validation!K$11, 6)))","v":3},{"$f":"IF(AND(F13=Validation!K$13,G13=Validation!K$13),0,IF(AND(F13=Validation!K$14,G13=Validation!K$13),1,IF(AND(F13=Validation!K$14, G13=Validation!K$14), 2, 0)))","v":0},null,{"$f":"INDEX('master data'!E$14:EI$20, 6, SUM(I13:K13))","v":2.2849047473859105},{"$f":"INDEX('master data'!E$14:EI$20,7,SUM(I13:K13))","v":43.21118719325132}]
[null,null,{"$f":"'USER INTERFACE'!B31","v":200000},{"$f":"'USER INTERFACE'!C31","v":"multifamily (high rise)"},{"$f":"'USER INTERFACE'!D31","v":"stretch/opt-in"},{"$f":"'USER INTERFACE'!E31","v":"fossil"},{"$f":"'USER INTERFACE'!F31","v":"fossil"},null,{"$f":"MATCH(D14, 'master data'!E$14:EI$14, 0)","v":127},{"$f":"IF(E14=Validation!K$9, 0, IF(E14=Validation!K$10, 3, IF(E14=Validation!K$11, 6)))","v":3},{"$f":"IF(AND(F14=Validation!K$13,G14=Validation!K$13),0,IF(AND(F14=Validation!K$14,G14=Validation!K$13),1,IF(AND(F14=Validation!K$14, G14=Validation!K$14), 2, 0)))","v":0},null,{"$f":"INDEX('master data'!E$14:EI$20, 6, SUM(I14:K14))","v":17.470238835417721},{"$f":"INDEX('master data'!E$14:EI$20,7,SUM(I14:K14))","v":24.468821699147561}]
[null,null,{"$f":"'USER INTERFACE'!B32","v":45000},{"$f":"'USER INTERFACE'!C32","v":"warehouse"},{"$f":"'USER INTERFACE'!D32","v":"stretch/opt-in"},{"$f":"'USER INTERFACE'!E32","v":"fossil"},{"$f":"'USER INTERFACE'!F32","v":"fossil"},null,{"$f":"MATCH(D15, 'master data'!E$14:EI$14, 0)","v":1},{"$f":"IF(E15=Validation!K$9, 0, IF(E15=Validation!K$10, 3, IF(E15=Validation!K$11, 6)))","v":3},{"$f":"IF(AND(F15=Validation!K$13,G15=Validation!K$13),0,IF(AND(F15=Validation!K$14,G15=Validation!K$13),1,IF(AND(F15=Validation!K$14, G15=Validation!K$14), 2, 0)))","v":0},null,{"$f":"INDEX('master data'!E$14:EI$20, 6, SUM(I15:K15))","v":4.316968355721265},{"$f":"INDEX('master data'!E$14:EI$20,7,SUM(I15:K15))","v":6.0309193963399954}]
[null,null,{"$f":"'USER INTERFACE'!B33","v":0},{"$f":"'USER INTERFACE'!C33","v":0},{"$f":"'USER INTERFACE'!D33","v":"stretch/opt-in"},{"$f":"'USER INTERFACE'!E33","v":"fossil"},{"$f":"'USER INTERFACE'!F33","v":"fossil"},null,{"$f":"MATCH(D16, 'master data'!E$14:EI$14, 0)","v":{"$error":"#N/A"}},{"$f":"IF(E16=Validation!K$9, 0, IF(E16=Validation!K$10, 3, IF(E16=Validation!K$11, 6)))","v":3},{"$f":"IF(AND(F16=Validation!K$13,G16=Validation!K$13),0,IF(AND(F16=Validation!K$14,G16=Validation!K$13),1,IF(AND(F16=Validation!K$14, G16=Validation!K$14), 2, 0)))","v":0},null,{"$f":"INDEX('master data'!E$14:EI$20, 6, SUM(I16:K16))","v":{"$error":"#N/A"}},{"$f":"INDEX('master data'!E$14:EI$20,7,SUM(I16:K16))","v":{"$error":"#N/A"}}]
[null,null,{"$f":"'USER INTERFACE'!B34","v":0},{"$f":"'USER INTERFACE'!C34","v":0},{"$f":"'USER INTERFACE'!D34","v":"stretch/opt-in"},{"$f":"'USER INTERFACE'!E34","v":"fossil"},{"$f":"'USER INTERFACE'!F34","v":"fossil"},null,{"$f":"MATCH(D17, 'master data'!E$14:EI$14, 0)","v":{"$error":"#N/A"}},{"$f":"IF(E17=Validation!K$9, 0, IF(E17=Validation!K$10, 3, IF(E17=Validation!K$11, 6)))","v":3},{"$f":"IF(AND(F17=Validation!K$13,G17=Validation!K$13),0,IF(AND(F17=Validation!K$14,G17=Validation!K$13),1,IF(AND(F17=Validation!K$14, G17=Validation!K$14), 2, 0)))","v":0},null,{"$f":"INDEX('master data'!E$14:EI$20, 6, SUM(I17:K17))","v":{"$error":"#N/A"}},{"$f":"INDEX('master data'!E$14:EI$20,7,SUM(I17:K17))","v":{"$error":"#N/A"}}]
[null,null,{"$f":"'USER INTERFACE'!B35","v":0},{"$f":"'USER INTERFACE'!C35","v":0},{"$f":"'USER INTERFACE'!D35","v":"stretch/opt-in"},{"$f":"'USER INTERFACE'!E35","v":"fossil"},{"$f":"'USER INTERFACE'!F35","v":"fossil"},null,{"$f":"MATCH(D18, 'master data'!E$14:EI$14, 0)","v":{"$error":"#N/A"}},{"$f":"IF(E18=Validation!K$9, 0, IF(E18=Validation!K$10, 3, IF(E18=Validation!K$11, 6)))","v":3},{"$f":"IF(AND(F18=Validation!K$13,G18=Validation!K$13),0,IF(AND(F18=Validation!K$14,G18=Validation!K$13),1,IF(AND(F18=Validation!K$14, G18=Validation!K$14), 2, 0)))","v":0},null,{"$f":"INDEX('master data'!E$14:EI$20, 6, SUM(I18:K18))","v":{"$error":"#N/A"}},{"$f":"INDEX('master data'!E$14:EI$20,7,SUM(I18:K18))","v":{"$error":"#N/A"}}]
[null,null,{"$f":"'USER INTERFACE'!B36","v":0},{"$f":"'USER INTERFACE'!C36","v":0},{"$f":"'USER INTERFACE'!D36","v":"stretch/opt-in"},{"$f":"'USER INTERFACE'!E36","v":"fossil"},{"$f":"'USER INTERFACE'!F36","v":"fossil"},null,{"$f":"MATCH(D19, 'master data'!E$14:EI$14, 0)","v":{"$error":"#N/A"}},{"$f":"IF(E19=Validation!K$9, 0, IF(E19=Validation!K$10, 3, IF(E19=Validation!K$11, 6)))","v":3},{"$f":"IF(AND(F19=Validation!K$13,G19=Validation!K$13),0,IF(AND(F19=Validation!K$14,G19=Validation!K$13),1,IF(AND(F19=Validation!K$14, G19=Validation!K$14), 2, 0)))","v":0},null,{"$f":"INDEX('master data'!E$14:EI$20, 6, SUM(I19:K19))","v":{"$error":"#N/A"}},{"$f":"INDEX('master data'!E$14:EI$20,7,SUM(I19:K19))","v":{"$error":"#N/A"}}]
[null,null,{"$f":"'USER INTERFACE'!B37","v":0},{"$f":"'USER INTERFACE'!C37","v":0},{"$f":"'USER INTERFACE'!D37","v":"stretch/opt-in"},{"$f":"'USER INTERFACE'!E37","v":"fossil"},{"$f":"'USER INTERFACE'!F37","v":"fossil"},null,{"$f":"MATCH(D20, 'master data'!E$14:EI$14, 0)","v":{"$error":"#N/A"}},{"$f":"IF(E20=Validation!K$9, 0, IF(E20=Validation!K$10, 3, IF(E20=Validation!K$11, 6)))","v":3},{"$f":"IF(AND(F20=Validation!K$13,G20=Validation!K$13),0,IF(AND(F20=Validation!K$14,G20=Validation!K$13),1,IF(AND(F20=Validation!K$14, G20=Validation!K$14), 2, 0)))","v":0},null,{"$f":"INDEX('master data'!E$14:EI$20, 6, SUM(I20:K20))","v":{"$error":"#N/A"}},{"$f":"INDEX('master data'!E$14:EI$20,7,SUM(I20:K20))","v":{"$error":"#N/A"}}]
[null,null,{"$f":"'USER INTERFACE'!B38","v":0},{"$f":"'USER INTERFACE'!C38","v":0},{"$f":"'USER INTERFACE'!D38","v":"stretch/opt-in"},{"$f":"'USER INTERFACE'!E38","v":"fossil"},{"$f":"'USER INTERFACE'!F38","v":"fossil"},null,{"$f":"MATCH(D21, 'master data'!E$14:EI$14, 0)","v":{"$error":"#N/A"}},{"$f":"IF(E21=Validation!K$9, 0, IF(E21=Validation!K$10, 3, IF(E21=Validation!K$11, 6)))","v":3},{"$f":"IF(AND(F21=Validation!K$13,G21=Validation!K$13),0,IF(AND(F21=Validation!K$14,G21=Validation!K$13),1,IF(AND(F21=Validation!K$14, G21=Validation!K$14), 2, 0)))","v":0},null,{"$f":"INDEX('master data'!E$14:EI$20, 6, SUM(I21:K21))","v":{"$error":"#N/A"}},{"$f":"INDEX('master data'!E$14:EI$20,7,SUM(I21:K21))","v":{"$error":"#N/A"}}]
[null,null,{"$f":"'USER INTERFACE'!B39","v":0},{"$f":"'USER INTERFACE'!C39","v":0},{"$f":"'USER INTERFACE'!D39","v":"stretch/opt-in"},{"$f":"'USER INTERFACE'!E39","v":"fossil"},{"$f":"'USER INTERFACE'!F39","v":"fossil"},null,{"$f":"MATCH(D22, 'master data'!E$14:EI$14, 0)","v":{"$error":"#N/A"}},{"$f":"IF(E22=Validation!K$9, 0, IF(E22=Validation!K$10, 3, IF(E22=Validation!K$11, 6)))","v":3},{"$f":"IF(AND(F22=Validation!K$13,G22=Validation!K$13),0,IF(AND(F22=Validation!K$14,G22=Validation!K$13),1,IF(AND(F22=Validation!K$14, G22=Validation!K$14), 2, 0)))","v":0},null,{"$f":"INDEX('master data'!E$14:EI$20, 6, SUM(I22:K22))","v":{"$error":"#N/A"}},{"$f":"INDEX('master data'!E$14:EI$20,7,SUM(I22:K22))","v":{"$error":"#N/A"}}]
[null,null,{"$f":"'USER INTERFACE'!B40","v":0},{"$f":"'USER INTERFACE'!C40","v":0},{"$f":"'USER INTERFACE'!D40","v":"stretch/opt-in"},{"$f":"'USER INTERFACE'!E40","v":"fossil"},{"$f":"'USER INTERFACE'!F40","v":"fossil"},null,{"$f":"MATCH(D23, 'master data'!E$14:EI$14, 0)","v":{"$error":"#N/A"}},{"$f":"IF(E23=Validation!K$9, 0, IF(E23=Validation!K$10, 3, IF(E23=Validation!K$11, 6)))","v":3},{"$f":"IF(AND(F23=Validation!K$13,G23=Validation!K$13),0,IF(AND(F23=Validation!K$14,G23=Validation!K$13),1,IF(AND(F23=Validation!K$14, G23=Validation!K$14), 2, 0)))","v":0},null,{"$f":"INDEX('master data'!E$14:EI$20, 6, SUM(I23:K23))","v":{"$error":"#N/A"}},{"$f":"INDEX('master data'!E$14:EI$20,7,SUM(I23:K23))","v":{"$error":"#N/A"}}]
[null,null,{"$f":"'USER INTERFACE'!B41","v":0},{"$f":"'USER INTERFACE'!C41","v":0},{"$f":"'USER INTERFACE'!D41","v":"stretch/opt-in"},{"$f":"'USER INTERFACE'!E41","v":"fossil"},{"$f":"'USER INTERFACE'!F41","v":"fossil"},null,{"$f":"MATCH(D24, 'master data'!E$14:EI$14, 0)","v":{"$error":"#N/A"}},{"$f":"IF(E24=Validation!K$9, 0, IF(E24=Validation!K$10, 3, IF(E24=Validation!K$11, 6)))","v":3},{"$f":"IF(AND(F24=Validation!K$13,G24=Validation!K$13),0,IF(AND(F24=Validation!K$14,G24=Validation!K$13),1,IF(AND(F24=Validation!K$14, G24=Validation!K$14), 2, 0)))","v":0},null,{"$f":"INDEX('master data'!E$14:EI$20, 6, SUM(I24:K24))","v":{"$error":"#N/A"}},{"$f":"INDEX('master data'!E$14:EI$20,7,SUM(I24:K24))","v":{"$error":"#N/A"}}]
[null,null,{"$f":"'USER INTERFACE'!B42","v":0},{"$f":"'USER INTERFACE'!C42","v":0},{"$f":"'USER INTERFACE'!D42","v":"stretch/opt-in"},{"$f":"'USER INTERFACE'!E42","v":"fossil"},{"$f":"'USER INTERFACE'!F42","v":"fossil"},null,{"$f":"MATCH(D25, 'master data'!E$14:EI$14, 0)","v":{"$error":"#N/A"}},{"$f":"IF(E25=Validation!K$9, 0, IF(E25=Validation!K$10, 3, IF(E25=Validation!K$11, 6)))","v":3},{"$f":"IF(AND(F25=Validation!K$13,G25=Validation!K$13),0,IF(AND(F25=Validation!K$14,G25=Validation!K$13),1,IF(AND(F25=Validation!K$14, G25=Validation!K$14), 2, 0)))","v":0},null,{"$f":"INDEX('master data'!E$14:EI$20, 6, SUM(I25:K25))","v":{"$error":"#N/A"}},{"$f":"INDEX('master data'!E$14:EI$20,7,SUM(I25:K25))","v":{"$error":"#N/A"}}]
[null,null,{"$f":"'USER INTERFACE'!B43","v":0},{"$f":"'USER INTERFACE'!C43","v":0},{"$f":"'USER INTERFACE'!D43","v":"stretch/opt-in"},{"$f":"'USER INTERFACE'!E43","v":"fossil"},{"$f":"'USER INTERFACE'!F43","v":"fossil"},null,{"$f":"MATCH(D26, 'master data'!E$14:EI$14, 0)","v":{"$error":"#N/A"}},{"$f":"IF(E26=Validation!K$9, 0, IF(E26=Validation!K$10, 3, IF(E26=Validation!K$11, 6)))","v":3},{"$f":"IF(AND(F26=Validation!K$13,G26=Validation!K$13),0,IF(AND(F26=Validation!K$14,G26=Validation!K$13),1,IF(AND(F26=Validation!K$14, G26=Validation!K$14), 2, 0)))","v":0},null,{"$f":"INDEX('master data'!E$14:EI$20, 6, SUM(I26:K26))","v":{"$error":"#N/A"}},{"$f":"INDEX('master data'!E$14:EI$20,7,SUM(I26:K26))","v":{"$error":"#N/A"}}]
[null,null,{"$f":"'USER INTERFACE'!B44","v":0},{"$f":"'USER INTERFACE'!C44","v":0},{"$f":"'USER INTERFACE'!D44","v":"stretch/opt-in"},{"$f":"'USER INTERFACE'!E44","v":"fossil"},{"$f":"'USER INTERFACE'!F44","v":"fossil"},null,{"$f":"MATCH(D27, 'master data'!E$14:EI$14, 0)","v":{"$error":"#N/A"}},{"$f":"IF(E27=Validation!K$9, 0, IF(E27=Validation!K$10, 3, IF(E27=Validation!K$11, 6)))","v":3},{"$f":"IF(AND(F27=Validation!K$13,G27=Validation!K$13),0,IF(AND(F27=Validation!K$14,G27=Validation!K$13),1,IF(AND(F27=Validation!K$14, G27=Validation!K$14), 2, 0)))","v":0},null,{"$f":"INDEX('master data'!E$14:EI$20, 6, SUM(I27:K27))","v":{"$error":"#N/A"}},{"$f":"INDEX('master data'!E$14:EI$20,7,SUM(I27:K27))","v":{"$error":"#N/A"}}]
[null,null,{"$f":"'USER INTERFACE'!B45","v":0},{"$f":"'USER INTERFACE'!C45","v":0},{"$f":"'USER INTERFACE'!D45","v":"stretch/opt-in"},{"$f":"'USER INTERFACE'!E45","v":"fossil"},{"$f":"'USER INTERFACE'!F45","v":"fossil"},null,{"$f":"MATCH(D28, 'master data'!E$14:EI$14, 0)","v":{"$error":"#N/A"}},{"$f":"IF(E28=Validation!K$9, 0, IF(E28=Validation!K$10, 3, IF(E28=Validation!K$11, 6)))","v":3},{"$f":"IF(AND(F28=Validation!K$13,G28=Validation!K$13),0,IF(AND(F28=Validation!K$14,G28=Validation!K$13),1,IF(AND(F28=Validation!K$14, G28=Validation!K$14), 2, 0)))","v":0},null,{"$f":"INDEX('master data'!E$14:EI$20, 6, SUM(I28:K28))","v":{"$error":"#N/A"}},{"$f":"INDEX('master data'!E$14:EI$20,7,SUM(I28:K28))","v":{"$error":"#N/A"}}]
[null,null,{"$f":"'USER INTERFACE'!B46","v":0},{"$f":"'USER INTERFACE'!C46","v":0},{"$f":"'USER INTERFACE'!D46","v":"stretch/opt-in"},{"$f":"'USER INTERFACE'!E46","v":"fossil"},{"$f":"'USER INTERFACE'!F46","v":"fossil"},null,{"$f":"MATCH(D29, 'master data'!E$14:EI$14, 0)","v":{"$error":"#N/A"}},{"$f":"IF(E29=Validation!K$9, 0, IF(E29=Validation!K$10, 3, IF(E29=Validation!K$11, 6)))","v":3},{"$f":"IF(AND(F29=Validation!K$13,G29=Validation!K$13),0,IF(AND(F29=Validation!K$14,G29=Validation!K$13),1,IF(AND(F29=Validation!K$14, G29=Validation!K$14), 2, 0)))","v":0},null,{"$f":"INDEX('master data'!E$14:EI$20, 6, SUM(I29:K29))","v":{"$error":"#N/A"}},{"$f":"INDEX('master data'!E$14:EI$20,7,SUM(I29:K29))","v":{"$error":"#N/A"}}]
[null,null,{"$f":"'USER INTERFACE'!B47","v":0},{"$f":"'USER INTERFACE'!C47","v":0},{"$f":"'USER INTERFACE'!D47","v":"stretch/opt-in"},{"$f":"'USER INTERFACE'!E47","v":"fossil"},{"$f":"'USER INTERFACE'!F47","v":"fossil"},null,{"$f":"MATCH(D30, 'master data'!E$14:EI$14, 0)","v":{"$error":"#N/A"}},{"$f":"IF(E30=Validation!K$9, 0, IF(E30=Validation!K$10, 3, IF(E30=Validation!K$11, 6)))","v":3},{"$f":"IF(AND(F30=Validation!K$13,G30=Validation!K$13),0,IF(AND(F30=Validation!K$14,G30=Validation!K$13),1,IF(AND(F30=Validation!K$14, G30=Validation!K$14), 2, 0)))","v":0},null,{"$f":"INDEX('master data'!E$14:EI$20, 6, SUM(I30:K30))","v":{"$error":"#N/A"}},{"$f":"INDEX('master data'!E$14:EI$20,7,SUM(I30:K30))","v":{"$error":"#N/A"}}]
[null,null,{"$f":"'USER INTERFACE'!B48","v":0},{"$f":"'USER INTERFACE'!C48","v":0},{"$f":"'USER INTERFACE'!D48","v":"stretch/opt-in"},{"$f":"'USER INTERFACE'!E48","v":"fossil"},{"$f":"'USER INTERFACE'!F48","v":"fossil"},null,{"$f":"MATCH(D31, 'master data'!E$14:EI$14, 0)","v":{"$error":"#N/A"}},{"$f":"IF(E31=Validation!K$9, 0, IF(E31=Validation!K$10, 3, IF(E31=Validation!K$11, 6)))","v":3},{"$f":"IF(AND(F31=Validation!K$13,G31=Validation!K$13),0,IF(AND(F31=Validation!K$14,G31=Validation!K$13),1,IF(AND(F31=Validation!K$14, G31=Validation!K$14), 2, 0)))","v":0},null,{"$f":"INDEX('master data'!E$14:EI$20, 6, SUM(I31:K31))","v":{"$error":"#N/A"}},{"$f":"INDEX('master data'!E$14:EI$20,7,SUM(I31:K31))","v":{"$error":"#N/A"}}]
[null,null,{"$f":"'USER INTERFACE'!B49","v":0},{"$f":"'USER INTERFACE'!C49","v":0},{"$f":"'USER INTERFACE'!D49","v":"stretch/opt-in"},{"$f":"'USER INTERFACE'!E49","v":"fossil"},{"$f":"'USER INTERFACE'!F49","v":"fossil"},null,{"$f":"MATCH(D32, 'master data'!E$14:EI$14, 0)","v":{"$error":"#N/A"}},{"$f":"IF(E32=Validation!K$9, 0, IF(E32=Validation!K$10, 3, IF(E32=Validation!K$11, 6)))","v":3},{"$f":"IF(AND(F32=Validation!K$13,G32=Validation!K$13),0,IF(AND(F32=Validation!K$14,G32=Validation!K$13),1,IF(AND(F32=Validation!K$14, G32=Validation!K$14), 2, 0)))","v":0},null,{"$f":"INDEX('master data'!E$14:EI$20, 6, SUM(I32:K32))","v":{"$error":"#N/A"}},{"$f":"INDEX('master data'!E$14:EI$20,7,SUM(I32:K32))","v":{"$error":"#N/A"}}]

{"sheet":"master data","index":2,"n_rows":29,"n_cols":139,"rows_kept":29,"cut":false,"hidden":true,"merged":[[13,94,13,102],[13,103,13,111],[13,112,13,120],[13,121,13,129],[13,130,13,138],[13,85,13,93],[13,31,13,39],[13,40,13,48],[13,49,13,57],[13,58,13,66],[13,67,13,75],[13,76,13,84]]}
[]
[]
[]
[null,null,null,"building","secondary school",{"$f":"MATCH(E4, E14:AE14, 0)","v":10},null,null,null,null,null,"electric"]
[null,null,null,"eff level","stretch",{"$f":"IF(E5=\"base\", 0, IF(E5=\"stretch\", 3, IF(E5=\"ph\", 6)))","v":3},null,null,null,null,null,"fossil fuel"]
[null,null,null,"space","fossil fuel",{"$f":"IF(AND(E6=L5,E7=L5),0,IF(AND(E6=L4,E7=L5),1,IF(AND(E6=L4, E7=L4), 2, 0)))","v":0}]
[null,null,null,"water and cook","fossil fuel",null,null,null,{"$f":"INDEX(E14:AE20,6,SUM(F4,F5,F6))","v":7.6956304823826471}]
[null,null,null,null,null,null,null,null,{"$f":"INDEX(E14:AE20,7,SUM(F4:F6))","v":26.528578286635032},null,"heating",null,"water"]
[null,null,null,null,null,null,null,null,null,null,"fossil fuel",null,"fossil fuel"]
[]
[null,null,null,null,null,null,null,null,null,null,"electric",null,"fossil fuel OR electric"]
[]
[null,null,null,null,0,1,2]
[null,null,null,null,"warehouse",null,null,null,null,null,null,null,null,"secondary school",null,null,null,null,null,null,null,null,"primary school",null,null,null,null,null,null,null,null,"retail (part of larger building or strip)",null,null,null,null,null,null,null,null,"retail (stand alone building)",null,null,null,null,null,null,null,null,"restaurant (sit down)",null,null,null,null,null,null,null,null,"restaurant (quick service)",null,null,null,null,null,null,null,null,"outpatient health care",null,null,null,null,null,null,null,null,"office (small)",null,null,null,null,null,null,null,null,"office (large)",null,null,null,null,null,null,null,null,"hotel (small)",null,null,null,null,null,null,null,null,"hotel (large)",null,null,null,null,null,null,null,null,"hospital",null,null,null,null,null,null,null,null,"multifamily (low and mid rise)",null,null,null,null,null,null,null,null,"multifamily (high rise)"]
[null,null,null,"efficiency level","base","base","base","stretch","stretch","stretch","ph","ph","ph","base","base","base","stretch","stretch","stretch","ph","ph","ph","base","base","base","stretch","stretch","stretch","ph","ph","ph","base","base","base","stretch","stretch","stretch","ph","ph","ph","base","base","base","stretch","stretch","stretch","ph","ph","ph","base","base","base","stretch","stretch","stretch","ph","ph","ph","base","base","base","stretch","stretch","stretch","ph","ph","ph","base","base","base","stretch","stretch","stretch","ph","ph","ph","base","base","base","stretch","stretch","stretch","ph","ph","ph","base","base","base","stretch","stretch","stretch","ph","ph","ph","base","base","base","stretch","stretch","stretch","ph","ph","ph","base","base","base","stretch","stretch","stretch","ph","ph","ph","base","base","base","stretch","stretch","stretch","ph","ph","ph","base","base","base","stretch","stretch","stretch","ph","ph","ph","base","base","base","stretch","stretch","stretch","ph","ph","ph"]
[null,null,null,"space heating","gas","elec","`","gas","elec","elec","gas","elec","elec","gas","elec","elec","gas","elec","elec","gas","elec","elec","gas","elec","elec","gas","elec","elec","gas","elec","elec","gas","elec","elec","gas","elec","elec","gas","elec","elec","gas","elec","elec","gas","elec","elec","gas","elec","elec","gas","elec","elec","gas","elec","elec","gas","elec","elec","gas","elec","elec","gas","elec","elec","gas","elec","elec","gas","elec","elec","gas","elec","elec","gas","elec","elec","gas","elec","elec","gas","elec","elec","gas","elec","elec","gas","elec","elec","gas","elec","elec","gas","elec","elec","gas","elec","elec","gas","elec","elec","gas","elec","elec","gas","elec","elec","gas","elec","elec","gas","elec","elec","gas","elec","elec","gas","elec","elec","gas","elec","elec","gas","elec","elec","gas","elec","elec","gas","elec","elec","gas","elec","elec","gas","elec","elec","gas","elec","elec"]
[null,null,null,"water heating and cooking","gas","gas","elec","gas","gas","elec","gas","gas","elec","gas","gas","elec","gas","gas","elec","gas","gas","elec","gas","gas","elec","gas","gas","elec","gas","gas","elec","gas","gas","elec","gas","gas","elec","gas","gas","elec","gas","gas","elec","gas","gas","elec","gas","gas","elec","gas","gas","elec","gas","gas","elec","gas","gas","elec","gas","gas","elec","gas","gas","elec","gas","gas","elec","gas","gas","elec","gas","gas","elec","gas","gas","elec","gas","gas","elec","gas","gas","elec","gas","gas","elec","gas","gas","elec","gas","gas","elec","gas","gas","elec","gas","gas","elec","gas","gas","elec","gas","gas","elec","gas","gas","elec","gas","gas","elec","gas","gas","elec","gas","gas","elec","gas","gas","elec","gas","gas","elec","gas","gas","elec","gas","gas","elec","gas","gas","elec","gas","gas","elec","gas","gas","elec","gas","gas","elec"]
[]
[null,null,null,"gas EUI",{"$f":"'IECC 2021 warehouse'!U33","v":13.222737144839689},{"$f":"'IECC 2021 warehouse'!W33","v":0.5002103032419396},{"$f":"'IECC 2021 warehouse'!Y33","v":0},{"$f":"'IECC 2021 warehouse'!AA33","v":4.316968355721265},{"$f":"'IECC 2021 warehouse'!AC33","v":0.5002103032419396},{"$f":"'IECC 2021 warehouse'!AE33","v":0},5,5,5,{"$f":"'IECC 2021 secondary school'!U33","v":12.387842048457927},{"$f":"'IECC 2021 secondary school'!W33","v":5.6846826683503844},{"$f":"'IECC 2021 secondary school'!Y33","v":0},{"$f":"'IECC 2021 secondary school'!AA33","v":7.6956304823826471},{"$f":"'IECC 2021 secondary school'!AC33","v":5.6846826683503844},{"$f":"'IECC 2021 secondary school'!AE33","v":0},{"$f":"'IECC 2021 secondary school'!AG33","v":6.3549986063611392},{"$f":"'IECC 2021 secondary school'!AI33","v":5.6846826683503844},{"$f":"'IECC 2021 secondary school'!AK33","v":0},{"$f":"'IECC 2021 primary school'!U33","v":17.80595590130164},{"$f":"'IECC 2021 primary school'!W33","v":6.8208081668153078},{"$f":"'IECC 2021 primary school'!Y33","v":0},{"$f":"'IECC 2021 primary school'!AA33","v":10.116352487161208},{"$f":"'IECC 2021 primary school'!AC33","v":6.8208081668153078},{"$f":"'IECC 2021 primary school'!AE33","v":0},{"$f":"'IECC 2021 primary school'!AG33","v":7.9193229402639407},{"$f":"'IECC 2021 primary school'!AI33","v":6.8208081668153078},{"$f":"'IECC 2021 primary school'!AK33","v":0},{"$f":"'IECC 2021 retrail strip'!U33","v":24.22022543990737},{"$f":"'IECC 2021 retrail strip'!W33","v":2.7262288700995327},{"$f":"'IECC 2021 retrail strip'!Y33","v":0},{"$f":"'IECC 2021 retrail strip'!AA33","v":9.1744278410418829},{"$f":"'IECC 2021 retrail strip'!AC33","v":2.7262288700995327},{"$f":"'IECC 2021 retrail strip'!AE33","v":0},{"$f":"'IECC 2021 retrail strip'!AG33","v":4.8756285270803161},{"$f":"'IECC 2021 retrail strip'!AI33","v":2.7262288700995327},{"$f":"'IECC 2021 retrail strip'!AK33","v":0},{"$f":"'IECC 2021 stand alone retail'!U33","v":23.729161663977955},{"$f":"'IECC 2021 stand alone retail'!W33","v":3.701452734675895},{"$f":"'IECC 2021 stand alone retail'!Y33","v":0},{"$f":"'IECC 2021 stand alone retail'!AA33","v":9.7097654134665135},{"$f":"'IECC 2021 stand alone retail'!AC33","v":3.701452734675895},{"$f":"'IECC 2021 stand alone retail'!AE33","v":0},{"$f":"'IECC 2021 stand alone retail'!AG33","v":5.7042236276061011},{"$f":"'IECC 2021 stand alone retail'!AI33","v":3.701452734675895},{"$f":"'IECC 2021 stand alone retail'!AK33","v":0},{"$f":"'IECC 2021 sit down restaurant'!U33","v":261.21436183918468},{"$f":"'IECC 2021 sit down restaurant'!W33","v":159.69792575565288},{"$f":"'IECC 2021 sit down restaurant'!Y33","v":0},{"$f":"'IECC 2021 sit down restaurant'!AA33","v":190.15285658071241},{"$f":"'IECC 2021 sit down restaurant'!AC33","v":159.69792575565288},{"$f":"'IECC 2021 sit down restaurant'!AE33","v":0},{"$f":"'IECC 2021 sit down restaurant'!AG33","v":169.84956936400604},{"$f":"'IECC 2021 sit down restaurant'!AI33","v":159.69792575565288},{"$f":"'IECC 2021 sit down restaurant'!AK33","v":0},{"$f":"'IECC 2021 fast food restaurant'!U33","v":421.81839401775056},{"$f":"'IECC 2021 fast food restaurant'!W33","v":264.74419470820931},{"$f":"'IECC 2021 fast food restaurant'!Y33","v":0},{"$f":"'IECC 2021 fast food restaurant'!AA33","v":311.8664545010717},{"$f":"'IECC 2021 fast food restaurant'!AC33","v":264.74419470820931},{"$f":"'IECC 2021 fast food restaurant'!AE33","v":0},{"$f":"'IECC 2021 fast food restaurant'!AG33","v":280.45161463916344},{"$f":"'IECC 2021 fast food restaurant'!AI33","v":264.74419470820931},{"$f":"'IECC 2021 fast food restaurant'!AK33","v":0},{"$f":"'IECC 2021 outpat health care'!U33","v":34.250361178152765},{"$f":"'IECC 2021 outpat health care'!W33","v":11.493523258894879},{"$f":"'IECC 2021 outpat health care'!Y33","v":4.362615060910449},{"$f":"'IECC 2021 outpat health care'!AA33","v":18.320574634672244},{"$f":"'IECC 2021 outpat health care'!AC33","v":11.493523258894879},{"$f":"'IECC 2021 outpat health care'!AE33","v":4.362615060910449},{"$f":"'IECC 2021 outpat health care'!AG33","v":13.769207050820668},{"$f":"'IECC 2021 outpat health care'!AI33","v":11.493523258894879},{"$f":"'IECC 2021 outpat health care'!AK33","v":4.362615060910449},{"$f":"'IECC 2021 small office'!U33","v":7.9599166461379358},{"$f":"'IECC 2021 small office'!W33","v":4.4594183674359931},{"$f":"'IECC 2021 small office'!Y33","v":0},{"$f":"'IECC 2021 small office'!AA33","v":5.509567851046576},{"$f":"'IECC 2021 small office'!AC33","v":4.4594183674359931},{"$f":"'IECC 2021 small office'!AE33","v":0},{"$f":"'IECC 2021 small office'!AG33","v":4.8094681953061871},{"$f":"'IECC 2021 small office'!AI33","v":4.4594183674359931},{"$f":"'IECC 2021 small office'!AK33","v":0},{"$f":"'IECC 2021 large office'!U33","v":4.2942400155102378},{"$f":"'IECC 2021 large office'!W33","v":1.4237610610469129},{"$f":"'IECC 2021 large office'!Y33","v":0},{"$f":"'IECC 2021 large office'!AA33","v":2.2849047473859105},{"$f":"'IECC 2021 large office'!AC33","v":1.4237610610469129},{"$f":"'IECC 2021 large office'!AE33","v":0},{"$f":"'IECC 2021 large office'!AG33","v":1.7108089564932454},{"$f":"'IECC 2021 large office'!AI33","v":1.4237610610469129},{"$f":"'IECC 2021 large office'!AK33","v":0},{"$f":"'IECC 2021 small hotel'!U33","v":35.866668801646433},{"$f":"'IECC 2021 small hotel'!W33","v":34.424462275218076},{"$f":"'IECC 2021 small hotel'!Y33","v":9.9684425848522302},{"$f":"'IECC 2021 small hotel'!AA33","v":34.857124233146578},{"$f":"'IECC 2021 small hotel'!AC33","v":34.424462275218076},{"$f":"'IECC 2021 small hotel'!AE33","v":9.9684425848522302},{"$f":"'IECC 2021 small hotel'!AG33","v":34.568682927860905},{"$f":"'IECC 2021 small hotel'!AI33","v":34.424462275218076},{"$f":"'IECC 2021 small hotel'!AK33","v":9.9684425848522302},50.493092379418385,39.967311641709884,13.890974130818947,43.125045863022436,39.967311641709884,13.890974130818947,41.019889715480737,39.967311641709884,13.890974130818947,{"$f":"'IECC 2021 hospital'!U33","v":48.634238184283191},{"$f":"'IECC 2021 hospital'!W33","v":18.194997713808768},{"$f":"'IECC 2021 hospital'!Y33","v":0},{"$f":"'IECC 2021 hospital'!AA33","v":27.326769854951095},{"$f":"'IECC 2021 hospital'!AC33","v":18.194997713808768},{"$f":"'IECC 2021 hospital'!AE33","v":0},{"$f":"'IECC 2021 hospital'!AG33","v":21.238921760856211},{"$f":"'IECC 2021 hospital'!AI33","v":18.194997713808768},{"$f":"'IECC 2021 hospital'!AK33","v":0},{"$f":"'IECC 2021 apartment midrise'!U33","v":23.609147495685665},{"$f":"'IECC 2021 apartment midrise'!W33","v":15.749644631848211},{"$f":"'IECC 2021 apartment midrise'!Y33","v":0},{"$f":"'IECC 2021 apartment midrise'!AA33","v":18.107495490999447},{"$f":"'IECC 2021 apartment midrise'!AC33","v":15.749644631848211},{"$f":"'IECC 2021 apartment midrise'!AE33","v":0},{"$f":"'IECC 2021 apartment midrise'!AG33","v":16.535594918231958},{"$f":"'IECC 2021 apartment midrise'!AI33","v":15.749644631848211},{"$f":"'IECC 2021 apartment midrise'!AK33","v":0},{"$f":"'IECC 2021 high rise MF'!U33","v":22.914765178719389},{"$f":"'IECC 2021 high rise MF'!W33","v":15.136870402574148},{"$f":"'IECC 2021 high rise MF'!Y33","v":0},{"$f":"'IECC 2021 high rise MF'!AA33","v":17.470238835417721},{"$f":"'IECC 2021 high rise MF'!AC33","v":15.136870402574148},{"$f":"'IECC 2021 high rise MF'!AE33","v":0},{"$f":"'IECC 2021 high rise MF'!AG33","v":15.914659880188673},{"$f":"'IECC 2021 high rise MF'!AI33","v":15.136870402574148},{"$f":"'IECC 2021 high rise MF'!AK33","v":0}]
[null,null,null,"elec EUI",{"$f":"'IECC 2021 warehouse'!U34","v":6.0309193963399954},{"$f":"'IECC 2021 warehouse'!W34","v":9.8079195524393263},{"$f":"'IECC 2021 warehouse'!Y34","v":9.9979994676712636},{"$f":"'IECC 2021 warehouse'!AA34","v":6.0309193963399954},{"$f":"'IECC 2021 warehouse'!AC34","v":7.1640194431697948},{"$f":"'IECC 2021 warehouse'!AE34","v":7.354099358401732},5,5,5,{"$f":"'IECC 2021 secondary school'!U34","v":26.528578286635032},{"$f":"'IECC 2021 secondary school'!W34","v":28.51857872760446},{"$f":"'IECC 2021 secondary school'!Y34","v":29.640267800933266},{"$f":"'IECC 2021 secondary school'!AA34","v":26.528578286635032},{"$f":"'IECC 2021 secondary school'!AC34","v":27.125578418925862},{"$f":"'IECC 2021 secondary school'!AE34","v":28.247267492254664},{"$f":"'IECC 2021 secondary school'!AG34","v":26.528578286635032},{"$f":"'IECC 2021 secondary school'!AI34","v":26.727578330731976},{"$f":"'IECC 2021 secondary school'!AK34","v":27.849267404060782},{"$f":"'IECC 2021 primary school'!U34","v":27.927667997857775},{"$f":"'IECC 2021 primary school'!W34","v":31.188883731533405},{"$f":"'IECC 2021 primary school'!Y34","v":32.431382231631474},{"$f":"'IECC 2021 primary school'!AA34","v":27.927667997857775},{"$f":"'IECC 2021 primary school'!AC34","v":28.906032717960461},{"$f":"'IECC 2021 primary school'!AE34","v":30.148531218058537},{"$f":"'IECC 2021 primary school'!AG34","v":27.927667997857775},{"$f":"'IECC 2021 primary school'!AI34","v":28.253789571225337},{"$f":"'IECC 2021 primary school'!AK34","v":29.496288071323409},{"$f":"'IECC 2021 retrail strip'!U34","v":28.888642826862593},{"$f":"'IECC 2021 retrail strip'!W34","v":35.26967305852429},{"$f":"'IECC 2021 retrail strip'!Y34","v":36.305640029162113},{"$f":"'IECC 2021 retrail strip'!AA34","v":28.888642826862593},{"$f":"'IECC 2021 retrail strip'!AC34","v":30.802951896361105},{"$f":"'IECC 2021 retrail strip'!AE34","v":31.838918866998927},{"$f":"'IECC 2021 retrail strip'!AG34","v":28.888642826862593},{"$f":"'IECC 2021 retrail strip'!AI34","v":29.526745850028764},{"$f":"'IECC 2021 retrail strip'!AK34","v":30.562712820666587},{"$f":"'IECC 2021 stand alone retail'!U34","v":25.184318793225412},{"$f":"'IECC 2021 stand alone retail'!W34","v":31.130044881611962},{"$f":"'IECC 2021 stand alone retail'!Y34","v":32.536596920788803},{"$f":"'IECC 2021 stand alone retail'!AA34","v":25.184318793225412},{"$f":"'IECC 2021 stand alone retail'!AC34","v":26.968036619741376},{"$f":"'IECC 2021 stand alone retail'!AE34","v":28.374588658918217},{"$f":"'IECC 2021 stand alone retail'!AG34","v":25.184318793225412},{"$f":"'IECC 2021 stand alone retail'!AI34","v":25.778891402064065},{"$f":"'IECC 2021 stand alone retail'!AK34","v":27.185443441240906},{"$f":"'IECC 2021 sit down restaurant'!U34","v":123.72288716929256},{"$f":"'IECC 2021 sit down restaurant'!W34","v":153.86057913159101},{"$f":"'IECC 2021 sit down restaurant'!Y34","v":208.65632433312391},{"$f":"'IECC 2021 sit down restaurant'!AA34","v":123.72288716929256},{"$f":"'IECC 2021 sit down restaurant'!AC34","v":132.7641947579821},{"$f":"'IECC 2021 sit down restaurant'!AE34","v":187.55993995951496},{"$f":"'IECC 2021 sit down restaurant'!AG34","v":123.72288716929256},{"$f":"'IECC 2021 sit down restaurant'!AI34","v":126.73665636552241},{"$f":"'IECC 2021 sit down restaurant'!AK34","v":181.53240156705525},{"$f":"'IECC 2021 fast food restaurant'!U34","v":154.78391308940408},{"$f":"'IECC 2021 fast food restaurant'!W34","v":201.41531600942415},{"$f":"'IECC 2021 fast food restaurant'!Y34","v":296.07785074896998},{"$f":"'IECC 2021 fast food restaurant'!AA34","v":154.78391308940408},{"$f":"'IECC 2021 fast food restaurant'!AC34","v":168.7733339654101},{"$f":"'IECC 2021 fast food restaurant'!AE34","v":263.43586870495596},{"$f":"'IECC 2021 fast food restaurant'!AG34","v":154.78391308940408},{"$f":"'IECC 2021 fast food restaurant'!AI34","v":159.44705338140611},{"$f":"'IECC 2021 fast food restaurant'!AK34","v":254.10958812095194},{"$f":"'IECC 2021 outpat health care'!U34","v":63.063028508287459},{"$f":"'IECC 2021 outpat health care'!W34","v":69.818964765567117},{"$f":"'IECC 2021 outpat health care'!Y34","v":72.528709880801202},{"$f":"'IECC 2021 outpat health care'!AA34","v":63.063028508287459},{"$f":"'IECC 2021 outpat health care'!AC34","v":65.089809385471341},{"$f":"'IECC 2021 outpat health care'!AE34","v":67.799554500705426},{"$f":"'IECC 2021 outpat health care'!AG34","v":63.063028508287459},{"$f":"'IECC 2021 outpat health care'!AI34","v":63.738622134015422},{"$f":"'IECC 2021 outpat health care'!AK34","v":66.4483672492495},{"$f":"'IECC 2021 small office'!U34","v":23.415937771760017},{"$f":"'IECC 2021 small office'!W34","v":21.580508332868067},{"$f":"'IECC 2021 small office'!Y34","v":23.275087312493746},{"$f":"'IECC 2021 small office'!AA34","v":20.489031727007852},{"$f":"'IECC 2021 small office'!AC34","v":19.938402895340271},{"$f":"'IECC 2021 small office'!AE34","v":21.632981874965949},{"$f":"'IECC 2021 small office'!AG34","v":19.652772857078663},{"$f":"'IECC 2021 small office'!AI34","v":19.469229913189469},{"$f":"'IECC 2021 small office'!AK34","v":21.163808892815148},{"$f":"'IECC 2021 large office'!U34","v":43.21118719325132},{"$f":"'IECC 2021 large office'!W34","v":44.063360632857616},{"$f":"'IECC 2021 large office'!Y34","v":44.604389836055446},{"$f":"'IECC 2021 large office'!AA34","v":43.21118719325132},{"$f":"'IECC 2021 large office'!AC34","v":43.466839225133207},{"$f":"'IECC 2021 large office'!AE34","v":44.007868428331037},{"$f":"'IECC 2021 large office'!AG34","v":43.21118719325132},{"$f":"'IECC 2021 large office'!AI34","v":43.296404537211949},{"$f":"'IECC 2021 large office'!AK34","v":43.837433740409779},{"$f":"'IECC 2021 small hotel'!U34","v":32.745750906804084},{"$f":"'IECC 2021 small hotel'!W34","v":30.354147427658603},{"$f":"'IECC 2021 small hotel'!Y34","v":39.647434909997621},{"$f":"'IECC 2021 small hotel'!AA34","v":29.874724028003747},{"$f":"'IECC 2021 small hotel'!AC34","v":29.157242984260108},{"$f":"'IECC 2021 small hotel'!AE34","v":38.450530466599126},{"$f":"'IECC 2021 small hotel'!AG34","v":29.0544306340608},{"$f":"'IECC 2021 small hotel'!AI34","v":28.815270286146252},{"$f":"'IECC 2021 small hotel'!AK34","v":38.108557768485269},36.20984122224948,39.334682378756696,49.243690632895252,36.20984122224948,37.147293569201643,47.056301823340199,36.20984122224948,36.522325337900199,46.431333592038754,{"$f":"'IECC 2021 hospital'!U34","v":71.524907514080013},{"$f":"'IECC 2021 hospital'!W34","v":80.561557028752105},{"$f":"'IECC 2021 hospital'!Y34","v":84.98833969786007},{"$f":"'IECC 2021 hospital'!AA34","v":71.524907514080013},{"$f":"'IECC 2021 hospital'!AC34","v":74.235902368481646},{"$f":"'IECC 2021 hospital'!AE34","v":78.662685037589597},{"$f":"'IECC 2021 hospital'!AG34","v":71.524907514080013},{"$f":"'IECC 2021 hospital'!AI34","v":72.428572465547219},{"$f":"'IECC 2021 hospital'!AK34","v":76.855355134655184},{"$f":"'IECC 2021 apartment midrise'!U34","v":22.135639511003959},{"$f":"'IECC 2021 apartment midrise'!W34","v":24.468929423705699},{"$f":"'IECC 2021 apartment midrise'!Y34","v":30.453794383808017},{"$f":"'IECC 2021 apartment midrise'!AA34","v":22.135639511003959},{"$f":"'IECC 2021 apartment midrise'!AC34","v":22.83562648481448},{"$f":"'IECC 2021 apartment midrise'!AE34","v":28.820491444916797},{"$f":"'IECC 2021 apartment midrise'!AG34","v":22.135639511003959},{"$f":"'IECC 2021 apartment midrise'!AI34","v":22.368968502274132},{"$f":"'IECC 2021 apartment midrise'!AK34","v":28.35383346237645},{"$f":"'IECC 2021 high rise MF'!U34","v":26.280344406556587},{"$f":"'IECC 2021 high rise MF'!W34","v":26.810232830590842},{"$f":"'IECC 2021 high rise MF'!Y34","v":32.562243583569014},{"$f":"'IECC 2021 high rise MF'!AA34","v":24.468821699147561},{"$f":"'IECC 2021 high rise MF'!AC34","v":24.627788226357836},{"$f":"'IECC 2021 high rise MF'!AE34","v":30.379798979336012},{"$f":"'IECC 2021 high rise MF'!AG34","v":23.951243782744982},{"$f":"'IECC 2021 high rise MF'!AI34","v":24.004232625148404},{"$f":"'IECC 2021 high rise MF'!AK34","v":29.75624337812658}]
[]
[]
[]
[null,null,null,null,5]
[null,null,null,null,{"$f":"MATCH(E24, E29:L29, 0)","v":1}]
[]
[]
[]
[null,null,null,null,5,6,7,3,8,2,1,9]

{"sheet":"Validation","index":3,"n_rows":24,"n_cols":16,"rows_kept":24,"cut":false,"hidden":true,"merged":[]}
[]
[]
[]
[null,null,null,null,null,null,null,null,null,null,null,null,null,null,"to set water heatingchoices"]
[]
[null,null,null,null,null,null,null,null,null,null,null,null,null,null,"electric","fossil fuel"]
[null,null,null,null,null,null,null,null,null,null,null,null,null,null,1,"A"]
[null,null,null,null,null,null,null,null,null,null,null,null,null,null,2]
[null,null,null,null,"warehouse",null,null,null,null,null,"base"]
[null,null,null,null,"secondary school",null,null,null,null,null,"stretch/opt-in"]
[null,null,null,null,"primary school",null,null,null,null,null,"passive house"]
[null,null,null,null,"retail (part of larger building or strip)"]
[null,null,null,null,"retail (stand alone building)",null,null,null,null,null,"fossil",null,null,"heating","electric","fossil fuel"]
[null,null,null,null,"restaurant (sit down)",null,null,null,null,null,"electric",null,null,"electric","electric","fossil fuel"]
[null,null,null,null,"restaurant (quick service)",null,null,null,null,null,null,null,null,"fossil fuel","fossil fuel"]
[null,null,null,null,"outpatient health care",null,null,null,null,null,"yes"]
[null,null,null,null,"office (small)",null,null,null,null,null,"no"]
[null,null,null,null,"office (large)"]
[null,null,null,null,"hotel (small)"]
[null,null,null,null,"hotel (large)"]
[null,null,null,null,"hospital"]
[null,null,null,null,"multifamily (low and mid rise)",null,null,null,null,null,null,null,null,"electric","fossil"]
[null,null,null,null,"multifamily (high rise)",null,null,null,null,null,null,null,"electric","fossil","fossil"]
[null,null,null,null,null,null,null,null,null,null,null,null,"fossil","electric"]

{"sheet":"SWA data","index":4,"n_rows":148,"n_cols":12,"rows_kept":148,"cut":false,"hidden":true,"merged":[[1,4,1,7],[1,8,1,11],[32,4,32,10],[15,4,15,10],[134,4,134,10],[118,4,118,10],[2,4,2,5],[2,6,2,7],[2,8,2,9],[2,10,2,11],[102,4,102,10],[86,4,86,10],[70,4,70,10],[54,4,54,10]]}
[]
[null,null,null,null,"Stretch Code",null,null,null,"Passive House"]
[null,null,null,"scneario name","gas",null,"electric",null,"gas",null,"electric"]
[]
[null,null,null,null,"gas EUI","elec EUI","gas EUI","elec EUI","gas EUI","elec EUI","gas EUI","elec EUI"]
[null,null,null,"MF midrise - slab on grade",15.2,21.3,0,30.4,10.9,21.2,0,29]
[null,null,null,"MF highrise",13.3,26.5,0,34.6,8.9,31.2,0,34.9]
[null,null,null,"MF midrise - podium",10.9,26.7,0,31.2,6.1,27.7,0,30.9]
[null,null,null,"small office",4.8,29.1,0,29.6,0.6,31.1,0,29.7]
[null,null,null,"large office",0.5,43.1,0,43.3,0.25,43.1,0,43.1]
[null,null,null,"office-lab",32,105,0,124,32,105,0,124]
[null,null,null,"primary school",5,43,0,45.5,4,43,0,45.4]
[null,null,null,"secondary school",2.25,26,0,28,2.25,26,0,27.75]
[]
[]
[null,null,null,null,"secondary school"]
[null,null,null,null,"opt gas",null,"opt elec",null,"PH gas",null,"PH elec"]
[]
[null,null,null,"gas",{"$f":"SUM(E23,E29)","v":2.25},null,0,null,{"$f":"SUM(I23,I29)","v":2.25},null,0]
[null,null,null,"elec",{"$f":"SUM(E22,E24:E27)","v":26},null,{"$f":"SUM(G22:G29)","v":28},null,{"$f":"SUM(I22,I24:I27)","v":26},null,{"$f":"SUM(K22:K29)","v":27.75}]
[]
[null,null,null,"cooling",2,null,2,null,2,null,2]
[null,null,null,"heating",0.75,null,0.5,null,0.75,null,0.25]
[null,null,null,"interior lighting",5,null,5,null,5,null,5]
[null,null,null,"exterior lighing",0.5,null,0.5,null,0.5,null,0.5]
[null,null,null,"interior equipment",11,null,11,null,11,null,11]
[null,null,null,"fans/pumps",7.5,null,7.5,null,7.5,null,7.5]
[]
[null,null,null,"DHW",1.5,null,1.5,null,1.5,null,1.5]
[]
[]
[]
[null,null,null,null,"office-lab"]
[null,null,null,null,"opt gas",null,"opt elec",null,"PH gas",null,"PH elec"]
[]
[null,null,null,"gas",{"$f":"E40","v":32},null,0,null,{"$f":"I40","v":32},null,0]
[null,null,null,"elec",{"$f":"SUM(E39,E41:E46)","v":105},null,{"$f":"SUM(G39:G46)","v":124},null,{"$f":"SUM(I39,I41:I46)","v":105},null,{"$f":"SUM(K39:K46)","v":124}]
[]
[null,null,null,"cooling",20,null,20,null,20,null,20]
[null,null,null,"heating",32,null,19,null,32,null,19]
[null,null,null,"interior lighting",5,null,5,null,5,null,5]
[null,null,null,"exterior lighing",1,null,1,null,1,null,1]
[null,null,null,"interior equipment",18,null,18,null,18,null,18]
[null,null,null,"misc",10,null,10,null,10,null,10]
[null,null,null,"fans/pumps",50,null,50,null,50,null,50]
[null,null,null,"DHW",1,null,1,null,1,null,1]
[null,null,null,"exterior lighing",1,null,1,null,1,null,1]
[null,null,null,"interior equipment",22,null,22,null,22,null,22]
[null,null,null,"fans/pumps",5,null,5,null,5,null,5]
[]
[null,null,null,"DHW",2,null,2,null,2,null,2]
[]
[]
[]
[null,null,null,null,"office-lab"]
[null,null,null,null,"opt gas",null,"opt elec",null,"PH gas",null,"PH elec"]
[]
[null,null,null,"gas",{"$f":"E62","v":32},null,0,null,{"$f":"I62","v":32},null,0]
[null,null,null,"elec",{"$f":"SUM(E61,E63:E68)","v":105},null,{"$f":"SUM(G61:G68)","v":124},null,{"$f":"SUM(I61,I63:I68)","v":105},null,{"$f":"SUM(K61:K68)","v":124}]
[]
[null,null,null,"cooling",20,null,20,null,20,null,20]
[null,null,null,"heating",32,null,19,null,32,null,19]
[null,null,null,"interior lighting",5,null,5,null,5,null,5]
[null,null,null,"exterior lighing",1,null,1,null,1,null,1]
[null,null,null,"interior equipment",18,null,18,null,18,null,18]
[null,null,null,"misc",10,null,10,null,10,null,10]
[null,null,null,"fans/pumps",50,null,50,null,50,null,50]
[null,null,null,"DHW",1,null,1,null,1,null,1]
[]
[]
[null,null,null,null,"large office"]
[null,null,null,null,"opt gas",null,"opt elec",null,"PH gas",null,"PH elec"]
[]
[null,null,null,"gas",{"$f":"E78","v":0.5},null,0,null,{"$f":"I78","v":0.25},null,0]
[null,null,null,"elec",{"$f":"SUM(E77,E79:E84)","v":43.1},null,{"$f":"SUM(G77:G84)","v":43.35},null,{"$f":"SUM(I77,I79:I84)","v":43.1},null,{"$f":"SUM(K77:K84)","v":43.2}]
[]
[null,null,null,"cooling",4,null,4,null,4,null,4]
[null,null,null,"heating",0.5,null,0.25,null,0.25,null,0.1]
[null,null,null,"interior lighting",5,null,5,null,5,null,5]
[null,null,null,"exterior lighing",0.75,null,0.75,null,0.75,null,0.75]
[null,null,null,"interior equipment",26,null,26,null,26,null,26]
[null,null,null,"fans/pumps/hr/h",5.5,null,5.5,null,5.5,null,5.5]
[null,null,null,"pumps/hr",1.75,null,1.75,null,1.75,null,1.75]
[null,null,null,"DHW",0.1,null,0.1,null,0.1,null,0.1]
[]
[]
[null,null,null,null,"small office"]
[null,null,null,null,"opt gas",null,"opt elec",null,"PH gas",null,"PH elec"]
[]
[null,null,null,"gas",{"$f":"E94","v":4.8},null,0,null,{"$f":"I94","v":0.6},null,0]
[null,null,null,"elec",{"$f":"SUM(E93,E95:E100)","v":29.1},null,{"$f":"SUM(G93:G100)","v":29.6},null,{"$f":"SUM(I93,I95:I100)","v":31.1},null,{"$f":"SUM(K93:K100)","v":29.7}]
[]
[null,null,null,"cooling",5,null,5,null,6,null,6]
[null,null,null,"heating",4.8,null,1.5,null,0.6,null,0.6]
[null,null,null,"interior lighting",6,null,6,null,6,null,6]
[null,null,null,"exterior lighing",0.1,null,0.1,null,0.1,null,0.1]
[null,null,null,"interior equipment",12.5,null,12.5,null,12.5,null,12.5]
[null,null,null,"fans/pumps/hr/h",5,null,4,null,6,null,4]
[null,null,null,"pumps/hr",0,null,0,null,0,null,0]
[null,null,null,"DHW",0.5,null,0.5,null,0.5,null,0.5]
[]
[]
[null,null,null,null,"MF midrise - podium"]
[null,null,null,null,"opt gas",null,"opt elec",null,"PH gas",null,"PH elec"]
[]
[null,null,null,"gas",{"$f":"SUM(E110,E116)","v":10.899999999999999},null,0,null,{"$f":"I116","v":6.1},null,0]
[null,null,null,"elec",{"$f":"SUM(E109,E111,E112,E113,E114,E115)","v":26.7},null,{"$f":"SUM(G109:G116)","v":31.2},null,{"$f":"SUM(I109:I115)","v":27.7},null,{"$f":"SUM(K109:K116)","v":30.899999999999995}]
[]
[null,null,null,"cooling",2.4,null,2.4,null,2.8,null,3]
[null,null,null,"heating",4.8,null,1.5,null,0.6,null,0.6]
[null,null,null,"interior lighting",5.8,null,5.8,null,5.8,null,5.8]
[null,null,null,"exterior lighing",0.2,null,0.2,null,0.2,null,0.2]
[null,null,null,"interior equipment",10.7,null,10.7,null,10.7,null,10.7]
[null,null,null,"fans",7.4,null,7.4,null,7.4,null,7.4]
[null,null,null,"pumps/hr",0.2,null,0.2,null,0.2,null,0.2]
[null,null,null,"DHW",6.1,null,3,null,6.1,null,3]
[]
[]
[null,null,null,null,"MF highrise"]
[null,null,null,null,"opt gas",null,"opt elec",null,"PH gas",null,"PH elec"]
[]
[null,null,null,"gas",{"$f":"SUM(E126,E132)","v":13.3},null,0,null,{"$f":"I132","v":8.9},null,0]
[null,null,null,"elec",{"$f":"SUM(E125,E127,E128,E129,E130,E131)","v":26.5},null,{"$f":"SUM(G125:G132)","v":34.599999999999994},null,{"$f":"SUM(I125:I131)","v":31.2},null,{"$f":"SUM(K125:K132)","v":34.9}]
[]
[null,null,null,"cooling",5.4,null,5.4,null,6.9,null,6.9]
[null,null,null,"heating",4.4000000000000004,null,4.3,null,3.1,null,3.1]
[null,null,null,"interior lighting",2.9,null,2.9,null,2.9,null,2.9]
[null,null,null,"exterior lighing",0.2,null,0.2,null,0.2,null,0.2]
[null,null,null,"interior equipment",12,null,12,null,12,null,12]
[null,null,null,"fans",5.8,null,5.8,null,5.9,null,5.9]
[null,null,null,"pumps/hr",0.2,null,0.2,null,0.2,null,0.2]
[null,null,null,"DHW",8.9,null,3.8,null,8.9,null,3.7]
[]
[]
[null,null,null,null,"MF midrise - slab on grade"]
[null,null,null,null,"opt gas",null,"opt elec",null,"PH gas",null,"PH elec"]
[]
[null,null,null,"gas",{"$f":"SUM(E142,E148)","v":15.200000000000001},null,0,null,{"$f":"I148","v":10.9},null,0]
[null,null,null,"elec",{"$f":"SUM(E141,E143,E144,E145,E146,E147)","v":21.3},null,{"$f":"SUM(G141:G148)","v":30.4},null,{"$f":"SUM(I141:I147)","v":21.2},null,{"$f":"SUM(K141:K148)","v":29}]
[]
[null,null,null,"cooling",2.6,null,2.6,null,3.2,null,3.2]
[null,null,null,"heating",3.4,null,1.7,null,0.1,null,0.1]
[null,null,null,"interior lighting",4.2,null,4.2,null,4.2,null,4.2]
[null,null,null,"exterior lighing",0.2,null,0.2,null,0.2,null,0.2]
[null,null,null,"interior equipment",8.1,null,8.1,null,8.1,null,8.1]
[null,null,null,"fans",6,null,5.6,null,5.2,null,5.2]
[null,null,null,"misc",0.2,null,0.2,null,0.2,null,0.2]
[null,null,null,"DHW",11.8,null,7.8,null,10.9,null,7.8]

{"sheet":"IECC 2021 warehouse","index":5,"n_rows":34,"n_cols":31,"rows_kept":34,"cut":false,"hidden":true,"merged":[[12,29,12,30],[10,25,10,26],[10,27,10,28],[10,29,10,30],[11,25,11,26],[11,27,11,28],[11,29,11,30],[10,23,10,24],[11,23,11,24],[12,23,12,24],[12,25,12,26],[12,27,12,28],[10,19,10,20],[11,19,11,20],[12,19,12,20],[10,21,10,22],[11,21,11,22],[12,21,12,22]]}
[]
[]
[]
[]
[]
[]
["Area [m2]"]
["Total Building Area",4835.13]
["Net Conditioned Building Area",4835.13,null,null,null,null,null,null,null,null,null,null,null,null,null,{"$f":"B9*3.28*3.28","v":52018.262591999992},"ft2"]
["Unconditioned Building Area",0]
[null,null,null,null,null,null,null,null,null,null,null,null,null,null,null,null,null,null,"efficiency level","base",null,"base",null,"base",null,"stretch",null,"stretch",null,"stretch"]
[null,null,null,null,null,null,null,null,null,null,null,null,null,null,null,null,null,null,"heating","gas",null,"elec",null,"elec",null,"gas",null,"elec",null,"elec"]
["End Uses",null,null,null,null,null,null,null,null,null,null,null,null,null,null,null,null,null,"hot water","gas",null,"gas",null,"elec",null,"gas",null,"gas",null,"elec"]
[]
[null,"Electricity [GJ]","Natural Gas [GJ]","Gasoline [GJ]","Diesel [GJ]","Coal [GJ]","Fuel Oil No 1 [GJ]","Fuel Oil No 2 [GJ]","Propane [GJ]","Other Fuel 1 [GJ]","Other Fuel 2 [GJ]","District Cooling [GJ]","District Heating [GJ]","Water [m3]",null,"Gas (Mbtu/yr)","Elec (Mbtu/yr)","Gas (kbtu/sf-yr)","Elec (kBtu/sf-yr","Gas (kbtu/sf-yr)","Elec (kBtu/sf-yr","Gas (kbtu/sf-yr)","Elec (kBtu/sf-yr","Gas (kbtu/sf-yr)","Elec (kBtu/sf-yr","Gas (kbtu/sf-yr)","Elec (kBtu/sf-yr","Gas (kbtu/sf-yr)","Elec (kBtu/sf-yr","Gas (kbtu/sf-yr)","Elec (kBtu/sf-yr"]
["Heating",0,698.24,0,0,0,0,0,0,0,0,0,0,0,null,{"$f":"C16*947817/1000","v":661803.74208},{"$f":"B16*947817/1000","v":0},{"$f":"P16/$P$9","v":12.72252684159775},{"$f":"Q16/$P$9","v":0},{"$f":"R16","v":12.72252684159775},{"$f":"S16","v":0},{"$f":"0","v":0},{"$f":"R16*0.95/3.2","v":3.7770001560993314},{"$f":"0","v":0},{"$f":"R16*0.95/3.2","v":3.7770001560993314},{"$f":"R16*0.3","v":3.816758052479325},{"$f":"S16","v":0},0,{"$f":"Z16*0.95/3.2","v":1.1331000468297996},0,{"$f":"AC16","v":1.1331000468297996}]
["Cooling",10.02,0,0,0,0,0,0,0,0,0,0,0,0,null,{"$f":"C17*947817/1000","v":0},{"$f":"B17*947817/1000","v":9497.1263400000007},{"$f":"P17/$P$9","v":0},0.1825729247147248,{"$f":"R17","v":0},{"$f":"S17","v":0.1825729247147248},{"$f":"R17","v":0},{"$f":"S17","v":0.1825729247147248},{"$f":"R17","v":0},{"$f":"S17","v":0.1825729247147248},{"$f":"R17","v":0},{"$f":"S17","v":0.1825729247147248},{"$f":"R17","v":0},{"$f":"S17","v":0.1825729247147248},{"$f":"R17","v":0},{"$f":"S17","v":0.1825729247147248}]
["Interior Lighting",93.23,0,0,0,0,0,0,0,0,0,0,0,0,null,0,88364.978909999991,0,1.6987299172808175,0,1.6987299172808175,{"$f":"R18","v":0},{"$f":"S18","v":1.6987299172808175},{"$f":"R18","v":0},{"$f":"S18","v":1.6987299172808175},{"$f":"R18","v":0},{"$f":"S18","v":1.6987299172808175},{"$f":"R18","v":0},{"$f":"S18","v":1.6987299172808175},{"$f":"R18","v":0},{"$f":"S18","v":1.6987299172808175}]
["Exterior Lighting",61.69,0,0,0,0,0,0,0,0,0,0,0,0,null,0,58470.830729999994,0,1.124044283997143,0,1.124044283997143,0,1.124044283997143,0,1.124044283997143,0,1.124044283997143,0,1.124044283997143,0,1.124044283997143]
["Interior Equipment",136.51,0,0,0,0,0,0,0,0,0,0,0,0,null,0,129386.49866999999,0,2.487328338603501,0,2.487328338603501,0,2.487328338603501,0,2.487328338603501,0,2.487328338603501,0,2.487328338603501,0,2.487328338603501]
["Exterior Equipment",0,0,0,0,0,0,0,0,0,0,0,0,0,null,0,0,0,0,0,0,0,0,0,0,0,0,0,0,0,0]
["Fans",29.54,0,0,0,0,0,0,0,0,0,0,0,0,null,0,27998.514179999998,0,0.53824393174380947,0,0.53824393174380947,0,0.53824393174380947,0,0.53824393174380947,0,0.53824393174380947,0,0.53824393174380947,0,0.53824393174380947]
["Pumps",0,0,0,0,0,0,0,0,0,0,0,0,0,null,0,0,0,0,0,0,0,0,0,0,0,0,0,0,0,0]
["Heat Rejection",0,0,0,0,0,0,0,0,0,0,0,0,0,null,0,0,0,0,0,0,0,0,0,0,0,0,0,0,0,0]
["Humidification",0,0,0,0,0,0,0,0,0,0,0,0,0,null,0,0,0,0,0,0,0,0,0,0,0,0,0,0,0,0]
["Heat Recovery",0,0,0,0,0,0,0,0,0,0,0,0,0,null,0,0,0,0,0,0,0,0,0,0,0,0,0,0,0,0]
["Water Systems",26.08,0,0,0,0,0,0,0,0,0,0,0,51.61,null,0,24719.067360000001,0,0.47519978807984264,{"$f":"S27*1/0.95","v":0.5002103032419396},0,{"$f":"T27","v":0.5002103032419396},0,0,{"$f":"S27*1/2.5","v":0.19007991523193707},{"$f":"S27*1/0.95","v":0.5002103032419396},0,{"$f":"S27*1/0.95","v":0.5002103032419396},0,0,{"$f":"Y27","v":0.19007991523193707}]
["Refrigeration",0,0,0,0,0,0,0,0,0,0,0,0,0,null,0,0,0,0,{"$f":"R28","v":0},{"$f":"S28","v":0},0,0,0,0,0,0,0,0,0,0]
["Generators",0,0,0,0,0,0,0,0,0,0,0,0,0,null,0,0,0,0,0,0,0,0,0,0,0,0,0,0,0,0]
[]
["Total End Uses",357.06,698.24,0,0,0,0,0,0,0,0,0,0,51.61]
["Note: Natural gas appears to be the principal heating source based on energy usage."]
[null,null,null,null,null,null,null,null,null,null,null,null,null,null,null,null,null,"gas EUI",{"$f":"SUM(R16:R29)","v":12.72252684159775},null,{"$f":"SUM(T16:T29)","v":13.222737144839689},null,{"$f":"SUM(V16:V29)","v":0.5002103032419396},null,{"$f":"SUM(X16:X29)","v":0},null,{"$f":"SUM(Z16:Z29)","v":4.316968355721265},null,{"$f":"SUM(AB16:AB29)","v":0.5002103032419396},null,{"$f":"SUM(AD16:AD29)","v":0}]
[null,null,null,null,null,null,null,null,null,null,null,null,null,null,null,null,null,"elec EUI",{"$f":"SUM(S16:S29)","v":6.5061191844198376},null,{"$f":"SUM(U16:U29)","v":6.0309193963399954},null,{"$f":"SUM(W16:W29)","v":9.8079195524393263},null,{"$f":"SUM(Y16:Y29)","v":9.9979994676712636},null,{"$f":"SUM(AA16:AA29)","v":6.0309193963399954},null,{"$f":"SUM(AC16:AC29)","v":7.1640194431697948},null,{"$f":"SUM(AE16:AE29)","v":7.354099358401732}]

{"sheet":"IECC 2021 secondary school","index":6,"n_rows":40,"n_cols":37,"rows_kept":40,"cut":false,"hidden":true,"merged":[[12,31,12,32],[12,33,12,34],[12,35,12,36],[10,31,10,32],[10,33,10,34],[10,35,10,36],[11,31,11,32],[11,33,11,34],[11,35,11,36],[12,29,12,30],[11,19,11,20],[11,21,11,22],[11,23,11,24],[11,25,11,26],[11,27,11,28],[11,29,11,30],[12,19,12,20],[12,21,12,22],[12,23,12,24],[12,25,12,26],[12,27,12,28],[10,29,10,30],[10,19,10,20],[10,21,10,22],[10,23,10,24],[10,25,10,26],[10,27,10,28]]}
[]
[]
[]
[]
[]
[]
["Area [m2]"]
["Total Building Area",19592]
["Net Conditioned Building Area",19592,null,null,null,null,null,null,null,null,null,null,null,null,null,{"$f":"B9*3.28*3.28","v":210778.57279999997},"ft2"]
["Unconditioned Building Area",0]
[null,null,null,null,null,null,null,null,null,null,null,null,null,null,null,null,null,null,"efficiency level","base",null,"base",null,"base",null,"stretch",null,"stretch",null,"stretch",null,"ph",null,"ph",null,"ph"]
[null,null,null,null,null,null,null,null,null,null,null,null,null,null,null,null,null,null,"heating","gas",null,"elec",null,"elec",null,"gas",null,"elec",null,"elec",null,"gas",null,"elec",null,"elec"]
["End Uses",null,null,null,null,null,null,null,null,null,null,null,null,null,null,null,null,null,"hot water","gas",null,"gas",null,"elec",null,"gas",null,"gas",null,"elec",null,"gas",null,"gas",null,"elec"]
[]
[null,"Electricity [GJ]","Natural Gas [GJ]","Gasoline [GJ]","Diesel [GJ]","Coal [GJ]","Fuel Oil No 1 [GJ]","Fuel Oil No 2 [GJ]","Propane [GJ]","Other Fuel 1 [GJ]","Other Fuel 2 [GJ]","District Cooling [GJ]","District Heating [GJ]","Water [m3]",null,"Gas (Mbtu/yr)","Elec (Mbtu/yr)","Gas (kbtu/sf-yr)","Elec (kBtu/sf-yr","Gas (kbtu/sf-yr)","Elec (kBtu/sf-yr","Gas (kbtu/sf-yr)","Elec (kBtu/sf-yr","Gas (kbtu/sf-yr)","Elec (kBtu/sf-yr","Gas (kbtu/sf-yr)","Elec (kBtu/sf-yr","Gas (kbtu/sf-yr)","Elec (kBtu/sf-yr","Gas (kbtu/sf-yr)","Elec (kBtu/sf-yr","Gas (kbtu/sf-yr)","Elec (kBtu/sf-yr","Gas (kbtu/sf-yr)","Elec (kBtu/sf-yr","Gas (kbtu/sf-yr)","Elec (kBtu/sf-yr"]
["Heating",0,1490.67,0,0,0,0,0,0,0,0,0,0,0,null,{"$f":"C16*947817/1000","v":1412882.36739},{"$f":"B16*947817/1000","v":0},{"$f":"P16/$P$9","v":6.7031593801075413},{"$f":"Q16/$P$9","v":0},{"$f":"R16","v":6.7031593801075413},{"$f":"S16","v":0},{"$f":"0","v":0},{"$f":"R16*0.95/3.2","v":1.9900004409694263},{"$f":"0","v":0},{"$f":"R16*0.95/3.2","v":1.9900004409694263},{"$f":"R16*0.3","v":2.0109478140322623},{"$f":"S16","v":0},0,{"$f":"Z16*0.95/3.2","v":0.59700013229082782},0,{"$f":"AC16","v":0.59700013229082782},{"$f":"R16*0.1","v":0.67031593801075418},0,0,{"$f":"AF16*0.95/3.2","v":0.19900004409694264},0,{"$f":"AI16","v":0.19900004409694264}]
["Cooling",804.14,0,0,0,0,0,0,0,0,0,0,0,0,null,{"$f":"C17*947817/1000","v":0},{"$f":"B17*947817/1000","v":762177.56238000002},{"$f":"P17/$P$9","v":0},3.6160106421405667,{"$f":"R17","v":0},3.6160106421405667,{"$f":"R17","v":0},{"$f":"S17","v":3.6160106421405667},{"$f":"R17","v":0},{"$f":"S17","v":3.6160106421405667},{"$f":"R17","v":0},{"$f":"S17","v":3.6160106421405667},{"$f":"R17","v":0},{"$f":"S17","v":3.6160106421405667},{"$f":"R17","v":0},{"$f":"S17","v":3.6160106421405667},{"$f":"X17","v":0},{"$f":"Y17","v":3.6160106421405667},{"$f":"X17","v":0},{"$f":"Y17","v":3.6160106421405667},{"$f":"X17","v":0},{"$f":"Y17","v":3.6160106421405667}]
["Interior Lighting",1048.6300000000001,0,0,0,0,0,0,0,0,0,0,0,0,null,0,993909.34071000014,0,4.7154192549405112,0,4.7154192549405112,{"$f":"R18","v":0},4.7154192549405112,{"$f":"R18","v":0},4.7154192549405112,{"$f":"R18","v":0},4.7154192549405112,{"$f":"R18","v":0},4.7154192549405112,{"$f":"R18","v":0},4.7154192549405112,{"$f":"X18","v":0},{"$f":"Y18","v":4.7154192549405112},{"$f":"X18","v":0},{"$f":"Y18","v":4.7154192549405112},{"$f":"X18","v":0},{"$f":"Y18","v":4.7154192549405112}]
["Exterior Lighting",71.89,0,0,0,0,0,0,0,0,0,0,0,0,null,0,68138.564129999999,0,0.32327082978521815,0,0.32327082978521815,0,0.32327082978521815,0,0.32327082978521815,0,0.32327082978521815,0,0.32327082978521815,0,0.32327082978521815,0,0.32327082978521815,0,0.32327082978521815,0,0.32327082978521815]
["Interior Equipment",2418.3200000000002,544.46,0,0,0,0,0,0,0,0,0,0,0,null,516048.44382000004,2292124.8074400001,2.4482965083441353,10.874562708112238,{"$f":"R20","v":2.4482965083441353},{"$f":"S20","v":10.874562708112238},2.4482965083441353,10.874562708112238,0,{"$f":"(S20*0.9)+(R20/2.5)","v":10.766425040638669},2.4482965083441353,10.874562708112238,2.4482965083441353,10.874562708112238,0,{"$f":"Y20","v":10.766425040638669},{"$f":"R20","v":2.4482965083441353},{"$f":"S20","v":10.874562708112238},{"$f":"R20","v":2.4482965083441353},{"$f":"S20","v":10.874562708112238},0,10.766425040638669]
["Exterior Equipment",29.45,0,0,0,0,0,0,0,0,0,0,0,0,null,0,27913.210649999997,0,0.13242907131972004,0,0.13242907131972004,0,0.13242907131972004,0,0.13242907131972004,0,0.13242907131972004,0,0.13242907131972004,0,0.13242907131972004,0,0.13242907131972004,0,0.13242907131972004,0,0.13242907131972004]
["Fans",1136.5,0,0,0,0,0,0,0,0,0,0,0,0,null,0,1077194.0205000001,0,5.1105480324231527,0,5.1105480324231527,0,5.1105480324231527,0,5.1105480324231527,0,5.1105480324231527,0,5.1105480324231527,0,5.1105480324231527,0,5.1105480324231527,0,5.1105480324231527,0,5.1105480324231527]
["Pumps",56.29,0,0,0,0,0,0,0,0,0,0,0,0,null,0,53352.618929999997,0,0.25312164429837153,0,0.25312164429837153,0,0.25312164429837153,0,0.25312164429837153,0,0.25312164429837153,0,0.25312164429837153,0,0.25312164429837153,0,0.25312164429837153,0,0.25312164429837153,0,0.25312164429837153]
["Heat Rejection",0,0,0,0,0,0,0,0,0,0,0,0,0,null,0,0,0,0,0,0,0,0,0,0,0,0,0,0,0,0,0,0,0,0,0,0]
["Humidification",0,0,0,0,0,0,0,0,0,0,0,0,0,null,0,0,0,0,0,0,0,0,0,0,0,0,0,0,0,0,0,0,0,0,0,0]
["Heat Recovery",240.56,0,0,0,0,0,0,0,0,0,0,0,0,null,0,228006.85752000002,0,1.0817364141484502,0,1.0817364141484502,0,1.0817364141484502,0,1.0817364141484502,0,1.0817364141484502,0,1.0817364141484502,0,1.0817364141484502,0,1.0817364141484502,0,1.0817364141484502,0,1.0817364141484502]
["Water Systems",155.38,556.16,0,0,0,0,0,0,0,0,0,0,8432.11,null,527137.90272000001,147271.80546,2.5009083974592703,0.69870387441962989,{"$f":"R27+(S27*1/0.95)","v":3.2363861600062491},0,{"$f":"T27","v":3.2363861600062491},0,0,{"$f":"V27*0.95/2.5","v":1.2298267408023746},{"$f":"T27","v":3.2363861600062491},0,{"$f":"Z27","v":3.2363861600062491},0,0,{"$f":"Y27","v":1.2298267408023746},{"$f":"Z27","v":3.2363861600062491},0,{"$f":"AF27","v":3.2363861600062491},0,0,{"$f":"AE27","v":1.2298267408023746}]
["Refrigeration",93.73,0,0,0,0,0,0,0,0,0,0,0,0,null,0,88838.887409999996,0,0.42147968946680336,{"$f":"R28","v":0},0.42147968946680336,0,0.42147968946680336,0,0.42147968946680336,0,0.42147968946680336,0,0.42147968946680336,0,0.42147968946680336,{"$f":"X28","v":0},{"$f":"Y28","v":0.42147968946680336},{"$f":"X28","v":0},{"$f":"Y28","v":0.42147968946680336},{"$f":"X28","v":0},{"$f":"Y28","v":0.42147968946680336}]
["Generators",0,0,0,0,0,0,0,0,0,0,0,0,0,null,0,0,0,0,0,0,0,0,0,0,0,0,0,0,0,0,0,0,0,0,0,0]
[]
["Total End Uses",6054.9,2591.29,0,0,0,0,0,0,0,0,0,0,8432.11]
["Note: Natural gas appears to be the principal heating source based on energy usage."]
[null,null,null,null,null,null,null,null,null,null,null,null,null,null,null,null,null,"gas EUI",{"$f":"SUM(R16:R29)","v":11.652364285910947},null,{"$f":"SUM(T16:T29)","v":12.387842048457927},null,{"$f":"SUM(V16:V29)","v":5.6846826683503844},null,{"$f":"SUM(X16:X29)","v":0},{"$f":"T40","v":2.25},{"$f":"SUM(Z16:Z29)","v":7.6956304823826471},null,{"$f":"SUM(AB16:AB29)","v":5.6846826683503844},{"$f":"V40","v":0},{"$f":"SUM(AD16:AD29)","v":0},{"$f":"X40","v":2.25},{"$f":"SUM(AF16:AF29)","v":6.3549986063611392},null,{"$f":"SUM(AH16:AH29)","v":5.6846826683503844},{"$f":"Z40","v":0},{"$f":"SUM(AJ16:AJ29)","v":0}]
[null,null,null,null,null,null,null,null,null,null,null,null,null,null,null,null,null,"elec EUI",{"$f":"SUM(S16:S29)","v":27.22728216105466},null,{"$f":"SUM(U16:U29)","v":26.528578286635032},null,{"$f":"SUM(W16:W29)","v":28.51857872760446},null,{"$f":"SUM(Y16:Y29)","v":29.640267800933266},{"$f":"U40","v":26},{"$f":"SUM(AA16:AA29)","v":26.528578286635032},null,{"$f":"SUM(AC16:AC29)","v":27.125578418925862},{"$f":"W40","v":28},{"$f":"SUM(AE16:AE29)","v":28.247267492254664},{"$f":"Y40","v":26},{"$f":"SUM(AG16:AG29)","v":26.528578286635032},null,{"$f":"SUM(AI16:AI29)","v":26.727578330731976},{"$f":"AA40","v":27.75},{"$f":"SUM(AK16:AK29)","v":27.849267404060782}]
[]
[null,null,null,null,null,null,null,null,null,null,null,null,null,null,null,null,null,null,null,{"$f":"'SWA data'!E2","v":"Stretch Code"},null,null,null,{"$f":"'SWA data'!I2","v":"Passive House"}]
[null,null,null,null,null,null,null,null,null,null,null,null,null,null,null,null,null,null,{"$f":"'SWA data'!D3","v":"scneario name"},{"$f":"'SWA data'!E3","v":"gas"},null,{"$f":"'SWA data'!G3","v":"electric"},null,{"$f":"'SWA data'!I3","v":"gas"},null,{"$f":"'SWA data'!K3","v":"electric"}]
[]
[null,null,null,null,null,null,null,null,null,null,null,null,null,null,null,null,null,null,null,{"$f":"'SWA data'!E5","v":"gas EUI"},{"$f":"'SWA data'!F5","v":"elec EUI"},{"$f":"'SWA data'!G5","v":"gas EUI"},{"$f":"'SWA data'!H5","v":"elec EUI"},{"$f":"'SWA data'!I5","v":"gas EUI"},{"$f":"'SWA data'!J5","v":"elec EUI"},{"$f":"'SWA data'!K5","v":"gas EUI"},{"$f":"'SWA data'!L5","v":"elec EUI"}]
[null,null,null,null,null,null,null,null,null,null,null,null,null,null,null,null,null,null,{"$f":"'SWA data'!D13","v":"secondary school"},{"$f":"'SWA data'!E13","v":2.25},{"$f":"'SWA data'!F13","v":26},{"$f":"'SWA data'!G13","v":0},{"$f":"'SWA data'!H13","v":28},{"$f":"'SWA data'!I13","v":2.25},{"$f":"'SWA data'!J13","v":26},{"$f":"'SWA data'!K13","v":0},{"$f":"'SWA data'!L13","v":27.75}]

{"sheet":"IECC 2021 primary school","index":7,"n_rows":42,"n_cols":37,"rows_kept":42,"cut":false,"hidden":true,"merged":[[37,23,37,26],[37,27,37,30],[38,23,38,24],[38,25,38,26],[38,27,38,28],[38,29,38,30],[11,33,11,34],[11,35,11,36],[12,19,12,20],[12,21,12,22],[12,23,12,24],[12,25,12,26],[12,27,12,28],[12,29,12,30],[12,31,12,32],[12,33,12,34],[12,35,12,36],[10,31,10,32],[10,33,10,34],[10,35,10,36],[11,19,11,20],[11,21,11,22],[11,23,11,24],[11,25,11,26],[11,27,11,28],[11,29,11,30],[11,31,11,32],[10,19,10,20],[10,21,10,22],[10,23,10,24],[10,25,10,26],[10,27,10,28],[10,29,10,30]]}
[]
[]
[]
[]
[]
[]
["Area [m2]"]
["Total Building Area",6871]
["Net Conditioned Building Area",6871,null,null,null,null,null,null,null,null,null,null,null,null,null,{"$f":"B9*3.28*3.28","v":73920.96639999999},"ft2"]
["Unconditioned Building Area",0]
[null,null,null,null,null,null,null,null,null,null,null,null,null,null,null,null,null,null,"efficiency level","base",null,"base",null,"base",null,"stretch",null,"stretch",null,"stretch",null,"ph",null,"ph",null,"ph"]
[null,null,null,null,null,null,null,null,null,null,null,null,null,null,null,null,null,null,"heating","gas",null,"elec",null,"elec",null,"gas",null,"elec",null,"elec",null,"gas",null,"elec",null,"elec"]
["End Uses",null,null,null,null,null,null,null,null,null,null,null,null,null,null,null,null,null,"hot water","gas",null,"gas",null,"elec",null,"gas",null,"gas",null,"elec",null,"gas",null,"gas",null,"elec"]
[]
[null,"Electricity [GJ]","Natural Gas [GJ]","Gasoline [GJ]","Diesel [GJ]","Coal [GJ]","Fuel Oil No 1 [GJ]","Fuel Oil No 2 [GJ]","Propane [GJ]","Other Fuel 1 [GJ]","Other Fuel 2 [GJ]","District Cooling [GJ]","District Heating [GJ]","Water [m3]",null,"Gas (Mbtu/yr)","Elec (Mbtu/yr)","Gas (kbtu/sf-yr)","Elec (kBtu/sf-yr","Gas (kbtu/sf-yr)","Elec (kBtu/sf-yr","Gas (kbtu/sf-yr)","Elec (kBtu/sf-yr","Gas (kbtu/sf-yr)","Elec (kBtu/sf-yr","Gas (kbtu/sf-yr)","Elec (kBtu/sf-yr","Gas (kbtu/sf-yr)","Elec (kBtu/sf-yr","Gas (kbtu/sf-yr)","Elec (kBtu/sf-yr","Gas (kbtu/sf-yr)","Elec (kBtu/sf-yr","Gas (kbtu/sf-yr)","Elec (kBtu/sf-yr","Gas (kbtu/sf-yr)","Elec (kBtu/sf-yr"]
["Heating",0,856.74,0,0,0,0,0,0,0,0,0,0,0,null,{"$f":"C16*947817/1000","v":812032.73658000003},{"$f":"B16*947817/1000","v":0},{"$f":"P16/$P$9","v":10.985147734486331},{"$f":"Q16/$P$9","v":0},{"$f":"R16","v":10.985147734486331},{"$f":"S16","v":0},{"$f":"0","v":0},{"$f":"R16*0.95/3.2","v":3.2612157336756291},{"$f":"0","v":0},{"$f":"W16","v":3.2612157336756291},{"$f":"R16*0.3","v":3.2955443203458992},{"$f":"S16","v":0},0,{"$f":"Z16*0.95/3.2","v":0.97836472010268871},0,{"$f":"AC16","v":0.97836472010268871},{"$f":"R16*0.1","v":1.0985147734486331},0,0,{"$f":"AF16*0.95/3.2","v":0.32612157336756292},0,{"$f":"AI16","v":0.32612157336756292}]
["Cooling",218.22,0,0,0,0,0,0,0,0,0,0,0,0,null,{"$f":"C17*947817/1000","v":0},{"$f":"B17*947817/1000","v":206832.62574000002},{"$f":"P17/$P$9","v":0},2.7980238329243492,{"$f":"R17","v":0},2.7980238329243492,{"$f":"R17","v":0},{"$f":"S17","v":2.7980238329243492},{"$f":"R17","v":0},{"$f":"S17","v":2.7980238329243492},{"$f":"R17","v":0},{"$f":"S17","v":2.7980238329243492},{"$f":"R17","v":0},{"$f":"S17","v":2.7980238329243492},{"$f":"R17","v":0},{"$f":"S17","v":2.7980238329243492},{"$f":"X17","v":0},{"$f":"Y17","v":2.7980238329243492},{"$f":"X17","v":0},{"$f":"Y17","v":2.7980238329243492},{"$f":"X17","v":0},{"$f":"Y17","v":2.7980238329243492}]
["Interior Lighting",372.02,0,0,0,0,0,0,0,0,0,0,0,0,null,0,352606.88033999997,0,4.7700523614907722,0,4.7700523614907722,{"$f":"R18","v":0},4.7700523614907722,{"$f":"R18","v":0},4.7700523614907722,{"$f":"R18","v":0},4.7700523614907722,{"$f":"R18","v":0},4.7700523614907722,{"$f":"R18","v":0},4.7700523614907722,{"$f":"X18","v":0},4.7700523614907722,{"$f":"X18","v":0},4.7700523614907722,{"$f":"X18","v":0},4.7700523614907722]
["Exterior Lighting",29.7,0,0,0,0,0,0,0,0,0,0,0,0,null,0,28150.1649,0,0.38081435174527162,0,0.38081435174527162,0,0.38081435174527162,0,0.38081435174527162,0,0.38081435174527162,0,0.38081435174527162,0,0.38081435174527162,0,0.38081435174527162,0,0.38081435174527162,0,0.38081435174527162]
["Interior Equipment",1124.6199999999999,361.03,0,0,0,0,0,0,0,0,0,0,0,null,342190.37150999997,1065933.9545399998,4.6291382293129759,14.419913678780043,4.6291382293129759,14.419913678780043,4.6291382293129759,14.419913678780043,null,{"$f":"(S20*0.9)+(R20/2.5)","v":14.82957760262723},4.6291382293129759,14.419913678780043,4.6291382293129759,14.419913678780043,{"$f":"X20","v":0},{"$f":"Y20","v":14.82957760262723},{"$f":"R20","v":4.6291382293129759},{"$f":"S20","v":14.419913678780043},{"$f":"R20","v":4.6291382293129759},{"$f":"S20","v":14.419913678780043},0,{"$f":"AE20","v":14.82957760262723}]
["Exterior Equipment",17.079999999999998,0,0,0,0,0,0,0,0,0,0,0,0,null,0,16188.714359999998,0,0.2190003073336444,0,0.2190003073336444,0,0.2190003073336444,0,0.2190003073336444,0,0.2190003073336444,0,0.2190003073336444,0,0.2190003073336444,0,0.2190003073336444,0,0.2190003073336444,0,0.2190003073336444]
["Fans",298.95999999999998,0,0,0,0,0,0,0,0,0,0,0,0,null,0,283359.37031999999,0,3.8332747002614949,0,3.8332747002614949,0,3.8332747002614949,0,3.8332747002614949,0,3.8332747002614949,0,3.8332747002614949,0,3.8332747002614949,0,3.8332747002614949,0,3.8332747002614949,0,3.8332747002614949]
["Pumps",2.21,0,0,0,0,0,0,0,0,0,0,0,0,null,0,2094.6755699999999,0,2.8336690820102699E-2,0,2.8336690820102699E-2,0,2.8336690820102699E-2,0,2.8336690820102699E-2,0,2.8336690820102699E-2,0,2.8336690820102699E-2,0,2.8336690820102699E-2,0,2.8336690820102699E-2,0,2.8336690820102699E-2,0,2.8336690820102699E-2]
["Heat Rejection",0,0,0,0,0,0,0,0,0,0,0,0,0,null,0,0,0,0,0,0,0,0,0,0,0,0,0,0,0,0,0,0,0,0,0,0]
["Humidification",0,0,0,0,0,0,0,0,0,0,0,0,0,null,0,0,0,0,0,0,0,0,0,0,0,0,0,0,0,0,0,0,0,0,0,0]
["Heat Recovery",70.239999999999995,0,0,0,0,0,0,0,0,0,0,0,0,null,0,66574.666079999995,0,0.90061953086154467,0,0.90061953086154467,0,0.90061953086154467,0,0.90061953086154467,0,0.90061953086154467,0,0.90061953086154467,0,0.90061953086154467,0,0.90061953086154467,0,0.90061953086154467,0,0.90061953086154467]
["Water Systems",25.84,143.72999999999999,0,0,0,0,0,0,0,0,0,0,718.47,null,136229.73741,24491.591280000001,1.8429106658702992,0.33132130805043158,{"$f":"R27+(S27*1/0.95)","v":2.1916699375023323},0,{"$f":"T27","v":2.1916699375023323},0,0,{"$f":"V27*0.95/2.5","v":0.83283457625088619},{"$f":"T27","v":2.1916699375023323},0,{"$f":"Z27","v":2.1916699375023323},0,0,{"$f":"Y27","v":0.83283457625088619},{"$f":"Z27","v":2.1916699375023323},0,{"$f":"AF27","v":2.1916699375023323},0,0,{"$f":"AE27","v":0.83283457625088619}]
["Refrigeration",45.05,0,0,0,0,0,0,0,0,0,0,0,0,null,0,42699.155849999996,0,0.57763254364055505,{"$f":"R28","v":0},0.57763254364055505,0,0.57763254364055505,0,0.57763254364055505,0,0.57763254364055505,0,0.57763254364055505,0,0.57763254364055505,{"$f":"X28","v":0},0.57763254364055505,{"$f":"X28","v":0},0.57763254364055505,{"$f":"X28","v":0},0.57763254364055505]
["Generators",0,0,0,0,0,0,0,0,0,0,0,0,0,null,0,0,0,0,0,0,0,0,0,0,0,0,0,0,0,0,0,0,0,0,0,0]
[]
["Total End Uses",2203.96,1361.5,0,0,0,0,0,0,0,0,0,0,718.47]
["Note: Natural gas appears to be the principal heating source based on energy usage."]
[null,null,null,null,null,null,null,null,null,null,null,null,null,null,null,null,null,"gas EUI",{"$f":"SUM(R16:R29)","v":17.457196629669607},null,{"$f":"SUM(T16:T29)","v":17.80595590130164},null,{"$f":"SUM(V16:V29)","v":6.8208081668153078},null,{"$f":"SUM(X16:X29)","v":0},{"$f":"X42","v":5},{"$f":"SUM(Z16:Z29)","v":10.116352487161208},null,{"$f":"SUM(AB16:AB29)","v":6.8208081668153078},{"$f":"Z42","v":0},{"$f":"SUM(AD16:AD29)","v":0},{"$f":"AB42","v":4},{"$f":"SUM(AF16:AF29)","v":7.9193229402639407},null,{"$f":"SUM(AH16:AH29)","v":6.8208081668153078},{"$f":"AD42","v":0},{"$f":"SUM(AJ16:AJ29)","v":0}]
[null,null,null,null,null,null,null,null,null,null,null,null,null,null,null,null,null,"elec EUI",{"$f":"SUM(S16:S29)","v":28.258989305908205},null,{"$f":"SUM(U16:U29)","v":27.927667997857775},null,{"$f":"SUM(W16:W29)","v":31.188883731533405},null,{"$f":"SUM(Y16:Y29)","v":32.431382231631474},{"$f":"Y42","v":43},{"$f":"SUM(AA16:AA29)","v":27.927667997857775},null,{"$f":"SUM(AC16:AC29)","v":28.906032717960461},{"$f":"AA42","v":45.5},{"$f":"SUM(AE16:AE29)","v":30.148531218058537},{"$f":"AC42","v":43},{"$f":"SUM(AG16:AG29)","v":27.927667997857775},null,{"$f":"SUM(AI16:AI29)","v":28.253789571225337},{"$f":"AE42","v":45.4},{"$f":"SUM(AK16:AK29)","v":29.496288071323409}]
[]
[]
[]
[null,null,null,null,null,null,null,null,null,null,null,null,null,null,null,null,null,null,null,null,null,null,null,{"$f":"'SWA data'!E2","v":"Stretch Code"},{"$f":"'SWA data'!F2","v":0},{"$f":"'SWA data'!G2","v":0},{"$f":"'SWA data'!H2","v":0},{"$f":"'SWA data'!I2","v":"Passive House"},{"$f":"'SWA data'!J2","v":0},{"$f":"'SWA data'!K2","v":0},{"$f":"'SWA data'!L2","v":0}]
[null,null,null,null,null,null,null,null,null,null,null,null,null,null,null,null,null,null,null,null,null,null,{"$f":"'SWA data'!D3","v":"scneario name"},{"$f":"'SWA data'!E3","v":"gas"},{"$f":"'SWA data'!F3","v":0},{"$f":"'SWA data'!G3","v":"electric"},{"$f":"'SWA data'!H3","v":0},{"$f":"'SWA data'!I3","v":"gas"},{"$f":"'SWA data'!J3","v":0},{"$f":"'SWA data'!K3","v":"electric"},{"$f":"'SWA data'!L3","v":0}]
[]
[null,null,null,null,null,null,null,null,null,null,null,null,null,null,null,null,null,null,null,null,null,null,null,{"$f":"'SWA data'!E5","v":"gas EUI"},{"$f":"'SWA data'!F5","v":"elec EUI"},{"$f":"'SWA data'!G5","v":"gas EUI"},{"$f":"'SWA data'!H5","v":"elec EUI"},{"$f":"'SWA data'!I5","v":"gas EUI"},{"$f":"'SWA data'!J5","v":"elec EUI"},{"$f":"'SWA data'!K5","v":"gas EUI"},{"$f":"'SWA data'!L5","v":"elec EUI"}]
[null,null,null,null,null,null,null,null,null,null,null,null,null,null,null,null,null,null,null,null,null,null,{"$f":"'SWA data'!D12","v":"primary school"},{"$f":"'SWA data'!E12","v":5},{"$f":"'SWA data'!F12","v":43},{"$f":"'SWA data'!G12","v":0},{"$f":"'SWA data'!H12","v":45.5},{"$f":"'SWA data'!I12","v":4},{"$f":"'SWA data'!J12","v":43},{"$f":"'SWA data'!K12","v":0},{"$f":"'SWA data'!L12","v":45.4}]

{"sheet":"IECC 2021 retrail strip","index":8,"n_rows":34,"n_cols":37,"rows_kept":34,"cut":false,"hidden":true,"merged":[[12,35,12,36],[11,33,11,34],[11,35,11,36],[12,19,12,20],[12,21,12,22],[12,23,12,24],[12,25,12,26],[12,27,12,28],[12,29,12,30],[12,31,12,32],[12,33,12,34],[10,31,10,32],[10,33,10,34],[10,35,10,36],[11,19,11,20],[11,21,11,22],[11,23,11,24],[11,25,11,26],[11,27,11,28],[11,29,11,30],[11,31,11,32],[10,19,10,20],[10,21,10,22],[10,23,10,24],[10,25,10,26],[10,27,10,28],[10,29,10,30]]}
[]
[]
[]
[]
[]
[]
["Area [m2]"]
["Total Building Area",2090.3200000000002]
["Net Conditioned Building Area",2090.3200000000002,null,null,null,null,null,null,null,null,null,null,null,null,null,{"$f":"B9*3.28*3.28","v":22488.498688},"ft2"]
["Unconditioned Building Area",0]
[null,null,null,null,null,null,null,null,null,null,null,null,null,null,null,null,null,null,"efficiency level","base",null,"base",null,"base",null,"stretch",null,"stretch",null,"stretch",null,"ph",null,"ph",null,"ph"]
[null,null,null,null,null,null,null,null,null,null,null,null,null,null,null,null,null,null,"heating","gas",null,"elec",null,"elec",null,"gas",null,"elec",null,"elec",null,"gas",null,"elec",null,"elec"]
["End Uses",null,null,null,null,null,null,null,null,null,null,null,null,null,null,null,null,null,"hot water","gas",null,"gas",null,"elec",null,"gas",null,"gas",null,"elec",null,"gas",null,"gas",null,"elec"]
[]
[null,"Electricity [GJ]","Natural Gas [GJ]","Gasoline [GJ]","Diesel [GJ]","Coal [GJ]","Fuel Oil No 1 [GJ]","Fuel Oil No 2 [GJ]","Propane [GJ]","Other Fuel 1 [GJ]","Other Fuel 2 [GJ]","District Cooling [GJ]","District Heating [GJ]","Water [m3]",null,"Gas (Mbtu/yr)","Elec (Mbtu/yr)","Gas (kbtu/sf-yr)","Elec (kBtu/sf-yr","Gas (kbtu/sf-yr)","Elec (kBtu/sf-yr","Gas (kbtu/sf-yr)","Elec (kBtu/sf-yr","Gas (kbtu/sf-yr)","Elec (kBtu/sf-yr","Gas (kbtu/sf-yr)","Elec (kBtu/sf-yr","Gas (kbtu/sf-yr)","Elec (kBtu/sf-yr","Gas (kbtu/sf-yr)","Elec (kBtu/sf-yr","Gas (kbtu/sf-yr)","Elec (kBtu/sf-yr","Gas (kbtu/sf-yr)","Elec (kBtu/sf-yr","Gas (kbtu/sf-yr)","Elec (kBtu/sf-yr"]
["Heating",0,509.98,0,0,0,0,0,0,0,0,0,0,0,null,{"$f":"C16*947817/1000","v":483367.71366000001},{"$f":"B16*947817/1000","v":0},{"$f":"P16/$P$9","v":21.493996569807837},{"$f":"Q16/$P$9","v":0},{"$f":"R16","v":21.493996569807837},{"$f":"S16","v":0},{"$f":"0","v":0},{"$f":"R16*0.95/3.2","v":6.3810302316617014},{"$f":"0","v":0},{"$f":"R16*0.95/3.2","v":6.3810302316617014},{"$f":"R16*0.3","v":6.4481989709423511},{"$f":"S16","v":0},0,{"$f":"Z16*0.95/3.2","v":1.9143090694985103},0,{"$f":"AC16","v":1.9143090694985103},{"$f":"R16*0.1","v":2.1493996569807838},0,0,{"$f":"AF16*0.95/3.2","v":0.63810302316617018},0,{"$f":"AI16","v":0.63810302316617018}]
["Cooling",61.78,0,0,0,0,0,0,0,0,0,0,0,0,null,{"$f":"C17*947817/1000","v":0},{"$f":"B17*947817/1000","v":58556.134259999999},{"$f":"P17/$P$9","v":0},2.6038258521564139,{"$f":"R17","v":0},2.6038258521564139,{"$f":"R17","v":0},{"$f":"S17","v":2.6038258521564139},{"$f":"R17","v":0},{"$f":"S17","v":2.6038258521564139},{"$f":"R17","v":0},{"$f":"S17","v":2.6038258521564139},{"$f":"R17","v":0},{"$f":"S17","v":2.6038258521564139},{"$f":"R17","v":0},{"$f":"S17","v":2.6038258521564139},{"$f":"X17","v":0},{"$f":"Y17","v":2.6038258521564139},{"$f":"X17","v":0},{"$f":"Y17","v":2.6038258521564139},{"$f":"X17","v":0},{"$f":"Y17","v":2.6038258521564139}]
["Interior Lighting",341.99,0,0,0,0,0,0,0,0,0,0,0,0,null,0,324143.93582999997,0,14.413765023939334,0,14.413765023939334,{"$f":"R18","v":0},14.413765023939334,{"$f":"R18","v":0},14.413765023939334,{"$f":"R18","v":0},14.413765023939334,{"$f":"R18","v":0},14.413765023939334,{"$f":"R18","v":0},14.413765023939334,{"$f":"X18","v":0},14.413765023939334,{"$f":"X18","v":0},14.413765023939334,{"$f":"X18","v":0},14.413765023939334]
["Exterior Lighting",59.37,0,0,0,0,0,0,0,0,0,0,0,0,null,0,56271.89529,0,2.5022521988107203,0,2.5022521988107203,0,2.5022521988107203,0,2.5022521988107203,0,2.5022521988107203,0,2.5022521988107203,0,2.5022521988107203,0,2.5022521988107203,0,2.5022521988107203,0,2.5022521988107203]
["Interior Equipment",128.15,0,0,0,0,0,0,0,0,0,0,0,0,null,0,121462.74855000002,0,5.4011052598550426,0,5.4011052598550426,0,5.4011052598550426,0,5.4011052598550426,0,5.4011052598550426,0,5.4011052598550426,0,5.4011052598550426,0,5.4011052598550426,0,5.4011052598550426,0,5.4011052598550426]
["Exterior Equipment",0,0,0,0,0,0,0,0,0,0,0,0,0,null,0,0,0,0,0,0,0,0,0,0,0,0,0,0,0,0,0,0,0,0,0,0]
["Fans",94.14,0,0,0,0,0,0,0,0,0,0,0,0,null,0,89227.492379999996,0,3.9676944921010815,0,3.9676944921010815,0,3.9676944921010815,0,3.9676944921010815,0,3.9676944921010815,0,3.9676944921010815,0,3.9676944921010815,0,3.9676944921010815,0,3.9676944921010815,0,3.9676944921010815]
["Pumps",0,0,0,0,0,0,0,0,0,0,0,0,0,null,0,0,0,0,0,0,0,0,0,0,0,0,0,0,0,0,0,0,0,0,0,0]
["Heat Rejection",0,0,0,0,0,0,0,0,0,0,0,0,0,null,0,0,0,0,0,0,0,0,0,0,0,0,0,0,0,0,0,0,0,0,0,0]
["Humidification",0,0,0,0,0,0,0,0,0,0,0,0,0,null,0,0,0,0,0,0,0,0,0,0,0,0,0,0,0,0,0,0,0,0,0,0]
["Heat Recovery",0,0,0,0,0,0,0,0,0,0,0,0,0,null,0,0,0,0,0,0,0,0,0,0,0,0,0,0,0,0,0,0,0,0,0,0]
["Water Systems",61.45,0,0,0,0,0,0,0,0,0,0,0,87.3,null,0,58243.354650000008,0,2.5899174265945559,{"$f":"(S27*1/0.95)","v":2.7262288700995327},0,{"$f":"T27","v":2.7262288700995327},0,0,{"$f":"V27*0.95/2.5","v":1.0359669706378223},{"$f":"T27","v":2.7262288700995327},0,{"$f":"Z27","v":2.7262288700995327},0,0,{"$f":"Y27","v":1.0359669706378223},{"$f":"Z27","v":2.7262288700995327},0,{"$f":"AF27","v":2.7262288700995327},0,0,{"$f":"AE27","v":1.0359669706378223}]
["Refrigeration",0,0,0,0,0,0,0,0,0,0,0,0,0,null,0,0,0,0,{"$f":"R28","v":0},0,0,0,0,0,0,0,0,0,0,0,{"$f":"X28","v":0},0,{"$f":"X28","v":0},0,{"$f":"X28","v":0},0]
["Generators",0,0,0,0,0,0,0,0,0,0,0,0,0,null,0,0,0,0,0,0,0,0,0,0,0,0,0,0,0,0,0,0,0,0,0,0]
[]
["Total End Uses",746.89,509.98,0,0,0,0,0,0,0,0,0,0,87.3]
["Note: Natural gas appears to be the principal heating source based on energy usage."]
[null,null,null,null,null,null,null,null,null,null,null,null,null,null,null,null,null,"gas EUI",{"$f":"SUM(R16:R29)","v":21.493996569807837},null,{"$f":"SUM(T16:T29)","v":24.22022543990737},null,{"$f":"SUM(V16:V29)","v":2.7262288700995327},null,{"$f":"SUM(X16:X29)","v":0},null,{"$f":"SUM(Z16:Z29)","v":9.1744278410418829},null,{"$f":"SUM(AB16:AB29)","v":2.7262288700995327},null,{"$f":"SUM(AD16:AD29)","v":0},null,{"$f":"SUM(AF16:AF29)","v":4.8756285270803161},null,{"$f":"SUM(AH16:AH29)","v":2.7262288700995327},null,{"$f":"SUM(AJ16:AJ29)","v":0}]
[null,null,null,null,null,null,null,null,null,null,null,null,null,null,null,null,null,"elec EUI",{"$f":"SUM(S16:S29)","v":31.47856025345715},null,{"$f":"SUM(U16:U29)","v":28.888642826862593},null,{"$f":"SUM(W16:W29)","v":35.26967305852429},null,{"$f":"SUM(Y16:Y29)","v":36.305640029162113},null,{"$f":"SUM(AA16:AA29)","v":28.888642826862593},null,{"$f":"SUM(AC16:AC29)","v":30.802951896361105},null,{"$f":"SUM(AE16:AE29)","v":31.838918866998927},null,{"$f":"SUM(AG16:AG29)","v":28.888642826862593},null,{"$f":"SUM(AI16:AI29)","v":29.526745850028764},null,{"$f":"SUM(AK16:AK29)","v":30.562712820666587}]

{"sheet":"IECC 2021 stand alone retail","index":9,"n_rows":34,"n_cols":37,"rows_kept":34,"cut":false,"hidden":true,"merged":[[12,33,12,34],[12,35,12,36],[11,31,11,32],[11,33,11,34],[11,35,11,36],[12,29,12,30],[12,31,12,32],[11,19,11,20],[11,21,11,22],[11,23,11,24],[11,25,11,26],[11,27,11,28],[11,29,11,30],[12,19,12,20],[12,21,12,22],[12,23,12,24],[12,25,12,26],[12,27,12,28],[10,29,10,30],[10,31,10,32],[10,33,10,34],[10,35,10,36],[10,19,10,20],[10,21,10,22],[10,23,10,24],[10,25,10,26],[10,27,10,28]]}
[]
[]
[]
[]
[]
[]
["Area [m2]"]
["Total Building Area",2293.9899999999998]
["Net Conditioned Building Area",2293.9899999999998,null,null,null,null,null,null,null,null,null,null,null,null,null,{"$f":"B9*3.28*3.28","v":24679.662015999995},"ft2"]
["Unconditioned Building Area",0]
[null,null,null,null,null,null,null,null,null,null,null,null,null,null,null,null,null,null,"efficiency level","base",null,"base",null,"base",null,"stretch",null,"stretch",null,"stretch",null,"ph",null,"ph",null,"ph"]
[null,null,null,null,null,null,null,null,null,null,null,null,null,null,null,null,null,null,"heating","gas",null,"elec",null,"elec",null,"gas",null,"elec",null,"elec",null,"gas",null,"elec",null,"elec"]
["End Uses",null,null,null,null,null,null,null,null,null,null,null,null,null,null,null,null,null,"hot water","gas",null,"gas",null,"elec",null,"gas",null,"gas",null,"elec",null,"gas",null,"gas",null,"elec"]
[]
[null,"Electricity [GJ]","Natural Gas [GJ]","Gasoline [GJ]","Diesel [GJ]","Coal [GJ]","Fuel Oil No 1 [GJ]","Fuel Oil No 2 [GJ]","Propane [GJ]","Other Fuel 1 [GJ]","Other Fuel 2 [GJ]","District Cooling [GJ]","District Heating [GJ]","Water [m3]",null,"Gas (Mbtu/yr)","Elec (Mbtu/yr)","Gas (kbtu/sf-yr)","Elec (kBtu/sf-yr","Gas (kbtu/sf-yr)","Elec (kBtu/sf-yr","Gas (kbtu/sf-yr)","Elec (kBtu/sf-yr","Gas (kbtu/sf-yr)","Elec (kBtu/sf-yr","Gas (kbtu/sf-yr)","Elec (kBtu/sf-yr","Gas (kbtu/sf-yr)","Elec (kBtu/sf-yr","Gas (kbtu/sf-yr)","Elec (kBtu/sf-yr","Gas (kbtu/sf-yr)","Elec (kBtu/sf-yr","Gas (kbtu/sf-yr)","Elec (kBtu/sf-yr","Gas (kbtu/sf-yr)","Elec (kBtu/sf-yr"]
["Heating",0,521.49,0,0,0,0,0,0,0,0,0,0,0,null,{"$f":"C16*947817/1000","v":494277.08733000001},{"$f":"B16*947817/1000","v":0},{"$f":"P16/$P$9","v":20.027708929302062},{"$f":"Q16/$P$9","v":0},{"$f":"R16","v":20.027708929302062},{"$f":"S16","v":0},{"$f":"0","v":0},{"$f":"R16*0.95/3.2","v":5.9457260883865493},{"$f":"0","v":0},{"$f":"R16*0.95/3.2","v":5.9457260883865493},{"$f":"R16*0.3","v":6.0083126787906185},{"$f":"S16","v":0},0,{"$f":"Z16*0.95/3.2","v":1.7837178265159648},0,{"$f":"AC16","v":1.7837178265159648},{"$f":"R16*0.1","v":2.0027708929302062},0,0,{"$f":"AF16*0.95/3.2","v":0.59457260883865493},0,{"$f":"AI16","v":0.59457260883865493}]
["Cooling",73.2,0,0,0,0,0,0,0,0,0,0,0,0,null,{"$f":"C17*947817/1000","v":0},{"$f":"B17*947817/1000","v":69380.204400000002},{"$f":"P17/$P$9","v":0},2.8112299250703003,{"$f":"R17","v":0},2.8112299250703003,{"$f":"R17","v":0},{"$f":"S17","v":2.8112299250703003},{"$f":"R17","v":0},{"$f":"S17","v":2.8112299250703003},{"$f":"R17","v":0},{"$f":"S17","v":2.8112299250703003},{"$f":"R17","v":0},{"$f":"S17","v":2.8112299250703003},{"$f":"R17","v":0},{"$f":"S17","v":2.8112299250703003},{"$f":"X17","v":0},{"$f":"Y17","v":2.8112299250703003},{"$f":"X17","v":0},{"$f":"Y17","v":2.8112299250703003},{"$f":"X17","v":0},{"$f":"Y17","v":2.8112299250703003}]
["Interior Lighting",205.49,0,0,0,0,0,0,0,0,0,0,0,0,null,0,194766.91533000002,0,7.8917983238073228,0,7.8917983238073228,{"$f":"R18","v":0},7.8917983238073228,{"$f":"R18","v":0},7.8917983238073228,{"$f":"R18","v":0},7.8917983238073228,{"$f":"R18","v":0},7.8917983238073228,{"$f":"R18","v":0},7.8917983238073228,{"$f":"X18","v":0},7.8917983238073228,{"$f":"X18","v":0},7.8917983238073228,{"$f":"X18","v":0},7.8917983238073228]
["Exterior Lighting",43.1,0,0,0,0,0,0,0,0,0,0,0,0,null,0,40850.912700000001,0,1.6552460351165292,0,1.6552460351165292,0,1.6552460351165292,0,1.6552460351165292,0,1.6552460351165292,0,1.6552460351165292,0,1.6552460351165292,0,1.6552460351165292,0,1.6552460351165292,0,1.6552460351165292]
["Interior Equipment",194.3,0,0,0,0,0,0,0,0,0,0,0,0,null,0,184160.84310000003,0,7.4620488311633801,0,7.4620488311633801,0,7.4620488311633801,0,7.4620488311633801,0,7.4620488311633801,0,7.4620488311633801,0,7.4620488311633801,0,7.4620488311633801,0,7.4620488311633801,0,7.4620488311633801]
["Exterior Equipment",0,0,0,0,0,0,0,0,0,0,0,0,0,null,0,0,0,0,0,0,0,0,0,0,0,0,0,0,0,0,0,0,0,0,0,0]
["Fans",139.66999999999999,0,0,0,0,0,0,0,0,0,0,0,0,null,0,132381.60038999998,0,5.3639956780678792,0,5.3639956780678792,0,5.3639956780678792,0,5.3639956780678792,0,5.3639956780678792,0,5.3639956780678792,0,5.3639956780678792,0,5.3639956780678792,0,5.3639956780678792,0,5.3639956780678792]
["Pumps",0,0,0,0,0,0,0,0,0,0,0,0,0,null,0,0,0,0,0,0,0,0,0,0,0,0,0,0,0,0,0,0,0,0,0,0]
["Heat Rejection",0,0,0,0,0,0,0,0,0,0,0,0,0,null,0,0,0,0,0,0,0,0,0,0,0,0,0,0,0,0,0,0,0,0,0,0]
["Humidification",0,0,0,0,0,0,0,0,0,0,0,0,0,null,0,0,0,0,0,0,0,0,0,0,0,0,0,0,0,0,0,0,0,0,0,0]
["Heat Recovery",0,0,0,0,0,0,0,0,0,0,0,0,0,null,0,0,0,0,0,0,0,0,0,0,0,0,0,0,0,0,0,0,0,0,0,0]
["Water Systems",0,96.38,0,0,0,0,0,0,0,0,0,0,134.99,null,91350.602459999995,0,3.701452734675895,0,{"$f":"R27","v":3.701452734675895},0,{"$f":"T27","v":3.701452734675895},0,0,{"$f":"V27*0.95/2.5","v":1.40655203917684},{"$f":"T27","v":3.701452734675895},0,{"$f":"Z27","v":3.701452734675895},0,0,{"$f":"Y27","v":1.40655203917684},{"$f":"Z27","v":3.701452734675895},0,{"$f":"AF27","v":3.701452734675895},0,0,{"$f":"AE27","v":1.40655203917684}]
["Refrigeration",0,0,0,0,0,0,0,0,0,0,0,0,0,null,0,0,0,0,{"$f":"R28","v":0},0,0,0,0,0,0,0,0,0,0,0,{"$f":"X28","v":0},0,{"$f":"X28","v":0},0,{"$f":"X28","v":0},0]
["Generators",0,0,0,0,0,0,0,0,0,0,0,0,0,null,0,0,0,0,0,0,0,0,0,0,0,0,0,0,0,0,0,0,0,0,0,0]
[]
["Total End Uses",655.75,617.87,0,0,0,0,0,0,0,0,0,0,134.99]
["Note: Natural gas appears to be the principal heating source based on energy usage."]
[null,null,null,null,null,null,null,null,null,null,null,null,null,null,null,null,null,"gas EUI",{"$f":"SUM(R16:R29)","v":23.729161663977955},null,{"$f":"SUM(T16:T29)","v":23.729161663977955},null,{"$f":"SUM(V16:V29)","v":3.701452734675895},null,{"$f":"SUM(X16:X29)","v":0},null,{"$f":"SUM(Z16:Z29)","v":9.7097654134665135},null,{"$f":"SUM(AB16:AB29)","v":3.701452734675895},null,{"$f":"SUM(AD16:AD29)","v":0},null,{"$f":"SUM(AF16:AF29)","v":5.7042236276061011},null,{"$f":"SUM(AH16:AH29)","v":3.701452734675895},null,{"$f":"SUM(AJ16:AJ29)","v":0}]
[null,null,null,null,null,null,null,null,null,null,null,null,null,null,null,null,null,"elec EUI",{"$f":"SUM(S16:S29)","v":25.184318793225412},null,{"$f":"SUM(U16:U29)","v":25.184318793225412},null,{"$f":"SUM(W16:W29)","v":31.130044881611962},null,{"$f":"SUM(Y16:Y29)","v":32.536596920788803},null,{"$f":"SUM(AA16:AA29)","v":25.184318793225412},null,{"$f":"SUM(AC16:AC29)","v":26.968036619741376},null,{"$f":"SUM(AE16:AE29)","v":28.374588658918217},null,{"$f":"SUM(AG16:AG29)","v":25.184318793225412},null,{"$f":"SUM(AI16:AI29)","v":25.778891402064065},null,{"$f":"SUM(AK16:AK29)","v":27.185443441240906}]

{"sheet":"IECC 2021 sit down restaurant","index":10,"n_rows":34,"n_cols":37,"rows_kept":34,"cut":false,"hidden":true,"merged":[[13,29,13,30],[13,31,13,32],[13,33,13,34],[13,35,13,36],[13,19,13,20],[13,21,13,22],[13,23,13,24],[13,25,13,26],[13,27,13,28],[11,33,11,34],[11,35,11,36],[12,19,12,20],[12,21,12,22],[12,23,12,24],[12,25,12,26],[12,27,12,28],[12,29,12,30],[12,31,12,32],[12,33,12,34],[12,35,12,36],[10,31,10,32],[10,33,10,34],[10,35,10,36],[11,19,11,20],[11,21,11,22],[11,23,11,24],[11,25,11,26],[11,27,11,28],[11,29,11,30],[11,31,11,32],[10,19,10,20],[10,21,10,22],[10,23,10,24],[10,25,10,26],[10,27,10,28],[10,29,10,30]]}
[]
[]
[]
[]
[]
[]
["Area [m2]"]
["Total Building Area",511.15]
["Net Conditioned Building Area",511.15,null,null,null,null,null,null,null,null,null,null,null,null,null,{"$f":"B9*3.28*3.28","v":5499.1561599999995},"ft2"]
["Unconditioned Building Area",0]
[null,null,null,null,null,null,null,null,null,null,null,null,null,null,null,null,null,null,"efficiency level","base",null,"base",null,"base",null,"stretch",null,"stretch",null,"stretch",null,"ph",null,"ph",null,"ph"]
[null,null,null,null,null,null,null,null,null,null,null,null,null,null,null,null,null,null,"heating","gas",null,"elec",null,"elec",null,"gas",null,"elec",null,"elec",null,"gas",null,"elec",null,"elec"]
["End Uses",null,null,null,null,null,null,null,null,null,null,null,null,null,null,null,null,null,"hot water","gas",null,"gas",null,"elec",null,"gas",null,"gas",null,"elec",null,"gas",null,"gas",null,"elec"]
[null,null,null,null,null,null,null,null,null,null,null,null,null,null,null,null,null,null,"cooking","gas",null,"gas",null,"elec",null,"gas",null,"gas",null,"elec",null,"gas",null,"gas",null,"elec"]
[null,"Electricity [GJ]","Natural Gas [GJ]","Gasoline [GJ]","Diesel [GJ]","Coal [GJ]","Fuel Oil No 1 [GJ]","Fuel Oil No 2 [GJ]","Propane [GJ]","Other Fuel 1 [GJ]","Other Fuel 2 [GJ]","District Cooling [GJ]","District Heating [GJ]","Water [m3]",null,"Gas (Mbtu/yr)","Elec (Mbtu/yr)","Gas (kbtu/sf-yr)","Elec (kBtu/sf-yr","Gas (kbtu/sf-yr)","Elec (kBtu/sf-yr","Gas (kbtu/sf-yr)","Elec (kBtu/sf-yr","Gas (kbtu/sf-yr)","Elec (kBtu/sf-yr","Gas (kbtu/sf-yr)","Elec (kBtu/sf-yr","Gas (kbtu/sf-yr)","Elec (kBtu/sf-yr","Gas (kbtu/sf-yr)","Elec (kBtu/sf-yr","Gas (kbtu/sf-yr)","Elec (kBtu/sf-yr","Gas (kbtu/sf-yr)","Elec (kBtu/sf-yr","Gas (kbtu/sf-yr)","Elec (kBtu/sf-yr"]
["Heating",0,588.99,0,0,0,0,0,0,0,0,0,0,0,null,{"$f":"C16*947817/1000","v":558254.73483000009},{"$f":"B16*947817/1000","v":0},{"$f":"P16/$P$9","v":101.51643608353179},{"$f":"Q16/$P$9","v":0},{"$f":"R16","v":101.51643608353179},{"$f":"S16","v":0},{"$f":"0","v":0},{"$f":"R16*0.95/3.2","v":30.137691962298494},{"$f":"0","v":0},{"$f":"R16*0.95/3.2","v":30.137691962298494},{"$f":"R16*0.3","v":30.454930825059535},{"$f":"S16","v":0},0,{"$f":"Z16*0.95/3.2","v":9.0413075886895484},0,{"$f":"AC16","v":9.0413075886895484},{"$f":"R16*0.1","v":10.151643608353179},0,0,{"$f":"AF16*0.95/3.2","v":3.0137691962298501},0,{"$f":"AI16","v":3.0137691962298501}]
["Cooling",66,0,0,0,0,0,0,0,0,0,0,0,0,null,{"$f":"C17*947817/1000","v":0},{"$f":"B17*947817/1000","v":62555.921999999999},{"$f":"P17/$P$9","v":0},11.375549298821877,{"$f":"R17","v":0},11.375549298821877,{"$f":"R17","v":0},{"$f":"S17","v":11.375549298821877},{"$f":"R17","v":0},{"$f":"S17","v":11.375549298821877},{"$f":"R17","v":0},{"$f":"S17","v":11.375549298821877},{"$f":"R17","v":0},{"$f":"S17","v":11.375549298821877},{"$f":"R17","v":0},{"$f":"S17","v":11.375549298821877},{"$f":"X17","v":0},{"$f":"Y17","v":11.375549298821877},{"$f":"X17","v":0},{"$f":"Y17","v":11.375549298821877},{"$f":"X17","v":0},{"$f":"Y17","v":11.375549298821877}]
["Interior Lighting",41.32,0,0,0,0,0,0,0,0,0,0,0,0,null,0,39163.798439999999,0,7.1217832882927263,0,7.1217832882927263,{"$f":"R18","v":0},7.1217832882927263,{"$f":"R18","v":0},7.1217832882927263,{"$f":"R18","v":0},7.1217832882927263,{"$f":"R18","v":0},7.1217832882927263,{"$f":"R18","v":0},7.1217832882927263,{"$f":"X18","v":0},7.1217832882927263,{"$f":"X18","v":0},7.1217832882927263,{"$f":"X18","v":0},7.1217832882927263]
["Exterior Lighting",25.25,0,0,0,0,0,0,0,0,0,0,0,0,null,0,23932.379250000002,0,4.352009390837158,0,4.352009390837158,0,4.352009390837158,0,4.352009390837158,0,4.352009390837158,0,4.352009390837158,0,4.352009390837158,0,4.352009390837158,0,4.352009390837158,0,4.352009390837158]
["Interior Equipment",435.66,469.79,0,0,0,0,0,0,0,0,0,0,0,null,445274.94842999999,412925.95422000001,80.97150462262924,75.088966780677865,80.97150462262924,75.088966780677865,80.97150462262924,75.088966780677865,0,{"$f":"(S20*0.9)+(R20/2.5)","v":99.968671951661776},80.97150462262924,75.088966780677865,80.97150462262924,75.088966780677865,0,{"$f":"Y20","v":99.968671951661776},{"$f":"R20","v":80.97150462262924},75.088966780677865,{"$f":"R20","v":80.97150462262924},75.088966780677865,0,{"$f":"AE20","v":99.968671951661776}]
["Exterior Equipment",0,0,0,0,0,0,0,0,0,0,0,0,0,null,0,0,0,0,0,0,0,0,0,0,0,0,0,0,0,0,0,0,0,0,0,0]
["Fans",113.23,0,0,0,0,0,0,0,0,0,0,0,0,null,0,107321.31891,0,19.515961319781834,0,19.515961319781834,0,19.515961319781834,0,19.515961319781834,0,19.515961319781834,0,19.515961319781834,0,19.515961319781834,0,19.515961319781834,0,19.515961319781834,0,19.515961319781834]
["Pumps",0.45,0,0,0,0,0,0,0,0,0,0,0,0,null,0,426.51765,0,7.7560563401058255E-2,0,7.7560563401058255E-2,0,7.7560563401058255E-2,0,7.7560563401058255E-2,0,7.7560563401058255E-2,0,7.7560563401058255E-2,0,7.7560563401058255E-2,0,7.7560563401058255E-2,0,7.7560563401058255E-2,0,7.7560563401058255E-2]
["Heat Rejection",0,0,0,0,0,0,0,0,0,0,0,0,0,null,0,0,0,0,0,0,0,0,0,0,0,0,0,0,0,0,0,0,0,0,0,0]
["Humidification",0,0,0,0,0,0,0,0,0,0,0,0,0,null,0,0,0,0,0,0,0,0,0,0,0,0,0,0,0,0,0,0,0,0,0,0]
["Heat Recovery",0,0,0,0,0,0,0,0,0,0,0,0,0,null,0,0,0,0,0,0,0,0,0,0,0,0,0,0,0,0,0,0,0,0,0,0]
["Water Systems",75.510000000000005,377.28,0,0,0,0,0,0,0,0,0,0,2201.2800000000002,null,357592.39775999996,71569.661670000001,65.026776355447225,13.014662538697575,{"$f":"R27+(S27*1/0.95)","v":78.726421133023621},0,{"$f":"T27","v":78.726421133023621},0,0,{"$f":"V27*0.95/2.5","v":29.916040030548977},{"$f":"T27","v":78.726421133023621},0,{"$f":"Z27","v":78.726421133023621},0,0,{"$f":"Y27","v":29.916040030548977},{"$f":"Z27","v":78.726421133023621},0,{"$f":"AF27","v":78.726421133023621},0,0,{"$f":"AE27","v":29.916040030548977}]
["Refrigeration",35.92,0,0,0,0,0,0,0,0,0,0,0,0,null,0,34045.586640000001,0,6.1910565274800282,{"$f":"R28","v":0},6.1910565274800282,0,6.1910565274800282,0,6.1910565274800282,0,6.1910565274800282,0,6.1910565274800282,0,6.1910565274800282,{"$f":"X28","v":0},6.1910565274800282,{"$f":"X28","v":0},6.1910565274800282,{"$f":"X28","v":0},6.1910565274800282]
["Generators",0,0,0,0,0,0,0,0,0,0,0,0,0,null,0,0,0,0,0,0,0,0,0,0,0,0,0,0,0,0,0,0,0,0,0,0]
[]
["Total End Uses",793.34,1436.06,0,0,0,0,0,0,0,0,0,0,2201.2800000000002]
["Note: Natural gas appears to be the principal heating source based on energy usage."]
[null,null,null,null,null,null,null,null,null,null,null,null,null,null,null,null,null,"gas EUI",{"$f":"SUM(R16:R29)","v":247.51471706160825},null,{"$f":"SUM(T16:T29)","v":261.21436183918468},null,{"$f":"SUM(V16:V29)","v":159.69792575565288},null,{"$f":"SUM(X16:X29)","v":0},null,{"$f":"SUM(Z16:Z29)","v":190.15285658071241},null,{"$f":"SUM(AB16:AB29)","v":159.69792575565288},null,{"$f":"SUM(AD16:AD29)","v":0},null,{"$f":"SUM(AF16:AF29)","v":169.84956936400604},null,{"$f":"SUM(AH16:AH29)","v":159.69792575565288},null,{"$f":"SUM(AJ16:AJ29)","v":0}]
[null,null,null,null,null,null,null,null,null,null,null,null,null,null,null,null,null,"elec EUI",{"$f":"SUM(S16:S29)","v":136.73754970799013},null,{"$f":"SUM(U16:U29)","v":123.72288716929256},null,{"$f":"SUM(W16:W29)","v":153.86057913159101},null,{"$f":"SUM(Y16:Y29)","v":208.65632433312391},null,{"$f":"SUM(AA16:AA29)","v":123.72288716929256},null,{"$f":"SUM(AC16:AC29)","v":132.7641947579821},null,{"$f":"SUM(AE16:AE29)","v":187.55993995951496},null,{"$f":"SUM(AG16:AG29)","v":123.72288716929256},null,{"$f":"SUM(AI16:AI29)","v":126.73665636552241},null,{"$f":"SUM(AK16:AK29)","v":181.53240156705525}]

{"sheet":"IECC 2021 fast food restaurant","index":11,"n_rows":34,"n_cols":37,"rows_kept":34,"cut":false,"hidden":true,"merged":[[13,29,13,30],[13,31,13,32],[13,33,13,34],[13,35,13,36],[13,19,13,20],[13,21,13,22],[13,23,13,24],[13,25,13,26],[13,27,13,28],[11,33,11,34],[11,35,11,36],[12,19,12,20],[12,21,12,22],[12,23,12,24],[12,25,12,26],[12,27,12,28],[12,29,12,30],[12,31,12,32],[12,33,12,34],[12,35,12,36],[10,31,10,32],[10,33,10,34],[10,35,10,36],[11,19,11,20],[11,21,11,22],[11,23,11,24],[11,25,11,26],[11,27,11,28],[11,29,11,30],[11,31,11,32],[10,19,10,20],[10,21,10,22],[10,23,10,24],[10,25,10,26],[10,27,10,28],[10,29,10,30]]}
[]
[]
[]
[]
[]
[]
["Area [m2]"]
["Total Building Area",232.34]
["Net Conditioned Building Area",232.34,null,null,null,null,null,null,null,null,null,null,null,null,null,{"$f":"B9*3.28*3.28","v":2499.6066559999999},"ft2"]
["Unconditioned Building Area",0]
[null,null,null,null,null,null,null,null,null,null,null,null,null,null,null,null,null,null,"efficiency level","base",null,"base",null,"base",null,"stretch",null,"stretch",null,"stretch",null,"ph",null,"ph",null,"ph"]
[null,null,null,null,null,null,null,null,null,null,null,null,null,null,null,null,null,null,"heating","gas",null,"elec",null,"elec",null,"gas",null,"elec",null,"elec",null,"gas",null,"elec",null,"elec"]
["End Uses",null,null,null,null,null,null,null,null,null,null,null,null,null,null,null,null,null,"hot water","gas",null,"gas",null,"elec",null,"gas",null,"gas",null,"elec",null,"gas",null,"gas",null,"elec"]
[null,null,null,null,null,null,null,null,null,null,null,null,null,null,null,null,null,null,"cooking","gas",null,"gas",null,"elec",null,"gas",null,"gas",null,"elec",null,"gas",null,"gas",null,"elec"]
[null,"Electricity [GJ]","Natural Gas [GJ]","Gasoline [GJ]","Diesel [GJ]","Coal [GJ]","Fuel Oil No 1 [GJ]","Fuel Oil No 2 [GJ]","Propane [GJ]","Other Fuel 1 [GJ]","Other Fuel 2 [GJ]","District Cooling [GJ]","District Heating [GJ]","Water [m3]",null,"Gas (Mbtu/yr)","Elec (Mbtu/yr)","Gas (kbtu/sf-yr)","Elec (kBtu/sf-yr","Gas (kbtu/sf-yr)","Elec (kBtu/sf-yr","Gas (kbtu/sf-yr)","Elec (kBtu/sf-yr","Gas (kbtu/sf-yr)","Elec (kBtu/sf-yr","Gas (kbtu/sf-yr)","Elec (kBtu/sf-yr","Gas (kbtu/sf-yr)","Elec (kBtu/sf-yr","Gas (kbtu/sf-yr)","Elec (kBtu/sf-yr","Gas (kbtu/sf-yr)","Elec (kBtu/sf-yr","Gas (kbtu/sf-yr)","Elec (kBtu/sf-yr","Gas (kbtu/sf-yr)","Elec (kBtu/sf-yr"]
["Heating",0,414.24,0,0,0,0,0,0,0,0,0,0,0,null,{"$f":"C16*947817/1000","v":392623.71408000001},{"$f":"B16*947817/1000","v":0},{"$f":"P16/$P$9","v":157.07419930954129},{"$f":"Q16/$P$9","v":0},{"$f":"R16","v":157.07419930954129},{"$f":"S16","v":0},{"$f":"0","v":0},{"$f":"R16*0.95/3.2","v":46.631402920020065},{"$f":"0","v":0},{"$f":"R16*0.95/3.2","v":46.631402920020065},{"$f":"R16*0.3","v":47.122259792862387},{"$f":"S16","v":0},0,{"$f":"Z16*0.95/3.2","v":13.989420876006019},0,{"$f":"AC16","v":13.989420876006019},{"$f":"R16*0.1","v":15.70741993095413},0,0,{"$f":"AF16*0.95/3.2","v":4.6631402920020069},0,{"$f":"AI16","v":4.6631402920020069}]
["Cooling",30.2,0,0,0,0,0,0,0,0,0,0,0,0,null,{"$f":"C17*947817/1000","v":0},{"$f":"B17*947817/1000","v":28624.073399999997},{"$f":"P17/$P$9","v":0},11.451431100685946,{"$f":"R17","v":0},11.451431100685946,{"$f":"R17","v":0},{"$f":"S17","v":11.451431100685946},{"$f":"R17","v":0},{"$f":"S17","v":11.451431100685946},{"$f":"R17","v":0},{"$f":"S17","v":11.451431100685946},{"$f":"R17","v":0},{"$f":"S17","v":11.451431100685946},{"$f":"R17","v":0},{"$f":"S17","v":11.451431100685946},{"$f":"X17","v":0},{"$f":"Y17","v":11.451431100685946},{"$f":"X17","v":0},{"$f":"Y17","v":11.451431100685946},{"$f":"X17","v":0},{"$f":"Y17","v":11.451431100685946}]
["Interior Lighting",20.62,0,0,0,0,0,0,0,0,0,0,0,0,null,0,19543.986539999998,0,7.8188248111306029,0,7.8188248111306029,{"$f":"R18","v":0},7.8188248111306029,{"$f":"R18","v":0},7.8188248111306029,{"$f":"R18","v":0},7.8188248111306029,{"$f":"R18","v":0},7.8188248111306029,{"$f":"R18","v":0},7.8188248111306029,{"$f":"X18","v":0},7.8188248111306029,{"$f":"X18","v":0},7.8188248111306029,{"$f":"X18","v":0},7.8188248111306029]
["Exterior Lighting",15.4,0,0,0,0,0,0,0,0,0,0,0,0,null,0,14596.381800000001,0,5.8394714884292585,0,5.8394714884292585,0,5.8394714884292585,0,5.8394714884292585,0,5.8394714884292585,0,5.8394714884292585,0,5.8394714884292585,0,5.8394714884292585,0,5.8394714884292585,0,5.8394714884292585]
["Interior Equipment",252.09,477.16,0,0,0,0,0,0,0,0,0,0,0,null,452260.35972000001,238935.18753,180.93261139083796,95.589114773904654,180.93261139083796,95.589114773904654,180.93261139083796,95.589114773904654,0,{"$f":"(S20*0.9)+(R20/2.5)","v":158.40324785284938},180.93261139083796,95.589114773904654,180.93261139083796,95.589114773904654,0,{"$f":"Y20","v":158.40324785284938},{"$f":"R20","v":180.93261139083796},95.589114773904654,{"$f":"R20","v":180.93261139083796},95.589114773904654,0,158.40324785284938]
["Exterior Equipment",0,0,0,0,0,0,0,0,0,0,0,0,0,null,0,0,0,0,0,0,0,0,0,0,0,0,0,0,0,0,0,0,0,0,0,0]
["Fans",52.81,0,0,0,0,0,0,0,0,0,0,0,0,null,0,50054.215770000003,0,20.024836967788904,0,20.024836967788904,0,20.024836967788904,0,20.024836967788904,0,20.024836967788904,0,20.024836967788904,0,20.024836967788904,0,20.024836967788904,0,20.024836967788904,0,20.024836967788904]
["Pumps",0,0,0,0,0,0,0,0,0,0,0,0,0,null,0,0,0,0,0,0,0,0,0,0,0,0,0,0,0,0,0,0,0,0,0,0]
["Heat Rejection",0,0,0,0,0,0,0,0,0,0,0,0,0,null,0,0,0,0,0,0,0,0,0,0,0,0,0,0,0,0,0,0,0,0,0,0]
["Humidification",0,0,0,0,0,0,0,0,0,0,0,0,0,null,0,0,0,0,0,0,0,0,0,0,0,0,0,0,0,0,0,0,0,0,0,0]
["Heat Recovery",0,0,0,0,0,0,0,0,0,0,0,0,0,null,0,0,0,0,0,0,0,0,0,0,0,0,0,0,0,0,0,0,0,0,0,0]
["Water Systems",0,221.03,0,0,0,0,0,0,0,0,0,0,775.38,null,209495.99150999999,0,83.811583317371358,0,{"$f":"R27","v":83.811583317371358},0,{"$f":"T27","v":83.811583317371358},0,0,{"$f":"V27*0.95/2.5","v":31.848401660601116},{"$f":"T27","v":83.811583317371358},0,{"$f":"Z27","v":83.811583317371358},0,0,{"$f":"Y27","v":31.848401660601116},{"$f":"Z27","v":83.811583317371358},0,{"$f":"AF27","v":83.811583317371358},0,0,{"$f":"AE27","v":31.848401660601116}]
["Refrigeration",37.08,0,0,0,0,0,0,0,0,0,0,0,0,null,0,35145.054360000002,0,14.060233947464734,{"$f":"R28","v":0},14.060233947464734,0,14.060233947464734,0,14.060233947464734,0,14.060233947464734,0,14.060233947464734,0,14.060233947464734,{"$f":"X28","v":0},14.060233947464734,{"$f":"X28","v":0},14.060233947464734,{"$f":"X28","v":0},14.060233947464734]
["Generators",0,0,0,0,0,0,0,0,0,0,0,0,0,null,0,0,0,0,0,0,0,0,0,0,0,0,0,0,0,0,0,0,0,0,0,0]
[]
["Total End Uses",408.21,1112.43,0,0,0,0,0,0,0,0,0,0,775.38]
["Note: Natural gas appears to be the principal heating source based on energy usage."]
[null,null,null,null,null,null,null,null,null,null,null,null,null,null,null,null,null,"gas EUI",{"$f":"SUM(R16:R29)","v":421.81839401775056},null,{"$f":"SUM(T16:T29)","v":421.81839401775056},null,{"$f":"SUM(V16:V29)","v":264.74419470820931},null,{"$f":"SUM(X16:X29)","v":0},null,{"$f":"SUM(Z16:Z29)","v":311.8664545010717},null,{"$f":"SUM(AB16:AB29)","v":264.74419470820931},null,{"$f":"SUM(AD16:AD29)","v":0},null,{"$f":"SUM(AF16:AF29)","v":280.45161463916344},null,{"$f":"SUM(AH16:AH29)","v":264.74419470820931},null,{"$f":"SUM(AJ16:AJ29)","v":0}]
[null,null,null,null,null,null,null,null,null,null,null,null,null,null,null,null,null,"elec EUI",{"$f":"SUM(S16:S29)","v":154.78391308940408},null,{"$f":"SUM(U16:U29)","v":154.78391308940408},null,{"$f":"SUM(W16:W29)","v":201.41531600942415},null,{"$f":"SUM(Y16:Y29)","v":296.07785074896998},null,{"$f":"SUM(AA16:AA29)","v":154.78391308940408},null,{"$f":"SUM(AC16:AC29)","v":168.7733339654101},null,{"$f":"SUM(AE16:AE29)","v":263.43586870495596},null,{"$f":"SUM(AG16:AG29)","v":154.78391308940408},null,{"$f":"SUM(AI16:AI29)","v":159.44705338140611},null,{"$f":"SUM(AK16:AK29)","v":254.10958812095194}]

{"sheet":"IECC 2021 outpat health care","index":12,"n_rows":34,"n_cols":37,"rows_kept":34,"cut":false,"hidden":true,"merged":[[12,35,12,36],[11,33,11,34],[11,35,11,36],[12,19,12,20],[12,21,12,22],[12,23,12,24],[12,25,12,26],[12,27,12,28],[12,29,12,30],[12,31,12,32],[12,33,12,34],[10,31,10,32],[10,33,10,34],[10,35,10,36],[11,19,11,20],[11,21,11,22],[11,23,11,24],[11,25,11,26],[11,27,11,28],[11,29,11,30],[11,31,11,32],[10,19,10,20],[10,21,10,22],[10,23,10,24],[10,25,10,26],[10,27,10,28],[10,29,10,30]]}
[]
[]
[]
[]
[]
[]
["Area [m2]"]
["Total Building Area",3804.01]
["Net Conditioned Building Area",3804.01,null,null,null,null,null,null,null,null,null,null,null,null,null,{"$f":"B9*3.28*3.28","v":40925.061183999998},"ft2"]
["Unconditioned Building Area",0]
[null,null,null,null,null,null,null,null,null,null,null,null,null,null,null,null,null,null,"efficiency level","base",null,"base",null,"base",null,"stretch",null,"stretch",null,"stretch",null,"ph",null,"ph",null,"ph"]
[null,null,null,null,null,null,null,null,null,null,null,null,null,null,null,null,null,null,"heating","gas",null,"elec",null,"elec",null,"gas",null,"elec",null,"elec",null,"gas",null,"elec",null,"elec"]
["End Uses",null,null,null,null,null,null,null,null,null,null,null,null,null,null,null,null,null,"hot water","gas",null,"gas",null,"elec",null,"gas",null,"gas",null,"elec",null,"gas",null,"gas",null,"elec"]
[]
[null,"Electricity [GJ]","Natural Gas [GJ]","Gasoline [GJ]","Diesel [GJ]","Coal [GJ]","Fuel Oil No 1 [GJ]","Fuel Oil No 2 [GJ]","Propane [GJ]","Other Fuel 1 [GJ]","Other Fuel 2 [GJ]","District Cooling [GJ]","District Heating [GJ]","Water [m3]",null,"Gas (Mbtu/yr)","Elec (Mbtu/yr)","Gas (kbtu/sf-yr)","Elec (kBtu/sf-yr","Gas (kbtu/sf-yr)","Elec (kBtu/sf-yr","Gas (kbtu/sf-yr)","Elec (kBtu/sf-yr","Gas (kbtu/sf-yr)","Elec (kBtu/sf-yr","Gas (kbtu/sf-yr)","Elec (kBtu/sf-yr","Gas (kbtu/sf-yr)","Elec (kBtu/sf-yr","Gas (kbtu/sf-yr)","Elec (kBtu/sf-yr","Gas (kbtu/sf-yr)","Elec (kBtu/sf-yr","Gas (kbtu/sf-yr)","Elec (kBtu/sf-yr","Gas (kbtu/sf-yr)","Elec (kBtu/sf-yr"]
["Heating",0,982.6,0,0,0,0,0,0,0,0,0,0,0,null,{"$f":"C16*947817/1000","v":931324.98420000006},{"$f":"B16*947817/1000","v":0},{"$f":"P16/$P$9","v":22.756837919257883},{"$f":"Q16/$P$9","v":0},{"$f":"R16","v":22.756837919257883},{"$f":"S16","v":0},{"$f":"0","v":0},{"$f":"R16*0.95/3.2","v":6.7559362572796831},{"$f":"0","v":0},{"$f":"R16*0.95/3.2","v":6.7559362572796831},{"$f":"R16*0.3","v":6.8270513757773648},{"$f":"S16","v":0},0,{"$f":"Z16*0.95/3.2","v":2.0267808771839051},0,{"$f":"AC16","v":2.0267808771839051},{"$f":"R16*0.1","v":2.2756837919257884},0,0,{"$f":"AF16*0.95/3.2","v":0.67559362572796833},0,{"$f":"AI16","v":0.67559362572796833}]
["Cooling",418.71,0,0,0,0,0,0,0,0,0,0,0,0,null,{"$f":"C17*947817/1000","v":0},{"$f":"B17*947817/1000","v":396860.45607000001},{"$f":"P17/$P$9","v":0},9.6972477154207901,{"$f":"R17","v":0},9.6972477154207901,{"$f":"R17","v":0},{"$f":"S17","v":9.6972477154207901},{"$f":"R17","v":0},{"$f":"S17","v":9.6972477154207901},{"$f":"R17","v":0},{"$f":"S17","v":9.6972477154207901},{"$f":"R17","v":0},{"$f":"S17","v":9.6972477154207901},{"$f":"R17","v":0},{"$f":"S17","v":9.6972477154207901},{"$f":"X17","v":0},{"$f":"Y17","v":9.6972477154207901},{"$f":"X17","v":0},{"$f":"Y17","v":9.6972477154207901},{"$f":"X17","v":0},{"$f":"Y17","v":9.6972477154207901}]
["Interior Lighting",347.68,0,0,0,0,0,0,0,0,0,0,0,0,null,0,329537.01455999998,0,8.0522057884872584,0,8.0522057884872584,{"$f":"R18","v":0},8.0522057884872584,{"$f":"R18","v":0},8.0522057884872584,{"$f":"R18","v":0},8.0522057884872584,{"$f":"R18","v":0},8.0522057884872584,{"$f":"R18","v":0},8.0522057884872584,{"$f":"X18","v":0},8.0522057884872584,{"$f":"X18","v":0},8.0522057884872584,{"$f":"X18","v":0},8.0522057884872584]
["Exterior Lighting",58.82,0,0,0,0,0,0,0,0,0,0,0,0,null,0,55750.595939999999,0,1.3622605398033265,0,1.3622605398033265,0,1.3622605398033265,0,1.3622605398033265,0,1.3622605398033265,0,1.3622605398033265,0,1.3622605398033265,0,1.3622605398033265,0,1.3622605398033265,0,1.3622605398033265]
["Interior Equipment",1386.97,188.37,0,0,0,0,0,0,0,0,0,0,0,null,178540.28829,1314593.74449,4.362615060910449,32.12197383357735,4.362615060910449,32.12197383357735,4.362615060910449,32.12197383357735,4.362615060910449,32.12197383357735,4.362615060910449,32.12197383357735,4.362615060910449,32.12197383357735,4.362615060910449,32.12197383357735,4.362615060910449,32.12197383357735,4.362615060910449,32.12197383357735,4.362615060910449,32.12197383357735]
["Exterior Equipment",0,0,0,0,0,0,0,0,0,0,0,0,0,null,0,0,0,0,0,0,0,0,0,0,0,0,0,0,0,0,0,0,0,0,0,0]
["Fans",345.96,0,0,0,0,0,0,0,0,0,0,0,0,null,0,327906.76932000002,0,8.0123709002101133,0,8.0123709002101133,0,8.0123709002101133,0,8.0123709002101133,0,8.0123709002101133,0,8.0123709002101133,0,8.0123709002101133,0,8.0123709002101133,0,8.0123709002101133,0,8.0123709002101133]
["Pumps",2.57,0,0,0,0,0,0,0,0,0,0,0,0,null,0,2435.88969,0,5.9520734228061013E-2,0,5.9520734228061013E-2,0,5.9520734228061013E-2,0,5.9520734228061013E-2,0,5.9520734228061013E-2,0,5.9520734228061013E-2,0,5.9520734228061013E-2,0,5.9520734228061013E-2,0,5.9520734228061013E-2,0,5.9520734228061013E-2]
["Heat Rejection",0,0,0,0,0,0,0,0,0,0,0,0,0,null,0,0,0,0,0,0,0,0,0,0,0,0,0,0,0,0,0,0,0,0,0,0]
["Humidification",142.07,0,0,0,0,0,0,0,0,0,0,0,52.85,null,0,134656.36119,0,3.2903154520547191,0,3.2903154520547191,0,3.2903154520547191,0,3.2903154520547191,0,3.2903154520547191,0,3.2903154520547191,0,3.2903154520547191,0,3.2903154520547191,0,3.2903154520547191,0,3.2903154520547191]
["Heat Recovery",20.170000000000002,0,0,0,0,0,0,0,0,0,0,0,0,null,0,19117.46889,0,0.46713354450583294,0,0.46713354450583294,0,0.46713354450583294,0,0.46713354450583294,0,0.46713354450583294,0,0.46713354450583294,0,0.46713354450583294,0,0.46713354450583294,0,0.46713354450583294,0,0.46713354450583294]
["Water Systems",0,307.89999999999998,0,0,0,0,0,0,0,0,0,0,478.85,null,291832.85429999995,0,7.1309081979844295,0,{"$f":"R27","v":7.1309081979844295},0,{"$f":"T27","v":7.1309081979844295},0,0,{"$f":"V27*0.95/2.5","v":2.709745115234083},{"$f":"T27","v":7.1309081979844295},0,{"$f":"Z27","v":7.1309081979844295},0,0,{"$f":"Y27","v":2.709745115234083},{"$f":"Z27","v":7.1309081979844295},0,{"$f":"AF27","v":7.1309081979844295},0,0,{"$f":"AE27","v":2.709745115234083}]
["Refrigeration",0,0,0,0,0,0,0,0,0,0,0,0,0,null,0,0,0,0,{"$f":"R28","v":0},0,0,0,0,0,0,0,0,0,0,0,{"$f":"X28","v":0},0,{"$f":"X28","v":0},0,{"$f":"X28","v":0},0]
["Generators",0,0,0,0,0,0,0,0,0,0,0,0,0,null,0,0,0,0,0,0,0,0,0,0,0,0,0,0,0,0,0,0,0,0,0,0]
[]
["Total End Uses",2722.96,1478.88,0,0,0,0,0,0,0,0,0,0,531.70000000000005]
["Note: Natural gas appears to be the principal heating source based on energy usage."]
[null,null,null,null,null,null,null,null,null,null,null,null,null,null,null,null,null,"gas EUI",{"$f":"SUM(R16:R29)","v":34.250361178152765},null,{"$f":"SUM(T16:T29)","v":34.250361178152765},null,{"$f":"SUM(V16:V29)","v":11.493523258894879},null,{"$f":"SUM(X16:X29)","v":4.362615060910449},null,{"$f":"SUM(Z16:Z29)","v":18.320574634672244},null,{"$f":"SUM(AB16:AB29)","v":11.493523258894879},null,{"$f":"SUM(AD16:AD29)","v":4.362615060910449},null,{"$f":"SUM(AF16:AF29)","v":13.769207050820668},null,{"$f":"SUM(AH16:AH29)","v":11.493523258894879},null,{"$f":"SUM(AJ16:AJ29)","v":4.362615060910449}]
[null,null,null,null,null,null,null,null,null,null,null,null,null,null,null,null,null,"elec EUI",{"$f":"SUM(S16:S29)","v":63.063028508287459},null,{"$f":"SUM(U16:U29)","v":63.063028508287459},null,{"$f":"SUM(W16:W29)","v":69.818964765567117},null,{"$f":"SUM(Y16:Y29)","v":72.528709880801202},null,{"$f":"SUM(AA16:AA29)","v":63.063028508287459},null,{"$f":"SUM(AC16:AC29)","v":65.089809385471341},null,{"$f":"SUM(AE16:AE29)","v":67.799554500705426},null,{"$f":"SUM(AG16:AG29)","v":63.063028508287459},null,{"$f":"SUM(AI16:AI29)","v":63.738622134015422},null,{"$f":"SUM(AK16:AK29)","v":66.4483672492495}]

{"sheet":"IECC 2021 small office","index":13,"n_rows":41,"n_cols":37,"rows_kept":41,"cut":false,"hidden":true,"merged":[[36,21,36,24],[36,25,36,28],[37,21,37,22],[37,23,37,24],[37,25,37,26],[37,27,37,28],[11,33,11,34],[11,35,11,36],[12,19,12,20],[12,21,12,22],[12,23,12,24],[12,25,12,26],[12,27,12,28],[12,29,12,30],[12,31,12,32],[12,33,12,34],[12,35,12,36],[10,31,10,32],[10,33,10,34],[10,35,10,36],[11,19,11,20],[11,21,11,22],[11,23,11,24],[11,25,11,26],[11,27,11,28],[11,29,11,30],[11,31,11,32],[10,19,10,20],[10,21,10,22],[10,23,10,24],[10,25,10,26],[10,27,10,28],[10,29,10,30]]}
[]
[]
[]
[]
[]
[]
["Area [m2]"]
["Total Building Area",511.16,null,{"$f":"B8*3.28*3.28","v":5499.2637439999999}]
["Net Conditioned Building Area",511.16,null,null,null,null,null,null,null,null,null,null,null,null,null,{"$f":"B9*3.28*3.28","v":5499.2637439999999},"ft2"]
["Unconditioned Building Area",0]
[null,null,null,null,null,null,null,null,null,null,null,null,null,null,null,null,null,null,"efficiency level","base",null,"base",null,"base",null,"stretch",null,"stretch",null,"stretch",null,"ph",null,"ph",null,"ph"]
[null,null,null,null,null,null,null,null,null,null,null,null,null,null,null,null,null,null,"heating","gas",null,"elec",null,"elec",null,"gas",null,"elec",null,"elec",null,"gas",null,"elec",null,"elec"]
["End Uses",null,null,null,null,null,null,null,null,null,null,null,null,null,null,null,null,null,"hot water","gas",null,"gas",null,"elec",null,"gas",null,"gas",null,"elec",null,"gas",null,"gas",null,"elec"]
[]
[null,"Electricity [GJ]","Natural Gas [GJ]","Gasoline [GJ]","Diesel [GJ]","Coal [GJ]","Fuel Oil No 1 [GJ]","Fuel Oil No 2 [GJ]","Propane [GJ]","Other Fuel 1 [GJ]","Other Fuel 2 [GJ]","District Cooling [GJ]","District Heating [GJ]","Water [m3]",null,"Gas (Mbtu/yr)","Elec (Mbtu/yr)","Gas (kbtu/sf-yr)","Elec (kBtu/sf-yr","Gas (kbtu/sf-yr)","Elec (kBtu/sf-yr","Gas (kbtu/sf-yr)","Elec (kBtu/sf-yr","Gas (kbtu/sf-yr)","Elec (kBtu/sf-yr","Gas (kbtu/sf-yr)","Elec (kBtu/sf-yr","Gas (kbtu/sf-yr)","Elec (kBtu/sf-yr","Gas (kbtu/sf-yr)","Elec (kBtu/sf-yr","Gas (kbtu/sf-yr)","Elec (kBtu/sf-yr","Gas (kbtu/sf-yr)","Elec (kBtu/sf-yr","Gas (kbtu/sf-yr)","Elec (kBtu/sf-yr"]
["Heating",24.26,20.309999999999999,0,0,0,0,0,0,0,0,0,0,0,null,{"$f":"C16*947817/1000","v":19250.163270000001},{"$f":"B16*947817/1000","v":22994.040420000001},{"$f":"P16/$P$9","v":3.5004982787019427},{"$f":"Q16/$P$9","v":4.1812943496459445},{"$f":"R16","v":3.5004982787019427},{"$f":"S16","v":4.1812943496459445},{"$f":"0","v":0},{"$f":"(R16*0.95/3.2)+(S16*1/3.2)","v":2.3458649107539964},{"$f":"0","v":0},{"$f":"W16","v":2.3458649107539964},{"$f":"R16*0.3","v":1.0501494836105827},{"$f":"S16*0.3","v":1.2543883048937834},{"$f":"0","v":0},{"$f":"(Z16*0.95/3.2)+(AA16*1/3.2)","v":0.70375947322619892},0,{"$f":"AC16","v":0.70375947322619892},{"$f":"R16*0.1","v":0.35004982787019429},{"$f":"S16*0.1","v":0.41812943496459448},0,{"$f":"(AF16*0.95/3.2)+(AG16*1/3.2)","v":0.23458649107539969},0,{"$f":"AI16","v":0.23458649107539969}]
["Cooling",7.73,0,0,0,0,0,0,0,0,0,0,0,0,null,{"$f":"C17*947817/1000","v":0},{"$f":"B17*947817/1000","v":7326.6254100000006},{"$f":"P17/$P$9","v":0},1.332292057822059,{"$f":"R17","v":0},1.332292057822059,{"$f":"R17","v":0},{"$f":"S17","v":1.332292057822059},{"$f":"R17","v":0},{"$f":"S17","v":1.332292057822059},{"$f":"R17","v":0},{"$f":"S17","v":1.332292057822059},{"$f":"R17","v":0},{"$f":"S17","v":1.332292057822059},{"$f":"R17","v":0},{"$f":"S17","v":1.332292057822059},{"$f":"X17","v":0},{"$f":"Y17","v":1.332292057822059},{"$f":"X17","v":0},{"$f":"Y17","v":1.332292057822059},{"$f":"X17","v":0},{"$f":"Y17","v":1.332292057822059}]
["Interior Lighting",26.16,0,0,0,0,0,0,0,0,0,0,0,0,null,0,24794.89272,0,4.5087658774417934,0,4.5087658774417934,{"$f":"R18","v":0},4.5087658774417934,{"$f":"R18","v":0},4.5087658774417934,{"$f":"R18","v":0},4.5087658774417934,{"$f":"R18","v":0},4.5087658774417934,{"$f":"R18","v":0},4.5087658774417934,{"$f":"X18","v":0},4.5087658774417934,{"$f":"X18","v":0},4.5087658774417934,{"$f":"X18","v":0},4.5087658774417934]
["Exterior Lighting",9.86,0,0,0,0,0,0,0,0,0,0,0,0,null,0,9345.4756199999993,0,1.6994048758247735,0,1.6994048758247735,0,1.6994048758247735,0,1.6994048758247735,0,1.6994048758247735,0,1.6994048758247735,0,1.6994048758247735,0,1.6994048758247735,0,1.6994048758247735,0,1.6994048758247735]
["Interior Equipment",48.3,0,0,0,0,0,0,0,0,0,0,0,0,null,0,45779.561099999992,0,8.3246709434418413,0,8.3246709434418413,0,8.3246709434418413,0,8.3246709434418413,0,8.3246709434418413,0,8.3246709434418413,0,8.3246709434418413,0,8.3246709434418413,0,8.3246709434418413,0,8.3246709434418413]
["Exterior Equipment",0,0,0,0,0,0,0,0,0,0,0,0,0,null,0,0,0,0,0,0,0,0,0,0,0,0,0,0,0,0,0,0,0,0,0,0]
["Fans",19.55,0,0,0,0,0,0,0,0,0,0,0,0,null,0,18529.822350000002,0,3.3695096675836034,0,3.3695096675836034,0,3.3695096675836034,0,3.3695096675836034,0,3.3695096675836034,0,3.3695096675836034,0,3.3695096675836034,0,3.3695096675836034,0,3.3695096675836034,0,3.3695096675836034]
["Pumps",0,0,0,0,0,0,0,0,0,0,0,0,0,null,0,0,0,0,0,0,0,0,0,0,0,0,0,0,0,0,0,0,0,0,0,0]
["Heat Rejection",0,0,0,0,0,0,0,0,0,0,0,0,0,null,0,0,0,0,0,0,0,0,0,0,0,0,0,0,0,0,0,0,0,0,0,0]
["Humidification",0,0,0,0,0,0,0,0,0,0,0,0,0,null,0,0,0,0,0,0,0,0,0,0,0,0,0,0,0,0,0,0,0,0,0,0]
["Heat Recovery",0,0,0,0,0,0,0,0,0,0,0,0,0,null,0,0,0,0,0,0,0,0,0,0,0,0,0,0,0,0,0,0,0,0,0,0]
["Water Systems",24.58,0,0,0,0,0,0,0,0,0,0,0,58.31,null,0,23297.34186,0,4.236447449064193,{"$f":"R27+(S27*1/0.95)","v":4.4594183674359931},0,{"$f":"T27","v":4.4594183674359931},0,0,{"$f":"V27*0.95/2.5","v":1.6945789796256772},{"$f":"T27","v":4.4594183674359931},0,{"$f":"Z27","v":4.4594183674359931},0,0,{"$f":"Y27","v":1.6945789796256772},{"$f":"Z27","v":4.4594183674359931},0,{"$f":"AF27","v":4.4594183674359931},0,0,{"$f":"AE27","v":1.6945789796256772}]
["Refrigeration",0,0,0,0,0,0,0,0,0,0,0,0,0,null,0,0,0,0,{"$f":"R28","v":0},0,0,0,0,0,0,0,0,0,0,0,{"$f":"X28","v":0},0,{"$f":"X28","v":0},0,{"$f":"X28","v":0},0]
["Generators",0,0,0,0,0,0,0,0,0,0,0,0,0,null,0,0,0,0,0,0,0,0,0,0,0,0,0,0,0,0,0,0,0,0,0,0]
[]
["Total End Uses",160.44,20.309999999999999,0,0,0,0,0,0,0,0,0,0,58.31]
["Note: Natural gas appears to be the principal heating source based on energy usage."]
[null,null,null,null,null,null,null,null,null,null,null,null,null,null,null,null,null,"gas EUI",{"$f":"SUM(R16:R29)","v":3.5004982787019427},null,{"$f":"SUM(T16:T29)","v":7.9599166461379358},null,{"$f":"SUM(V16:V29)","v":4.4594183674359931},null,{"$f":"SUM(X16:X29)","v":0},{"$f":"V41","v":4.8},{"$f":"SUM(Z16:Z29)","v":5.509567851046576},null,{"$f":"SUM(AB16:AB29)","v":4.4594183674359931},{"$f":"X41","v":0},{"$f":"SUM(AD16:AD29)","v":0},{"$f":"Z41","v":0.6},{"$f":"SUM(AF16:AF29)","v":4.8094681953061871},null,{"$f":"SUM(AH16:AH29)","v":4.4594183674359931},{"$f":"AB41","v":0},{"$f":"SUM(AJ16:AJ29)","v":0}]
[null,null,null,null,null,null,null,null,null,null,null,null,null,null,null,null,null,"elec EUI",{"$f":"SUM(S16:S29)","v":27.652385220824211},null,{"$f":"SUM(U16:U29)","v":23.415937771760017},null,{"$f":"SUM(W16:W29)","v":21.580508332868067},null,{"$f":"SUM(Y16:Y29)","v":23.275087312493746},{"$f":"W41","v":29.1},{"$f":"SUM(AA16:AA29)","v":20.489031727007852},null,{"$f":"SUM(AC16:AC29)","v":19.938402895340271},{"$f":"Y41","v":29.6},{"$f":"SUM(AE16:AE29)","v":21.632981874965949},{"$f":"AA41","v":31.1},{"$f":"SUM(AG16:AG29)","v":19.652772857078663},null,{"$f":"SUM(AI16:AI29)","v":19.469229913189469},{"$f":"AC41","v":29.7},{"$f":"SUM(AK16:AK29)","v":21.163808892815148}]
[]
[]
[null,null,null,null,null,null,null,null,null,null,null,null,null,null,null,null,null,null,null,null,null,{"$f":"'SWA data'!E2","v":"Stretch Code"},{"$f":"'SWA data'!F2","v":0},{"$f":"'SWA data'!G2","v":0},{"$f":"'SWA data'!H2","v":0},{"$f":"'SWA data'!I2","v":"Passive House"},{"$f":"'SWA data'!J2","v":0},{"$f":"'SWA data'!K2","v":0},{"$f":"'SWA data'!L2","v":0}]
[null,null,null,null,null,null,null,null,null,null,null,null,null,null,null,null,null,null,null,null,{"$f":"'SWA data'!D3","v":"scneario name"},{"$f":"'SWA data'!E3","v":"gas"},{"$f":"'SWA data'!F3","v":0},{"$f":"'SWA data'!G3","v":"electric"},{"$f":"'SWA data'!H3","v":0},{"$f":"'SWA data'!I3","v":"gas"},{"$f":"'SWA data'!J3","v":0},{"$f":"'SWA data'!K3","v":"electric"},{"$f":"'SWA data'!L3","v":0}]
[]
[null,null,null,null,null,null,null,null,null,null,null,null,null,null,null,null,null,null,null,null,null,{"$f":"'SWA data'!E5","v":"gas EUI"},{"$f":"'SWA data'!F5","v":"elec EUI"},{"$f":"'SWA data'!G5","v":"gas EUI"},{"$f":"'SWA data'!H5","v":"elec EUI"},{"$f":"'SWA data'!I5","v":"gas EUI"},{"$f":"'SWA data'!J5","v":"elec EUI"},{"$f":"'SWA data'!K5","v":"gas EUI"},{"$f":"'SWA data'!L5","v":"elec EUI"}]
[null,null,null,null,null,null,null,null,null,null,null,null,null,null,null,null,null,null,null,null,{"$f":"'SWA data'!D9","v":"small office"},{"$f":"'SWA data'!E9","v":4.8},{"$f":"'SWA data'!F9","v":29.1},{"$f":"'SWA data'!G9","v":0},{"$f":"'SWA data'!H9","v":29.6},{"$f":"'SWA data'!I9","v":0.6},{"$f":"'SWA data'!J9","v":31.1},{"$f":"'SWA data'!K9","v":0},{"$f":"'SWA data'!L9","v":29.7}]

{"sheet":"IECC 2021 medium office","index":14,"n_rows":41,"n_cols":37,"rows_kept":41,"cut":false,"hidden":true,"merged":[[36,24,36,27],[36,28,36,31],[37,24,37,25],[37,26,37,27],[37,28,37,29],[37,30,37,31],[11,33,11,34],[11,35,11,36],[12,19,12,20],[12,21,12,22],[12,23,12,24],[12,25,12,26],[12,27,12,28],[12,29,12,30],[12,31,12,32],[12,33,12,34],[12,35,12,36],[10,31,10,32],[10,33,10,34],[10,35,10,36],[11,19,11,20],[11,21,11,22],[11,23,11,24],[11,25,11,26],[11,27,11,28],[11,29,11,30],[11,31,11,32],[10,19,10,20],[10,21,10,22],[10,23,10,24],[10,25,10,26],[10,27,10,28],[10,29,10,30]]}
[]
[]
[]
[]
[]
[]
["Area [m2]"]
["Total Building Area",4982.1899999999996,null,{"$f":"B8*3.28*3.28","v":53600.39289599999}]
["Net Conditioned Building Area",4982.1899999999996,null,null,null,null,null,null,null,null,null,null,null,null,null,{"$f":"B9*3.28*3.28","v":53600.39289599999},"ft2"]
["Unconditioned Building Area",0]
[null,null,null,null,null,null,null,null,null,null,null,null,null,null,null,null,null,null,"efficiency level","base",null,"base",null,"base",null,"stretch",null,"stretch",null,"stretch",null,"ph",null,"ph",null,"ph"]
[null,null,null,null,null,null,null,null,null,null,null,null,null,null,null,null,null,null,"heating","gas",null,"elec",null,"elec",null,"gas",null,"elec",null,"elec",null,"gas",null,"elec",null,"elec"]
["End Uses",null,null,null,null,null,null,null,null,null,null,null,null,null,null,null,null,null,"hot water","gas",null,"gas",null,"elec",null,"gas",null,"gas",null,"elec",null,"gas",null,"gas",null,"elec"]
[]
[null,"Electricity [GJ]","Natural Gas [GJ]","Gasoline [GJ]","Diesel [GJ]","Coal [GJ]","Fuel Oil No 1 [GJ]","Fuel Oil No 2 [GJ]","Propane [GJ]","Other Fuel 1 [GJ]","Other Fuel 2 [GJ]","District Cooling [GJ]","District Heating [GJ]","Water [m3]",null,"Gas (Mbtu/yr)","Elec (Mbtu/yr)","Gas (kbtu/sf-yr)","Elec (kBtu/sf-yr","Gas (kbtu/sf-yr)","Elec (kBtu/sf-yr","Gas (kbtu/sf-yr)","Elec (kBtu/sf-yr","Gas (kbtu/sf-yr)","Elec (kBtu/sf-yr","Gas (kbtu/sf-yr)","Elec (kBtu/sf-yr","Gas (kbtu/sf-yr)","Elec (kBtu/sf-yr","Gas (kbtu/sf-yr)","Elec (kBtu/sf-yr","Gas (kbtu/sf-yr)","Elec (kBtu/sf-yr","Gas (kbtu/sf-yr)","Elec (kBtu/sf-yr","Gas (kbtu/sf-yr)","Elec (kBtu/sf-yr"]
["Heating",255.17,243.22,0,0,0,0,0,0,0,0,0,0,0,null,{"$f":"C16*947817/1000","v":230528.05074000001},{"$f":"B16*947817/1000","v":241854.46388999998},{"$f":"P16/$P$9","v":4.3008649430478991},{"$f":"Q16/$P$9","v":4.5121770722700942},{"$f":"R16","v":4.3008649430478991},{"$f":"S16","v":4.5121770722700942},{"$f":"0","v":0},{"$f":"(S16*1/3.2)+R16*0.95/3.2","v":2.6868746150517495},{"$f":"0","v":0},{"$f":"(S16*1/3.2)+R16*0.95/3.2","v":2.6868746150517495},{"$f":"R16*0.3","v":1.2902594829143696},{"$f":"S16*0.3","v":1.3536531216810281},0,{"$f":"(AA16*1/3.2)+Z16*0.95/3.2","v":0.80606238451552481},0,{"$f":"AC16","v":0.80606238451552481},{"$f":"R16*0.1","v":0.43008649430478996},{"$f":"S16*0.1","v":0.45121770722700943},0,{"$f":"(AG16*1/3.2)+AF16*0.95/3.2","v":0.26868746150517497},0,{"$f":"AI16","v":0.26868746150517497}]
["Cooling",118.02,0,0,0,0,0,0,0,0,0,0,0,0,null,{"$f":"C17*947817/1000","v":0},{"$f":"B17*947817/1000","v":111861.36234000001},{"$f":"P17/$P$9","v":0},2.0869504176404616,{"$f":"R17","v":0},2.0869504176404616,{"$f":"R17","v":0},{"$f":"S17","v":2.0869504176404616},{"$f":"R17","v":0},{"$f":"S17","v":2.0869504176404616},{"$f":"R17","v":0},{"$f":"S17","v":2.0869504176404616},{"$f":"R17","v":0},{"$f":"S17","v":2.0869504176404616},{"$f":"R17","v":0},{"$f":"S17","v":2.0869504176404616},{"$f":"X17","v":0},{"$f":"Y17","v":2.0869504176404616},{"$f":"X17","v":0},{"$f":"Y17","v":2.0869504176404616},{"$f":"X17","v":0},{"$f":"Y17","v":2.0869504176404616}]
["Interior Lighting",203.12,0,0,0,0,0,0,0,0,0,0,0,0,null,0,192520.58903999999,0,3.5917757060763473,0,3.5917757060763473,{"$f":"R18","v":0},3.5917757060763473,{"$f":"R18","v":0},3.5917757060763473,{"$f":"R18","v":0},3.5917757060763473,{"$f":"R18","v":0},3.5917757060763473,{"$f":"R18","v":0},3.5917757060763473,{"$f":"X18","v":0},3.5917757060763473,{"$f":"X18","v":0},3.5917757060763473,{"$f":"X18","v":0},3.5917757060763473]
["Exterior Lighting",50.25,0,0,0,0,0,0,0,0,0,0,0,0,null,0,47627.804250000001,0,0.88857192413517361,0,0.88857192413517361,0,0.88857192413517361,0,0.88857192413517361,0,0.88857192413517361,0,0.88857192413517361,0,0.88857192413517361,0,0.88857192413517361,0,0.88857192413517361,0,0.88857192413517361]
["Interior Equipment",705.43,0,0,0,0,0,0,0,0,0,0,0,0,null,0,668618.54630999989,0,12.474135172988564,0,12.474135172988564,0,12.474135172988564,0,12.474135172988564,0,12.474135172988564,0,12.474135172988564,0,12.474135172988564,0,12.474135172988564,0,12.474135172988564,0,12.474135172988564]
["Exterior Equipment",11.66,0,0,0,0,0,0,0,0,0,0,0,0,null,0,11051.54622,0,0.20618405244609203,0,0.20618405244609203,0,0.20618405244609203,0,0.20618405244609203,0,0.20618405244609203,0,0.20618405244609203,0,0.20618405244609203,0,0.20618405244609203,0,0.20618405244609203,0,0.20618405244609203]
["Fans",86.29,0,0,0,0,0,0,0,0,0,0,0,0,null,0,81787.128930000006,0,1.5258680862412763,0,1.5258680862412763,0,1.5258680862412763,0,1.5258680862412763,0,1.5258680862412763,0,1.5258680862412763,0,1.5258680862412763,0,1.5258680862412763,0,1.5258680862412763,0,1.5258680862412763]
["Pumps",0.02,0,0,0,0,0,0,0,0,0,0,0,0,null,0,18.956340000000001,0,3.5366046731748202E-4,0,3.5366046731748202E-4,0,3.5366046731748202E-4,0,3.5366046731748202E-4,0,3.5366046731748202E-4,0,3.5366046731748202E-4,0,3.5366046731748202E-4,0,3.5366046731748202E-4,0,3.5366046731748202E-4,0,3.5366046731748202E-4]
["Heat Rejection",0,0,0,0,0,0,0,0,0,0,0,0,0,null,0,0,0,0,0,0,0,0,0,0,0,0,0,0,0,0,0,0,0,0,0,0]
["Humidification",0,0,0,0,0,0,0,0,0,0,0,0,0,null,0,0,0,0,0,0,0,0,0,0,0,0,0,0,0,0,0,0,0,0,0,0]
["Heat Recovery",0,0,0,0,0,0,0,0,0,0,0,0,0,null,0,0,0,0,0,0,0,0,0,0,0,0,0,0,0,0,0,0,0,0,0,0]
["Water Systems",0,112.33,0,0,0,0,0,0,0,0,0,0,271.06,null,106468.28361,0,1.9863340146886377,0,{"$f":"R27","v":1.9863340146886377},0,{"$f":"T27","v":1.9863340146886377},0,0,{"$f":"V27*0.95/2.5","v":0.75480692558168228},{"$f":"T27","v":1.9863340146886377},0,{"$f":"Z27","v":1.9863340146886377},0,0,{"$f":"Y27","v":0.75480692558168228},{"$f":"Z27","v":1.9863340146886377},0,{"$f":"AF27","v":1.9863340146886377},0,0,{"$f":"AE27","v":0.75480692558168228}]
["Refrigeration",0,0,0,0,0,0,0,0,0,0,0,0,0,null,0,0,0,0,{"$f":"R28","v":0},0,0,0,0,0,0,0,0,0,0,0,{"$f":"X28","v":0},0,{"$f":"X28","v":0},0,{"$f":"X28","v":0},0]
["Generators",0,0,0,0,0,0,0,0,0,0,0,0,0,null,0,0,0,0,0,0,0,0,0,0,0,0,0,0,0,0,0,0,0,0,0,0]
[]
["Total End Uses",1429.95,355.55,0,0,0,0,0,0,0,0,0,0,271.06]
["Note: Natural gas appears to be the principal heating source based on energy usage."]
[null,null,null,null,null,null,null,null,null,null,null,null,null,null,null,null,null,"gas EUI",{"$f":"SUM(R16:R29)","v":6.2871989577365373},null,{"$f":"SUM(T16:T29)","v":6.2871989577365373},null,{"$f":"SUM(V16:V29)","v":1.9863340146886377},null,{"$f":"SUM(X16:X29)","v":0},{"$f":"Y41","v":0.5},{"$f":"SUM(Z16:Z29)","v":3.2765934976030073},null,{"$f":"SUM(AB16:AB29)","v":1.9863340146886377},{"$f":"AA41","v":0},{"$f":"SUM(AD16:AD29)","v":0},{"$f":"AC41","v":0.25},{"$f":"SUM(AF16:AF29)","v":2.4164205089934274},null,{"$f":"SUM(AH16:AH29)","v":1.9863340146886377},{"$f":"AE41","v":0},{"$f":"SUM(AJ16:AJ29)","v":0}]
[null,null,null,null,null,null,null,null,null,null,null,null,null,null,null,null,null,"elec EUI",{"$f":"SUM(S16:S29)","v":25.286016092265328},null,{"$f":"SUM(U16:U29)","v":25.286016092265328},null,{"$f":"SUM(W16:W29)","v":23.460713635046979},null,{"$f":"SUM(Y16:Y29)","v":24.215520560628661},{"$f":"Z41","v":43.1},{"$f":"SUM(AA16:AA29)","v":22.127492141676264},null,{"$f":"SUM(AC16:AC29)","v":21.579901404510757},{"$f":"AB41","v":43.3},{"$f":"SUM(AE16:AE29)","v":22.33470833009244},{"$f":"AD41","v":43.1},{"$f":"SUM(AG16:AG29)","v":21.225056727222238},null,{"$f":"SUM(AI16:AI29)","v":21.04252648150041},{"$f":"AF41","v":43.1},{"$f":"SUM(AK16:AK29)","v":21.797333407082093}]
[]
[]
[null,null,null,null,null,null,null,null,null,null,null,null,null,null,null,null,null,null,null,null,null,null,null,null,{"$f":"'SWA data'!E2","v":"Stretch Code"},{"$f":"'SWA data'!F2","v":0},{"$f":"'SWA data'!G2","v":0},{"$f":"'SWA data'!H2","v":0},{"$f":"'SWA data'!I2","v":"Passive House"},{"$f":"'SWA data'!J2","v":0},{"$f":"'SWA data'!K2","v":0},{"$f":"'SWA data'!L2","v":0}]
[null,null,null,null,null,null,null,null,null,null,null,null,null,null,null,null,null,null,null,null,null,null,null,{"$f":"'SWA data'!D3","v":"scneario name"},{"$f":"'SWA data'!E3","v":"gas"},{"$f":"'SWA data'!F3","v":0},{"$f":"'SWA data'!G3","v":"electric"},{"$f":"'SWA data'!H3","v":0},{"$f":"'SWA data'!I3","v":"gas"},{"$f":"'SWA data'!J3","v":0},{"$f":"'SWA data'!K3","v":"electric"},{"$f":"'SWA data'!L3","v":0}]
[]
[null,null,null,null,null,null,null,null,null,null,null,null,null,null,null,null,null,null,null,null,null,null,null,null,{"$f":"'SWA data'!E5","v":"gas EUI"},{"$f":"'SWA data'!F5","v":"elec EUI"},{"$f":"'SWA data'!G5","v":"gas EUI"},{"$f":"'SWA data'!H5","v":"elec EUI"},{"$f":"'SWA data'!I5","v":"gas EUI"},{"$f":"'SWA data'!J5","v":"elec EUI"},{"$f":"'SWA data'!K5","v":"gas EUI"},{"$f":"'SWA data'!L5","v":"elec EUI"}]
[null,null,null,null,null,null,null,null,null,null,null,null,null,null,null,null,null,null,null,null,null,null,null,{"$f":"'SWA data'!D10","v":"large office"},{"$f":"'SWA data'!E10","v":0.5},{"$f":"'SWA data'!F10","v":43.1},{"$f":"'SWA data'!G10","v":0},{"$f":"'SWA data'!H10","v":43.3},{"$f":"'SWA data'!I10","v":0.25},{"$f":"'SWA data'!J10","v":43.1},{"$f":"'SWA data'!K10","v":0},{"$f":"'SWA data'!L10","v":43.1}]

{"sheet":"IECC 2021 large office","index":15,"n_rows":41,"n_cols":37,"rows_kept":41,"cut":false,"hidden":true,"merged":[[36,26,36,29],[36,30,36,33],[37,26,37,27],[37,28,37,29],[37,30,37,31],[37,32,37,33],[11,33,11,34],[11,35,11,36],[12,19,12,20],[12,21,12,22],[12,23,12,24],[12,25,12,26],[12,27,12,28],[12,29,12,30],[12,31,12,32],[12,33,12,34],[12,35,12,36],[10,31,10,32],[10,33,10,34],[10,35,10,36],[11,19,11,20],[11,21,11,22],[11,23,11,24],[11,25,11,26],[11,27,11,28],[11,29,11,30],[11,31,11,32],[10,19,10,20],[10,21,10,22],[10,23,10,24],[10,25,10,26],[10,27,10,28],[10,29,10,30]]}
[]
[]
[]
[]
[]
[]
["Area [m2]"]
["Total Building Area",46320.38,null,{"$f":"B8*3.28*3.28","v":498333.17619199993}]
["Net Conditioned Building Area",46320.38,null,null,null,null,null,null,null,null,null,null,null,null,null,{"$f":"B9*3.28*3.28","v":498333.17619199993},"ft2"]
["Unconditioned Building Area",0]
[null,null,null,null,null,null,null,null,null,null,null,null,null,null,null,null,null,null,"efficiency level","base",null,"base",null,"base",null,"stretch",null,"stretch",null,"stretch",null,"ph",null,"ph",null,"ph"]
[null,null,null,null,null,null,null,null,null,null,null,null,null,null,null,null,null,null,"heating","gas",null,"elec",null,"elec",null,"gas",null,"elec",null,"elec",null,"gas",null,"elec",null,"elec"]
["End Uses",null,null,null,null,null,null,null,null,null,null,null,null,null,null,null,null,null,"hot water","gas",null,"gas",null,"elec",null,"gas",null,"gas",null,"elec",null,"gas",null,"gas",null,"elec"]
[]
[null,"Electricity [GJ]","Natural Gas [GJ]","Gasoline [GJ]","Diesel [GJ]","Coal [GJ]","Fuel Oil No 1 [GJ]","Fuel Oil No 2 [GJ]","Propane [GJ]","Other Fuel 1 [GJ]","Other Fuel 2 [GJ]","District Cooling [GJ]","District Heating [GJ]","Water [m3]",null,"Gas (Mbtu/yr)","Elec (Mbtu/yr)","Gas (kbtu/sf-yr)","Elec (kBtu/sf-yr","Gas (kbtu/sf-yr)","Elec (kBtu/sf-yr","Gas (kbtu/sf-yr)","Elec (kBtu/sf-yr","Gas (kbtu/sf-yr)","Elec (kBtu/sf-yr","Gas (kbtu/sf-yr)","Elec (kBtu/sf-yr","Gas (kbtu/sf-yr)","Elec (kBtu/sf-yr","Gas (kbtu/sf-yr)","Elec (kBtu/sf-yr","Gas (kbtu/sf-yr)","Elec (kBtu/sf-yr","Gas (kbtu/sf-yr)","Elec (kBtu/sf-yr","Gas (kbtu/sf-yr)","Elec (kBtu/sf-yr"]
["Heating",0,1509.21,0,0,0,0,0,0,0,0,0,0,0,null,{"$f":"C16*947817/1000","v":1430454.89457},{"$f":"B16*947817/1000","v":0},{"$f":"P16/$P$9","v":2.8704789544633251},{"$f":"Q16/$P$9","v":0},{"$f":"R16","v":2.8704789544633251},{"$f":"S16","v":0},{"$f":"0","v":0},{"$f":"R16*0.95/3.2","v":0.85217343960629965},{"$f":"0","v":0},{"$f":"R16*0.95/3.2","v":0.85217343960629965},{"$f":"R16*0.3","v":0.86114368633899752},{"$f":"S16","v":0},0,{"$f":"Z16*0.95/3.2","v":0.25565203188188984},0,{"$f":"AC16","v":0.25565203188188984},{"$f":"R16*0.1","v":0.28704789544633252},0,0,{"$f":"AF16*0.95/3.2","v":8.5217343960629952E-2},0,{"$f":"AI16","v":8.5217343960629952E-2}]
["Cooling",828.71,0,0,0,0,0,0,0,0,0,7163.51,0,0,null,{"$f":"C17*947817/1000","v":0},{"$f":"B17*947817/1000","v":785465.42607000005},{"$f":"P17/$P$9","v":0},1.5761852985027283,{"$f":"R17","v":0},1.5761852985027283,{"$f":"R17","v":0},{"$f":"S17","v":1.5761852985027283},{"$f":"R17","v":0},{"$f":"S17","v":1.5761852985027283},{"$f":"R17","v":0},{"$f":"S17","v":1.5761852985027283},{"$f":"R17","v":0},{"$f":"S17","v":1.5761852985027283},{"$f":"R17","v":0},{"$f":"S17","v":1.5761852985027283},{"$f":"X17","v":0},{"$f":"Y17","v":1.5761852985027283},{"$f":"X17","v":0},{"$f":"Y17","v":1.5761852985027283},{"$f":"X17","v":0},{"$f":"Y17","v":1.5761852985027283}]
["Interior Lighting",2025.76,0,0,0,0,0,0,0,0,0,0,0,0,null,0,1920049.7659200002,0,3.8529438890503154,0,3.8529438890503154,{"$f":"R18","v":0},3.8529438890503154,{"$f":"R18","v":0},3.8529438890503154,{"$f":"R18","v":0},3.8529438890503154,{"$f":"R18","v":0},3.8529438890503154,{"$f":"R18","v":0},3.8529438890503154,{"$f":"X18","v":0},3.8529438890503154,{"$f":"X18","v":0},3.8529438890503154,{"$f":"X18","v":0},3.8529438890503154]
["Exterior Lighting",327.74,0,0,0,0,0,0,0,0,0,0,0,0,null,0,310637.54358,0,0.62335312682516697,0,0.62335312682516697,0,0.62335312682516697,0,0.62335312682516697,0,0.62335312682516697,0,0.62335312682516697,0,0.62335312682516697,0,0.62335312682516697,0,0.62335312682516697,0,0.62335312682516697]
["Interior Equipment",14676.4,0,0,0,0,0,0,0,0,0,0,0,0,null,0,13910541.4188,0,27.914138739662171,0,27.914138739662171,0,27.914138739662171,0,27.914138739662171,0,27.914138739662171,0,27.914138739662171,0,27.914138739662171,0,27.914138739662171,0,27.914138739662171,0,27.914138739662171]
["Exterior Equipment",3183.22,0,0,0,0,0,0,0,0,0,0,0,0,null,0,3017110.0307399998,0,6.0544033086361377,0,6.0544033086361377,0,6.0544033086361377,0,6.0544033086361377,0,6.0544033086361377,0,6.0544033086361377,0,6.0544033086361377,0,6.0544033086361377,0,6.0544033086361377,0,6.0544033086361377]
["Fans",1037.93,0,0,0,0,0,0,0,0,0,0,0,0,null,0,983767.69881000009,0,1.974116406070805,0,1.974116406070805,0,1.974116406070805,0,1.974116406070805,0,1.974116406070805,0,1.974116406070805,0,1.974116406070805,0,1.974116406070805,0,1.974116406070805,0,1.974116406070805]
["Pumps",369.75,0,0,0,0,0,0,0,0,0,0,0,0,null,0,350455.33575000003,0,0.70325507610790716,0,0.70325507610790716,0,0.70325507610790716,0,0.70325507610790716,0,0.70325507610790716,0,0.70325507610790716,0,0.70325507610790716,0,0.70325507610790716,0,0.70325507610790716,0,0.70325507610790716]
["Heat Rejection",227.19,0,0,0,0,0,0,0,0,0,0,0,2891.71,null,0,215334.54423,0,0.43210958956309781,0,0.43210958956309781,0,0.43210958956309781,0,0.43210958956309781,0,0.43210958956309781,0,0.43210958956309781,0,0.43210958956309781,0,0.43210958956309781,0,0.43210958956309781,0,0.43210958956309781]
["Humidification",0,0,0,0,0,0,0,0,0,0,0,0,0,null,0,0,0,0,0,0,0,0,0,0,0,0,0,0,0,0,0,0,0,0,0,0]
["Heat Recovery",42.42,0,0,0,0,0,0,0,0,0,0,0,0,null,0,40206.397140000001,0,8.0681758832988296E-2,0,8.0681758832988296E-2,0,8.0681758832988296E-2,0,8.0681758832988296E-2,0,8.0681758832988296E-2,0,8.0681758832988296E-2,0,8.0681758832988296E-2,0,8.0681758832988296E-2,0,8.0681758832988296E-2,0,8.0681758832988296E-2]
["Water Systems",0,748.57,0,0,0,0,0,0,0,0,0,0,2280.17,null,709507.37169000006,0,1.4237610610469129,0,{"$f":"R27+(S27*1/0.95)","v":1.4237610610469129},0,{"$f":"T27","v":1.4237610610469129},0,0,{"$f":"V27*0.95/2.5","v":0.54102920319782688},{"$f":"T27","v":1.4237610610469129},0,{"$f":"Z27","v":1.4237610610469129},0,0,{"$f":"Y27","v":0.54102920319782688},{"$f":"Z27","v":1.4237610610469129},0,{"$f":"AF27","v":1.4237610610469129},0,0,{"$f":"AE27","v":0.54102920319782688}]
["Refrigeration",0,0,0,0,0,0,0,0,0,0,0,0,0,null,0,0,0,0,{"$f":"R28","v":0},0,0,0,0,0,0,0,0,0,0,0,{"$f":"X28","v":0},0,{"$f":"X28","v":0},0,{"$f":"X28","v":0},0]
["Generators",0,0,0,0,0,0,0,0,0,0,0,0,0,null,0,0,0,0,0,0,0,0,0,0,0,0,0,0,0,0,0,0,0,0,0,0]
[]
["Total End Uses",22719.119999999999,2257.7800000000002,0,0,0,0,0,0,0,0,7163.51,0,5171.88]
["Note: Natural gas appears to be the principal heating source based on energy usage."]
[null,null,null,null,null,null,null,null,null,null,null,null,null,null,null,null,null,"gas EUI",{"$f":"SUM(R16:R29)","v":4.2942400155102378},null,{"$f":"SUM(T16:T29)","v":4.2942400155102378},null,{"$f":"SUM(V16:V29)","v":1.4237610610469129},null,{"$f":"SUM(X16:X29)","v":0},{"$f":"AA41","v":0.5},{"$f":"SUM(Z16:Z29)","v":2.2849047473859105},null,{"$f":"SUM(AB16:AB29)","v":1.4237610610469129},{"$f":"AC41","v":0},{"$f":"SUM(AD16:AD29)","v":0},{"$f":"AE41","v":0.25},{"$f":"SUM(AF16:AF29)","v":1.7108089564932454},null,{"$f":"SUM(AH16:AH29)","v":1.4237610610469129},{"$f":"AG41","v":0},{"$f":"SUM(AJ16:AJ29)","v":0}]
[null,null,null,null,null,null,null,null,null,null,null,null,null,null,null,null,null,"elec EUI",{"$f":"SUM(S16:S29)","v":43.21118719325132},null,{"$f":"SUM(U16:U29)","v":43.21118719325132},null,{"$f":"SUM(W16:W29)","v":44.063360632857616},null,{"$f":"SUM(Y16:Y29)","v":44.604389836055446},{"$f":"AB41","v":43.1},{"$f":"SUM(AA16:AA29)","v":43.21118719325132},null,{"$f":"SUM(AC16:AC29)","v":43.466839225133207},{"$f":"AD41","v":43.3},{"$f":"SUM(AE16:AE29)","v":44.007868428331037},{"$f":"AF41","v":43.1},{"$f":"SUM(AG16:AG29)","v":43.21118719325132},null,{"$f":"SUM(AI16:AI29)","v":43.296404537211949},{"$f":"AH41","v":43.1},{"$f":"SUM(AK16:AK29)","v":43.837433740409779}]
[]
[]
[null,null,null,null,null,null,null,null,null,null,null,null,null,null,null,null,null,null,null,null,null,null,null,null,null,null,{"$f":"'SWA data'!E2","v":"Stretch Code"},{"$f":"'SWA data'!F2","v":0},{"$f":"'SWA data'!G2","v":0},{"$f":"'SWA data'!H2","v":0},{"$f":"'SWA data'!I2","v":"Passive House"},{"$f":"'SWA data'!J2","v":0},{"$f":"'SWA data'!K2","v":0},{"$f":"'SWA data'!L2","v":0}]
[null,null,null,null,null,null,null,null,null,null,null,null,null,null,null,null,null,null,null,null,null,null,null,null,null,{"$f":"'SWA data'!D3","v":"scneario name"},{"$f":"'SWA data'!E3","v":"gas"},{"$f":"'SWA data'!F3","v":0},{"$f":"'SWA data'!G3","v":"electric"},{"$f":"'SWA data'!H3","v":0},{"$f":"'SWA data'!I3","v":"gas"},{"$f":"'SWA data'!J3","v":0},{"$f":"'SWA data'!K3","v":"electric"},{"$f":"'SWA data'!L3","v":0}]
[]
[null,null,null,null,null,null,null,null,null,null,null,null,null,null,null,null,null,null,null,null,null,null,null,null,null,null,{"$f":"'SWA data'!E5","v":"gas EUI"},{"$f":"'SWA data'!F5","v":"elec EUI"},{"$f":"'SWA data'!G5","v":"gas EUI"},{"$f":"'SWA data'!H5","v":"elec EUI"},{"$f":"'SWA data'!I5","v":"gas EUI"},{"$f":"'SWA data'!J5","v":"elec EUI"},{"$f":"'SWA data'!K5","v":"gas EUI"},{"$f":"'SWA data'!L5","v":"elec EUI"}]
[null,null,null,null,null,null,null,null,null,null,null,null,null,null,null,null,null,null,null,null,null,null,null,null,null,{"$f":"'SWA data'!D10","v":"large office"},{"$f":"'SWA data'!E10","v":0.5},{"$f":"'SWA data'!F10","v":43.1},{"$f":"'SWA data'!G10","v":0},{"$f":"'SWA data'!H10","v":43.3},{"$f":"'SWA data'!I10","v":0.25},{"$f":"'SWA data'!J10","v":43.1},{"$f":"'SWA data'!K10","v":0},{"$f":"'SWA data'!L10","v":43.1}]

{"sheet":"IECC 2021 small hotel","index":16,"n_rows":34,"n_cols":37,"rows_kept":34,"cut":false,"hidden":true,"merged":[[12,35,12,36],[11,33,11,34],[11,35,11,36],[12,19,12,20],[12,21,12,22],[12,23,12,24],[12,25,12,26],[12,27,12,28],[12,29,12,30],[12,31,12,32],[12,33,12,34],[10,31,10,32],[10,33,10,34],[10,35,10,36],[11,19,11,20],[11,21,11,22],[11,23,11,24],[11,25,11,26],[11,27,11,28],[11,29,11,30],[11,31,11,32],[10,19,10,20],[10,21,10,22],[10,23,10,24],[10,25,10,26],[10,27,10,28],[10,29,10,30]]}
[]
[]
[]
[]
[]
[]
["Area [m2]"]
["Total Building Area",4013.58,null,{"$f":"B8*3.28*3.28","v":43179.699071999996}]
["Net Conditioned Building Area",3725.09,null,null,null,null,null,null,null,null,null,null,null,null,null,{"$f":"B9*3.28*3.28","v":40076.008256000001},"ft2"]
["Unconditioned Building Area",288.49]
[null,null,null,null,null,null,null,null,null,null,null,null,null,null,null,null,null,null,"efficiency level","base",null,"base",null,"base",null,"stretch",null,"stretch",null,"stretch",null,"ph",null,"ph",null,"ph"]
[null,null,null,null,null,null,null,null,null,null,null,null,null,null,null,null,null,null,"heating","gas",null,"elec",null,"elec",null,"gas",null,"elec",null,"elec",null,"gas",null,"elec",null,"elec"]
["End Uses",null,null,null,null,null,null,null,null,null,null,null,null,null,null,null,null,null,"hot water","gas",null,"gas",null,"elec",null,"gas",null,"gas",null,"elec",null,"gas",null,"gas",null,"elec"]
[]
[null,"Electricity [GJ]","Natural Gas [GJ]","Gasoline [GJ]","Diesel [GJ]","Coal [GJ]","Fuel Oil No 1 [GJ]","Fuel Oil No 2 [GJ]","Propane [GJ]","Other Fuel 1 [GJ]","Other Fuel 2 [GJ]","District Cooling [GJ]","District Heating [GJ]","Water [m3]",null,"Gas (Mbtu/yr)","Elec (Mbtu/yr)","Gas (kbtu/sf-yr)","Elec (kBtu/sf-yr","Gas (kbtu/sf-yr)","Elec (kBtu/sf-yr","Gas (kbtu/sf-yr)","Elec (kBtu/sf-yr","Gas (kbtu/sf-yr)","Elec (kBtu/sf-yr","Gas (kbtu/sf-yr)","Elec (kBtu/sf-yr","Gas (kbtu/sf-yr)","Elec (kBtu/sf-yr","Gas (kbtu/sf-yr)","Elec (kBtu/sf-yr","Gas (kbtu/sf-yr)","Elec (kBtu/sf-yr","Gas (kbtu/sf-yr)","Elec (kBtu/sf-yr","Gas (kbtu/sf-yr)","Elec (kBtu/sf-yr"]
["Heating",173.42,60.98,0,0,0,0,0,0,0,0,0,0,0,null,{"$f":"C16*947817/1000","v":57797.880659999995},{"$f":"B16*947817/1000","v":164370.42413999999},{"$f":"P16/$P$9","v":1.442206526428359},{"$f":"Q16/$P$9","v":4.1014669697147594},{"$f":"R16","v":1.442206526428359},{"$f":"S16","v":4.1014669697147594},{"$f":"0","v":0},{"$f":"(S16*1/3.2)+(R16*0.95/3.2)","v":1.7098634905692811},{"$f":"0","v":0},{"$f":"W16","v":1.7098634905692811},{"$f":"R16*0.3","v":0.4326619579285077},{"$f":"S16*0.3","v":1.2304400909144277},0,{"$f":"(AA16*1/3.2)+(Z16*0.95/3.2)","v":0.51295904717078433},0,{"$f":"AC16","v":0.51295904717078433},{"$f":"R16*0.1","v":0.1442206526428359},{"$f":"S16*0.1","v":0.41014669697147599},0,{"$f":"(AG16*1/3.2)+(AF16*0.95/3.2)","v":0.17098634905692814},0,{"$f":"AI16","v":0.17098634905692814}]
["Cooling",215.53,0,0,0,0,0,0,0,0,0,0,0,0,null,{"$f":"C17*947817/1000","v":0},{"$f":"B17*947817/1000","v":204282.99800999998},{"$f":"P17/$P$9","v":0},5.0973888593162382,{"$f":"R17","v":0},5.0973888593162382,{"$f":"R17","v":0},{"$f":"S17","v":5.0973888593162382},{"$f":"R17","v":0},{"$f":"S17","v":5.0973888593162382},{"$f":"R17","v":0},{"$f":"S17","v":5.0973888593162382},{"$f":"R17","v":0},{"$f":"S17","v":5.0973888593162382},{"$f":"R17","v":0},{"$f":"S17","v":5.0973888593162382},{"$f":"X17","v":0},{"$f":"Y17","v":5.0973888593162382},{"$f":"X17","v":0},{"$f":"Y17","v":5.0973888593162382},{"$f":"X17","v":0},{"$f":"Y17","v":5.0973888593162382}]
["Interior Lighting",199.24,0,0,0,0,0,0,0,0,0,0,0,0,null,0,188843.05908000001,0,4.712122471721651,0,4.712122471721651,{"$f":"R18","v":0},4.712122471721651,{"$f":"R18","v":0},4.712122471721651,{"$f":"R18","v":0},4.712122471721651,{"$f":"R18","v":0},4.712122471721651,{"$f":"R18","v":0},4.712122471721651,{"$f":"X18","v":0},4.712122471721651,{"$f":"X18","v":0},4.712122471721651,{"$f":"X18","v":0},4.712122471721651]
["Exterior Lighting",49.91,0,0,0,0,0,0,0,0,0,0,0,0,null,0,47305.546470000001,0,1.180395666350269,0,1.180395666350269,0,1.180395666350269,0,1.180395666350269,0,1.180395666350269,0,1.180395666350269,0,1.180395666350269,0,1.180395666350269,0,1.180395666350269,0,1.180395666350269]
["Interior Equipment",471.46,421.49,0,0,0,0,0,0,0,0,0,0,0,null,399495.38733,446857.80281999998,9.9684425848522302,11.150257280254413,9.9684425848522302,11.150257280254413,9.9684425848522302,11.150257280254413,9.9684425848522302,11.150257280254413,9.9684425848522302,11.150257280254413,9.9684425848522302,11.150257280254413,9.9684425848522302,11.150257280254413,9.9684425848522302,11.150257280254413,9.9684425848522302,11.150257280254413,9.9684425848522302,11.150257280254413]
["Exterior Equipment",0,0,0,0,0,0,0,0,0,0,0,0,0,null,0,0,0,0,0,0,0,0,0,0,0,0,0,0,0,0,0,0,0,0,0,0]
["Fans",274.75,0,0,0,0,0,0,0,0,0,0,0,0,null,0,260412.72075000001,0,6.4979705335551268,0,6.4979705335551268,0,6.4979705335551268,0,6.4979705335551268,0,6.4979705335551268,0,6.4979705335551268,0,6.4979705335551268,0,6.4979705335551268,0,6.4979705335551268,0,6.4979705335551268]
["Pumps",0.26,0,0,0,0,0,0,0,0,0,0,0,0,null,0,246.43242000000001,0,6.1491258916263258E-3,0,6.1491258916263258E-3,0,6.1491258916263258E-3,0,6.1491258916263258E-3,0,6.1491258916263258E-3,0,6.1491258916263258E-3,0,6.1491258916263258E-3,0,6.1491258916263258E-3,0,6.1491258916263258E-3,0,6.1491258916263258E-3]
["Heat Rejection",0,0,0,0,0,0,0,0,0,0,0,0,0,null,0,0,0,0,0,0,0,0,0,0,0,0,0,0,0,0,0,0,0,0,0,0]
["Humidification",0,0,0,0,0,0,0,0,0,0,0,0,0,null,0,0,0,0,0,0,0,0,0,0,0,0,0,0,0,0,0,0,0,0,0,0]
["Heat Recovery",0,0,0,0,0,0,0,0,0,0,0,0,0,null,0,0,0,0,0,0,0,0,0,0,0,0,0,0,0,0,0,0,0,0,0,0]
["Water Systems",0,1034.06,0,0,0,0,0,0,0,0,0,0,2578.17,null,980099.64702000003,0,24.456019690365842,0,{"$f":"R27+(S27*1/0.95)","v":24.456019690365842},0,{"$f":"T27","v":24.456019690365842},0,0,{"$f":"V27*0.95/2.5","v":9.2932874823390197},{"$f":"T27","v":24.456019690365842},0,{"$f":"Z27","v":24.456019690365842},0,0,{"$f":"Y27","v":9.2932874823390197},{"$f":"Z27","v":24.456019690365842},0,{"$f":"AF27","v":24.456019690365842},0,0,{"$f":"AE27","v":9.2932874823390197}]
["Refrigeration",0,0,0,0,0,0,0,0,0,0,0,0,0,null,0,0,0,0,{"$f":"R28","v":0},0,0,0,0,0,0,0,0,0,0,0,{"$f":"X28","v":0},0,{"$f":"X28","v":0},0,{"$f":"X28","v":0},0]
["Generators",0,0,0,0,0,0,0,0,0,0,0,0,0,null,0,0,0,0,0,0,0,0,0,0,0,0,0,0,0,0,0,0,0,0,0,0]
[]
["Total End Uses",1384.56,1516.53,0,0,0,0,0,0,0,0,0,0,2578.17]
["Note: Natural gas appears to be the principal heating source based on energy usage."]
[null,null,null,null,null,null,null,null,null,null,null,null,null,null,null,null,null,"gas EUI",{"$f":"SUM(R16:R29)","v":35.866668801646433},null,{"$f":"SUM(T16:T29)","v":35.866668801646433},null,{"$f":"SUM(V16:V29)","v":34.424462275218076},null,{"$f":"SUM(X16:X29)","v":9.9684425848522302},null,{"$f":"SUM(Z16:Z29)","v":34.857124233146578},null,{"$f":"SUM(AB16:AB29)","v":34.424462275218076},null,{"$f":"SUM(AD16:AD29)","v":9.9684425848522302},null,{"$f":"SUM(AF16:AF29)","v":34.568682927860905},null,{"$f":"SUM(AH16:AH29)","v":34.424462275218076},null,{"$f":"SUM(AJ16:AJ29)","v":9.9684425848522302}]
[null,null,null,null,null,null,null,null,null,null,null,null,null,null,null,null,null,"elec EUI",{"$f":"SUM(S16:S29)","v":32.745750906804084},null,{"$f":"SUM(U16:U29)","v":32.745750906804084},null,{"$f":"SUM(W16:W29)","v":30.354147427658603},null,{"$f":"SUM(Y16:Y29)","v":39.647434909997621},null,{"$f":"SUM(AA16:AA29)","v":29.874724028003747},null,{"$f":"SUM(AC16:AC29)","v":29.157242984260108},null,{"$f":"SUM(AE16:AE29)","v":38.450530466599126},null,{"$f":"SUM(AG16:AG29)","v":29.0544306340608},null,{"$f":"SUM(AI16:AI29)","v":28.815270286146252},null,{"$f":"SUM(AK16:AK29)","v":38.108557768485269}]

{"sheet":"IECC 2021 large hotel","index":17,"n_rows":34,"n_cols":37,"rows_kept":34,"cut":false,"hidden":true,"merged":[[12,35,12,36],[11,33,11,34],[11,35,11,36],[12,19,12,20],[12,21,12,22],[12,23,12,24],[12,25,12,26],[12,27,12,28],[12,29,12,30],[12,31,12,32],[12,33,12,34],[10,31,10,32],[10,33,10,34],[10,35,10,36],[11,19,11,20],[11,21,11,22],[11,23,11,24],[11,25,11,26],[11,27,11,28],[11,29,11,30],[11,31,11,32],[10,19,10,20],[10,21,10,22],[10,23,10,24],[10,25,10,26],[10,27,10,28],[10,29,10,30]]}
[]
[]
[]
[]
[]
[]
["Area [m2]"]
["Total Building Area",11345.29,null,{"$f":"B8*3.28*3.28","v":122057.167936}]
["Net Conditioned Building Area",11345.29,null,null,null,null,null,null,null,null,null,null,null,null,null,{"$f":"B9*3.28*3.28","v":122057.167936},"ft2"]
["Unconditioned Building Area",0]
[null,null,null,null,null,null,null,null,null,null,null,null,null,null,null,null,null,null,"efficiency level","base",null,"base",null,"base",null,"stretch",null,"stretch",null,"stretch",null,"ph",null,"ph",null,"ph"]
[null,null,null,null,null,null,null,null,null,null,null,null,null,null,null,null,null,null,"heating","gas",null,"elec",null,"elec",null,"gas",null,"elec",null,"elec",null,"gas",null,"elec",null,"elec"]
["End Uses",null,null,null,null,null,null,null,null,null,null,null,null,null,null,null,null,null,"hot water","gas",null,"gas",null,"elec",null,"gas",null,"gas",null,"elec",null,"gas",null,"gas",null,"elec"]
[]
[null,"Electricity [GJ]","Natural Gas [GJ]","Gasoline [GJ]","Diesel [GJ]","Coal [GJ]","Fuel Oil No 1 [GJ]","Fuel Oil No 2 [GJ]","Propane [GJ]","Other Fuel 1 [GJ]","Other Fuel 2 [GJ]","District Cooling [GJ]","District Heating [GJ]","Water [m3]",null,"Gas (Mbtu/yr)","Elec (Mbtu/yr)","Gas (kbtu/sf-yr)","Elec (kBtu/sf-yr","Gas (kbtu/sf-yr)","Elec (kBtu/sf-yr","Gas (kbtu/sf-yr)","Elec (kBtu/sf-yr","Gas (kbtu/sf-yr)","Elec (kBtu/sf-yr","Gas (kbtu/sf-yr)","Elec (kBtu/sf-yr","Gas (kbtu/sf-yr)","Elec (kBtu/sf-yr","Gas (kbtu/sf-yr)","Elec (kBtu/sf-yr","Gas (kbtu/sf-yr)","Elec (kBtu/sf-yr","Gas (kbtu/sf-yr)","Elec (kBtu/sf-yr","Gas (kbtu/sf-yr)","Elec (kBtu/sf-yr"]
["Heating",0,1355.48,0,0,0,0,0,0,0,0,0,0,0,null,{"$f":"C16*947817/1000","v":1284746.98716},{"$f":"B16*947817/1000","v":0},{"$f":"P16/$P$9","v":10.525780737708498},{"$f":"Q16/$P$9","v":0},{"$f":"R16","v":10.525780737708498},{"$f":"S16","v":0},{"$f":"0","v":0},{"$f":"R16*0.95/3.2","v":3.1248411565072103},{"$f":"0","v":0},{"$f":"R16*0.95/3.2","v":3.1248411565072103},{"$f":"R16*0.3","v":3.1577342213125492},{"$f":"S16","v":0},0,{"$f":"Z16*0.95/3.2","v":0.93745234695216295},0,{"$f":"AC16","v":0.93745234695216295},{"$f":"R16*0.1","v":1.0525780737708499},0,0,{"$f":"AF16*0.95/3.2","v":0.31248411565072104},0,{"$f":"AI16","v":0.31248411565072104}]
["Cooling",677.95,0,0,0,0,0,0,0,0,0,0,0,0,null,{"$f":"C17*947817/1000","v":0},{"$f":"B17*947817/1000","v":642572.53515000013},{"$f":"P17/$P$9","v":0},5.2645210929925028,{"$f":"R17","v":0},5.2645210929925028,{"$f":"R17","v":0},{"$f":"S17","v":5.2645210929925028},{"$f":"R17","v":0},{"$f":"S17","v":5.2645210929925028},{"$f":"R17","v":0},{"$f":"S17","v":5.2645210929925028},{"$f":"R17","v":0},{"$f":"S17","v":5.2645210929925028},{"$f":"R17","v":0},{"$f":"S17","v":5.2645210929925028},{"$f":"X17","v":0},{"$f":"Y17","v":5.2645210929925028},{"$f":"X17","v":0},{"$f":"Y17","v":5.2645210929925028},{"$f":"X17","v":0},{"$f":"Y17","v":5.2645210929925028}]
["Interior Lighting",602.89,0,0,0,0,0,0,0,0,0,0,0,0,null,0,571429.39113,0,4.6816536938627467,0,4.6816536938627467,{"$f":"R18","v":0},4.6816536938627467,{"$f":"R18","v":0},4.6816536938627467,{"$f":"R18","v":0},4.6816536938627467,{"$f":"R18","v":0},4.6816536938627467,{"$f":"R18","v":0},4.6816536938627467,{"$f":"X18","v":0},4.6816536938627467,{"$f":"X18","v":0},4.6816536938627467,{"$f":"X18","v":0},4.6816536938627467]
["Exterior Lighting",174.28,0,0,0,0,0,0,0,0,0,0,0,0,null,0,165185.54676,0,1.353345727688964,0,1.353345727688964,0,1.353345727688964,0,1.353345727688964,0,1.353345727688964,0,1.353345727688964,0,1.353345727688964,0,1.353345727688964,0,1.353345727688964,0,1.353345727688964]
["Interior Equipment",1728.14,1788.84,0,0,0,0,0,0,0,0,0,0,0,null,1695492.9622799999,1637960.4703800001,13.890974130818947,13.419617201333523,13.890974130818947,13.419617201333523,13.890974130818947,13.419617201333523,13.890974130818947,13.419617201333523,13.890974130818947,13.419617201333523,13.890974130818947,13.419617201333523,13.890974130818947,13.419617201333523,13.890974130818947,13.419617201333523,13.890974130818947,13.419617201333523,13.890974130818947,13.419617201333523]
["Exterior Equipment",641.49,0,0,0,0,0,0,0,0,0,0,0,0,null,0,608015.12733000005,0,4.9813963211796741,0,4.9813963211796741,0,4.9813963211796741,0,4.9813963211796741,0,4.9813963211796741,0,4.9813963211796741,0,4.9813963211796741,0,4.9813963211796741,0,4.9813963211796741,0,4.9813963211796741]
["Fans",521.04999999999995,0,0,0,0,0,0,0,0,0,0,0,0,null,0,493860.04784999997,0,4.0461372011265473,0,4.0461372011265473,0,4.0461372011265473,0,4.0461372011265473,0,4.0461372011265473,0,4.0461372011265473,0,4.0461372011265473,0,4.0461372011265473,0,4.0461372011265473,0,4.0461372011265473]
["Pumps",99.69,0,0,0,0,0,0,0,0,0,0,0,0,null,0,94487.876730000004,0,0.77412804448767969,0,0.77412804448767969,0,0.77412804448767969,0,0.77412804448767969,0,0.77412804448767969,0,0.77412804448767969,0,0.77412804448767969,0,0.77412804448767969,0,0.77412804448767969,0,0.77412804448767969]
["Heat Rejection",0,0,0,0,0,0,0,0,0,0,0,0,0,null,0,0,0,0,0,0,0,0,0,0,0,0,0,0,0,0,0,0,0,0,0,0]
["Humidification",0,0,0,0,0,0,0,0,0,0,0,0,0,null,0,0,0,0,0,0,0,0,0,0,0,0,0,0,0,0,0,0,0,0,0,0]
["Heat Recovery",173.74,0,0,0,0,0,0,0,0,0,0,0,0,null,0,164673.72558000003,0,1.349152437047743,0,1.349152437047743,0,1.349152437047743,0,1.349152437047743,0,1.349152437047743,0,1.349152437047743,0,1.349152437047743,0,1.349152437047743,0,1.349152437047743,0,1.349152437047743]
["Water Systems",90.75,3262.51,0,0,0,0,0,0,0,0,0,0,9857.19,null,3092262.4406699999,86014.392749999999,25.334541944242151,0.70470578831635,{"$f":"R27+(S27*1/0.95)","v":26.076337510890941},0,{"$f":"T27","v":26.076337510890941},0,0,{"$f":"V27*0.95/2.5","v":9.9090082541385573},{"$f":"T27","v":26.076337510890941},0,{"$f":"Z27","v":26.076337510890941},0,0,{"$f":"Y27","v":9.9090082541385573},{"$f":"Z27","v":26.076337510890941},0,{"$f":"AF27","v":26.076337510890941},0,0,{"$f":"AE27","v":9.9090082541385573}]
["Refrigeration",43.77,0,0,0,0,0,0,0,0,0,0,0,0,null,0,41485.950090000006,0,0.33988950253010075,{"$f":"R28","v":0},0.33988950253010075,0,0.33988950253010075,0,0.33988950253010075,0,0.33988950253010075,0,0.33988950253010075,0,0.33988950253010075,{"$f":"X28","v":0},0.33988950253010075,{"$f":"X28","v":0},0.33988950253010075,{"$f":"X28","v":0},0.33988950253010075]
["Generators",0,0,0,0,0,0,0,0,0,0,0,0,0,null,0,0,0,0,0,0,0,0,0,0,0,0,0,0,0,0,0,0,0,0,0,0]
[]
["Total End Uses",4753.76,6406.83,0,0,0,0,0,0,0,0,0,0,9857.19]
["Note: Natural gas appears to be the principal heating source based on energy usage."]
[null,null,null,null,null,null,null,null,null,null,null,null,null,null,null,null,null,"gas EUI",{"$f":"SUM(R16:R29)","v":49.751296812769596},null,{"$f":"SUM(T16:T29)","v":50.493092379418385},null,{"$f":"SUM(V16:V29)","v":39.967311641709884},null,{"$f":"SUM(X16:X29)","v":13.890974130818947},null,{"$f":"SUM(Z16:Z29)","v":43.125045863022436},null,{"$f":"SUM(AB16:AB29)","v":39.967311641709884},null,{"$f":"SUM(AD16:AD29)","v":13.890974130818947},null,{"$f":"SUM(AF16:AF29)","v":41.019889715480737},null,{"$f":"SUM(AH16:AH29)","v":39.967311641709884},null,{"$f":"SUM(AJ16:AJ29)","v":13.890974130818947}]
[null,null,null,null,null,null,null,null,null,null,null,null,null,null,null,null,null,"elec EUI",{"$f":"SUM(S16:S29)","v":36.914547010565833},null,{"$f":"SUM(U16:U29)","v":36.20984122224948},null,{"$f":"SUM(W16:W29)","v":39.334682378756696},null,{"$f":"SUM(Y16:Y29)","v":49.243690632895252},null,{"$f":"SUM(AA16:AA29)","v":36.20984122224948},null,{"$f":"SUM(AC16:AC29)","v":37.147293569201643},null,{"$f":"SUM(AE16:AE29)","v":47.056301823340199},null,{"$f":"SUM(AG16:AG29)","v":36.20984122224948},null,{"$f":"SUM(AI16:AI29)","v":36.522325337900199},null,{"$f":"SUM(AK16:AK29)","v":46.431333592038754}]

{"sheet":"IECC 2021 hospital","index":18,"n_rows":34,"n_cols":37,"rows_kept":34,"cut":false,"hidden":true,"merged":[[12,35,12,36],[11,33,11,34],[11,35,11,36],[12,19,12,20],[12,21,12,22],[12,23,12,24],[12,25,12,26],[12,27,12,28],[12,29,12,30],[12,31,12,32],[12,33,12,34],[10,31,10,32],[10,33,10,34],[10,35,10,36],[11,19,11,20],[11,21,11,22],[11,23,11,24],[11,25,11,26],[11,27,11,28],[11,29,11,30],[11,31,11,32],[10,19,10,20],[10,21,10,22],[10,23,10,24],[10,25,10,26],[10,27,10,28],[10,29,10,30]]}
[]
[]
[]
[]
[]
[]
["Area [m2]"]
["Total Building Area",22436.18]
["Net Conditioned Building Area",22436.18,null,null,null,null,null,null,null,null,null,null,null,null,null,{"$f":"B9*3.28*3.28","v":241377.398912},"ft2"]
["Unconditioned Building Area",0]
[null,null,null,null,null,null,null,null,null,null,null,null,null,null,null,null,null,null,"efficiency level","base",null,"base",null,"base",null,"stretch",null,"stretch",null,"stretch",null,"ph",null,"ph",null,"ph"]
[null,null,null,null,null,null,null,null,null,null,null,null,null,null,null,null,null,null,"heating","gas",null,"elec",null,"elec",null,"gas",null,"elec",null,"elec",null,"gas",null,"elec",null,"elec"]
["End Uses",null,null,null,null,null,null,null,null,null,null,null,null,null,null,null,null,null,"hot water","gas",null,"gas",null,"elec",null,"gas",null,"gas",null,"elec",null,"gas",null,"gas",null,"elec"]
[]
[null,"Electricity [GJ]","Natural Gas [GJ]","Gasoline [GJ]","Diesel [GJ]","Coal [GJ]","Fuel Oil No 1 [GJ]","Fuel Oil No 2 [GJ]","Propane [GJ]","Other Fuel 1 [GJ]","Other Fuel 2 [GJ]","District Cooling [GJ]","District Heating [GJ]","Water [m3]",null,"Gas (Mbtu/yr)","Elec (Mbtu/yr)","Gas (kbtu/sf-yr)","Elec (kBtu/sf-yr","Gas (kbtu/sf-yr)","Elec (kBtu/sf-yr","Gas (kbtu/sf-yr)","Elec (kBtu/sf-yr","Gas (kbtu/sf-yr)","Elec (kBtu/sf-yr","Gas (kbtu/sf-yr)","Elec (kBtu/sf-yr","Gas (kbtu/sf-yr)","Elec (kBtu/sf-yr","Gas (kbtu/sf-yr)","Elec (kBtu/sf-yr","Gas (kbtu/sf-yr)","Elec (kBtu/sf-yr","Gas (kbtu/sf-yr)","Elec (kBtu/sf-yr","Gas (kbtu/sf-yr)","Elec (kBtu/sf-yr"]
["Heating",0,7751.86,0,0,0,0,0,0,0,0,0,0,0,null,{"$f":"C16*947817/1000","v":7347344.6896200003},{"$f":"B16*947817/1000","v":0},{"$f":"P16/$P$9","v":30.439240470474427},{"$f":"Q16/$P$9","v":0},{"$f":"R16","v":30.439240470474427},{"$f":"S16","v":0},{"$f":"0","v":0},{"$f":"R16*0.95/3.2","v":9.036649514672094},{"$f":"0","v":0},{"$f":"R16*0.95/3.2","v":9.036649514672094},{"$f":"R16*0.3","v":9.1317721411423278},{"$f":"S16","v":0},0,{"$f":"Z16*0.95/3.2","v":2.710994854401628},0,{"$f":"AC16","v":2.710994854401628},{"$f":"R16*0.1","v":3.0439240470474429},0,0,{"$f":"AF16*0.95/3.2","v":0.9036649514672096},0,{"$f":"AI16","v":0.9036649514672096}]
["Cooling",1261.9100000000001,0,0,0,0,0,0,0,0,0,0,0,0,null,{"$f":"C17*947817/1000","v":0},{"$f":"B17*947817/1000","v":1196059.7504700001},{"$f":"P17/$P$9","v":0},4.9551439192782611,{"$f":"R17","v":0},4.9551439192782611,{"$f":"R17","v":0},{"$f":"S17","v":4.9551439192782611},{"$f":"R17","v":0},{"$f":"S17","v":4.9551439192782611},{"$f":"R17","v":0},{"$f":"S17","v":4.9551439192782611},{"$f":"R17","v":0},{"$f":"S17","v":4.9551439192782611},{"$f":"R17","v":0},{"$f":"S17","v":4.9551439192782611},{"$f":"X17","v":0},{"$f":"Y17","v":4.9551439192782611},{"$f":"X17","v":0},{"$f":"Y17","v":4.9551439192782611},{"$f":"X17","v":0},{"$f":"Y17","v":4.9551439192782611}]
["Interior Lighting",3158.26,0,0,0,0,0,0,0,0,0,0,0,0,null,0,2993452.5184200001,0,12.401544353004384,0,12.401544353004384,{"$f":"R18","v":0},12.401544353004384,{"$f":"R18","v":0},12.401544353004384,{"$f":"R18","v":0},12.401544353004384,{"$f":"R18","v":0},12.401544353004384,{"$f":"R18","v":0},12.401544353004384,{"$f":"X18","v":0},12.401544353004384,{"$f":"X18","v":0},12.401544353004384,{"$f":"X18","v":0},12.401544353004384]
["Exterior Lighting",154.27000000000001,0,0,0,0,0,0,0,0,0,0,0,0,null,0,146219.72859000001,0,0.6057722440008062,0,0.6057722440008062,0,0.6057722440008062,0,0.6057722440008062,0,0.6057722440008062,0,0.6057722440008062,0,0.6057722440008062,0,0.6057722440008062,0,0.6057722440008062,0,0.6057722440008062]
["Interior Equipment",6892.76,2791.97,0,0,0,0,0,0,0,0,0,0,0,null,2646276.6294899997,6533075.1049199998,10.963232852031702,27.065811191800069,10.963232852031702,27.065811191800069,10.963232852031702,27.065811191800069,0,{"$f":"(S20*0.9)+(R20/2.5)","v":28.744523213432743},10.963232852031702,27.065811191800069,10.963232852031702,27.065811191800069,0,{"$f":"Y20","v":28.744523213432743},{"$f":"R20","v":10.963232852031702},{"$f":"S20","v":27.065811191800069},{"$f":"R20","v":10.963232852031702},{"$f":"S20","v":27.065811191800069},0,28.744523213432743]
["Exterior Equipment",962.52,0,0,0,0,0,0,0,0,0,0,0,0,null,0,912292.81884000008,0,3.7795287502149222,0,3.7795287502149222,0,3.7795287502149222,0,3.7795287502149222,0,3.7795287502149222,0,3.7795287502149222,0,3.7795287502149222,0,3.7795287502149222,0,3.7795287502149222,0,3.7795287502149222]
["Fans",2988.1,0,0,0,0,0,0,0,0,0,0,0,0,null,0,2832171.9776999997,0,11.733376821798203,0,11.733376821798203,0,11.733376821798203,0,11.733376821798203,0,11.733376821798203,0,11.733376821798203,0,11.733376821798203,0,11.733376821798203,0,11.733376821798203,0,11.733376821798203]
["Pumps",850.13,0,0,0,0,0,0,0,0,0,0,0,0,null,0,805767.66621000005,0,3.338206766010277,0,3.338206766010277,0,3.338206766010277,0,3.338206766010277,0,3.338206766010277,0,3.338206766010277,0,3.338206766010277,0,3.338206766010277,0,3.338206766010277,0,3.338206766010277]
["Heat Rejection",116.06,0,0,0,0,0,0,0,0,0,0,0,5560.41,null,0,110003.64102,0,0.45573297879518743,0,0.45573297879518743,0,0.45573297879518743,0,0.45573297879518743,0,0.45573297879518743,0,0.45573297879518743,0,0.45573297879518743,0,0.45573297879518743,0,0.45573297879518743,0,0.45573297879518743]
["Humidification",1535.82,0,0,0,0,0,0,0,0,0,0,0,571.32000000000005,null,0,1455676.3049399999,0,6.0307067335276994,0,6.0307067335276994,0,6.0307067335276994,0,6.0307067335276994,0,6.0307067335276994,0,6.0307067335276994,0,6.0307067335276994,0,6.0307067335276994,0,6.0307067335276994,0,6.0307067335276994]
["Heat Recovery",189.03,0,0,0,0,0,0,0,0,0,0,0,0,null,0,179165.84750999999,0,0.74226438895101055,0,0.74226438895101055,0,0.74226438895101055,0,0.74226438895101055,0,0.74226438895101055,0,0.74226438895101055,0,0.74226438895101055,0,0.74226438895101055,0,0.74226438895101055,0,0.74226438895101055]
["Water Systems",26.4,1813.9,0,0,0,0,0,0,0,0,0,0,4534.6000000000004,null,1719245.2563000002,25022.368799999997,7.122643893129335,0.10366492021534505,{"$f":"R27+(S27*1/0.95)","v":7.2317648617770667},0,{"$f":"T27","v":7.2317648617770667},0,0,{"$f":"V27*0.95/2.5","v":2.7480706474752852},{"$f":"T27","v":7.2317648617770667},0,{"$f":"Z27","v":7.2317648617770667},0,0,{"$f":"Y27","v":2.7480706474752852},{"$f":"Z27","v":7.2317648617770667},0,{"$f":"AF27","v":7.2317648617770667},0,0,{"$f":"AE27","v":2.7480706474752852}]
["Refrigeration",106.15,0,0,0,0,0,0,0,0,0,0,0,0,null,0,100610.77455000002,0,0.41681936669920006,{"$f":"R28","v":0},0.41681936669920006,0,0.41681936669920006,0,0.41681936669920006,0,0.41681936669920006,0,0.41681936669920006,0,0.41681936669920006,{"$f":"X28","v":0},0.41681936669920006,{"$f":"X28","v":0},0.41681936669920006,{"$f":"X28","v":0},0.41681936669920006]
["Generators",0,0,0,0,0,0,0,0,0,0,0,0,0,null,0,0,0,0,0,0,0,0,0,0,0,0,0,0,0,0,0,0,0,0,0,0]
[]
["Total End Uses",18241.400000000001,12357.74,0,0,0,0,0,0,0,0,0,0,10666.33]
["Note: Natural gas appears to be the principal heating source based on energy usage."]
[null,null,null,null,null,null,null,null,null,null,null,null,null,null,null,null,null,"gas EUI",{"$f":"SUM(R16:R29)","v":48.525117215635461},null,{"$f":"SUM(T16:T29)","v":48.634238184283191},null,{"$f":"SUM(V16:V29)","v":18.194997713808768},null,{"$f":"SUM(X16:X29)","v":0},null,{"$f":"SUM(Z16:Z29)","v":27.326769854951095},null,{"$f":"SUM(AB16:AB29)","v":18.194997713808768},null,{"$f":"SUM(AD16:AD29)","v":0},null,{"$f":"SUM(AF16:AF29)","v":21.238921760856211},null,{"$f":"SUM(AH16:AH29)","v":18.194997713808768},null,{"$f":"SUM(AJ16:AJ29)","v":0}]
[null,null,null,null,null,null,null,null,null,null,null,null,null,null,null,null,null,"elec EUI",{"$f":"SUM(S16:S29)","v":71.628572434295364},null,{"$f":"SUM(U16:U29)","v":71.524907514080013},null,{"$f":"SUM(W16:W29)","v":80.561557028752105},null,{"$f":"SUM(Y16:Y29)","v":84.98833969786007},null,{"$f":"SUM(AA16:AA29)","v":71.524907514080013},null,{"$f":"SUM(AC16:AC29)","v":74.235902368481646},null,{"$f":"SUM(AE16:AE29)","v":78.662685037589597},null,{"$f":"SUM(AG16:AG29)","v":71.524907514080013},null,{"$f":"SUM(AI16:AI29)","v":72.428572465547219},null,{"$f":"SUM(AK16:AK29)","v":76.855355134655184}]

{"sheet":"IECC 2021 apartment midrise","index":19,"n_rows":42,"n_cols":37,"rows_kept":42,"cut":false,"hidden":true,"merged":[[36,27,36,30],[36,31,36,34],[37,27,37,28],[37,29,37,30],[37,31,37,32],[37,33,37,34],[11,33,11,34],[11,35,11,36],[12,19,12,20],[12,21,12,22],[12,23,12,24],[12,25,12,26],[12,27,12,28],[12,29,12,30],[12,31,12,32],[12,33,12,34],[12,35,12,36],[10,31,10,32],[10,33,10,34],[10,35,10,36],[11,19,11,20],[11,21,11,22],[11,23,11,24],[11,25,11,26],[11,27,11,28],[11,29,11,30],[11,31,11,32],[10,19,10,20],[10,21,10,22],[10,23,10,24],[10,25,10,26],[10,27,10,28],[10,29,10,30]]}
[]
[]
[]
[]
[]
[]
["Area [m2]"]
["Total Building Area",3134.61]
["Net Conditioned Building Area",2823.98,null,null,null,null,null,null,null,null,null,null,null,null,null,{"$f":"B9*3.28*3.28","v":30381.506431999995},"ft2"]
["Unconditioned Building Area",310.64]
[null,null,null,null,null,null,null,null,null,null,null,null,null,null,null,null,null,null,"efficiency level","base",null,"base",null,"base",null,"stretch",null,"stretch",null,"stretch",null,"ph",null,"ph",null,"ph"]
[null,null,null,null,null,null,null,null,null,null,null,null,null,null,null,null,null,null,"heating","gas",null,"elec",null,"elec",null,"gas",null,"elec",null,"elec",null,"gas",null,"elec",null,"elec"]
["End Uses",null,null,null,null,null,null,null,null,null,null,null,null,null,null,null,null,null,"hot water","gas",null,"gas",null,"elec",null,"gas",null,"gas",null,"elec",null,"gas",null,"gas",null,"elec"]
[]
[null,"Electricity [GJ]","Natural Gas [GJ]","Gasoline [GJ]","Diesel [GJ]","Coal [GJ]","Fuel Oil No 1 [GJ]","Fuel Oil No 2 [GJ]","Propane [GJ]","Other Fuel 1 [GJ]","Other Fuel 2 [GJ]","District Cooling [GJ]","District Heating [GJ]","Water [m3]",null,"Gas (Mbtu/yr)","Elec (Mbtu/yr)","Gas (kbtu/sf-yr)","Elec (kBtu/sf-yr","Gas (kbtu/sf-yr)","Elec (kBtu/sf-yr","Gas (kbtu/sf-yr)","Elec (kBtu/sf-yr","Gas (kbtu/sf-yr)","Elec (kBtu/sf-yr","Gas (kbtu/sf-yr)","Elec (kBtu/sf-yr","Gas (kbtu/sf-yr)","Elec (kBtu/sf-yr","Gas (kbtu/sf-yr)","Elec (kBtu/sf-yr","Gas (kbtu/sf-yr)","Elec (kBtu/sf-yr","Gas (kbtu/sf-yr)","Elec (kBtu/sf-yr","Gas (kbtu/sf-yr)","Elec (kBtu/sf-yr"]
["Heating",0,251.93,0,0,0,0,0,0,0,0,0,0,0,null,{"$f":"C16*947817/1000","v":238783.53680999999},{"$f":"B16*947817/1000","v":0},{"$f":"P16/$P$9","v":7.859502863837454},{"$f":"Q16/$P$9","v":0},{"$f":"R16","v":7.859502863837454},{"$f":"S16","v":0},{"$f":"0","v":0},{"$f":"R16*0.95/3.2","v":2.3332899127017437},{"$f":"0","v":0},{"$f":"R16*0.95/3.2","v":2.3332899127017437},{"$f":"R16*0.3","v":2.3578508591512359},{"$f":"S16","v":0},0,{"$f":"Z16*0.95/3.2","v":0.69998697381052311},0,{"$f":"AC16","v":0.69998697381052311},{"$f":"R16*0.1","v":0.78595028638374542},0,0,{"$f":"AF16*0.95/3.2","v":0.23332899127017442},0,{"$f":"AI16","v":0.23332899127017442}]
["Cooling",73.09,0,0,0,0,0,0,0,0,0,0,0,0,null,{"$f":"C17*947817/1000","v":0},{"$f":"B17*947817/1000","v":69275.944530000008},{"$f":"P17/$P$9","v":0},2.2802011047429032,{"$f":"R17","v":0},2.2802011047429032,{"$f":"R17","v":0},{"$f":"S17","v":2.2802011047429032},{"$f":"R17","v":0},{"$f":"S17","v":2.2802011047429032},{"$f":"R17","v":0},{"$f":"S17","v":2.2802011047429032},{"$f":"R17","v":0},{"$f":"S17","v":2.2802011047429032},{"$f":"R17","v":0},{"$f":"S17","v":2.2802011047429032},{"$f":"X17","v":0},{"$f":"Y17","v":2.2802011047429032},{"$f":"X17","v":0},{"$f":"Y17","v":2.2802011047429032},{"$f":"X17","v":0},{"$f":"Y17","v":2.2802011047429032}]
["Interior Lighting",64.849999999999994,0,0,0,0,0,0,0,0,0,0,0,0,null,0,61465.932449999993,0,2.0231364296425944,0,2.0231364296425944,{"$f":"R18","v":0},2.0231364296425944,{"$f":"R18","v":0},2.0231364296425944,{"$f":"R18","v":0},2.0231364296425944,{"$f":"R18","v":0},2.0231364296425944,{"$f":"R18","v":0},2.0231364296425944,{"$f":"X18","v":0},2.0231364296425944,{"$f":"X18","v":0},2.0231364296425944,{"$f":"X18","v":0},2.0231364296425944]
["Exterior Lighting",32.130000000000003,0,0,0,0,0,0,0,0,0,0,0,0,null,0,30453.360210000003,0,1.002365049875352,0,1.002365049875352,0,1.002365049875352,0,1.002365049875352,0,1.002365049875352,0,1.002365049875352,0,1.002365049875352,0,1.002365049875352,0,1.002365049875352,0,1.002365049875352]
["Interior Equipment",452.09,0,0,0,0,0,0,0,0,0,0,0,0,null,0,428498.58752999996,0,14.103928272584744,0,14.103928272584744,0,14.103928272584744,0,14.103928272584744,0,14.103928272584744,0,14.103928272584744,0,14.103928272584744,0,14.103928272584744,0,14.103928272584744,0,14.103928272584744]
["Exterior Equipment",0,0,0,0,0,0,0,0,0,0,0,0,0,null,0,0,0,0,0,0,0,0,0,0,0,0,0,0,0,0,0,0,0,0,0,0]
["Fans",87.38,0,0,0,0,0,0,0,0,0,0,0,0,null,0,82820.249459999992,0,2.7260086541583641,0,2.7260086541583641,0,2.7260086541583641,0,2.7260086541583641,0,2.7260086541583641,0,2.7260086541583641,0,2.7260086541583641,0,2.7260086541583641,0,2.7260086541583641,0,2.7260086541583641]
["Pumps",0,0,0,0,0,0,0,0,0,0,0,0,0,null,0,0,0,0,0,0,0,0,0,0,0,0,0,0,0,0,0,0,0,0,0,0]
["Heat Rejection",0,0,0,0,0,0,0,0,0,0,0,0,0,null,0,0,0,0,0,0,0,0,0,0,0,0,0,0,0,0,0,0,0,0,0,0]
["Humidification",0,0,0,0,0,0,0,0,0,0,0,0,0,null,0,0,0,0,0,0,0,0,0,0,0,0,0,0,0,0,0,0,0,0,0,0]
["Heat Recovery",0,0,0,0,0,0,0,0,0,0,0,0,0,null,0,0,0,0,0,0,0,0,0,0,0,0,0,0,0,0,0,0,0,0,0,0]
["Water Systems",479.6,0,0,0,0,0,0,0,0,0,0,0,1875.32,null,0,454573.03320000006,0,14.962162400255799,{"$f":"R27+(S27*1/0.95)","v":15.749644631848211},0,{"$f":"T27","v":15.749644631848211},0,0,{"$f":"V27*0.95/2.5","v":5.9848649601023194},{"$f":"T27","v":15.749644631848211},0,{"$f":"Z27","v":15.749644631848211},0,0,{"$f":"Y27","v":5.9848649601023194},{"$f":"Z27","v":15.749644631848211},0,{"$f":"AF27","v":15.749644631848211},0,0,{"$f":"AE27","v":5.9848649601023194}]
["Refrigeration",0,0,0,0,0,0,0,0,0,0,0,0,0,null,0,0,0,0,{"$f":"R28","v":0},0,0,0,0,0,0,0,0,0,0,0,{"$f":"X28","v":0},0,{"$f":"X28","v":0},0,{"$f":"X28","v":0},0]
["Generators",0,0,0,0,0,0,0,0,0,0,0,0,0,null,0,0,0,0,0,0,0,0,0,0,0,0,0,0,0,0,0,0,0,0,0,0]
[]
["Total End Uses",1189.1500000000001,251.93,0,0,0,0,0,0,0,0,0,0,1875.32]
["Note: Natural gas appears to be the principal heating source based on energy usage."]
[null,null,null,null,null,null,null,null,null,null,null,null,null,null,null,null,null,"gas EUI",{"$f":"SUM(R16:R29)","v":7.859502863837454},null,{"$f":"SUM(T16:T29)","v":23.609147495685665},null,{"$f":"SUM(V16:V29)","v":15.749644631848211},null,{"$f":"SUM(X16:X29)","v":0},{"$f":"AB41","v":15.2},{"$f":"SUM(Z16:Z29)","v":18.107495490999447},null,{"$f":"SUM(AB16:AB29)","v":15.749644631848211},{"$f":"AD41","v":0},{"$f":"SUM(AD16:AD29)","v":0},{"$f":"AF41","v":10.9},{"$f":"SUM(AF16:AF29)","v":16.535594918231958},null,{"$f":"SUM(AH16:AH29)","v":15.749644631848211},{"$f":"AH41","v":0},{"$f":"SUM(AJ16:AJ29)","v":0}]
[null,null,null,null,null,null,null,null,null,null,null,null,null,null,null,null,null,"elec EUI",{"$f":"SUM(S16:S29)","v":37.097801911259758},null,{"$f":"SUM(U16:U29)","v":22.135639511003959},null,{"$f":"SUM(W16:W29)","v":24.468929423705699},null,{"$f":"SUM(Y16:Y29)","v":30.453794383808017},{"$f":"AC41","v":21.3},{"$f":"SUM(AA16:AA29)","v":22.135639511003959},null,{"$f":"SUM(AC16:AC29)","v":22.83562648481448},{"$f":"AE41","v":30.4},{"$f":"SUM(AE16:AE29)","v":28.820491444916797},{"$f":"AG41","v":21.2},{"$f":"SUM(AG16:AG29)","v":22.135639511003959},null,{"$f":"SUM(AI16:AI29)","v":22.368968502274132},{"$f":"AI41","v":29},{"$f":"SUM(AK16:AK29)","v":28.35383346237645}]
[]
[]
[null,null,null,null,null,null,null,null,null,null,null,null,null,null,null,null,null,null,null,null,null,null,null,null,null,null,null,"Stretch Code",null,null,null,"Passive House"]
[null,null,null,null,null,null,null,null,null,null,null,null,null,null,null,null,null,null,null,null,null,null,null,null,null,null,"scneario name","gas",null,"electric",null,"gas",null,"electric"]
[]
[null,null,null,null,null,null,null,null,null,null,null,null,null,null,null,null,null,null,null,null,null,null,null,null,null,null,null,"gas EUI","elec EUI","gas EUI","elec EUI","gas EUI","elec EUI","gas EUI","elec EUI"]
[null,null,null,null,null,null,null,null,null,null,null,null,null,null,null,null,null,null,null,null,null,null,null,null,null,null,"MF midrise - slab on grade",15.2,21.3,0,30.4,10.9,21.2,0,29]
[null,null,null,null,null,null,null,null,null,null,null,null,null,null,null,null,null,null,null,null,null,null,null,null,null,null,"MF midrise - podium",10.9,26.7,0,31.2,6.1,27.7,0,30.9]

{"sheet":"IECC 2021 high rise MF","index":20,"n_rows":43,"n_cols":37,"rows_kept":43,"cut":false,"hidden":true,"merged":[[38,27,38,30],[38,31,38,34],[39,27,39,28],[39,29,39,30],[39,31,39,32],[39,33,39,34],[11,33,11,34],[11,35,11,36],[12,19,12,20],[12,21,12,22],[12,23,12,24],[12,25,12,26],[12,27,12,28],[12,29,12,30],[12,31,12,32],[12,33,12,34],[12,35,12,36],[10,31,10,32],[10,33,10,34],[10,35,10,36],[11,19,11,20],[11,21,11,22],[11,23,11,24],[11,25,11,26],[11,27,11,28],[11,29,11,30],[11,31,11,32],[10,19,10,20],[10,21,10,22],[10,23,10,24],[10,25,10,26],[10,27,10,28],[10,29,10,30]]}
[]
[]
[]
[]
[]
[]
["Area [m2]"]
["Total Building Area",7836.48]
["Net Conditioned Building Area",7059.89,null,null,null,null,null,null,null,null,null,null,null,null,null,{"$f":"B9*3.28*3.28","v":75953.120576000001},"ft2"]
["Unconditioned Building Area",776.58]
[null,null,null,null,null,null,null,null,null,null,null,null,null,null,null,null,null,null,"efficiency level","base",null,"base",null,"base",null,"stretch",null,"stretch",null,"stretch",null,"ph",null,"ph",null,"ph"]
[null,null,null,null,null,null,null,null,null,null,null,null,null,null,null,null,null,null,"heating","gas",null,"elec",null,"elec",null,"gas",null,"elec",null,"elec",null,"gas",null,"elec",null,"elec"]
["End Uses",null,null,null,null,null,null,null,null,null,null,null,null,null,null,null,null,null,"hot water","gas",null,"gas",null,"elec",null,"gas",null,"gas",null,"elec",null,"gas",null,"gas",null,"elec"]
[]
[null,"Electricity [GJ]","Natural Gas [GJ]","Gasoline [GJ]","Diesel [GJ]","Coal [GJ]","Fuel Oil No 1 [GJ]","Fuel Oil No 2 [GJ]","Propane [GJ]","Other Fuel 1 [GJ]","Other Fuel 2 [GJ]","District Cooling [GJ]","District Heating [GJ]","Water [m3]",null,"Gas (Mbtu/yr)","Elec (Mbtu/yr)","Gas (kbtu/sf-yr)","Elec (kBtu/sf-yr","Gas (kbtu/sf-yr)","Elec (kBtu/sf-yr","Gas (kbtu/sf-yr)","Elec (kBtu/sf-yr","Gas (kbtu/sf-yr)","Elec (kBtu/sf-yr","Gas (kbtu/sf-yr)","Elec (kBtu/sf-yr","Gas (kbtu/sf-yr)","Elec (kBtu/sf-yr","Gas (kbtu/sf-yr)","Elec (kBtu/sf-yr","Gas (kbtu/sf-yr)","Elec (kBtu/sf-yr","Gas (kbtu/sf-yr)","Elec (kBtu/sf-yr","Gas (kbtu/sf-yr)","Elec (kBtu/sf-yr"]
["Heating",207.38,623.28,0,0,0,0,0,0,0,0,0,0,0,null,{"$f":"C16*947817/1000","v":590755.37976000004},{"$f":"B16*947817/1000","v":196558.28946},{"$f":"P16/$P$9","v":7.7778947761452413},{"$f":"Q16/$P$9","v":2.5878895820128993},{"$f":"R16","v":7.7778947761452413},{"$f":"S16","v":2.5878895820128993},{"$f":"0","v":0},{"$f":"(S16*1/3.2)+(R16*0.95/3.2)","v":3.1177780060471494},{"$f":"0","v":0},{"$f":"W16","v":3.1177780060471494},{"$f":"R16*0.3","v":2.3333684328435722},{"$f":"S16*0.3","v":0.77636687460386977},0,{"$f":"(AA16*1/3.2)+(Z16*0.95/3.2)","v":0.9353334018141447},0,{"$f":"AC16","v":0.9353334018141447},{"$f":"R16*0.1","v":0.77778947761452422},{"$f":"S16*0.1","v":0.25878895820128994},0,{"$f":"(AG16*1/3.2)+(AF16*0.95/3.2)","v":0.31177780060471494},0,{"$f":"AI16","v":0.31177780060471494}]
["Cooling",178.68,0,0,0,0,0,0,0,0,0,0,0,0,null,{"$f":"C17*947817/1000","v":0},{"$f":"B17*947817/1000","v":169355.94156000001},{"$f":"P17/$P$9","v":0},2.2297430345938127,{"$f":"R17","v":0},2.2297430345938127,{"$f":"R17","v":0},{"$f":"S17","v":2.2297430345938127},{"$f":"R17","v":0},{"$f":"S17","v":2.2297430345938127},{"$f":"R17","v":0},{"$f":"S17","v":2.2297430345938127},{"$f":"R17","v":0},{"$f":"S17","v":2.2297430345938127},{"$f":"R17","v":0},{"$f":"S17","v":2.2297430345938127},{"$f":"X17","v":0},{"$f":"Y17","v":2.2297430345938127},{"$f":"X17","v":0},{"$f":"Y17","v":2.2297430345938127},{"$f":"X17","v":0},{"$f":"Y17","v":2.2297430345938127}]
["Interior Lighting",160.01,0,0,0,0,0,0,0,0,0,0,0,0,null,0,151660.19816999999,0,1.9967605941647411,0,1.9967605941647411,{"$f":"R18","v":0},1.9967605941647411,{"$f":"R18","v":0},1.9967605941647411,{"$f":"R18","v":0},1.9967605941647411,{"$f":"R18","v":0},1.9967605941647411,{"$f":"R18","v":0},1.9967605941647411,{"$f":"X18","v":0},1.9967605941647411,{"$f":"X18","v":0},1.9967605941647411,{"$f":"X18","v":0},1.9967605941647411]
["Exterior Lighting",119.07,0,0,0,0,0,0,0,0,0,0,0,0,null,0,112856.57019,0,1.4858714077069917,0,1.4858714077069917,0,1.4858714077069917,0,1.4858714077069917,0,1.4858714077069917,0,1.4858714077069917,0,1.4858714077069917,0,1.4858714077069917,0,1.4858714077069917,0,1.4858714077069917]
["Interior Equipment",1113.51,0,0,0,0,0,0,0,0,0,0,0,0,null,0,1055403.7076699999,0,13.895462091171682,0,13.895462091171682,0,13.895462091171682,0,13.895462091171682,0,13.895462091171682,0,13.895462091171682,0,13.895462091171682,0,13.895462091171682,0,13.895462091171682,0,13.895462091171682]
["Exterior Equipment",14.47,0,0,0,0,0,0,0,0,0,0,0,0,null,0,13714.911990000001,0,0.18057075056286362,0,0.18057075056286362,0,0.18057075056286362,0,0.18057075056286362,0,0.18057075056286362,0,0.18057075056286362,0,0.18057075056286362,0,0.18057075056286362,0,0.18057075056286362,0,0.18057075056286362]
["Fans",217.39,0,0,0,0,0,0,0,0,0,0,0,0,null,0,206045.93763,0,2.7128041095273616,0,2.7128041095273616,0,2.7128041095273616,0,2.7128041095273616,0,2.7128041095273616,0,2.7128041095273616,0,2.7128041095273616,0,2.7128041095273616,0,2.7128041095273616,0,2.7128041095273616]
["Pumps",92.87,0,0,0,0,0,0,0,0,0,0,0,0,null,0,88023.764790000001,0,1.1589222947320763,0,1.1589222947320763,0,1.1589222947320763,0,1.1589222947320763,0,1.1589222947320763,0,1.1589222947320763,0,1.1589222947320763,0,1.1589222947320763,0,1.1589222947320763,0,1.1589222947320763]
["Heat Rejection",2.59,0,0,0,0,0,0,0,0,0,0,0,586.20000000000005,null,0,2454.8460299999997,0,3.2320542084161484E-2,0,3.2320542084161484E-2,0,3.2320542084161484E-2,0,3.2320542084161484E-2,0,3.2320542084161484E-2,0,3.2320542084161484E-2,0,3.2320542084161484E-2,0,3.2320542084161484E-2,0,3.2320542084161484E-2,0,3.2320542084161484E-2]
["Humidification",0,0,0,0,0,0,0,0,0,0,0,0,0,null,0,0,0,0,0,0,0,0,0,0,0,0,0,0,0,0,0,0,0,0,0,0]
["Heat Recovery",0,0,0,0,0,0,0,0,0,0,0,0,0,null,0,0,0,0,0,0,0,0,0,0,0,0,0,0,0,0,0,0,0,0,0,0]
["Water Systems",0,1212.99,0,0,0,0,0,0,0,0,0,0,4779.5200000000004,null,1149692.5428299999,0,15.136870402574148,0,{"$f":"R27","v":15.136870402574148},0,{"$f":"T27","v":15.136870402574148},0,0,{"$f":"V27*0.95/2.5","v":5.7520107529781761},{"$f":"T27","v":15.136870402574148},0,{"$f":"Z27","v":15.136870402574148},0,0,{"$f":"Y27","v":5.7520107529781761},{"$f":"Z27","v":15.136870402574148},0,{"$f":"AF27","v":15.136870402574148},0,0,{"$f":"AE27","v":5.7520107529781761}]
["Refrigeration",0,0,0,0,0,0,0,0,0,0,0,0,0,null,0,0,0,0,{"$f":"R28","v":0},0,0,0,0,0,0,0,0,0,0,0,{"$f":"X28","v":0},0,{"$f":"X28","v":0},0,{"$f":"X28","v":0},0]
["Generators",0,0,0,0,0,0,0,0,0,0,0,0,0,null,0,0,0,0,0,0,0,0,0,0,0,0,0,0,0,0,0,0,0,0,0,0]
[]
["Total End Uses",2105.98,1836.26,0,0,0,0,0,0,0,0,0,0,5365.71]
["Note: Natural gas appears to be the principal heating source based on energy usage."]
[null,null,null,null,null,null,null,null,null,null,null,null,null,null,null,null,null,"gas EUI",{"$f":"SUM(R16:R29)","v":22.914765178719389},null,{"$f":"SUM(T16:T29)","v":22.914765178719389},null,{"$f":"SUM(V16:V29)","v":15.136870402574148},null,{"$f":"SUM(X16:X29)","v":0},{"$f":"AB43","v":13.3},{"$f":"SUM(Z16:Z29)","v":17.470238835417721},null,{"$f":"SUM(AB16:AB29)","v":15.136870402574148},{"$f":"AD43","v":0},{"$f":"SUM(AD16:AD29)","v":0},{"$f":"AF43","v":8.9},{"$f":"SUM(AF16:AF29)","v":15.914659880188673},null,{"$f":"SUM(AH16:AH29)","v":15.136870402574148},{"$f":"AH43","v":0},{"$f":"SUM(AJ16:AJ29)","v":0}]
[null,null,null,null,null,null,null,null,null,null,null,null,null,null,null,null,null,"elec EUI",{"$f":"SUM(S16:S29)","v":26.280344406556587},null,{"$f":"SUM(U16:U29)","v":26.280344406556587},null,{"$f":"SUM(W16:W29)","v":26.810232830590842},null,{"$f":"SUM(Y16:Y29)","v":32.562243583569014},{"$f":"AC43","v":26.5},{"$f":"SUM(AA16:AA29)","v":24.468821699147561},null,{"$f":"SUM(AC16:AC29)","v":24.627788226357836},{"$f":"AE43","v":34.6},{"$f":"SUM(AE16:AE29)","v":30.379798979336012},{"$f":"AG43","v":31.2},{"$f":"SUM(AG16:AG29)","v":23.951243782744982},null,{"$f":"SUM(AI16:AI29)","v":24.004232625148404},{"$f":"AI43","v":34.9},{"$f":"SUM(AK16:AK29)","v":29.75624337812658}]
[]
[]
[]
[]
[null,null,null,null,null,null,null,null,null,null,null,null,null,null,null,null,null,null,null,null,null,null,null,null,null,null,null,{"$f":"'SWA data'!E2","v":"Stretch Code"},{"$f":"'SWA data'!F2","v":0},{"$f":"'SWA data'!G2","v":0},{"$f":"'SWA data'!H2","v":0},{"$f":"'SWA data'!I2","v":"Passive House"},{"$f":"'SWA data'!J2","v":0},{"$f":"'SWA data'!K2","v":0},{"$f":"'SWA data'!L2","v":0}]
[null,null,null,null,null,null,null,null,null,null,null,null,null,null,null,null,null,null,null,null,null,null,null,null,null,null,{"$f":"'SWA data'!D3","v":"scneario name"},{"$f":"'SWA data'!E3","v":"gas"},{"$f":"'SWA data'!F3","v":0},{"$f":"'SWA data'!G3","v":"electric"},{"$f":"'SWA data'!H3","v":0},{"$f":"'SWA data'!I3","v":"gas"},{"$f":"'SWA data'!J3","v":0},{"$f":"'SWA data'!K3","v":"electric"},{"$f":"'SWA data'!L3","v":0}]
[]
[null,null,null,null,null,null,null,null,null,null,null,null,null,null,null,null,null,null,null,null,null,null,null,null,null,null,null,{"$f":"'SWA data'!E5","v":"gas EUI"},{"$f":"'SWA data'!F5","v":"elec EUI"},{"$f":"'SWA data'!G5","v":"gas EUI"},{"$f":"'SWA data'!H5","v":"elec EUI"},{"$f":"'SWA data'!I5","v":"gas EUI"},{"$f":"'SWA data'!J5","v":"elec EUI"},{"$f":"'SWA data'!K5","v":"gas EUI"},{"$f":"'SWA data'!L5","v":"elec EUI"}]
[null,null,null,null,null,null,null,null,null,null,null,null,null,null,null,null,null,null,null,null,null,null,null,null,null,null,{"$f":"'SWA data'!D7","v":"MF highrise"},{"$f":"'SWA data'!E7","v":13.3},{"$f":"'SWA data'!F7","v":26.5},{"$f":"'SWA data'!G7","v":0},{"$f":"'SWA data'!H7","v":34.6},{"$f":"'SWA data'!I7","v":8.9},{"$f":"'SWA data'!J7","v":31.2},{"$f":"'SWA data'!K7","v":0},{"$f":"'SWA data'!L7","v":34.9}]