Workbook
Name Advocacy: Lookup!$F$4:$F$11
Name Community: Lookup!$G$4:$G$17
Name Health: Lookup!$E$4:$E$11
Name Housing: Lookup!$D$4:$D$17
Name Main: Lookup!$C$4:$C$7

Sheet Instructions
B2: Independent Living Supports (ILS) Service Plan Instructions | L2: Published 7/2026
B4: Instructions for Providers
B5: The Assessment tab is the only tab that requires data entry. All information inputted into this tab will transfer over to the Service Plan. The Service Plan includes a summary of hours per week, tasks/goals, and the rate level for contracting.
B7: Fields are color coded based on the type of data entry.
B8: Choose from the drop down list
B9: Choose from the drop down list OR enter data manually
B10: Enter data manually
B12: 1. Name: enter the individual's full legal name, beginning with the first name, then last.
B13: 2. SSN: enter the last four digits of the individual's social security number.
B14: 3. Life Domain: select the appropriate life domain from the four options; the options are:
B15: Health (Health and Personal Support) includes tasks in Healthcare Management, Personal Care Assistant (PCA) Management, and Durable Medical Equipment and Assistive Technology.
B16: Housing (Household Management) includes tasks in Household Management, Mail Management and Bill Paying, Money Management, Meal Planning and Preparation, and Food Shopping.
B17: Advocacy (Advocacy & Legal Support) includes Advocacy and Self-Advocacy, Legal, and Obtaining and Maintaining Affordable, Accessible Housing.
... B28: 7. Comments: this space can be used to add more details about the support provided; if the life domain has more than 7 tasks/goals, outline the additional ones here

Sheet Life Domains
B2: Life Domains
B4: Housing | C4: Health | D4: Advocacy | E4: Community
B5: Household Management | C5: Health & Personal Support | D5: Advocacy & Legal Support | E5: Community Engagement
B6: Household Management: Support in maintaining a clean and safe living environment. | C6: Personal Care Assistant (PCA) Management: Support in recruiting, training, and managing PCA staff. | D6: Advocacy and Self-Advocacy: Empower individuals to express rights, needs, and preferences effectively. | E6: Transportation: Assist in arranging transportation for medical appointments, employment, or community engagement.
B7: Household Management: Help establish and maintain routines for tasks such as cleaning, laundry, and organizing, using assistive technology or visual supports as needed. | C7: Personal Care Assistant (PCA) Management: Assist with scheduling, communication, and addressing issues that may arise. | D7: Advocacy and Self-Advocacy: Support the development of communication skills and self-confidence. | E7: Transportation: Teach skills for using public transportation systems independently.
B8: Household Management: Assist in coordinating home services such as cleaning and cable company. | C8: Personal Care Assistant (PCA) Management: Ensure that care needs are being met and services follow guidelines and individual preferences. | D8: Advocacy and Self-Advocacy: Provide advocacy additional support is needed to navigate systems or access resources. | E8: Transportation: Connect to paratransit or subsidized transportation programs when appropriate.
B9: Mail Management and Bill Paying: Support in organizing incoming mail, recognizing important documents, and understanding correspondence. | C9: Durable Medical Equipment and Assistive Technology: Help obtain and maintain necessary medical or adaptive devices (e.g., wheelchairs, walkers, hearing aids). | D9: Legal: Identify potential legal issues (e.g., housing rights, guardianship, custody, benefits appeals). | E9: Companionship: Support in accessing social connections and emotional support to reduce loneliness or isolation.
B10: Mail Management and Bill Paying: Supporting paying bills, tracking due dates, and managing financial obligations. | C10: Durable Medical Equipment and Assistive Technology: Support learning how to use and care for equipment effectively. | D10: Legal: Support in understanding legal processes and connecting with legal resources as needed. | E10: Companionship: Encourage participation in activities that foster a sense of belonging and emotional well-being.
B11: Money Management: Support in building financial literacy, including budgeting, tracking expenses, and using banking services. | C11: Durable Medical Equipment and Assistive Technology: Support to use assistive technology to support independent living skills. | D11: Accessible Housing: Support in identifying safe, affordable housing that meets accessibility needs. | E11: Companionship: Support internet safety by talking about privacy, personal information, and recognizing online risks.
B12: Money Management: Act as Representative Payee, when designated, to manage Social Security or other benefits responsibly. | C12: Healthcare Management: Support individuals in accessing and managing care across healthcare providers. | D12: Accessible Housing: Assist with housing applications, understanding lease agreements, communicating with landlords, and resolving housing-related concerns. | E12: Relationships: Educate and support in developing healthy relationships, including setting boundaries and resolving conflicts.
B13: Money Management: Educate individuals on recognizing and preventing financial exploitation. | C13: Healthcare Management: Assist with scheduling appointments, managing medications, and understanding health-related information and decisions. | D13: Accessible Housing: Connect individuals to housing assistance programs or subsidies as appropriate. | E13: Relationships: Provide coaching to navigate challenges related to family, friendships, or romantic relationships.
B14: Meal Planning and Preparation: Assist in planning balanced meals in line with dietary preferences and health needs. | E14: Relationships: Refer to counseling or professional services when needed.
B15: Meal Planning and Preparation: Teach cooking skills or help coordinate access to meal delivery services. | E15: Leisure Planning: Foster opportunities to explore meaningful recreational activities.
B16: Meal Planning and Preparation: Monitor nutrition-related concerns and refer to professionals when appropriate. | E16: Leisure Planning: Encourage lifelong learning and engagement in leisure activities that align with personal goals and values.
B17: Food Shopping: Support with grocery shopping, either in person or through delivery services. | E17: Participation in Community Activities: Encourage and support in engaging in social, cultural, educational, or volunteer opportunities.
B18: Food Shopping: Teach skills such as creating shopping lists, comparing prices, and using food assistance programs | E18: Participation in Community Activities: Help reduce isolation by fostering meaningful community connections.
B19: Food Shopping: Ensure access to food that meets cultural, dietary, and health requirements. | E19: Participation in Community Activities: Identify inclusive and accessible options that align with interests.

Sheet Assessment
B2: ILS Assessment Tool
F3: Instructions:
F4: Choose from the drop down list
B5: Name: | F5: Choose from the drop down list OR enter data manually
B6: SSN: *last 4* | F6: Enter data manually
C8: Life Domain | F8: Support Tasks/Individual Goals | H8: Comments
E9: 1
C10: =IFERROR(INDEX(Lookup!$A$4:$A$7,MATCH(C9,Main,0)),"") | E10: 2
E11: 3
C12: Service Level | E12: 4
E13: 5
E14: 6
C15: Hours per Week: | E15: 7
C16: Units per Week (15-min Interval): | D16: =IFERROR(ROUND(IF(D15*4=0," ",D15*4),0),"") | E16: 8
E17: 9
C19: Life Domain | F19: Support Tasks/Individual Goals | H19: Comments
E20: 1
C21: =IFERROR(INDEX(Lookup!$A$4:$A$7,MATCH(C20,Main,0)),"") | E21: 2
E22: 3
C23: Service Level | E23: 4
E24: 5
E25: 6
C26: Hours per Week: | E26: 7
C27: Units per Week (15-min Interval): | D27: =IFERROR(ROUND(IF(D26*4=0," ",D26*4),0),"")
E29: 10
C30: Life Domain | F30: Support Tasks/Individual Goals | H30: Comments
E31: 1
E32: 2
E33: 3
C34: Service Level | E34: 4
E35: 5
E36: 6
C37: Hours per Week: | E37: 7
C38: Units per Week (15-min Interval): | D38: =IFERROR(ROUND(IF(D37*4=0," ",D37*4),0),"")
E40: 10
C41: Life Domain | E41: 1 | F41: Support Tasks/Individual Goals | H41: Comments
E42: 2
C43: =IFERROR(INDEX(Lookup!$A$4:$A$7,MATCH(C42,Main,0)),"") | E43: 3
E44: 4
C45: Service Level | E45: 5
...

Sheet Service Plan
C2: ILS Service Plan
L3: **if dollar is $5k or more, make the rate pink/maroon flag --> conditional formatting
C4: Name: | D4: =Assessment!C5 -> 0 | E4: Rate: | F4: =Math!K11 -> A | G4: =Math!J11 -> 0 | I4: Total hours per week: | J4: =Math!E8 -> 0
C5: SSN: *last 4* | D5: =Assessment!C6 -> 0 | I5: Total units per week: | J5: =Math!F8 -> 0
I6: Total units per year: | J6: =J5*52 -> 0
C8: DDS Approval
C9: Signature | I9: DDS Internal Comments
C11: Date:
C15: =IF(Assessment!$C$9=0,"",Assessment!$C$9) | E15: =IFERROR(INDEX(Lookup!$A$4:$A$8,MATCH(C15,Main,0)),"") | I15: Service Level: | J15: =IF(Assessment!C13=0,"",Assessment!C13)
F16: Hrs per week: | G16: =Assessment!$D$15 -> 0 | I16: Units per week: | J16: =ROUND(G16*4,0) -> 0
D18: Support Tasks/Individual Goals
C19: 1 | D19: =IF(INDEX(Assessment!$F$9:$F$17,MATCH(C19,Assessment!$E$9:$E$17,0))=0,"",INDEX(Assessment!$F$9:$F$17,MATCH(C19,Assessment!$E$9:$E$17,0)))
C20: 2 | D20: =IF(INDEX(Assessment!$F$9:$F$17,MATCH(C20,Assessment!$E$9:$E$17,0))=0,"",INDEX(Assessment!$F$9:$F$17,MATCH(C20,Assessment!$E$9:$E$17,0)))
C21: 3 | D21: =IF(INDEX(Assessment!$F$9:$F$17,MATCH(C21,Assessment!$E$9:$E$17,0))=0,"",INDEX(Assessment!$F$9:$F$17,MATCH(C21,Assessment!$E$9:$E$17,0)))
C22: 4 | D22: =IF(INDEX(Assessment!$F$9:$F$17,MATCH(C22,Assessment!$E$9:$E$17,0))=0,"",INDEX(Assessment!$F$9:$F$17,MATCH(C22,Assessment!$E$9:$E$17,0)))
C23: 5 | D23: =IF(INDEX(Assessment!$F$9:$F$17,MATCH(C23,Assessment!$E$9:$E$17,0))=0,"",INDEX(Assessment!$F$9:$F$17,MATCH(C23,Assessment!$E$9:$E$17,0)))
C24: 6 | D24: =IF(INDEX(Assessment!$F$9:$F$17,MATCH(C24,Assessment!$E$9:$E$17,0))=0,"",INDEX(Assessment!$F$9:$F$17,MATCH(C24,Assessment!$E$9:$E$17,0)))
C25: 7 | D25: =IF(INDEX(Assessment!$F$9:$F$17,MATCH(C25,Assessment!$E$9:$E$17,0))=0,"",INDEX(Assessment!$F$9:$F$17,MATCH(C25,Assessment!$E$9:$E$17,0)))
D27: COMMENTS
D28: =IF(Assessment!H9=0,"",Assessment!H9)
C34: =IF(Assessment!$C$20=0,"",Assessment!$C$20) | E34: =IFERROR(INDEX(Lookup!$A$4:$A$8,MATCH(C34,Main,0)),"") | I34: Service Level: | J34: =IF(Assessment!C24=0,"",Assessment!C24)
F35: Hrs per week: | G35: =Assessment!$D$26 -> 0 | I35: Units per week: | J35: =ROUND(G35*4,0) -> 0
D37: Support Tasks/Individual Goals
C38: 1 | D38: =IF(INDEX(Assessment!$F$20:$F$29,MATCH(C38,Assessment!$E$20:$E$29,0))=0,"",INDEX(Assessment!$F$20:$F$29,MATCH(C38,Assessment!$E$20:$E$29,0)))
C39: 2 | D39: =IF(INDEX(Assessment!$F$20:$F$29,MATCH(C39,Assessment!$E$20:$E$29,0))=0,"",INDEX(Assessment!$F$20:$F$29,MATCH(C39,Assessment!$E$20:$E$29,0)))
C40: 3 | D40: =IF(INDEX(Assessment!$F$20:$F$29,MATCH(C40,Assessment!$E$20:$E$29,0))=0,"",INDEX(Assessment!$F$20:$F$29,MATCH(C40,Assessment!$E$20:$E$29,0)))
C41: 4 | D41: =IF(INDEX(Assessment!$F$20:$F$29,MATCH(C41,Assessment!$E$20:$E$29,0))=0,"",INDEX(Assessment!$F$20:$F$29,MATCH(C41,Assessment!$E$20:$E$29,0)))
C42: 5 | D42: =IF(INDEX(Assessment!$F$20:$F$29,MATCH(C42,Assessment!$E$20:$E$29,0))=0,"",INDEX(Assessment!$F$20:$F$29,MATCH(C42,Assessment!$E$20:$E$29,0)))
C43: 6 | D43: =IF(INDEX(Assessment!$F$20:$F$29,MATCH(C43,Assessment!$E$20:$E$29,0))=0,"",INDEX(Assessment!$F$20:$F$29,MATCH(C43,Assessment!$E$20:$E$29,0)))
C44: 7 | D44: =IF(INDEX(Assessment!$F$20:$F$29,MATCH(C44,Assessment!$E$20:$E$29,0))=0,"",INDEX(Assessment!$F$20:$F$29,MATCH(C44,Assessment!$E$20:$E$29,0)))
D46: COMMENTS
D47: =IF(Assessment!H20=0,"",Assessment!H20)
C53: =IF(Assessment!$C$31=0,"",Assessment!$C$31) | E53: =IFERROR(INDEX(Lookup!$A$4:$A$8,MATCH(C53,Main,0)),"") | I53: Service Level: | J53: =IF(Assessment!C35=0,"",Assessment!C35)
F54: Hrs per week: | G54: =Assessment!$D$37 -> 0 | I54: Units per week: | J54: =ROUND(G54*4,0) -> 0
D56: Support Tasks/Individual Goals
C57: 1 | D57: =IF(INDEX(Assessment!$F$31:$F$40,MATCH(C57,Assessment!$E$31:$E$40,0))=0,"",INDEX(Assessment!$F$31:$F$40,MATCH(C57,Assessment!$E$31:$E$40,0)))
C58: 2 | D58: =IF(INDEX(Assessment!$F$31:$F$40,MATCH(C58,Assessment!$E$31:$E$40,0))=0,"",INDEX(Assessment!$F$31:$F$40,MATCH(C58,Assessment!$E$31:$E$40,0)))
C59: 3 | D59: =IF(INDEX(Assessment!$F$31:$F$40,MATCH(C59,Assessment!$E$31:$E$40,0))=0,"",INDEX(Assessment!$F$31:$F$40,MATCH(C59,Assessment!$E$31:$E$40,0)))
C60: 4 | D60: =IF(INDEX(Assessment!$F$31:$F$40,MATCH(C60,Assessment!$E$31:$E$40,0))=0,"",INDEX(Assessment!$F$31:$F$40,MATCH(C60,Assessment!$E$31:$E$40,0)))
C61: 5 | D61: =IF(INDEX(Assessment!$F$31:$F$40,MATCH(C61,Assessment!$E$31:$E$40,0))=0,"",INDEX(Assessment!$F$31:$F$40,MATCH(C61,Assessment!$E$31:$E$40,0)))
...

Sheet Math
B3: Name | C3: DOB | D3: Life Domains | E3: Hours per week | F3: Units per Week | G3: Level | H3: Rate Name
B4: ='Service Plan'!$D$4 -> 0 | C4: ='Service Plan'!$D$5 -> 0 | D4: ='Service Plan'!C15 | E4: ='Service Plan'!G16 -> 0 | F4: =ROUND(E4*4,0) -> 0 | G4: ='Service Plan'!J15 | H4: =INDEX($B$11:$B$14,MATCH(G4,$D$11:$D$14,0)) -> #N/A
B5: ='Service Plan'!$D$4 -> 0 | C5: ='Service Plan'!$D$5 -> 0 | D5: ='Service Plan'!C34 | E5: ='Service Plan'!G35 -> 0 | F5: =ROUND(E5*4,0) -> 0 | G5: ='Service Plan'!J34 | H5: =INDEX($B$11:$B$14,MATCH(G5,$D$11:$D$14,0)) -> #N/A
B6: ='Service Plan'!$D$4 -> 0 | C6: ='Service Plan'!$D$5 -> 0 | D6: ='Service Plan'!C53 | E6: ='Service Plan'!G54 -> 0 | F6: =ROUND(E6*4,0) -> 0 | G6: ='Service Plan'!J53 | H6: =INDEX($B$11:$B$14,MATCH(G6,$D$11:$D$14,0)) -> #N/A
B7: ='Service Plan'!$D$4 -> 0 | C7: ='Service Plan'!$D$5 -> 0 | D7: ='Service Plan'!C72 | E7: ='Service Plan'!G73 -> 0 | F7: =ROUND(E7*4,0) -> 0 | G7: ='Service Plan'!J72 | H7: =INDEX($B$11:$B$14,MATCH(G7,$D$11:$D$14,0)) -> #N/A
E8: =SUM(E4:E7) -> 0 | F8: =SUM(F4:F7) -> 0
H9: absolute | I9: no absolute | K9: FINAL
B10: Rate Name | C10: Rate Amount | D10: Level | E10: Hrs per level | F10: All at each level | G10: Per level | H10: Variances per level | I10: Variances per level | J10: Lowest variance | K10: Rate | L10: Service Level
B11: A | C11: =12.54*4 -> 50.16 | D11: Foundational | E11: =SUMIFS($E$4:$E$7,$H$4:$H$7,B11) -> 0 | F11: =ROUND($E$15*C11*52,2) -> 0 | G11: =ROUND(C11*E11*52,2) -> 0 | H11: =ABS($G$15-F11) -> 0 | I11: =$G$15-F11 -> 0 | J11: {=MIN(ABS(H11:H14))} -> 0 | K11: =INDEX(B11:B14,MATCH(J11,H11:H14,0)) -> A | L11: =INDEX(D11:D14,MATCH(K11,B11:B14,0)) -> Foundational
B12: B | C12: =14.35*4 -> 57.4 | D12: Skill Development | E12: =SUMIFS($E$4:$E$7,$H$4:$H$7,B12) -> 0 | F12: =ROUND($E$15*C12*52,2) -> 0 | G12: =ROUND(C12*E12*52,2) -> 0 | H12: =ABS($G$15-F12) -> 0 | I12: =$G$15-F12 -> 0
B13: C | C13: =17.01*4 -> 68.04 | D13: Intensive/ Clinical | E13: =SUMIFS($E$4:$E$7,$H$4:$H$7,B13) -> 0 | F13: =ROUND($E$15*C13*52,2) -> 0 | G13: =ROUND(C13*E13*52,2) -> 0 | H13: =ABS($G$15-F13) -> 0 | I13: =$G$15-F13 -> 0
B14: D | C14: =23.03*4 -> 92.12 | D14: Comprehensive | E14: =SUMIFS($E$4:$E$7,$H$4:$H$7,B14) -> 0 | F14: =ROUND($E$15*C14*52,2) -> 0 | G14: =ROUND(C14*E14*52,2) -> 0 | H14: =ABS($G$15-F14) -> 0 | I14: =$G$15-F14 -> 0
E15: =SUM(E11:E14) -> 0 | G15: =ROUND(SUM(G11:G14),2) -> 0
I16: *if variance is negative, DDS takes a loss.
I17: *If variance is positive, provider takes a loss.
B18: HIDE THIS TAB when done

Sheet Lookup
C1: Main Categories | D1: Household Management | E1: Health & Personal Support | F1: Advocacy & Legal Support | G1: Community Engagement | J1: Service Level *drop down
A2: Hide once done | J2: Foundational | K2: A
C3: Main | D3: Housing | E3: Health | F3: Advocacy | G3: Community | J3: Skill Development | K3: B
A4: =D1 -> Household Management | B4: 1 | C4: Housing | D4: Household Management: Support in maintaining a clean and safe living environment. | E4: Personal Care Assistant (PCA) Management: Support in recruiting, training, and managing PCA staff. | F4: Advocacy and Self-Advocacy: Empower individuals to express rights, needs, and preferences effectively. | G4: Transportation: Assist in arranging transportation for medical appointments, employment, or community engagement. | J4: Intensive/ Clinical | K4: C
A5: =E1 -> Health & Personal Support | B5: 2 | C5: Health | D5: Household Management: Help establish and maintain routines for tasks such as cleaning, laundry, and organizing, using assistive technology or visual supports as needed. | E5: Personal Care Assistant (PCA) Management: Assist with scheduling, communication, and addressing issues that may arise. | F5: Advocacy and Self-Advocacy: Support the development of communication skills and self-confidence. | G5: Transportation: Teach skills for using public transportation systems independently. | J5: Comprehensive | K5: D
A6: =F1 -> Advocacy & Legal Support | B6: 3 | C6: Advocacy | D6: Household Management: Assist in coordinating home services such as cleaning and cable company. | E6: Personal Care Assistant (PCA) Management: Ensure that care needs are being met and services follow guidelines and individual preferences. | F6: Advocacy and Self-Advocacy: Provide advocacy additional support is needed to navigate systems or access resources. | G6: Transportation: Connect to paratransit or subsidized transportation programs when appropriate.
A7: =G1 -> Community Engagement | B7: 4 | C7: Community | D7: Mail Management and Bill Paying: Support in organizing incoming mail, recognizing important documents, and understanding correspondence. | E7: Durable Medical Equipment and Assistive Technology: Help obtain and maintain necessary medical or adaptive devices (e.g., wheelchairs, walkers, hearing aids). | F7: Legal: Identify potential legal issues (e.g., housing rights, guardianship, custody, benefits appeals). | G7: Companionship: Support in accessing social connections and emotional support to reduce loneliness or isolation.
B8: 5 | D8: Mail Management and Bill Paying: Supporting paying bills, tracking due dates, and managing financial obligations. | E8: Durable Medical Equipment and Assistive Technology: Support learning how to use and care for equipment effectively. | F8: Legal: Support in understanding legal processes and connecting with legal resources as needed. | G8: Companionship: Encourage participation in activities that foster a sense of belonging and emotional well-being.
B9: 6 | D9: Money Management: Support in building financial literacy, including budgeting, tracking expenses, and using banking services. | E9: Durable Medical Equipment and Assistive Technology: Support to use assistive technology to support independent living skills. | F9: Accessible Housing: Support in identifying safe, affordable housing that meets accessibility needs. | G9: Companionship: Support internet safety by talking about privacy, personal information, and recognizing online risks.
B10: 7 | D10: Money Management: Act as Representative Payee, when designated, to manage Social Security or other benefits responsibly. | E10: Healthcare Management: Support individuals in accessing and managing care across healthcare providers. | F10: Accessible Housing: Assist with housing applications, understanding lease agreements, communicating with landlords, and resolving housing-related concerns. | G10: Relationships: Educate and support in developing healthy relationships, including setting boundaries and resolving conflicts.
B11: 8 | D11: Money Management: Educate individuals on recognizing and preventing financial exploitation. | E11: Healthcare Management: Assist with scheduling appointments, managing medications, and understanding health-related information and decisions. | F11: Accessible Housing: Connect individuals to housing assistance programs or subsidies as appropriate. | G11: Relationships: Provide coaching to navigate challenges related to family, friendships, or romantic relationships.
B12: 9 | D12: Meal Planning and Preparation: Assist in planning balanced meals in line with dietary preferences and health needs. | G12: Relationships: Refer to counseling or professional services when needed.
B13: 10 | D13: Meal Planning and Preparation : Teach cooking skills or help coordinate access to meal delivery services. | G13: Leisure Planning: Foster opportunities to explore meaningful recreational activities.
B14: 11 | D14: Meal Planning and Preparation: Monitor nutrition-related concerns and refer to professionals when appropriate. | G14: Leisure Planning: Encourage lifelong learning and engagement in leisure activities that align with personal goals and values.
B15: 12 | D15: Food Shopping: Support with grocery shopping, either in person or through delivery services. | G15: Participation in Community Activities: Encourage and support in engaging in social, cultural, educational, or volunteer opportunities.
B16: 13 | D16: Food Shopping: Teach skills such as creating shopping lists, comparing prices, and using food assistance programs | G16: Participation in Community Activities: Help reduce isolation by fostering meaningful community connections.
B17: 14 | D17: Food Shopping: Ensure access to food that meets cultural, dietary, and health requirements. | G17: Participation in Community Activities: Identify inclusive and accessible options that align with interests.
