Workbook

Sheet Blue Book Cover
A31: Commonwealth of Massachusetts
A32: Department of Revenue
A33: Monthly Report of Collections and Refunds
A34: June 2026
A37: Geoffrey E. Snyder
A38: Commissioner

Sheet Blue Book Guide
A1: Index of Tables
A2: Table A – Net Collections for Month
A3: Table B – Net Collections for Year To Date
A4: Table D – Net Collections by Fund
A5: Table E – Miscellaneous Funds
A6: Table F – Non-Tax Revenue VS. Estimate
A7: Gross Collections for Month
A8: Gross Collections Year To Date
A9: Report of Refunds for Month
A10: Report of Refunds Year To Date
A11: This report includes State Taxes and other revenue collected by the Massachusetts Department of Revenue only. Other taxes for budgetary purposes are from: Racing, Beano (3/5ths), Raffles and Bazaars, Boxing, and Special Insurance Brokers.
A12: Amounts reflect accounting adjustments made for prior periods.

Sheet Net Collections For Month
A1: FISCAL 2026 NET COLLECTIONS FOR MONTH - TABLE A
A2: =CONCATENATE("MONTH OF ",'Blue Book Cover'!A34) -> MONTH OF June 2026
A3: Run Date 08/05/26
A4: CATEGORY | B4: REVENUE TYPE | C4: June - 2025 | D4: June - 2026
A5: TAX REVENUE | B5: ALCOHOLIC BEVERAGES | C5: 8477616 | D5: 8041886
A6: TAX REVENUE | B6: CIGARETTE | C6: 24963754 | D6: 23546969
A7: TAX REVENUE | B7: CORPORATIONS | C7: 700716973 | D7: 673049037
A8: TAX REVENUE | B8: DEEDS | C8: 35729494 | D8: 36978876
A9: TAX REVENUE | B9: ELECTRONIC NICOTINE DELIVERY SYSTEM | C9: 970390 | D9: 778997
A10: TAX REVENUE | B10: ESTATE & INHERITANCE | C10: 89075318 | D10: 60534674
A11: TAX REVENUE | B11: FINANCIAL INSTITUTIONS | C11: 4400951 | D11: 5600516
A12: TAX REVENUE | B12: INSURANCE | C12: 151580784 | D12: 148523012
A13: TAX REVENUE | B13: PUBLIC UTILITIES | C13: 0 | D13: 0
A14: TAX REVENUE | B14: ROOM OCCUPANCY | C14: 16079670 | D14: 23834094
A15: SUBTOTAL TAX REVENUE | C15: =SUM(C5:C14) -> 1031994950 | D15: =SUM(D5:D14) -> 980888061
A16: INCOME | B16: TAX WITHHELD, NET | C16: 1581055774 | D16: 1597642715
A17: INCOME | B17: RETURNS & BILLS & ESTIMATED PAYMENTS, GROSS | C17: 1147168806 | D17: 1317466482
A18: INCOME | B18: LESS REFUNDS & ABATEMENTS | C18: -120723676 | D18: -95697955
A19: SUBTOTAL INCOME | C19: =SUM(C16:C18) -> 2607500904 | D19: =SUM(D16:D18) -> 2819411242
A20: MOTOR FUELS | B20: GASOLINE | C20: 52697521 | D20: 51678081
A21: MOTOR FUELS | B21: SP FUEL, MOT CARR & IFTA | C21: 8805574 | D21: 8656509
A22: SUBTOTAL MOTOR FUELS | C22: =SUM(C20:C21) -> 61503095 | D22: =SUM(D20:D21) -> 60334590
A23: SALES & USE | B23: REGULAR * | C23: 566678940 | D23: 651174731
A24: SALES & USE | B24: SERVICES * | C24: 9713709 | D24: 10123694
A25: SALES & USE | B25: MEALS | C25: 162338309 | D25: 177561787
A26: SALES & USE | B26: MOTOR VEHICLE * | C26: 117640354 | D26: 131234673
A27: SALES & USE | B27: MARIJUANA * | C27: 483250 | D27: 826981
A28: SUBTOTAL SALES & USE * | C28: =SUM(C23:C27) -> 856854562 | D28: =SUM(D23:D27) -> 970921866
A29: MISCELLANEOUS | B29: CLUB ALCOHOLIC BEVERAGE | C29: 18448 | D29: 25921
A30: MISCELLANEOUS | B30: MOTOR VEHICLE EXCISE | C30: 31608 | D30: 40335
A31: MISCELLANEOUS | B31: CONTROLLED SUBSTANCES | C31: 0 | D31: 0
A32: MISCELLANEOUS | B32: SATELLITE | C32: 355296 | D32: 312892
A33: MISCELLANEOUS | B33: MARIJUANA EXCISE | C33: 24742219 | D33: 24434061
A34: SUBTOTAL MISCELLANEOUS | C34: =SUM(C29:C33) -> 25147571 | D34: =SUM(D29:D33) -> 24813209
A35: SURCHARGES | B35: CONVENTION CENTER | C35: 12442 | D35: 272
A36: SURCHARGES | B36: COMMUNITY PRESERVATION TRUST | C36: 7470245 | D36: 6902900
A37: SURCHARGES | B37: STATE-WIDE CAR RENTAL | C37: 2971 | D37: 2890
A38: SUBTOTAL SURCHARGES | C38: =SUM(C35:C37) -> 7485658 | D38: =SUM(D35:D37) -> 6906062
A39: SUBTOTAL TAXES * | C39: =C15+C19+C22+C28+C34+C38 -> 4590486740 | D39: =D15+D19+D22+D28+D34+D38 -> 4863275030
A40: OTHER REVENUE | B40: LOCAL OPTION AIR (JET) FUEL | C40: 3218932 | D40: 3336739
...

Sheet Net Collections For YTD
A1: FISCAL 2026 NET COLLECTIONS FOR YEAR TO DATE - TABLE B
A2: ='Net Collections For Month'!A2 -> MONTH OF June 2026
A3: ='Net Collections For Month'!A3 -> Run Date 08/05/26
A4: CATEGORY | B4: REVENUE TYPE | C4: FY 2025 YTD | D4: FY 2026 YTD
A5: TAX REVENUE: | B5: ALCOHOLIC BEVERAGES | C5: 96139493 | D5: 96993684
A6: TAX REVENUE: | B6: CIGARETTE | C6: 312509894 | D6: 292826966
A7: TAX REVENUE: | B7: CORPORATIONS | C7: 4036624037 | D7: 3552469875
A8: TAX REVENUE: | B8: DEEDS | C8: 231929870 | D8: 245253059
A9: TAX REVENUE: | B9: ELECTRONIC NICOTINE DELIVERY SYSTEM | C9: 14857967 | D9: 10146419
A10: TAX REVENUE: | B10: ESTATE & INHERITANCE | C10: 740358650 | D10: 859010328
A11: TAX REVENUE: | B11: FINANCIAL INSTITUTIONS | C11: 19948574 | D11: 19293668
A12: TAX REVENUE: | B12: INSURANCE | C12: 613267504 | D12: 625824124
A13: TAX REVENUE: | B13: PUBLIC UTILITIES | C13: 0 | D13: 0
A14: TAX REVENUE: | B14: ROOM OCCUPANCY | C14: 428307776 | D14: 437649455
A15: SUBTOTAL TAX REVENUE | C15: =SUM(C5:C14) -> 6493943765 | D15: =SUM(D5:D14) -> 6139467578
A16: INCOME: | B16: TAX WITHHELD, NET | C16: 19056193985 | D16: 20232718340
A17: INCOME: | B17: RETURNS & BILLS & ESTIMATED PAYMENTS, GROSS | C17: 10583719422 | D17: 11630871867
A18: INCOME: | B18: LESS REFUNDS & ABATEMENTS | C18: -2880136972 | D18: -3058397907
A19: SUBTOTAL INCOME | C19: =SUM(C16:C18) -> 26759776435 | D19: =SUM(D16:D18) -> 28805192300
A20: MOTOR FUELS: | B20: GASOLINE | C20: 610382519 | D20: 606206271
A21: MOTOR FUELS: | B21: SP FUEL, MOT CARR & IFTA | C21: 96282356 | D21: 98099078
A22: SUBTOTAL MOTOR FUELS | C22: =SUM(C20:C21) -> 706664875 | D22: =SUM(D20:D21) -> 704305349
A23: SALES & USE: | B23: REGULAR * | C23: 6602236009 | D23: 6758452132
A24: SALES & USE: | B24: SERVICES * | C24: 123399306 | D24: 111688138
A25: SALES & USE: | B25: MEALS | C25: 1687115715 | D25: 1712297855
A26: SALES & USE: | B26: MOTOR VEHICLE * | C26: 1200147316 | D26: 1160315458
A27: SALES & USE: | B27: MARIJUANA * | C27: 106194390 | D27: 104459567
A28: SUBTOTAL SALES & USE * | C28: =SUM(C23:C27) -> 9719092736 | D28: =SUM(D23:D27) -> 9847213150
A29: MISCELLANEOUS: | B29: CLUB ALCOHOLIC BEVERAGE | C29: 901932 | D29: 853401
A30: MISCELLANEOUS: | B30: MOTOR VEHICLE EXCISE | C30: 685090 | D30: 542199
A31: MISCELLANEOUS: | B31: CONTROLLED SUBSTANCES | C31: 0 | D31: 0
A32: MISCELLANEOUS: | B32: SATELLITE | C32: 4308778 | D32: 3961098
A33: MISCELLANEOUS: | B33: MARIJUANA EXCISE | C33: 183268729 | D33: 181091788
A34: SUBTOTAL MISCELLANEOUS | C34: =SUM(C29:C33) -> 189164529 | D34: =SUM(D29:D33) -> 186448486
A35: SURCHARGES: | B35: CONVENTION CENTER | C35: 16641498 | D35: 16274922
A36: SURCHARGES: | B36: COMMUNITY PRESERVATION TRUST | C36: 49151825 | D36: 47765175
A37: SURCHARGES: | B37: STATE-WIDE CAR RENTAL | C37: 5697100 | D37: 5645614
A38: SUBTOTAL SURCHARGES | C38: =SUM(C35:C37) -> 71490423 | D38: =SUM(D35:D37) -> 69685711
A39: SUBTOTAL TAXES * | C39: =C38+C34+C28+C22+C19+C15 -> 43940132763 | D39: =D38+D34+D28+D22+D19+D15 -> 45752312574
A40: OTHER REVENUE | B40: LOCAL OPTION AIR (JET) FUEL | C40: 43088887 | D40: 46118630
...

Sheet Net Collections by Funds
A1: FISCAL 2026 NET COLLECTIONS BY FUND - TABLE D
A2: ='Net Collections For Month'!A2 -> MONTH OF June 2026
A3: ='Net Collections For Month'!A3 -> Run Date 08/05/26
A4: CATEGORIES | B4: REVENUE TYPE | C4: FY 2025 YTD | D4: FY 2026 YTD
A5: NET TAXES | B5: ALCOHOLIC BEVERAGES | C5: 96139493 | D5: 96993684
A6: NET TAXES | B6: FINANCIAL INSTITUTIONS | C6: 19948574 | D6: 19293668
A7: NET TAXES | B7: CIGARETTE | C7: 248366923 | D7: 232323610
A8: NET TAXES | B8: CORPORATIONS | C8: 4036624037 | D8: 3552469875
A9: NET TAXES | B9: DEEDS | C9: 231929870 | D9: 245253059
A10: NET TAXES | B10: ESTATE & INHERITANCE | C10: 740358650 | D10: 859010328
A11: NET TAXES | B11: INCOME | C11: 26712172428 | D11: 28753802445
A12: NET TAXES | B12: INSURANCE | C12: 613267504 | D12: 625824124
A13: NET TAXES | B13: MOTOR FUELS | C13: 0 | D13: 0
A14: NET TAXES | B14: PUBLIC UTILITIES | C14: 0 | D14: 0
A15: NET TAXES | B15: ROOM OCCUPANCY | C15: 254671473 | D15: 265281690
A16: NET TAXES | B16: ELECTRONIC NICOTINE DELIVERY SYSTEMS | C16: 10400579 | D16: 7102491
... A27: MISCELLANEOUS: | B27: ENDS CIVIL PENALTIES | C27: 0 | D27: 0
A28: TOTAL GENERAL FUND | C28: =SUM(C5:C27) -> 39106920394 | D28: =SUM(D5:D27) -> 40917000281
A29: COMMONWEALTH TRANSPORTATION FUND: | B29: MOTOR FUELS: STATE | C29: 843801 | D29: 782548
A30: COMMONWEALTH TRANSPORTATION FUND: | B30: MOTOR FUELS: FY14 Trans Bill | C30: 88111231 | D30: 87823506
A31: COMMONWEALTH TRANSPORTATION FUND: | B31: MOTOR FUELS: INFRA - 1994 Bonds | C31: 0 | D31: 0
A32: COMMONWEALTH TRANSPORTATION FUND: | B32: MOTOR FUELS: INFRA - $0.10 Fed GAN | C32: 253976498 | D32: 252261903
A33: COMMONWEALTH TRANSPORTATION FUND: | B33: MOTOR FUELS: INFRA - 2010 Bonds | C33: 362819037 | D33: 362529255
A34: COMMONWEALTH TRANSPORTATION FUND: | B34: CTF PORTION OF SALES TAXES | C34: 792016013 | D34: 766194154
A35: TOTAL TRANSPORTATION FUND | C35: =SUM(C29:C34) -> 1497766580 | D35: =SUM(D29:D34) -> 1469591366
A36: CONVENTION CENTER FUND: | B36: ROOM OCCUPANCY | C36: 159738012 | D36: 158540293
A37: CONVENTION CENTER FUND: | B37: CONVENTION CTR SURCHARGES | C37: 16641498 | D37: 16274922
A38: CONVENTION CENTER FUND: | B38: SALES, MEALS, SALES SERVICES | C38: 62575161 | D38: 66712661
A39: CONVENTION CENTER FUND: | B39: MARIJUANA | C39: 0 | D39: 0
A40: TOTAL CONVENTION CENTER FUND | C40: =SUM(C36:C39) -> 238954671 | D40: =SUM(D36:D39) -> 241527876
A41: WORCESTER CONVENTION CENTER: | B41: ROOM OCCUPANCY | C41: 3898287 | D41: 3827472
A42: WORCESTER CONVENTION CENTER: | B42: SALES, MEALS, SALES SERVICES | C42: 1083128 | D42: 1090261
A43: WORCESTER CONVENTION CENTER: | B43: MARIJUANA | C43: 0 | D43: 0
A44: TOTAL WORCESTER CONVENTION CENTER | C44: =SUM(C41:C43) -> 4981415 | D44: =SUM(D41:D43) -> 4917733
A45: COMMONWEALTH CARE TRUST FUND: | B45: HEALTH CARE COVERAGE PENALTY | C45: 47425121 | D45: 51230948
A46: COMMONWEALTH CARE TRUST FUND: | B46: CIGARETTE INVENTORY | C46: 0 | D46: 0
A47: COMMONWEALTH CARE TRUST FUND: | B47: HEALTH CARE CIGARETTE | C47: 64142973 | D47: 60503357
A48: TOTAL COMMONWEALTH CARE TRUST FUND | C48: =SUM(C45:C47) -> 111568094 | D48: =SUM(D45:D47) -> 111734305
A49: MISCELLANEOUS FUNDS: | B49: INLAND FISHERIES AND GAME FUND | C49: 914309 | D49: 908136
A50: MISCELLANEOUS FUNDS: | B50: MASS. TOURISM FUND - ROOM OCCUPANCY | C50: 10000000 | D50: 10000000
...

Sheet Miscellaneous Funds
A1: FISCAL 2026 MISCELLANEOUS FUNDS - TABLE E
A2: ='Net Collections For Month'!A2 -> MONTH OF June 2026
A3: ='Net Collections For Month'!A3 -> Run Date 08/05/26
A4: CATEGORIES | B4: REVENUE TYPE | C4: June - 2025 | D4: June - 2026
A5: GASOLINE: | B5: COMMONWEALTH TRANSPORTATION FUND | C5: 6568885 | D5: 6441590
A6: GASOLINE: | B6: CTF INFRA 1994 PLEDGED $0.0486 | C6: 0 | D6: 0
A7: GASOLINE: | B7: CTF INFRA PLEDGE $0.02 | C7: 0 | D7: 0
A8: GASOLINE: | B8: CTF INFRA $0.10 FED GAN | C8: 21929793 | D8: 21504825
A9: GASOLINE: | B9: CTF INFRA 2010 PLEDGED | C9: 24053458 | D9: 23587335
A10: GASOLINE: | B10: INLAND FISHERIES AND GAME | C10: 78947 | D10: 77417
A11: MARIJUANA: | B11: MARIJUANA REGULATION FUND | C11: 24742219 | D11: 24434061
A12: TOTAL MONTH ALL FUNDS | C12: =SUM(C5:C11) -> 77373302 | D12: =SUM(D5:D11) -> 76045228
A13: CATEGORIES | B13: REVENUE TYPE | C13: FY 2025 YTD | D13: FY 2026 YTD
A14: GASOLINE: | B14: COMMONWEALTH TRANSPORTATION FUND | C14: 76076525 | D14: 75562934
A15: GASOLINE: | B15: CTF INFRA 1994 PLEDGED $0.0486 | C15: 0 | D15: 0
A16: GASOLINE: | B16: CTF INFRA PLEDGE $0.02 | C16: 0 | D16: 0
A17: GASOLINE: | B17: CTF INFRA $0.10 FED GAN | C17: 253976498 | D17: 252261903
A18: GASOLINE: | B18: CTF INFRA 2010 PLEDGED | C18: 278571385 | D18: 276690749
A19: GASOLINE: | B19: INLAND FISHERIES AND GAME | C19: 914309 | D19: 908136
A20: MARIJUANA: | B20: MARIJUANA REGULATION FUND | C20: 183268729 | D20: 181091788
A21: TOTAL YEAR ALL FUNDS | C21: =SUM(C14:C20) -> 792807446 | D21: =SUM(D14:D20) -> 786515510
A22: CATEGORIES | B22: REVENUE TYPE | C22: June - 2025 | D22: FY 2026 YTD
A23: MBTA STATE AND LOCAL CONTRIBUTION | B23: SALES SERVICES | C23: 1784656 | D23: 20035245
A24: MBTA STATE AND LOCAL CONTRIBUTION | B24: SALES REGULAR | C24: 105288959 | D24: 1127028179
A25: MBTA STATE AND LOCAL CONTRIBUTION | B25: SALES MOTOR VEHICLE | C25: 23185908 | D25: 208470831
A26: MBTA STATE AND LOCAL CONTRIBUTION | B26: SALES MARIJUANA | C26: 270940 | D26: 18930306
A27: MBTA STATE AND LOCAL CONTRIBUTION | B27: BOAT/RV INDIVIDUAL | C27: 0 | D27: 0
A28: MBTA STATE AND LOCAL CONTRIBUTION | B28: BOAT/RV BUSINESS | C28: 451042 | D28: 2690937
A29: MBTA STATE AND LOCAL CONTRIBUTION | B29: USE TAX | C29: 8838877 | D29: 80447342
A30: MBTA STATE AND LOCAL CONTRIBUTION | B30: PERSONAL USE TAX | C30: 182078 | D30: 1856851
A31: MBTA STATE AND LOCAL CONTRIBUTION | B31: SALES SERVICE DCU | C31: 1 | D31: 13
A32: MBTA STATE AND LOCAL CONTRIBUTION | B32: SALES/USE DCU | C32: 1865 | D32: 11790
A33: TOTAL MBTA | C33: =SUM(C23:C32) -> 140004326 | D33: =SUM(D23:D32) -> 1459471494
A34: CATEGORIES | B34: REVENUE TYPE | C34: June - 2025 | D34: FY 2026 YTD
A35: SCHOOL MODERNIZATION FUND | B35: SALES SERVICES | C35: 1616227 | D35: 17824642
A36: SCHOOL MODERNIZATION FUND | B36: SALES REGULAR | C36: 95344670 | D36: 1003528174
A37: SCHOOL MODERNIZATION FUND | B37: SALES MOTOR VEHICLE | C37: 20997548 | D37: 185650474
A38: SCHOOL MODERNIZATION FUND | B38: SALES MARIJUANA | C38: 132317 | D38: 16713639
A39: SCHOOL MODERNIZATION FUND | B39: BOAT/RV INDIVIDUAL | C39: 0 | D39: 0
A40: SCHOOL MODERNIZATION FUND | B40: BOAT/RV BUSINESS | C40: 408474 | D40: 2400312
...

Sheet Non-Tax Revenue vs. Estimate
A1: FISCAL 2026 NON-TAX REVENUES VS. ESTIMATES - TABLE F
A2: ='Net Collections For Month'!A2 -> MONTH OF June 2026
A3: ='Net Collections For Month'!A3 -> Run Date 08/05/26
A4: Fund | B4: Acct | C4: Description | D4: FY2026 YTD | E4: FY2026 Estimates | F4: Percentage
A5: 350 | B5: 500 | C5: INTERCEPT FEES | D5: 428079 | E5: 275000 | F5: =D5/E5 -> 1.5566509
A6: 350 | B6: 630 | C6: IRS INTERCEPT FEES | D6: 336140 | E6: 45000 | F6: =D6/E6 -> 7.4697778
A7: 300 | B7: 647 | C7: OIL SPILL FEES | D7: 3615027 | E7: 3348000 | F7: =D7/E7 -> 1.0797572
A8: 10 | B8: 784 | C8: UST ANNUAL TANK FEE | D8: 1605926 | E8: 1636000 | F8: =D8/E8 -> 0.98161736
A9: 1318 | B9: 2047 | C9: MA US OLYMPIC FUND | D9: 63560 | E9: 64000 | F9: =D9/E9 -> 0.993125
A10: 300 | B10: 2201 | C10: OCA FEES | D10: 2350491 | E10: 1308000 | F10: =D10/E10 -> 1.7970115
A11: 10 | B11: 2700 | C11: OTHER FEES AND PENALTIES | D11: 1946706 | E11: 1986000 | F11: =D11/E11 -> 0.9802145
A12: 10 | B12: 2713 | C12: CIGARETTE EXCISE PENALTY | D12: 180601 | E12: 29000 | F12: =D12/E12 -> 6.2276207
A13: 10 | B13: 2714 | C13: ENDS CIVIL PENALTIES | D13: 0 | E13: 0 | F13: =IFERROR(D13/E13,0) -> 0
A14: 10 | B14: 2751 | C14: UST GENERAL FUND | D14: 67286 | E14: 62000 | F14: =D14/E14 -> 1.0852581
A15: 103 | B15: 3036 | C15: LICENSES-SPEC FUEL & MOTOR CAR | D15: 19955 | E15: 21000 | F15: =D15/E15 -> 0.9502381
A16: 103 | B16: 3037 | C16: LICENSES-GASOLINE | D16: 23200 | E16: 24000 | F16: =D16/E16 -> 0.96666667
A17: 10 | B17: 3117 | C17: CIGARETTE LICENSE FEES | D17: 40765 | E17: 237000 | F17: =D17/E17 -> 0.17200422
A18: 103 | B18: 3163 | C18: IFTA FEE | D18: 410408 | E18: 382000 | F18: =D18/E18 -> 1.0743665
A19: 10 | B19: 4826 | C19: CARE & CUSTODY OF DEPOSITS | D19: 241905 | E19: 244000 | F19: =D19/E19 -> 0.99141393
A20: 10 | B20: 6926 | C20: MISCELLANEOUS | D20: -106194 | E20: 0 | F20: =IFERROR(D20/E20,0) -> 0
A21: 10 | B21: 6933 | C21: NATURAL HERITAGE ADM | D21: 28542 | E21: 37000 | F21: =D21/E21 -> 0.77140541
A22: 600 | B22: 6960 | C22: IFTA NON-PARTICIPANT | D22: 282 | E22: 6500 | F22: =D22/E22 -> 0.043384615
A23: 1327 | B23: 2047 | C23: ORGAN TRANSPLANT | D23: 126117 | E23: 150000 | F23: =D23/E23 -> 0.84078
A24: 51 | B24: 2047 | C24: STATE ELECTION CAMPAIGN | D24: 155425 | E24: 198000 | F24: =D24/E24 -> 0.78497475
A25: 108 | B25: 2047 | C25: NATURAL HERITAGE FUND | D25: 256870 | E25: 330000 | F25: =D25/E25 -> 0.77839394
A26: 143 | B26: 2047 | C26: MILITARY FAMILY RELIEF FUND | D26: 195023 | E26: 224000 | F26: =D26/E26 -> 0.87063839
A27: 153 | B27: 2047 | C27: AIDS FUND | D27: 99396 | E27: 115000 | F27: =D27/E27 -> 0.86431304
A28: 134 | B28: 2047 | C28: HOMELESS ANIMAL PREVENTION & CARE | D28: 330004 | E28: 402000 | F28: =D28/E28 -> 0.82090547
A29: DEPARTMENT NON-TAX SUBTOTAL | D29: =SUM(D5:D28) -> 12415514 | E29: =SUM(E5:E28) -> 11123500 | F29: =D29/E29 -> 1.1161518
A30: 103 | B30: 784 | C30: UST DELIVERY FEES | D30: 61124938 | E30: 47015000 | F30: =D30/E30 -> 1.3001157
A31: 2003 | B31: 784 | C31: UST PETROLEUM PRODUCT CLEANUP | D31: 30000000 | E31: 30000000 | F31: =D31/E31 -> 1
A32: OTHER COLLECTIONS SUBTOTAL | D32: 91124938 | E32: 77015000 | F32: =D32/E32 -> 1.1832103
A33: DEPARTMENT TOTALS | D33: 103540452 | E33: 88138500 | F33: =D33/E33 -> 1.1747472

Sheet Gross Collections Month
A1: FISCAL 2026 GROSS COLLECTIONS FOR MONTH
A2: ='Net Collections For Month'!A2 -> MONTH OF June 2026
A3: ='Net Collections For Month'!A3 -> Run Date 08/05/26
A4: CATEGORY | B4: REVENUE TYPE | C4: June - 2025 | D4: June - 2026
A5: TAX REVENUE | B5: ALCOHOLIC BEVERAGES | C5: 8486674 | D5: 8042131
A6: TAX REVENUE | B6: CIGARETTE | C6: 25030790 | D6: 23553075
A7: TAX REVENUE | B7: CORPORATIONS | C7: 716001939 | D7: 707101994
A8: TAX REVENUE | B8: DEEDS | C8: 35732990 | D8: 36980172
A9: TAX REVENUE | B9: ELECTRONIC NICOTINE DELIVERY SYSTEM | C9: 970654 | D9: 779089
A10: TAX REVENUE | B10: ESTATE & INHERITANCE | C10: 95587237 | D10: 66157276
A11: TAX REVENUE | B11: FINANCIAL INSTITUTIONS | C11: 4706724 | D11: 5601761
A12: TAX REVENUE | B12: INSURANCE | C12: 151633777 | D12: 148526317
A13: TAX REVENUE | B13: PUBLIC UTILITIES | C13: 0 | D13: 0
A14: TAX REVENUE | B14: ROOM OCCUPANCY | C14: 16463044 | D14: 24022604
A15: SUBTOTAL TAX REVENUE | C15: =SUM(C5:C14) -> 1054613829 | D15: =SUM(D5:D14) -> 1020764419
A16: INCOME | B16: TAX WITHHELD, NET | C16: 1583099806 | D16: 1599932433
A17: INCOME | B17: RETURNS & BILLS & ESTIMATED PAYMENTS, GROSS | C17: 1147168806 | D17: 1317466482
A18: SUBTOTAL INCOME | C18: =SUM(C16:C17) -> 2730268612 | D18: =SUM(D16:D17) -> 2917398915
A19: MOTOR FUELS | B19: GASOLINE | C19: 52712048 | D19: 51780708
A20: MOTOR FUELS | B20: SP FUEL, MOT CARR & IFTA | C20: 8893592 | D20: 8730887
A21: SUBTOTAL MOTOR FUELS | C21: =SUM(C19:C20) -> 61605640 | D21: =SUM(D19:D20) -> 60511595
A22: SALES & USE | B22: REGULAR * | C22: 590422102 | D22: 672544387
A23: SALES & USE | B23: SERVICES * | C23: 9908026 | D23: 10339641
A24: SALES & USE | B24: MEALS | C24: 163473008 | D24: 179029840
A25: SALES & USE | B25: MOTOR VEHICLE * | C25: 117966851 | D25: 131627317
A26: SALES & USE | B26: MARIJUANA * | C26: 488073 | D26: 881152
A27: SUBTOTAL SALES & USE * | C27: =SUM(C22:C26) -> 882258060 | D27: =SUM(D22:D26) -> 994422337
A28: MISCELLANEOUS | B28: CLUB ALCOHOLIC BEVERAGE | C28: 23231 | D28: 28329
A29: MISCELLANEOUS | B29: MOTOR VEHICLE EXCISE | C29: 33529 | D29: 83849
A30: MISCELLANEOUS | B30: CONTROLLED SUBSTANCES | C30: 0 | D30: 0
A31: MISCELLANEOUS | B31: SATELLITE | C31: 355296 | D31: 312892
A32: MISCELLANEOUS | B32: MARIJUANA EXCISE | C32: 24742219 | D32: 24434061
A33: SUBTOTAL MISCELLANEOUS | C33: =SUM(C28:C32) -> 25154275 | D33: =SUM(D28:D32) -> 24859131
A34: SURCHARGES | B34: CONVENTION CENTER | C34: 12442 | D34: 272
A35: SURCHARGES | B35: COMMUNITY PRESERVATION TRUST | C35: 7470245 | D35: 6902900
A36: SURCHARGES | B36: STATE-WIDE CAR RENTAL | C36: 3049 | D36: 2890
A37: SUBTOTAL SURCHARGES | C37: =SUM(C34:C36) -> 7485736 | D37: =SUM(D34:D36) -> 6906062
A38: SUBTOTAL TAXES * | C38: =C15+C18+C21+C27+C33+C37 -> 4761386152 | D38: =D15+D18+D21+D27+D33+D37 -> 5024862459
A39: OTHER REVENUE | B39: LOCAL OPTION AIR (JET) FUEL | C39: 3218932 | D39: 3336739
A40: OTHER REVENUE | B40: LOCAL OPTION ROOMS | C40: 65435857 | D40: 63925000
...

Sheet Gross Collections YTD
A1: FISCAL 2026 GROSS COLLECTIONS YEAR TO DATE
A2: ='Net Collections For Month'!A2 -> MONTH OF June 2026
A3: ='Net Collections For Month'!A3 -> Run Date 08/05/26
A4: CATEGORY | B4: REVENUE TYPE | C4: FY 2025 YTD | D4: FY 2026 YTD
A5: TAX REVENUE | B5: ALCOHOLIC BEVERAGES | C5: 96262462 | D5: 97057981
A6: TAX REVENUE | B6: CIGARETTE | C6: 313406556 | D6: 293405685
A7: TAX REVENUE | B7: CORPORATIONS | C7: 4457438609 | D7: 4100154107
A8: TAX REVENUE | B8: DEEDS | C8: 232004846 | D8: 245401177
A9: TAX REVENUE | B9: ELECTRONIC NICOTINE DELIVERY SYSTEM | C9: 14861311 | D9: 10148999
A10: TAX REVENUE | B10: ESTATE & INHERITANCE | C10: 800604105 | D10: 903596995
A11: TAX REVENUE | B11: FINANCIAL INSTITUTIONS | C11: 23609766 | D11: 22990971
A12: TAX REVENUE | B12: INSURANCE | C12: 659781260 | D12: 684041446
A13: TAX REVENUE | B13: PUBLIC UTILITIES | C13: 0 | D13: 0
A14: TAX REVENUE | B14: ROOM OCCUPANCY | C14: 436083479 | D14: 447105195
A15: SUBTOTAL TAX REVENUE | C15: =SUM(C5:C14) -> 7034052394 | D15: =SUM(D5:D14) -> 6803902556
A16: INCOME | B16: TAX WITHHELD, NET | C16: 19093486814 | D16: 20264960489
A17: INCOME | B17: RETURNS & BILLS & ESTIMATED PAYMENTS, GROSS | C17: 10583719422 | D17: 11630871867
A18: SUBTOTAL INCOME | C18: =SUM(C16:C17) -> 29677206236 | D18: =SUM(D16:D17) -> 31895832356
A19: MOTOR FUELS | B19: GASOLINE | C19: 613178548 | D19: 607653894
A20: MOTOR FUELS | B20: SP FUEL, MOT CARR & IFTA | C20: 97335254 | D20: 99099424
A21: SUBTOTAL MOTOR FUELS | C21: =SUM(C19:C20) -> 710513802 | D21: =SUM(D19:D20) -> 706753318
A22: SALES & USE | B22: REGULAR * | C22: 6813278435 | D22: 7002906597
A23: SALES & USE | B23: SERVICES * | C23: 126168273 | D23: 114089372
A24: SALES & USE | B24: MEALS | C24: 1698838914 | D24: 1724850109
A25: SALES & USE | B25: MOTOR VEHICLE * | C25: 1203632622 | D25: 1164146211
A26: SALES & USE | B26: MARIJUANA * | C26: 106295836 | D26: 104698671
A27: SUBTOTAL SALES & USE * | C27: =SUM(C22:C26) -> 9948214080 | D27: =SUM(D22:D26) -> 10110690960
A28: MISCELLANEOUS | B28: CLUB ALCOHOLIC BEVERAGE | C28: 912899 | D28: 893758
A29: MISCELLANEOUS | B29: MOTOR VEHICLE EXCISE | C29: 722540 | D29: 608615
A30: MISCELLANEOUS | B30: CONTROLLED SUBSTANCES | C30: 0 | D30: 0
A31: MISCELLANEOUS | B31: SATELLITE | C31: 4316239 | D31: 3961098
A32: MISCELLANEOUS | B32: MARIJUANA EXCISE | C32: 183268729 | D32: 181091788
A33: SUBTOTAL MISCELLANEOUS | C33: =SUM(C28:C32) -> 189220407 | D33: =SUM(D28:D32) -> 186555259
A34: SURCHARGES | B34: CONVENTION CENTER | C34: 16804201 | D34: 16274950
A35: SURCHARGES | B35: COMMUNITY PRESERVATION TRUST | C35: 49151825 | D35: 47765175
A36: SURCHARGES | B36: STATE-WIDE CAR RENTAL | C36: 5698697 | D36: 5646766
A37: SUBTOTAL SURCHARGES | C37: =SUM(C34:C36) -> 71654723 | D37: =SUM(D34:D36) -> 69686891
A38: SUBTOTAL TAXES * | C38: =C37+C33+C27+C21+C18+C15 -> 47630861642 | D38: =D37+D33+D27+D21+D18+D15 -> 49773421340
A39: OTHER REVENUE | B39: LOCAL OPTION AIR (JET) FUEL | C39: 43088887 | D39: 46134314
A40: OTHER REVENUE | B40: LOCAL OPTION ROOMS | C40: 368736708 | D40: 373292085
...

Sheet Report of Refunds for Month
A1: FISCAL 2026 REPORT OF REFUNDS FOR MONTH
A2: ='Net Collections For Month'!A2 -> MONTH OF June 2026
A3: ='Net Collections For Month'!A3 -> Run Date 08/05/26
A4: CATEGORY | B4: REVENUE TYPE | C4: June - 2025 | D4: June - 2026
A5: TAX REVENUE | B5: ALCOHOLIC BEVERAGES | C5: 9058 | D5: 245
A6: TAX REVENUE | B6: CIGARETTE | C6: 67036 | D6: 6106
A7: TAX REVENUE | B7: CORPORATIONS | C7: 15284966 | D7: 34052957
A8: TAX REVENUE | B8: DEEDS | C8: 3495 | D8: 1296
A9: TAX REVENUE | B9: ELECTRONIC NICOTINE DELIVERY SYSTEM | C9: 264 | D9: 93
A10: TAX REVENUE | B10: ESTATE & INHERITANCE | C10: 6511919 | D10: 5622602
A11: TAX REVENUE | B11: FINANCIAL INSTITUTIONS | C11: 305773 | D11: 1244
A12: TAX REVENUE | B12: INSURANCE | C12: 52993 | D12: 3304
A13: TAX REVENUE | B13: PUBLIC UTILITIES | C13: 0 | D13: 0
A14: TAX REVENUE | B14: ROOM OCCUPANCY | C14: 383374 | D14: 188510
A15: SUBTOTAL TAX REVENUE | C15: =SUM(C5:C14) -> 22618878 | D15: =SUM(D5:D14) -> 39876357
A16: INCOME | B16: TAX WITHHELD, NET | C16: 2044033 | D16: 2289718
A17: INCOME | B17: RETURNS & BILLS & ESTIMATED PAYMENTS, GROSS | C17: 120723676 | D17: 95697955
A18: SUBTOTAL INCOME | C18: =SUM(C16:C17) -> 122767709 | D18: =SUM(D16:D17) -> 97987673
A19: MOTOR FUELS | B19: GASOLINE | C19: 14527 | D19: 102628
A20: MOTOR FUELS | B20: SP FUEL, MOT CARR & IFTA | C20: 88018 | D20: 74378
A21: SUBTOTAL MOTOR FUELS | C21: =SUM(C19:C20) -> 102545 | D21: =SUM(D19:D20) -> 177006
A22: SALES & USE | B22: REGULAR * | C22: 23743163 | D22: 21369656
A23: SALES & USE | B23: SERVICES * | C23: 194318 | D23: 215947
A24: SALES & USE | B24: MEALS | C24: 1134699 | D24: 1468053
A25: SALES & USE | B25: MOTOR VEHICLE * | C25: 326496 | D25: 392645
A26: SALES & USE | B26: MARIJUANA * | C26: 4823 | D26: 54171
A27: SUBTOTAL SALES & USE * | C27: =SUM(C22:C26) -> 25403499 | D27: =SUM(D22:D26) -> 23500472
A28: MISCELLANEOUS | B28: CLUB ALCOHOLIC BEVERAGE | C28: 4783 | D28: 2407
A29: MISCELLANEOUS | B29: MOTOR VEHICLE EXCISE | C29: 1921 | D29: 43514
A30: MISCELLANEOUS | B30: CONTROLLED SUBSTANCES | C30: 0 | D30: 0
A31: MISCELLANEOUS | B31: SATELLITE | C31: 0 | D31: 0
A32: MISCELLANEOUS | B32: MARIJUANA EXCISE | C32: 0 | D32: 0
A33: SUBTOTAL MISCELLANEOUS | C33: =SUM(C28:C32) -> 6704 | D33: =SUM(D28:D32) -> 45921
A34: SURCHARGES | B34: CONVENTION CENTER | C34: 0 | D34: 0
A35: SURCHARGES | B35: COMMUNITY PRESERVATION TRUST | C35: 0 | D35: 0
A36: SURCHARGES | B36: STATE-WIDE CAR RENTAL | C36: 78 | D36: 0
A37: SUBTOTAL SURCHARGES | C37: =SUM(C34:C36) -> 78 | D37: =SUM(D34:D36) -> 0
A38: SUBTOTAL TAXES * | C38: =C37+C33+C27+C21+C18+C15 -> 170899413 | D38: =D37+D33+D27+D21+D18+D15 -> 161587429
A39: OTHER REVENUE | B39: LOCAL OPTION AIR (JET) FUEL | C39: 0 | D39: 0
A40: OTHER REVENUE | B40: LOCAL OPTION ROOMS | C40: 0 | D40: 0
...

Sheet Report of Refunds YTD
A1: FISCAL 2026 REPORT OF REFUNDS YEAR TO DATE
A2: ='Net Collections For Month'!A2 -> MONTH OF June 2026
A3: ='Net Collections For Month'!A3 -> Run Date 08/05/26
A4: CATEGORY | B4: REVENUE TYPE | C4: FY 2025 YTD | D4: FY 2026 YTD
A5: TAX REVENUE | B5: ALCOHOLIC BEVERAGES | C5: 122966 | D5: 64299
A6: TAX REVENUE | B6: CIGARETTE | C6: 896661 | D6: 578719
A7: TAX REVENUE | B7: CORPORATIONS | C7: 420814574 | D7: 547684233
A8: TAX REVENUE | B8: DEEDS | C8: 74976 | D8: 148116
A9: TAX REVENUE | B9: ELECTRONIC NICOTINE DELIVERY SYSTEM | C9: 3342 | D9: 2581
A10: TAX REVENUE | B10: ESTATE & INHERITANCE | C10: 60245460 | D10: 44586667
A11: TAX REVENUE | B11: FINANCIAL INSTITUTIONS | C11: 3661194 | D11: 3697303
A12: TAX REVENUE | B12: INSURANCE | C12: 46513756 | D12: 58217321
A13: TAX REVENUE | B13: PUBLIC UTILITIES | C13: 0 | D13: 0
A14: TAX REVENUE | B14: ROOM OCCUPANCY | C14: 7775705 | D14: 9455740
A15: SUBTOTAL TAX REVENUE | C15: =SUM(C5:C14) -> 540108634 | D15: =SUM(D5:D14) -> 664434979
A16: INCOME | B16: TAX WITHHELD, NET | C16: 37292827 | D16: 32242147
A17: INCOME | B17: RETURNS & BILLS & ESTIMATED PAYMENTS, GROSS | C17: 2880136972 | D17: 3058397907
A18: SUBTOTAL INCOME | C18: =SUM(C16:C17) -> 2917429799 | D18: =SUM(D16:D17) -> 3090640054
A19: MOTOR FUELS | B19: GASOLINE | C19: 2796030 | D19: 1447624
A20: MOTOR FUELS | B20: SP FUEL, MOT CARR & IFTA | C20: 1052899 | D20: 1000348
A21: SUBTOTAL MOTOR FUELS | C21: =SUM(C19:C20) -> 3848929 | D21: =SUM(D19:D20) -> 2447972
A22: SALES & USE | B22: REGULAR * | C22: 211042425 | D22: 244454465
A23: SALES & USE | B23: SERVICES * | C23: 2768967 | D23: 2401234
A24: SALES & USE | B24: MEALS | C24: 11723202 | D24: 12552253
A25: SALES & USE | B25: MOTOR VEHICLE * | C25: 3485304 | D25: 3830755
A26: SALES & USE | B26: MARIJUANA * | C26: 101443 | D26: 239106
A27: SUBTOTAL SALES & USE * | C27: =SUM(C22:C26) -> 229121341 | D27: =SUM(D22:D26) -> 263477813
A28: MISCELLANEOUS | B28: CLUB ALCOHOLIC BEVERAGE | C28: 10966 | D28: 40357
A29: MISCELLANEOUS | B29: MOTOR VEHICLE EXCISE | C29: 37448 | D29: 66416
A30: MISCELLANEOUS | B30: CONTROLLED SUBSTANCES | C30: 0 | D30: 0
A31: MISCELLANEOUS | B31: SATELLITE | C31: 7461 | D31: 0
A32: MISCELLANEOUS | B32: MARIJUANA EXCISE | C32: 0 | D32: 0
A33: SUBTOTAL MISCELLANEOUS | C33: =SUM(C28:C32) -> 55875 | D33: =SUM(D28:D32) -> 106773
A34: SURCHARGES | B34: CONVENTION CENTER | C34: 162703 | D34: 29
A35: SURCHARGES | B35: COMMUNITY PRESERVATION TRUST | C35: 0 | D35: 0
A36: SURCHARGES | B36: STATE-WIDE CAR RENTAL | C36: 1597 | D36: 1152
A37: SUBTOTAL SURCHARGES | C37: =SUM(C34:C36) -> 164300 | D37: =SUM(D34:D36) -> 1181
A38: SUBTOTAL TAXES * | C38: =C37+C33+C27+C21+C18+C15 -> 3690728878 | D38: =D37+D33+D27+D21+D18+D15 -> 4021108772
A39: OTHER REVENUE | B39: LOCAL OPTION AIR (JET) FUEL | C39: 0 | D39: 15684
A40: OTHER REVENUE | B40: LOCAL OPTION ROOMS | C40: 0 | D40: 0
...
