Workbook

Sheet Start here
A1: Managed Care Program Annual Report (MCPAR) Workbook: A requirement of 42 CFR 438.66(e)
A2: Version 2024.2
A3: Overview
A4: What is a MCPAR? | B4: Beginning on June 28, 2021, the Centers for Medicare and Medicaid Services (CMS) is requiring that, as part of its monitoring system for all Medicaid managed care programs, each state must submit to CMS no later than 180 days after each contract year, a report on each managed care program administered by the State, regardless of the authority under which the program operates. (For purposes of the MCPAR, a program is defined by a specified set of benefits and eligibility criteria that is articulated in a contract between the state and managed care plans, and that has associated rate cells.) The initial report will be due for the contract year beginning on or after June 28, 2021; reports are required annually thereafter and aligned with state contract cycles (42 CFR 438.68(e)(1)). (See the Glossary tab for a definition of "reporting year;" see Instructions tab for example reporting timeframes.) This document provides instructions for data collection and a workbook for states to use to submit the required information, hereafter referred to as the Managed Care Program Annual Report (MCPAR).
A5: How to start a MCPAR | B5: States must complete one MCPAR workbook (i.e., complete lettered sheets A-E in this Excel file) for each managed care program operating in the state during the year. Data should cover the 12-month period of the contract term during which your state is reporting information to CMS; this is referred to as the "reporting year." Create one workbook per managed care program. You will submit MCPAR data to CMS through the MDCT-MCR online portal. Use this Excel workbook to help you plan and manage your data collection. You will not submit data to CMS through this Excel workbook. Upon completion, this MCPAR report must also be posted on your state's website as required at 438.66(e)(3)(i), and provided to the Medical Care Advisory Committee as required at 438.66(e)(i) and, if applicable, the MLTSS consultation group as required at 438.66(e)(iii). Post either the completed MCPAR Excel workbook or a 508 compliant PDF printout.
A6: When and how can I submit the official MCPAR? | B6: Submit the MCPAR through an online form at https://mdctmcr.cms.gov/. Refer to https://mdctmcr.cms.gov/ for more guidance on due dates.
A7: How does CMS define a program? | B7: For purposes of the MCPAR, a program is defined by a distinct set of benefits and eligibility criteria that is articulated in a contract between the state and managed care plans. "Programs" may also be differentiated from one another based on their associated rate cells.
A8: Where can I find more information about filling out this MCPAR? | B8: Refer to the Instructions and Glossary tabs.
A9: Who can I contact if I have questions? | B9: Email questions about MCPAR to ManagedCareTA@cms.hhs.gov
A11: Table of Contents
A12: Data on each topic is organized by reporting level: state, program, plan, and other entity (i.e. beneficiary support system). Within this report, states will find data elements with specific drop downs that CMS has pre-selected to standardize data across states, as well as places with instructions for states to report state-specific indicators or free text. Tabs are organized as follows:
A13: Tab Name | B13: Topic
A14: Instructions | B14: Instructions
A15: A_Program_Info | B15: Program information
A16: B_State | B16: State-Level Set Indicators
A17: C1_Program_Set | B17: Program-Level Set Indicators
A18: C2_Program_State | B18: Program-Level State-Specific Indicators
A19: D1_Plan_Set | B19: Plan-Level Set Indicators
A20: D2_Plan_Measures | B20: Plan-Level State-Specific Indicators: Quality and Performance Measures
A21: D3_Plan_Sanctions | B21: Plan-Level State-Specific Indicators: Sanctions
A22: D4_Plan_ILOS | B22: Plan-Level State-Specific Indicators: ILOS
A23: E_BSS_Entities | B23: Beneficiary Support System (BSS) Entities, Set Indicators
A24: Glossary
A25: Crosswalk | B25: List of all indicators in the MCPAR, crosswalked to the tab on which they appear
A27: PRA Disclosure and Accessibility Statements
A28: PRA Disclosure Statement | B28: According to the Paperwork Reduction Act of 1995, no persons are required to respond to a collection of information unless it displays a valid OMB control number. The valid OMB control number for this information collection is 0938-0920 (Expires: June 30,2024). The time required to complete this information collection is estimated to average 6 hours per response, including the time to review instructions, search existing data resources, gather the data needed, and complete and review the information collection. If you have comments concerning the accuracy of the time estimate(s) or suggestions for improving this form, please write to: CMS, 7500 Security Boulevard, Attn: PRA Reports Clearance Officer, Mail Stop C4-26-05, Baltimore, Maryland 21244-1850.
A29: Accessibility Statement | B29: Review CMS's commitment to Section 508 compliance: https://www.cms.gov/Research-Statistics-Data-and-Systems/CMS-Information-Technology/Section508

Sheet Instructions
A1: Reporting Instructions
A2: MCPAR Workbook Organization | B2: Consistent with 438.66(e), this template provides space for states to report indicators related to the following eleven topics: (I) Program Characteristics and Enrollment; (II) Financial Performance; (III) Encounter Data Reporting; (IV) Grievance, Appeals, and State Fair Hearings; (V) Availability, Accessibility, and Network Adequacy; (VI) Topic reserved; (VII) Quality and Performance Measures; (VIII) Sanctions and Corrective Action Plans; (IX) Beneficiary Support System; (X) Program Integrity; (XI) ILOS; and (XII) Mental Health and Substance Use Disorder Parity. Data on each topic is organized by reporting level: state, program, plan, and other entity (i.e., beneficiary support system). Within this report, states will find data elements with specific drop downs that CMS has pre-selected to standardize data across states, as well as places with instructions for states to report state-specific indicators or free text.
A3: Inputting data | B3: Enter information into tabs A-E, and only input values in white cells. Key terms are defined in the Glossary tab. Tabs D-E are designed to allow responses for multiple plans, Beneficiary Support System (BSS) entities, or In Lieu of Services and Settings (ILOS) offerings. There is space for up to 35 plans, 10 BSS entities, and 20 ILOS offerings. If your program's number of plans, BSS entities, or ILOS offerings exceeds the number for which space is available, duplicate these tabs to create sufficient space.
A4: Reporting timeframe | B4: The state must submit MCPARs to CMS no later than 180 days after each contract year. The initial MCPAR was due after the contract year following the release of CMS guidance on the content and form of the report (i.e., after release of this form) (42 CFR 438.68(e)(1). Example timeframe: States that have contracts on a fiscal year cycle (such as states with contracts running from July to June) would have their first required report due the following December. For states with calendar year contracts running January through December, reports would be due in June the following year.
A5: Exclusion of CHIP from MCPAR | B5: Separate CHIP enrollees and programs should not be reported in the MCPAR. Please use free text to flag any items for which the state is unable to remove information about Separate CHIP from required reporting for Medicaid-only or Medicaid Expansion CHIP programs.
A6: Preparing the first MCPAR | B6: CMS acknowledges that states may need to update their contracts with plans to collect some information requested in the MCPAR and that states will need time to create the first MCPAR report. CMS will be available to provide technical assistance to states to help prepare the MCPAR. Requests for technical assistance can be submitted to ManagedCareTA@cms.hhs.gov.
A7: Overlap with other state reporting requirements | B7: CMS acknowledges that some of the indicators requested in the MCPAR are also reported to CMS through other means. For example, state EQRO reports include measure validation results and measure rates for some or all measures collected by states, although measure rates may not be program specific and may not be reported for all managed care programs operating in the state in a given year. States should consider leveraging existing reports and/or contractors (such as EQROs) to populate the MCPAR. CMS will explore opportunities to align the MCPAR with other data collection efforts in future years.
A8: 1115 reports overlap | B8: Per 42 CFR 438.66(e)(1)(ii), states that operate managed care programs under 1115(a) authority may reference 1115 reports required by its Special Terms and Conditions (STCs) in lieu of entering an indicator into the MCPAR if the report includes the information required by the indicator including the same level of detail (e.g. plan-level data). However, CMS has worked to ensure that most of the managed care reporting requirements in the MCPAR are not duplicated in STCs; therefore, CMS anticipates few instances where the information required in 1115 quarterly and annual reports will directly overlap with what is required in the MCPAR. If a state would like assistance in determining whether an existing 1115 reporting requirement can be deemed to satisfy requirements of the MCPAR, please request technical assistance via ManagedCareTA@cms.hhs.gov.
A9: Data lags | B9: If the state does not have data available over the time period with which it is requested in the MCPAR, use the most recent data available and note the reporting period that the data covers.
A10: Plan Exceptions | B10: 1) PACE Programs do not need to submit the MCPAR report as they are not required to do so under 42 CFR 438.66(e). 2) MMPs are considered both considered both Medicaid and Medicare managed care plans and are not exempt from 42 CFR 438.66(e). Therefore, MMPs must be included in the MCPAR following the instructions provided with one exception; to reduce duplication, states that contract with MMPs will be permitted to complete Worksheet C2 (network adequacy standards) only for provider types that render Medicaid-only covered services. Network adequacy information for providers that render Medicare covered services should be reported as specified in the applicable three-way contract. 3) D-SNPs that hold a contract with the state to cover Medicaid benefits should be included in the MCPAR for services covered under their Medicaid contract. However, if those D-SNPs qualify as Applicable Integrated Plans (AIPs), because AIPs are required to unify the Medicaid and Medicare plan level appeals and grievances processes, states should only report appeal and grievances for Medicaid-only covered services on Worksheet D1. All other worksheets should be completed following the Instructions provided.
A11: Updated Questions | B11: The following questions were updated between versions 2024_v1 and 2024_v2 of the MCPAR. This includes new sections and questions, changes to question wording, and changes to response options: Section C1.XII -- Mental Health and Substance Use Disorder Parity: New section. [reporting required for 12/2024 submissions] D1.IV.1a-c -- Appeal Outcomes: New questions that ask for counts of appeals denied or favorable to the enrollee. [reporting required for 6/2025 submissions] D1.X.6 and D1.X.7 -- Program Integrity Referrals to the State: New response option added to questions that ask about the referral path that a plan uses to make program integrity referrals to the state. The new response option enables states to indicate that the plan makes referrals to the state Medicaid agency only. [effective immediately] D1.X.9a-d -- Overpayment Reporting: Refined question D.X.9, which was a free-text question asking for multiple pieces of information, now split into four questions. [effective immediately] D3.VIII.2 -- Sanctions: Intervention Topic was renamed "Plan performance issue." Added Mental Health and Substance Use Disorder Parity compliance as a response option under "Plan performance issue" and renamed "Excess charges" as "Financial issues." [effective immediately] Section D4.XI -- In Lieu of Services and Settings: New section. [reporting required for 12/2025 submissions]

Sheet A_Program_Info
A1: [A] Program Information
A2: # | B2: Question or Indicator | C2: Instruction | D2: Your Response
A3: A.1 | B3: State name | C3: Select the state for which you are submitting this report. | D3: Massachusetts
A4: A.2a | B4: Contact name | C4: Enter person's name or a position title for CMS to contact with questions about this report. States that do not wish to list a specific individual on the report are encouraged to use a department or program-wide email address that will allow anyone with questions to quickly reach someone who can provide answers. | D4: Alison Kirchgasser
A5: A.2b | B5: Contact email address | C5: Enter email address. Department or program-wide email addresses ok. | D5: alison.kirchgasser@mass.gov
A6: A.3a | B6: Submitter name | C6: Enter your name as the person submitting the report. | D6: Alison Kirchgasser
A7: A.3b | B7: Submitter email address | C7: Enter your email address as the person submitting the report. | D7: alison.kirchgasser@mass.gov
A8: A.4 | B8: Date of report submission | C8: Enter the date the report is being submitted to CMS.
A9: A.5a | B9: Reporting period start date | C9: Enter the start date of the reporting period represented in the report. | D9: 45292
A10: A.5b | B10: Reporting period end date | C10: Enter the end date of the reporting period represented in the report. | D10: 45657
A11: A.6 | B11: Program name | C11: Enter name of the program for which the state is reporting data. For this report, a program is defined by a contract between the state and a managed care plan (or group of plans), which articulates a standard set of benefits, eligibility criteria, reporting requirements, and has a set of rate cells specific to that program. | D11: Accountable Care Partnership Plan (ACPP)
A12: A.7 | B12: Plan 1 | C12: Enter the name of each plan that participates in the program for which the state is reporting data. If the program contracts with fewer than 35 plans, leave unused fields blank. | D12: Be Healthy Partnership Plan
B13: Plan 2 | D13: Berkshire Fallon Health Collaborative
B14: Plan 3 | D14: Fallon 365 Care
B15: Plan 4 | D15: Fallon Health-Atrius Health Care Collaborative
B16: Plan 5 | D16: Mass General Brigham Health Plan with Mass General Brigham ACO
B17: Plan 6 | D17: Tufts Health Together with Cambridge Health Alliance (CHA)
B18: Plan 7 | D18: Tufts Health Together with UMass Memorial Health
B19: Plan 8 | D19: East Boston Neighborhood Health WellSense Alliance
B20: Plan 9 | D20: WellSense Beth Israel Lahey Health (BILH) Performance Network ACO
B21: Plan 10 | D21: WellSense Boston Children's ACO
B22: Plan 11 | D22: WellSense Care Alliance
B23: Plan 12 | D23: WellSense Community Alliance
B24: Plan 13 | D24: WellSense Mercy Alliance
... B26: Plan 15 | D26: WellSense Southcoast Alliance
B27: Plan 16
B28: Plan 17
B29: Plan 18
B30: Plan 19
B31: Plan 20
B32: Plan 21
B33: Plan 22
B34: Plan 23
B35: Plan 24
B36: Plan 25
B37: Plan 26
B38: Plan 27
... B46: Plan 35
A47: A.8 | B47: BSS entity 1 | C47: Enter the names of the beneficiary support system (BSS) entities that support enrollees in the program for which the state is reporting data. If the program contracts with fewer than 10 BSS entities, leave unused fields blank. If the program includes more than 10 BSS entities, contact CMS for guidance. | D47: Automated Health Systems (AHS)
B48: BSS entity 2 | D48: My Ombudsman
...

Sheet B_State
A1: [B] State-Level Indicators
A2: # | B2: Indicator | C2: Instruction | D2: Your Response
A3: I. Program Characteristics and Enrollment
A4: B.I.1 | B4: Statewide Medicaid enrollment | C4: Enter the average number of individuals enrolled in Medicaid per month during the reporting year (i.e., average member months). Include all FFS and managed care enrollees and count each person only once, regardless of the delivery system(s) in which they are enrolled. | D4: 2084533
A5: B.I.2 | B5: Statewide Medicaid managed care enrollment | C5: Enter the average number of individuals enrolled in any type of Medicaid managed care per month during the reporting year (i.e., average member months). Include all managed care programs and count each person only once, even if they are enrolled in multiple managed care programs or plans. | D5: 1441275
A6: III. Encounter Data Reporting
A7: B.III.1 | B7: Data validation entity | C7: Select the state agency/division or contractor tasked with evaluating the validity of encounter data submitted by MCPs. Encounter data validation includes verifying the accuracy, completeness, timeliness, and/or consistency of encounter data records submitted to the state by Medicaid managed care plans. Validation steps may include pre-acceptance edits and post-acceptance analyses. (See Glossary definition for more information.) | D7: State Medicaid agency staff
A8: B.III.2 | B8: HIPAA compliance of proprietary system(s) for encounter data validation | C8: If the state selected “proprietary system(s)” in previous question, were the system(s) utilized fully HIPAA compliant? Select one.
A9: X. Program Integrity
A10: B.X.1 | B10: Payment risks between the state and plans | C10: Describe service-specific or other focused PI activities that the state conducted during the past year in this managed care program. Examples include analyses focused on use of long-term services and supports (LTSS) or prescription drugs or activities that focused on specific payment issues to identify, address, and prevent fraud, waste or abuse. Consider data analytics, reviews of under/overutilization, and other activities. If no PI activities were performed, enter 'No PI activities were performed during the reporting period' as your response. 'N/A' is not an acceptable response. | D10: The MassHealth Program Integrity Unit and Compliance Unit met quarterly with ACPPs to discuss contract management and topics related to controls against fraud, waste and abuse, including but not limited to recent trends, audits, overpayment issues, reporting, and best practices for program integrity controls. In addition, MassHealth reviewed the ACPPs annual Compliance Plan and Anti-Fraud, Waste and Abuse Plan, in order to ensure compliance with applicable contract requirements and to ensure ACPPs have appropriate controls in place. In addition, in January and July 2024, MassHealth continued to collect and review ACPPs Summary of Provider Overpayments Report. This semi-annual report includes all overpayments identified during the prior Contract Year through present, including all investigatory and recovery activity related to such overpayments. These reports now provide MassHealth with comprehensive information related to the impact of ACPPs’ controls, including the breadth of provider types reviewed and methodologies employed; the number and amount of overpayments identified and recovered by ACPPs; the reasons for overpayments; next steps and actions taken; and claim-level detail to enable validation of recovery activity in the encounter data and financial reporting. In Contract Year 2024, MassHealth’s primary focus was on ensuring compliance with these requirements. MassHealth utilized information contained in the Summary of Provider Overpayments reports to share best practices across ACPPs to monitor performance management and enforce the relevant contract provisions related to overpayments that the plans may have failed to identify and/or recover. The strengthening of ACPP contractual provisions related to overpayments in 2023, allowed MassHealth expanded oversight of ACPP to include direct audits of ACPP providers and encounters for Contract Year 2024, for dates of services in 2023. Audit findings and overpayments identified through encounter analysis for these findings were shared with ACPPs for collection in Q1 of 2025.
A11: B.X.2 | B11: Contract standard for overpayments | C11: Does the state allow plans to retain overpayments, require the return of overpayments, or has established a hybrid system? Select one. | D11: State has established a hybrid system
A12: B.X.3 | B12: Location of contract provision stating overpayment standard | C12: Describe where the overpayment standard in the previous indicator is located in plan contracts, as required by 42 CFR 438.608(d)(1)(i). | D12: 2.3.D.4.b
A13: B.X.4 | B13: Description of overpayment contract standard | C13: Briefly describe the overpayment standard (for example, details on whether the state allows plans to retain overpayments, requires the plans to return overpayments, or administers a hybrid system) selected in indicator B.X.2. | D13: If a plan identifies an overpayment prior to the state, the plan shall recover the overpayment and may retain the overpayment. If no collection action is taken by the plan within 180 days, the plan must report that no action was taken and provide a justification for failure to recover. If the state identifies an overpayment prior to the plan, the state may explore options, up to and including recovering the overpayment from the plan.
A14: B.X.5 | B14: State overpayment reporting monitoring | C14: Describe how the state monitors plan performance in reporting overpayments to the state, e.g. does the state track reporting from plans with requirements and/or timeliness of reporting? The regulations at 438.604(a)(7), 608(a)(2) and 608(a)(3) require plan reporting to the state on various overpayment topics (whether annually or promptly). This indicator is asking the state how it monitors that reporting. | D14: ACPPs are contractually required to submit the following overpayment reports: (1) Notification of Provider Overpayments (ad hoc within 5 days of overpayment identification); (2) Response to Overpayments Identified by EOHHS Report (ad hoc) (3) Agreed Upon Overpayments Collection Report (ad hoc); (4) Self-Reported Disclosures Report (ad hoc); (5) Summary of Provider Overpayments (semi-annually); and (5) Program Integrity Compliance Plan and Anti-Fraud, Waste and Abuse Plan (annual). Each of the ad hoc reports are screened by MassHealth. The semi annual and annual reports are reviewed by MassHealth for compliance, performance management, and best practices.
A15: B.X.6 | B15: Changes in beneficiary circumstances | C15: Describe how the state ensures timely and accurate reconciliation of enrollment files between the state and plans to ensure appropriate payments for enrollees experiencing a change in status (e.g., incarcerated, deceased, switching plans). | D15: Plans must report to EOHHS when they receive information on a change in Enrollee circumstances which may impact their eligibility primarily via a daily enrollment file exchange. The state and the plans use the daily enrollment files and other reporting to reconcile changes in Enrollee enrollment status, including but not limited to, a change in an Enrollee's residence, identification of TPL, or death of an Enrollee. Plans must have member permission to report a change of residence.
A16: B.X.7a | B16: Changes in provider circumstances: Monitoring plans | C16: Does the state monitor whether plans report provider “for cause” terminations in a timely manner under 42 CFR 438.608(a)(4)? Select one. | D16: Yes
A17: B.X.7b | B17: Changes in provider circumstances: Metrics | C17: If the state monitors whether plans report provider “for cause” terminations in a timely manner in the previous indicator, does the state use a metric or indicator to assess plan reporting performance? Select one. | D17: Yes
A18: B.X.7c | B18: Changes in provider circumstances: Describe metric | C18: If the state uses a metric or indicator to assess plan reporting performance in item B.X.7b, describe the metric or indicator that the state uses. | D18: Plans must report no later than five business days when it receives information about a change in a provider's circumstances that may impact its ability to participate in the plan's network or the state.
A19: B.X.8a | B19: Federal database checks: Excluded person or entities | C19: During the state's federal database checks, did the state find any person or entity excluded? Select one. Consistent with the requirements at 42 CFR 455.436 and 438.602, the State must confirm the identity and determine the exclusion status of the MCO, PIHP, PAHP, PCCM or PCCM entity, any subcontractor, as well as any person with an ownership or control interest, or who is an agent or managing employee of the MCO, PIHP, PAHP, PCCM or PCCM entity through routine checks of Federal databases. | D19: No
A20: B.X.8b | B20: Federal database checks: Summarize instances of exclusion | C20: If the state responded "yes" to the previous indicator, summarize the instances and whether the entity was notified as required in 438.602(d). Enter N/A if not applicable. Report actions taken, such as plan-level sanctions and corrective actions.
A21: B.X.9a | B21: Website posting of 5 percent or more ownership control | C21: Does the state post on its website the names of individuals and entities with 5% or more ownership or control interest in MCOs, PIHPs, PAHPs, PCCMs and PCCM entities and subcontractors? Refer to §455.104 and required by 42 CFR 438.602(g)(3). | D21: No
A22: B.X.9b | B22: Website posting of 5 percent or more ownership control | C22: If the state responded "yes" in the previous indicator, what is the link to the website? Enter N/A if not applicable. Refer to 42 CFR 602(g)(3).
A23: B.X.10 | B23: Periodic audits | C23: If the state conducted any audits during the contract year to determine the accuracy, truthfulness, and completeness of the encounter and financial data submitted by the plans, provide the link(s) to the audit results. Refer to 42 CFR 438.602(e). If no audits were conducted, please enter 'No such audits were conducted during the reporting year' as your response. 'N/A' is not an acceptable response. | D23: The State implemented the requirement in July 2023 by contracting a vendor to conduct an independent audit of the accuracy, truthfulness, and completeness of the encounter and financial data submitted by, or on behalf of, each MCO, PIHP or PAHP. Audit work has been ongoing since implementation and is being conducted in two parts, with Managed Care Organizations, Accountable Care Organizations, and the Massachusetts Behavioral Health Partnership audited in the first year and the Senior Care Options Plans and One Care Plans in the second year. The auditor will be able to complete its reporting for the first round of audits following final calculations of RY22 risk sharing reconciliation. MassHealth has completed its final RY22 reconciliation calculations and anticipates plans completing their provider-level reconciliations, if any, in the coming months. We anticipate the first round of audit reports will be complete thereafter.

Sheet C1_Program_Set
A1: [C1] Program-Level, Set Indicators
A2: # | B2: Indicator | C2: Instruction | D2: Your Response
A3: I. Program Characteristics and Enrollment
A4: C1.I.1 | B4: Program contract | C4: Enter the title and date of the contract between the state and plans participating in the managed care program. | D4: Accountable Care Partnership Plan (ACPP) Contract - 4/1/2023
A5: C1.I.2 | B5: Contract URL | C5: Provide the hyperlink to the model contract or landing page for executed contracts for the program reported in this program. | D5: Accountable Care Partnership Plan Contracts | Mass.gov
A6: C1.I.3 | B6: Program type | C6: What is the type of MCPs that contract with the state to provide the services covered under the program? Select one. | D6: Managed Care Organization (MCO)
A7: C1.I.4a | B7: Special program benefits | C7: Are any of the four special benefit types covered by the managed care program: (1) behavioral health, (2) long-term services and supports, (3) dental, and (4) transportation, or (5) none of the above? Select one or more. Only list the benefit type if it is a covered service as specified in a contract between the state and managed care plans participating in the program. Benefits available to eligible program enrollees via fee-for-service should not be listed here. | D7: 1, 4
A8: C1.I.4b | B8: Variation in special benefits | C8: Are there any variations in the availability of special benefits within the program (e.g. by service area or population)? Enter "N/A" if not applicable. | D8: Benefits vary by coverage type. Note that ACPP plans cover emergency transportation and certain non-emergent, out-of-state transportation.
A9: C1.I.5 | B9: Program enrollment | C9: Enter the average number of individuals enrolled in this managed care program per month during the reporting year (i.e., average member months). | D9: 866041
A10: C1.I.6 | B10: Changes to enrollment or benefits | C10: Briefly explain any major changes to the population enrolled in or benefits provided by the managed care program during the reporting year. If there were no major changes, please enter 'There were no major changes to the population or benefits during the reporting year' as your response. 'N/A' is not an acceptable response. | D10: There were no major changes to the population or benefits during the reporting year
A11: III. Encounter Data Reporting
A12: C1.III.1 | B12: Uses of encounter data | C12: For what purposes does the state use encounter data collected from managed care plans (MCPs)? Select one or more and/or use free text for "other". Federal regulations require that states, through their contracts with MCPs, collect and maintain sufficient enrollee encounter data to identify the provider who delivers any item(s) or service(s) to enrollees (42 CFR 438.242(c)(1)). | D12: Rate Setting - Yes Quality/Performance Measurement - Yes Monitoring & Reporting - Yes Contract Oversight - Yes Program Integrity - Yes Policy Making and Decision Support - Yes
A13: C1.III.2 | B13: Criteria/ measures used to evaluate MCP performance | C13: What types of measures are used by the state to evaluate managed care plan performance in encounter data submission and correction? Select one or more and/or use free text for "other". Federal regulations also require that states validate that submitted enrollee encounter data they receive is a complete and accurate representation of the services provided to enrollees under the contract between the state and the MCO, PIHP, or PAHP. 42 CFR 438.242(d). | D13: Timeliness of initial data submission - Yes Timeliness of data corrections - Yes Timeliness of Data Certifications - No Use of correct file formats - Yes Provider ID field complete - No Overall data accuracy - Yes
A14: C1.III.3 | B14: Encounter data performance criteria contract language | C14: Provide reference(s) to the contract section(s) that describe the criteria by which managed care plan performance on encounter data submission and correction will be measured. Use contract section references, not page numbers. | D14: 2.15.B Appendix E
A15: C1.III.4 | B15: Financial penalties contract language | C15: Provide reference(s) to the contract section(s) that describes any financial penalties the state may impose on plans for the types of failures to meet encounter data submission and quality standards. Use contract section references, not page numbers. | D15: 2.15.B 5.4., including 5.4.D
A16: C1.III.5 | B16: Incentives for encounter data quality | C16: Describe the types of incentives that may be awarded to managed care plans for encounter data quality. Reply with N/A if the plan does not use incentives to award encounter data quality. | D16: N/A
A17: C1.III.6 | B17: Barriers to collecting/validating encounter data | C17: Describe any barriers to collecting and/or validating managed care plan encounter data that the state has experienced during the reporting year. If there were no barriers, please enter 'The state did not experience any barriers to collecting or validating encounter data during the reporting year' as your response. 'N/A' is not an acceptable response. | D17: The current encounter data submission system has limited front-end validations, resulting in some data quality errors. The state anticipates forthcoming stronger front-end encounter data validations that reject non-conforming records will help. Beginning in early 2026, managed care plans will submit encounter data through the Standardized Encounter Data Program (SENDPro) application using the industry standard Electronic Data Interchange (EDI) X12 837 Post Adjudicated Claims Data Reporting (PACDR) format and the National Council for Prescription Drug Programs (NCPDP) Post Adjudication V51 Standard format, for medical and pharmacy MassHealth encounters, respectively.
A18: IV. Appeals, State Fair Hearings & Grievances
A19: C1.IV.1 | B19: State's definition of "critical incident," as used for reporting purposes in its MLTSS program | C19: If this report is being completed for a managed care program that covers LTSS, what is the definition that the state uses for "critical incidents" within the managed care program? Respond with "N/A" if the managed care program does not cover LTSS. | D19: N/A
A20: C1.IV.2 | B20: State definition of "timely" resolution for standard appeals | C20: Provide the state's definition of timely resolution for standard appeals in the managed care program. Per 42 CFR §438.408(b)(2), states must establish a timeframe for timely resolution of standard appeals that is no longer than 30 calendar days from the day the MCO, PIHP or PAHP receives the appeal. | D20: For standard resolution of Internal Appeals and notice to the affected parties, no more than 30 calendar days from the date the Contractor received either in writing or orally, whichever comes first, the Enrollee request for an Internal Appeal, unless this timeframe is extended under applicable contract provisions.
A21: C1.IV.3 | B21: State definition of "timely" resolution for expedited appeals | C21: Provide the state's definition of timely resolution for expedited appeals in the managed care program. Per 42 CFR §438.408(b)(3), states must establish a timeframe for timely resolution of expedited appeals that is no longer than 72 hours after the MCO, PIHP or PAHP receives the appeal. | D21: For expedited resolution of Internal Appeals and notice to affected parties, no more than 72 hours from the date the Contractor received the expedited Internal Appeal, unless this timeframe is extended under applicable contract provisions.
A22: C1.IV.4 | B22: State definition of "timely" resolution for grievances | C22: Provide the state's definition of timely resolution for grievances in the managed care program. Per 42 CFR §438.408(b)(1), states must establish a timeframe for timely resolution of grievances that is no longer than 90 calendar days from the day the MCO, PIHP or PAHP receives the grievance. | D22: For the standard resolution of Grievances and notice to affected parties, no more than 30 calendar days from the date the Contractor received the Grievance, either orally or in writing from a valid party.
A23: V. Availability, Accessibility, and Network Adequacy
A24: C1.V.1 | B24: Gaps/challenges in network adequacy | C24: What are the state’s biggest challenges? Describe any challenges MCPs have maintaining adequate networks and meeting access standards. If the state and MCPs did not encounter any challenges, please enter 'No challenges were encountered' as your response. 'N/A' is not an acceptable response. | D24: MassHealth ACPPs face similar challenges to those faced by all other plans (including those in the commercial insurance space) with the availability of providers for certain specialties and behavioral health services in underserved areas. Additionally, MassHealth's PCP exclusivity requirements also present some challenges as primary care practices can only serve members in one ACPP.
A25: C1.V.2 | B25: State response to gaps in network adequacy | C25: How does the state work with MCPs to address gaps in network adequacy? | D25: MassHealth uses its contract to enforce standards that protect access to care. When issues arise, we connect with ACPP key contacts to identify the issue, develop a long term plan to correct the issue, and a plan to preserve member access to services while the underlying issue is being addressed. When appropriate MassHealth also engages with our clinical staff to speak with the MCP. MassHealth has included many tools in its contracts to address non-compliance including corrective workplan, formal corrective action plan, sanctions, or contract termination.
A26: IX. Beneficiary Support System (BSS)
A27: C1.IX.1 | B27: BSS website | C27: List the website(s) and/or email address(es) that beneficiaries use to seek assistance from the BSS through electronic means. Separate entries with commas. | D27: member-issues@masshealthquestions.com, www.mass.gov/info-details/contact-masshealth-information-for-members, Disability Accommodations Ombudsman email: ADAAccommodations@mass.gov, info@myombudsman.org (email); www.myombudsman.org (general information)
A28: C1.IX.2 | B28: BSS auxiliary aids and services | C28: How do BSS entities offer services in a manner that is accessible to all beneficiaries who need their services, including beneficiaries with disabilities, as required by 42 CFR 438.71(b)(2))? 42 CFR 438.71 requires that the beneficiary support system be accessible in multiple ways including phone, Internet, in-person, and via auxiliary aids and services when requested. | D28: AHS - Contract complies with the 42 CFR 438.71(b)(2) accessibility requirements to accommodate members with disabilities. AHS is required to comply with the ADA and Section 504 of the Rehabilitation Act of 1973 (Section 504) (29 USC §794) and ensure that beneficiaries with disabilities are provided with reasonable accommodations, which include but are not limited to: 1. Providing assistance to customers with visual impairments (e.g., large print versions of all written materials); 2. Providing auxiliary aids and services; 3. Ensuring that all written materials are available in formats compatible with optical recognition software; 4. Reading notices and other written materials to individuals upon request; 5. Assisting Customers to complete forms; 6. Ensuring effective communication with individuals with disabilities through email, telephone, and other electronic means; 7. Ensuring the Contractor’s website complies with all ADA and Section 504 requirements, as well as ITD requirements for accessibility and other Commonwealth and EOHHS requirements; 8. Providing TTY, computer-aided transcription services, telephone handset amplifiers, assistive listening systems, closed caption decoders, videotext displays and qualified interpreters for the deaf; and 9. Providing individualized assistance, as necessary. My Ombudsman: • Can be reached by phone (855-781-9898); videophone (for Deaf and Hard of Hearing members: 339-224-6831); via email (info@myombudsman.org) and in person (drop in or by appointment) on certain days. They also have virtual resources on their website: www.myombudsman.org • Have a fully accessible physical location that members may go to for drop in or in-person assistance on certain days • Maintains Vlogs (Video Blog) that provide information about My Ombudsman in ASL (all currently on YouTube) and other MH topics for Deaf and Hard of Hearing members. • Provides My Ombudsman information in large print. • Their website has an application that allows users with specific disabilities to adjust the website’s design to their personal needs to ensure accessibility. • Uses technology such as QR codes to help make materials more accessible to those with vision disabilities. • has in-house staff who can provide services to One Care enrollees in American Sign Language (ASL), Hindi, Spanish, and Haitian-Creole. • can provide additional interpreters for all its services and activities in over 165 different languages (upon request). • provides My Ombudsman informational materials in English, Chinese, Haitian-Creole, Portuguese, Russian, Spanish, and Vietnamese. • Provides additional language translation services as needed. • Also does in-person and virtual outreach with community based organizations and at community events.
A29: C1.IX.3 | B29: BSS LTSS program data | C29: How do BSS entities assist the state with identifying, remediating, and resolving systemic issues based on a review of LTSS program data such as grievances and appeals or critical incident data? Refer to 42 CFR 438.71(d)(4). | D29: N/A
A30: C1.IX.4 | B30: State evaluation of BSS entity performance | C30: How does the state evaluate the quality, effectiveness, and efficiency of the BSS entities' performance? | D30: AHS - The State evaluates AHS’s quality, effectiveness, and efficiency through various contract management, internal controls, and reporting requirements. For example, Section 2.10 of AHS’s contract requires that AHS participate in contract management meetings on an ad hoc quarterly basis to address project plans, operational issues, progress toward annual goals, and the status of any Quality Improvement Projects. Upon the State’s request, AHS is also required to work with EOHHS and designated vendors to enhance program and operational efficiency. AHS is further required to conduct an independent annual compliance audit, cooperate and participate in program or financial audits and maintain and submit to EOHHS fraud, waste, and abuse protocols (see Section 2.9). AHS is also required to submit standard reports on a weekly, monthly, quarterly and ad hoc basis (see Section 2.5). AHS is further required to use principles of continuous quality improvement to satisfy its obligations under its contract, which include analyzing data measuring contractor performance, training staff, recommending operational improvements, and identifying and implementing Quality Improvement Projects and related reports (see Section 2.6). My Ombudsman - The State evaluates My Ombudsman’s quality, effectiveness and efficiency through various contract management, internal controls and reporting requirements; through routine review of satisfaction survey data (My Ombudsman asks each member they work with to complete a survey to evaluate their satisfaction with services once a case has been closed); and through weekly case meetings
A31: X. Program Integrity
A32: C1.X.3 | B32: Prohibited affiliation disclosure | C32: Did any plans disclose prohibited affiliations? If the state took action, enter those actions on Tab D3 Sanctions. Select one. Refer to 42 CFR 438.610(d). | D32: No
A33: XII. Mental Health and Substance Use Disorder Parity
A34: Beginning December 2024, this section must be completed for programs that include MCOs.
A35: C1.XII.4 | B35: Does this program include MCOs? | C35: If "Yes," please complete the following questions. | D35: Yes
A36: C1.XII.5 | B36: Are ANY services provided to MCO enrollees by a PIHP, PAHP, or FFS delivery system? | C36: (i.e., some services are delivered via fee for service (FFS), prepaid inpatient health plan (PIHP), or prepaid ambulatory health plan (PAHP) delivery system) | D36: Yes
A37: C1.XII.6 | B37: Did the State or MCOs complete the analysis(es)? | D37: MCO
A38: C1.XII.7a | B38: Have there been any events in the reporting period that necessitated an update to the parity analysis(es)? | C38: (e.g., changes in benefits, quantitative treatment limits (QTLs), non-quantitative treatment limits (NQTLs), or financial requirements; the addition of a new managed care plan (MCP) providing services to MCO enrollees; and/or deficiencies corrected) | D38: No
A39: C1.XII.7b | B39: Describe the event(s) that necessitated an update to the parity analysis(es). | C39: If the state responded "Yes" to the previous indicator, select all that apply.
A40: C1.XII.8 | B40: When was the last parity analysis(es) for this program completed? | C40: States with ANY services provided to MCO enrollees by an entity other than an MCO should report the date the state completed its most recent summary parity analysis report. States with NO services provided to MCO enrollees by an entity other than an MCO should report the most recent date any MCO sent the state its parity analysis (the state may have multiple reports, one for each MCO). MM/DD/YYYY | D40: 45627
...

Sheet C2_Program_State
A1: [C2] Program-Level, State-Specific Indicators: Availability, Accessibility, and Network Adequacy
A2: # | B2: Indicator | C2: Instruction | D2: Measure #1 | E2: Measure #2 | F2: Measure #3 | G2: Measure #4 | H2: Measure #5 | I2: Measure #6 | J2: Measure #7 | K2: Measure #8 | L2: Measure #9 | M2: Measure #10 | N2: Measure #11 | O2: Measure #12 | P2: Measure #13 | Q2: Measure #14 | R2: Measure #15 | S2: Measure #16 | T2: Measure #17 | U2: Measure #18 | V2: Measure #19 | W2: Measure #20 | X2: Measure #21 | Y2: Measure #22 | Z2: Measure #23 | AA2: Measure #24 | AB2: Measure #25 | AC2: Measure #26 | AD2: Measure #27 | AE2: Measure #28 | AF2: Measure #29 | AG2: Measure #30 | AH2: Measure #31 | AI2: Measure #32 | AJ2: Measure #33 | AK2: Measure #34 | AL2: Measure #35 | AM2: Measure #36 | AN2: Measure #37 | AO2: Measure #38 | AP2: Measure #39 | AQ2: Measure #40 | AR2: Measure #41 | AS2: Measure #42 | AT2: Measure #43 | AU2: Measure #44 | AV2: Measure #45 | AW2: Measure #46 | AX2: Measure #47 | AY2: Measure #48 | AZ2: Measure #49 | BA2: Measure #50 | BB2: Measure #51 | BC2: Measure #52 | BD2: Measure #53 | BE2: Measure #54 | BF2: Measure #55 | BG2: Measure #56 | BH2: Measure #57 | BI2: Measure #58 | BJ2: Measure #59 | BK2: Measure #60 | BL2: Measure #61 | BM2: Measure #62 | BN2: Measure #63 | BO2: Measure #64 | BP2: Measure #65 | BQ2: Measure #66 | BR2: Measure #67 | BS2: Measure #68 | BT2: Measure #69 | BU2: Measure #70 | BV2: Measure #71 | BW2: Measure #72 | BX2: Measure #73 | BY2: Measure #74 | BZ2: Measure #75 | CA2: Measure #76 | CB2: Measure #77 | CC2: Measure #78 | CD2: Measure #79 | CE2: Measure #80 | CF2: Measure #81 | CG2: Measure #82 | CH2: Measure #83 | CI2: Measure #84 | CJ2: Measure #85 | CK2: Measure #86 | CL2: Measure #87 | CM2: Measure #88
A3: Instruction
A4: Describe the measures the state uses to monitor availability, accessibility, and network adequacy. Report at the program level.
A6: Background
A7: Revisions to the Medicaid managed care regulations in 2016 and 2020 built on existing requirements that managed care plans maintain provider networks sufficient to ensure adequate access to covered services by: (1) requiring states to develop quantitative network adequacy standards for at least eight specified provider types if covered under the contract, and to make these standards available online; (2) strengthening network adequacy monitoring requirements; and (3) addressing the needs of people with long-term care service needs (42 CFR 438.66; 42 CFR 438.68). 42 CFR 438.66(e) specifies that the MCPAR must provide information on and an assessment of the availability and accessibility of covered services within the MCO, PHIP, or PAHP contracts, including network adequacy standards for each managed care program.
A8: V. Availability, Accessibility & Network Adequacy
A9: C2.V.1 | B9: General category | C9: Select one | D9: General quantitative availability and accessibility standard | E9: General quantitative availability and accessibility standard | F9: General quantitative availability and accessibility standard | G9: General quantitative availability and accessibility standard | H9: General quantitative availability and accessibility standard | I9: General quantitative availability and accessibility standard | J9: General quantitative availability and accessibility standard | K9: General quantitative availability and accessibility standard | L9: General quantitative availability and accessibility standard | M9: General quantitative availability and accessibility standard | N9: General quantitative availability and accessibility standard | O9: General quantitative availability and accessibility standard | P9: General quantitative availability and accessibility standard | Q9: General quantitative availability and accessibility standard | R9: General quantitative availability and accessibility standard | S9: General quantitative availability and accessibility standard | T9: General quantitative availability and accessibility standard | U9: General quantitative availability and accessibility standard | V9: General quantitative availability and accessibility standard | W9: General quantitative availability and accessibility standard | X9: General quantitative availability and accessibility standard | Y9: General quantitative availability and accessibility standard | Z9: General quantitative availability and accessibility standard | AA9: General quantitative availability and accessibility standard | AB9: General quantitative availability and accessibility standard | AC9: General quantitative availability and accessibility standard | AD9: General quantitative availability and accessibility standard | AE9: General quantitative availability and accessibility standard | AF9: General quantitative availability and accessibility standard | AG9: General quantitative availability and accessibility standard | AH9: General quantitative availability and accessibility standard | AI9: General quantitative availability and accessibility standard | AJ9: General quantitative availability and accessibility standard | AK9: General quantitative availability and accessibility standard | AL9: General quantitative availability and accessibility standard | AM9: General quantitative availability and accessibility standard | AN9: General quantitative availability and accessibility standard | AO9: General quantitative availability and accessibility standard | AP9: General quantitative availability and accessibility standard | AQ9: General quantitative availability and accessibility standard | AR9: General quantitative availability and accessibility standard | AS9: General quantitative availability and accessibility standard | AT9: General quantitative availability and accessibility standard | AU9: General quantitative availability and accessibility standard | AV9: General quantitative availability and accessibility standard | AW9: General quantitative availability and accessibility standard | AX9: General quantitative availability and accessibility standard | AY9: General quantitative availability and accessibility standard | AZ9: General quantitative availability and accessibility standard | BA9: General quantitative availability and accessibility standard | BB9: General quantitative availability and accessibility standard | BC9: General quantitative availability and accessibility standard | BD9: General quantitative availability and accessibility standard | BE9: General quantitative availability and accessibility standard | BF9: General quantitative availability and accessibility standard | BG9: General quantitative availability and accessibility standard | BH9: General quantitative availability and accessibility standard | BI9: General quantitative availability and accessibility standard | BJ9: General quantitative availability and accessibility standard | BK9: General quantitative availability and accessibility standard | BL9: General quantitative availability and accessibility standard | BM9: General quantitative availability and accessibility standard | BN9: General quantitative availability and accessibility standard | BO9: General quantitative availability and accessibility standard | BP9: General quantitative availability and accessibility standard | BQ9: General quantitative availability and accessibility standard | BR9: General quantitative availability and accessibility standard | BS9: General quantitative availability and accessibility standard | BT9: General quantitative availability and accessibility standard | BU9: General quantitative availability and accessibility standard | BV9: General quantitative availability and accessibility standard | BW9: General quantitative availability and accessibility standard | BX9: General quantitative availability and accessibility standard | BY9: General quantitative availability and accessibility standard | BZ9: General quantitative availability and accessibility standard | CA9: General quantitative availability and accessibility standard | CB9: General quantitative availability and accessibility standard | CC9: General quantitative availability and accessibility standard | CD9: General quantitative availability and accessibility standard | CE9: General quantitative availability and accessibility standard | CF9: General quantitative availability and accessibility standard | CG9: General quantitative availability and accessibility standard | CH9: General quantitative availability and accessibility standard | CI9: General quantitative availability and accessibility standard | CJ9: General quantitative availability and accessibility standard | CK9: General quantitative availability and accessibility standard | CL9: General quantitative availability and accessibility standard | CM9: General quantitative availability and accessibility standard
A10: C2.V.2 | B10: Measure standard | C10: What is the standard for your program-level indicators? Add a description | D10: Two open PCP panels within 15 miles or 30 minutes | E10: Two open PCP panels within 40 miles or 40 minutes | F10: Two open PCP panels within 15 miles or 30 minutes | G10: Two open PCP panels within 40 miles or 40 minutes | H10: One adult PCP for every 750 adult Enrollees | I10: One pediatric PCP for every 750 pediatric Enrollees | J10: 20 miles or 40 minutes | K10: 20 miles or 40 minutes, or the closest acute inpatient hospital located outside these Service Areas | L10: 15 miles or 30 minutes | M10: 15 miles or 30 minutes | N10: 30 miles or 60 minutes | O10: Two providers within 15 miles or 30 minutes | P10: One OBGYN for every 500 Enrollees | Q10: 15 miles or 30 minutes | R10: 20 miles or 40 minutes | S10: 20 miles or 40 minutes | T10: 20 miles or 40 minutes | U10: 20 miles or 40 minutes | V10: 20 miles or 40 minutes | W10: 20 miles or 40 minutes | X10: 20 miles or 40 minutes | Y10: 20 miles or 40 minutes | Z10: 20 miles or 40 minutes | AA10: 20 miles or 40 minutes | AB10: 20 miles or 40 minutes | AC10: 20 miles or 40 minutes | AD10: 20 miles or 40 minutes | AE10: 20 miles or 40 minutes | AF10: 20 miles or 40 minutes | AG10: 20 miles or 40 minutes | AH10: 20 miles or 40 minutes | AI10: 20 miles or 40 minutes | AJ10: 20 miles or 40 minutes | AK10: 20 miles or 40 minutes | AL10: 20 miles or 40 minutes | AM10: 20 miles or 40 minutes | AN10: 40 miles or 40 minutes | AO10: 40 miles or 40 minutes | AP10: 40 miles or 40 minutes | AQ10: 40 miles or 40 minutes | AR10: 40 miles or 40 minutes | AS10: 40 miles or 40 minutes | AT10: 40 miles or 40 minutes | AU10: 40 miles or 40 minutes | AV10: 40 miles or 40 minutes | AW10: 40 miles or 40 minutes | AX10: 40 miles or 40 minutes | AY10: 40 miles or 40 minutes | AZ10: 40 miles or 40 minutes | BA10: 40 miles or 40 minutes | BB10: 40 miles or 40 minutes | BC10: 40 miles or 40 minutes | BD10: 40 miles or 40 minutes | BE10: 40 miles or 40 minutes | BF10: 40 miles or 40 minutes | BG10: 40 miles or 40 minutes | BH10: 40 miles or 40 minutes | BI10: 40 miles or 40 minutes | BJ10: Primary care: within 48 hours of the Enrollee’s request for Urgent Care | BK10: Primary care: within 10 calendar days of the Enrollee’s request for Symptomatic Care | BL10: Primary care: within 45 calendar days of the Enrollee’s request for Non-Symptomatic Care | BM10: Assure the provision of screenings in accordance with the schedule established by the EPSDT Periodicity Schedule | BN10: Two within 60 miles or 60 minutes | BO10: Two within 60 miles or 60 minutes | BP10: Two within 60 miles or 60 minutes | BQ10: Two closest providers to Service Area | BR10: Two within 30 miles or 30 minutes | BS10: Two within 30 miles or 30 minutes | BT10: Four closest providers to Service Area | BU10: Two within 30 miles or 30 minutes | BV10: Two within 30 miles or 30 minutes | BW10: Two within 30 miles or 30 minutes | BX10: Two within 30 miles or 30 minutes | BY10: Two within 30 miles or 30 minutes | BZ10: Two within 30 miles or 30 minutes | CA10: Two within 30 miles or 30 minutes | CB10: Two within 30 miles or 30 minutes | CC10: Two within 30 miles or 30 minutes | CD10: Two within 30 miles or 30 minutes | CE10: 30 miles or 30 minutes | CF10: Two within 30 miles or 30 minutes | CG10: Two within 30 miles or 30 minutes | CH10: Two within 30 miles or 30 minutes | CI10: One provider statewide | CJ10: One provider statewide | CK10: One provider statewide | CL10: One provider statewide | CM10: Two within 30 miles or 30 minutes
