{"text_format":"1","workbook":"xlsx","n_sheets":4,"sheets":["solver","BasinData","Sheet1","plot"],"not_rendered":{"charts":1,"images":0,"macros":1,"external_links":0,"defined_names":1,"comments":0,"pivot_tables":0},"unopened":[],"bounds":{"document_bytes":16777216,"sheet_cells":100000,"rows_first":2000,"rows_last":500,"rows_between":2000,"halvings":0,"cell_chars":16384,"cell_head_chars":4096},"cells_cut":0,"cells_raw":0,"read":"whole","date_system":"1900"}

{"sheet":"solver","index":0,"n_rows":1374,"n_cols":15,"rows_kept":1374,"cut":false,"hidden":false,"merged":[]}
["BasinID","CHSLP","Solver AUGgwWp","Actual AUGgwWp","pBWet_al","IC","Solver E(y)","Density at 5% Reduction in Range ","AugPA resulting in  5% reduction","Density 15% reduction in range","AugPA resulting in 15% reduction","Density at 35% reduction in range","Aug PA resulting in 35% reduction","Density at 65% reduction in range","AugPA resulting in 65% reduction"]
[10001,{"$f":"VLOOKUP($A2,BasinData!$1:$1048576,2,FALSE)","v":1.4714374197405302E-3},3.9102763451057361,{"$f":"VLOOKUP($A2,BasinData!$1:$1048576,3,FALSE)","v":1.5319569584165711},{"$f":"VLOOKUP($A2,BasinData!$1:$1048576,4,FALSE)","v":36.099715998737771},{"$f":"VLOOKUP($A2,BasinData!$1:$1048576,5,FALSE)","v":13.2258634418234},{"$f":"EXP(6.1523-(0.084*B2)-(0.0091*C2)-(0.0289*E2)-(0.0373*F2))","v":97.513066632967622},{"$f":"VLOOKUP($A2,Sheet1!$1:$1048576,9,FALSE)","v":154.66562143705656},-46.779186071028256,{"$f":"VLOOKUP($A2,Sheet1!$1:$1048576,10,FALSE)","v":145.14016370625683},-39.794957051456301,{"$f":"VLOOKUP($A2,Sheet1!$1:$1048576,11,FALSE)","v":126.08924824465731},-24.331877918645546,{"$f":"VLOOKUP($A2,Sheet1!$1:$1048576,12,FALSE)","v":97.512875052258067},3.9102763451057361]
[10002,{"$f":"VLOOKUP($A3,BasinData!$1:$1048576,2,FALSE)","v":5.2564487102579487E-2},10.573973109826046,{"$f":"VLOOKUP($A3,BasinData!$1:$1048576,3,FALSE)","v":1.2937919634372956},{"$f":"VLOOKUP($A3,BasinData!$1:$1048576,4,FALSE)","v":54.757204895380973},{"$f":"VLOOKUP($A3,BasinData!$1:$1048576,5,FALSE)","v":11.6},{"$f":"EXP(6.1523-(0.084*B3)-(0.0091*C3)-(0.0289*E3)-(0.0373*F3))","v":56.627696688514646},{"$f":"VLOOKUP($A3,Sheet1!$1:$1048576,9,FALSE)","v":89.816819767164674},-40.115487381318793,{"$f":"VLOOKUP($A3,Sheet1!$1:$1048576,10,FALSE)","v":84.285232900879961},-33.131140453206555,{"$f":"VLOOKUP($A3,Sheet1!$1:$1048576,11,FALSE)","v":73.222059168310523},-17.667630830533508,{"$f":"VLOOKUP($A3,Sheet1!$1:$1048576,12,FALSE)","v":56.627298569456357},10.573973109826046]
[10003,{"$f":"VLOOKUP($A4,BasinData!$1:$1048576,2,FALSE)","v":3.949367088607595E-2},13.337381768307932,{"$f":"VLOOKUP($A4,BasinData!$1:$1048576,3,FALSE)","v":1.151067054896503},{"$f":"VLOOKUP($A4,BasinData!$1:$1048576,4,FALSE)","v":55.211982123444855},{"$f":"VLOOKUP($A4,BasinData!$1:$1048576,5,FALSE)","v":10.926},55.949319620160168,{"$f":"VLOOKUP($A4,Sheet1!$1:$1048576,9,FALSE)","v":88.741455438385728},-37.352467807378254,{"$f":"VLOOKUP($A4,Sheet1!$1:$1048576,10,FALSE)","v":83.276097494623144},-30.368706081525342,{"$f":"VLOOKUP($A4,Sheet1!$1:$1048576,11,FALSE)","v":72.345381607097991},-14.904976662259651,{"$f":"VLOOKUP($A4,Sheet1!$1:$1048576,12,FALSE)","v":55.949307775810261},13.337381768307932]
[10004,{"$f":"VLOOKUP($A5,BasinData!$1:$1048576,2,FALSE)","v":3.2968072171212118E-3},-31.100942868127973,{"$f":"VLOOKUP($A5,BasinData!$1:$1048576,3,FALSE)","v":100},{"$f":"VLOOKUP($A5,BasinData!$1:$1048576,4,FALSE)","v":8.5815918185860394},{"$f":"VLOOKUP($A5,BasinData!$1:$1048576,5,FALSE)","v":21.767485200613901},215.96285963245552,{"$f":"VLOOKUP($A5,Sheet1!$1:$1048576,9,FALSE)","v":342.53915191463147},-81.790979530287132,{"$f":"VLOOKUP($A5,Sheet1!$1:$1048576,10,FALSE)","v":321.44304676605014},-74.80577531161309,{"$f":"VLOOKUP($A5,Sheet1!$1:$1048576,11,FALSE)","v":279.25083646888754},-59.343171670092367,{"$f":"VLOOKUP($A5,Sheet1!$1:$1048576,12,FALSE)","v":215.96252102314364},-31.100942868127973]
[11001,{"$f":"VLOOKUP($A6,BasinData!$1:$1048576,2,FALSE)","v":0.48115503012499999},31.712415574511418,{"$f":"VLOOKUP($A6,BasinData!$1:$1048576,3,FALSE)","v":13.636630736444047},{"$f":"VLOOKUP($A6,BasinData!$1:$1048576,4,FALSE)","v":24.805332761594762},{"$f":"VLOOKUP($A6,BasinData!$1:$1048576,5,FALSE)","v":6.4430810910179304},129.81351936964731,{"$f":"VLOOKUP($A6,Sheet1!$1:$1048576,9,FALSE)","v":205.89776503304293},-18.97777453022368,{"$f":"VLOOKUP($A6,Sheet1!$1:$1048576,10,FALSE)","v":193.21705137822107},-11.992675632299839,{"$f":"VLOOKUP($A6,Sheet1!$1:$1048576,11,FALSE)","v":167.85562406857741},3.4700591215759227,{"$f":"VLOOKUP($A6,Sheet1!$1:$1048576,12,FALSE)","v":129.81348310411187},31.712415574511418]
[11002,{"$f":"VLOOKUP($A7,BasinData!$1:$1048576,2,FALSE)","v":1.5014349114867425},-11.545386057043777,{"$f":"VLOOKUP($A7,BasinData!$1:$1048576,3,FALSE)","v":1.0444611477364711},{"$f":"VLOOKUP($A7,BasinData!$1:$1048576,4,FALSE)","v":19.165023011176856},{"$f":"VLOOKUP($A7,BasinData!$1:$1048576,5,FALSE)","v":16.996600399083601},140.24629411698325,{"$f":"VLOOKUP($A7,Sheet1!$1:$1048576,9,FALSE)","v":222.44529386467644},-62.235616031387529,{"$f":"VLOOKUP($A7,Sheet1!$1:$1048576,10,FALSE)","v":208.74546047936516},-55.250390809590002,{"$f":"VLOOKUP($A7,Sheet1!$1:$1048576,11,FALSE)","v":181.3457937087426},-39.787826274743509,{"$f":"VLOOKUP($A7,Sheet1!$1:$1048576,12,FALSE)","v":140.24629355280877},-11.545386057043777]
[11003,{"$f":"VLOOKUP($A8,BasinData!$1:$1048576,2,FALSE)","v":0.7349214729507576},35.818345797472894,{"$f":"VLOOKUP($A8,BasinData!$1:$1048576,3,FALSE)","v":9.1013940653554464},{"$f":"VLOOKUP($A8,BasinData!$1:$1048576,4,FALSE)","v":29.244465624052335},{"$f":"VLOOKUP($A8,BasinData!$1:$1048576,5,FALSE)","v":5.4413708866216401},111.7753953252884,{"$f":"VLOOKUP($A8,Sheet1!$1:$1048576,9,FALSE)","v":177.28745209839951},-14.871883099991901,{"$f":"VLOOKUP($A8,Sheet1!$1:$1048576,10,FALSE)","v":166.36877401419611},-7.8872578470770369,{"$f":"VLOOKUP($A8,Sheet1!$1:$1048576,11,FALSE)","v":144.53141784578929},7.5759869183352615,{"$f":"VLOOKUP($A8,Sheet1!$1:$1048576,12,FALSE)","v":111.7753835931791},35.818345797472894]
[11004,{"$f":"VLOOKUP($A9,BasinData!$1:$1048576,2,FALSE)","v":0.88360164757765158},23.550450575015155,{"$f":"VLOOKUP($A9,BasinData!$1:$1048576,3,FALSE)","v":8.8646930466551588},{"$f":"VLOOKUP($A9,BasinData!$1:$1048576,4,FALSE)","v":32.480916030534353},{"$f":"VLOOKUP($A9,BasinData!$1:$1048576,5,FALSE)","v":8.4342407994891708},100.53166035212377,{"$f":"VLOOKUP($A9,Sheet1!$1:$1048576,9,FALSE)","v":159.45310827795808},-27.139351132965796,{"$f":"VLOOKUP($A9,Sheet1!$1:$1048576,10,FALSE)","v":149.63280154893846},-20.154121705354108,{"$f":"VLOOKUP($A9,Sheet1!$1:$1048576,11,FALSE)","v":129.99218809089928},-4.6917383478995491,{"$f":"VLOOKUP($A9,Sheet1!$1:$1048576,12,FALSE)","v":100.53126790384047},23.550450575015155]
[11005,{"$f":"VLOOKUP($A10,BasinData!$1:$1048576,2,FALSE)","v":0.78855592356628779},42.029243701527079,{"$f":"VLOOKUP($A10,BasinData!$1:$1048576,3,FALSE)","v":14.963513956690731},{"$f":"VLOOKUP($A10,BasinData!$1:$1048576,4,FALSE)","v":27.241895261845389},{"$f":"VLOOKUP($A10,BasinData!$1:$1048576,5,FALSE)","v":3.9261011271260999},117.90283341675874,{"$f":"VLOOKUP($A10,Sheet1!$1:$1048576,9,FALSE)","v":187.00613579329146},-8.6609424974321545,{"$f":"VLOOKUP($A10,Sheet1!$1:$1048576,10,FALSE)","v":175.48890898265125},-1.6757635131979296,{"$f":"VLOOKUP($A10,Sheet1!$1:$1048576,11,FALSE)","v":152.45445536137086},13.786924600648225,{"$f":"VLOOKUP($A10,Sheet1!$1:$1048576,12,FALSE)","v":117.90277492945025},42.029243701527079]
[11006,{"$f":"VLOOKUP($A11,BasinData!$1:$1048576,2,FALSE)","v":1.311279976185606},31.076508947219942,{"$f":"VLOOKUP($A11,BasinData!$1:$1048576,3,FALSE)","v":4.8390078846581348},{"$f":"VLOOKUP($A11,BasinData!$1:$1048576,4,FALSE)","v":16.279069767441861},{"$f":"VLOOKUP($A11,BasinData!$1:$1048576,5,FALSE)","v":6.5981899758407803},154.89982973090846,{"$f":"VLOOKUP($A11,Sheet1!$1:$1048576,9,FALSE)","v":245.68697453182324},-19.613538031316985,{"$f":"VLOOKUP($A11,Sheet1!$1:$1048576,10,FALSE)","v":230.55574582587988},-12.628410814581382,{"$f":"VLOOKUP($A11,Sheet1!$1:$1048576,11,FALSE)","v":200.2932884139932},2.8342869886832958,{"$f":"VLOOKUP($A11,Sheet1!$1:$1048576,12,FALSE)","v":154.89960229616315},31.076508947219942]
[11007,{"$f":"VLOOKUP($A12,BasinData!$1:$1048576,2,FALSE)","v":1.4196461348371212},26.767616174428358,{"$f":"VLOOKUP($A12,BasinData!$1:$1048576,3,FALSE)","v":1.1111653327964386},{"$f":"VLOOKUP($A12,BasinData!$1:$1048576,4,FALSE)","v":37.394385391114746},{"$f":"VLOOKUP($A12,BasinData!$1:$1048576,5,FALSE)","v":7.6494315373208099},83.382869229245074,{"$f":"VLOOKUP($A12,Sheet1!$1:$1048576,9,FALSE)","v":132.25381081538862},-23.921958538374518,{"$f":"VLOOKUP($A12,Sheet1!$1:$1048576,10,FALSE)","v":124.10863884404749},-16.937266513896322,{"$f":"VLOOKUP($A12,Sheet1!$1:$1048576,11,FALSE)","v":107.81829490136523},-1.4746352549518951,{"$f":"VLOOKUP($A12,Sheet1!$1:$1048576,12,FALSE)","v":83.382778987341837},26.767616174428358]
[11008,{"$f":"VLOOKUP($A13,BasinData!$1:$1048576,2,FALSE)","v":0.75153188214015154},37.779487667433855,{"$f":"VLOOKUP($A13,BasinData!$1:$1048576,3,FALSE)","v":13.08049525429416},{"$f":"VLOOKUP($A13,BasinData!$1:$1048576,4,FALSE)","v":27.637308074249482},{"$f":"VLOOKUP($A13,BasinData!$1:$1048576,5,FALSE)","v":4.9628060690138103},116.92668499430019,{"$f":"VLOOKUP($A13,Sheet1!$1:$1048576,9,FALSE)","v":185.45717952246633},-12.910307935126088,{"$f":"VLOOKUP($A13,Sheet1!$1:$1048576,10,FALSE)","v":174.03534894369403},-5.9250532263406752,{"$f":"VLOOKUP($A13,Sheet1!$1:$1048576,11,FALSE)","v":151.19168778614943},9.5375644786928895,{"$f":"VLOOKUP($A13,Sheet1!$1:$1048576,12,FALSE)","v":116.92619604983251},37.779487667433855]
[11009,{"$f":"VLOOKUP($A14,BasinData!$1:$1048576,2,FALSE)","v":0.28544949026876737},35.755290053129464,{"$f":"VLOOKUP($A14,BasinData!$1:$1048576,3,FALSE)","v":12.63842221144008},{"$f":"VLOOKUP($A14,BasinData!$1:$1048576,4,FALSE)","v":28.899237220278984},{"$f":"VLOOKUP($A14,BasinData!$1:$1048576,5,FALSE)","v":5.4567540586917396},117.24012960138704,{"$f":"VLOOKUP($A14,Sheet1!$1:$1048576,9,FALSE)","v":185.95508867920211},-14.934936314012829,{"$f":"VLOOKUP($A14,Sheet1!$1:$1048576,10,FALSE)","v":174.50259315638991},-7.9503011221962234,{"$f":"VLOOKUP($A14,Sheet1!$1:$1048576,11,FALSE)","v":151.59760211076548},7.5129329711333881,{"$f":"VLOOKUP($A14,Sheet1!$1:$1048576,12,FALSE)","v":117.24011554232885},35.755290053129464]
[11010,{"$f":"VLOOKUP($A15,BasinData!$1:$1048576,2,FALSE)","v":0.48429618139772723},35.564175131645776,{"$f":"VLOOKUP($A15,BasinData!$1:$1048576,3,FALSE)","v":11.825389360343005},{"$f":"VLOOKUP($A15,BasinData!$1:$1048576,4,FALSE)","v":25.323492267240844},{"$f":"VLOOKUP($A15,BasinData!$1:$1048576,5,FALSE)","v":5.5033784875101803},127.85031722437435,{"$f":"VLOOKUP($A15,Sheet1!$1:$1048576,9,FALSE)","v":202.78394317795386},-15.126042819749834,{"$f":"VLOOKUP($A15,Sheet1!$1:$1048576,10,FALSE)","v":190.29500180055413},-8.1413778902882701,{"$f":"VLOOKUP($A15,Sheet1!$1:$1048576,11,FALSE)","v":165.31711904575468},7.3218244563964516,{"$f":"VLOOKUP($A15,Sheet1!$1:$1048576,12,FALSE)","v":127.85029491355552},35.564175131645776]
[11011,{"$f":"VLOOKUP($A16,BasinData!$1:$1048576,2,FALSE)","v":0.73122789217045459},4.8197255700974644,{"$f":"VLOOKUP($A16,BasinData!$1:$1048576,3,FALSE)","v":1.4310107249656201},{"$f":"VLOOKUP($A16,BasinData!$1:$1048576,4,FALSE)","v":34.321223709369022},{"$f":"VLOOKUP($A16,BasinData!$1:$1048576,5,FALSE)","v":13.0039757637},96.552383299400361,{"$f":"VLOOKUP($A16,Sheet1!$1:$1048576,9,FALSE)","v":153.14181546462865},-45.870249703470513,{"$f":"VLOOKUP($A16,Sheet1!$1:$1048576,10,FALSE)","v":143.7102050235203},-38.885512445957701,{"$f":"VLOOKUP($A16,Sheet1!$1:$1048576,11,FALSE)","v":124.84698414130358},-23.422382757326496,{"$f":"VLOOKUP($A16,Sheet1!$1:$1048576,12,FALSE)","v":96.552152817978509},4.8197255700974644]
[11012,{"$f":"VLOOKUP($A17,BasinData!$1:$1048576,2,FALSE)","v":0.27920883164673416},39.673653561013957,{"$f":"VLOOKUP($A17,BasinData!$1:$1048576,3,FALSE)","v":12.61669552060412},{"$f":"VLOOKUP($A17,BasinData!$1:$1048576,4,FALSE)","v":26.832195891491477},{"$f":"VLOOKUP($A17,BasinData!$1:$1048576,5,FALSE)","v":4.5007525640399999},124.52265644590086,{"$f":"VLOOKUP($A17,Sheet1!$1:$1048576,9,FALSE)","v":197.50559154676429},-11.016388671105856,{"$f":"VLOOKUP($A17,Sheet1!$1:$1048576,10,FALSE)","v":185.3417302672172},-4.0311418937150272,{"$f":"VLOOKUP($A17,Sheet1!$1:$1048576,11,FALSE)","v":161.01400770812299},11.431489275648939,{"$f":"VLOOKUP($A17,Sheet1!$1:$1048576,12,FALSE)","v":124.52242386948166},39.673653561013957]
[11013,{"$f":"VLOOKUP($A18,BasinData!$1:$1048576,2,FALSE)","v":0.37181503617489781},33.890273197395224,{"$f":"VLOOKUP($A18,BasinData!$1:$1048576,3,FALSE)","v":9.9164661358988706},{"$f":"VLOOKUP($A18,BasinData!$1:$1048576,4,FALSE)","v":28.454602642063325},{"$f":"VLOOKUP($A18,BasinData!$1:$1048576,5,FALSE)","v":5.9117170980399996},117.89813474351554,{"$f":"VLOOKUP($A18,Sheet1!$1:$1048576,9,FALSE)","v":186.99846706314611},-16.799640033613322,{"$f":"VLOOKUP($A18,Sheet1!$1:$1048576,10,FALSE)","v":175.48171254986696},-9.8148768334888867,{"$f":"VLOOKUP($A18,Sheet1!$1:$1048576,11,FALSE)","v":152.44820352330865},5.6480145830491937,{"$f":"VLOOKUP($A18,Sheet1!$1:$1048576,12,FALSE)","v":117.89793998347116},33.890273197395224]
[11014,{"$f":"VLOOKUP($A19,BasinData!$1:$1048576,2,FALSE)","v":1.2708765634393941},46.42184130396474,{"$f":"VLOOKUP($A19,BasinData!$1:$1048576,3,FALSE)","v":8.394075905564554},{"$f":"VLOOKUP($A19,BasinData!$1:$1048576,4,FALSE)","v":37.305967575025875},{"$f":"VLOOKUP($A19,BasinData!$1:$1048576,5,FALSE)","v":2.8542947016300002},84.647870989275376,{"$f":"VLOOKUP($A19,Sheet1!$1:$1048576,9,FALSE)","v":134.25954162831655},-4.2677068262219358,{"$f":"VLOOKUP($A19,Sheet1!$1:$1048576,10,FALSE)","v":125.99084185615978},2.7175028942532706,{"$f":"VLOOKUP($A19,Sheet1!$1:$1048576,11,FALSE)","v":109.45344231184619},18.180140299930702,{"$f":"VLOOKUP($A19,Sheet1!$1:$1048576,12,FALSE)","v":84.647342995375794},46.42184130396474]
[11015,{"$f":"VLOOKUP($A20,BasinData!$1:$1048576,2,FALSE)","v":1.6852095289829547},37.499142438290619,{"$f":"VLOOKUP($A20,BasinData!$1:$1048576,3,FALSE)","v":2.3280125687825777},{"$f":"VLOOKUP($A20,BasinData!$1:$1048576,4,FALSE)","v":17.733230531996917},{"$f":"VLOOKUP($A20,BasinData!$1:$1048576,5,FALSE)","v":5.03118872736},143.93279675938064,{"$f":"VLOOKUP($A20,Sheet1!$1:$1048576,9,FALSE)","v":228.29141205134934},-13.19060302280767,{"$f":"VLOOKUP($A20,Sheet1!$1:$1048576,10,FALSE)","v":214.23153128667215},-6.2053469474790175,{"$f":"VLOOKUP($A20,Sheet1!$1:$1048576,11,FALSE)","v":186.11176975731775},9.2572736698309175,{"$f":"VLOOKUP($A20,Sheet1!$1:$1048576,12,FALSE)","v":143.93212746328618},37.499142438290619]
[11016,{"$f":"VLOOKUP($A21,BasinData!$1:$1048576,2,FALSE)","v":1.0116980752859848},47.793909367289793,{"$f":"VLOOKUP($A21,BasinData!$1:$1048576,3,FALSE)","v":3.262093536714131},{"$f":"VLOOKUP($A21,BasinData!$1:$1048576,4,FALSE)","v":34.912603495860168},{"$f":"VLOOKUP($A21,BasinData!$1:$1048576,5,FALSE)","v":2.5195884496300001},92.706435796703047,{"$f":"VLOOKUP($A21,Sheet1!$1:$1048576,9,FALSE)","v":147.04137640822046},-2.8957777452814311,{"$f":"VLOOKUP($A21,Sheet1!$1:$1048576,10,FALSE)","v":137.98547631457794},4.0887686478305589,{"$f":"VLOOKUP($A21,Sheet1!$1:$1048576,11,FALSE)","v":119.87367612729291},19.552085209944497,{"$f":"VLOOKUP($A21,Sheet1!$1:$1048576,12,FALSE)","v":92.705975846365334},47.793909367289793]
[11017,{"$f":"VLOOKUP($A22,BasinData!$1:$1048576,2,FALSE)","v":1.0082043216988636},-9.3650760596660962,{"$f":"VLOOKUP($A22,BasinData!$1:$1048576,3,FALSE)","v":3.4807620016410095},{"$f":"VLOOKUP($A22,BasinData!$1:$1048576,4,FALSE)","v":31.137416366443642},{"$f":"VLOOKUP($A22,BasinData!$1:$1048576,5,FALSE)","v":16.464437048200001},103.42411901767733,{"$f":"VLOOKUP($A22,Sheet1!$1:$1048576,9,FALSE)","v":164.04001675754654},-60.054342339346796,{"$f":"VLOOKUP($A22,Sheet1!$1:$1048576,10,FALSE)","v":153.93721413557151},-53.069119551307729,{"$f":"VLOOKUP($A22,Sheet1!$1:$1048576,11,FALSE)","v":133.73160889162145},-37.606547133439676,{"$f":"VLOOKUP($A22,Sheet1!$1:$1048576,12,FALSE)","v":103.42320102569637},-9.3650760596660962]
[11018,{"$f":"VLOOKUP($A23,BasinData!$1:$1048576,2,FALSE)","v":0.78414150833901519},23.726005824539772,{"$f":"VLOOKUP($A23,BasinData!$1:$1048576,3,FALSE)","v":8.2764139261231584},{"$f":"VLOOKUP($A23,BasinData!$1:$1048576,4,FALSE)","v":36.333123557793165},{"$f":"VLOOKUP($A23,BasinData!$1:$1048576,5,FALSE)","v":8.39139534217},90.69472015222226,{"$f":"VLOOKUP($A23,Sheet1!$1:$1048576,9,FALSE)","v":143.85066907290258},-26.963731683411972,{"$f":"VLOOKUP($A23,Sheet1!$1:$1048576,10,FALSE)","v":134.99127643561354},-19.9785024310968,{"$f":"VLOOKUP($A23,Sheet1!$1:$1048576,11,FALSE)","v":117.2724911610354},-4.5161775412380099,{"$f":"VLOOKUP($A23,Sheet1!$1:$1048576,12,FALSE)","v":90.694313249168218},23.726005824539772]
[11019,{"$f":"VLOOKUP($A24,BasinData!$1:$1048576,2,FALSE)","v":8.2881172002170378E-2},22.96257570215818,{"$f":"VLOOKUP($A24,BasinData!$1:$1048576,3,FALSE)","v":9.231575404960557},{"$f":"VLOOKUP($A24,BasinData!$1:$1048576,4,FALSE)","v":21.431783859529524},{"$f":"VLOOKUP($A24,BasinData!$1:$1048576,5,FALSE)","v":8.5777048963000002},147.97622167376869,{"$f":"VLOOKUP($A24,Sheet1!$1:$1048576,9,FALSE)","v":234.70521599472414},-27.727396912461497,{"$f":"VLOOKUP($A24,Sheet1!$1:$1048576,10,FALSE)","v":220.25032554535684},-20.742166791032613,{"$f":"VLOOKUP($A24,Sheet1!$1:$1048576,11,FALSE)","v":191.34054464662222},-5.2796338152229607,{"$f":"VLOOKUP($A24,Sheet1!$1:$1048576,12,FALSE)","v":147.97587329852024},22.96257570215818]
[11020,{"$f":"VLOOKUP($A25,BasinData!$1:$1048576,2,FALSE)","v":0.15872405841660261},11.981453475281505,{"$f":"VLOOKUP($A25,BasinData!$1:$1048576,3,FALSE)","v":4.3500429695859637},{"$f":"VLOOKUP($A25,BasinData!$1:$1048576,4,FALSE)","v":13.60720738198882},{"$f":"VLOOKUP($A25,BasinData!$1:$1048576,5,FALSE)","v":11.2568071906},184.34495371621546,{"$f":"VLOOKUP($A25,Sheet1!$1:$1048576,9,FALSE)","v":292.39036749971211},-38.708770766742091,{"$f":"VLOOKUP($A25,Sheet1!$1:$1048576,10,FALSE)","v":274.38279697024592},-31.723541364722323,{"$f":"VLOOKUP($A25,Sheet1!$1:$1048576,11,FALSE)","v":238.36765591131359},-16.260919841974946,{"$f":"VLOOKUP($A25,Sheet1!$1:$1048576,12,FALSE)","v":184.34494432291504},11.981453475281505]
[11021,{"$f":"VLOOKUP($A26,BasinData!$1:$1048576,2,FALSE)","v":1.8159152927594697},-14.431364274995737,{"$f":"VLOOKUP($A26,BasinData!$1:$1048576,3,FALSE)","v":2.0720308098876394},{"$f":"VLOOKUP($A26,BasinData!$1:$1048576,4,FALSE)","v":14.555160142348756},{"$f":"VLOOKUP($A26,BasinData!$1:$1048576,5,FALSE)","v":17.7005162958},156.05603545137282,{"$f":"VLOOKUP($A26,Sheet1!$1:$1048576,9,FALSE)","v":247.51962851275661},-65.120817955532388,{"$f":"VLOOKUP($A26,Sheet1!$1:$1048576,10,FALSE)","v":232.27553136282188},-58.135672383191917,{"$f":"VLOOKUP($A26,Sheet1!$1:$1048576,11,FALSE)","v":201.78733706295242},-42.673100704581671,{"$f":"VLOOKUP($A26,Sheet1!$1:$1048576,12,FALSE)","v":156.0550456131482},-14.431364274995737]
[11022,{"$f":"VLOOKUP($A27,BasinData!$1:$1048576,2,FALSE)","v":0.12024638457418318},14.251916636562616,{"$f":"VLOOKUP($A27,BasinData!$1:$1048576,3,FALSE)","v":4.5866866734098268},{"$f":"VLOOKUP($A27,BasinData!$1:$1048576,4,FALSE)","v":13.530227948463825},{"$f":"VLOOKUP($A27,BasinData!$1:$1048576,5,FALSE)","v":10.7028770352},185.3537128910489,{"$f":"VLOOKUP($A27,Sheet1!$1:$1048576,9,FALSE)","v":293.99025327908697},-36.438159550742903,{"$f":"VLOOKUP($A27,Sheet1!$1:$1048576,10,FALSE)","v":275.88414990034278},-29.453036554826504,{"$f":"VLOOKUP($A27,Sheet1!$1:$1048576,11,FALSE)","v":239.6719431428545},-13.99041983836141,{"$f":"VLOOKUP($A27,Sheet1!$1:$1048576,12,FALSE)","v":185.35363300662203},14.251916636562616]
[11023,{"$f":"VLOOKUP($A28,BasinData!$1:$1048576,2,FALSE)","v":0.77181818181818185},21.188349324088843,{"$f":"VLOOKUP($A28,BasinData!$1:$1048576,3,FALSE)","v":25.75704361141705},{"$f":"VLOOKUP($A28,BasinData!$1:$1048576,4,FALSE)","v":25.845925651246869},{"$f":"VLOOKUP($A28,BasinData!$1:$1048576,5,FALSE)","v":9.0106147110299997},122.9293885669221,{"$f":"VLOOKUP($A28,Sheet1!$1:$1048576,9,FALSE)","v":194.97881664991482},-29.501854759714483,{"$f":"VLOOKUP($A28,Sheet1!$1:$1048576,10,FALSE)","v":182.97057293587164},-22.516621142086858,{"$f":"VLOOKUP($A28,Sheet1!$1:$1048576,11,FALSE)","v":158.95408550778527},-7.0540294869740165,{"$f":"VLOOKUP($A28,Sheet1!$1:$1048576,12,FALSE)","v":122.9293543656557},21.188349324088843]
[11024,{"$f":"VLOOKUP($A29,BasinData!$1:$1048576,2,FALSE)","v":0.95118716240340917},11.440945243420082,{"$f":"VLOOKUP($A29,BasinData!$1:$1048576,3,FALSE)","v":2.0906106186009863},{"$f":"VLOOKUP($A29,BasinData!$1:$1048576,4,FALSE)","v":10.359408033826638},{"$f":"VLOOKUP($A29,BasinData!$1:$1048576,5,FALSE)","v":11.3886745574},189.44584844004015,{"$f":"VLOOKUP($A29,Sheet1!$1:$1048576,9,FALSE)","v":300.48092813987813},-39.24928281771254,{"$f":"VLOOKUP($A29,Sheet1!$1:$1048576,10,FALSE)","v":281.97508079439865},-32.264052635504363,{"$f":"VLOOKUP($A29,Sheet1!$1:$1048576,11,FALSE)","v":244.96338610343969},-16.801430160656071,{"$f":"VLOOKUP($A29,Sheet1!$1:$1048576,12,FALSE)","v":189.4458440670013},11.440945243420082]
[11025,{"$f":"VLOOKUP($A30,BasinData!$1:$1048576,2,FALSE)","v":0.20256547300908601},16.278322319134986,{"$f":"VLOOKUP($A30,BasinData!$1:$1048576,3,FALSE)","v":5.0770213994073288},{"$f":"VLOOKUP($A30,BasinData!$1:$1048576,4,FALSE)","v":13.385670125179812},{"$f":"VLOOKUP($A30,BasinData!$1:$1048576,5,FALSE)","v":10.2084722265},184.84726444622399,{"$f":"VLOOKUP($A30,Sheet1!$1:$1048576,9,FALSE)","v":293.18667797754597},-34.411746315439807,{"$f":"VLOOKUP($A30,Sheet1!$1:$1048576,10,FALSE)","v":275.13006473434211},-27.426520260108536,{"$f":"VLOOKUP($A30,Sheet1!$1:$1048576,11,FALSE)","v":239.01683824793437},-11.963909082989298,{"$f":"VLOOKUP($A30,Sheet1!$1:$1048576,12,FALSE)","v":184.84699851832278},16.278322319134986]
[11026,{"$f":"VLOOKUP($A31,BasinData!$1:$1048576,2,FALSE)","v":0.47615460682007577},-3.5554169674431919,{"$f":"VLOOKUP($A31,BasinData!$1:$1048576,3,FALSE)","v":6.0378948563207393},{"$f":"VLOOKUP($A31,BasinData!$1:$1048576,4,FALSE)","v":37.178964533224622},{"$f":"VLOOKUP($A31,BasinData!$1:$1048576,5,FALSE)","v":15.0472991813},90.823764320738789,{"$f":"VLOOKUP($A31,Sheet1!$1:$1048576,9,FALSE)","v":144.05596021775159},-54.24555832615264,{"$f":"VLOOKUP($A31,Sheet1!$1:$1048576,10,FALSE)","v":135.18392422698426},-47.260529275892679,{"$f":"VLOOKUP($A31,Sheet1!$1:$1048576,11,FALSE)","v":117.43985224544957},-31.797898923148708,{"$f":"VLOOKUP($A31,Sheet1!$1:$1048576,12,FALSE)","v":90.82374427314754},-3.5554169674431919]
[11027,{"$f":"VLOOKUP($A32,BasinData!$1:$1048576,2,FALSE)","v":0.83283147348674258},24.532666181662808,{"$f":"VLOOKUP($A32,BasinData!$1:$1048576,3,FALSE)","v":36.692451517560698},{"$f":"VLOOKUP($A32,BasinData!$1:$1048576,4,FALSE)","v":34.494033022723556},{"$f":"VLOOKUP($A32,BasinData!$1:$1048576,5,FALSE)","v":8.1947133935299998},95.254716518798801,{"$f":"VLOOKUP($A32,Sheet1!$1:$1048576,9,FALSE)","v":151.08392854173744},-26.157551259477678,{"$f":"VLOOKUP($A32,Sheet1!$1:$1048576,10,FALSE)","v":141.77905806208031},-19.172322659891229,{"$f":"VLOOKUP($A32,Sheet1!$1:$1048576,11,FALSE)","v":123.16931710276612},-3.7103511155956599,{"$f":"VLOOKUP($A32,Sheet1!$1:$1048576,12,FALSE)","v":95.254705663794766},24.532666181662808]
[11028,{"$f":"VLOOKUP($A33,BasinData!$1:$1048576,2,FALSE)","v":6.5138092756644089E-2},22.612232499262291,{"$f":"VLOOKUP($A33,BasinData!$1:$1048576,3,FALSE)","v":11.693921001000382},{"$f":"VLOOKUP($A33,BasinData!$1:$1048576,4,FALSE)","v":23.362463552612997},{"$f":"VLOOKUP($A33,BasinData!$1:$1048576,5,FALSE)","v":8.6631953870499991},140.15440389708974,{"$f":"VLOOKUP($A33,Sheet1!$1:$1048576,9,FALSE)","v":222.2991733255908},-28.077814449220238,{"$f":"VLOOKUP($A33,Sheet1!$1:$1048576,10,FALSE)","v":208.6083391283714},-21.092583823668086,{"$f":"VLOOKUP($A33,Sheet1!$1:$1048576,11,FALSE)","v":181.22667073393265},-5.6299997664525963,{"$f":"VLOOKUP($A33,Sheet1!$1:$1048576,12,FALSE)","v":140.1541681422745},22.612232499262291]
[11029,{"$f":"VLOOKUP($A34,BasinData!$1:$1048576,2,FALSE)","v":0.79127134724857673},32.314998434668674,{"$f":"VLOOKUP($A34,BasinData!$1:$1048576,3,FALSE)","v":2.7031989087044703},{"$f":"VLOOKUP($A34,BasinData!$1:$1048576,4,FALSE)","v":16.985657408739865},{"$f":"VLOOKUP($A34,BasinData!$1:$1048576,5,FALSE)","v":6.2960773552399996},158.54485285740819,{"$f":"VLOOKUP($A34,Sheet1!$1:$1048576,9,FALSE)","v":251.46871958841649},-18.375226558736109,{"$f":"VLOOKUP($A34,Sheet1!$1:$1048576,10,FALSE)","v":235.98140807858223},-11.390168798781023,{"$f":"VLOOKUP($A34,Sheet1!$1:$1048576,11,FALSE)","v":205.00678505891369},4.0726086066399896,{"$f":"VLOOKUP($A34,Sheet1!$1:$1048576,12,FALSE)","v":158.54485052941089},32.314998434668674]
[11030,{"$f":"VLOOKUP($A35,BasinData!$1:$1048576,2,FALSE)","v":1.2445550715619166E-3},29.032381903145669,{"$f":"VLOOKUP($A35,BasinData!$1:$1048576,3,FALSE)","v":4.4617824591461792},{"$f":"VLOOKUP($A35,BasinData!$1:$1048576,4,FALSE)","v":15.367005294033481},{"$f":"VLOOKUP($A35,BasinData!$1:$1048576,5,FALSE)","v":7.0969138898999997},177.53707155943761,{"$f":"VLOOKUP($A35,Sheet1!$1:$1048576,9,FALSE)","v":281.59219381393092},-21.657638315325659,{"$f":"VLOOKUP($A35,Sheet1!$1:$1048576,10,FALSE)","v":264.24965502233937},-14.672556731619123,{"$f":"VLOOKUP($A35,Sheet1!$1:$1048576,11,FALSE)","v":229.56457743915624},0.79007547393764521,{"$f":"VLOOKUP($A35,Sheet1!$1:$1048576,12,FALSE)","v":177.53696106438156},29.032381903145669]
[11031,{"$f":"VLOOKUP($A36,BasinData!$1:$1048576,2,FALSE)","v":0.99676339285714277},42.68389305642453,{"$f":"VLOOKUP($A36,BasinData!$1:$1048576,3,FALSE)","v":3.233281201055882},{"$f":"VLOOKUP($A36,BasinData!$1:$1048576,4,FALSE)","v":18.8536840532058},{"$f":"VLOOKUP($A36,BasinData!$1:$1048576,5,FALSE)","v":3.7663927626899998},147.64201542358973,{"$f":"VLOOKUP($A36,Sheet1!$1:$1048576,9,FALSE)","v":234.17561013419899},-8.0063122561548781,{"$f":"VLOOKUP($A36,Sheet1!$1:$1048576,10,FALSE)","v":219.75333674731488},-1.0212291127091826,{"$f":"VLOOKUP($A36,Sheet1!$1:$1048576,11,FALSE)","v":190.90878997354667},14.4415578637895,{"$f":"VLOOKUP($A36,Sheet1!$1:$1048576,12,FALSE)","v":147.64196981289433},42.68389305642453]
[11032,{"$f":"VLOOKUP($A37,BasinData!$1:$1048576,2,FALSE)","v":0.26737720111214086},21.704015260493158,{"$f":"VLOOKUP($A37,BasinData!$1:$1048576,3,FALSE)","v":12.971661888817302},{"$f":"VLOOKUP($A37,BasinData!$1:$1048576,4,FALSE)","v":23.816292365520074},{"$f":"VLOOKUP($A37,BasinData!$1:$1048576,5,FALSE)","v":8.8848003752199993},135.99795826647571,{"$f":"VLOOKUP($A37,Sheet1!$1:$1048576,9,FALSE)","v":215.70686175045947},-28.986153000057495,{"$f":"VLOOKUP($A37,Sheet1!$1:$1048576,10,FALSE)","v":202.42203106374052},-22.000920668707238,{"$f":"VLOOKUP($A37,Sheet1!$1:$1048576,11,FALSE)","v":175.8523696903026},-6.5383316530933548,{"$f":"VLOOKUP($A37,Sheet1!$1:$1048576,12,FALSE)","v":135.99787763014572},21.704015260493158]
[11033,{"$f":"VLOOKUP($A38,BasinData!$1:$1048576,2,FALSE)","v":7.3694984646878195E-2},22.068897124785124,{"$f":"VLOOKUP($A38,BasinData!$1:$1048576,3,FALSE)","v":12.840590355366226},{"$f":"VLOOKUP($A38,BasinData!$1:$1048576,4,FALSE)","v":23.952120782416483},{"$f":"VLOOKUP($A38,BasinData!$1:$1048576,5,FALSE)","v":8.7957717962499995},137.68714948656779,{"$f":"VLOOKUP($A38,Sheet1!$1:$1048576,9,FALSE)","v":218.38601968048005},-28.621232930933644,{"$f":"VLOOKUP($A38,Sheet1!$1:$1048576,10,FALSE)","v":204.93618654926547},-21.636001361921721,{"$f":"VLOOKUP($A38,Sheet1!$1:$1048576,11,FALSE)","v":178.03652028683632},-6.1734142900780915,{"$f":"VLOOKUP($A38,Sheet1!$1:$1048576,12,FALSE)","v":137.6870208931926},22.068897124785124]
[11034,{"$f":"VLOOKUP($A39,BasinData!$1:$1048576,2,FALSE)","v":0.12972474647701829},36.791556629639857,{"$f":"VLOOKUP($A39,BasinData!$1:$1048576,3,FALSE)","v":12.470311632676323},{"$f":"VLOOKUP($A39,BasinData!$1:$1048576,4,FALSE)","v":19.289159414099348},{"$f":"VLOOKUP($A39,BasinData!$1:$1048576,5,FALSE)","v":5.2039414618900004},156.81021184689359,{"$f":"VLOOKUP($A39,Sheet1!$1:$1048576,9,FALSE)","v":248.71740018570662},-13.898703032355883,{"$f":"VLOOKUP($A39,Sheet1!$1:$1048576,10,FALSE)","v":233.39953535982795},-6.9134432491935014,{"$f":"VLOOKUP($A39,Sheet1!$1:$1048576,11,FALSE)","v":202.76380570807063},8.5491827090618475,{"$f":"VLOOKUP($A39,Sheet1!$1:$1048576,12,FALSE)","v":156.81021123043465},36.791556629639857]
[11035,{"$f":"VLOOKUP($A40,BasinData!$1:$1048576,2,FALSE)","v":1.2381275011496213},21.05242473351387,{"$f":"VLOOKUP($A40,BasinData!$1:$1048576,3,FALSE)","v":5.1657651546204093},{"$f":"VLOOKUP($A40,BasinData!$1:$1048576,4,FALSE)","v":16.522988505747126},{"$f":"VLOOKUP($A40,BasinData!$1:$1048576,5,FALSE)","v":9.0437774653700007},154.75960191473018,{"$f":"VLOOKUP($A40,Sheet1!$1:$1048576,9,FALSE)","v":245.464864969682},-29.637785982902809,{"$f":"VLOOKUP($A40,Sheet1!$1:$1048576,10,FALSE)","v":230.34731542027083},-22.652551980429052,{"$f":"VLOOKUP($A40,Sheet1!$1:$1048576,11,FALSE)","v":200.1122163214485},-7.1899596501156475,{"$f":"VLOOKUP($A40,Sheet1!$1:$1048576,12,FALSE)","v":154.75956767321497},21.05242473351387]
[11036,{"$f":"VLOOKUP($A41,BasinData!$1:$1048576,2,FALSE)","v":1.6626153941534092},38.196103011765295,{"$f":"VLOOKUP($A41,BasinData!$1:$1048576,3,FALSE)","v":3.3063611179095562},{"$f":"VLOOKUP($A41,BasinData!$1:$1048576,4,FALSE)","v":24.411452810180275},{"$f":"VLOOKUP($A41,BasinData!$1:$1048576,5,FALSE)","v":4.8611822237200002},118.89523014018826,{"$f":"VLOOKUP($A41,Sheet1!$1:$1048576,9,FALSE)","v":188.57960385633095},-12.493759963946324,{"$f":"VLOOKUP($A41,Sheet1!$1:$1048576,10,FALSE)","v":176.96547119559952},-5.5085071876435778,{"$f":"VLOOKUP($A41,Sheet1!$1:$1048576,11,FALSE)","v":153.73720587413666},9.9541051718012952,{"$f":"VLOOKUP($A41,Sheet1!$1:$1048576,12,FALSE)","v":118.89480789194236},38.196103011765295]
[11037,{"$f":"VLOOKUP($A42,BasinData!$1:$1048576,2,FALSE)","v":0.971929215717803},44.022520112911579,{"$f":"VLOOKUP($A42,BasinData!$1:$1048576,3,FALSE)","v":2.1234772711367262},{"$f":"VLOOKUP($A42,BasinData!$1:$1048576,4,FALSE)","v":12.680115273775217},{"$f":"VLOOKUP($A42,BasinData!$1:$1048576,5,FALSE)","v":3.4398166810299999},176.84833825202631,{"$f":"VLOOKUP($A42,Sheet1!$1:$1048576,9,FALSE)","v":280.4999405892296},-6.6677067018315617,{"$f":"VLOOKUP($A42,Sheet1!$1:$1048576,10,FALSE)","v":263.22467086381153},0.31752987608653188,{"$f":"VLOOKUP($A42,Sheet1!$1:$1048576,11,FALSE)","v":228.67413141297553},15.780140592489886,{"$f":"VLOOKUP($A42,Sheet1!$1:$1048576,12,FALSE)","v":176.84832223672149},44.022520112911579]
[11038,{"$f":"VLOOKUP($A43,BasinData!$1:$1048576,2,FALSE)","v":0.1960604672469079},37.710491835349444,{"$f":"VLOOKUP($A43,BasinData!$1:$1048576,3,FALSE)","v":13.159763858218376},{"$f":"VLOOKUP($A43,BasinData!$1:$1048576,4,FALSE)","v":18.645308924485128},{"$f":"VLOOKUP($A43,BasinData!$1:$1048576,5,FALSE)","v":4.9796358330899997},158.86830690375211,{"$f":"VLOOKUP($A43,Sheet1!$1:$1048576,9,FALSE)","v":251.98067335273646},-12.979291796694941,{"$f":"VLOOKUP($A43,Sheet1!$1:$1048576,10,FALSE)","v":236.46183192761239},-5.9940367566393551,{"$f":"VLOOKUP($A43,Sheet1!$1:$1048576,11,FALSE)","v":205.42414907736426},9.4685817129248981,{"$f":"VLOOKUP($A43,Sheet1!$1:$1048576,12,FALSE)","v":158.86762480199206},37.710491835349444]
[11039,{"$f":"VLOOKUP($A44,BasinData!$1:$1048576,2,FALSE)","v":1.8776002370378786},38.822576340465545,{"$f":"VLOOKUP($A44,BasinData!$1:$1048576,3,FALSE)","v":5.3791979027408319},{"$f":"VLOOKUP($A44,BasinData!$1:$1048576,4,FALSE)","v":9.253162363541847},{"$f":"VLOOKUP($A44,BasinData!$1:$1048576,5,FALSE)","v":4.7083646420700003},180.95669381268365,{"$f":"VLOOKUP($A44,Sheet1!$1:$1048576,9,FALSE)","v":287.01546131161786},-11.867373202093937,{"$f":"VLOOKUP($A44,Sheet1!$1:$1048576,10,FALSE)","v":269.33891742676735},-4.8821231239123071,{"$f":"VLOOKUP($A44,Sheet1!$1:$1048576,11,FALSE)","v":233.98582965706635},10.580478475329418,{"$f":"VLOOKUP($A44,Sheet1!$1:$1048576,12,FALSE)","v":180.95619800251478},38.822576340465545]
[11040,{"$f":"VLOOKUP($A45,BasinData!$1:$1048576,2,FALSE)","v":2.0935506538825757},41.772729551090777,{"$f":"VLOOKUP($A45,BasinData!$1:$1048576,3,FALSE)","v":7.3857380409894757},{"$f":"VLOOKUP($A45,BasinData!$1:$1048576,4,FALSE)","v":15.311942959001781},{"$f":"VLOOKUP($A45,BasinData!$1:$1048576,5,FALSE)","v":3.98867986582},149.15961820131662,{"$f":"VLOOKUP($A45,Sheet1!$1:$1048576,9,FALSE)","v":236.58262016950911},-8.9174471727456535,{"$f":"VLOOKUP($A45,Sheet1!$1:$1048576,10,FALSE)","v":222.01210522683564},-1.9322429647943287,{"$f":"VLOOKUP($A45,Sheet1!$1:$1048576,11,FALSE)","v":192.87107534148871},13.53042424380997,{"$f":"VLOOKUP($A45,Sheet1!$1:$1048576,12,FALSE)","v":149.1595305134683},41.772729551090777]
[11041,{"$f":"VLOOKUP($A46,BasinData!$1:$1048576,2,FALSE)","v":2.248663101604278},40.335382974304231,{"$f":"VLOOKUP($A46,BasinData!$1:$1048576,3,FALSE)","v":6.0829655067419104},{"$f":"VLOOKUP($A46,BasinData!$1:$1048576,4,FALSE)","v":14.390406395736177},{"$f":"VLOOKUP($A46,BasinData!$1:$1048576,5,FALSE)","v":4.3393258511099999},151.20260845995384,{"$f":"VLOOKUP($A46,Sheet1!$1:$1048576,9,FALSE)","v":239.82283261929086},-10.354714366760218,{"$f":"VLOOKUP($A46,Sheet1!$1:$1048576,10,FALSE)","v":225.0527613276212},-3.3694698953074989,{"$f":"VLOOKUP($A46,Sheet1!$1:$1048576,11,FALSE)","v":195.51261874428187},12.093156905442276,{"$f":"VLOOKUP($A46,Sheet1!$1:$1048576,12,FALSE)","v":151.20240486927284},40.335382974304231]
[11042,{"$f":"VLOOKUP($A47,BasinData!$1:$1048576,2,FALSE)","v":0.23486901535682025},44.336886814026684,{"$f":"VLOOKUP($A47,BasinData!$1:$1048576,3,FALSE)","v":6.6218775450629606},{"$f":"VLOOKUP($A47,BasinData!$1:$1048576,4,FALSE)","v":14.837049742710121},{"$f":"VLOOKUP($A47,BasinData!$1:$1048576,5,FALSE)","v":3.3631220616799999},176.77365735426619,{"$f":"VLOOKUP($A47,Sheet1!$1:$1048576,9,FALSE)","v":280.38149664365051},-6.3533425385940578,{"$f":"VLOOKUP($A47,Sheet1!$1:$1048576,10,FALSE)","v":263.11352157613123},0.63189349188695965,{"$f":"VLOOKUP($A47,Sheet1!$1:$1048576,11,FALSE)","v":228.57757144109274},16.09450348963674,{"$f":"VLOOKUP($A47,Sheet1!$1:$1048576,12,FALSE)","v":176.77364623853498},44.336886814026684]
[11043,{"$f":"VLOOKUP($A48,BasinData!$1:$1048576,2,FALSE)","v":0.61672399382765142},29.997295651640183,{"$f":"VLOOKUP($A48,BasinData!$1:$1048576,3,FALSE)","v":8.2540291683154265},{"$f":"VLOOKUP($A48,BasinData!$1:$1048576,4,FALSE)","v":34.135593220338983},{"$f":"VLOOKUP($A48,BasinData!$1:$1048576,5,FALSE)","v":6.8615167114500002},98.009712086499903,{"$f":"VLOOKUP($A48,Sheet1!$1:$1048576,9,FALSE)","v":155.45362243727419},-20.692844090267766,{"$f":"VLOOKUP($A48,Sheet1!$1:$1048576,10,FALSE)","v":145.87963375208614},-13.707711458296423,{"$f":"VLOOKUP($A48,Sheet1!$1:$1048576,11,FALSE)","v":126.73165638171002},1.7549418805196932,{"$f":"VLOOKUP($A48,Sheet1!$1:$1048576,12,FALSE)","v":98.009690326145858},29.997295651640183]
[11044,{"$f":"VLOOKUP($A49,BasinData!$1:$1048576,2,FALSE)","v":0.10999023755287993},42.737404874921033,{"$f":"VLOOKUP($A49,BasinData!$1:$1048576,3,FALSE)","v":14.718296499130473},{"$f":"VLOOKUP($A49,BasinData!$1:$1048576,4,FALSE)","v":15.442102381604162},{"$f":"VLOOKUP($A49,BasinData!$1:$1048576,5,FALSE)","v":3.7533379382900001},175.54126996508913,{"$f":"VLOOKUP($A49,Sheet1!$1:$1048576,9,FALSE)","v":278.42673643913901},-7.9528017106146613,{"$f":"VLOOKUP($A49,Sheet1!$1:$1048576,10,FALSE)","v":261.27915002379029},-0.9677285126286661,{"$f":"VLOOKUP($A49,Sheet1!$1:$1048576,11,FALSE)","v":226.98397719309284},14.495067673983774,{"$f":"VLOOKUP($A49,Sheet1!$1:$1048576,12,FALSE)","v":175.54121794704665},42.737404874921033]
[11045,{"$f":"VLOOKUP($A50,BasinData!$1:$1048576,2,FALSE)","v":1.2360301893541668},42.895623556963159,{"$f":"VLOOKUP($A50,BasinData!$1:$1048576,3,FALSE)","v":100},{"$f":"VLOOKUP($A50,BasinData!$1:$1048576,4,FALSE)","v":16.368481157213552},{"$f":"VLOOKUP($A50,BasinData!$1:$1048576,5,FALSE)","v":3.71473861079},155.47958457601896,{"$f":"VLOOKUP($A50,Sheet1!$1:$1048576,9,FALSE)","v":246.6068226810371},-7.7945865611926255,{"$f":"VLOOKUP($A50,Sheet1!$1:$1048576,10,FALSE)","v":231.41894289398937},-0.8095447242412469,{"$f":"VLOOKUP($A50,Sheet1!$1:$1048576,11,FALSE)","v":201.04318331989393},14.653277617574268,{"$f":"VLOOKUP($A50,Sheet1!$1:$1048576,12,FALSE)","v":155.47954395875072},42.895623556963159]
[11046,{"$f":"VLOOKUP($A51,BasinData!$1:$1048576,2,FALSE)","v":7.4372553534423208E-2},42.003299624044409,{"$f":"VLOOKUP($A51,BasinData!$1:$1048576,3,FALSE)","v":7.3451883570463963},{"$f":"VLOOKUP($A51,BasinData!$1:$1048576,4,FALSE)","v":14.207546573046145},{"$f":"VLOOKUP($A51,BasinData!$1:$1048576,5,FALSE)","v":3.93243041202},182.4625467356276,{"$f":"VLOOKUP($A51,Sheet1!$1:$1048576,9,FALSE)","v":289.40454188986575},-8.6868856711746076,{"$f":"VLOOKUP($A51,Sheet1!$1:$1048576,10,FALSE)","v":271.58086067836092},-1.7017038327416947,{"$f":"VLOOKUP($A51,Sheet1!$1:$1048576,11,FALSE)","v":235.93349825535131},13.760982038201817,{"$f":"VLOOKUP($A51,Sheet1!$1:$1048576,12,FALSE)","v":182.46245462083687},42.003299624044409]
[11047,{"$f":"VLOOKUP($A52,BasinData!$1:$1048576,2,FALSE)","v":5.7645334636052759E-2},20.780220583495673,{"$f":"VLOOKUP($A52,BasinData!$1:$1048576,3,FALSE)","v":12.200842261459124},{"$f":"VLOOKUP($A52,BasinData!$1:$1048576,4,FALSE)","v":23.520746645942413},{"$f":"VLOOKUP($A52,BasinData!$1:$1048576,5,FALSE)","v":9.1101888864300005},139.60236913274255,{"$f":"VLOOKUP($A52,Sheet1!$1:$1048576,9,FALSE)","v":221.42393291546568},-29.910000640633008,{"$f":"VLOOKUP($A52,Sheet1!$1:$1048576,10,FALSE)","v":207.78700252345828},-22.924765803731919,{"$f":"VLOOKUP($A52,Sheet1!$1:$1048576,11,FALSE)","v":180.51314173944351},-7.462172146546652,{"$f":"VLOOKUP($A52,Sheet1!$1:$1048576,12,FALSE)","v":139.60235056342131},20.780220583495673]
[11048,{"$f":"VLOOKUP($A53,BasinData!$1:$1048576,2,FALSE)","v":9.0949423247559891E-2},14.311380505485291,{"$f":"VLOOKUP($A53,BasinData!$1:$1048576,3,FALSE)","v":5.7478638889554841},{"$f":"VLOOKUP($A53,BasinData!$1:$1048576,4,FALSE)","v":16.971530215259349},{"$f":"VLOOKUP($A53,BasinData!$1:$1048576,5,FALSE)","v":10.688369272599999},168.22010803495982,{"$f":"VLOOKUP($A53,Sheet1!$1:$1048576,9,FALSE)","v":266.81457031295912},-36.378703292528243,{"$f":"VLOOKUP($A53,Sheet1!$1:$1048576,10,FALSE)","v":250.38214733580836},-29.393570674005002,{"$f":"VLOOKUP($A53,Sheet1!$1:$1048576,11,FALSE)","v":217.51730138150683},-13.930954102305963,{"$f":"VLOOKUP($A53,Sheet1!$1:$1048576,12,FALSE)","v":168.22003245005453},14.311380505485291]
[11049,{"$f":"VLOOKUP($A54,BasinData!$1:$1048576,2,FALSE)","v":0.1038142271724283},19.646330198296031,{"$f":"VLOOKUP($A54,BasinData!$1:$1048576,3,FALSE)","v":12.043908022594943},{"$f":"VLOOKUP($A54,BasinData!$1:$1048576,4,FALSE)","v":23.730751865405637},{"$f":"VLOOKUP($A54,BasinData!$1:$1048576,5,FALSE)","v":9.3866541323000003},138.22144487715798,{"$f":"VLOOKUP($A54,Sheet1!$1:$1048576,9,FALSE)","v":219.23227291744533},-31.043208808314883,{"$f":"VLOOKUP($A54,Sheet1!$1:$1048576,10,FALSE)","v":205.73032122644113},-24.057969410403821,{"$f":"VLOOKUP($A54,Sheet1!$1:$1048576,11,FALSE)","v":178.72641784443277},-8.5953705807720286,{"$f":"VLOOKUP($A54,Sheet1!$1:$1048576,12,FALSE)","v":138.22056277142019},19.646330198296031]
[11050,{"$f":"VLOOKUP($A55,BasinData!$1:$1048576,2,FALSE)","v":0.38706088062311239},14.375769759995675,{"$f":"VLOOKUP($A55,BasinData!$1:$1048576,3,FALSE)","v":40.262717675365671},{"$f":"VLOOKUP($A55,BasinData!$1:$1048576,4,FALSE)","v":35.19890051156753},{"$f":"VLOOKUP($A55,BasinData!$1:$1048576,5,FALSE)","v":10.6726598168},96.895099538593172,{"$f":"VLOOKUP($A55,Sheet1!$1:$1048576,9,FALSE)","v":153.68569263932159},-36.314321486169071,{"$f":"VLOOKUP($A55,Sheet1!$1:$1048576,10,FALSE)","v":144.22058620220488},-29.329179171890324,{"$f":"VLOOKUP($A55,Sheet1!$1:$1048576,11,FALSE)","v":125.29037332797148},-13.866562758104685,{"$f":"VLOOKUP($A55,Sheet1!$1:$1048576,12,FALSE)","v":96.895054016621359},14.375769759995675]
[11051,{"$f":"VLOOKUP($A56,BasinData!$1:$1048576,2,FALSE)","v":6.1326477615041028},23.292618683206641,{"$f":"VLOOKUP($A56,BasinData!$1:$1048576,3,FALSE)","v":10.007901325947824},{"$f":"VLOOKUP($A56,BasinData!$1:$1048576,4,FALSE)","v":22.638094516340423},{"$f":"VLOOKUP($A56,BasinData!$1:$1048576,5,FALSE)","v":8.4971636277999991},85.970965017887664,{"$f":"VLOOKUP($A56,Sheet1!$1:$1048576,9,FALSE)","v":136.35851476593336},-27.397265840076106,{"$f":"VLOOKUP($A56,Sheet1!$1:$1048576,10,FALSE)","v":127.96054463805898},-20.412036129604569,{"$f":"VLOOKUP($A56,Sheet1!$1:$1048576,11,FALSE)","v":111.16460438231017},-4.9495785062036353,{"$f":"VLOOKUP($A56,Sheet1!$1:$1048576,12,FALSE)","v":85.970693998686968},23.292618683206641]
[11052,{"$f":"VLOOKUP($A57,BasinData!$1:$1048576,2,FALSE)","v":1.6600666740075758},31.250853159863468,{"$f":"VLOOKUP($A57,BasinData!$1:$1048576,3,FALSE)","v":3.7800439626656543},{"$f":"VLOOKUP($A57,BasinData!$1:$1048576,4,FALSE)","v":9.4419234137409429},{"$f":"VLOOKUP($A57,BasinData!$1:$1048576,5,FALSE)","v":6.5556682146199998},183.29073803377599,{"$f":"VLOOKUP($A57,Sheet1!$1:$1048576,9,FALSE)","v":290.71799600720175},-19.43924975896871,{"$f":"VLOOKUP($A57,Sheet1!$1:$1048576,10,FALSE)","v":272.81342253560848},-12.45412863002084,{"$f":"VLOOKUP($A57,Sheet1!$1:$1048576,11,FALSE)","v":237.00427559242195},3.0085784934407487,{"$f":"VLOOKUP($A57,Sheet1!$1:$1048576,12,FALSE)","v":183.29055517764212},31.250853159863468]
[11053,{"$f":"VLOOKUP($A58,BasinData!$1:$1048576,2,FALSE)","v":0.50696378830083566},41.657353856546735,{"$f":"VLOOKUP($A58,BasinData!$1:$1048576,3,FALSE)","v":6.0246118483066597},{"$f":"VLOOKUP($A58,BasinData!$1:$1048576,4,FALSE)","v":14.73548211614307},{"$f":"VLOOKUP($A58,BasinData!$1:$1048576,5,FALSE)","v":4.0168266151700003},173.28715185212184,{"$f":"VLOOKUP($A58,Sheet1!$1:$1048576,9,FALSE)","v":274.85137782967809},-9.0328181998568517,{"$f":"VLOOKUP($A58,Sheet1!$1:$1048576,10,FALSE)","v":257.92398855310159},-2.0476047746212811,{"$f":"VLOOKUP($A58,Sheet1!$1:$1048576,11,FALSE)","v":224.06920999994864},13.415054223979871,{"$f":"VLOOKUP($A58,Sheet1!$1:$1048576,12,FALSE)","v":173.28704217021917},41.657353856546735]
[11054,{"$f":"VLOOKUP($A59,BasinData!$1:$1048576,2,FALSE)","v":1.9960304326704548},45.907566229976823,{"$f":"VLOOKUP($A59,BasinData!$1:$1048576,3,FALSE)","v":28.308526630821799},{"$f":"VLOOKUP($A59,BasinData!$1:$1048576,4,FALSE)","v":10.036641707822207},{"$f":"VLOOKUP($A59,BasinData!$1:$1048576,5,FALSE)","v":2.9799284070600001},175.15377739218874,{"$f":"VLOOKUP($A59,Sheet1!$1:$1048576,9,FALSE)","v":277.81221420982257},-4.7826675273912169,{"$f":"VLOOKUP($A59,Sheet1!$1:$1048576,10,FALSE)","v":260.70247463765463},2.2025659623647784,{"$f":"VLOOKUP($A59,Sheet1!$1:$1048576,11,FALSE)","v":226.48299549331878},17.664769349204128,{"$f":"VLOOKUP($A59,Sheet1!$1:$1048576,12,FALSE)","v":175.15377677681502},45.907566229976823]
[11055,{"$f":"VLOOKUP($A60,BasinData!$1:$1048576,2,FALSE)","v":1.0970079476390837},45.409796766136417,{"$f":"VLOOKUP($A60,BasinData!$1:$1048576,3,FALSE)","v":9.0242310908416528},{"$f":"VLOOKUP($A60,BasinData!$1:$1048576,4,FALSE)","v":29.554966517857146},{"$f":"VLOOKUP($A60,BasinData!$1:$1048576,5,FALSE)","v":3.1013679196799999},107.45827428746054,{"$f":"VLOOKUP($A60,Sheet1!$1:$1048576,9,FALSE)","v":170.44006307858754},-5.2804366840240133,{"$f":"VLOOKUP($A60,Sheet1!$1:$1048576,10,FALSE)","v":159.94309806848901},1.7047975884772542,{"$f":"VLOOKUP($A60,Sheet1!$1:$1048576,11,FALSE)","v":138.94916804829194},17.167425064031629,{"$f":"VLOOKUP($A60,Sheet1!$1:$1048576,12,FALSE)","v":107.45827301799633},45.409796766136417]
[11056,{"$f":"VLOOKUP($A61,BasinData!$1:$1048576,2,FALSE)","v":0.91466941354734832},31.952575726671633,{"$f":"VLOOKUP($A61,BasinData!$1:$1048576,3,FALSE)","v":5.0866901176338528},{"$f":"VLOOKUP($A61,BasinData!$1:$1048576,4,FALSE)","v":22.803154081125239},{"$f":"VLOOKUP($A61,BasinData!$1:$1048576,5,FALSE)","v":6.3844941742400003},132.62777820076718,{"$f":"VLOOKUP($A61,Sheet1!$1:$1048576,9,FALSE)","v":210.36150750582613},-18.737635437181286,{"$f":"VLOOKUP($A61,Sheet1!$1:$1048576,10,FALSE)","v":197.40588343555055},-11.752551381599206,{"$f":"VLOOKUP($A61,Sheet1!$1:$1048576,11,FALSE)","v":171.4946352949994},3.7101994688205457,{"$f":"VLOOKUP($A61,Sheet1!$1:$1048576,12,FALSE)","v":132.62776308417264},31.952575726671633]
[11057,{"$f":"VLOOKUP($A62,BasinData!$1:$1048576,2,FALSE)","v":1.6601508888068182},39.773776261115181,{"$f":"VLOOKUP($A62,BasinData!$1:$1048576,3,FALSE)","v":4.8176679408927283},{"$f":"VLOOKUP($A62,BasinData!$1:$1048576,4,FALSE)","v":30.326640695235241},{"$f":"VLOOKUP($A62,BasinData!$1:$1048576,5,FALSE)","v":4.4763281800300003},100.23315319718446,{"$f":"VLOOKUP($A62,Sheet1!$1:$1048576,9,FALSE)","v":158.97998406940786},-10.916275192711883,{"$f":"VLOOKUP($A62,Sheet1!$1:$1048576,10,FALSE)","v":149.18881584323131},-3.9310287781349547,{"$f":"VLOOKUP($A62,Sheet1!$1:$1048576,11,FALSE)","v":129.60647939087818},11.531602052044512,{"$f":"VLOOKUP($A62,Sheet1!$1:$1048576,12,FALSE)","v":100.23297471234845},39.773776261115181]
[11058,{"$f":"VLOOKUP($A63,BasinData!$1:$1048576,2,FALSE)","v":0.52341727465285948},33.113347715770828,{"$f":"VLOOKUP($A63,BasinData!$1:$1048576,3,FALSE)","v":13.641991512055581},{"$f":"VLOOKUP($A63,BasinData!$1:$1048576,4,FALSE)","v":27.461953853706433},{"$f":"VLOOKUP($A63,BasinData!$1:$1048576,5,FALSE)","v":6.1012159197000004},119.79424720524196,{"$f":"VLOOKUP($A63,Sheet1!$1:$1048576,9,FALSE)","v":190.00556880843874},-17.576232818524446,{"$f":"VLOOKUP($A63,Sheet1!$1:$1048576,10,FALSE)","v":178.30361463475117},-10.591526074689259,{"$f":"VLOOKUP($A63,Sheet1!$1:$1048576,11,FALSE)","v":154.89970628737603},4.8713195876118816,{"$f":"VLOOKUP($A63,Sheet1!$1:$1048576,12,FALSE)","v":119.7938437663133},33.113347715770828]
[11059,{"$f":"VLOOKUP($A64,BasinData!$1:$1048576,2,FALSE)","v":1.1904605911382575},42.626005814470446,{"$f":"VLOOKUP($A64,BasinData!$1:$1048576,3,FALSE)","v":6.5279673626463968},{"$f":"VLOOKUP($A64,BasinData!$1:$1048576,4,FALSE)","v":20.883534136546185},{"$f":"VLOOKUP($A64,BasinData!$1:$1048576,5,FALSE)","v":3.7805150043700002},136.98306584584512,{"$f":"VLOOKUP($A64,Sheet1!$1:$1048576,9,FALSE)","v":217.2694031043082},-8.0641980498488444,{"$f":"VLOOKUP($A64,Sheet1!$1:$1048576,10,FALSE)","v":203.88833951540695},-1.0791045188183706,{"$f":"VLOOKUP($A64,Sheet1!$1:$1048576,11,FALSE)","v":177.1262123376045},14.383135761271593,{"$f":"VLOOKUP($A64,Sheet1!$1:$1048576,12,FALSE)","v":136.9830215709008},42.626005814470446]
[11060,{"$f":"VLOOKUP($A65,BasinData!$1:$1048576,2,FALSE)","v":0.76871772805507732},22.136125480792824,{"$f":"VLOOKUP($A65,BasinData!$1:$1048576,3,FALSE)","v":6.4035949804639634},{"$f":"VLOOKUP($A65,BasinData!$1:$1048576,4,FALSE)","v":14.847931356724153},{"$f":"VLOOKUP($A65,BasinData!$1:$1048576,5,FALSE)","v":8.7793682094900003},168.96867091632001,{"$f":"VLOOKUP($A65,Sheet1!$1:$1048576,9,FALSE)","v":268.00171863998798},-28.553996128846553,{"$f":"VLOOKUP($A65,Sheet1!$1:$1048576,10,FALSE)","v":251.49618225143894},-21.568764688358069,{"$f":"VLOOKUP($A65,Sheet1!$1:$1048576,11,FALSE)","v":218.48510947434079},-6.1061779816580293,{"$f":"VLOOKUP($A65,Sheet1!$1:$1048576,12,FALSE)","v":168.96850030869359},22.136125480792824]
[11061,{"$f":"VLOOKUP($A66,BasinData!$1:$1048576,2,FALSE)","v":0.29489648531535867},18.538385948470669,{"$f":"VLOOKUP($A66,BasinData!$1:$1048576,3,FALSE)","v":3.4724058085845542},{"$f":"VLOOKUP($A66,BasinData!$1:$1048576,4,FALSE)","v":10.414374770810413},{"$f":"VLOOKUP($A66,BasinData!$1:$1048576,5,FALSE)","v":9.6570228513099998},199.86597159392917,{"$f":"VLOOKUP($A66,Sheet1!$1:$1048576,9,FALSE)","v":317.00709744692398},-32.15143004112366,{"$f":"VLOOKUP($A66,Sheet1!$1:$1048576,10,FALSE)","v":297.48344584912479},-25.166183964893577,{"$f":"VLOOKUP($A66,Sheet1!$1:$1048576,11,FALSE)","v":258.43614265352647},-9.7035805968855176,{"$f":"VLOOKUP($A66,Sheet1!$1:$1048576,12,FALSE)","v":199.86518786012897},18.538385948470669]
[11062,{"$f":"VLOOKUP($A67,BasinData!$1:$1048576,2,FALSE)","v":0.75708872678977279},26.137071796932307,{"$f":"VLOOKUP($A67,BasinData!$1:$1048576,3,FALSE)","v":9.2521522941017835},{"$f":"VLOOKUP($A67,BasinData!$1:$1048576,4,FALSE)","v":10.25519099698843},{"$f":"VLOOKUP($A67,BasinData!$1:$1048576,5,FALSE)","v":7.8032930223000001},{"$f":"EXP(6.1523-(0.084*B67)-(0.0091*C67)-(0.0289*E67)-(0.0373*F67))","v":193.14077826191124},{"$f":"VLOOKUP($A67,Sheet1!$1:$1048576,9,FALSE)","v":306.34147950088118},-24.553157268077936,{"$f":"VLOOKUP($A67,Sheet1!$1:$1048576,10,FALSE)","v":287.4746958739596},-17.567929449532549,{"$f":"VLOOKUP($A67,Sheet1!$1:$1048576,11,FALSE)","v":249.7411286201166},-2.1052976321364407,{"$f":"VLOOKUP($A67,Sheet1!$1:$1048576,12,FALSE)","v":193.14077773935205},26.137071796932307]
[11063,{"$f":"VLOOKUP($A68,BasinData!$1:$1048576,2,FALSE)","v":2.6086107532575755},41.408432630646026,{"$f":"VLOOKUP($A68,BasinData!$1:$1048576,3,FALSE)","v":4.920265492387629},{"$f":"VLOOKUP($A68,BasinData!$1:$1048576,4,FALSE)","v":24.035797997016832},{"$f":"VLOOKUP($A68,BasinData!$1:$1048576,5,FALSE)","v":4.0775525485399999},111.01137656235234,{"$f":"VLOOKUP($A68,Sheet1!$1:$1048576,9,FALSE)","v":176.07552693570958},-9.2817284296515403,{"$f":"VLOOKUP($A68,Sheet1!$1:$1048576,10,FALSE)","v":165.23148820447184},-2.2964994415386766,{"$f":"VLOOKUP($A68,Sheet1!$1:$1048576,11,FALSE)","v":143.54341074199638},13.165985062029076,{"$f":"VLOOKUP($A68,Sheet1!$1:$1048576,12,FALSE)","v":111.01129454828319},41.408432630646026]
[11064,{"$f":"VLOOKUP($A69,BasinData!$1:$1048576,2,FALSE)","v":1.2205970600852272},46.987787100943272,{"$f":"VLOOKUP($A69,BasinData!$1:$1048576,3,FALSE)","v":28.52431856799177},{"$f":"VLOOKUP($A69,BasinData!$1:$1048576,4,FALSE)","v":25.773294908741594},{"$f":"VLOOKUP($A69,BasinData!$1:$1048576,5,FALSE)","v":2.7162369504899999},118.63091553593615,{"$f":"VLOOKUP($A69,Sheet1!$1:$1048576,9,FALSE)","v":188.15997329482408},-3.7018211976899682,{"$f":"VLOOKUP($A69,Sheet1!$1:$1048576,10,FALSE)","v":176.5716846008323},3.2832379927909869,{"$f":"VLOOKUP($A69,Sheet1!$1:$1048576,11,FALSE)","v":153.39510721284873},18.746036713304338,{"$f":"VLOOKUP($A69,Sheet1!$1:$1048576,12,FALSE)","v":118.63024113087337},46.987787100943272]
[11065,{"$f":"VLOOKUP($A70,BasinData!$1:$1048576,2,FALSE)","v":2.1098654401515153},37.99321271515727,{"$f":"VLOOKUP($A70,BasinData!$1:$1048576,3,FALSE)","v":10.720757453325138},{"$f":"VLOOKUP($A70,BasinData!$1:$1048576,4,FALSE)","v":14.646637077500854},{"$f":"VLOOKUP($A70,BasinData!$1:$1048576,5,FALSE)","v":4.91067295636},151.84756480344276,{"$f":"VLOOKUP($A70,Sheet1!$1:$1048576,9,FALSE)","v":240.84519680122315},-12.69661848289442,{"$f":"VLOOKUP($A70,Sheet1!$1:$1048576,10,FALSE)","v":226.01216072972719},-5.7113647798206459,{"$f":"VLOOKUP($A70,Sheet1!$1:$1048576,11,FALSE)","v":196.34608858673531},9.7512503451003223,{"$f":"VLOOKUP($A70,Sheet1!$1:$1048576,12,FALSE)","v":151.84698037224746},37.99321271515727]
[11066,{"$f":"VLOOKUP($A71,BasinData!$1:$1048576,2,FALSE)","v":1.7742374953276514},47.595204047574917,{"$f":"VLOOKUP($A71,BasinData!$1:$1048576,3,FALSE)","v":3.8775854408817039},{"$f":"VLOOKUP($A71,BasinData!$1:$1048576,4,FALSE)","v":12.746563060370592},{"$f":"VLOOKUP($A71,BasinData!$1:$1048576,5,FALSE)","v":2.5680615536800002},165.00624557642925,{"$f":"VLOOKUP($A71,Sheet1!$1:$1048576,9,FALSE)","v":261.71582471946886},-3.094464365863185,{"$f":"VLOOKUP($A71,Sheet1!$1:$1048576,10,FALSE)","v":245.59742036636413},3.890767922366098,{"$f":"VLOOKUP($A71,Sheet1!$1:$1048576,11,FALSE)","v":213.36061166015475},19.353398054502286,{"$f":"VLOOKUP($A71,Sheet1!$1:$1048576,12,FALSE)","v":165.00539860084064},47.595204047574917]
[11067,{"$f":"VLOOKUP($A72,BasinData!$1:$1048576,2,FALSE)","v":0.86764657636931808},34.191018323172727,{"$f":"VLOOKUP($A72,BasinData!$1:$1048576,3,FALSE)","v":15.158584435374012},{"$f":"VLOOKUP($A72,BasinData!$1:$1048576,4,FALSE)","v":21.020974706971003},{"$f":"VLOOKUP($A72,BasinData!$1:$1048576,5,FALSE)","v":5.8383569474500003},140.19054566152158,{"$f":"VLOOKUP($A72,Sheet1!$1:$1048576,9,FALSE)","v":222.35660395729178},-16.499078599308788,{"$f":"VLOOKUP($A72,Sheet1!$1:$1048576,10,FALSE)","v":208.66223275521224},-9.5142188026073313,{"$f":"VLOOKUP($A72,Sheet1!$1:$1048576,11,FALSE)","v":181.27349035105317},5.9485689216069391,{"$f":"VLOOKUP($A72,Sheet1!$1:$1048576,12,FALSE)","v":140.19037674481456},34.191018323172727]
[11068,{"$f":"VLOOKUP($A73,BasinData!$1:$1048576,2,FALSE)","v":0.2946604925473485},42.061076931780114,{"$f":"VLOOKUP($A73,BasinData!$1:$1048576,3,FALSE)","v":10.001522563079565},{"$f":"VLOOKUP($A73,BasinData!$1:$1048576,4,FALSE)","v":34.874905231235786},{"$f":"VLOOKUP($A73,BasinData!$1:$1048576,5,FALSE)","v":3.9183351277799998},98.568728595225124,{"$f":"VLOOKUP($A73,Sheet1!$1:$1048576,9,FALSE)","v":156.34023972305178},-8.6291103597798315,{"$f":"VLOOKUP($A73,Sheet1!$1:$1048576,10,FALSE)","v":146.71164656014849},-1.643934972441514,{"$f":"VLOOKUP($A73,Sheet1!$1:$1048576,11,FALSE)","v":127.45446023434195},13.818755921701886,{"$f":"VLOOKUP($A73,Sheet1!$1:$1048576,12,FALSE)","v":98.568680745632093},42.061076931780114]
[11069,{"$f":"VLOOKUP($A74,BasinData!$1:$1048576,2,FALSE)","v":3.6252807186397173E-2},20.451697467928813,{"$f":"VLOOKUP($A74,BasinData!$1:$1048576,3,FALSE)","v":12.339039056589799},{"$f":"VLOOKUP($A74,BasinData!$1:$1048576,4,FALSE)","v":23.166442848763506},{"$f":"VLOOKUP($A74,BasinData!$1:$1048576,5,FALSE)","v":9.1903398109700003},141.29281568089417,{"$f":"VLOOKUP($A74,Sheet1!$1:$1048576,9,FALSE)","v":224.10517312858016},-30.238532455496753,{"$f":"VLOOKUP($A74,Sheet1!$1:$1048576,10,FALSE)","v":210.30311204961828},-23.253296488622638,{"$f":"VLOOKUP($A74,Sheet1!$1:$1048576,11,FALSE)","v":182.69898989169454},-7.7907012742965502,{"$f":"VLOOKUP($A74,Sheet1!$1:$1048576,12,FALSE)","v":141.29280665480891},20.451697467928813]
[11070,{"$f":"VLOOKUP($A75,BasinData!$1:$1048576,2,FALSE)","v":1.6397922929762229E-3},19.687516774124465,{"$f":"VLOOKUP($A75,BasinData!$1:$1048576,3,FALSE)","v":12.16451054464264},{"$f":"VLOOKUP($A75,BasinData!$1:$1048576,4,FALSE)","v":23.599277276454515},{"$f":"VLOOKUP($A75,BasinData!$1:$1048576,5,FALSE)","v":9.3767769260700007},139.94268727307286,{"$f":"VLOOKUP($A75,Sheet1!$1:$1048576,9,FALSE)","v":221.9637416983056},-31.002722921481467,{"$f":"VLOOKUP($A75,Sheet1!$1:$1048576,10,FALSE)","v":208.29356587207772},-24.017483722155966,{"$f":"VLOOKUP($A75,Sheet1!$1:$1048576,11,FALSE)","v":180.95321421962194},-8.554885067834185,{"$f":"VLOOKUP($A75,Sheet1!$1:$1048576,12,FALSE)","v":139.94268674093831},19.687516774124465]
[11071,{"$f":"VLOOKUP($A76,BasinData!$1:$1048576,2,FALSE)","v":0.48353794081060608},36.818734273564004,{"$f":"VLOOKUP($A76,BasinData!$1:$1048576,3,FALSE)","v":21.018538210342559},{"$f":"VLOOKUP($A76,BasinData!$1:$1048576,4,FALSE)","v":30.382731725013606},{"$f":"VLOOKUP($A76,BasinData!$1:$1048576,5,FALSE)","v":5.1971266153400002},110.4671908491505,{"$f":"VLOOKUP($A76,Sheet1!$1:$1048576,9,FALSE)","v":175.21131588671466},-13.870769496806625,{"$f":"VLOOKUP($A76,Sheet1!$1:$1048576,10,FALSE)","v":164.42050169071109},-6.8855098697542116,{"$f":"VLOOKUP($A76,Sheet1!$1:$1048576,11,FALSE)","v":142.83887329870396},8.5771159250733771,{"$f":"VLOOKUP($A76,Sheet1!$1:$1048576,12,FALSE)","v":110.46643071069329},36.818734273564004]
[11072,{"$f":"VLOOKUP($A77,BasinData!$1:$1048576,2,FALSE)","v":0.17047614820340909},14.408537004455193,{"$f":"VLOOKUP($A77,BasinData!$1:$1048576,3,FALSE)","v":2.4518019517223339},{"$f":"VLOOKUP($A77,BasinData!$1:$1048576,4,FALSE)","v":34.368070953436806},{"$f":"VLOOKUP($A77,BasinData!$1:$1048576,5,FALSE)","v":10.664665377},101.07199126107301,{"$f":"VLOOKUP($A77,Sheet1!$1:$1048576,9,FALSE)","v":160.31067506475259},-36.281557725765339,{"$f":"VLOOKUP($A77,Sheet1!$1:$1048576,10,FALSE)","v":150.43755300351467},-29.296410755610548,{"$f":"VLOOKUP($A77,Sheet1!$1:$1048576,11,FALSE)","v":130.69130888103885},-13.833794422649119,{"$f":"VLOOKUP($A77,Sheet1!$1:$1048576,12,FALSE)","v":101.07194269732513},14.408537004455193]
[11073,{"$f":"VLOOKUP($A78,BasinData!$1:$1048576,2,FALSE)","v":0.13006702840727738},24.119023932972862,{"$f":"VLOOKUP($A78,BasinData!$1:$1048576,3,FALSE)","v":21.277029710273741},{"$f":"VLOOKUP($A78,BasinData!$1:$1048576,4,FALSE)","v":35.103092783505154},{"$f":"VLOOKUP($A78,BasinData!$1:$1048576,5,FALSE)","v":8.2956315925599995},99.284037907093548,{"$f":"VLOOKUP($A78,Sheet1!$1:$1048576,9,FALSE)","v":157.47486950910746},-26.571205238790942,{"$f":"VLOOKUP($A78,Sheet1!$1:$1048576,10,FALSE)","v":147.77639741663498},-19.585976333100486,{"$f":"VLOOKUP($A78,Sheet1!$1:$1048576,11,FALSE)","v":128.37945323168998},-4.1238057928668628,{"$f":"VLOOKUP($A78,Sheet1!$1:$1048576,12,FALSE)","v":99.28403695427248},24.119023932972862]
[11074,{"$f":"VLOOKUP($A79,BasinData!$1:$1048576,2,FALSE)","v":0.9206056538295454},41.508502100656386,{"$f":"VLOOKUP($A79,BasinData!$1:$1048576,3,FALSE)","v":4.0524455982805581},{"$f":"VLOOKUP($A79,BasinData!$1:$1048576,4,FALSE)","v":12.666534102207198},{"$f":"VLOOKUP($A79,BasinData!$1:$1048576,5,FALSE)","v":4.05313998922},177.68224219795272,{"$f":"VLOOKUP($A79,Sheet1!$1:$1048576,9,FALSE)","v":281.82242900284297},-9.1816635050303042,{"$f":"VLOOKUP($A79,Sheet1!$1:$1048576,10,FALSE)","v":264.46571061827046},-2.1964400754204734,{"$f":"VLOOKUP($A79,Sheet1!$1:$1048576,11,FALSE)","v":229.7522738491254},13.265758832322893,{"$f":"VLOOKUP($A79,Sheet1!$1:$1048576,12,FALSE)","v":177.68211869540784},41.508502100656386]
[11075,{"$f":"VLOOKUP($A80,BasinData!$1:$1048576,2,FALSE)","v":8.3897634332952248E-2},38.503165808567829,{"$f":"VLOOKUP($A80,BasinData!$1:$1048576,3,FALSE)","v":10.7186878298349},{"$f":"VLOOKUP($A80,BasinData!$1:$1048576,4,FALSE)","v":16.878423024900773},{"$f":"VLOOKUP($A80,BasinData!$1:$1048576,5,FALSE)","v":4.7862799652900003},168.77376031929728,{"$f":"VLOOKUP($A80,Sheet1!$1:$1048576,9,FALSE)","v":267.69200163489921},-12.186741704230514,{"$f":"VLOOKUP($A80,Sheet1!$1:$1048576,10,FALSE)","v":251.20553991991414},-5.2014902805081471,{"$f":"VLOOKUP($A80,Sheet1!$1:$1048576,11,FALSE)","v":218.23261648994398},10.261117250783583,{"$f":"VLOOKUP($A80,Sheet1!$1:$1048576,12,FALSE)","v":168.77323134498872},38.503165808567829]
[11076,{"$f":"VLOOKUP($A81,BasinData!$1:$1048576,2,FALSE)","v":1.1290205630890151},37.447628767616628,{"$f":"VLOOKUP($A81,BasinData!$1:$1048576,3,FALSE)","v":5.6315987844919748},{"$f":"VLOOKUP($A81,BasinData!$1:$1048576,4,FALSE)","v":25.3744893327281},{"$f":"VLOOKUP($A81,BasinData!$1:$1048576,5,FALSE)","v":5.0437539890499998},120.93268704736485,{"$f":"VLOOKUP($A81,Sheet1!$1:$1048576,9,FALSE)","v":191.81098416872257},-13.242107039169296,{"$f":"VLOOKUP($A81,Sheet1!$1:$1048576,10,FALSE)","v":179.99783910761522},-6.2568507067437915,{"$f":"VLOOKUP($A81,Sheet1!$1:$1048576,11,FALSE)","v":156.37154898540047},9.2057703916917948,{"$f":"VLOOKUP($A81,Sheet1!$1:$1048576,12,FALSE)","v":120.93211380207836},37.447628767616628]
[12001,{"$f":"VLOOKUP($A82,BasinData!$1:$1048576,2,FALSE)","v":0.11301369863013699},-4.2175250879407725E-2,{"$f":"VLOOKUP($A82,BasinData!$1:$1048576,3,FALSE)","v":34.189958452812164},{"$f":"VLOOKUP($A82,BasinData!$1:$1048576,4,FALSE)","v":25.444877608932025},{"$f":"VLOOKUP($A82,BasinData!$1:$1048576,5,FALSE)","v":14.190167608299999},131.43867978138476,{"$f":"VLOOKUP($A82,Sheet1!$1:$1048576,9,FALSE)","v":208.47534505474417},-50.732326381864631,{"$f":"VLOOKUP($A82,Sheet1!$1:$1048576,10,FALSE)","v":195.63588487748029},-43.747356129837534,{"$f":"VLOOKUP($A82,Sheet1!$1:$1048576,11,FALSE)","v":169.95696452295255},-28.284464112906996,{"$f":"VLOOKUP($A82,Sheet1!$1:$1048576,12,FALSE)","v":131.4385839911609},-4.2175250879407725E-2]
[12002,{"$f":"VLOOKUP($A83,BasinData!$1:$1048576,2,FALSE)","v":1.8302709027481059},-54.325984134630616,{"$f":"VLOOKUP($A83,BasinData!$1:$1048576,3,FALSE)","v":6.6947904004430221},{"$f":"VLOOKUP($A83,BasinData!$1:$1048576,4,FALSE)","v":19.663382594417079},{"$f":"VLOOKUP($A83,BasinData!$1:$1048576,5,FALSE)","v":27.4336894560006},134.47459898909025,{"$f":"VLOOKUP($A83,Sheet1!$1:$1048576,9,FALSE)","v":213.29077719383133},-105.01621100272598,{"$f":"VLOOKUP($A83,Sheet1!$1:$1048576,10,FALSE)","v":200.15474693932458},-98.030985657411549,{"$f":"VLOOKUP($A83,Sheet1!$1:$1048576,11,FALSE)","v":173.88268643031103},-82.568358668092174,{"$f":"VLOOKUP($A83,Sheet1!$1:$1048576,12,FALSE)","v":134.47459566679066},-54.325984134630616]
[12003,{"$f":"VLOOKUP($A84,BasinData!$1:$1048576,2,FALSE)","v":0.3284516233219697},-9.4901170602296858,{"$f":"VLOOKUP($A84,BasinData!$1:$1048576,3,FALSE)","v":5.3682422839953858},{"$f":"VLOOKUP($A84,BasinData!$1:$1048576,4,FALSE)","v":25.976275002164691},{"$f":"VLOOKUP($A84,BasinData!$1:$1048576,5,FALSE)","v":16.4951808587771},127.11415427531857,{"$f":"VLOOKUP($A84,Sheet1!$1:$1048576,9,FALSE)","v":201.61634610300888},-60.180356868610517,{"$f":"VLOOKUP($A84,Sheet1!$1:$1048576,10,FALSE)","v":189.19931402568926},-53.195134037847673,{"$f":"VLOOKUP($A84,Sheet1!$1:$1048576,11,FALSE)","v":164.36524987105003},-37.732562628805226,{"$f":"VLOOKUP($A84,Sheet1!$1:$1048576,12,FALSE)","v":127.1141536390912},-9.4901170602296858]
[12004,{"$f":"VLOOKUP($A85,BasinData!$1:$1048576,2,FALSE)","v":1.1181332036947012E-2},-9.6999872834116392,{"$f":"VLOOKUP($A85,BasinData!$1:$1048576,3,FALSE)","v":3.7457531281740546},{"$f":"VLOOKUP($A85,BasinData!$1:$1048576,4,FALSE)","v":20.269328999303461},{"$f":"VLOOKUP($A85,BasinData!$1:$1048576,5,FALSE)","v":16.546382444289801},153.95602029636737,{"$f":"VLOOKUP($A85,Sheet1!$1:$1048576,9,FALSE)","v":244.19035356878652},-60.390225161565397,{"$f":"VLOOKUP($A85,Sheet1!$1:$1048576,10,FALSE)","v":229.15129789774244},-53.405002133049265,{"$f":"VLOOKUP($A85,Sheet1!$1:$1048576,11,FALSE)","v":199.0731865556543},-37.942432293996561,{"$f":"VLOOKUP($A85,Sheet1!$1:$1048576,12,FALSE)","v":153.95601954252209},-9.6999872834116392]
[12005,{"$f":"VLOOKUP($A86,BasinData!$1:$1048576,2,FALSE)","v":0.50966568114623612},-10.971601397266369,{"$f":"VLOOKUP($A86,BasinData!$1:$1048576,3,FALSE)","v":3.2872858050465661},{"$f":"VLOOKUP($A86,BasinData!$1:$1048576,4,FALSE)","v":19.743599644746496},{"$f":"VLOOKUP($A86,BasinData!$1:$1048576,5,FALSE)","v":16.856615394781599},149.90291804652293,{"$f":"VLOOKUP($A86,Sheet1!$1:$1048576,9,FALSE)","v":237.76170955123015},-61.661832616274474,{"$f":"VLOOKUP($A86,Sheet1!$1:$1048576,10,FALSE)","v":223.1185775268674},-54.67660634742407,{"$f":"VLOOKUP($A86,Sheet1!$1:$1048576,11,FALSE)","v":193.83231347814188},-39.214043083414438,{"$f":"VLOOKUP($A86,Sheet1!$1:$1048576,12,FALSE)","v":149.90291740505364},-10.971601397266369]
[12006,{"$f":"VLOOKUP($A87,BasinData!$1:$1048576,2,FALSE)","v":9.9145820622330683E-2},-2.9478023668965321,{"$f":"VLOOKUP($A87,BasinData!$1:$1048576,3,FALSE)","v":33.342420323394855},{"$f":"VLOOKUP($A87,BasinData!$1:$1048576,4,FALSE)","v":24.142562240405898},{"$f":"VLOOKUP($A87,BasinData!$1:$1048576,5,FALSE)","v":14.899059177},136.63891597309993,{"$f":"VLOOKUP($A87,Sheet1!$1:$1048576,9,FALSE)","v":216.72355493828425},-53.638001343239523,{"$f":"VLOOKUP($A87,Sheet1!$1:$1048576,10,FALSE)","v":203.37610873367686},-46.65292679886074,{"$f":"VLOOKUP($A87,Sheet1!$1:$1048576,11,FALSE)","v":176.68121632446207},-31.190350264553501,{"$f":"VLOOKUP($A87,Sheet1!$1:$1048576,12,FALSE)","v":136.63887771063992},-2.9478023668965321]
[12007,{"$f":"VLOOKUP($A88,BasinData!$1:$1048576,2,FALSE)","v":0.12464707727700512},10.46058600663412,{"$f":"VLOOKUP($A88,BasinData!$1:$1048576,3,FALSE)","v":70.710533161563959},{"$f":"VLOOKUP($A88,BasinData!$1:$1048576,4,FALSE)","v":21.589078266768421},{"$f":"VLOOKUP($A88,BasinData!$1:$1048576,5,FALSE)","v":11.627672993399999},146.78981714612922,{"$f":"VLOOKUP($A88,Sheet1!$1:$1048576,9,FALSE)","v":232.82245846903112},-40.228916737596961,{"$f":"VLOOKUP($A88,Sheet1!$1:$1048576,10,FALSE)","v":218.48352221208032},-33.243683546878074,{"$f":"VLOOKUP($A88,Sheet1!$1:$1048576,11,FALSE)","v":189.80564969817874},-17.781059515810902,{"$f":"VLOOKUP($A88,Sheet1!$1:$1048576,12,FALSE)","v":146.78884092732636},10.46058600663412]
[12008,{"$f":"VLOOKUP($A89,BasinData!$1:$1048576,2,FALSE)","v":0.60260013832007575},2.3001933541547031,{"$f":"VLOOKUP($A89,BasinData!$1:$1048576,3,FALSE)","v":100},{"$f":"VLOOKUP($A89,BasinData!$1:$1048576,4,FALSE)","v":33.700209643605874},{"$f":"VLOOKUP($A89,BasinData!$1:$1048576,5,FALSE)","v":13.618688259400001},99.368652635326271,{"$f":"VLOOKUP($A89,Sheet1!$1:$1048576,9,FALSE)","v":157.60886539892732},-48.389898786899288,{"$f":"VLOOKUP($A89,Sheet1!$1:$1048576,10,FALSE)","v":147.90214084431929},-41.405024315227678,{"$f":"VLOOKUP($A89,Sheet1!$1:$1048576,11,FALSE)","v":128.4886917351032},-25.942027345057284,{"$f":"VLOOKUP($A89,Sheet1!$1:$1048576,12,FALSE)","v":99.368518071279055},2.3001933541547031]
[12009,{"$f":"VLOOKUP($A90,BasinData!$1:$1048576,2,FALSE)","v":0.34562211981566821},1.5839435749065314,{"$f":"VLOOKUP($A90,BasinData!$1:$1048576,3,FALSE)","v":36.787953311635796},{"$f":"VLOOKUP($A90,BasinData!$1:$1048576,4,FALSE)","v":20.725388601036268},{"$f":"VLOOKUP($A90,BasinData!$1:$1048576,5,FALSE)","v":13.793436097300001},147.7312815738095,{"$f":"VLOOKUP($A90,Sheet1!$1:$1048576,9,FALSE)","v":234.31700248949633},-49.106161165907828,{"$f":"VLOOKUP($A90,Sheet1!$1:$1048576,10,FALSE)","v":219.8860211111961},-42.121264222294521,{"$f":"VLOOKUP($A90,Sheet1!$1:$1048576,11,FALSE)","v":191.02405835459564},-26.658301235218218,{"$f":"VLOOKUP($A90,Sheet1!$1:$1048576,12,FALSE)","v":147.73111421969492},1.5839435749065314]
[12010,{"$f":"VLOOKUP($A91,BasinData!$1:$1048576,2,FALSE)","v":0.23578067830113636},-2.2455198341414513,{"$f":"VLOOKUP($A91,BasinData!$1:$1048576,3,FALSE)","v":52.570665644900124},{"$f":"VLOOKUP($A91,BasinData!$1:$1048576,4,FALSE)","v":46.799707958140665},{"$f":"VLOOKUP($A91,BasinData!$1:$1048576,5,FALSE)","v":14.727722641},70.180678563788078,{"$f":"VLOOKUP($A91,Sheet1!$1:$1048576,9,FALSE)","v":111.31385809587456},-52.935723580393095,{"$f":"VLOOKUP($A91,Sheet1!$1:$1048576,10,FALSE)","v":104.45832394230698},-45.950658313218902,{"$f":"VLOOKUP($A91,Sheet1!$1:$1048576,11,FALSE)","v":90.747255635171825},-30.488162210032804,{"$f":"VLOOKUP($A91,Sheet1!$1:$1048576,12,FALSE)","v":70.180653174469114},-2.2455198341414513]
[12011,{"$f":"VLOOKUP($A92,BasinData!$1:$1048576,2,FALSE)","v":0.14919354838709675},-44.566494066871357,{"$f":"VLOOKUP($A92,BasinData!$1:$1048576,3,FALSE)","v":100},{"$f":"VLOOKUP($A92,BasinData!$1:$1048576,4,FALSE)","v":19.583124418021633},{"$f":"VLOOKUP($A92,BasinData!$1:$1048576,5,FALSE)","v":25.0526813731},155.22963350367667,{"$f":"VLOOKUP($A92,Sheet1!$1:$1048576,9,FALSE)","v":246.21037291904696},-95.256700684828004,{"$f":"VLOOKUP($A92,Sheet1!$1:$1048576,10,FALSE)","v":231.04690945293166},-88.27146921680955,{"$f":"VLOOKUP($A92,Sheet1!$1:$1048576,11,FALSE)","v":200.71998252070111},-72.808849550608642,{"$f":"VLOOKUP($A92,Sheet1!$1:$1048576,12,FALSE)","v":155.22959212235526},-44.566494066871357]
[12012,{"$f":"VLOOKUP($A93,BasinData!$1:$1048576,2,FALSE)","v":0.10623926731539782},-4.3342666522900055,{"$f":"VLOOKUP($A93,BasinData!$1:$1048576,3,FALSE)","v":29.240247141116875},{"$f":"VLOOKUP($A93,BasinData!$1:$1048576,4,FALSE)","v":24.66856455397663},{"$f":"VLOOKUP($A93,BasinData!$1:$1048576,5,FALSE)","v":15.237315116},134.49733149303901,{"$f":"VLOOKUP($A93,Sheet1!$1:$1048576,9,FALSE)","v":213.32680478085717},-55.024498365295493,{"$f":"VLOOKUP($A93,Sheet1!$1:$1048576,10,FALSE)","v":200.18855567995021},-48.039363707833523,{"$f":"VLOOKUP($A93,Sheet1!$1:$1048576,11,FALSE)","v":173.91205747813629},-32.576710276443073,{"$f":"VLOOKUP($A93,Sheet1!$1:$1048576,12,FALSE)","v":134.49731017541541},-4.3342666522900055]
[12013,{"$f":"VLOOKUP($A94,BasinData!$1:$1048576,2,FALSE)","v":3.0064308681672025},9.1596676069086449,{"$f":"VLOOKUP($A94,BasinData!$1:$1048576,3,FALSE)","v":32.44214047018211},{"$f":"VLOOKUP($A94,BasinData!$1:$1048576,4,FALSE)","v":20.964921304392554},{"$f":"VLOOKUP($A94,BasinData!$1:$1048576,5,FALSE)","v":11.945089442},117.32745309042434,{"$f":"VLOOKUP($A94,Sheet1!$1:$1048576,9,FALSE)","v":186.09261503244852},-41.529985913483664,{"$f":"VLOOKUP($A94,Sheet1!$1:$1048576,10,FALSE)","v":174.63164961534082},-34.544742128182008,{"$f":"VLOOKUP($A94,Sheet1!$1:$1048576,11,FALSE)","v":151.70971878112539},-19.082116341236066,{"$f":"VLOOKUP($A94,Sheet1!$1:$1048576,12,FALSE)","v":117.32682252980227},9.1596676069086449]
[12014,{"$f":"VLOOKUP($A95,BasinData!$1:$1048576,2,FALSE)","v":0.11675126903553298},-1.5421941157985015,{"$f":"VLOOKUP($A95,BasinData!$1:$1048576,3,FALSE)","v":42.68742492686529},{"$f":"VLOOKUP($A95,BasinData!$1:$1048576,4,FALSE)","v":20.542026708562449},{"$f":"VLOOKUP($A95,BasinData!$1:$1048576,5,FALSE)","v":14.556131174200001},151.39897868573931,{"$f":"VLOOKUP($A95,Sheet1!$1:$1048576,9,FALSE)","v":240.13450892860962},-52.232372975908632,{"$f":"VLOOKUP($A95,Sheet1!$1:$1048576,10,FALSE)","v":225.34524229486897},-45.247346534735037,{"$f":"VLOOKUP($A95,Sheet1!$1:$1048576,11,FALSE)","v":195.76670902738763},-29.784950938596701,{"$f":"VLOOKUP($A95,Sheet1!$1:$1048576,12,FALSE)","v":151.39890912616565},-1.5421941157985015]
[12015,{"$f":"VLOOKUP($A96,BasinData!$1:$1048576,2,FALSE)","v":0.58438444558712122},-2.1356691431513029,{"$f":"VLOOKUP($A96,BasinData!$1:$1048576,3,FALSE)","v":1.7618827283287906},{"$f":"VLOOKUP($A96,BasinData!$1:$1048576,4,FALSE)","v":20.097670924117207},{"$f":"VLOOKUP($A96,BasinData!$1:$1048576,5,FALSE)","v":14.700922226599999},147.44853608723318,{"$f":"VLOOKUP($A96,Sheet1!$1:$1048576,9,FALSE)","v":233.86871608803455},-52.825870546425676,{"$f":"VLOOKUP($A96,Sheet1!$1:$1048576,10,FALSE)","v":219.46534351593664},-45.840809812559797,{"$f":"VLOOKUP($A96,Sheet1!$1:$1048576,11,FALSE)","v":190.65859837174082},-30.378328081383462,{"$f":"VLOOKUP($A96,Sheet1!$1:$1048576,12,FALSE)","v":147.44848065544704},-2.1356691431513029]
[12016,{"$f":"VLOOKUP($A97,BasinData!$1:$1048576,2,FALSE)","v":0},-40.309269311294706,{"$f":"VLOOKUP($A97,BasinData!$1:$1048576,3,FALSE)","v":100},{"$f":"VLOOKUP($A97,BasinData!$1:$1048576,4,FALSE)","v":21.289371115558833},{"$f":"VLOOKUP($A97,BasinData!$1:$1048576,5,FALSE)","v":24.014048734199999},149.62430332208621,{"$f":"VLOOKUP($A97,Sheet1!$1:$1048576,9,FALSE)","v":237.3196753611598},-90.99945769472599,{"$f":"VLOOKUP($A97,Sheet1!$1:$1048576,10,FALSE)","v":222.70376708538421},-84.014216844225089,{"$f":"VLOOKUP($A97,Sheet1!$1:$1048576,11,FALSE)","v":193.47195053383308},-68.551601431705123,{"$f":"VLOOKUP($A97,Sheet1!$1:$1048576,12,FALSE)","v":149.62422570650637},-40.309269311294706]
[12017,{"$f":"VLOOKUP($A98,BasinData!$1:$1048576,2,FALSE)","v":1.0366139753409089},-3.2543465502225937,{"$f":"VLOOKUP($A98,BasinData!$1:$1048576,3,FALSE)","v":8.9072080561103917},{"$f":"VLOOKUP($A98,BasinData!$1:$1048576,4,FALSE)","v":16.719419102587974},{"$f":"VLOOKUP($A98,BasinData!$1:$1048576,5,FALSE)","v":14.973846931300001},156.51052765458664,{"$f":"VLOOKUP($A98,Sheet1!$1:$1048576,9,FALSE)","v":248.24200890484357},-53.944188090621495,{"$f":"VLOOKUP($A98,Sheet1!$1:$1048576,10,FALSE)","v":232.9534222049594},-46.959464764577213,{"$f":"VLOOKUP($A98,Sheet1!$1:$1048576,11,FALSE)","v":202.37624880519107},-31.49685935743447,{"$f":"VLOOKUP($A98,Sheet1!$1:$1048576,12,FALSE)","v":156.51048870553859},-3.2543465502225937]
[12018,{"$f":"VLOOKUP($A99,BasinData!$1:$1048576,2,FALSE)","v":1.4696002947178031},-30.472026148318346,{"$f":"VLOOKUP($A99,BasinData!$1:$1048576,3,FALSE)","v":5.1683358611059811},{"$f":"VLOOKUP($A99,BasinData!$1:$1048576,4,FALSE)","v":13.883231500339443},{"$f":"VLOOKUP($A99,BasinData!$1:$1048576,5,FALSE)","v":21.614046973800001},163.81203962645705,{"$f":"VLOOKUP($A99,Sheet1!$1:$1048576,9,FALSE)","v":259.82259821515623},-81.162030328915151,{"$f":"VLOOKUP($A99,Sheet1!$1:$1048576,10,FALSE)","v":243.8207928119287},-74.176847209196069,{"$f":"VLOOKUP($A99,Sheet1!$1:$1048576,11,FALSE)","v":211.81718200547363},-58.714244511287816,{"$f":"VLOOKUP($A99,Sheet1!$1:$1048576,12,FALSE)","v":163.81176579579099},-30.472026148318346]
[12019,{"$f":"VLOOKUP($A100,BasinData!$1:$1048576,2,FALSE)","v":0.2217649748513946},-12.071680778141602,{"$f":"VLOOKUP($A100,BasinData!$1:$1048576,3,FALSE)","v":7.4117156424732862},{"$f":"VLOOKUP($A100,BasinData!$1:$1048576,4,FALSE)","v":16.082659478885894},{"$f":"VLOOKUP($A100,BasinData!$1:$1048576,5,FALSE)","v":17.124999385300001},170.71110804625764,{"$f":"VLOOKUP($A100,Sheet1!$1:$1048576,9,FALSE)","v":270.76567579133945},-62.761910113723417,{"$f":"VLOOKUP($A100,Sheet1!$1:$1048576,10,FALSE)","v":254.08991439240788},-55.776685542713928,{"$f":"VLOOKUP($A100,Sheet1!$1:$1048576,11,FALSE)","v":220.73839159454474},-40.314119666036518,{"$f":"VLOOKUP($A100,Sheet1!$1:$1048576,12,FALSE)","v":170.71110739774997},-12.071680778141602]
[12020,{"$f":"VLOOKUP($A101,BasinData!$1:$1048576,2,FALSE)","v":0.60318196934280299},9.0372201248585196,{"$f":"VLOOKUP($A101,BasinData!$1:$1048576,3,FALSE)","v":64.90278564392014},{"$f":"VLOOKUP($A101,BasinData!$1:$1048576,4,FALSE)","v":23.655913978494624},{"$f":"VLOOKUP($A101,BasinData!$1:$1048576,5,FALSE)","v":11.9749656366},132.83023432174511,{"$f":"VLOOKUP($A101,Sheet1!$1:$1048576,9,FALSE)","v":210.68153895424351},-41.6524471207075,{"$f":"VLOOKUP($A101,Sheet1!$1:$1048576,10,FALSE)","v":197.7062049703743},-34.667201690773084,{"$f":"VLOOKUP($A101,Sheet1!$1:$1048576,11,FALSE)","v":171.75553700263595},-19.204575755537594,{"$f":"VLOOKUP($A101,Sheet1!$1:$1048576,12,FALSE)","v":132.82953505102836},9.0372201248585196]
[12021,{"$f":"VLOOKUP($A102,BasinData!$1:$1048576,2,FALSE)","v":0.14082826634810605},-62.212514029434573,{"$f":"VLOOKUP($A102,BasinData!$1:$1048576,3,FALSE)","v":3.0609900957653222},{"$f":"VLOOKUP($A102,BasinData!$1:$1048576,4,FALSE)","v":19.992602182356205},{"$f":"VLOOKUP($A102,BasinData!$1:$1048576,5,FALSE)","v":29.357749376099999},153.51127981987491,{"$f":"VLOOKUP($A102,Sheet1!$1:$1048576,9,FALSE)","v":243.48494698509498},-112.90260956845954,{"$f":"VLOOKUP($A102,Sheet1!$1:$1048576,10,FALSE)","v":228.48933549080817},-105.91751681547765,{"$f":"VLOOKUP($A102,Sheet1!$1:$1048576,11,FALSE)","v":198.49811250223451},-90.454885997187034,{"$f":"VLOOKUP($A102,Sheet1!$1:$1048576,12,FALSE)","v":153.51127801937406},-62.212514029434573]
[12022,{"$f":"VLOOKUP($A103,BasinData!$1:$1048576,2,FALSE)","v":0.42073128336174237},23.337010117972316,{"$f":"VLOOKUP($A103,BasinData!$1:$1048576,3,FALSE)","v":12.326008420187595},{"$f":"VLOOKUP($A103,BasinData!$1:$1048576,4,FALSE)","v":40.834097158570124},{"$f":"VLOOKUP($A103,BasinData!$1:$1048576,5,FALSE)","v":8.48633030353},82.100676134159983,{"$f":"VLOOKUP($A103,Sheet1!$1:$1048576,9,FALSE)","v":130.21983529761982},-27.352861068775628,{"$f":"VLOOKUP($A103,Sheet1!$1:$1048576,10,FALSE)","v":122.19993064580305},-20.367631409274015,{"$f":"VLOOKUP($A103,Sheet1!$1:$1048576,11,FALSE)","v":106.1601213421695},-4.9051855993040334,{"$f":"VLOOKUP($A103,Sheet1!$1:$1048576,12,FALSE)","v":82.100407386719155},23.337010117972316]
[12023,{"$f":"VLOOKUP($A104,BasinData!$1:$1048576,2,FALSE)","v":0.66133090221969693},-36.216686054522185,{"$f":"VLOOKUP($A104,BasinData!$1:$1048576,3,FALSE)","v":0.5322002995033065},{"$f":"VLOOKUP($A104,BasinData!$1:$1048576,4,FALSE)","v":43.909287257019436},{"$f":"VLOOKUP($A104,BasinData!$1:$1048576,5,FALSE)","v":23.015580223699999},73.615860852987595,{"$f":"VLOOKUP($A104,Sheet1!$1:$1048576,9,FALSE)","v":116.76235334390992},-86.906835763339828,{"$f":"VLOOKUP($A104,Sheet1!$1:$1048576,10,FALSE)","v":109.57126038484049},-79.921593259284933,{"$f":"VLOOKUP($A104,Sheet1!$1:$1048576,11,FALSE)","v":95.189074466701584},-64.458982621589172,{"$f":"VLOOKUP($A104,Sheet1!$1:$1048576,12,FALSE)","v":73.615795589493217},-36.216686054522185]
[12024,{"$f":"VLOOKUP($A105,BasinData!$1:$1048576,2,FALSE)","v":0.30181086519114686},-19.053922785323614,{"$f":"VLOOKUP($A105,BasinData!$1:$1048576,3,FALSE)","v":28.281192923493155},{"$f":"VLOOKUP($A105,BasinData!$1:$1048576,4,FALSE)","v":36.84844107379319},{"$f":"VLOOKUP($A105,BasinData!$1:$1048576,5,FALSE)","v":18.8283204098},93.048632478761135,{"$f":"VLOOKUP($A105,Sheet1!$1:$1048576,9,FALSE)","v":147.58419684424746},-69.743668290507188,{"$f":"VLOOKUP($A105,Sheet1!$1:$1048576,10,FALSE)","v":138.49486583641246},-62.75842979699258,{"$f":"VLOOKUP($A105,Sheet1!$1:$1048576,11,FALSE)","v":120.31620382074246},-47.295847720550114,{"$f":"VLOOKUP($A105,Sheet1!$1:$1048576,12,FALSE)","v":93.048210797237431},-19.053922785323614]
[12025,{"$f":"VLOOKUP($A106,BasinData!$1:$1048576,2,FALSE)","v":0.30798283859469694},27.293113071280228,{"$f":"VLOOKUP($A106,BasinData!$1:$1048576,3,FALSE)","v":78.79254725308337},{"$f":"VLOOKUP($A106,BasinData!$1:$1048576,4,FALSE)","v":30.340167220249686},{"$f":"VLOOKUP($A106,BasinData!$1:$1048576,5,FALSE)","v":7.5212545465599998},112.24550545800243,{"$f":"VLOOKUP($A106,Sheet1!$1:$1048576,9,FALSE)","v":178.03310347593398},-23.396700149018063,{"$f":"VLOOKUP($A106,Sheet1!$1:$1048576,10,FALSE)","v":167.0685026416545},-16.411881770192913,{"$f":"VLOOKUP($A106,Sheet1!$1:$1048576,11,FALSE)","v":145.13930097309552},-0.94925114425583701,{"$f":"VLOOKUP($A106,Sheet1!$1:$1048576,12,FALSE)","v":112.24549847025702},27.293113071280228]
[12026,{"$f":"VLOOKUP($A107,BasinData!$1:$1048576,2,FALSE)","v":1.7724835211553029},-9.199594341271923E-2,{"$f":"VLOOKUP($A107,BasinData!$1:$1048576,3,FALSE)","v":71.53529483676887},{"$f":"VLOOKUP($A107,BasinData!$1:$1048576,4,FALSE)","v":23.119858989424209},{"$f":"VLOOKUP($A107,BasinData!$1:$1048576,5,FALSE)","v":14.2023225339},122.28299528241669,{"$f":"VLOOKUP($A107,Sheet1!$1:$1048576,9,FALSE)","v":193.95348419460456},-50.782146684190877,{"$f":"VLOOKUP($A107,Sheet1!$1:$1048576,10,FALSE)","v":182.00838806870883},-43.797175920001571,{"$f":"VLOOKUP($A107,Sheet1!$1:$1048576,11,FALSE)","v":158.11819581691731},-28.334285942761074,{"$f":"VLOOKUP($A107,Sheet1!$1:$1048576,12,FALSE)","v":122.28290743923007},-9.199594341271923E-2]
[12027,{"$f":"VLOOKUP($A108,BasinData!$1:$1048576,2,FALSE)","v":1.026705845339015},10.026976589903834,{"$f":"VLOOKUP($A108,BasinData!$1:$1048576,3,FALSE)","v":3.0158250283959944},{"$f":"VLOOKUP($A108,BasinData!$1:$1048576,4,FALSE)","v":36.470588235294116},{"$f":"VLOOKUP($A108,BasinData!$1:$1048576,5,FALSE)","v":11.733471746599999},88.513291384712318,{"$f":"VLOOKUP($A108,Sheet1!$1:$1048576,9,FALSE)","v":140.39046942278395},-40.662577755933206,{"$f":"VLOOKUP($A108,Sheet1!$1:$1048576,10,FALSE)","v":131.74418158021973},-33.67734215576133,{"$f":"VLOOKUP($A108,Sheet1!$1:$1048576,11,FALSE)","v":114.45160589509128},-18.214717501672745,{"$f":"VLOOKUP($A108,Sheet1!$1:$1048576,12,FALSE)","v":88.512742367398602},10.026976589903834]
[12028,{"$f":"VLOOKUP($A109,BasinData!$1:$1048576,2,FALSE)","v":0.26109720009105397},3.6851532005934935,{"$f":"VLOOKUP($A109,BasinData!$1:$1048576,3,FALSE)","v":36.885000517147027},{"$f":"VLOOKUP($A109,BasinData!$1:$1048576,4,FALSE)","v":31.295434719395171},{"$f":"VLOOKUP($A109,BasinData!$1:$1048576,5,FALSE)","v":13.2807888068},109.62017709835864,{"$f":"VLOOKUP($A109,Sheet1!$1:$1048576,9,FALSE)","v":173.86874413355497},-47.004850117452619,{"$f":"VLOOKUP($A109,Sheet1!$1:$1048576,10,FALSE)","v":163.16061547792208},-40.020078818098206,{"$f":"VLOOKUP($A109,Sheet1!$1:$1048576,11,FALSE)","v":141.7443581666563},-24.557011451217679,{"$f":"VLOOKUP($A109,Sheet1!$1:$1048576,12,FALSE)","v":109.61997219975761},3.6851532005934935]
[12029,{"$f":"VLOOKUP($A110,BasinData!$1:$1048576,2,FALSE)","v":0.53745233038068185},18.746716040302598,{"$f":"VLOOKUP($A110,BasinData!$1:$1048576,3,FALSE)","v":100},{"$f":"VLOOKUP($A110,BasinData!$1:$1048576,4,FALSE)","v":29.225255031706642},{"$f":"VLOOKUP($A110,BasinData!$1:$1048576,5,FALSE)","v":9.6061881968199998},113.70850477869941,{"$f":"VLOOKUP($A110,Sheet1!$1:$1048576,9,FALSE)","v":180.35281802217901},-31.943062375403809,{"$f":"VLOOKUP($A110,Sheet1!$1:$1048576,10,FALSE)","v":169.24535193670488},-24.957817759246456,{"$f":"VLOOKUP($A110,Sheet1!$1:$1048576,11,FALSE)","v":147.03041976575665},-9.4952152069540734,{"$f":"VLOOKUP($A110,Sheet1!$1:$1048576,12,FALSE)","v":113.70802150933427},18.746716040302598]
[12030,{"$f":"VLOOKUP($A111,BasinData!$1:$1048576,2,FALSE)","v":0.20173913043478259},6.8321886706161239,{"$f":"VLOOKUP($A111,BasinData!$1:$1048576,3,FALSE)","v":61.935943151280753},{"$f":"VLOOKUP($A111,BasinData!$1:$1048576,4,FALSE)","v":29.128173278472168},{"$f":"VLOOKUP($A111,BasinData!$1:$1048576,5,FALSE)","v":12.5129682236},117.28924619358887,{"$f":"VLOOKUP($A111,Sheet1!$1:$1048576,9,FALSE)","v":186.03235384462388},-43.857467419803399,{"$f":"VLOOKUP($A111,Sheet1!$1:$1048576,10,FALSE)","v":174.57509975904608},-36.873043182141771,{"$f":"VLOOKUP($A111,Sheet1!$1:$1048576,11,FALSE)","v":151.66059158789045},-21.409792858085861,{"$f":"VLOOKUP($A111,Sheet1!$1:$1048576,12,FALSE)","v":117.28882933115705},6.8321886706161239]
[12031,{"$f":"VLOOKUP($A112,BasinData!$1:$1048576,2,FALSE)","v":0.44340741401136363},10.612272875956924,{"$f":"VLOOKUP($A112,BasinData!$1:$1048576,3,FALSE)","v":8.6119185196764523},{"$f":"VLOOKUP($A112,BasinData!$1:$1048576,4,FALSE)","v":32.810853530031615},{"$f":"VLOOKUP($A112,BasinData!$1:$1048576,5,FALSE)","v":11.5906415651},103.3289405039848,{"$f":"VLOOKUP($A112,Sheet1!$1:$1048576,9,FALSE)","v":163.8892686951842},-40.07712792631613,{"$f":"VLOOKUP($A112,Sheet1!$1:$1048576,10,FALSE)","v":153.7957502585549},-33.091895390786782,{"$f":"VLOOKUP($A112,Sheet1!$1:$1048576,11,FALSE)","v":133.60871338529628},-17.629271587107812,{"$f":"VLOOKUP($A112,Sheet1!$1:$1048576,12,FALSE)","v":103.32815807540837},10.612272875956924]
[12032,{"$f":"VLOOKUP($A113,BasinData!$1:$1048576,2,FALSE)","v":0},-10.439780095493733,{"$f":"VLOOKUP($A113,BasinData!$1:$1048576,3,FALSE)","v":29.42356278989228},{"$f":"VLOOKUP($A113,BasinData!$1:$1048576,4,FALSE)","v":37.413086111606347},{"$f":"VLOOKUP($A113,BasinData!$1:$1048576,5,FALSE)","v":16.726646069099999},93.893382691893507,{"$f":"VLOOKUP($A113,Sheet1!$1:$1048576,9,FALSE)","v":148.92349386235043},-61.129103176424756,{"$f":"VLOOKUP($A113,Sheet1!$1:$1048576,10,FALSE)","v":139.75167899665229},-54.143878485500203,{"$f":"VLOOKUP($A113,Sheet1!$1:$1048576,11,FALSE)","v":121.40804926525604},-38.681313080026754,{"$f":"VLOOKUP($A113,Sheet1!$1:$1048576,12,FALSE)","v":93.892604668161653},-10.439780095493733]
[12033,{"$f":"VLOOKUP($A114,BasinData!$1:$1048576,2,FALSE)","v":0.12647749070814396},10.365054890650107,{"$f":"VLOOKUP($A114,BasinData!$1:$1048576,3,FALSE)","v":34.729992098824269},{"$f":"VLOOKUP($A114,BasinData!$1:$1048576,4,FALSE)","v":25.570875939816794},{"$f":"VLOOKUP($A114,BasinData!$1:$1048576,5,FALSE)","v":11.650982210700001},130.81366946238015,{"$f":"VLOOKUP($A114,Sheet1!$1:$1048576,9,FALSE)","v":207.48280625416319},-40.324459368749487,{"$f":"VLOOKUP($A114,Sheet1!$1:$1048576,10,FALSE)","v":194.7044739882171},-33.339225719509948,{"$f":"VLOOKUP($A114,Sheet1!$1:$1048576,11,FALSE)","v":169.14780945632489},-17.876601547817785,{"$f":"VLOOKUP($A114,Sheet1!$1:$1048576,12,FALSE)","v":130.81281265848659},10.365054890650107]
[12034,{"$f":"VLOOKUP($A115,BasinData!$1:$1048576,2,FALSE)","v":5.3078556263269645E-3},9.8598091484964847,{"$f":"VLOOKUP($A115,BasinData!$1:$1048576,3,FALSE)","v":33.472321560383406},{"$f":"VLOOKUP($A115,BasinData!$1:$1048576,4,FALSE)","v":25.051976915080477},{"$f":"VLOOKUP($A115,BasinData!$1:$1048576,5,FALSE)","v":11.774259688800001},134.1485620225159,{"$f":"VLOOKUP($A115,Sheet1!$1:$1048576,9,FALSE)","v":212.77236939607428},-40.829764672768576,{"$f":"VLOOKUP($A115,Sheet1!$1:$1048576,10,FALSE)","v":199.66826654417301},-33.844527890537748,{"$f":"VLOOKUP($A115,Sheet1!$1:$1048576,11,FALSE)","v":173.46006084037046},-18.38190300655987,{"$f":"VLOOKUP($A115,Sheet1!$1:$1048576,12,FALSE)","v":134.14775228466664},9.8598091484964847]
[12035,{"$f":"VLOOKUP($A116,BasinData!$1:$1048576,2,FALSE)","v":0.63832028599242419},14.593725007145862,{"$f":"VLOOKUP($A116,BasinData!$1:$1048576,3,FALSE)","v":72.427466436185895},{"$f":"VLOOKUP($A116,BasinData!$1:$1048576,4,FALSE)","v":23.684692942254813},{"$f":"VLOOKUP($A116,BasinData!$1:$1048576,5,FALSE)","v":10.619483754599999},132.32801844572322,{"$f":"VLOOKUP($A116,Sheet1!$1:$1048576,9,FALSE)","v":209.88596693522774},-36.09638575874969,{"$f":"VLOOKUP($A116,Sheet1!$1:$1048576,10,FALSE)","v":196.95963018531739},-29.111215764170012,{"$f":"VLOOKUP($A116,Sheet1!$1:$1048576,11,FALSE)","v":171.1069566854967},-13.64859989391355,{"$f":"VLOOKUP($A116,Sheet1!$1:$1048576,12,FALSE)","v":132.32794643576568},14.593725007145862]
[12036,{"$f":"VLOOKUP($A117,BasinData!$1:$1048576,2,FALSE)","v":1.468103946719697},19.21643705272713,{"$f":"VLOOKUP($A117,BasinData!$1:$1048576,3,FALSE)","v":22.721856742964558},{"$f":"VLOOKUP($A117,BasinData!$1:$1048576,4,FALSE)","v":22.850678733031675},{"$f":"VLOOKUP($A117,BasinData!$1:$1048576,5,FALSE)","v":9.4915695016000008},126.4300933278317,{"$f":"VLOOKUP($A117,Sheet1!$1:$1048576,9,FALSE)","v":200.53033895494488},-31.473248785203388,{"$f":"VLOOKUP($A117,Sheet1!$1:$1048576,10,FALSE)","v":188.18019126400742},-24.48800709920944,{"$f":"VLOOKUP($A117,Sheet1!$1:$1048576,11,FALSE)","v":163.47989588213247},-9.0254064494243664,{"$f":"VLOOKUP($A117,Sheet1!$1:$1048576,12,FALSE)","v":126.42945280932005},19.21643705272713]
[12037,{"$f":"VLOOKUP($A118,BasinData!$1:$1048576,2,FALSE)","v":0.78382846982196985},5.5864110286120869,{"$f":"VLOOKUP($A118,BasinData!$1:$1048576,3,FALSE)","v":37.972150025938213},{"$f":"VLOOKUP($A118,BasinData!$1:$1048576,4,FALSE)","v":20.028776978417266},{"$f":"VLOOKUP($A118,BasinData!$1:$1048576,5,FALSE)","v":12.8169183244},145.28820058213722,{"$f":"VLOOKUP($A118,Sheet1!$1:$1048576,9,FALSE)","v":230.44164250993944},-45.103512927466326,{"$f":"VLOOKUP($A118,Sheet1!$1:$1048576,10,FALSE)","v":216.24933458301072},-38.118282386435574,{"$f":"VLOOKUP($A118,Sheet1!$1:$1048576,11,FALSE)","v":187.86471872915328},-22.655653299740649,{"$f":"VLOOKUP($A118,Sheet1!$1:$1048576,12,FALSE)","v":145.28779494836712},5.5864110286120869]
[12038,{"$f":"VLOOKUP($A119,BasinData!$1:$1048576,2,FALSE)","v":0.57024402656439399},12.446086529249781,{"$f":"VLOOKUP($A119,BasinData!$1:$1048576,3,FALSE)","v":2.6334714413554123},{"$f":"VLOOKUP($A119,BasinData!$1:$1048576,4,FALSE)","v":25.070501974055276},{"$f":"VLOOKUP($A119,BasinData!$1:$1048576,5,FALSE)","v":11.1434506545},127.86204354527455,{"$f":"VLOOKUP($A119,Sheet1!$1:$1048576,9,FALSE)","v":202.80255969557342},-38.24413316557456,{"$f":"VLOOKUP($A119,Sheet1!$1:$1048576,10,FALSE)","v":190.31247177474646},-31.258904155768501,{"$f":"VLOOKUP($A119,Sheet1!$1:$1048576,11,FALSE)","v":165.3322959330925},-15.796283507633071,{"$f":"VLOOKUP($A119,Sheet1!$1:$1048576,12,FALSE)","v":127.86203217061158},12.446086529249781]
[12039,{"$f":"VLOOKUP($A120,BasinData!$1:$1048576,2,FALSE)","v":0.14213220181420455},16.141177062859683,{"$f":"VLOOKUP($A120,BasinData!$1:$1048576,3,FALSE)","v":15.404296690337265},{"$f":"VLOOKUP($A120,BasinData!$1:$1048576,4,FALSE)","v":41.486810551558747},{"$f":"VLOOKUP($A120,BasinData!$1:$1048576,5,FALSE)","v":10.241933874700001},82.474010981778079,{"$f":"VLOOKUP($A120,Sheet1!$1:$1048576,9,FALSE)","v":130.81223426688953},-34.54876784396469,{"$f":"VLOOKUP($A120,Sheet1!$1:$1048576,10,FALSE)","v":122.75584528656383},-27.563676237976885,{"$f":"VLOOKUP($A120,Sheet1!$1:$1048576,11,FALSE)","v":106.6430673259124},-12.101064644865197,{"$f":"VLOOKUP($A120,Sheet1!$1:$1048576,12,FALSE)","v":82.473900384935263},16.141177062859683]
[12040,{"$f":"VLOOKUP($A121,BasinData!$1:$1048576,2,FALSE)","v":0.19629352373106063},34.794072863811962,{"$f":"VLOOKUP($A121,BasinData!$1:$1048576,3,FALSE)","v":24.964843601884802},{"$f":"VLOOKUP($A121,BasinData!$1:$1048576,4,FALSE)","v":63.857677902621724},{"$f":"VLOOKUP($A121,BasinData!$1:$1048576,5,FALSE)","v":5.6912477081899997},43.009234568550731,{"$f":"VLOOKUP($A121,Sheet1!$1:$1048576,9,FALSE)","v":68.217105781665637},-15.896094070729179,{"$f":"VLOOKUP($A121,Sheet1!$1:$1048576,10,FALSE)","v":64.015789732221535},-8.9113155427778459,{"$f":"VLOOKUP($A121,Sheet1!$1:$1048576,11,FALSE)","v":55.613157633333344},6.5510216180533343,{"$f":"VLOOKUP($A121,Sheet1!$1:$1048576,12,FALSE)","v":43.009209485001037},34.794072863811962]
[12041,{"$f":"VLOOKUP($A122,BasinData!$1:$1048576,2,FALSE)","v":0.37596471885336274},2.7626524287286345,{"$f":"VLOOKUP($A122,BasinData!$1:$1048576,3,FALSE)","v":37.987542269736949},{"$f":"VLOOKUP($A122,BasinData!$1:$1048576,4,FALSE)","v":29.085204549100212},{"$f":"VLOOKUP($A122,BasinData!$1:$1048576,5,FALSE)","v":13.505858869900001},115.72860978305039,{"$f":"VLOOKUP($A122,Sheet1!$1:$1048576,9,FALSE)","v":183.55740472090866},-47.92741215517534,{"$f":"VLOOKUP($A122,Sheet1!$1:$1048576,10,FALSE)","v":172.25257638479465},-40.942570784803827,{"$f":"VLOOKUP($A122,Sheet1!$1:$1048576,11,FALSE)","v":149.64291971256665},-25.479550998041827,{"$f":"VLOOKUP($A122,Sheet1!$1:$1048576,12,FALSE)","v":115.72843470422467},2.7626524287286345]
[12042,{"$f":"VLOOKUP($A123,BasinData!$1:$1048576,2,FALSE)","v":7.2835738068812425E-2},-20.37372184557325,{"$f":"VLOOKUP($A123,BasinData!$1:$1048576,3,FALSE)","v":59.580457657125855},{"$f":"VLOOKUP($A123,BasinData!$1:$1048576,4,FALSE)","v":28.337170511675986},{"$f":"VLOOKUP($A123,BasinData!$1:$1048576,5,FALSE)","v":19.1503207039},121.30784360911272,{"$f":"VLOOKUP($A123,Sheet1!$1:$1048576,9,FALSE)","v":192.40614355999247},-71.063509364255864,{"$f":"VLOOKUP($A123,Sheet1!$1:$1048576,10,FALSE)","v":180.55634416308666},-64.078277125533617,{"$f":"VLOOKUP($A123,Sheet1!$1:$1048576,11,FALSE)","v":156.85674536927502},-48.615692307976033,{"$f":"VLOOKUP($A123,Sheet1!$1:$1048576,12,FALSE)","v":121.30734717855756},-20.37372184557325]
[12043,{"$f":"VLOOKUP($A124,BasinData!$1:$1048576,2,FALSE)","v":7.4099627432040849E-2},4.7730462064094388,{"$f":"VLOOKUP($A124,BasinData!$1:$1048576,3,FALSE)","v":39.751546770447348},{"$f":"VLOOKUP($A124,BasinData!$1:$1048576,4,FALSE)","v":29.166678331942446},{"$f":"VLOOKUP($A124,BasinData!$1:$1048576,5,FALSE)","v":13.0153646478},118.42156061508329,{"$f":"VLOOKUP($A124,Sheet1!$1:$1048576,9,FALSE)","v":187.82854014757484},-45.916932387940705,{"$f":"VLOOKUP($A124,Sheet1!$1:$1048576,10,FALSE)","v":176.26066356847565},-38.932191683025998,{"$f":"VLOOKUP($A124,Sheet1!$1:$1048576,11,FALSE)","v":153.12491041027727},-23.469064639586016,{"$f":"VLOOKUP($A124,Sheet1!$1:$1048576,12,FALSE)","v":118.42128067297972},4.7730462064094388]
[12044,{"$f":"VLOOKUP($A125,BasinData!$1:$1048576,2,FALSE)","v":0.43376855733522729},-6.8867405041615566,{"$f":"VLOOKUP($A125,BasinData!$1:$1048576,3,FALSE)","v":7.4781337069093281},{"$f":"VLOOKUP($A125,BasinData!$1:$1048576,4,FALSE)","v":20.007585814526834},{"$f":"VLOOKUP($A125,BasinData!$1:$1048576,5,FALSE)","v":15.8600398109},149.7150865320996,{"$f":"VLOOKUP($A125,Sheet1!$1:$1048576,9,FALSE)","v":237.46378077285274},-57.576808673619958,{"$f":"VLOOKUP($A125,Sheet1!$1:$1048576,10,FALSE)","v":222.83899741549726},-50.591791927154262,{"$f":"VLOOKUP($A125,Sheet1!$1:$1048576,11,FALSE)","v":193.58943070078632},-35.129189600846324,{"$f":"VLOOKUP($A125,Sheet1!$1:$1048576,12,FALSE)","v":149.7150806287199},-6.8867405041615566]
[12045,{"$f":"VLOOKUP($A126,BasinData!$1:$1048576,2,FALSE)","v":0.27332801640651699},17.278181337391608,{"$f":"VLOOKUP($A126,BasinData!$1:$1048576,3,FALSE)","v":48.944999385513192},{"$f":"VLOOKUP($A126,BasinData!$1:$1048576,4,FALSE)","v":39.169111384498912},{"$f":"VLOOKUP($A126,BasinData!$1:$1048576,5,FALSE)","v":9.9645152608699998},87.221011391060259,{"$f":"VLOOKUP($A126,Sheet1!$1:$1048576,9,FALSE)","v":138.341328503303},-33.411800952760665,{"$f":"VLOOKUP($A126,Sheet1!$1:$1048576,10,FALSE)","v":129.82124197834},-26.426564851071582,{"$f":"VLOOKUP($A126,Sheet1!$1:$1048576,11,FALSE)","v":112.78106892841399},-10.963956901446961,{"$f":"VLOOKUP($A126,Sheet1!$1:$1048576,12,FALSE)","v":87.22080935352497},17.278181337391608]
[12046,{"$f":"VLOOKUP($A127,BasinData!$1:$1048576,2,FALSE)","v":0.75153529594696966},10.089633810530682,{"$f":"VLOOKUP($A127,BasinData!$1:$1048576,3,FALSE)","v":19.51359448688229},{"$f":"VLOOKUP($A127,BasinData!$1:$1048576,4,FALSE)","v":28.463676061929338},{"$f":"VLOOKUP($A127,BasinData!$1:$1048576,5,FALSE)","v":11.718183703899999},114.16752384294797,{"$f":"VLOOKUP($A127,Sheet1!$1:$1048576,9,FALSE)","v":181.08050214911057},-40.599913179641383,{"$f":"VLOOKUP($A127,Sheet1!$1:$1048576,10,FALSE)","v":169.92821987030237},-33.614677983135365,{"$f":"VLOOKUP($A127,Sheet1!$1:$1048576,11,FALSE)","v":147.62365531268594},-18.152053416673734,{"$f":"VLOOKUP($A127,Sheet1!$1:$1048576,12,FALSE)","v":114.16680847626129},10.089633810530682]
[12047,{"$f":"VLOOKUP($A128,BasinData!$1:$1048576,2,FALSE)","v":0.69562299433522723},2.5446206471164641,{"$f":"VLOOKUP($A128,BasinData!$1:$1048576,3,FALSE)","v":14.814748240663144},{"$f":"VLOOKUP($A128,BasinData!$1:$1048576,4,FALSE)","v":41.916167664670652},{"$f":"VLOOKUP($A128,BasinData!$1:$1048576,5,FALSE)","v":13.5590536582},77.756463048262773,{"$f":"VLOOKUP($A128,Sheet1!$1:$1048576,9,FALSE)","v":123.32970796489396},-48.145455204415562,{"$f":"VLOOKUP($A128,Sheet1!$1:$1048576,10,FALSE)","v":115.73414852992563},-41.160600038216486,{"$f":"VLOOKUP($A128,Sheet1!$1:$1048576,11,FALSE)","v":100.54302965998897},-25.697591095714994,{"$f":"VLOOKUP($A128,Sheet1!$1:$1048576,12,FALSE)","v":77.756351355084007},2.5446206471164641]
[12048,{"$f":"VLOOKUP($A129,BasinData!$1:$1048576,2,FALSE)","v":0.37229445725757576},18.582488941956278,{"$f":"VLOOKUP($A129,BasinData!$1:$1048576,3,FALSE)","v":21.111265243526155},{"$f":"VLOOKUP($A129,BasinData!$1:$1048576,4,FALSE)","v":38.461538461538467},{"$f":"VLOOKUP($A129,BasinData!$1:$1048576,5,FALSE)","v":9.6462613175899996},88.286093838435718,{"$f":"VLOOKUP($A129,Sheet1!$1:$1048576,9,FALSE)","v":140.03042252383244},-32.107319264153645,{"$f":"VLOOKUP($A129,Sheet1!$1:$1048576,10,FALSE)","v":131.4063090435163},-25.122073505766931,{"$f":"VLOOKUP($A129,Sheet1!$1:$1048576,11,FALSE)","v":114.15808208288398},-9.6594703090237086,{"$f":"VLOOKUP($A129,Sheet1!$1:$1048576,12,FALSE)","v":88.285741641935516},18.582488941956278]
[12049,{"$f":"VLOOKUP($A130,BasinData!$1:$1048576,2,FALSE)","v":1.4200763291026893E-3},5.8839500505905056,{"$f":"VLOOKUP($A130,BasinData!$1:$1048576,3,FALSE)","v":41.497697812483523},{"$f":"VLOOKUP($A130,BasinData!$1:$1048576,4,FALSE)","v":29.184719417034604},{"$f":"VLOOKUP($A130,BasinData!$1:$1048576,5,FALSE)","v":12.7443238205},119.08471117466914,{"$f":"VLOOKUP($A130,Sheet1!$1:$1048576,9,FALSE)","v":188.88025089907018},-44.805954339909,{"$f":"VLOOKUP($A130,Sheet1!$1:$1048576,10,FALSE)","v":177.24760216042245},-37.821287728667869,{"$f":"VLOOKUP($A130,Sheet1!$1:$1048576,11,FALSE)","v":153.98230468312698},-22.358095818368032,{"$f":"VLOOKUP($A130,Sheet1!$1:$1048576,12,FALSE)","v":119.08435846718378},5.8839500505905056]
[12050,{"$f":"VLOOKUP($A131,BasinData!$1:$1048576,2,FALSE)","v":0.31204392453598484},22.842885210428275,{"$f":"VLOOKUP($A131,BasinData!$1:$1048576,3,FALSE)","v":100},{"$f":"VLOOKUP($A131,BasinData!$1:$1048576,4,FALSE)","v":34.801506809620399},{"$f":"VLOOKUP($A131,BasinData!$1:$1048576,5,FALSE)","v":8.60691218909},{"$f":"EXP(6.1523-(0.084*B131)-(0.0091*C131)-(0.0289*E131)-(0.0373*F131))","v":98.634064478799488},{"$f":"VLOOKUP($A131,Sheet1!$1:$1048576,9,FALSE)","v":156.44361573713886},-27.847114869237519,{"$f":"VLOOKUP($A131,Sheet1!$1:$1048576,10,FALSE)","v":146.80865591147358},-20.861884583903318,{"$f":"VLOOKUP($A131,Sheet1!$1:$1048576,11,FALSE)","v":127.53873626014303},-5.3993296386794993,{"$f":"VLOOKUP($A131,Sheet1!$1:$1048576,12,FALSE)","v":98.633856783147195},22.842885210428275]
[12051,{"$f":"VLOOKUP($A132,BasinData!$1:$1048576,2,FALSE)","v":0.17595396729254997},9.8982217507873571,{"$f":"VLOOKUP($A132,BasinData!$1:$1048576,3,FALSE)","v":20.767589589111267},{"$f":"VLOOKUP($A132,BasinData!$1:$1048576,4,FALSE)","v":38.225255972696246},{"$f":"VLOOKUP($A132,BasinData!$1:$1048576,5,FALSE)","v":11.7648872317},90.369412917545617,{"$f":"VLOOKUP($A132,Sheet1!$1:$1048576,9,FALSE)","v":143.33447252382149},-40.791347613767819,{"$f":"VLOOKUP($A132,Sheet1!$1:$1048576,10,FALSE)","v":134.50687110402066},-33.806111117276991,{"$f":"VLOOKUP($A132,Sheet1!$1:$1048576,11,FALSE)","v":116.85166826441898},-18.343486285625513,{"$f":"VLOOKUP($A132,Sheet1!$1:$1048576,12,FALSE)","v":90.368864005016462},9.8982217507873571]
[12052,{"$f":"VLOOKUP($A133,BasinData!$1:$1048576,2,FALSE)","v":0.633311858253788},7.3867969754927003,{"$f":"VLOOKUP($A133,BasinData!$1:$1048576,3,FALSE)","v":10.753627344360442},{"$f":"VLOOKUP($A133,BasinData!$1:$1048576,4,FALSE)","v":13.887506222000995},{"$f":"VLOOKUP($A133,BasinData!$1:$1048576,5,FALSE)","v":12.377651334599999},175.71205899299932,{"$f":"VLOOKUP($A133,Sheet1!$1:$1048576,9,FALSE)","v":278.6966105534205},-43.302974580227549,{"$f":"VLOOKUP($A133,Sheet1!$1:$1048576,10,FALSE)","v":261.53240328565261},-36.317770487735956,{"$f":"VLOOKUP($A133,Sheet1!$1:$1048576,11,FALSE)","v":227.20398875011679},-20.855142812341228,{"$f":"VLOOKUP($A133,Sheet1!$1:$1048576,12,FALSE)","v":175.71136694681309},7.3867969754927003]
[12053,{"$f":"VLOOKUP($A134,BasinData!$1:$1048576,2,FALSE)","v":0.21762315896394108},12.572646495335878,{"$f":"VLOOKUP($A134,BasinData!$1:$1048576,3,FALSE)","v":38.36215699791898},{"$f":"VLOOKUP($A134,BasinData!$1:$1048576,4,FALSE)","v":35.953451845505818},{"$f":"VLOOKUP($A134,BasinData!$1:$1048576,5,FALSE)","v":11.112573743700001},96.163975507495977,{"$f":"VLOOKUP($A134,Sheet1!$1:$1048576,9,FALSE)","v":152.52611007580666},-38.117571692024995,{"$f":"VLOOKUP($A134,Sheet1!$1:$1048576,10,FALSE)","v":143.13241934562924},-31.132342758142425,{"$f":"VLOOKUP($A134,Sheet1!$1:$1048576,11,FALSE)","v":124.34503788527445},-15.669722357521861,{"$f":"VLOOKUP($A134,Sheet1!$1:$1048576,12,FALSE)","v":96.163965694742245},12.572646495335878]
[12054,{"$f":"VLOOKUP($A135,BasinData!$1:$1048576,2,FALSE)","v":0.18310887300757578},25.623317362577477,{"$f":"VLOOKUP($A135,BasinData!$1:$1048576,3,FALSE)","v":5.3191655579035668},{"$f":"VLOOKUP($A135,BasinData!$1:$1048576,4,FALSE)","v":42.662360961607462},{"$f":"VLOOKUP($A135,BasinData!$1:$1048576,5,FALSE)","v":7.9285721771000004},79.445296674503552,{"$f":"VLOOKUP($A135,Sheet1!$1:$1048576,9,FALSE)","v":126.00826771303781},-25.066664269154657,{"$f":"VLOOKUP($A135,Sheet1!$1:$1048576,10,FALSE)","v":118.24774267405677},-18.081436255643663,{"$f":"VLOOKUP($A135,Sheet1!$1:$1048576,11,FALSE)","v":102.72669259609468},-2.6188041204964581,{"$f":"VLOOKUP($A135,Sheet1!$1:$1048576,12,FALSE)","v":79.445117479151548},25.623317362577477]
[12055,{"$f":"VLOOKUP($A136,BasinData!$1:$1048576,2,FALSE)","v":0.80720201498863642},35.408247372802606,{"$f":"VLOOKUP($A136,BasinData!$1:$1048576,3,FALSE)","v":29.496246370843583},{"$f":"VLOOKUP($A136,BasinData!$1:$1048576,4,FALSE)","v":40.777738137709598},{"$f":"VLOOKUP($A136,BasinData!$1:$1048576,5,FALSE)","v":5.5414183388899998},79.607510660297748,{"$f":"VLOOKUP($A136,Sheet1!$1:$1048576,9,FALSE)","v":126.26581116357329},-15.281962724922336,{"$f":"VLOOKUP($A136,Sheet1!$1:$1048576,10,FALSE)","v":118.48942468603127},-8.2972739724003564,{"$f":"VLOOKUP($A136,Sheet1!$1:$1048576,11,FALSE)","v":102.93665173094723},7.1659031415669228,{"$f":"VLOOKUP($A136,Sheet1!$1:$1048576,12,FALSE)","v":79.607492298321148},35.408247372802606]
[12056,{"$f":"VLOOKUP($A137,BasinData!$1:$1048576,2,FALSE)","v":0.15506538086041666},34.508210962468745,{"$f":"VLOOKUP($A137,BasinData!$1:$1048576,3,FALSE)","v":14.025994987104438},{"$f":"VLOOKUP($A137,BasinData!$1:$1048576,4,FALSE)","v":40.649267982176958},{"$f":"VLOOKUP($A137,BasinData!$1:$1048576,5,FALSE)","v":5.7609820051399998},84.402862320142901,{"$f":"VLOOKUP($A137,Sheet1!$1:$1048576,9,FALSE)","v":133.87165761765615},-16.181926996040303,{"$f":"VLOOKUP($A137,Sheet1!$1:$1048576,10,FALSE)","v":125.62684662384369},-9.1971090424739117,{"$f":"VLOOKUP($A137,Sheet1!$1:$1048576,11,FALSE)","v":109.13722463621878},6.2654837337780132,{"$f":"VLOOKUP($A137,Sheet1!$1:$1048576,12,FALSE)","v":84.402791654781396},34.508210962468745]
[12057,{"$f":"VLOOKUP($A138,BasinData!$1:$1048576,2,FALSE)","v":7.5570032573289897E-2},10.17519803448355,{"$f":"VLOOKUP($A138,BasinData!$1:$1048576,3,FALSE)","v":40.318683453413982},{"$f":"VLOOKUP($A138,BasinData!$1:$1048576,4,FALSE)","v":27.572189178818114},{"$f":"VLOOKUP($A138,BasinData!$1:$1048576,5,FALSE)","v":11.697306448399999},123.99137631711305,{"$f":"VLOOKUP($A138,Sheet1!$1:$1048576,9,FALSE)","v":196.66204514405487},-40.514338858467902,{"$f":"VLOOKUP($A138,Sheet1!$1:$1048576,10,FALSE)","v":184.55013571733917},-33.529104180920136,{"$f":"VLOOKUP($A138,Sheet1!$1:$1048576,11,FALSE)","v":160.32631686390778},-18.06647973541979,{"$f":"VLOOKUP($A138,Sheet1!$1:$1048576,12,FALSE)","v":123.9905885837607},10.17519803448355]
[12058,{"$f":"VLOOKUP($A139,BasinData!$1:$1048576,2,FALSE)","v":9.6831771530566713E-2},19.105657777988029,{"$f":"VLOOKUP($A139,BasinData!$1:$1048576,3,FALSE)","v":51.51376845985061},{"$f":"VLOOKUP($A139,BasinData!$1:$1048576,4,FALSE)","v":36.690647482014391},{"$f":"VLOOKUP($A139,BasinData!$1:$1048576,5,FALSE)","v":9.5186015003000009},95.097349378260745,{"$f":"VLOOKUP($A139,Sheet1!$1:$1048576,9,FALSE)","v":150.83361134677958},-31.58405091419899,{"$f":"VLOOKUP($A139,Sheet1!$1:$1048576,10,FALSE)","v":141.54415725919273},-24.598808579853522,{"$f":"VLOOKUP($A139,Sheet1!$1:$1048576,11,FALSE)","v":122.96524908401904},-9.1362074733780592,{"$f":"VLOOKUP($A139,Sheet1!$1:$1048576,12,FALSE)","v":95.096886821258465},19.105657777988029]
[12059,{"$f":"VLOOKUP($A140,BasinData!$1:$1048576,2,FALSE)","v":8.3155650319829424E-2},9.5268677957085579,{"$f":"VLOOKUP($A140,BasinData!$1:$1048576,3,FALSE)","v":36.711894969157811},{"$f":"VLOOKUP($A140,BasinData!$1:$1048576,4,FALSE)","v":30.691008844534835},{"$f":"VLOOKUP($A140,BasinData!$1:$1048576,5,FALSE)","v":11.855495294500001},113.23216837688494,{"$f":"VLOOKUP($A140,Sheet1!$1:$1048576,9,FALSE)","v":179.59703888557519},-41.162744245306712,{"$f":"VLOOKUP($A140,Sheet1!$1:$1048576,10,FALSE)","v":168.53611929280351},-34.177504591691644,{"$f":"VLOOKUP($A140,Sheet1!$1:$1048576,11,FALSE)","v":146.41428010726017},-18.714879266453284,{"$f":"VLOOKUP($A140,Sheet1!$1:$1048576,12,FALSE)","v":113.23152132894516},9.5268677957085579]
[12060,{"$f":"VLOOKUP($A141,BasinData!$1:$1048576,2,FALSE)","v":3.9473684210526317E-3},5.122843529727497,{"$f":"VLOOKUP($A141,BasinData!$1:$1048576,3,FALSE)","v":42.88377772002746},{"$f":"VLOOKUP($A141,BasinData!$1:$1048576,4,FALSE)","v":28.620122310868286},{"$f":"VLOOKUP($A141,BasinData!$1:$1048576,5,FALSE)","v":12.930020591},121.01799361510493,{"$f":"VLOOKUP($A141,Sheet1!$1:$1048576,9,FALSE)","v":191.94671067964936},-45.56711094876831,{"$f":"VLOOKUP($A141,Sheet1!$1:$1048576,10,FALSE)","v":180.12520657190467},-38.58239503979371,{"$f":"VLOOKUP($A141,Sheet1!$1:$1048576,11,FALSE)","v":156.4821983564153},-23.119248002354084,{"$f":"VLOOKUP($A141,Sheet1!$1:$1048576,12,FALSE)","v":121.01768603318125},5.122843529727497]
[12061,{"$f":"VLOOKUP($A142,BasinData!$1:$1048576,2,FALSE)","v":7.4646758187689399E-2},13.50664644011273,{"$f":"VLOOKUP($A142,BasinData!$1:$1048576,3,FALSE)","v":87.328123037326804},{"$f":"VLOOKUP($A142,BasinData!$1:$1048576,4,FALSE)","v":37.275565964090553},{"$f":"VLOOKUP($A142,BasinData!$1:$1048576,5,FALSE)","v":10.884703994500001},93.67729784505643,{"$f":"VLOOKUP($A142,Sheet1!$1:$1048576,9,FALSE)","v":148.58195843376018},-37.183263071788403,{"$f":"VLOOKUP($A142,Sheet1!$1:$1048576,10,FALSE)","v":139.43117785647328},-30.198327238690275,{"$f":"VLOOKUP($A142,Sheet1!$1:$1048576,11,FALSE)","v":121.12961670189944},-14.735708792914686,{"$f":"VLOOKUP($A142,Sheet1!$1:$1048576,12,FALSE)","v":93.677274970038695},13.50664644011273]
[12062,{"$f":"VLOOKUP($A143,BasinData!$1:$1048576,2,FALSE)","v":0},11.365638823395635,{"$f":"VLOOKUP($A143,BasinData!$1:$1048576,3,FALSE)","v":38.767263411228377},{"$f":"VLOOKUP($A143,BasinData!$1:$1048576,4,FALSE)","v":28.285711037078308},{"$f":"VLOOKUP($A143,BasinData!$1:$1048576,5,FALSE)","v":11.407046975},122.23345546391319,{"$f":"VLOOKUP($A143,Sheet1!$1:$1048576,9,FALSE)","v":193.87504424688638},-39.324589683590681,{"$f":"VLOOKUP($A143,Sheet1!$1:$1048576,10,FALSE)","v":181.93477903557562},-32.339359354950574,{"$f":"VLOOKUP($A143,Sheet1!$1:$1048576,11,FALSE)","v":158.0542486129541},-16.876736752861799,{"$f":"VLOOKUP($A143,Sheet1!$1:$1048576,12,FALSE)","v":122.23345297902178},11.365638823395635]
[12063,{"$f":"VLOOKUP($A144,BasinData!$1:$1048576,2,FALSE)","v":4.9348758191084859E-3},-1.7295948447190035,{"$f":"VLOOKUP($A144,BasinData!$1:$1048576,3,FALSE)","v":53.548209741146152},{"$f":"VLOOKUP($A144,BasinData!$1:$1048576,4,FALSE)","v":29.01986038131384},{"$f":"VLOOKUP($A144,BasinData!$1:$1048576,5,FALSE)","v":14.6018516649},119.61781094783187,{"$f":"VLOOKUP($A144,Sheet1!$1:$1048576,9,FALSE)","v":189.72628042291905},-52.419664303145275,{"$f":"VLOOKUP($A144,Sheet1!$1:$1048576,10,FALSE)","v":178.04152690239704},-45.434743535089922,{"$f":"VLOOKUP($A144,Sheet1!$1:$1048576,11,FALSE)","v":154.67201986135296},-29.972319222396408,{"$f":"VLOOKUP($A144,Sheet1!$1:$1048576,12,FALSE)","v":119.61775929978684},-1.7295948447190035]
[12064,{"$f":"VLOOKUP($A145,BasinData!$1:$1048576,2,FALSE)","v":0.59166315147916659},-14.864588505417014,{"$f":"VLOOKUP($A145,BasinData!$1:$1048576,3,FALSE)","v":1.6689210810751458},{"$f":"VLOOKUP($A145,BasinData!$1:$1048576,4,FALSE)","v":17.13810316139767},{"$f":"VLOOKUP($A145,BasinData!$1:$1048576,5,FALSE)","v":17.806214132499999},160.51783889681786,{"$f":"VLOOKUP($A145,Sheet1!$1:$1048576,9,FALSE)","v":254.59651874562792},-65.554107649496729,{"$f":"VLOOKUP($A145,Sheet1!$1:$1048576,10,FALSE)","v":238.91657413229188},-58.568917352101842,{"$f":"VLOOKUP($A145,Sheet1!$1:$1048576,11,FALSE)","v":207.55668490561985},-43.106344644861224,{"$f":"VLOOKUP($A145,Sheet1!$1:$1048576,12,FALSE)","v":160.51685106561175},-14.864588505417014]
[12065,{"$f":"VLOOKUP($A146,BasinData!$1:$1048576,2,FALSE)","v":0.32193285221211165},22.453034534490605,{"$f":"VLOOKUP($A146,BasinData!$1:$1048576,3,FALSE)","v":39.214425747238963},{"$f":"VLOOKUP($A146,BasinData!$1:$1048576,4,FALSE)","v":38.147662325494238},{"$f":"VLOOKUP($A146,BasinData!$1:$1048576,5,FALSE)","v":8.7020413565000005},89.46803783585176,{"$f":"VLOOKUP($A146,Sheet1!$1:$1048576,9,FALSE)","v":141.90546520401534},-28.237040475715816,{"$f":"VLOOKUP($A146,Sheet1!$1:$1048576,10,FALSE)","v":133.16587266877039},-21.251809595387492,{"$f":"VLOOKUP($A146,Sheet1!$1:$1048576,11,FALSE)","v":115.68668759828047},-5.7892246397620095,{"$f":"VLOOKUP($A146,Sheet1!$1:$1048576,12,FALSE)","v":89.467909992545586},22.453034534490605]
[12066,{"$f":"VLOOKUP($A147,BasinData!$1:$1048576,2,FALSE)","v":5.7787452998218879E-2},21.976996394589918,{"$f":"VLOOKUP($A147,BasinData!$1:$1048576,3,FALSE)","v":35.55545469805439},{"$f":"VLOOKUP($A147,BasinData!$1:$1048576,4,FALSE)","v":40.267256787811725},{"$f":"VLOOKUP($A147,BasinData!$1:$1048576,5,FALSE)","v":8.8181952104299999},86.040041285534258,{"$f":"VLOOKUP($A147,Sheet1!$1:$1048576,9,FALSE)","v":136.46839255968692},-28.713144460980832,{"$f":"VLOOKUP($A147,Sheet1!$1:$1048576,10,FALSE)","v":128.06365534116736},-21.727912710465898,{"$f":"VLOOKUP($A147,Sheet1!$1:$1048576,11,FALSE)","v":111.25418090412826},-6.2653251430212826,{"$f":"VLOOKUP($A147,Sheet1!$1:$1048576,12,FALSE)","v":86.039969248569619},21.976996394589918]
[12067,{"$f":"VLOOKUP($A148,BasinData!$1:$1048576,2,FALSE)","v":0.23980871557196967},31.60562565292852,{"$f":"VLOOKUP($A148,BasinData!$1:$1048576,3,FALSE)","v":23.244046490657155},{"$f":"VLOOKUP($A148,BasinData!$1:$1048576,4,FALSE)","v":42.145964233929433},{"$f":"VLOOKUP($A148,BasinData!$1:$1048576,5,FALSE)","v":6.4691314031199996},80.256512129854272,{"$f":"VLOOKUP($A148,Sheet1!$1:$1048576,9,FALSE)","v":127.29517474167747},-19.084550613283664,{"$f":"VLOOKUP($A148,Sheet1!$1:$1048576,10,FALSE)","v":119.45539240950562},-12.099445815196939,{"$f":"VLOOKUP($A148,Sheet1!$1:$1048576,11,FALSE)","v":103.77582774516192},3.3632821612941211,{"$f":"VLOOKUP($A148,Sheet1!$1:$1048576,12,FALSE)","v":80.256480748646354},31.60562565292852]
[12068,{"$f":"VLOOKUP($A149,BasinData!$1:$1048576,2,FALSE)","v":6.8080907745436611E-2},14.186092602844942,{"$f":"VLOOKUP($A149,BasinData!$1:$1048576,3,FALSE)","v":40.704083371420737},{"$f":"VLOOKUP($A149,BasinData!$1:$1048576,4,FALSE)","v":33.829505300353361},{"$f":"VLOOKUP($A149,BasinData!$1:$1048576,5,FALSE)","v":10.718936508900001},103.54421567835659,{"$f":"VLOOKUP($A149,Sheet1!$1:$1048576,9,FALSE)","v":164.23189110484086},-36.503974306779853,{"$f":"VLOOKUP($A149,Sheet1!$1:$1048576,10,FALSE)","v":154.11727143543283},-29.518862745651184,{"$f":"VLOOKUP($A149,Sheet1!$1:$1048576,11,FALSE)","v":133.88803209661677},-14.056245870126009,{"$f":"VLOOKUP($A149,Sheet1!$1:$1048576,12,FALSE)","v":103.54417308839268},14.186092602844942]
[12069,{"$f":"VLOOKUP($A150,BasinData!$1:$1048576,2,FALSE)","v":0.15250400829953789},8.7787035324029663,{"$f":"VLOOKUP($A150,BasinData!$1:$1048576,3,FALSE)","v":43.690766419357594},{"$f":"VLOOKUP($A150,BasinData!$1:$1048576,4,FALSE)","v":24.928373900695082},{"$f":"VLOOKUP($A150,BasinData!$1:$1048576,5,FALSE)","v":12.038041446199999},132.97411822658248,{"$f":"VLOOKUP($A150,Sheet1!$1:$1048576,9,FALSE)","v":210.90980049341871},-41.910992599369898,{"$f":"VLOOKUP($A150,Sheet1!$1:$1048576,10,FALSE)","v":197.92040846857844},-34.925743187170603,{"$f":"VLOOKUP($A150,Sheet1!$1:$1048576,11,FALSE)","v":171.9416244188979},-19.463116947958842,{"$f":"VLOOKUP($A150,Sheet1!$1:$1048576,12,FALSE)","v":132.97344834437706},8.7787035324029663]
[12070,{"$f":"VLOOKUP($A151,BasinData!$1:$1048576,2,FALSE)","v":1.2238526672443182},34.260237661631074,{"$f":"VLOOKUP($A151,BasinData!$1:$1048576,3,FALSE)","v":17.813467098729177},{"$f":"VLOOKUP($A151,BasinData!$1:$1048576,4,FALSE)","v":18.471597874948916},{"$f":"VLOOKUP($A151,BasinData!$1:$1048576,5,FALSE)","v":5.8214720346800002},146.46084567978176,{"$f":"VLOOKUP($A151,Sheet1!$1:$1048576,9,FALSE)","v":232.30196440240891},-16.429869109419492,{"$f":"VLOOKUP($A151,Sheet1!$1:$1048576,10,FALSE)","v":217.99508403599589},-9.4450182665753246,{"$f":"VLOOKUP($A151,Sheet1!$1:$1048576,11,FALSE)","v":189.38132330316984},6.017734597813674,{"$f":"VLOOKUP($A151,Sheet1!$1:$1048576,12,FALSE)","v":146.46068220393076},34.260237661631074]
[12071,{"$f":"VLOOKUP($A152,BasinData!$1:$1048576,2,FALSE)","v":0.9226112547594697},33.472511064514016,{"$f":"VLOOKUP($A152,BasinData!$1:$1048576,3,FALSE)","v":14.428901027495407},{"$f":"VLOOKUP($A152,BasinData!$1:$1048576,4,FALSE)","v":20.4654128147912},{"$f":"VLOOKUP($A152,BasinData!$1:$1048576,5,FALSE)","v":6.0136158864000002},141.8035290070296,{"$f":"VLOOKUP($A152,Sheet1!$1:$1048576,9,FALSE)","v":224.91467834796657},-17.21743493970304,{"$f":"VLOOKUP($A152,Sheet1!$1:$1048576,10,FALSE)","v":211.06276192507963},-10.232500964987745,{"$f":"VLOOKUP($A152,Sheet1!$1:$1048576,11,FALSE)","v":183.35892907930577},5.2303799725133739,{"$f":"VLOOKUP($A152,Sheet1!$1:$1048576,12,FALSE)","v":141.80317981064496},33.472511064514016]
[12072,{"$f":"VLOOKUP($A153,BasinData!$1:$1048576,2,FALSE)","v":0.6336136680890152},32.713013387189932,{"$f":"VLOOKUP($A153,BasinData!$1:$1048576,3,FALSE)","v":20.598312284838592},{"$f":"VLOOKUP($A153,BasinData!$1:$1048576,4,FALSE)","v":28.05903824789716},{"$f":"VLOOKUP($A153,BasinData!$1:$1048576,5,FALSE)","v":6.1988503590499997},116.66011490721795,{"$f":"VLOOKUP($A153,Sheet1!$1:$1048576,9,FALSE)","v":185.03428740102382},-17.976704411516792,{"$f":"VLOOKUP($A153,Sheet1!$1:$1048576,10,FALSE)","v":173.63850166007688},-10.991680561522486,{"$f":"VLOOKUP($A153,Sheet1!$1:$1048576,11,FALSE)","v":150.84693017818302},4.4711292330141319,{"$f":"VLOOKUP($A153,Sheet1!$1:$1048576,12,FALSE)","v":116.65957295534224},32.713013387189932]
[12073,{"$f":"VLOOKUP($A154,BasinData!$1:$1048576,2,FALSE)","v":0.24766355140186913},33.807866210798913,{"$f":"VLOOKUP($A154,BasinData!$1:$1048576,3,FALSE)","v":15.194227892530522},{"$f":"VLOOKUP($A154,BasinData!$1:$1048576,4,FALSE)","v":20.799213887979036},{"$f":"VLOOKUP($A154,BasinData!$1:$1048576,5,FALSE)","v":5.9318179624100003},148.63454690540024,{"$f":"VLOOKUP($A154,Sheet1!$1:$1048576,9,FALSE)","v":235.74951848067053},-16.882091437170072,{"$f":"VLOOKUP($A154,Sheet1!$1:$1048576,10,FALSE)","v":221.23031212777127},-9.8972583087866202,{"$f":"VLOOKUP($A154,Sheet1!$1:$1048576,11,FALSE)","v":192.19189942197281},5.5656484411507297,{"$f":"VLOOKUP($A154,Sheet1!$1:$1048576,12,FALSE)","v":148.63428036327508},33.807866210798913]
[12074,{"$f":"VLOOKUP($A155,BasinData!$1:$1048576,2,FALSE)","v":0.19970161977834611},31.054286434639245,{"$f":"VLOOKUP($A155,BasinData!$1:$1048576,3,FALSE)","v":17.474196640844209},{"$f":"VLOOKUP($A155,BasinData!$1:$1048576,4,FALSE)","v":28.155530462958417},{"$f":"VLOOKUP($A155,BasinData!$1:$1048576,5,FALSE)","v":6.6036096783199998},120.65335338444031,{"$f":"VLOOKUP($A155,Sheet1!$1:$1048576,9,FALSE)","v":191.36854661336264},-19.635752268841152,{"$f":"VLOOKUP($A155,Sheet1!$1:$1048576,10,FALSE)","v":179.58265014307295},-12.650624371928981,{"$f":"VLOOKUP($A155,Sheet1!$1:$1048576,11,FALSE)","v":156.01085720249355},2.8120722868966479,{"$f":"VLOOKUP($A155,Sheet1!$1:$1048576,12,FALSE)","v":120.65316779162447},31.054286434639245]
[12075,{"$f":"VLOOKUP($A156,BasinData!$1:$1048576,2,FALSE)","v":4.2952535643385671E-2},5.1071644577350002,{"$f":"VLOOKUP($A156,BasinData!$1:$1048576,3,FALSE)","v":38.258654924275163},{"$f":"VLOOKUP($A156,BasinData!$1:$1048576,4,FALSE)","v":24.394832973900797},{"$f":"VLOOKUP($A156,BasinData!$1:$1048576,5,FALSE)","v":12.933845999100001},136.28845901706714,{"$f":"VLOOKUP($A156,Sheet1!$1:$1048576,9,FALSE)","v":216.16720657901175},-45.582791071383717,{"$f":"VLOOKUP($A156,Sheet1!$1:$1048576,10,FALSE)","v":202.85402443858754},-38.598074094791926,{"$f":"VLOOKUP($A156,Sheet1!$1:$1048576,11,FALSE)","v":176.22766015773911},-23.134927962040443,{"$f":"VLOOKUP($A156,Sheet1!$1:$1048576,12,FALSE)","v":136.28811373646647},5.1071644577350002]
[12076,{"$f":"VLOOKUP($A157,BasinData!$1:$1048576,2,FALSE)","v":0.73825817621590906},33.194941955578933,{"$f":"VLOOKUP($A157,BasinData!$1:$1048576,3,FALSE)","v":23.181847130171732},{"$f":"VLOOKUP($A157,BasinData!$1:$1048576,4,FALSE)","v":24.38932732055618},{"$f":"VLOOKUP($A157,BasinData!$1:$1048576,5,FALSE)","v":6.0813155647699997},128.57696973408758,{"$f":"VLOOKUP($A157,Sheet1!$1:$1048576,9,FALSE)","v":203.9358844078703},-17.494754414168852,{"$f":"VLOOKUP($A157,Sheet1!$1:$1048576,10,FALSE)","v":191.37599793360948},-10.509965028398881,{"$f":"VLOOKUP($A157,Sheet1!$1:$1048576,11,FALSE)","v":166.25622498508784},4.9528884072609012,{"$f":"VLOOKUP($A157,Sheet1!$1:$1048576,12,FALSE)","v":128.57656556230535},33.194941955578933]
[12077,{"$f":"VLOOKUP($A158,BasinData!$1:$1048576,2,FALSE)","v":1.8907563025210083E-2},-4.6566604877460183,{"$f":"VLOOKUP($A158,BasinData!$1:$1048576,3,FALSE)","v":52.254401516329757},{"$f":"VLOOKUP($A158,BasinData!$1:$1048576,4,FALSE)","v":27.217672824223961},{"$f":"VLOOKUP($A158,BasinData!$1:$1048576,5,FALSE)","v":15.3159694211},125.86513431402749,{"$f":"VLOOKUP($A158,Sheet1!$1:$1048576,9,FALSE)","v":199.63524346924612},-55.346886021625593,{"$f":"VLOOKUP($A158,Sheet1!$1:$1048576,10,FALSE)","v":187.34022240654596},-48.361751346988399,{"$f":"VLOOKUP($A158,Sheet1!$1:$1048576,11,FALSE)","v":162.75018028114565},-32.899105507893758,{"$f":"VLOOKUP($A158,Sheet1!$1:$1048576,12,FALSE)","v":125.86511709304516},-4.6566604877460183]
[12078,{"$f":"VLOOKUP($A159,BasinData!$1:$1048576,2,FALSE)","v":0.26956521739130435},22.205919232561094,{"$f":"VLOOKUP($A159,BasinData!$1:$1048576,3,FALSE)","v":41.938976511131862},{"$f":"VLOOKUP($A159,BasinData!$1:$1048576,4,FALSE)","v":50.834297042788698},{"$f":"VLOOKUP($A159,BasinData!$1:$1048576,5,FALSE)","v":8.7623385460800005},62.279744493812814,{"$f":"VLOOKUP($A159,Sheet1!$1:$1048576,9,FALSE)","v":98.782082381603175},-28.484193099548506,{"$f":"VLOOKUP($A159,Sheet1!$1:$1048576,10,FALSE)","v":92.698348054972172},-21.498961788790528,{"$f":"VLOOKUP($A159,Sheet1!$1:$1048576,11,FALSE)","v":80.530879401710138},-6.0363754634987448,{"$f":"VLOOKUP($A159,Sheet1!$1:$1048576,12,FALSE)","v":62.279676421817072},22.205919232561094]
[12079,{"$f":"VLOOKUP($A160,BasinData!$1:$1048576,2,FALSE)","v":0.52049821462500001},21.212581664355145,{"$f":"VLOOKUP($A160,BasinData!$1:$1048576,3,FALSE)","v":100},{"$f":"VLOOKUP($A160,BasinData!$1:$1048576,4,FALSE)","v":64.377682403433482},{"$f":"VLOOKUP($A160,BasinData!$1:$1048576,5,FALSE)","v":9.0047025003099996},41.229467533914196,{"$f":"VLOOKUP($A160,Sheet1!$1:$1048576,9,FALSE)","v":65.394229930224853},-29.47762112833362,{"$f":"VLOOKUP($A160,Sheet1!$1:$1048576,10,FALSE)","v":61.366767542327246},-22.492387577195384,{"$f":"VLOOKUP($A160,Sheet1!$1:$1048576,11,FALSE)","v":53.31184276653201},-7.0297960433471864,{"$f":"VLOOKUP($A160,Sheet1!$1:$1048576,12,FALSE)","v":41.22945560283916},21.212581664355145]
[12080,{"$f":"VLOOKUP($A161,BasinData!$1:$1048576,2,FALSE)","v":0.51517602522348482},22.31254414056114,{"$f":"VLOOKUP($A161,BasinData!$1:$1048576,3,FALSE)","v":3.3756471968245472},{"$f":"VLOOKUP($A161,BasinData!$1:$1048576,4,FALSE)","v":41.311018131101811},{"$f":"VLOOKUP($A161,BasinData!$1:$1048576,5,FALSE)","v":8.7363218296399996},80.336802936252056,{"$f":"VLOOKUP($A161,Sheet1!$1:$1048576,9,FALSE)","v":127.42241742192836},-28.377552970791864,{"$f":"VLOOKUP($A161,Sheet1!$1:$1048576,10,FALSE)","v":119.57479854042498},-21.392321851164336,{"$f":"VLOOKUP($A161,Sheet1!$1:$1048576,11,FALSE)","v":103.87956077741821},-5.9297361131621686,{"$f":"VLOOKUP($A161,Sheet1!$1:$1048576,12,FALSE)","v":80.336704132908054},22.31254414056114]
[12081,{"$f":"VLOOKUP($A162,BasinData!$1:$1048576,2,FALSE)","v":9.7564054019941948E-2},5.1874510987342042,{"$f":"VLOOKUP($A162,BasinData!$1:$1048576,3,FALSE)","v":29.795151258846985},{"$f":"VLOOKUP($A162,BasinData!$1:$1048576,4,FALSE)","v":24.547063595466948},{"$f":"VLOOKUP($A162,BasinData!$1:$1048576,5,FALSE)","v":12.914257514999999},135.06915023309153,{"$f":"VLOOKUP($A162,Sheet1!$1:$1048576,9,FALSE)","v":214.23325118262633},-45.502499070697418,{"$f":"VLOOKUP($A162,Sheet1!$1:$1048576,10,FALSE)","v":201.03917637976269},-38.517787527155967,{"$f":"VLOOKUP($A162,Sheet1!$1:$1048576,11,FALSE)","v":174.65102677403544},-23.054636753433613,{"$f":"VLOOKUP($A162,Sheet1!$1:$1048576,12,FALSE)","v":135.06880236544458},5.1874510987342042]
[12082,{"$f":"VLOOKUP($A163,BasinData!$1:$1048576,2,FALSE)","v":0.51332465381818182},-8.0766666743129711,{"$f":"VLOOKUP($A163,BasinData!$1:$1048576,3,FALSE)","v":100},{"$f":"VLOOKUP($A163,BasinData!$1:$1048576,4,FALSE)","v":23.048403707518023},{"$f":"VLOOKUP($A163,BasinData!$1:$1048576,5,FALSE)","v":16.150344152500001},136.20644214874628,{"$f":"VLOOKUP($A163,Sheet1!$1:$1048576,9,FALSE)","v":216.03766351828719},-58.766852906587729,{"$f":"VLOOKUP($A163,Sheet1!$1:$1048576,10,FALSE)","v":202.73245960170993},-51.781700551984585,{"$f":"VLOOKUP($A163,Sheet1!$1:$1048576,11,FALSE)","v":176.12205176855537},-36.319114988138551,{"$f":"VLOOKUP($A163,Sheet1!$1:$1048576,12,FALSE)","v":136.20644001882354},-8.0766666743129711]
[12083,{"$f":"VLOOKUP($A164,BasinData!$1:$1048576,2,FALSE)","v":1.3108766436041666},35.052210558148197,{"$f":"VLOOKUP($A164,BasinData!$1:$1048576,3,FALSE)","v":5.353177375733555},{"$f":"VLOOKUP($A164,BasinData!$1:$1048576,4,FALSE)","v":18.150606546120393},{"$f":"VLOOKUP($A164,BasinData!$1:$1048576,5,FALSE)","v":5.62827516682},146.74905995841024,{"$f":"VLOOKUP($A164,Sheet1!$1:$1048576,9,FALSE)","v":232.75926719305241},-15.637977314322749,{"$f":"VLOOKUP($A164,Sheet1!$1:$1048576,10,FALSE)","v":218.42422272422297},-8.6532357055028903,{"$f":"VLOOKUP($A164,Sheet1!$1:$1048576,11,FALSE)","v":189.7541337865641},6.809886052102482,{"$f":"VLOOKUP($A164,Sheet1!$1:$1048576,12,FALSE)","v":146.74900038007578},35.052210558148197]
[12084,{"$f":"VLOOKUP($A165,BasinData!$1:$1048576,2,FALSE)","v":0.9124039386742423},26.831739889282815,{"$f":"VLOOKUP($A165,BasinData!$1:$1048576,3,FALSE)","v":7.9477290980743467},{"$f":"VLOOKUP($A165,BasinData!$1:$1048576,4,FALSE)","v":18.151166057881426},{"$f":"VLOOKUP($A165,BasinData!$1:$1048576,5,FALSE)","v":7.6337778737599997},151.74183492475927,{"$f":"VLOOKUP($A165,Sheet1!$1:$1048576,9,FALSE)","v":240.67807900062243},-23.858331313757027,{"$f":"VLOOKUP($A165,Sheet1!$1:$1048576,10,FALSE)","v":225.85533528453743},-16.873103703640577,{"$f":"VLOOKUP($A165,Sheet1!$1:$1048576,11,FALSE)","v":196.20984785236743},-1.4104725124799697,{"$f":"VLOOKUP($A165,Sheet1!$1:$1048576,12,FALSE)","v":151.74161670411243},26.831739889282815]
[12085,{"$f":"VLOOKUP($A166,BasinData!$1:$1048576,2,FALSE)","v":0.74046403618181822},5.1837011310409373,{"$f":"VLOOKUP($A166,BasinData!$1:$1048576,3,FALSE)","v":10.967079503671565},{"$f":"VLOOKUP($A166,BasinData!$1:$1048576,4,FALSE)","v":18.185053380782918},{"$f":"VLOOKUP($A166,BasinData!$1:$1048576,5,FALSE)","v":12.915172439399999},153.79881711374804,{"$f":"VLOOKUP($A166,Sheet1!$1:$1048576,9,FALSE)","v":243.94038628735424},-45.506249287682742,{"$f":"VLOOKUP($A166,Sheet1!$1:$1048576,10,FALSE)","v":228.91672545810658},-38.521016276776699,{"$f":"VLOOKUP($A166,Sheet1!$1:$1048576,11,FALSE)","v":198.86940379961123},-23.058386934825133,{"$f":"VLOOKUP($A166,Sheet1!$1:$1048576,12,FALSE)","v":153.79842131186825},5.1837011310409373]
[12086,{"$f":"VLOOKUP($A167,BasinData!$1:$1048576,2,FALSE)","v":5.2756787013713967E-2},3.9621473319688358,{"$f":"VLOOKUP($A167,BasinData!$1:$1048576,3,FALSE)","v":31.455386679461807},{"$f":"VLOOKUP($A167,BasinData!$1:$1048576,4,FALSE)","v":24.693932357076285},{"$f":"VLOOKUP($A167,BasinData!$1:$1048576,5,FALSE)","v":13.213207986600001},135.00415910516139,{"$f":"VLOOKUP($A167,Sheet1!$1:$1048576,9,FALSE)","v":214.13029469559666},-46.727802723792244,{"$f":"VLOOKUP($A167,Sheet1!$1:$1048576,10,FALSE)","v":200.94256071790286},-39.743086658485922,{"$f":"VLOOKUP($A167,Sheet1!$1:$1048576,11,FALSE)","v":174.56709276251524},-24.280004484578139,{"$f":"VLOOKUP($A167,Sheet1!$1:$1048576,12,FALSE)","v":135.00389082943377},3.9621473319688358]
[12087,{"$f":"VLOOKUP($A168,BasinData!$1:$1048576,2,FALSE)","v":0.72775292121401514},20.625855337303577,{"$f":"VLOOKUP($A168,BasinData!$1:$1048576,3,FALSE)","v":11.386289360141356},{"$f":"VLOOKUP($A168,BasinData!$1:$1048576,4,FALSE)","v":25.356494684988334},{"$f":"VLOOKUP($A168,BasinData!$1:$1048576,5,FALSE)","v":9.1478500306200008},125.14286047531051,{"$f":"VLOOKUP($A168,Sheet1!$1:$1048576,9,FALSE)","v":198.48964984199563},-30.064370446224409,{"$f":"VLOOKUP($A168,Sheet1!$1:$1048576,10,FALSE)","v":186.26518294363825},-23.079135095911287,{"$f":"VLOOKUP($A168,Sheet1!$1:$1048576,11,FALSE)","v":161.8162491469235},-7.6165407010857908,{"$f":"VLOOKUP($A168,Sheet1!$1:$1048576,12,FALSE)","v":125.14284845185132},20.625855337303577]
[12088,{"$f":"VLOOKUP($A169,BasinData!$1:$1048576,2,FALSE)","v":0.20477815699658702},3.70806365532267,{"$f":"VLOOKUP($A169,BasinData!$1:$1048576,3,FALSE)","v":30.144788687813449},{"$f":"VLOOKUP($A169,BasinData!$1:$1048576,4,FALSE)","v":24.381961423526217},{"$f":"VLOOKUP($A169,BasinData!$1:$1048576,5,FALSE)","v":13.2751991366},134.49831117101934,{"$f":"VLOOKUP($A169,Sheet1!$1:$1048576,9,FALSE)","v":213.32799167835259},-46.981943081618972,{"$f":"VLOOKUP($A169,Sheet1!$1:$1048576,10,FALSE)","v":200.18966947948232},-39.997168542519198,{"$f":"VLOOKUP($A169,Sheet1!$1:$1048576,11,FALSE)","v":173.91302508174175},-24.534099956465468,{"$f":"VLOOKUP($A169,Sheet1!$1:$1048576,12,FALSE)","v":134.49805848513088},3.70806365532267]
[12089,{"$f":"VLOOKUP($A170,BasinData!$1:$1048576,2,FALSE)","v":6.1001712328767124E-2},9.2488176358827623,{"$f":"VLOOKUP($A170,BasinData!$1:$1048576,3,FALSE)","v":99.487170335814497},{"$f":"VLOOKUP($A170,BasinData!$1:$1048576,4,FALSE)","v":28.6402477490394},{"$f":"VLOOKUP($A170,BasinData!$1:$1048576,5,FALSE)","v":11.923337527999999},120.36971515009678,{"$f":"VLOOKUP($A170,Sheet1!$1:$1048576,9,FALSE)","v":190.91791951246566},-41.440825863804562,{"$f":"VLOOKUP($A170,Sheet1!$1:$1048576,10,FALSE)","v":179.1597760060348},-34.455583187135879,{"$f":"VLOOKUP($A170,Sheet1!$1:$1048576,11,FALSE)","v":155.64348899317309},-18.992957509923936,{"$f":"VLOOKUP($A170,Sheet1!$1:$1048576,12,FALSE)","v":120.36905847388053},9.2488176358827623]
[12090,{"$f":"VLOOKUP($A171,BasinData!$1:$1048576,2,FALSE)","v":8.805031446540882E-3},-9.6055085858131406,{"$f":"VLOOKUP($A171,BasinData!$1:$1048576,3,FALSE)","v":45.484095550225327},{"$f":"VLOOKUP($A171,BasinData!$1:$1048576,4,FALSE)","v":24.976372942574553},{"$f":"VLOOKUP($A171,BasinData!$1:$1048576,5,FALSE)","v":16.523332680300001},134.40169215836244,{"$f":"VLOOKUP($A171,Sheet1!$1:$1048576,9,FALSE)","v":213.17514354825579},-60.295747294245089,{"$f":"VLOOKUP($A171,Sheet1!$1:$1048576,10,FALSE)","v":200.04623487250035},-53.310524376061842,{"$f":"VLOOKUP($A171,Sheet1!$1:$1048576,11,FALSE)","v":173.78841752098947},-37.847953847264648,{"$f":"VLOOKUP($A171,Sheet1!$1:$1048576,12,FALSE)","v":134.40169149372309},-9.6055085858131406]
[12091,{"$f":"VLOOKUP($A172,BasinData!$1:$1048576,2,FALSE)","v":0.43937863886742423},15.648704905118567,{"$f":"VLOOKUP($A172,BasinData!$1:$1048576,3,FALSE)","v":3.7013695493087253},{"$f":"VLOOKUP($A172,BasinData!$1:$1048576,4,FALSE)","v":34.156034302447189},{"$f":"VLOOKUP($A172,BasinData!$1:$1048576,5,FALSE)","v":10.362089576000001},99.4220228702561,{"$f":"VLOOKUP($A172,Sheet1!$1:$1048576,9,FALSE)","v":157.69356718824648},-35.041408135933082,{"$f":"VLOOKUP($A172,Sheet1!$1:$1048576,10,FALSE)","v":147.98162606833847},-28.056182543907966,{"$f":"VLOOKUP($A172,Sheet1!$1:$1048576,11,FALSE)","v":128.55774382852252},-12.593569507545595,{"$f":"VLOOKUP($A172,Sheet1!$1:$1048576,12,FALSE)","v":99.421920468798561},15.648704905118567]
[12092,{"$f":"VLOOKUP($A173,BasinData!$1:$1048576,2,FALSE)","v":4.1671476393858944E-2},-10.958525590339608,{"$f":"VLOOKUP($A173,BasinData!$1:$1048576,3,FALSE)","v":48.08786205260634},{"$f":"VLOOKUP($A173,BasinData!$1:$1048576,4,FALSE)","v":24.490496796287029},{"$f":"VLOOKUP($A173,BasinData!$1:$1048576,5,FALSE)","v":16.853425318399999},135.92646718699075,{"$f":"VLOOKUP($A173,Sheet1!$1:$1048576,9,FALSE)","v":215.59359639292794},-61.648756846669684,{"$f":"VLOOKUP($A173,Sheet1!$1:$1048576,10,FALSE)","v":202.31574142819235},-54.663530616185298,{"$f":"VLOOKUP($A173,Sheet1!$1:$1048576,11,FALSE)","v":175.76003149872119},-39.200967310181305,{"$f":"VLOOKUP($A173,Sheet1!$1:$1048576,12,FALSE)","v":135.92646660451442},-10.958525590339608]
[12093,{"$f":"VLOOKUP($A174,BasinData!$1:$1048576,2,FALSE)","v":0.32439862542955328},17.245783221378542,{"$f":"VLOOKUP($A174,BasinData!$1:$1048576,3,FALSE)","v":8.1058627731641515},{"$f":"VLOOKUP($A174,BasinData!$1:$1048576,4,FALSE)","v":28.122200322522843},{"$f":"VLOOKUP($A174,BasinData!$1:$1048576,5,FALSE)","v":9.9724202548500003},119.51131144346019,{"$f":"VLOOKUP($A174,Sheet1!$1:$1048576,9,FALSE)","v":189.55701023314649},-33.444202026935812,{"$f":"VLOOKUP($A174,Sheet1!$1:$1048576,10,FALSE)","v":177.88268162814725},-26.458966637388144,{"$f":"VLOOKUP($A174,Sheet1!$1:$1048576,11,FALSE)","v":154.53402441814879},-10.996358577695911,{"$f":"VLOOKUP($A174,Sheet1!$1:$1048576,12,FALSE)","v":119.51103860315108},17.245783221378542]
[13001,{"$f":"VLOOKUP($A175,BasinData!$1:$1048576,2,FALSE)","v":1.0178722647670453},1.8226276412268414,{"$f":"VLOOKUP($A175,BasinData!$1:$1048576,3,FALSE)","v":22.11068168789695},{"$f":"VLOOKUP($A175,BasinData!$1:$1048576,4,FALSE)","v":23.024136299100807},{"$f":"VLOOKUP($A175,BasinData!$1:$1048576,5,FALSE)","v":13.735202971303115},130.64610882853782,{"$f":"VLOOKUP($A175,Sheet1!$1:$1048576,9,FALSE)","v":207.21814716805463},-48.867442685286868,{"$f":"VLOOKUP($A175,Sheet1!$1:$1048576,10,FALSE)","v":194.45611457435874},-41.882583591840046,{"$f":"VLOOKUP($A175,Sheet1!$1:$1048576,11,FALSE)","v":168.93204938696695},-26.419609478020199,{"$f":"VLOOKUP($A175,Sheet1!$1:$1048576,12,FALSE)","v":130.64595160587928},1.8226276412268414]
[13002,{"$f":"VLOOKUP($A176,BasinData!$1:$1048576,2,FALSE)","v":0.86874298345075762},33.106726457519827,{"$f":"VLOOKUP($A176,BasinData!$1:$1048576,3,FALSE)","v":11.448536596122389},{"$f":"VLOOKUP($A176,BasinData!$1:$1048576,4,FALSE)","v":38.7920298879203},{"$f":"VLOOKUP($A176,BasinData!$1:$1048576,5,FALSE)","v":6.1028307920158902},83.875128415388062,{"$f":"VLOOKUP($A176,Sheet1!$1:$1048576,9,FALSE)","v":133.03427799769844},-17.582843818940031,{"$f":"VLOOKUP($A176,Sheet1!$1:$1048576,10,FALSE)","v":124.84103906043241},-10.598144590384225,{"$f":"VLOOKUP($A176,Sheet1!$1:$1048576,11,FALSE)","v":108.45456118590035},4.8647004473054505,{"$f":"VLOOKUP($A176,Sheet1!$1:$1048576,12,FALSE)","v":83.874844374102253},33.106726457519827]
[13003,{"$f":"VLOOKUP($A177,BasinData!$1:$1048576,2,FALSE)","v":4.4091710758377423E-2},-34.000929927473955,{"$f":"VLOOKUP($A177,BasinData!$1:$1048576,3,FALSE)","v":70.147392268473538},{"$f":"VLOOKUP($A177,BasinData!$1:$1048576,4,FALSE)","v":30.336039461514748},{"$f":"VLOOKUP($A177,BasinData!$1:$1048576,5,FALSE)","v":22.475000000000001},114.77523277119525,{"$f":"VLOOKUP($A177,Sheet1!$1:$1048576,9,FALSE)","v":182.04531772130755},-84.690790758870179,{"$f":"VLOOKUP($A177,Sheet1!$1:$1048576,10,FALSE)","v":170.83361493349685},-77.705808434604933,{"$f":"VLOOKUP($A177,Sheet1!$1:$1048576,11,FALSE)","v":148.41020935787537},-62.243200682527878,{"$f":"VLOOKUP($A177,Sheet1!$1:$1048576,12,FALSE)","v":114.77510099444321},-34.000929927473955]
[13005,{"$f":"VLOOKUP($A178,BasinData!$1:$1048576,2,FALSE)","v":0.27722435270643941},26.901429554429907,{"$f":"VLOOKUP($A178,BasinData!$1:$1048576,3,FALSE)","v":100},{"$f":"VLOOKUP($A178,BasinData!$1:$1048576,4,FALSE)","v":29.982311320754718},{"$f":"VLOOKUP($A178,BasinData!$1:$1048576,5,FALSE)","v":7.6167630336210683},113.70599059546147,{"$f":"VLOOKUP($A178,Sheet1!$1:$1048576,9,FALSE)","v":180.34925128670338},-23.788088162635272,{"$f":"VLOOKUP($A178,Sheet1!$1:$1048576,10,FALSE)","v":169.2420048672914},-16.803361564472432,{"$f":"VLOOKUP($A178,Sheet1!$1:$1048576,11,FALSE)","v":147.02751202846744},-1.3407304511706244,{"$f":"VLOOKUP($A178,Sheet1!$1:$1048576,12,FALSE)","v":113.7057727702315},26.901429554429907]
[13006,{"$f":"VLOOKUP($A179,BasinData!$1:$1048576,2,FALSE)","v":0.278664114018294},25.964349548700998,{"$f":"VLOOKUP($A179,BasinData!$1:$1048576,3,FALSE)","v":15.405200983913485},{"$f":"VLOOKUP($A179,BasinData!$1:$1048576,4,FALSE)","v":39.517228362309417},{"$f":"VLOOKUP($A179,BasinData!$1:$1048576,5,FALSE)","v":7.8453220803599999},86.309374602556133,{"$f":"VLOOKUP($A179,Sheet1!$1:$1048576,9,FALSE)","v":136.89513755569973},-24.724649121902846,{"$f":"VLOOKUP($A179,Sheet1!$1:$1048576,10,FALSE)","v":128.46411821072195},-17.740202380730693,{"$f":"VLOOKUP($A179,Sheet1!$1:$1048576,11,FALSE)","v":111.60207952076638},-2.2775704453487338,{"$f":"VLOOKUP($A179,Sheet1!$1:$1048576,12,FALSE)","v":86.309021485833028},25.964349548700998]
[13007,{"$f":"VLOOKUP($A180,BasinData!$1:$1048576,2,FALSE)","v":0.40188894032765149},5.8565763694958317,{"$f":"VLOOKUP($A180,BasinData!$1:$1048576,3,FALSE)","v":32.278967345629347},{"$f":"VLOOKUP($A180,BasinData!$1:$1048576,4,FALSE)","v":27.235503896446968},{"$f":"VLOOKUP($A180,BasinData!$1:$1048576,5,FALSE)","v":12.751002545358563},121.81798768331325,{"$f":"VLOOKUP($A180,Sheet1!$1:$1048576,9,FALSE)","v":193.21550363120892},-44.833329833075034,{"$f":"VLOOKUP($A180,Sheet1!$1:$1048576,10,FALSE)","v":181.31585782968043},-37.84866149520753,{"$f":"VLOOKUP($A180,Sheet1!$1:$1048576,11,FALSE)","v":157.51656622662344},-22.385471231262141,{"$f":"VLOOKUP($A180,Sheet1!$1:$1048576,12,FALSE)","v":121.81762882203795},5.8565763694958317]
[13009,{"$f":"VLOOKUP($A181,BasinData!$1:$1048576,2,FALSE)","v":6.9711538461538464E-2},17.135148511175853,{"$f":"VLOOKUP($A181,BasinData!$1:$1048576,3,FALSE)","v":13.28269182380553},{"$f":"VLOOKUP($A181,BasinData!$1:$1048576,4,FALSE)","v":37.150946050502917},{"$f":"VLOOKUP($A181,BasinData!$1:$1048576,5,FALSE)","v":9.9994145526900002},94.054450541481799,{"$f":"VLOOKUP($A181,Sheet1!$1:$1048576,9,FALSE)","v":149.17987440163731},-33.554846862948075,{"$f":"VLOOKUP($A181,Sheet1!$1:$1048576,10,FALSE)","v":139.99226971809028},-26.569613587011379,{"$f":"VLOOKUP($A181,Sheet1!$1:$1048576,11,FALSE)","v":121.61706035099624},-11.107005154279831,{"$f":"VLOOKUP($A181,Sheet1!$1:$1048576,12,FALSE)","v":94.054246300355175},17.135148511175853]
[13010,{"$f":"VLOOKUP($A182,BasinData!$1:$1048576,2,FALSE)","v":0.28261443195833336},33.026135177771131,{"$f":"VLOOKUP($A182,BasinData!$1:$1048576,3,FALSE)","v":25.363969333118437},{"$f":"VLOOKUP($A182,BasinData!$1:$1048576,4,FALSE)","v":37.38446411012783},{"$f":"VLOOKUP($A182,BasinData!$1:$1048576,5,FALSE)","v":6.12248619764528},91.766087268671527,{"$f":"VLOOKUP($A182,Sheet1!$1:$1048576,9,FALSE)","v":145.55008782972843},-17.663299854475753,{"$f":"VLOOKUP($A182,Sheet1!$1:$1048576,10,FALSE)","v":136.58603236313917},-10.678701883776254,{"$f":"VLOOKUP($A182,Sheet1!$1:$1048576,11,FALSE)","v":118.65792142996071},4.7841356257463614,{"$f":"VLOOKUP($A182,Sheet1!$1:$1048576,12,FALSE)","v":91.765755030192992},33.026135177771131]
[13012,{"$f":"VLOOKUP($A183,BasinData!$1:$1048576,2,FALSE)","v":0.62689969604863227},15.924928046255296,{"$f":"VLOOKUP($A183,BasinData!$1:$1048576,3,FALSE)","v":7.0817776477937056},{"$f":"VLOOKUP($A183,BasinData!$1:$1048576,4,FALSE)","v":26.660526046464028},{"$f":"VLOOKUP($A183,BasinData!$1:$1048576,5,FALSE)","v":10.294695537699999},121.53985503990737,{"$f":"VLOOKUP($A183,Sheet1!$1:$1048576,9,FALSE)","v":192.77469459878176},-34.765168956381686,{"$f":"VLOOKUP($A183,Sheet1!$1:$1048576,10,FALSE)","v":180.90219709153305},-27.779941063098534,{"$f":"VLOOKUP($A183,Sheet1!$1:$1048576,11,FALSE)","v":157.15720207703563},-12.317328826459796,{"$f":"VLOOKUP($A183,Sheet1!$1:$1048576,12,FALSE)","v":121.53970955528952},15.924928046255296]
[13013,{"$f":"VLOOKUP($A184,BasinData!$1:$1048576,2,FALSE)","v":0.14342261512072832},-8.7565863129636607,{"$f":"VLOOKUP($A184,BasinData!$1:$1048576,3,FALSE)","v":28.664253199332229},{"$f":"VLOOKUP($A184,BasinData!$1:$1048576,4,FALSE)","v":26.035408155090924},{"$f":"VLOOKUP($A184,BasinData!$1:$1048576,5,FALSE)","v":16.316222876800001},128.88480575702926,{"$f":"VLOOKUP($A184,Sheet1!$1:$1048576,9,FALSE)","v":204.42478398252305},-59.446835544848426,{"$f":"VLOOKUP($A184,Sheet1!$1:$1048576,10,FALSE)","v":191.83478744120472},-52.461611552903015,{"$f":"VLOOKUP($A184,Sheet1!$1:$1048576,11,FALSE)","v":166.65479435856804},-36.999033574444788,{"$f":"VLOOKUP($A184,Sheet1!$1:$1048576,12,FALSE)","v":128.88480473461306},-8.7565863129636607]
[13014,{"$f":"VLOOKUP($A185,BasinData!$1:$1048576,2,FALSE)","v":0.35192263153219699},21.441447089578705,{"$f":"VLOOKUP($A185,BasinData!$1:$1048576,3,FALSE)","v":23.931758106484253},{"$f":"VLOOKUP($A185,BasinData!$1:$1048576,4,FALSE)","v":34.49856733524355},{"$f":"VLOOKUP($A185,BasinData!$1:$1048576,5,FALSE)","v":8.9488634289769795},99.168470745803205,{"$f":"VLOOKUP($A185,Sheet1!$1:$1048576,9,FALSE)","v":157.29150470660412},-29.248741720032616,{"$f":"VLOOKUP($A185,Sheet1!$1:$1048576,10,FALSE)","v":147.60432558059264},-22.263508766581761,{"$f":"VLOOKUP($A185,Sheet1!$1:$1048576,11,FALSE)","v":128.2299673285697},-6.800918391442762,{"$f":"VLOOKUP($A185,Sheet1!$1:$1048576,12,FALSE)","v":99.16842995053527},21.441447089578705]
[13015,{"$f":"VLOOKUP($A186,BasinData!$1:$1048576,2,FALSE)","v":0.49678854528598487},18.216246993613872,{"$f":"VLOOKUP($A186,BasinData!$1:$1048576,3,FALSE)","v":5.3867394804291813},{"$f":"VLOOKUP($A186,BasinData!$1:$1048576,4,FALSE)","v":33.10366426558096},{"$f":"VLOOKUP($A186,BasinData!$1:$1048576,5,FALSE)","v":9.7356270124829098},101.99942027739711,{"$f":"VLOOKUP($A186,Sheet1!$1:$1048576,9,FALSE)","v":161.78119329738664},-32.47362317183125,{"$f":"VLOOKUP($A186,Sheet1!$1:$1048576,10,FALSE)","v":151.81750580126294},-25.488374623952769,{"$f":"VLOOKUP($A186,Sheet1!$1:$1048576,11,FALSE)","v":131.89013080901557},-10.025770027851445,{"$f":"VLOOKUP($A186,Sheet1!$1:$1048576,12,FALSE)","v":101.99906832064453},18.216246993613872]
[13016,{"$f":"VLOOKUP($A187,BasinData!$1:$1048576,2,FALSE)","v":1.2342445649696969},-49.428464273140136,{"$f":"VLOOKUP($A187,BasinData!$1:$1048576,3,FALSE)","v":5.8725299032663694},{"$f":"VLOOKUP($A187,BasinData!$1:$1048576,4,FALSE)","v":11.713764813126708},{"$f":"VLOOKUP($A187,BasinData!$1:$1048576,5,FALSE)","v":26.238850128057901},177.89359106877006,{"$f":"VLOOKUP($A187,Sheet1!$1:$1048576,9,FALSE)","v":282.15781784152159},-100.11868440573701,{"$f":"VLOOKUP($A187,Sheet1!$1:$1048576,10,FALSE)","v":264.78044372119774},-93.133457526086289,{"$f":"VLOOKUP($A187,Sheet1!$1:$1048576,11,FALSE)","v":230.0256954805501},-77.670833816450212,{"$f":"VLOOKUP($A187,Sheet1!$1:$1048576,12,FALSE)","v":177.8935731195786},-49.428464273140136]
[13019,{"$f":"VLOOKUP($A188,BasinData!$1:$1048576,2,FALSE)","v":4.7890805957196969E-3},-19.21681088127125,{"$f":"VLOOKUP($A188,BasinData!$1:$1048576,3,FALSE)","v":7.7863961248771085},{"$f":"VLOOKUP($A188,BasinData!$1:$1048576,4,FALSE)","v":36.247334754797436},{"$f":"VLOOKUP($A188,BasinData!$1:$1048576,5,FALSE)","v":18.868061366384048},97.071132342290056,{"$f":"VLOOKUP($A188,Sheet1!$1:$1048576,9,FALSE)","v":153.96428216331634},-69.906561591770426,{"$f":"VLOOKUP($A188,Sheet1!$1:$1048576,10,FALSE)","v":144.48201811411752},-62.921324043798485,{"$f":"VLOOKUP($A188,Sheet1!$1:$1048576,11,FALSE)","v":125.51749001571989},-47.45874162370886,{"$f":"VLOOKUP($A188,Sheet1!$1:$1048576,12,FALSE)","v":97.070697868123432},-19.21681088127125]
[13020,{"$f":"VLOOKUP($A189,BasinData!$1:$1048576,2,FALSE)","v":0.3690466225852273},-0.64966676377032173,{"$f":"VLOOKUP($A189,BasinData!$1:$1048576,3,FALSE)","v":12.793867593112163},{"$f":"VLOOKUP($A189,BasinData!$1:$1048576,4,FALSE)","v":27.756833176248826},{"$f":"VLOOKUP($A189,BasinData!$1:$1048576,5,FALSE)","v":14.338379205852823},120.32760059934225,{"$f":"VLOOKUP($A189,Sheet1!$1:$1048576,9,FALSE)","v":190.85204676463047},-51.339832366404835,{"$f":"VLOOKUP($A189,Sheet1!$1:$1048576,10,FALSE)","v":179.09796019127424},-44.354836406198871,{"$f":"VLOOKUP($A189,Sheet1!$1:$1048576,11,FALSE)","v":155.58978704456177},-28.892597704433044,{"$f":"VLOOKUP($A189,Sheet1!$1:$1048576,12,FALSE)","v":120.32752732449308},-0.64966676377032173]
[13021,{"$f":"VLOOKUP($A190,BasinData!$1:$1048576,2,FALSE)","v":0.3056971943882576},3.9206891311244672,{"$f":"VLOOKUP($A190,BasinData!$1:$1048576,3,FALSE)","v":3.2009124127230453},{"$f":"VLOOKUP($A190,BasinData!$1:$1048576,4,FALSE)","v":13.026017111925963},{"$f":"VLOOKUP($A190,BasinData!$1:$1048576,5,FALSE)","v":13.2233229363441},185.16759326266529,{"$f":"VLOOKUP($A190,Sheet1!$1:$1048576,9,FALSE)","v":293.69459644672935},-46.769323342694001,{"$f":"VLOOKUP($A190,Sheet1!$1:$1048576,10,FALSE)","v":275.60670181168194},-39.784094659962498,{"$f":"VLOOKUP($A190,Sheet1!$1:$1048576,11,FALSE)","v":239.43091254158711},-24.321464642426658,{"$f":"VLOOKUP($A190,Sheet1!$1:$1048576,12,FALSE)","v":185.16722863644486},3.9206891311244672]
[13022,{"$f":"VLOOKUP($A191,BasinData!$1:$1048576,2,FALSE)","v":0.28370786516853935},-6.3872299322826569,{"$f":"VLOOKUP($A191,BasinData!$1:$1048576,3,FALSE)","v":22.866630253738936},{"$f":"VLOOKUP($A191,BasinData!$1:$1048576,4,FALSE)","v":24.559178924128055},{"$f":"VLOOKUP($A191,BasinData!$1:$1048576,5,FALSE)","v":15.738174900100001},132.92673835642208,{"$f":"VLOOKUP($A191,Sheet1!$1:$1048576,9,FALSE)","v":210.83570209645799},-57.077453195036782,{"$f":"VLOOKUP($A191,Sheet1!$1:$1048576,10,FALSE)","v":197.85087360126064},-50.092289563848894,{"$f":"VLOOKUP($A191,Sheet1!$1:$1048576,11,FALSE)","v":171.88121661086595},-34.629678838638213,{"$f":"VLOOKUP($A191,Sheet1!$1:$1048576,12,FALSE)","v":132.92673112527388},-6.3872299322826569]
[13023,{"$f":"VLOOKUP($A192,BasinData!$1:$1048576,2,FALSE)","v":0.48250177852840914},13.967284339727289,{"$f":"VLOOKUP($A192,BasinData!$1:$1048576,3,FALSE)","v":69.595748208706581},{"$f":"VLOOKUP($A192,BasinData!$1:$1048576,4,FALSE)","v":28.26603325415677},{"$f":"VLOOKUP($A192,BasinData!$1:$1048576,5,FALSE)","v":10.77232031372148},117.44517798490311,{"$f":"VLOOKUP($A192,Sheet1!$1:$1048576,9,FALSE)","v":186.28027385719722},-36.722744820514016,{"$f":"VLOOKUP($A192,Sheet1!$1:$1048576,10,FALSE)","v":174.80775101584521},-29.73767767015033,{"$f":"VLOOKUP($A192,Sheet1!$1:$1048576,11,FALSE)","v":151.86270533314121},-14.275060274795811,{"$f":"VLOOKUP($A192,Sheet1!$1:$1048576,12,FALSE)","v":117.4451368090852},13.967284339727289]
[13024,{"$f":"VLOOKUP($A193,BasinData!$1:$1048576,2,FALSE)","v":0.70887238674999997},15.890968447220942,{"$f":"VLOOKUP($A193,BasinData!$1:$1048576,3,FALSE)","v":19.81073398795445},{"$f":"VLOOKUP($A193,BasinData!$1:$1048576,4,FALSE)","v":40.006596306068602},{"$f":"VLOOKUP($A193,BasinData!$1:$1048576,5,FALSE)","v":10.302981164681443},{"$f":"EXP(6.1523-(0.084*B193)-(0.0091*C193)-(0.0289*E193)-(0.0373*F193))","v":82.076773870657348},{"$f":"VLOOKUP($A193,Sheet1!$1:$1048576,9,FALSE)","v":130.18219704236841},-34.79913076362341,{"$f":"VLOOKUP($A193,Sheet1!$1:$1048576,10,FALSE)","v":122.16461043386421},-27.81390302654949,{"$f":"VLOOKUP($A193,Sheet1!$1:$1048576,11,FALSE)","v":106.12943721685582},-12.351290690258249,{"$f":"VLOOKUP($A193,Sheet1!$1:$1048576,12,FALSE)","v":82.076677391343225},15.890968447220942]
[13025,{"$f":"VLOOKUP($A194,BasinData!$1:$1048576,2,FALSE)","v":0.21060021060021061},3.5720452887465166,{"$f":"VLOOKUP($A194,BasinData!$1:$1048576,3,FALSE)","v":22.651665324945615},{"$f":"VLOOKUP($A194,BasinData!$1:$1048576,4,FALSE)","v":29.621743486973951},{"$f":"VLOOKUP($A194,BasinData!$1:$1048576,5,FALSE)","v":13.3083847499},115.54185349415023,{"$f":"VLOOKUP($A194,Sheet1!$1:$1048576,9,FALSE)","v":183.26113340997634},-47.117927581271886,{"$f":"VLOOKUP($A194,Sheet1!$1:$1048576,10,FALSE)","v":171.97455166171369},-40.133185807566932,{"$f":"VLOOKUP($A194,Sheet1!$1:$1048576,11,FALSE)","v":149.40138816518839},-24.670124441313881,{"$f":"VLOOKUP($A194,Sheet1!$1:$1048576,12,FALSE)","v":115.54164292040045},3.5720452887465166]
[13029,{"$f":"VLOOKUP($A195,BasinData!$1:$1048576,2,FALSE)","v":0.34687960593371209},9.8821398376202048,{"$f":"VLOOKUP($A195,BasinData!$1:$1048576,3,FALSE)","v":5.638135303488685},{"$f":"VLOOKUP($A195,BasinData!$1:$1048576,4,FALSE)","v":27.715902866532772},{"$f":"VLOOKUP($A195,BasinData!$1:$1048576,5,FALSE)","v":11.768811127878401},120.69520402804903,{"$f":"VLOOKUP($A195,Sheet1!$1:$1048576,9,FALSE)","v":191.43406073326614},-40.807431394089335,{"$f":"VLOOKUP($A195,Sheet1!$1:$1048576,10,FALSE)","v":179.64412941687351},-33.822194779028607,{"$f":"VLOOKUP($A195,Sheet1!$1:$1048576,11,FALSE)","v":156.06426678408829},-18.359569925434048,{"$f":"VLOOKUP($A195,Sheet1!$1:$1048576,12,FALSE)","v":120.69447283491043},9.8821398376202048]
[13030,{"$f":"VLOOKUP($A196,BasinData!$1:$1048576,2,FALSE)","v":0.39765266168371216},17.627406059274847,{"$f":"VLOOKUP($A196,BasinData!$1:$1048576,3,FALSE)","v":20.386200275638611},{"$f":"VLOOKUP($A196,BasinData!$1:$1048576,4,FALSE)","v":24.226877583012683},{"$f":"VLOOKUP($A196,BasinData!$1:$1048576,5,FALSE)","v":9.8793053795645704},132.93136315001482,{"$f":"VLOOKUP($A196,Sheet1!$1:$1048576,9,FALSE)","v":210.84247969844972},-33.062544773569314,{"$f":"VLOOKUP($A196,Sheet1!$1:$1048576,10,FALSE)","v":197.85723378818179},-26.077297998928263,{"$f":"VLOOKUP($A196,Sheet1!$1:$1048576,11,FALSE)","v":171.88674196764592},-10.61469125980293,{"$f":"VLOOKUP($A196,Sheet1!$1:$1048576,12,FALSE)","v":132.93100423684211},17.627406059274847]
[13031,{"$f":"VLOOKUP($A197,BasinData!$1:$1048576,2,FALSE)","v":0.80831473212121219},12.93694402515275,{"$f":"VLOOKUP($A197,BasinData!$1:$1048576,3,FALSE)","v":15.073742869707392},{"$f":"VLOOKUP($A197,BasinData!$1:$1048576,4,FALSE)","v":24.96615741636047},{"$f":"VLOOKUP($A197,BasinData!$1:$1048576,5,FALSE)","v":11.023695654139299},125.70898272283992,{"$f":"VLOOKUP($A197,Sheet1!$1:$1048576,9,FALSE)","v":199.38756866158153},-37.752723039026051,{"$f":"VLOOKUP($A197,Sheet1!$1:$1048576,10,FALSE)","v":187.10780125311604},-30.768040276467424,{"$f":"VLOOKUP($A197,Sheet1!$1:$1048576,11,FALSE)","v":162.54826643618509},-15.305420611349932,{"$f":"VLOOKUP($A197,Sheet1!$1:$1048576,12,FALSE)","v":125.70896421078864},12.93694402515275]
[13032,{"$f":"VLOOKUP($A198,BasinData!$1:$1048576,2,FALSE)","v":0.2798494576022727},-40.464862105273134,{"$f":"VLOOKUP($A198,BasinData!$1:$1048576,3,FALSE)","v":0.88203125854609221},{"$f":"VLOOKUP($A198,BasinData!$1:$1048576,4,FALSE)","v":32.387706855791961},{"$f":"VLOOKUP($A198,BasinData!$1:$1048576,5,FALSE)","v":24.052008674830901},106.04655958225054,{"$f":"VLOOKUP($A198,Sheet1!$1:$1048576,9,FALSE)","v":168.20085253768642},-91.155051257036021,{"$f":"VLOOKUP($A198,Sheet1!$1:$1048576,10,FALSE)","v":157.84179474419835},-84.169810883193051,{"$f":"VLOOKUP($A198,Sheet1!$1:$1048576,11,FALSE)","v":137.12367915722226},-68.707195302755508,{"$f":"VLOOKUP($A198,Sheet1!$1:$1048576,12,FALSE)","v":106.0465057767581},-40.464862105273134]
[13033,{"$f":"VLOOKUP($A199,BasinData!$1:$1048576,2,FALSE)","v":0.24297212177767408},-7.3067783580969463,{"$f":"VLOOKUP($A199,BasinData!$1:$1048576,3,FALSE)","v":27.499214490277637},{"$f":"VLOOKUP($A199,BasinData!$1:$1048576,4,FALSE)","v":24.792153453241319},{"$f":"VLOOKUP($A199,BasinData!$1:$1048576,5,FALSE)","v":15.962515805900001},132.4873210250413,{"$f":"VLOOKUP($A199,Sheet1!$1:$1048576,9,FALSE)","v":210.13874555271411},-57.996968397438863,{"$f":"VLOOKUP($A199,Sheet1!$1:$1048576,10,FALSE)","v":197.19684081805227},-51.011823272582717,{"$f":"VLOOKUP($A199,Sheet1!$1:$1048576,11,FALSE)","v":171.31303134872854},-35.549227359230812,{"$f":"VLOOKUP($A199,Sheet1!$1:$1048576,12,FALSE)","v":132.48731714474292},-7.3067783580969463]
[13034,{"$f":"VLOOKUP($A200,BasinData!$1:$1048576,2,FALSE)","v":0.42761825203219694},-24.434488588297764,{"$f":"VLOOKUP($A200,BasinData!$1:$1048576,3,FALSE)","v":11.041949575383473},{"$f":"VLOOKUP($A200,BasinData!$1:$1048576,4,FALSE)","v":12.976140644621182},{"$f":"VLOOKUP($A200,BasinData!$1:$1048576,5,FALSE)","v":20.141048254104799},183.54545508887341,{"$f":"VLOOKUP($A200,Sheet1!$1:$1048576,9,FALSE)","v":291.12144034534191},-75.124396404433071,{"$f":"VLOOKUP($A200,Sheet1!$1:$1048576,10,FALSE)","v":273.1920197748654},-68.139171275878056,{"$f":"VLOOKUP($A200,Sheet1!$1:$1048576,11,FALSE)","v":237.33317863391238},-52.676578628305172,{"$f":"VLOOKUP($A200,Sheet1!$1:$1048576,12,FALSE)","v":183.54491692248286},-24.434488588297764]
[13035,{"$f":"VLOOKUP($A201,BasinData!$1:$1048576,2,FALSE)","v":0.19879047990635973},9.5336021064060734,{"$f":"VLOOKUP($A201,BasinData!$1:$1048576,3,FALSE)","v":100},{"$f":"VLOOKUP($A201,BasinData!$1:$1048576,4,FALSE)","v":30.723209108639505},{"$f":"VLOOKUP($A201,BasinData!$1:$1048576,5,FALSE)","v":11.8538521683},112.03332720951856,{"$f":"VLOOKUP($A201,Sheet1!$1:$1048576,9,FALSE)","v":177.6955611058176},-41.156009168095586,{"$f":"VLOOKUP($A201,Sheet1!$1:$1048576,10,FALSE)","v":166.75174863775047},-34.170769580150271,{"$f":"VLOOKUP($A201,Sheet1!$1:$1048576,11,FALSE)","v":144.86412370161622},-18.708144263621342,{"$f":"VLOOKUP($A201,Sheet1!$1:$1048576,12,FALSE)","v":112.03268629741486},9.5336021064060734]
[13036,{"$f":"VLOOKUP($A202,BasinData!$1:$1048576,2,FALSE)","v":0.87307360706439396},-0.86205905243596481,{"$f":"VLOOKUP($A202,BasinData!$1:$1048576,3,FALSE)","v":2.6899091695442285},{"$f":"VLOOKUP($A202,BasinData!$1:$1048576,4,FALSE)","v":16.05769230769231},{"$f":"VLOOKUP($A202,BasinData!$1:$1048576,5,FALSE)","v":14.390197121045199},161.73915675595543,{"$f":"VLOOKUP($A202,Sheet1!$1:$1048576,9,FALSE)","v":256.53507707916629},-51.552110084459045,{"$f":"VLOOKUP($A202,Sheet1!$1:$1048576,10,FALSE)","v":240.73574164521193},-44.567224629357987,{"$f":"VLOOKUP($A202,Sheet1!$1:$1048576,11,FALSE)","v":209.13707077730328},-29.104365187130316,{"$f":"VLOOKUP($A202,Sheet1!$1:$1048576,12,FALSE)","v":161.73906447544033},-0.86205905243596481]
[13037,{"$f":"VLOOKUP($A203,BasinData!$1:$1048576,2,FALSE)","v":0.68330811646401513},-17.925535938241286,{"$f":"VLOOKUP($A203,BasinData!$1:$1048576,3,FALSE)","v":2.1317515797638054},{"$f":"VLOOKUP($A203,BasinData!$1:$1048576,4,FALSE)","v":34.479756203744017},{"$f":"VLOOKUP($A203,BasinData!$1:$1048576,5,FALSE)","v":18.553019543517799},96.498929208036984,{"$f":"VLOOKUP($A203,Sheet1!$1:$1048576,9,FALSE)","v":153.05664209008651},-68.615245556373694,{"$f":"VLOOKUP($A203,Sheet1!$1:$1048576,10,FALSE)","v":143.63027725799878},-61.629998800098008,{"$f":"VLOOKUP($A203,Sheet1!$1:$1048576,11,FALSE)","v":124.77754759382333},-46.167419146014439,{"$f":"VLOOKUP($A203,Sheet1!$1:$1048576,12,FALSE)","v":96.498453097560116},-17.925535938241286]
[13038,{"$f":"VLOOKUP($A204,BasinData!$1:$1048576,2,FALSE)","v":0.18967112635606059},43.279483539002193,{"$f":"VLOOKUP($A204,BasinData!$1:$1048576,3,FALSE)","v":9.3621885218078891},{"$f":"VLOOKUP($A204,BasinData!$1:$1048576,4,FALSE)","v":49.854227405247812},{"$f":"VLOOKUP($A204,BasinData!$1:$1048576,5,FALSE)","v":3.6210910726528129},64.500337487963151,{"$f":"VLOOKUP($A204,Sheet1!$1:$1048576,9,FALSE)","v":102.30426386169408},-7.4107338157817759,{"$f":"VLOOKUP($A204,Sheet1!$1:$1048576,10,FALSE)","v":96.003607438884984},-0.42578058772056604,{"$f":"VLOOKUP($A204,Sheet1!$1:$1048576,11,FALSE)","v":83.402294593266788},15.037131629402573,{"$f":"VLOOKUP($A204,Sheet1!$1:$1048576,12,FALSE)","v":64.500325324839494},43.279483539002193]
[13039,{"$f":"VLOOKUP($A205,BasinData!$1:$1048576,2,FALSE)","v":3.7639342806394311},35.295554158311127,{"$f":"VLOOKUP($A205,BasinData!$1:$1048576,3,FALSE)","v":29.882627469016008},{"$f":"VLOOKUP($A205,BasinData!$1:$1048576,4,FALSE)","v":28.287720997820298},{"$f":"VLOOKUP($A205,BasinData!$1:$1048576,5,FALSE)","v":5.5689105728300001},89.095112277831447,{"$f":"VLOOKUP($A205,Sheet1!$1:$1048576,9,FALSE)","v":141.31412965950236},-15.394649608385421,{"$f":"VLOOKUP($A205,Sheet1!$1:$1048576,10,FALSE)","v":132.61095595917135},-8.4099438904071206,{"$f":"VLOOKUP($A205,Sheet1!$1:$1048576,11,FALSE)","v":115.20460855850929},7.0532153620474825,{"$f":"VLOOKUP($A205,Sheet1!$1:$1048576,12,FALSE)","v":89.095087457516229},35.295554158311127]
[13040,{"$f":"VLOOKUP($A206,BasinData!$1:$1048576,2,FALSE)","v":8.6184245312689398E-3},1.6677326685030827,{"$f":"VLOOKUP($A206,BasinData!$1:$1048576,3,FALSE)","v":12.332010591516935},{"$f":"VLOOKUP($A206,BasinData!$1:$1048576,4,FALSE)","v":33.906882591093115},{"$f":"VLOOKUP($A206,BasinData!$1:$1048576,5,FALSE)","v":13.772993599122934},103.83032920503675,{"$f":"VLOOKUP($A206,Sheet1!$1:$1048576,9,FALSE)","v":164.68557405898576},-49.022141306829162,{"$f":"VLOOKUP($A206,Sheet1!$1:$1048576,10,FALSE)","v":154.54301322357887},-42.037476259028281,{"$f":"VLOOKUP($A206,Sheet1!$1:$1048576,11,FALSE)","v":134.25789155276507},-26.5745094799714,{"$f":"VLOOKUP($A206,Sheet1!$1:$1048576,12,FALSE)","v":103.83020904654435},1.6677326685030827]
[13041,{"$f":"VLOOKUP($A207,BasinData!$1:$1048576,2,FALSE)","v":0.95441814595660757},32.143298095328156,{"$f":"VLOOKUP($A207,BasinData!$1:$1048576,3,FALSE)","v":29.381266061757902},{"$f":"VLOOKUP($A207,BasinData!$1:$1048576,4,FALSE)","v":30.357362908194702},{"$f":"VLOOKUP($A207,BasinData!$1:$1048576,5,FALSE)","v":6.3379658953},106.26021529443774,{"$f":"VLOOKUP($A207,Sheet1!$1:$1048576,9,FALSE)","v":168.53981056799523},-18.546922351416658,{"$f":"VLOOKUP($A207,Sheet1!$1:$1048576,10,FALSE)","v":158.15987722142549},-11.561851569376053,{"$f":"VLOOKUP($A207,Sheet1!$1:$1048576,11,FALSE)","v":137.400010528286},3.9009129138444805,{"$f":"VLOOKUP($A207,Sheet1!$1:$1048576,12,FALSE)","v":106.26021048857677},32.143298095328156]
[13042,{"$f":"VLOOKUP($A208,BasinData!$1:$1048576,2,FALSE)","v":0.27310000000000001},17.42865859484856,{"$f":"VLOOKUP($A208,BasinData!$1:$1048576,3,FALSE)","v":5.6471691660562486},{"$f":"VLOOKUP($A208,BasinData!$1:$1048576,4,FALSE)","v":17.179951690821259},{"$f":"VLOOKUP($A208,BasinData!$1:$1048576,5,FALSE)","v":9.9277993621884999},164.67128698054978,{"$f":"VLOOKUP($A208,Sheet1!$1:$1048576,9,FALSE)","v":261.18524194435167},-33.261310027199116,{"$f":"VLOOKUP($A208,Sheet1!$1:$1048576,10,FALSE)","v":245.09951481938671},-26.276070023878411,{"$f":"VLOOKUP($A208,Sheet1!$1:$1048576,11,FALSE)","v":212.92806056945673},-10.813462590423303,{"$f":"VLOOKUP($A208,Sheet1!$1:$1048576,12,FALSE)","v":164.67087919456176},17.42865859484856]
[13043,{"$f":"VLOOKUP($A209,BasinData!$1:$1048576,2,FALSE)","v":0.2311},21.481686782679802,{"$f":"VLOOKUP($A209,BasinData!$1:$1048576,3,FALSE)","v":8.5947391931443704},{"$f":"VLOOKUP($A209,BasinData!$1:$1048576,4,FALSE)","v":30.490956072351423},{"$f":"VLOOKUP($A209,BasinData!$1:$1048576,5,FALSE)","v":8.9390455745031971},112.48155131183677,{"$f":"VLOOKUP($A209,Sheet1!$1:$1048576,9,FALSE)","v":178.40743016776543},-29.208499209515836,{"$f":"VLOOKUP($A209,Sheet1!$1:$1048576,10,FALSE)","v":167.41977551553066},-22.223266355677676,{"$f":"VLOOKUP($A209,Sheet1!$1:$1048576,11,FALSE)","v":145.4444662110611},-6.7606761867876157,{"$f":"VLOOKUP($A209,Sheet1!$1:$1048576,12,FALSE)","v":112.48150225435677},21.481686782679802]
[13044,{"$f":"VLOOKUP($A210,BasinData!$1:$1048576,2,FALSE)","v":0.49058387711742424},2.5482961145030565,{"$f":"VLOOKUP($A210,BasinData!$1:$1048576,3,FALSE)","v":73.379070792673119},{"$f":"VLOOKUP($A210,BasinData!$1:$1048576,4,FALSE)","v":28.714596949891067},{"$f":"VLOOKUP($A210,BasinData!$1:$1048576,5,FALSE)","v":13.5581569285164},115.85395095972922,{"$f":"VLOOKUP($A210,Sheet1!$1:$1048576,9,FALSE)","v":183.7562224443505},-48.141779528223935,{"$f":"VLOOKUP($A210,Sheet1!$1:$1048576,10,FALSE)","v":172.43914943612913},-41.156924614741641,{"$f":"VLOOKUP($A210,Sheet1!$1:$1048576,11,FALSE)","v":149.80500341968641},-25.693915490718215,{"$f":"VLOOKUP($A210,Sheet1!$1:$1048576,12,FALSE)","v":115.8537843950223},2.5482961145030565]
[13045,{"$f":"VLOOKUP($A211,BasinData!$1:$1048576,2,FALSE)","v":0.26067235859124865},13.021058474375625,{"$f":"VLOOKUP($A211,BasinData!$1:$1048576,3,FALSE)","v":88.93190250082688},{"$f":"VLOOKUP($A211,BasinData!$1:$1048576,4,FALSE)","v":32.770397292893847},{"$f":"VLOOKUP($A211,BasinData!$1:$1048576,5,FALSE)","v":11.0031741082},105.04922121156199,{"$f":"VLOOKUP($A211,Sheet1!$1:$1048576,9,FALSE)","v":166.61902831814206},-37.668652062768203,{"$f":"VLOOKUP($A211,Sheet1!$1:$1048576,10,FALSE)","v":156.35739100892729},-30.683924493418075,{"$f":"VLOOKUP($A211,Sheet1!$1:$1048576,11,FALSE)","v":135.83411639049774},-15.22130500291572,{"$f":"VLOOKUP($A211,Sheet1!$1:$1048576,12,FALSE)","v":105.0492044628534},13.021058474375625]
[13046,{"$f":"VLOOKUP($A212,BasinData!$1:$1048576,2,FALSE)","v":8.7591240875912399E-2},-25.865267691110027,{"$f":"VLOOKUP($A212,BasinData!$1:$1048576,3,FALSE)","v":32.709630017942217},{"$f":"VLOOKUP($A212,BasinData!$1:$1048576,4,FALSE)","v":27.468771206675548},{"$f":"VLOOKUP($A212,BasinData!$1:$1048576,5,FALSE)","v":20.490121583099999},124.23653002433171,{"$f":"VLOOKUP($A212,Sheet1!$1:$1048576,9,FALSE)","v":197.05162427891071},-76.555212864006151,{"$f":"VLOOKUP($A212,Sheet1!$1:$1048576,10,FALSE)","v":184.91572167551237},-69.569988294899915,{"$f":"VLOOKUP($A212,Sheet1!$1:$1048576,11,FALSE)","v":160.64391646871567},-54.107393098401275,{"$f":"VLOOKUP($A212,Sheet1!$1:$1048576,12,FALSE)","v":124.23620865852065},-25.865267691110027]
[13047,{"$f":"VLOOKUP($A213,BasinData!$1:$1048576,2,FALSE)","v":0.46512223935416669},-20.912349933395582,{"$f":"VLOOKUP($A213,BasinData!$1:$1048576,3,FALSE)","v":3.2087883152332748},{"$f":"VLOOKUP($A213,BasinData!$1:$1048576,4,FALSE)","v":53.261557948068393},{"$f":"VLOOKUP($A213,BasinData!$1:$1048576,5,FALSE)","v":19.281733191799599},57.114866599445406,{"$f":"VLOOKUP($A213,Sheet1!$1:$1048576,9,FALSE)","v":90.589798365537092},-71.6021543658523,{"$f":"VLOOKUP($A213,Sheet1!$1:$1048576,10,FALSE)","v":85.010605735947024},-64.616923904067349,{"$f":"VLOOKUP($A213,Sheet1!$1:$1048576,11,FALSE)","v":73.85222047676686},-49.15433799596692,{"$f":"VLOOKUP($A213,Sheet1!$1:$1048576,12,FALSE)","v":57.114642587996606},-20.912349933395582]
[13048,{"$f":"VLOOKUP($A214,BasinData!$1:$1048576,2,FALSE)","v":0.25012743552651512},35.45801999427951,{"$f":"VLOOKUP($A214,BasinData!$1:$1048576,3,FALSE)","v":59.215094922168788},{"$f":"VLOOKUP($A214,BasinData!$1:$1048576,4,FALSE)","v":21.569865319865318},{"$f":"VLOOKUP($A214,BasinData!$1:$1048576,5,FALSE)","v":5.5292759339466002},145.3304642936771,{"$f":"VLOOKUP($A214,Sheet1!$1:$1048576,9,FALSE)","v":230.50927180164334},-15.232192718173653,{"$f":"VLOOKUP($A214,Sheet1!$1:$1048576,10,FALSE)","v":216.312798760622},-8.2469569728960384,{"$f":"VLOOKUP($A214,Sheet1!$1:$1048576,11,FALSE)","v":187.91985267857936},7.2156735762367568,{"$f":"VLOOKUP($A214,Sheet1!$1:$1048576,12,FALSE)","v":145.33043355551536},35.45801999427951]
[13049,{"$f":"VLOOKUP($A215,BasinData!$1:$1048576,2,FALSE)","v":0.14706604468450774},8.5598770290929291,{"$f":"VLOOKUP($A215,BasinData!$1:$1048576,3,FALSE)","v":100},{"$f":"VLOOKUP($A215,BasinData!$1:$1048576,4,FALSE)","v":35.520684736091297},{"$f":"VLOOKUP($A215,BasinData!$1:$1048576,5,FALSE)","v":12.0914330648},97.953544355600812,{"$f":"VLOOKUP($A215,Sheet1!$1:$1048576,9,FALSE)","v":155.36381530353839},-42.129828546878862,{"$f":"VLOOKUP($A215,Sheet1!$1:$1048576,10,FALSE)","v":145.79535760867887},-35.14532818076384,{"$f":"VLOOKUP($A215,Sheet1!$1:$1048576,11,FALSE)","v":126.65844221895983},-19.681963659221733,{"$f":"VLOOKUP($A215,Sheet1!$1:$1048576,12,FALSE)","v":97.953069134381252},8.5598770290929291]
[13050,{"$f":"VLOOKUP($A216,BasinData!$1:$1048576,2,FALSE)","v":8.2172131147540975E-2},-10.979221685190385,{"$f":"VLOOKUP($A216,BasinData!$1:$1048576,3,FALSE)","v":14.721230670287468},{"$f":"VLOOKUP($A216,BasinData!$1:$1048576,4,FALSE)","v":28.193832599118945},{"$f":"VLOOKUP($A216,BasinData!$1:$1048576,5,FALSE)","v":16.858260103399999},121.71638123526797,{"$f":"VLOOKUP($A216,Sheet1!$1:$1048576,9,FALSE)","v":193.05336968836497},-61.66857409139778,{"$f":"VLOOKUP($A216,Sheet1!$1:$1048576,10,FALSE)","v":181.1637092992697},-54.683347806236789,{"$f":"VLOOKUP($A216,Sheet1!$1:$1048576,11,FALSE)","v":157.38438852107913},-39.220784563670698,{"$f":"VLOOKUP($A216,Sheet1!$1:$1048576,12,FALSE)","v":121.71540735379327},-10.979221685190385]
[13051,{"$f":"VLOOKUP($A217,BasinData!$1:$1048576,2,FALSE)","v":0},-29.139082437361921,{"$f":"VLOOKUP($A217,BasinData!$1:$1048576,3,FALSE)","v":38.244844535522276},{"$f":"VLOOKUP($A217,BasinData!$1:$1048576,4,FALSE)","v":27.333333333333332},{"$f":"VLOOKUP($A217,BasinData!$1:$1048576,5,FALSE)","v":21.288845267700001},125.64473843748918,{"$f":"VLOOKUP($A217,Sheet1!$1:$1048576,9,FALSE)","v":199.2853197319852},-79.828971899612938,{"$f":"VLOOKUP($A217,Sheet1!$1:$1048576,10,FALSE)","v":187.01184957204748},-72.8438776084827,{"$f":"VLOOKUP($A217,Sheet1!$1:$1048576,11,FALSE)","v":162.46490925217205},-57.381276973506885,{"$f":"VLOOKUP($A217,Sheet1!$1:$1048576,12,FALSE)","v":125.64449877235887},-29.139082437361921]
[13052,{"$f":"VLOOKUP($A218,BasinData!$1:$1048576,2,FALSE)","v":3.8121438396541564E-2},-32.075356202477103,{"$f":"VLOOKUP($A218,BasinData!$1:$1048576,3,FALSE)","v":48.609506089875225},{"$f":"VLOOKUP($A218,BasinData!$1:$1048576,4,FALSE)","v":26.794943150194801},{"$f":"VLOOKUP($A218,BasinData!$1:$1048576,5,FALSE)","v":22.005214767399998},127.2069353679455,{"$f":"VLOOKUP($A218,Sheet1!$1:$1048576,9,FALSE)","v":201.76322185237228},-82.765425407525896,{"$f":"VLOOKUP($A218,Sheet1!$1:$1048576,10,FALSE)","v":189.33714407550261},-75.780205272329027,{"$f":"VLOOKUP($A218,Sheet1!$1:$1048576,11,FALSE)","v":164.48498852176331},-60.317600205823929,{"$f":"VLOOKUP($A218,Sheet1!$1:$1048576,12,FALSE)","v":127.20675519115433},-32.075356202477103]
[13053,{"$f":"VLOOKUP($A219,BasinData!$1:$1048576,2,FALSE)","v":0.23724873118371212},-14.373711959029125,{"$f":"VLOOKUP($A219,BasinData!$1:$1048576,3,FALSE)","v":1.1271314605153808},{"$f":"VLOOKUP($A219,BasinData!$1:$1048576,4,FALSE)","v":25.8931394245969},{"$f":"VLOOKUP($A219,BasinData!$1:$1048576,5,FALSE)","v":17.686450303441699},128.40066363231887,{"$f":"VLOOKUP($A219,Sheet1!$1:$1048576,9,FALSE)","v":203.65558860074131},-65.063154753013606,{"$f":"VLOOKUP($A219,Sheet1!$1:$1048576,10,FALSE)","v":191.11296482415125},-58.0780172729932,{"$f":"VLOOKUP($A219,Sheet1!$1:$1048576,11,FALSE)","v":166.0277172709711},-42.615445732138873,{"$f":"VLOOKUP($A219,Sheet1!$1:$1048576,12,FALSE)","v":128.39984594120091},-14.373711959029125]
[13054,{"$f":"VLOOKUP($A220,BasinData!$1:$1048576,2,FALSE)","v":0.15891484662708333},13.867252041225441,{"$f":"VLOOKUP($A220,BasinData!$1:$1048576,3,FALSE)","v":100},{"$f":"VLOOKUP($A220,BasinData!$1:$1048576,4,FALSE)","v":41.733149931224212},{"$f":"VLOOKUP($A220,BasinData!$1:$1048576,5,FALSE)","v":10.7967256596698},81.773502367201147,{"$f":"VLOOKUP($A220,Sheet1!$1:$1048576,9,FALSE)","v":129.70128756949319},-36.822756044652486,{"$f":"VLOOKUP($A220,Sheet1!$1:$1048576,10,FALSE)","v":121.71331893823339},-29.837712764171034,{"$f":"VLOOKUP($A220,Sheet1!$1:$1048576,11,FALSE)","v":105.73738167571381},-14.375095135684784,{"$f":"VLOOKUP($A220,Sheet1!$1:$1048576,12,FALSE)","v":81.773475781934422},13.867252041225441]
[13055,{"$f":"VLOOKUP($A221,BasinData!$1:$1048576,2,FALSE)","v":0.29571727873484849},2.5007400924695218,{"$f":"VLOOKUP($A221,BasinData!$1:$1048576,3,FALSE)","v":100},{"$f":"VLOOKUP($A221,BasinData!$1:$1048576,4,FALSE)","v":33.43520782396088},{"$f":"VLOOKUP($A221,BasinData!$1:$1048576,5,FALSE)","v":13.569759504722599},102.74739272407078,{"$f":"VLOOKUP($A221,Sheet1!$1:$1048576,9,FALSE)","v":162.96788244316883},-48.189338318226667,{"$f":"VLOOKUP($A221,Sheet1!$1:$1048576,10,FALSE)","v":152.93110981543853},-41.204480065260071,{"$f":"VLOOKUP($A221,Sheet1!$1:$1048576,11,FALSE)","v":132.85756455997793},-25.741473286497293,{"$f":"VLOOKUP($A221,Sheet1!$1:$1048576,12,FALSE)","v":102.747246676787},2.5007400924695218]
[13056,{"$f":"VLOOKUP($A222,BasinData!$1:$1048576,2,FALSE)","v":0.26440308113825761},-46.380022576473124,{"$f":"VLOOKUP($A222,BasinData!$1:$1048576,3,FALSE)","v":100},{"$f":"VLOOKUP($A222,BasinData!$1:$1048576,4,FALSE)","v":22.80380673499268},{"$f":"VLOOKUP($A222,BasinData!$1:$1048576,5,FALSE)","v":25.4951259928004},140.07109742565859,{"$f":"VLOOKUP($A222,Sheet1!$1:$1048576,9,FALSE)","v":222.16737188798555},-97.070235130750774,{"$f":"VLOOKUP($A222,Sheet1!$1:$1048576,10,FALSE)","v":208.48465500223526},-90.085005915751552,{"$f":"VLOOKUP($A222,Sheet1!$1:$1048576,11,FALSE)","v":181.11922123073472},-74.622384644047969,{"$f":"VLOOKUP($A222,Sheet1!$1:$1048576,12,FALSE)","v":140.07107057348389},-46.380022576473124]
[13057,{"$f":"VLOOKUP($A223,BasinData!$1:$1048576,2,FALSE)","v":9.1140159767610751E-2},-26.351174363518187,{"$f":"VLOOKUP($A223,BasinData!$1:$1048576,3,FALSE)","v":13.852370018058856},{"$f":"VLOOKUP($A223,BasinData!$1:$1048576,4,FALSE)","v":35.527426160337555},{"$f":"VLOOKUP($A223,BasinData!$1:$1048576,5,FALSE)","v":20.608670136400001},98.395384863645248,{"$f":"VLOOKUP($A223,Sheet1!$1:$1048576,9,FALSE)","v":156.06498784301098},-77.040477112948139,{"$f":"VLOOKUP($A223,Sheet1!$1:$1048576,10,FALSE)","v":146.45334673528512},-70.05590707682741,{"$f":"VLOOKUP($A223,Sheet1!$1:$1048576,11,FALSE)","v":127.23006451983343},-54.593311041184869,{"$f":"VLOOKUP($A223,Sheet1!$1:$1048576,12,FALSE)","v":98.395141196655871},-26.351174363518187]
[13058,{"$f":"VLOOKUP($A224,BasinData!$1:$1048576,2,FALSE)","v":0.38036078022348485},-7.2504039172004724,{"$f":"VLOOKUP($A224,BasinData!$1:$1048576,3,FALSE)","v":1.0088871209966692},{"$f":"VLOOKUP($A224,BasinData!$1:$1048576,4,FALSE)","v":48.98607378451014},{"$f":"VLOOKUP($A224,BasinData!$1:$1048576,5,FALSE)","v":15.948762222691199},65.088117575260227,{"$f":"VLOOKUP($A224,Sheet1!$1:$1048576,9,FALSE)","v":103.236560712753},-57.94058416470611,{"$f":"VLOOKUP($A224,Sheet1!$1:$1048576,10,FALSE)","v":96.878486525318479},-50.955449686554921,{"$f":"VLOOKUP($A224,Sheet1!$1:$1048576,11,FALSE)","v":84.162338150449415},-35.492852943628769,{"$f":"VLOOKUP($A224,Sheet1!$1:$1048576,12,FALSE)","v":65.088115588145811},-7.2504039172004724]
[13059,{"$f":"VLOOKUP($A225,BasinData!$1:$1048576,2,FALSE)","v":0.52412332999242428},-54.378341500109364,{"$f":"VLOOKUP($A225,BasinData!$1:$1048576,3,FALSE)","v":3.737396271325292},{"$f":"VLOOKUP($A225,BasinData!$1:$1048576,4,FALSE)","v":24.925224327018945},{"$f":"VLOOKUP($A225,BasinData!$1:$1048576,5,FALSE)","v":27.446462981201599},128.89839981140906,{"$f":"VLOOKUP($A225,Sheet1!$1:$1048576,9,FALSE)","v":204.44634224049759},-105.06856841039034,{"$f":"VLOOKUP($A225,Sheet1!$1:$1048576,10,FALSE)","v":191.85501798153149},-98.083343072802776,{"$f":"VLOOKUP($A225,Sheet1!$1:$1048576,11,FALSE)","v":166.67236946359927},-82.620716052404802,{"$f":"VLOOKUP($A225,Sheet1!$1:$1048576,12,FALSE)","v":128.89839668670095},-54.378341500109364]
[13060,{"$f":"VLOOKUP($A226,BasinData!$1:$1048576,2,FALSE)","v":0.9609315258950295},35.805893405143649,{"$f":"VLOOKUP($A226,BasinData!$1:$1048576,3,FALSE)","v":31.152770759322504},{"$f":"VLOOKUP($A226,BasinData!$1:$1048576,4,FALSE)","v":24.889129259058951},{"$f":"VLOOKUP($A226,BasinData!$1:$1048576,5,FALSE)","v":5.4444087935500001},124.38428404138523,{"$f":"VLOOKUP($A226,Sheet1!$1:$1048576,9,FALSE)","v":197.28646605936638},-14.884335001285338,{"$f":"VLOOKUP($A226,Sheet1!$1:$1048576,10,FALSE)","v":185.13610015486483},-7.8990949804791519,{"$f":"VLOOKUP($A226,Sheet1!$1:$1048576,11,FALSE)","v":160.83536834586178},7.563534869034962,{"$f":"VLOOKUP($A226,Sheet1!$1:$1048576,12,FALSE)","v":124.38427063235719},35.805893405143649]
[13061,{"$f":"VLOOKUP($A227,BasinData!$1:$1048576,2,FALSE)","v":0.79713982088446977},32.883157467415487,{"$f":"VLOOKUP($A227,BasinData!$1:$1048576,3,FALSE)","v":11.001145932654962},{"$f":"VLOOKUP($A227,BasinData!$1:$1048576,4,FALSE)","v":37.246680642907059},{"$f":"VLOOKUP($A227,BasinData!$1:$1048576,5,FALSE)","v":6.1573562417769496},88.235119470159162,{"$f":"VLOOKUP($A227,Sheet1!$1:$1048576,9,FALSE)","v":139.94956156480242},-17.805989962109482,{"$f":"VLOOKUP($A227,Sheet1!$1:$1048576,10,FALSE)","v":131.33042810292963},-10.821616445455867,{"$f":"VLOOKUP($A227,Sheet1!$1:$1048576,11,FALSE)","v":114.09216117918407},4.6412080459052021,{"$f":"VLOOKUP($A227,Sheet1!$1:$1048576,12,FALSE)","v":88.234760793565727},32.883157467415487]
[13062,{"$f":"VLOOKUP($A228,BasinData!$1:$1048576,2,FALSE)","v":0.76420854127083326},7.3881125193478452,{"$f":"VLOOKUP($A228,BasinData!$1:$1048576,3,FALSE)","v":4.5331289277653166},{"$f":"VLOOKUP($A228,BasinData!$1:$1048576,4,FALSE)","v":14.285714285714285},{"$f":"VLOOKUP($A228,BasinData!$1:$1048576,5,FALSE)","v":12.3773303588444},171.80207601195846,{"$f":"VLOOKUP($A228,Sheet1!$1:$1048576,9,FALSE)","v":272.49499265817411},-43.301659091284733,{"$f":"VLOOKUP($A228,Sheet1!$1:$1048576,10,FALSE)","v":255.71272708226294},-36.316454839897609,{"$f":"VLOOKUP($A228,Sheet1!$1:$1048576,11,FALSE)","v":222.14819593044058},-20.853827165709099,{"$f":"VLOOKUP($A228,Sheet1!$1:$1048576,12,FALSE)","v":171.80139920270699},7.3881125193478452]
[13063,{"$f":"VLOOKUP($A229,BasinData!$1:$1048576,2,FALSE)","v":0.48414218713257573},34.511939268854384,{"$f":"VLOOKUP($A229,BasinData!$1:$1048576,3,FALSE)","v":43.122258351532153},{"$f":"VLOOKUP($A229,BasinData!$1:$1048576,4,FALSE)","v":28.980044345898005},{"$f":"VLOOKUP($A229,BasinData!$1:$1048576,5,FALSE)","v":5.7600725190245701},115.03074292023788,{"$f":"VLOOKUP($A229,Sheet1!$1:$1048576,9,FALSE)","v":182.45064049075086},-16.178199112942867,{"$f":"VLOOKUP($A229,Sheet1!$1:$1048576,10,FALSE)","v":171.21397491630538},-9.1933816633464449,{"$f":"VLOOKUP($A229,Sheet1!$1:$1048576,11,FALSE)","v":148.74064376741444},6.2692082768761077,{"$f":"VLOOKUP($A229,Sheet1!$1:$1048576,12,FALSE)","v":115.03064704407805},34.511939268854384]
[13064,{"$f":"VLOOKUP($A230,BasinData!$1:$1048576,2,FALSE)","v":0.78002359308712121},9.5390095487049642,{"$f":"VLOOKUP($A230,BasinData!$1:$1048576,3,FALSE)","v":2.5016110720206632},{"$f":"VLOOKUP($A230,BasinData!$1:$1048576,4,FALSE)","v":19.027484143763214},{"$f":"VLOOKUP($A230,BasinData!$1:$1048576,5,FALSE)","v":11.852532788900399},149.60212447965046,{"$f":"VLOOKUP($A230,Sheet1!$1:$1048576,9,FALSE)","v":237.28326184611745},-41.150601110133934,{"$f":"VLOOKUP($A230,Sheet1!$1:$1048576,10,FALSE)","v":222.66959618505578},-34.165361574676588,{"$f":"VLOOKUP($A230,Sheet1!$1:$1048576,11,FALSE)","v":193.4422648629324},-18.702736265147671,{"$f":"VLOOKUP($A230,Sheet1!$1:$1048576,12,FALSE)","v":149.6012678797473},9.5390095487049642]
[13065,{"$f":"VLOOKUP($A231,BasinData!$1:$1048576,2,FALSE)","v":6.8284228769497399E-2},-26.117683354880821,{"$f":"VLOOKUP($A231,BasinData!$1:$1048576,3,FALSE)","v":26.451663117895645},{"$f":"VLOOKUP($A231,BasinData!$1:$1048576,4,FALSE)","v":28.69902645113887},{"$f":"VLOOKUP($A231,BasinData!$1:$1048576,5,FALSE)","v":20.551704432400001},120.09157821798942,{"$f":"VLOOKUP($A231,Sheet1!$1:$1048576,9,FALSE)","v":190.47732508125918},-76.807634810516745,{"$f":"VLOOKUP($A231,Sheet1!$1:$1048576,10,FALSE)","v":178.74631665237101},-69.822410297799124,{"$f":"VLOOKUP($A231,Sheet1!$1:$1048576,11,FALSE)","v":155.28429979459469},-54.359814662645697,{"$f":"VLOOKUP($A231,Sheet1!$1:$1048576,12,FALSE)","v":120.09127450793018},-26.117683354880821]
[13066,{"$f":"VLOOKUP($A232,BasinData!$1:$1048576,2,FALSE)","v":5.5288496560984843E-3},44.810526629924311,{"$f":"VLOOKUP($A232,BasinData!$1:$1048576,3,FALSE)","v":4.4812221766344589},{"$f":"VLOOKUP($A232,BasinData!$1:$1048576,4,FALSE)","v":23.368490441661173},{"$f":"VLOOKUP($A232,BasinData!$1:$1048576,5,FALSE)","v":3.2475699778500222},140.83317732242799,{"$f":"VLOOKUP($A232,Sheet1!$1:$1048576,9,FALSE)","v":223.37614548720677},-5.8797052692198619,{"$f":"VLOOKUP($A232,Sheet1!$1:$1048576,10,FALSE)","v":209.61898334517713},1.1055299678602042,{"$f":"VLOOKUP($A232,Sheet1!$1:$1048576,11,FALSE)","v":182.10465906111784},16.567817680848879,{"$f":"VLOOKUP($A232,Sheet1!$1:$1048576,12,FALSE)","v":140.83317263502892},44.810526629924311]
[13067,{"$f":"VLOOKUP($A233,BasinData!$1:$1048576,2,FALSE)","v":0.85344010800189396},-11.180700957873482,{"$f":"VLOOKUP($A233,BasinData!$1:$1048576,3,FALSE)","v":16.506505613293438},{"$f":"VLOOKUP($A233,BasinData!$1:$1048576,4,FALSE)","v":12.668573763792399},{"$f":"VLOOKUP($A233,BasinData!$1:$1048576,5,FALSE)","v":16.90762896305311},178.67688582504871,{"$f":"VLOOKUP($A233,Sheet1!$1:$1048576,9,FALSE)","v":283.40023255521226},-61.870931639512428,{"$f":"VLOOKUP($A233,Sheet1!$1:$1048576,10,FALSE)","v":265.94634130891421},-54.885705701401193,{"$f":"VLOOKUP($A233,Sheet1!$1:$1048576,11,FALSE)","v":231.03855881631804},-39.42314210662505,{"$f":"VLOOKUP($A233,Sheet1!$1:$1048576,12,FALSE)","v":178.67688507742383},-11.180700957873482]
[13068,{"$f":"VLOOKUP($A234,BasinData!$1:$1048576,2,FALSE)","v":0.32646065760606058},7.329849862629791,{"$f":"VLOOKUP($A234,BasinData!$1:$1048576,3,FALSE)","v":35.039087158754477},{"$f":"VLOOKUP($A234,BasinData!$1:$1048576,4,FALSE)","v":10.770328102710414},{"$f":"VLOOKUP($A234,BasinData!$1:$1048576,5,FALSE)","v":12.391545692323501},197.29666989819779,{"$f":"VLOOKUP($A234,Sheet1!$1:$1048576,9,FALSE)","v":312.93193952386855},-43.359918582869831,{"$f":"VLOOKUP($A234,Sheet1!$1:$1048576,10,FALSE)","v":293.65926641877985},-36.374722084195469,{"$f":"VLOOKUP($A234,Sheet1!$1:$1048576,11,FALSE)","v":255.11392020860242},-20.912094356844197,{"$f":"VLOOKUP($A234,Sheet1!$1:$1048576,12,FALSE)","v":197.29590089333627},7.329849862629791]
[13069,{"$f":"VLOOKUP($A235,BasinData!$1:$1048576,2,FALSE)","v":0.73242306864015161},-63.816617972814051,{"$f":"VLOOKUP($A235,BasinData!$1:$1048576,3,FALSE)","v":1.1823841264807102},{"$f":"VLOOKUP($A235,BasinData!$1:$1048576,4,FALSE)","v":7.1294559099437143},{"$f":"VLOOKUP($A235,BasinData!$1:$1048576,5,FALSE)","v":29.749099146683601},211.83867368863915,{"$f":"VLOOKUP($A235,Sheet1!$1:$1048576,9,FALSE)","v":335.99829485999339},-114.50677426708734,{"$f":"VLOOKUP($A235,Sheet1!$1:$1048576,10,FALSE)","v":315.30502427036754},-107.52162078786587,{"$f":"VLOOKUP($A235,Sheet1!$1:$1048576,11,FALSE)","v":273.91848309111572},-92.058989382849788,{"$f":"VLOOKUP($A235,Sheet1!$1:$1048576,12,FALSE)","v":211.83867132223796},-63.816617972814051]
[13070,{"$f":"VLOOKUP($A236,BasinData!$1:$1048576,2,FALSE)","v":0.3182889847310606},3.3678499943461127,{"$f":"VLOOKUP($A236,BasinData!$1:$1048576,3,FALSE)","v":4.6285371520638181},{"$f":"VLOOKUP($A236,BasinData!$1:$1048576,4,FALSE)","v":21.544451654769631},{"$f":"VLOOKUP($A236,BasinData!$1:$1048576,5,FALSE)","v":13.3582040337797},144.60713146127031,{"$f":"VLOOKUP($A236,Sheet1!$1:$1048576,9,FALSE)","v":229.3616398327645},-47.321982185311001,{"$f":"VLOOKUP($A236,Sheet1!$1:$1048576,10,FALSE)","v":215.23584649230298},-40.337379266772828,{"$f":"VLOOKUP($A236,Sheet1!$1:$1048576,11,FALSE)","v":186.98425981137999},-24.874328669265907,{"$f":"VLOOKUP($A236,Sheet1!$1:$1048576,12,FALSE)","v":144.60687978999545},3.3678499943461127]
[13071,{"$f":"VLOOKUP($A237,BasinData!$1:$1048576,2,FALSE)","v":9.3350213219616202E-2},-29.138710723791387,{"$f":"VLOOKUP($A237,BasinData!$1:$1048576,3,FALSE)","v":20.881811121283118},{"$f":"VLOOKUP($A237,BasinData!$1:$1048576,4,FALSE)","v":25.11206836170064},{"$f":"VLOOKUP($A237,BasinData!$1:$1048576,5,FALSE)","v":21.288754579700001},132.92851841309246,{"$f":"VLOOKUP($A237,Sheet1!$1:$1048576,9,FALSE)","v":210.83813473658844},-79.828600143047552,{"$f":"VLOOKUP($A237,Sheet1!$1:$1048576,10,FALSE)","v":197.85315642134367},-72.843505887348059,{"$f":"VLOOKUP($A237,Sheet1!$1:$1048576,11,FALSE)","v":171.88319979085415},-57.380905252959479,{"$f":"VLOOKUP($A237,Sheet1!$1:$1048576,12,FALSE)","v":132.92826484511986},-29.138710723791387]
[14002,{"$f":"VLOOKUP($A238,BasinData!$1:$1048576,2,FALSE)","v":1.1281677059838131},52.789680594894719,{"$f":"VLOOKUP($A238,BasinData!$1:$1048576,3,FALSE)","v":3.8407989864228673},{"$f":"VLOOKUP($A238,BasinData!$1:$1048576,4,FALSE)","v":10.942924593806417},{"$f":"VLOOKUP($A238,BasinData!$1:$1048576,5,FALSE)","v":1.3008637868399999},183.52943792248837,{"$f":"VLOOKUP($A238,Sheet1!$1:$1048576,9,FALSE)","v":291.09634377109836},2.0996565280356103,{"$f":"VLOOKUP($A238,Sheet1!$1:$1048576,10,FALSE)","v":273.16846883406595},9.0848701059621035,{"$f":"VLOOKUP($A238,Sheet1!$1:$1048576,11,FALSE)","v":237.31271896000115},24.547517627173605,{"$f":"VLOOKUP($A238,Sheet1!$1:$1048576,12,FALSE)","v":183.52909414890388},52.789680594894719]
[14003,{"$f":"VLOOKUP($A239,BasinData!$1:$1048576,2,FALSE)","v":1.2584380659943182},49.946519478833153,{"$f":"VLOOKUP($A239,BasinData!$1:$1048576,3,FALSE)","v":20.263345678185718},{"$f":"VLOOKUP($A239,BasinData!$1:$1048576,4,FALSE)","v":9.2832915499188911},{"$f":"VLOOKUP($A239,BasinData!$1:$1048576,5,FALSE)","v":1.99446372662},190.45143970819842,{"$f":"VLOOKUP($A239,Sheet1!$1:$1048576,9,FALSE)","v":302.07489259497947},-0.74334206769617839,{"$f":"VLOOKUP($A239,Sheet1!$1:$1048576,10,FALSE)","v":283.47087707935083},6.2418886941866454,{"$f":"VLOOKUP($A239,Sheet1!$1:$1048576,11,FALSE)","v":246.26284604809348},21.704509459475073,{"$f":"VLOOKUP($A239,Sheet1!$1:$1048576,12,FALSE)","v":190.45079950120746},49.946519478833153]
[14004,{"$f":"VLOOKUP($A240,BasinData!$1:$1048576,2,FALSE)","v":1.6509398661875001},48.886310605241746,{"$f":"VLOOKUP($A240,BasinData!$1:$1048576,3,FALSE)","v":1.0058072761920283},{"$f":"VLOOKUP($A240,BasinData!$1:$1048576,4,FALSE)","v":25.677852348993291},{"$f":"VLOOKUP($A240,BasinData!$1:$1048576,5,FALSE)","v":2.2531009898600001},114.73498892611406,{"$f":"VLOOKUP($A240,Sheet1!$1:$1048576,9,FALSE)","v":181.98095105140669},-1.8034712277422262,{"$f":"VLOOKUP($A240,Sheet1!$1:$1048576,10,FALSE)","v":170.77321244120517},5.1815948517073807,{"$f":"VLOOKUP($A240,Sheet1!$1:$1048576,11,FALSE)","v":148.35773522080211},20.64436699039365,{"$f":"VLOOKUP($A240,Sheet1!$1:$1048576,12,FALSE)","v":114.73451939019751},48.886310605241746]
[14005,{"$f":"VLOOKUP($A241,BasinData!$1:$1048576,2,FALSE)","v":2.0269823139772729},45.16095677512417,{"$f":"VLOOKUP($A241,BasinData!$1:$1048576,3,FALSE)","v":1.5116634454855995},{"$f":"VLOOKUP($A241,BasinData!$1:$1048576,4,FALSE)","v":7.7498408656906426},{"$f":"VLOOKUP($A241,BasinData!$1:$1048576,5,FALSE)","v":3.1620766818699999},186.6346416438063,{"$f":"VLOOKUP($A241,Sheet1!$1:$1048576,9,FALSE)","v":296.02206139881912},-5.5292762206796082,{"$f":"VLOOKUP($A241,Sheet1!$1:$1048576,10,FALSE)","v":277.79082418501986},1.4559584482514101,{"$f":"VLOOKUP($A241,Sheet1!$1:$1048576,11,FALSE)","v":241.32834975742125},16.918578326340821,{"$f":"VLOOKUP($A241,Sheet1!$1:$1048576,12,FALSE)","v":186.63463811602338},45.16095677512417]
[14006,{"$f":"VLOOKUP($A242,BasinData!$1:$1048576,2,FALSE)","v":1.9153938577083331},41.823548118238229,{"$f":"VLOOKUP($A242,BasinData!$1:$1048576,3,FALSE)","v":5.8003436739730692},{"$f":"VLOOKUP($A242,BasinData!$1:$1048576,4,FALSE)","v":12.377727614747931},{"$f":"VLOOKUP($A242,BasinData!$1:$1048576,5,FALSE)","v":3.9762822822400001},164.80796883419708,{"$f":"VLOOKUP($A242,Sheet1!$1:$1048576,9,FALSE)","v":261.40253177273297},-8.8666305798987644,{"$f":"VLOOKUP($A242,Sheet1!$1:$1048576,10,FALSE)","v":245.3034223262388},-1.8814308453012503,{"$f":"VLOOKUP($A242,Sheet1!$1:$1048576,11,FALSE)","v":213.10520343325052},13.581240243757671,{"$f":"VLOOKUP($A242,Sheet1!$1:$1048576,12,FALSE)","v":164.80787509376808},41.823548118238229]
[14007,{"$f":"VLOOKUP($A243,BasinData!$1:$1048576,2,FALSE)","v":2.3099390639204542},51.086510582718034,{"$f":"VLOOKUP($A243,BasinData!$1:$1048576,3,FALSE)","v":3.0104989218989413},{"$f":"VLOOKUP($A243,BasinData!$1:$1048576,4,FALSE)","v":12.339228295819936},{"$f":"VLOOKUP($A243,BasinData!$1:$1048576,5,FALSE)","v":1.71636063181},159.61328533716113,{"$f":"VLOOKUP($A243,Sheet1!$1:$1048576,9,FALSE)","v":253.16268848902283},0.39657551549656783,{"$f":"VLOOKUP($A243,Sheet1!$1:$1048576,10,FALSE)","v":237.57104979251261},7.381459332865675,{"$f":"VLOOKUP($A243,Sheet1!$1:$1048576,11,FALSE)","v":206.38777239949218},22.844433907712471,{"$f":"VLOOKUP($A243,Sheet1!$1:$1048576,12,FALSE)","v":159.61285630996153},51.086510582718034]
[14008,{"$f":"VLOOKUP($A244,BasinData!$1:$1048576,2,FALSE)","v":1.087228870605834},48.690776516398472,{"$f":"VLOOKUP($A244,BasinData!$1:$1048576,3,FALSE)","v":38.318073596417072},{"$f":"VLOOKUP($A244,BasinData!$1:$1048576,4,FALSE)","v":13.872439568973885},{"$f":"VLOOKUP($A244,BasinData!$1:$1048576,5,FALSE)","v":2.30080108682},169.21216207895603,{"$f":"VLOOKUP($A244,Sheet1!$1:$1048576,9,FALSE)","v":268.3870540168266},-1.9989893336296254,{"$f":"VLOOKUP($A244,Sheet1!$1:$1048576,10,FALSE)","v":251.85778581373361},4.986194181763989,{"$f":"VLOOKUP($A244,Sheet1!$1:$1048576,11,FALSE)","v":218.79924940754773},20.448845434137347,{"$f":"VLOOKUP($A244,Sheet1!$1:$1048576,12,FALSE)","v":169.21144479826887},48.690776516398472]
[14009,{"$f":"VLOOKUP($A245,BasinData!$1:$1048576,2,FALSE)","v":3.2319815333522723},43.58675351016246,{"$f":"VLOOKUP($A245,BasinData!$1:$1048576,3,FALSE)","v":1.8079465330918154},{"$f":"VLOOKUP($A245,BasinData!$1:$1048576,4,FALSE)","v":12.734082397003746},{"$f":"VLOOKUP($A245,BasinData!$1:$1048576,5,FALSE)","v":3.5461283377499999},146.04116382616903,{"$f":"VLOOKUP($A245,Sheet1!$1:$1048576,9,FALSE)","v":231.63653150870425},-7.1034684159114692,{"$f":"VLOOKUP($A245,Sheet1!$1:$1048576,10,FALSE)","v":217.37063344231868},-0.11859944592378333,{"$f":"VLOOKUP($A245,Sheet1!$1:$1048576,11,FALSE)","v":188.83883730954756},15.344399133032971,{"$f":"VLOOKUP($A245,Sheet1!$1:$1048576,12,FALSE)","v":146.04114311039086},43.58675351016246]
[14010,{"$f":"VLOOKUP($A246,BasinData!$1:$1048576,2,FALSE)","v":0.64366039860037882},35.281612955150443,{"$f":"VLOOKUP($A246,BasinData!$1:$1048576,3,FALSE)","v":100},{"$f":"VLOOKUP($A246,BasinData!$1:$1048576,4,FALSE)","v":29.292429490351314},{"$f":"VLOOKUP($A246,BasinData!$1:$1048576,5,FALSE)","v":5.5723116065999996},112.47954843487548,{"$f":"VLOOKUP($A246,Sheet1!$1:$1048576,9,FALSE)","v":178.40428036553627},-15.408589986299345,{"$f":"VLOOKUP($A246,Sheet1!$1:$1048576,10,FALSE)","v":167.4168197015176},-8.4238821844780727,{"$f":"VLOOKUP($A246,Sheet1!$1:$1048576,11,FALSE)","v":145.44189837348023},7.0392748802208418,{"$f":"VLOOKUP($A246,Sheet1!$1:$1048576,12,FALSE)","v":112.47951638142419},35.281612955150443]
[14011,{"$f":"VLOOKUP($A247,BasinData!$1:$1048576,2,FALSE)","v":3.4788104025378788},52.280514731516071,{"$f":"VLOOKUP($A247,BasinData!$1:$1048576,3,FALSE)","v":3.466112484615409},{"$f":"VLOOKUP($A247,BasinData!$1:$1048576,4,FALSE)","v":4.7417930504895374},{"$f":"VLOOKUP($A247,BasinData!$1:$1048576,5,FALSE)","v":1.42507794297},180.21201442889853,{"$f":"VLOOKUP($A247,Sheet1!$1:$1048576,9,FALSE)","v":285.83450963930756},1.5905148489103,{"$f":"VLOOKUP($A247,Sheet1!$1:$1048576,10,FALSE)","v":268.23069752983281},8.5753555805439454,{"$f":"VLOOKUP($A247,Sheet1!$1:$1048576,11,FALSE)","v":233.02307331088326},24.038375689430037,{"$f":"VLOOKUP($A247,Sheet1!$1:$1048576,12,FALSE)","v":180.21163698245894},52.280514731516071]
[14012,{"$f":"VLOOKUP($A248,BasinData!$1:$1048576,2,FALSE)","v":1.6679794657727274},37.094400876590484,{"$f":"VLOOKUP($A248,BasinData!$1:$1048576,3,FALSE)","v":2.1662697099530157},{"$f":"VLOOKUP($A248,BasinData!$1:$1048576,4,FALSE)","v":41.373192584050386},{"$f":"VLOOKUP($A248,BasinData!$1:$1048576,5,FALSE)","v":5.12991270798},72.791534726452667,{"$f":"VLOOKUP($A248,Sheet1!$1:$1048576,9,FALSE)","v":115.45436664258543},-13.595264884558961,{"$f":"VLOOKUP($A248,Sheet1!$1:$1048576,10,FALSE)","v":108.34382921951777},-6.6108644205728631,{"$f":"VLOOKUP($A248,Sheet1!$1:$1048576,11,FALSE)","v":94.122754373382492},8.8526172522461195,{"$f":"VLOOKUP($A248,Sheet1!$1:$1048576,12,FALSE)","v":72.791142104179585},37.094400876590484]
[14013,{"$f":"VLOOKUP($A249,BasinData!$1:$1048576,2,FALSE)","v":3.2457786119696972},55.95468118254766,{"$f":"VLOOKUP($A249,BasinData!$1:$1048576,3,FALSE)","v":3.1149432795252365},{"$f":"VLOOKUP($A249,BasinData!$1:$1048576,4,FALSE)","v":5.1455301455301461},{"$f":"VLOOKUP($A249,BasinData!$1:$1048576,5,FALSE)","v":0.52873272377900005},181.64231407216383,{"$f":"VLOOKUP($A249,Sheet1!$1:$1048576,9,FALSE)","v":288.10346643724978},5.2645459345599113,{"$f":"VLOOKUP($A249,Sheet1!$1:$1048576,10,FALSE)","v":270.35991511571871},12.249774815080441,{"$f":"VLOOKUP($A249,Sheet1!$1:$1048576,11,FALSE)","v":234.87281247265662},27.712389779479146,{"$f":"VLOOKUP($A249,Sheet1!$1:$1048576,12,FALSE)","v":181.64215850806346},55.95468118254766]
[14014,{"$f":"VLOOKUP($A250,BasinData!$1:$1048576,2,FALSE)","v":2.2694639756628785},55.451608343247734,{"$f":"VLOOKUP($A250,BasinData!$1:$1048576,3,FALSE)","v":3.1170270163383957},{"$f":"VLOOKUP($A250,BasinData!$1:$1048576,4,FALSE)","v":12.097130242825607},{"$f":"VLOOKUP($A250,BasinData!$1:$1048576,5,FALSE)","v":0.65146296205599996},161.28109231046616,{"$f":"VLOOKUP($A250,Sheet1!$1:$1048576,9,FALSE)","v":255.80843426765884},4.7614867682402222,{"$f":"VLOOKUP($A250,Sheet1!$1:$1048576,10,FALSE)","v":240.05385089510054},11.746715524969224,{"$f":"VLOOKUP($A250,Sheet1!$1:$1048576,11,FALSE)","v":208.54468414998391},27.209327365216453,{"$f":"VLOOKUP($A250,Sheet1!$1:$1048576,12,FALSE)","v":161.28093403230898},55.451608343247734]
[14015,{"$f":"VLOOKUP($A251,BasinData!$1:$1048576,2,FALSE)","v":1.5714006901515154},44.653438892112817,{"$f":"VLOOKUP($A251,BasinData!$1:$1048576,3,FALSE)","v":3.4744356688506444},{"$f":"VLOOKUP($A251,BasinData!$1:$1048576,4,FALSE)","v":19.257540603248259},{"$f":"VLOOKUP($A251,BasinData!$1:$1048576,5,FALSE)","v":3.2858941079399999},139.05218223570819,{"$f":"VLOOKUP($A251,Sheet1!$1:$1048576,9,FALSE)","v":220.55129920531502},-6.0367923154802137,{"$f":"VLOOKUP($A251,Sheet1!$1:$1048576,10,FALSE)","v":206.96811207857419},0.9484431810690972,{"$f":"VLOOKUP($A251,Sheet1!$1:$1048576,11,FALSE)","v":179.80173782509254},16.411073383707251,{"$f":"VLOOKUP($A251,Sheet1!$1:$1048576,12,FALSE)","v":139.05217644487007},44.653438892112817]
[14016,{"$f":"VLOOKUP($A252,BasinData!$1:$1048576,2,FALSE)","v":3.4676982734469703},44.984603934925161,{"$f":"VLOOKUP($A252,BasinData!$1:$1048576,3,FALSE)","v":3.1354572444448161},{"$f":"VLOOKUP($A252,BasinData!$1:$1048576,4,FALSE)","v":10.819949281487743},{"$f":"VLOOKUP($A252,BasinData!$1:$1048576,5,FALSE)","v":3.2051009264800001},151.32149060998577,{"$f":"VLOOKUP($A252,Sheet1!$1:$1048576,9,FALSE)","v":240.01170896053338},-5.7056285836395944,{"$f":"VLOOKUP($A252,Sheet1!$1:$1048576,10,FALSE)","v":225.23000526091076},1.2796063695410225,{"$f":"VLOOKUP($A252,Sheet1!$1:$1048576,11,FALSE)","v":195.66659786166551},16.742216834693306,{"$f":"VLOOKUP($A252,Sheet1!$1:$1048576,12,FALSE)","v":151.32148676279763},44.984603934925161]
[14017,{"$f":"VLOOKUP($A253,BasinData!$1:$1048576,2,FALSE)","v":0.34300910746780305},27.758321147011234,{"$f":"VLOOKUP($A253,BasinData!$1:$1048576,3,FALSE)","v":23.409155369789222},{"$f":"VLOOKUP($A253,BasinData!$1:$1048576,4,FALSE)","v":56.958525345622121},{"$f":"VLOOKUP($A253,BasinData!$1:$1048576,5,FALSE)","v":7.4077593477599999},51.856262390768123,{"$f":"VLOOKUP($A253,Sheet1!$1:$1048576,9,FALSE)","v":82.249453987718141},-22.931586994740744,{"$f":"VLOOKUP($A253,Sheet1!$1:$1048576,10,FALSE)","v":77.183921711948585},-15.946676233792948,{"$f":"VLOOKUP($A253,Sheet1!$1:$1048576,11,FALSE)","v":67.052857160409445},-0.48404631820342481,{"$f":"VLOOKUP($A253,Sheet1!$1:$1048576,12,FALSE)","v":51.856260333100728},27.758321147011234]
[14018,{"$f":"VLOOKUP($A254,BasinData!$1:$1048576,2,FALSE)","v":0.15271311857026518},26.402204326590859,{"$f":"VLOOKUP($A254,BasinData!$1:$1048576,3,FALSE)","v":8.8964880435993656},{"$f":"VLOOKUP($A254,BasinData!$1:$1048576,4,FALSE)","v":63.521192361434565},{"$f":"VLOOKUP($A254,BasinData!$1:$1048576,5,FALSE)","v":7.7386062143299998},43.588770839391003,{"$f":"VLOOKUP($A254,Sheet1!$1:$1048576,9,FALSE)","v":69.136342797677273},-24.287373405772371,{"$f":"VLOOKUP($A254,Sheet1!$1:$1048576,10,FALSE)","v":64.878413305250504},-17.302784651598092,{"$f":"VLOOKUP($A254,Sheet1!$1:$1048576,11,FALSE)","v":56.362554320396974},-1.8401530450641683,{"$f":"VLOOKUP($A254,Sheet1!$1:$1048576,12,FALSE)","v":43.588765843116676},26.402204326590859]
[14019,{"$f":"VLOOKUP($A255,BasinData!$1:$1048576,2,FALSE)","v":1.0774007078371213},-34.577726249953606,{"$f":"VLOOKUP($A255,BasinData!$1:$1048576,3,FALSE)","v":0.68143492832523467},{"$f":"VLOOKUP($A255,BasinData!$1:$1048576,4,FALSE)","v":9.8337292161520189},{"$f":"VLOOKUP($A255,BasinData!$1:$1048576,5,FALSE)","v":22.6157216967},190.31763810308038,{"$f":"VLOOKUP($A255,Sheet1!$1:$1048576,9,FALSE)","v":301.86336006933971},-85.26783824954515,{"$f":"VLOOKUP($A255,Sheet1!$1:$1048576,10,FALSE)","v":283.27237229777563},-78.282612739859943,{"$f":"VLOOKUP($A255,Sheet1!$1:$1048576,11,FALSE)","v":246.09039675464743},-62.820004215027112,{"$f":"VLOOKUP($A255,Sheet1!$1:$1048576,12,FALSE)","v":190.31743343995515},-34.577726249953606]
[14020,{"$f":"VLOOKUP($A256,BasinData!$1:$1048576,2,FALSE)","v":0.54397110114598901},39.825744235640279,{"$f":"VLOOKUP($A256,BasinData!$1:$1048576,3,FALSE)","v":6.2645107393553934},{"$f":"VLOOKUP($A256,BasinData!$1:$1048576,4,FALSE)","v":15.177700966055127},{"$f":"VLOOKUP($A256,BasinData!$1:$1048576,5,FALSE)","v":4.4636508453800001},170.55578372879609,{"$f":"VLOOKUP($A256,Sheet1!$1:$1048576,9,FALSE)","v":270.51884638886418},-10.864311875438057,{"$f":"VLOOKUP($A256,Sheet1!$1:$1048576,10,FALSE)","v":253.85828657783657},-3.8790656471684755,{"$f":"VLOOKUP($A256,Sheet1!$1:$1048576,11,FALSE)","v":220.53716695578134},11.583564971555347,{"$f":"VLOOKUP($A256,Sheet1!$1:$1048576,12,FALSE)","v":170.55548752269848},39.825744235640279]
[14021,{"$f":"VLOOKUP($A257,BasinData!$1:$1048576,2,FALSE)","v":1.1412666596382575},41.047248133404608,{"$f":"VLOOKUP($A257,BasinData!$1:$1048576,3,FALSE)","v":3.6585748585976785},{"$f":"VLOOKUP($A257,BasinData!$1:$1048576,4,FALSE)","v":21.207012811867834},{"$f":"VLOOKUP($A257,BasinData!$1:$1048576,5,FALSE)","v":4.1656652442600004},{"$f":"EXP(6.1523-(0.084*B257)-(0.0091*C257)-(0.0289*E257)-(0.0373*F257))","v":136.27046971543189},{"$f":"VLOOKUP($A257,Sheet1!$1:$1048576,9,FALSE)","v":216.13902372903792},-9.6428946245618778,{"$f":"VLOOKUP($A257,Sheet1!$1:$1048576,10,FALSE)","v":202.82757729784026},-2.6576530652038923,{"$f":"VLOOKUP($A257,Sheet1!$1:$1048576,11,FALSE)","v":176.20468443544496},12.80496039897004,{"$f":"VLOOKUP($A257,Sheet1!$1:$1048576,12,FALSE)","v":136.27034514185198},41.047248133404608]
[14022,{"$f":"VLOOKUP($A258,BasinData!$1:$1048576,2,FALSE)","v":2.4980754710984843},40.183557175093171,{"$f":"VLOOKUP($A258,BasinData!$1:$1048576,3,FALSE)","v":61.822637685464166},{"$f":"VLOOKUP($A258,BasinData!$1:$1048576,4,FALSE)","v":44.868677042801558},{"$f":"VLOOKUP($A258,BasinData!$1:$1048576,5,FALSE)","v":4.3763635474200004},61.36552303018744,{"$f":"VLOOKUP($A258,Sheet1!$1:$1048576,9,FALSE)","v":97.331997830136814},-10.506528699097506,{"$f":"VLOOKUP($A258,Sheet1!$1:$1048576,10,FALSE)","v":91.337570480536243},-3.5212837173214853,{"$f":"VLOOKUP($A258,Sheet1!$1:$1048576,11,FALSE)","v":79.348715781335088},11.94134461096966,{"$f":"VLOOKUP($A258,Sheet1!$1:$1048576,12,FALSE)","v":61.365433732533361},40.183557175093171]
[14023,{"$f":"VLOOKUP($A259,BasinData!$1:$1048576,2,FALSE)","v":1.2006834971117426},51.25264627198024,{"$f":"VLOOKUP($A259,BasinData!$1:$1048576,3,FALSE)","v":2.2053552841070436},{"$f":"VLOOKUP($A259,BasinData!$1:$1048576,4,FALSE)","v":12.485089463220676},{"$f":"VLOOKUP($A259,BasinData!$1:$1048576,5,FALSE)","v":1.6758312586399999},174.46356333446687,{"$f":"VLOOKUP($A259,Sheet1!$1:$1048576,9,FALSE)","v":276.71674435816806},0.56270147046374308,{"$f":"VLOOKUP($A259,Sheet1!$1:$1048576,10,FALSE)","v":259.67447195595264},7.5479313166073743,{"$f":"VLOOKUP($A259,Sheet1!$1:$1048576,11,FALSE)","v":225.58992715152175},23.010560426181069,{"$f":"VLOOKUP($A259,Sheet1!$1:$1048576,12,FALSE)","v":174.46310994487544},51.25264627198024]
[14024,{"$f":"VLOOKUP($A260,BasinData!$1:$1048576,2,FALSE)","v":1.6168292085757576},-67.865586387558182,{"$f":"VLOOKUP($A260,BasinData!$1:$1048576,3,FALSE)","v":2.4478756178068566},{"$f":"VLOOKUP($A260,BasinData!$1:$1048576,4,FALSE)","v":8.3943387018057596},{"$f":"VLOOKUP($A260,BasinData!$1:$1048576,5,FALSE)","v":30.736917213400002},189.61198162793434,{"$f":"VLOOKUP($A260,Sheet1!$1:$1048576,9,FALSE)","v":300.74443672823725},-118.55580782413438,{"$f":"VLOOKUP($A260,Sheet1!$1:$1048576,10,FALSE)","v":282.2223605667042},-111.57058926597996,{"$f":"VLOOKUP($A260,Sheet1!$1:$1048576,11,FALSE)","v":245.17820824363804},-96.107956631973877,{"$f":"VLOOKUP($A260,Sheet1!$1:$1048576,12,FALSE)","v":189.61197975903883},-67.865586387558182]
[14025,{"$f":"VLOOKUP($A261,BasinData!$1:$1048576,2,FALSE)","v":1.0429791880606061},-82.728274767625422,{"$f":"VLOOKUP($A261,BasinData!$1:$1048576,3,FALSE)","v":0.34925180515211707},{"$f":"VLOOKUP($A261,BasinData!$1:$1048576,4,FALSE)","v":1.950947603121516},{"$f":"VLOOKUP($A261,BasinData!$1:$1048576,5,FALSE)","v":34.362935124000003},239.70216720762144,{"$f":"VLOOKUP($A261,Sheet1!$1:$1048576,9,FALSE)","v":380.19271205802266},-133.41854420870217,{"$f":"VLOOKUP($A261,Sheet1!$1:$1048576,10,FALSE)","v":356.77762100793666},-126.43327777563238,{"$f":"VLOOKUP($A261,Sheet1!$1:$1048576,11,FALSE)","v":309.94743890776465},-110.97064303909036,{"$f":"VLOOKUP($A261,Sheet1!$1:$1048576,12,FALSE)","v":239.70216575750661},-82.728274767625422]
[14026,{"$f":"VLOOKUP($A262,BasinData!$1:$1048576,2,FALSE)","v":4.6100934797159088},50.706866617679644,{"$f":"VLOOKUP($A262,BasinData!$1:$1048576,3,FALSE)","v":2.4773797070452752},{"$f":"VLOOKUP($A262,BasinData!$1:$1048576,4,FALSE)","v":12.837162837162838},{"$f":"VLOOKUP($A262,BasinData!$1:$1048576,5,FALSE)","v":1.80897585847},129.69050172234913,{"$f":"VLOOKUP($A262,Sheet1!$1:$1048576,9,FALSE)","v":205.70210714872178},1.695470828582301E-2,{"$f":"VLOOKUP($A262,Sheet1!$1:$1048576,10,FALSE)","v":193.03344355964489},7.0021847344419221,{"$f":"VLOOKUP($A262,Sheet1!$1:$1048576,11,FALSE)","v":167.69611638149109},22.464811456282568,{"$f":"VLOOKUP($A262,Sheet1!$1:$1048576,12,FALSE)","v":129.69012561426038},50.706866617679644]
[14027,{"$f":"VLOOKUP($A263,BasinData!$1:$1048576,2,FALSE)","v":4.0936239384659086},40.096899793758482,{"$f":"VLOOKUP($A263,BasinData!$1:$1048576,3,FALSE)","v":6.1909685691497067},{"$f":"VLOOKUP($A263,BasinData!$1:$1048576,4,FALSE)","v":12.537165510406343},{"$f":"VLOOKUP($A263,BasinData!$1:$1048576,5,FALSE)","v":4.3975034218499998},136.61993044079318,{"$f":"VLOOKUP($A263,Sheet1!$1:$1048576,9,FALSE)","v":216.69317320543524},-10.593179231933885,{"$f":"VLOOKUP($A263,Sheet1!$1:$1048576,10,FALSE)","v":203.34759813359386},-3.6079339539897237,{"$f":"VLOOKUP($A263,Sheet1!$1:$1048576,11,FALSE)","v":176.65644798991104},11.85469508212157,{"$f":"VLOOKUP($A263,Sheet1!$1:$1048576,12,FALSE)","v":136.61972277438679},40.096899793758482]
[14028,{"$f":"VLOOKUP($A264,BasinData!$1:$1048576,2,FALSE)","v":0.78293697014962127},42.488880005710293,{"$f":"VLOOKUP($A264,BasinData!$1:$1048576,3,FALSE)","v":6.4133085416770221},{"$f":"VLOOKUP($A264,BasinData!$1:$1048576,4,FALSE)","v":46.265141318977122},{"$f":"VLOOKUP($A264,BasinData!$1:$1048576,5,FALSE)","v":3.81396835423},68.071653798736747,{"$f":"VLOOKUP($A264,Sheet1!$1:$1048576,9,FALSE)","v":107.96872578034198},-8.2013203157111985,{"$f":"VLOOKUP($A264,Sheet1!$1:$1048576,10,FALSE)","v":101.31920972038486},-1.2162036965384448,{"$f":"VLOOKUP($A264,Sheet1!$1:$1048576,11,FALSE)","v":88.020177600470618},14.246525019957694,{"$f":"VLOOKUP($A264,Sheet1!$1:$1048576,12,FALSE)","v":68.071629420599237},42.488880005710293]
[14029,{"$f":"VLOOKUP($A265,BasinData!$1:$1048576,2,FALSE)","v":1.7199371352670454},50.214072970022109,{"$f":"VLOOKUP($A265,BasinData!$1:$1048576,3,FALSE)","v":5.8066976562030641},{"$f":"VLOOKUP($A265,BasinData!$1:$1048576,4,FALSE)","v":10.129349608307523},{"$f":"VLOOKUP($A265,BasinData!$1:$1048576,5,FALSE)","v":1.92919378947},178.78430595444945,{"$f":"VLOOKUP($A265,Sheet1!$1:$1048576,9,FALSE)","v":283.56970774712181},-0.4758069207060534,{"$f":"VLOOKUP($A265,Sheet1!$1:$1048576,10,FALSE)","v":266.1053789597467},6.5093519594298961,{"$f":"VLOOKUP($A265,Sheet1!$1:$1048576,11,FALSE)","v":231.17672138499648},21.972046778411588,{"$f":"VLOOKUP($A265,Sheet1!$1:$1048576,12,FALSE)","v":178.78373502287121},50.214072970022109]
[14030,{"$f":"VLOOKUP($A266,BasinData!$1:$1048576,2,FALSE)","v":2.6841591648295453},38.502569747027032,{"$f":"VLOOKUP($A266,BasinData!$1:$1048576,3,FALSE)","v":2.2982653983765609},{"$f":"VLOOKUP($A266,BasinData!$1:$1048576,4,FALSE)","v":18.305335968379445},{"$f":"VLOOKUP($A266,BasinData!$1:$1048576,5,FALSE)","v":4.7864253644100003},130.17756067531792,{"$f":"VLOOKUP($A266,Sheet1!$1:$1048576,9,FALSE)","v":206.47458285142127},-12.187337683326827,{"$f":"VLOOKUP($A266,Sheet1!$1:$1048576,10,FALSE)","v":193.75834447108974},-5.2020862570357718,{"$f":"VLOOKUP($A266,Sheet1!$1:$1048576,11,FALSE)","v":168.32586771042673},10.260521284426718,{"$f":"VLOOKUP($A266,Sheet1!$1:$1048576,12,FALSE)","v":130.17715256943217},38.502569747027032]
[14031,{"$f":"VLOOKUP($A267,BasinData!$1:$1048576,2,FALSE)","v":2.7917630590151519},49.461878927525383,{"$f":"VLOOKUP($A267,BasinData!$1:$1048576,3,FALSE)","v":2.9387118659194087},{"$f":"VLOOKUP($A267,BasinData!$1:$1048576,4,FALSE)","v":5.7677518584978209},{"$f":"VLOOKUP($A267,BasinData!$1:$1048576,5,FALSE)","v":2.1126918243800001},185.34099989044952,{"$f":"VLOOKUP($A267,Sheet1!$1:$1048576,9,FALSE)","v":293.96913329197503},-1.2279476034944374,{"$f":"VLOOKUP($A267,Sheet1!$1:$1048576,10,FALSE)","v":275.86433063890371},5.7572831771503745,{"$f":"VLOOKUP($A267,Sheet1!$1:$1048576,11,FALSE)","v":239.65472533276107},21.219898869745318,{"$f":"VLOOKUP($A267,Sheet1!$1:$1048576,12,FALSE)","v":185.34031737354712},49.461878927525383]
[14032,{"$f":"VLOOKUP($A268,BasinData!$1:$1048576,2,FALSE)","v":1.022428899121212},45.367139879998128,{"$f":"VLOOKUP($A268,BasinData!$1:$1048576,3,FALSE)","v":100},{"$f":"VLOOKUP($A268,BasinData!$1:$1048576,4,FALSE)","v":22.151088348271447},{"$f":"VLOOKUP($A268,BasinData!$1:$1048576,5,FALSE)","v":3.11177479927},133.93295598678284,{"$f":"VLOOKUP($A268,Sheet1!$1:$1048576,9,FALSE)","v":212.43167726234552},-5.3230935087746003,{"$f":"VLOOKUP($A268,Sheet1!$1:$1048576,10,FALSE)","v":199.34855676249441},1.6621408313556034,{"$f":"VLOOKUP($A268,Sheet1!$1:$1048576,11,FALSE)","v":173.1823157627922},17.124767372644897,{"$f":"VLOOKUP($A268,Sheet1!$1:$1048576,12,FALSE)","v":133.93295426323886},45.367139879998128]
[14033,{"$f":"VLOOKUP($A269,BasinData!$1:$1048576,2,FALSE)","v":3.8665696282196973},53.101193080104252,{"$f":"VLOOKUP($A269,BasinData!$1:$1048576,3,FALSE)","v":1.9658335511879006},{"$f":"VLOOKUP($A269,BasinData!$1:$1048576,4,FALSE)","v":18.215811965811966},{"$f":"VLOOKUP($A269,BasinData!$1:$1048576,5,FALSE)","v":1.2248681505300001},118.17454735452185,{"$f":"VLOOKUP($A269,Sheet1!$1:$1048576,9,FALSE)","v":187.43686788691156},2.4111552013338229,{"$f":"VLOOKUP($A269,Sheet1!$1:$1048576,10,FALSE)","v":175.89311339472874},9.3963845250400517,{"$f":"VLOOKUP($A269,Sheet1!$1:$1048576,11,FALSE)","v":152.80560441036306},24.858726032299806,{"$f":"VLOOKUP($A269,Sheet1!$1:$1048576,12,FALSE)","v":118.17434093381451},53.101193080104252]
[14034,{"$f":"VLOOKUP($A270,BasinData!$1:$1048576,2,FALSE)","v":1.5673589891363637},44.649668353401623,{"$f":"VLOOKUP($A270,BasinData!$1:$1048576,3,FALSE)","v":7.2522613464886385},{"$f":"VLOOKUP($A270,BasinData!$1:$1048576,4,FALSE)","v":35.467844327905048},{"$f":"VLOOKUP($A270,BasinData!$1:$1048576,5,FALSE)","v":3.2868139922399999},87.069878717587457,{"$f":"VLOOKUP($A270,Sheet1!$1:$1048576,9,FALSE)","v":138.10193094328636},-6.0405628357865435,{"$f":"VLOOKUP($A270,Sheet1!$1:$1048576,10,FALSE)","v":129.59658829816948},0.94391552993804084,{"$f":"VLOOKUP($A270,Sheet1!$1:$1048576,11,FALSE)","v":112.58590300793573},16.407302783906687,{"$f":"VLOOKUP($A270,Sheet1!$1:$1048576,12,FALSE)","v":87.069875072585106},44.649668353401623]
[14035,{"$f":"VLOOKUP($A271,BasinData!$1:$1048576,2,FALSE)","v":0.68022108172127904},35.911052048370692,{"$f":"VLOOKUP($A271,BasinData!$1:$1048576,3,FALSE)","v":5.0085859911220219},{"$f":"VLOOKUP($A271,BasinData!$1:$1048576,4,FALSE)","v":16.83251016850668},{"$f":"VLOOKUP($A271,BasinData!$1:$1048576,5,FALSE)","v":5.4187540670000001},160.74058383152089,{"$f":"VLOOKUP($A271,Sheet1!$1:$1048576,9,FALSE)","v":254.95136053319683},-14.779180380719302,{"$f":"VLOOKUP($A271,Sheet1!$1:$1048576,10,FALSE)","v":239.24956212703211},-7.7939388009680339,{"$f":"VLOOKUP($A271,Sheet1!$1:$1048576,11,FALSE)","v":207.84596531470262},7.6686907800865116,{"$f":"VLOOKUP($A271,Sheet1!$1:$1048576,12,FALSE)","v":160.74057009620842},35.911052048370692]
[14036,{"$f":"VLOOKUP($A272,BasinData!$1:$1048576,2,FALSE)","v":0.46085740913327122},47.306092405552576,{"$f":"VLOOKUP($A272,BasinData!$1:$1048576,3,FALSE)","v":30.763543532759122},{"$f":"VLOOKUP($A272,BasinData!$1:$1048576,4,FALSE)","v":18.189233278955953},{"$f":"VLOOKUP($A272,BasinData!$1:$1048576,5,FALSE)","v":2.6385885896799999},157.43526227367624,{"$f":"VLOOKUP($A272,Sheet1!$1:$1048576,9,FALSE)","v":249.70745047928625},-3.3835479576728797,{"$f":"VLOOKUP($A272,Sheet1!$1:$1048576,10,FALSE)","v":234.32861100283409},3.6013549699362715,{"$f":"VLOOKUP($A272,Sheet1!$1:$1048576,11,FALSE)","v":203.57093204992975},19.064312968382019,{"$f":"VLOOKUP($A272,Sheet1!$1:$1048576,12,FALSE)","v":157.43441362057325},47.306092405552576]
[14037,{"$f":"VLOOKUP($A273,BasinData!$1:$1048576,2,FALSE)","v":1.490401500217803},50.385881225401313,{"$f":"VLOOKUP($A273,BasinData!$1:$1048576,3,FALSE)","v":3.5670673319788944},{"$f":"VLOOKUP($A273,BasinData!$1:$1048576,4,FALSE)","v":18.451429586219145},{"$f":"VLOOKUP($A273,BasinData!$1:$1048576,5,FALSE)","v":1.8872809079299999},143.30179514308387,{"$f":"VLOOKUP($A273,Sheet1!$1:$1048576,9,FALSE)","v":227.29093699630303},-0.30401008515149902,{"$f":"VLOOKUP($A273,Sheet1!$1:$1048576,10,FALSE)","v":213.2926729164393},6.681220253052861,{"$f":"VLOOKUP($A273,Sheet1!$1:$1048576,11,FALSE)","v":185.29614475671178},22.143844808497132,{"$f":"VLOOKUP($A273,Sheet1!$1:$1048576,12,FALSE)","v":143.30135251712056},50.385881225401313]
[14038,{"$f":"VLOOKUP($A274,BasinData!$1:$1048576,2,FALSE)","v":2.9222188813636363},48.311244992643473,{"$f":"VLOOKUP($A274,BasinData!$1:$1048576,3,FALSE)","v":2.8342048573361032},{"$f":"VLOOKUP($A274,BasinData!$1:$1048576,4,FALSE)","v":8.2411701748127015},{"$f":"VLOOKUP($A274,BasinData!$1:$1048576,5,FALSE)","v":2.3933866343600001},170.67448485487236,{"$f":"VLOOKUP($A274,Sheet1!$1:$1048576,9,FALSE)","v":270.7063609793114},-2.3784885963167226,{"$f":"VLOOKUP($A274,Sheet1!$1:$1048576,10,FALSE)","v":254.03425262705903},4.6067428043375633,{"$f":"VLOOKUP($A274,Sheet1!$1:$1048576,11,FALSE)","v":220.69003592255436},20.069151284405446,{"$f":"VLOOKUP($A274,Sheet1!$1:$1048576,12,FALSE)","v":170.67371086579735},48.311244992643473]
[14039,{"$f":"VLOOKUP($A275,BasinData!$1:$1048576,2,FALSE)","v":0.11064425770308124},40.3824727796638,{"$f":"VLOOKUP($A275,BasinData!$1:$1048576,3,FALSE)","v":4.8846176751638923},{"$f":"VLOOKUP($A275,BasinData!$1:$1048576,4,FALSE)","v":35.09281599290955},{"$f":"VLOOKUP($A275,BasinData!$1:$1048576,5,FALSE)","v":4.32783832405},99.475822866856177,{"$f":"VLOOKUP($A275,Sheet1!$1:$1048576,9,FALSE)","v":157.77885470800044},-10.30762798353498,{"$f":"VLOOKUP($A275,Sheet1!$1:$1048576,10,FALSE)","v":148.06166094916188},-3.3223836681793668,{"$f":"VLOOKUP($A275,Sheet1!$1:$1048576,11,FALSE)","v":128.62727343148478},12.140242576321427,{"$f":"VLOOKUP($A275,Sheet1!$1:$1048576,12,FALSE)","v":99.475692154969096},40.3824727796638]
[14040,{"$f":"VLOOKUP($A276,BasinData!$1:$1048576,2,FALSE)","v":2.1445302989015156},51.598800785299147,{"$f":"VLOOKUP($A276,BasinData!$1:$1048576,3,FALSE)","v":2.2581201039485337},{"$f":"VLOOKUP($A276,BasinData!$1:$1048576,4,FALSE)","v":9.2183622828784113},{"$f":"VLOOKUP($A276,BasinData!$1:$1048576,5,FALSE)","v":1.5913854865399999},177.12240002105924,{"$f":"VLOOKUP($A276,Sheet1!$1:$1048576,9,FALSE)","v":280.93397676893994},0.9088364615713439,{"$f":"VLOOKUP($A276,Sheet1!$1:$1048576,10,FALSE)","v":263.63197587181708},7.8939333759599473,{"$f":"VLOOKUP($A276,Sheet1!$1:$1048576,11,FALSE)","v":229.0279740775714},23.356696323118879,{"$f":"VLOOKUP($A276,Sheet1!$1:$1048576,12,FALSE)","v":177.12197138620286},51.598800785299147]
[14041,{"$f":"VLOOKUP($A277,BasinData!$1:$1048576,2,FALSE)","v":0.84501079634659082},28.247738264950971,{"$f":"VLOOKUP($A277,BasinData!$1:$1048576,3,FALSE)","v":29.600123693979388},{"$f":"VLOOKUP($A277,BasinData!$1:$1048576,4,FALSE)","v":58.716875871687591},{"$f":"VLOOKUP($A277,BasinData!$1:$1048576,5,FALSE)","v":7.2883218919899999},47.251885392613083,{"$f":"VLOOKUP($A277,Sheet1!$1:$1048576,9,FALSE)","v":74.946331628937799},-22.442104540089087,{"$f":"VLOOKUP($A277,Sheet1!$1:$1048576,10,FALSE)","v":70.330579871198424},-15.457113978384891,{"$f":"VLOOKUP($A277,Sheet1!$1:$1048576,11,FALSE)","v":61.099076355719667},5.5150158593833742E-3,{"$f":"VLOOKUP($A277,Sheet1!$1:$1048576,12,FALSE)","v":47.251821082501529},28.247738264950971]
[14042,{"$f":"VLOOKUP($A278,BasinData!$1:$1048576,2,FALSE)","v":0.7510894642399385},44.95542318756489,{"$f":"VLOOKUP($A278,BasinData!$1:$1048576,3,FALSE)","v":3.4988156227761},{"$f":"VLOOKUP($A278,BasinData!$1:$1048576,4,FALSE)","v":12.935271899415326},{"$f":"VLOOKUP($A278,BasinData!$1:$1048576,5,FALSE)","v":3.2122200575500002},178.83596122882997,{"$f":"VLOOKUP($A278,Sheet1!$1:$1048576,9,FALSE)","v":283.65253641820385},-5.734809238196684,{"$f":"VLOOKUP($A278,Sheet1!$1:$1048576,10,FALSE)","v":266.18310642606224},1.2504257623293298,{"$f":"VLOOKUP($A278,Sheet1!$1:$1048576,11,FALSE)","v":231.24424644177901},16.713034253714699,{"$f":"VLOOKUP($A278,Sheet1!$1:$1048576,12,FALSE)","v":178.83595646535417},44.95542318756489]
[14043,{"$f":"VLOOKUP($A279,BasinData!$1:$1048576,2,FALSE)","v":1.8990292223863638},52.145831269139954,{"$f":"VLOOKUP($A279,BasinData!$1:$1048576,3,FALSE)","v":2.3471175098703507},{"$f":"VLOOKUP($A279,BasinData!$1:$1048576,4,FALSE)","v":9.4609460946094615},{"$f":"VLOOKUP($A279,BasinData!$1:$1048576,5,FALSE)","v":1.4579347231499999},179.5497221987622,{"$f":"VLOOKUP($A279,Sheet1!$1:$1048576,9,FALSE)","v":284.78402953009754},1.4558381169797441,{"$f":"VLOOKUP($A279,Sheet1!$1:$1048576,10,FALSE)","v":267.24491378807892},8.4410679843977796,{"$f":"VLOOKUP($A279,Sheet1!$1:$1048576,11,FALSE)","v":232.16668230404167},23.903698832837602,{"$f":"VLOOKUP($A279,Sheet1!$1:$1048576,12,FALSE)","v":179.5493350779858},52.145831269139954]
[14044,{"$f":"VLOOKUP($A280,BasinData!$1:$1048576,2,FALSE)","v":3.0905131200946969},51.08646751737885,{"$f":"VLOOKUP($A280,BasinData!$1:$1048576,3,FALSE)","v":2.6474787790753469},{"$f":"VLOOKUP($A280,BasinData!$1:$1048576,4,FALSE)","v":16.89381033503691},{"$f":"VLOOKUP($A280,BasinData!$1:$1048576,5,FALSE)","v":1.7163711377399999},131.0472940569795,{"$f":"VLOOKUP($A280,Sheet1!$1:$1048576,9,FALSE)","v":207.85415958214205},0.39653245271184118,{"$f":"VLOOKUP($A280,Sheet1!$1:$1048576,10,FALSE)","v":195.05295662007106},7.3814160547094501,{"$f":"VLOOKUP($A280,Sheet1!$1:$1048576,11,FALSE)","v":169.45055069592905},22.844390844768938,{"$f":"VLOOKUP($A280,Sheet1!$1:$1048576,12,FALSE)","v":131.04694180971609},51.08646751737885]
[14045,{"$f":"VLOOKUP($A281,BasinData!$1:$1048576,2,FALSE)","v":2.0941125913192953},48.559013343240238,{"$f":"VLOOKUP($A281,BasinData!$1:$1048576,3,FALSE)","v":2.096063395409081},{"$f":"VLOOKUP($A281,BasinData!$1:$1048576,4,FALSE)","v":10.824929590260743},{"$f":"VLOOKUP($A281,BasinData!$1:$1048576,5,FALSE)","v":2.33294435582},169.80457742784824,{"$f":"VLOOKUP($A281,Sheet1!$1:$1048576,9,FALSE)","v":269.32665556805932},-2.1307415022060576,{"$f":"VLOOKUP($A281,Sheet1!$1:$1048576,10,FALSE)","v":252.73951972264933},4.8544802175957571,{"$f":"VLOOKUP($A281,Sheet1!$1:$1048576,11,FALSE)","v":219.56524803182938},20.317090732006051,{"$f":"VLOOKUP($A281,Sheet1!$1:$1048576,12,FALSE)","v":169.80384049559942},48.559013343240238]
[14046,{"$f":"VLOOKUP($A282,BasinData!$1:$1048576,2,FALSE)","v":1.5297258864128787},21.784518829100591,{"$f":"VLOOKUP($A282,BasinData!$1:$1048576,3,FALSE)","v":2.2295838552601306},{"$f":"VLOOKUP($A282,BasinData!$1:$1048576,4,FALSE)","v":39.280245022970902},{"$f":"VLOOKUP($A282,BasinData!$1:$1048576,5,FALSE)","v":8.8651583318899991},78.233224046471804,{"$f":"VLOOKUP($A282,Sheet1!$1:$1048576,9,FALSE)","v":124.08599621176492},-28.905642036369812,{"$f":"VLOOKUP($A282,Sheet1!$1:$1048576,10,FALSE)","v":116.44385892930252},-21.9204098830199,{"$f":"VLOOKUP($A282,Sheet1!$1:$1048576,11,FALSE)","v":101.15958436437775},-6.4578212907726504,{"$f":"VLOOKUP($A282,Sheet1!$1:$1048576,12,FALSE)","v":78.233172516990578},21.784518829100591]
[14047,{"$f":"VLOOKUP($A283,BasinData!$1:$1048576,2,FALSE)","v":2.745941288693182},49.132485598969915,{"$f":"VLOOKUP($A283,BasinData!$1:$1048576,3,FALSE)","v":2.6369743060027684},{"$f":"VLOOKUP($A283,BasinData!$1:$1048576,4,FALSE)","v":7.668553782810088},{"$f":"VLOOKUP($A283,BasinData!$1:$1048576,5,FALSE)","v":2.1930470156099999},176.11081979161384,{"$f":"VLOOKUP($A283,Sheet1!$1:$1048576,9,FALSE)","v":279.32909149462967},-1.5573157753655891,{"$f":"VLOOKUP($A283,Sheet1!$1:$1048576,10,FALSE)","v":262.12593135281617},5.4279154547739292,{"$f":"VLOOKUP($A283,Sheet1!$1:$1048576,11,FALSE)","v":227.71961106918911},20.89052630776597,{"$f":"VLOOKUP($A283,Sheet1!$1:$1048576,12,FALSE)","v":176.11013064374856},49.132485598969915]
[14048,{"$f":"VLOOKUP($A284,BasinData!$1:$1048576,2,FALSE)","v":1.5689280119022125E-2},26.388663186968675,{"$f":"VLOOKUP($A284,BasinData!$1:$1048576,3,FALSE)","v":20.529683627296968},{"$f":"VLOOKUP($A284,BasinData!$1:$1048576,4,FALSE)","v":26.916625899783352},{"$f":"VLOOKUP($A284,BasinData!$1:$1048576,5,FALSE)","v":7.7419101575599996},126.99929408887893,{"$f":"VLOOKUP($A284,Sheet1!$1:$1048576,9,FALSE)","v":201.43414631162523},-24.301554924110107,{"$f":"VLOOKUP($A284,Sheet1!$1:$1048576,10,FALSE)","v":189.02833545072889},-17.316327187398084,{"$f":"VLOOKUP($A284,Sheet1!$1:$1048576,11,FALSE)","v":164.21671372893621},-1.8536955684442151,{"$f":"VLOOKUP($A284,Sheet1!$1:$1048576,12,FALSE)","v":126.99928114624718},26.388663186968675]
[14049,{"$f":"VLOOKUP($A285,BasinData!$1:$1048576,2,FALSE)","v":3.5672209977960327},42.890962434485886,{"$f":"VLOOKUP($A285,BasinData!$1:$1048576,3,FALSE)","v":2.2830354884089235},{"$f":"VLOOKUP($A285,BasinData!$1:$1048576,4,FALSE)","v":16.603332358959371},{"$f":"VLOOKUP($A285,BasinData!$1:$1048576,5,FALSE)","v":3.7158757482100002},126.96446033943579,{"$f":"VLOOKUP($A285,Sheet1!$1:$1048576,9,FALSE)","v":201.37886406207426},-7.7992475844160998,{"$f":"VLOOKUP($A285,Sheet1!$1:$1048576,10,FALSE)","v":188.97645789270837},-0.81420478134082097,{"$f":"VLOOKUP($A285,Sheet1!$1:$1048576,11,FALSE)","v":164.17164555397665},14.648616839009664,{"$f":"VLOOKUP($A285,Sheet1!$1:$1048576,12,FALSE)","v":126.96442704587902},42.890962434485886]
[14050,{"$f":"VLOOKUP($A286,BasinData!$1:$1048576,2,FALSE)","v":2.9708033011363635},47.835743128992362,{"$f":"VLOOKUP($A286,BasinData!$1:$1048576,3,FALSE)","v":1.7437697352652479},{"$f":"VLOOKUP($A286,BasinData!$1:$1048576,4,FALSE)","v":9.0318505819723907},{"$f":"VLOOKUP($A286,BasinData!$1:$1048576,5,FALSE)","v":2.5093833116800002},166.1393312006432,{"$f":"VLOOKUP($A286,Sheet1!$1:$1048576,9,FALSE)","v":263.5130624393463},-2.8539478610340585,{"$f":"VLOOKUP($A286,Sheet1!$1:$1048576,10,FALSE)","v":247.28397083865659},4.1312841550242707,{"$f":"VLOOKUP($A286,Sheet1!$1:$1048576,11,FALSE)","v":214.82578763727719},19.593915171162575,{"$f":"VLOOKUP($A286,Sheet1!$1:$1048576,12,FALSE)","v":166.13851283520808},47.835743128992362]
[14051,{"$f":"VLOOKUP($A287,BasinData!$1:$1048576,2,FALSE)","v":0.5369410825530303},45.157054657320757,{"$f":"VLOOKUP($A287,BasinData!$1:$1048576,3,FALSE)","v":11.202694805692788},{"$f":"VLOOKUP($A287,BasinData!$1:$1048576,4,FALSE)","v":23.121387283236995},{"$f":"VLOOKUP($A287,BasinData!$1:$1048576,5,FALSE)","v":3.1630286695900001},135.65008826988887,{"$f":"VLOOKUP($A287,Sheet1!$1:$1048576,9,FALSE)","v":215.15522734519348},-5.5331783294038752,{"$f":"VLOOKUP($A287,Sheet1!$1:$1048576,10,FALSE)","v":201.90437040235759},1.4520563457839581,{"$f":"VLOOKUP($A287,Sheet1!$1:$1048576,11,FALSE)","v":175.40265651668579},16.914676057323152,{"$f":"VLOOKUP($A287,Sheet1!$1:$1048576,12,FALSE)","v":135.65008568817808},45.157054657320757]
[14052,{"$f":"VLOOKUP($A288,BasinData!$1:$1048576,2,FALSE)","v":0.2603114675435606},40.82291056896571,{"$f":"VLOOKUP($A288,BasinData!$1:$1048576,3,FALSE)","v":4.7658603851800967},{"$f":"VLOOKUP($A288,BasinData!$1:$1048576,4,FALSE)","v":29.57978843852101},{"$f":"VLOOKUP($A288,BasinData!$1:$1048576,5,FALSE)","v":4.2203930893799999},115.19989104156809,{"$f":"VLOOKUP($A288,Sheet1!$1:$1048576,9,FALSE)","v":182.71888962808799},-9.8672192813755881,{"$f":"VLOOKUP($A288,Sheet1!$1:$1048576,10,FALSE)","v":171.46570327937295},-2.8819763776779928,{"$f":"VLOOKUP($A288,Sheet1!$1:$1048576,11,FALSE)","v":148.95933058194282},12.580642311626784,{"$f":"VLOOKUP($A288,Sheet1!$1:$1048576,12,FALSE)","v":115.19977153579762},40.82291056896571]
[14053,{"$f":"VLOOKUP($A289,BasinData!$1:$1048576,2,FALSE)","v":0.89848812095032393},47.637732076825039,{"$f":"VLOOKUP($A289,BasinData!$1:$1048576,3,FALSE)","v":5.0518269479132067},{"$f":"VLOOKUP($A289,BasinData!$1:$1048576,4,FALSE)","v":11.543287327478042},{"$f":"VLOOKUP($A289,BasinData!$1:$1048576,5,FALSE)","v":2.5576870772700002},183.88690174477307,{"$f":"VLOOKUP($A289,Sheet1!$1:$1048576,9,FALSE)","v":291.66237776278592},-3.0519403780657695,{"$f":"VLOOKUP($A289,Sheet1!$1:$1048576,10,FALSE)","v":273.69964224838714},3.9332918633982481,{"$f":"VLOOKUP($A289,Sheet1!$1:$1048576,11,FALSE)","v":237.7741712195897},19.395922185609244,{"$f":"VLOOKUP($A289,Sheet1!$1:$1048576,12,FALSE)","v":183.88596467639351},47.637732076825039]
[14054,{"$f":"VLOOKUP($A290,BasinData!$1:$1048576,2,FALSE)","v":0.81232381682575761},47.605830251668245,{"$f":"VLOOKUP($A290,BasinData!$1:$1048576,3,FALSE)","v":3.9555380321757561},{"$f":"VLOOKUP($A290,BasinData!$1:$1048576,4,FALSE)","v":24.502536090518923},{"$f":"VLOOKUP($A290,BasinData!$1:$1048576,5,FALSE)","v":2.5654693507399999},127.36238448194057,{"$f":"VLOOKUP($A290,Sheet1!$1:$1048576,9,FALSE)","v":202.00903114949415},-3.0838391735999804,{"$f":"VLOOKUP($A290,Sheet1!$1:$1048576,10,FALSE)","v":189.56781461038491},3.9008625545448812,{"$f":"VLOOKUP($A290,Sheet1!$1:$1048576,11,FALSE)","v":164.68538153216645},19.364023281065606,{"$f":"VLOOKUP($A290,Sheet1!$1:$1048576,12,FALSE)","v":127.36173191483873},47.605830251668245]
[14055,{"$f":"VLOOKUP($A291,BasinData!$1:$1048576,2,FALSE)","v":0.12888626524990163},38.1587198344467,{"$f":"VLOOKUP($A291,BasinData!$1:$1048576,3,FALSE)","v":2.277064193584299},{"$f":"VLOOKUP($A291,BasinData!$1:$1048576,4,FALSE)","v":15.963526346751827},{"$f":"VLOOKUP($A291,BasinData!$1:$1048576,5,FALSE)","v":4.8703010829500002},172.64216835484925,{"$f":"VLOOKUP($A291,Sheet1!$1:$1048576,9,FALSE)","v":273.8275533698145},-12.531137429883987,{"$f":"VLOOKUP($A291,Sheet1!$1:$1048576,10,FALSE)","v":256.9632188078254},-5.5458844848304851,{"$f":"VLOOKUP($A291,Sheet1!$1:$1048576,11,FALSE)","v":223.23454968384712},9.9167284084639853,{"$f":"VLOOKUP($A291,Sheet1!$1:$1048576,12,FALSE)","v":172.64154599787972},38.1587198344467]
[14056,{"$f":"VLOOKUP($A292,BasinData!$1:$1048576,2,FALSE)","v":1.0975609756097562E-2},39.172324480800128,{"$f":"VLOOKUP($A292,BasinData!$1:$1048576,3,FALSE)","v":88.157357117439943},{"$f":"VLOOKUP($A292,BasinData!$1:$1048576,4,FALSE)","v":40.672007848266837},{"$f":"VLOOKUP($A292,BasinData!$1:$1048576,5,FALSE)","v":4.62304774398},85.374647440301771,{"$f":"VLOOKUP($A292,Sheet1!$1:$1048576,9,FALSE)","v":135.41280405366172},-11.517666325983226,{"$f":"VLOOKUP($A292,Sheet1!$1:$1048576,10,FALSE)","v":127.07307781561629},-4.5324176526523372,{"$f":"VLOOKUP($A292,Sheet1!$1:$1048576,11,FALSE)","v":110.39362533952541},10.929886724888267,{"$f":"VLOOKUP($A292,Sheet1!$1:$1048576,12,FALSE)","v":85.374446625389083},39.172324480800128]
[14057,{"$f":"VLOOKUP($A293,BasinData!$1:$1048576,2,FALSE)","v":2.0538244166666666},51.597899359896957,{"$f":"VLOOKUP($A293,BasinData!$1:$1048576,3,FALSE)","v":2.2742637802091261},{"$f":"VLOOKUP($A293,BasinData!$1:$1048576,4,FALSE)","v":22.404896195847833},{"$f":"VLOOKUP($A293,BasinData!$1:$1048576,5,FALSE)","v":1.59160539318},121.92053543248305,{"$f":"VLOOKUP($A293,Sheet1!$1:$1048576,9,FALSE)","v":193.3782562185292},0.90793508569552728,{"$f":"VLOOKUP($A293,Sheet1!$1:$1048576,10,FALSE)","v":181.46858690384573},7.893030697556406,{"$f":"VLOOKUP($A293,Sheet1!$1:$1048576,11,FALSE)","v":157.64924827447879},23.35579494529096,{"$f":"VLOOKUP($A293,Sheet1!$1:$1048576,12,FALSE)","v":121.92024033042834},51.597899359896957]
[14058,{"$f":"VLOOKUP($A294,BasinData!$1:$1048576,2,FALSE)","v":0.964329643296433},47.407050184267504,{"$f":"VLOOKUP($A294,BasinData!$1:$1048576,3,FALSE)","v":4.6945947831632342},{"$f":"VLOOKUP($A294,BasinData!$1:$1048576,4,FALSE)","v":13.763269109181058},{"$f":"VLOOKUP($A294,BasinData!$1:$1048576,5,FALSE)","v":2.61396057875},171.508520303784,{"$f":"VLOOKUP($A294,Sheet1!$1:$1048576,9,FALSE)","v":272.02901445561963},-3.2826000888951534,{"$f":"VLOOKUP($A294,Sheet1!$1:$1048576,10,FALSE)","v":255.27544727842604},3.7022411902953176,{"$f":"VLOOKUP($A294,Sheet1!$1:$1048576,11,FALSE)","v":221.76831292403887},19.165261470962957,{"$f":"VLOOKUP($A294,Sheet1!$1:$1048576,12,FALSE)","v":171.50761139245816},47.407050184267504]
[14059,{"$f":"VLOOKUP($A295,BasinData!$1:$1048576,2,FALSE)","v":9.5183605534172475E-2},39.882005792139516,{"$f":"VLOOKUP($A295,BasinData!$1:$1048576,3,FALSE)","v":5.1631282232387807},{"$f":"VLOOKUP($A295,BasinData!$1:$1048576,4,FALSE)","v":30.616292329813078},{"$f":"VLOOKUP($A295,BasinData!$1:$1048576,5,FALSE)","v":4.4499260879899998},113.36188605749568,{"$f":"VLOOKUP($A295,Sheet1!$1:$1048576,9,FALSE)","v":179.80350711555889},-10.808055263031973,{"$f":"VLOOKUP($A295,Sheet1!$1:$1048576,10,FALSE)","v":168.72987167566367},-3.8228092349316336,{"$f":"VLOOKUP($A295,Sheet1!$1:$1048576,11,FALSE)","v":146.58260079587322},11.639821124730819,{"$f":"VLOOKUP($A295,Sheet1!$1:$1048576,12,FALSE)","v":113.36169447618755},39.882005792139516]
[14060,{"$f":"VLOOKUP($A296,BasinData!$1:$1048576,2,FALSE)","v":1.5494664258655304},43.600717104813796,{"$f":"VLOOKUP($A296,BasinData!$1:$1048576,3,FALSE)","v":0.55260912499979853},{"$f":"VLOOKUP($A296,BasinData!$1:$1048576,4,FALSE)","v":61.856474258970366},{"$f":"VLOOKUP($A296,BasinData!$1:$1048576,5,FALSE)","v":3.5427217208999999},40.673739712564362,{"$f":"VLOOKUP($A296,Sheet1!$1:$1048576,9,FALSE)","v":64.512797362037276},-7.0895050054863624,{"$f":"VLOOKUP($A296,Sheet1!$1:$1048576,10,FALSE)","v":60.539620138436746},-0.10464015565881998,{"$f":"VLOOKUP($A296,Sheet1!$1:$1048576,11,FALSE)","v":52.593265691235679},15.358359378024224,{"$f":"VLOOKUP($A296,Sheet1!$1:$1048576,12,FALSE)","v":40.673734020434075},43.600717104813796]
[14061,{"$f":"VLOOKUP($A297,BasinData!$1:$1048576,2,FALSE)","v":2.4078857581249999},42.180712007762111,{"$f":"VLOOKUP($A297,BasinData!$1:$1048576,3,FALSE)","v":100},{"$f":"VLOOKUP($A297,BasinData!$1:$1048576,4,FALSE)","v":30.174081237911025},{"$f":"VLOOKUP($A297,BasinData!$1:$1048576,5,FALSE)","v":3.8891490487899998},94.546985287927541,{"$f":"VLOOKUP($A297,Sheet1!$1:$1048576,9,FALSE)","v":149.96134295272648},-8.509479232537279,{"$f":"VLOOKUP($A297,Sheet1!$1:$1048576,10,FALSE)","v":140.72560963152756},-1.5243183070004946,{"$f":"VLOOKUP($A297,Sheet1!$1:$1048576,11,FALSE)","v":122.25414298912972},13.938383236261464,{"$f":"VLOOKUP($A297,Sheet1!$1:$1048576,12,FALSE)","v":94.546943025532983},42.180712007762111]
[14062,{"$f":"VLOOKUP($A298,BasinData!$1:$1048576,2,FALSE)","v":0.14629649119526517},40.292087448703597,{"$f":"VLOOKUP($A298,BasinData!$1:$1048576,3,FALSE)","v":0.88099128256710879},{"$f":"VLOOKUP($A298,BasinData!$1:$1048576,4,FALSE)","v":68.797399783315271},{"$f":"VLOOKUP($A298,BasinData!$1:$1048576,5,FALSE)","v":4.3498877522999999},37.444409959686624,{"$f":"VLOOKUP($A298,Sheet1!$1:$1048576,9,FALSE)","v":59.39066978436307},-10.398006690325023,{"$f":"VLOOKUP($A298,Sheet1!$1:$1048576,10,FALSE)","v":55.732951221061882},-3.414438178529148,{"$f":"VLOOKUP($A298,Sheet1!$1:$1048576,11,FALSE)","v":48.417514094459506},12.049865213432637,{"$f":"VLOOKUP($A298,Sheet1!$1:$1048576,12,FALSE)","v":37.444358404555928},40.292087448703597]
[14063,{"$f":"VLOOKUP($A299,BasinData!$1:$1048576,2,FALSE)","v":0.10878138621590909},-39.905180637537171,{"$f":"VLOOKUP($A299,BasinData!$1:$1048576,3,FALSE)","v":0.20828542432400832},{"$f":"VLOOKUP($A299,BasinData!$1:$1048576,4,FALSE)","v":47.394296951819079},{"$f":"VLOOKUP($A299,BasinData!$1:$1048576,5,FALSE)","v":23.915463284600001},69.724903181518343,{"$f":"VLOOKUP($A299,Sheet1!$1:$1048576,9,FALSE)","v":110.59093020460799},-90.595366992137528,{"$f":"VLOOKUP($A299,Sheet1!$1:$1048576,10,FALSE)","v":103.77991932005581},-83.6101248453582,{"$f":"VLOOKUP($A299,Sheet1!$1:$1048576,11,FALSE)","v":90.157897550951461},-68.147509873484566,{"$f":"VLOOKUP($A299,Sheet1!$1:$1048576,12,FALSE)","v":69.724864897294921},-39.905180637537171]
[14064,{"$f":"VLOOKUP($A300,BasinData!$1:$1048576,2,FALSE)","v":0.11406652832798843},36.125514411849331,{"$f":"VLOOKUP($A300,BasinData!$1:$1048576,3,FALSE)","v":25.904044536353947},{"$f":"VLOOKUP($A300,BasinData!$1:$1048576,4,FALSE)","v":30.677482754634088},{"$f":"VLOOKUP($A300,BasinData!$1:$1048576,5,FALSE)","v":5.3664330912500002},112.98205768539843,{"$f":"VLOOKUP($A300,Sheet1!$1:$1048576,9,FALSE)","v":179.20135442787767},-14.564725480712507,{"$f":"VLOOKUP($A300,Sheet1!$1:$1048576,10,FALSE)","v":168.16480402291592},-7.5794803116853231,{"$f":"VLOOKUP($A300,Sheet1!$1:$1048576,11,FALSE)","v":146.09170321299234},7.8831486272577589,{"$f":"VLOOKUP($A300,Sheet1!$1:$1048576,12,FALSE)","v":112.98205199810697},36.125514411849331]
[14065,{"$f":"VLOOKUP($A301,BasinData!$1:$1048576,2,FALSE)","v":1.6644474034620508E-3},37.552570029159916,{"$f":"VLOOKUP($A301,BasinData!$1:$1048576,3,FALSE)","v":12.46830522090459},{"$f":"VLOOKUP($A301,BasinData!$1:$1048576,4,FALSE)","v":21.073128130179835},{"$f":"VLOOKUP($A301,BasinData!$1:$1048576,5,FALSE)","v":5.0181565842299998},150.54185556633061,{"$f":"VLOOKUP($A301,Sheet1!$1:$1048576,9,FALSE)","v":238.77404400104825},-13.137185298325461,{"$f":"VLOOKUP($A301,Sheet1!$1:$1048576,10,FALSE)","v":224.06856490225758},-6.1519294876593564,{"$f":"VLOOKUP($A301,Sheet1!$1:$1048576,11,FALSE)","v":194.65760670467625},9.3106906135024605,{"$f":"VLOOKUP($A301,Sheet1!$1:$1048576,12,FALSE)","v":150.54116940830426},37.552570029159916]
[14066,{"$f":"VLOOKUP($A302,BasinData!$1:$1048576,2,FALSE)","v":6.5072492684224521},40.819500544960022,{"$f":"VLOOKUP($A302,BasinData!$1:$1048576,3,FALSE)","v":5.4549173047870223},{"$f":"VLOOKUP($A302,BasinData!$1:$1048576,4,FALSE)","v":16.879900949236486},{"$f":"VLOOKUP($A302,BasinData!$1:$1048576,5,FALSE)","v":4.2212249729437197},98.391338574748275,{"$f":"VLOOKUP($A302,Sheet1!$1:$1048576,9,FALSE)","v":156.05879428868545},-9.8706290996232724,{"$f":"VLOOKUP($A302,Sheet1!$1:$1048576,10,FALSE)","v":146.44753462603694},-2.885386185322715,{"$f":"VLOOKUP($A302,Sheet1!$1:$1048576,11,FALSE)","v":127.22501530073993},12.577232581447165,{"$f":"VLOOKUP($A302,Sheet1!$1:$1048576,12,FALSE)","v":98.391236312794405},40.819500544960022]
[14067,{"$f":"VLOOKUP($A303,BasinData!$1:$1048576,2,FALSE)","v":0.19180131657690005},35.582165803493638,{"$f":"VLOOKUP($A303,BasinData!$1:$1048576,3,FALSE)","v":19.301226787934109},{"$f":"VLOOKUP($A303,BasinData!$1:$1048576,4,FALSE)","v":23.948140145084118},{"$f":"VLOOKUP($A303,BasinData!$1:$1048576,5,FALSE)","v":5.4989894971900002},136.34349801431523,{"$f":"VLOOKUP($A303,Sheet1!$1:$1048576,9,FALSE)","v":216.25501534862502},-15.108052993066114,{"$f":"VLOOKUP($A303,Sheet1!$1:$1048576,10,FALSE)","v":202.9364252919776},-8.1228158717780001,{"$f":"VLOOKUP($A303,Sheet1!$1:$1048576,11,FALSE)","v":176.29924517868272},7.3398144584829126,{"$f":"VLOOKUP($A303,Sheet1!$1:$1048576,12,FALSE)","v":136.3434750087404},35.582165803493638]
[14068,{"$f":"VLOOKUP($A304,BasinData!$1:$1048576,2,FALSE)","v":0.16063416093329344},40.271199679997679,{"$f":"VLOOKUP($A304,BasinData!$1:$1048576,3,FALSE)","v":5.651897022642089},{"$f":"VLOOKUP($A304,BasinData!$1:$1048576,4,FALSE)","v":23.19423929098966},{"$f":"VLOOKUP($A304,BasinData!$1:$1048576,5,FALSE)","v":4.3549832982999996},139.71217602744471,{"$f":"VLOOKUP($A304,Sheet1!$1:$1048576,9,FALSE)","v":221.59781919879399},-10.418892894978958,{"$f":"VLOOKUP($A304,Sheet1!$1:$1048576,10,FALSE)","v":207.95017959793708},-3.4336482091096312,{"$f":"VLOOKUP($A304,Sheet1!$1:$1048576,11,FALSE)","v":180.65490039622324},12.02897928497732,{"$f":"VLOOKUP($A304,Sheet1!$1:$1048576,12,FALSE)","v":139.71198159365252},40.271199679997679]
[14069,{"$f":"VLOOKUP($A305,BasinData!$1:$1048576,2,FALSE)","v":0.73316822236363632},11.894173184785251,{"$f":"VLOOKUP($A305,BasinData!$1:$1048576,3,FALSE)","v":100},{"$f":"VLOOKUP($A305,BasinData!$1:$1048576,4,FALSE)","v":24.897480960749853},{"$f":"VLOOKUP($A305,BasinData!$1:$1048576,5,FALSE)","v":11.2781009229},126.75632329425757,{"$f":"VLOOKUP($A305,Sheet1!$1:$1048576,9,FALSE)","v":201.0487806162528},-38.796051763941712,{"$f":"VLOOKUP($A305,Sheet1!$1:$1048576,10,FALSE)","v":188.66670343714082},-31.810822263512183,{"$f":"VLOOKUP($A305,Sheet1!$1:$1048576,11,FALSE)","v":163.90254907891691},-16.348200582336599,{"$f":"VLOOKUP($A305,Sheet1!$1:$1048576,12,FALSE)","v":126.75631754158103},11.894173184785251]
[14070,{"$f":"VLOOKUP($A306,BasinData!$1:$1048576,2,FALSE)","v":0.80572085489772727},33.194389415312038,{"$f":"VLOOKUP($A306,BasinData!$1:$1048576,3,FALSE)","v":1.4426840345762462},{"$f":"VLOOKUP($A306,BasinData!$1:$1048576,4,FALSE)","v":31.528993029808689},{"$f":"VLOOKUP($A306,BasinData!$1:$1048576,5,FALSE)","v":6.0814503271199998},104.01389632722326,{"$f":"VLOOKUP($A306,Sheet1!$1:$1048576,9,FALSE)","v":164.97640246662871},-17.495306235575899,{"$f":"VLOOKUP($A306,Sheet1!$1:$1048576,10,FALSE)","v":154.81593025778162},-10.510517347585528,{"$f":"VLOOKUP($A306,Sheet1!$1:$1048576,11,FALSE)","v":134.49498584008745},4.9523360349599415,{"$f":"VLOOKUP($A306,Sheet1!$1:$1048576,12,FALSE)","v":104.01356921354613},33.194389415312038]
[14071,{"$f":"VLOOKUP($A307,BasinData!$1:$1048576,2,FALSE)","v":8.5723192019950115E-2},42.435191258948549,{"$f":"VLOOKUP($A307,BasinData!$1:$1048576,3,FALSE)","v":6.4158540735455647},{"$f":"VLOOKUP($A307,BasinData!$1:$1048576,4,FALSE)","v":21.421561143704608},{"$f":"VLOOKUP($A307,BasinData!$1:$1048576,5,FALSE)","v":3.8270662931700001},147.98431991418209,{"$f":"VLOOKUP($A307,Sheet1!$1:$1048576,9,FALSE)","v":234.71852575521217},-8.2550075888017478,{"$f":"VLOOKUP($A307,Sheet1!$1:$1048576,10,FALSE)","v":220.26281559193714},-1.2698825038640624,{"$f":"VLOOKUP($A307,Sheet1!$1:$1048576,11,FALSE)","v":191.35139526538711},14.192841667353669,{"$f":"VLOOKUP($A307,Sheet1!$1:$1048576,12,FALSE)","v":147.98426477556205},42.435191258948549]
[14072,{"$f":"VLOOKUP($A308,BasinData!$1:$1048576,2,FALSE)","v":1.0788123110946968},47.834753920276448,{"$f":"VLOOKUP($A308,BasinData!$1:$1048576,3,FALSE)","v":2.4972115577018861},{"$f":"VLOOKUP($A308,BasinData!$1:$1048576,4,FALSE)","v":5.64621409921671},{"$f":"VLOOKUP($A308,BasinData!$1:$1048576,5,FALSE)","v":2.5097566531300002},214.77564991878839,{"$f":"VLOOKUP($A308,Sheet1!$1:$1048576,9,FALSE)","v":340.65664950964663},-2.8554781521797814,{"$f":"VLOOKUP($A308,Sheet1!$1:$1048576,10,FALSE)","v":319.67648284125374},4.129753865936256,{"$f":"VLOOKUP($A308,Sheet1!$1:$1048576,11,FALSE)","v":277.71614950446804},19.592384877760995,{"$f":"VLOOKUP($A308,Sheet1!$1:$1048576,12,FALSE)","v":214.77564949928941},47.834753920276448]
[14073,{"$f":"VLOOKUP($A309,BasinData!$1:$1048576,2,FALSE)","v":0.30069037535534027},37.533621379844895,{"$f":"VLOOKUP($A309,BasinData!$1:$1048576,3,FALSE)","v":9.067807218651156},{"$f":"VLOOKUP($A309,BasinData!$1:$1048576,4,FALSE)","v":36.271801426627633},{"$f":"VLOOKUP($A309,BasinData!$1:$1048576,5,FALSE)","v":5.0227785731800001},94.621181025957867,{"$f":"VLOOKUP($A309,Sheet1!$1:$1048576,9,FALSE)","v":150.07840325855676},-13.156130465417256,{"$f":"VLOOKUP($A309,Sheet1!$1:$1048576,10,FALSE)","v":140.83546049427164},-6.1708745611164817,{"$f":"VLOOKUP($A309,Sheet1!$1:$1048576,11,FALSE)","v":122.34957496570144},9.2917457251254092,{"$f":"VLOOKUP($A309,Sheet1!$1:$1048576,12,FALSE)","v":94.62074667284611},37.533621379844895]
[14074,{"$f":"VLOOKUP($A310,BasinData!$1:$1048576,2,FALSE)","v":0.18659217877094972},38.91823381260668,{"$f":"VLOOKUP($A310,BasinData!$1:$1048576,3,FALSE)","v":7.9638186309098575},{"$f":"VLOOKUP($A310,BasinData!$1:$1048576,4,FALSE)","v":32.905463386727689},{"$f":"VLOOKUP($A310,BasinData!$1:$1048576,5,FALSE)","v":4.6850302597700004},105.29340732944952,{"$f":"VLOOKUP($A310,Sheet1!$1:$1048576,9,FALSE)","v":167.00592048575149},-11.771727500534164,{"$f":"VLOOKUP($A310,Sheet1!$1:$1048576,10,FALSE)","v":156.72045548325428},-4.786477813551695,{"$f":"VLOOKUP($A310,Sheet1!$1:$1048576,11,FALSE)","v":136.14952547825982},10.676098239338167,{"$f":"VLOOKUP($A310,Sheet1!$1:$1048576,12,FALSE)","v":105.29313047076815},38.91823381260668]
[14075,{"$f":"VLOOKUP($A311,BasinData!$1:$1048576,2,FALSE)","v":0.42618508924621207},33.588429655344264,{"$f":"VLOOKUP($A311,BasinData!$1:$1048576,3,FALSE)","v":10.649320378848685},{"$f":"VLOOKUP($A311,BasinData!$1:$1048576,4,FALSE)","v":50.544323483670297},{"$f":"VLOOKUP($A311,BasinData!$1:$1048576,5,FALSE)","v":5.9853421608000001},61.983085379471504,{"$f":"VLOOKUP($A311,Sheet1!$1:$1048576,9,FALSE)","v":98.311440363971442},-17.101555714597851,{"$f":"VLOOKUP($A311,Sheet1!$1:$1048576,10,FALSE)","v":92.256691668430477},-10.116622919582218,{"$f":"VLOOKUP($A311,Sheet1!$1:$1048576,11,FALSE)","v":80.147194277348547},5.3462699889001968,{"$f":"VLOOKUP($A311,Sheet1!$1:$1048576,12,FALSE)","v":61.982948190725665},33.588429655344264]
[14076,{"$f":"VLOOKUP($A312,BasinData!$1:$1048576,2,FALSE)","v":1.0447125340170453},28.346738731955345,{"$f":"VLOOKUP($A312,BasinData!$1:$1048576,3,FALSE)","v":12.553570585706863},{"$f":"VLOOKUP($A312,BasinData!$1:$1048576,4,FALSE)","v":47.152428810720274},{"$f":"VLOOKUP($A312,BasinData!$1:$1048576,5,FALSE)","v":7.2641958581499999},64.905289749418259,{"$f":"VLOOKUP($A312,Sheet1!$1:$1048576,9,FALSE)","v":102.94654296934854},-22.343228481866376,{"$f":"VLOOKUP($A312,Sheet1!$1:$1048576,10,FALSE)","v":96.606330228629275},-15.358223764746189,{"$f":"VLOOKUP($A312,Sheet1!$1:$1048576,11,FALSE)","v":83.925904747190728},0.10440501971551093,{"$f":"VLOOKUP($A312,Sheet1!$1:$1048576,12,FALSE)","v":64.905266525032914},28.346738731955345]
[14077,{"$f":"VLOOKUP($A313,BasinData!$1:$1048576,2,FALSE)","v":1.9797288850378787},34.370930923264311,{"$f":"VLOOKUP($A313,BasinData!$1:$1048576,3,FALSE)","v":9.8358630639609395},{"$f":"VLOOKUP($A313,BasinData!$1:$1048576,4,FALSE)","v":42.48147846617276},{"$f":"VLOOKUP($A313,BasinData!$1:$1048576,5,FALSE)","v":5.79446997334},68.674561346417505,{"$f":"VLOOKUP($A313,Sheet1!$1:$1048576,9,FALSE)","v":108.92493166842189},-16.318364458737758,{"$f":"VLOOKUP($A313,Sheet1!$1:$1048576,10,FALSE)","v":102.21652534775771},-9.3343539274492624,{"$f":"VLOOKUP($A313,Sheet1!$1:$1048576,11,FALSE)","v":88.799712706429361},6.1283340714739136,{"$f":"VLOOKUP($A313,Sheet1!$1:$1048576,12,FALSE)","v":68.674493744436816},34.370930923264311]
[14078,{"$f":"VLOOKUP($A314,BasinData!$1:$1048576,2,FALSE)","v":0},31.395856762018106,{"$f":"VLOOKUP($A314,BasinData!$1:$1048576,3,FALSE)","v":10.789334238762036},{"$f":"VLOOKUP($A314,BasinData!$1:$1048576,4,FALSE)","v":48.812872735456288},{"$f":"VLOOKUP($A314,BasinData!$1:$1048576,5,FALSE)","v":6.5202999878099996},67.538546346024404,{"$f":"VLOOKUP($A314,Sheet1!$1:$1048576,9,FALSE)","v":107.12312529884414},-19.294281918519545,{"$f":"VLOOKUP($A314,Sheet1!$1:$1048576,10,FALSE)","v":100.52568759714667},-12.309166841501577,{"$f":"VLOOKUP($A314,Sheet1!$1:$1048576,11,FALSE)","v":87.330812193751726},3.1535484977334098,{"$f":"VLOOKUP($A314,Sheet1!$1:$1048576,12,FALSE)","v":67.538499088659307},31.395856762018106]
[14079,{"$f":"VLOOKUP($A315,BasinData!$1:$1048576,2,FALSE)","v":0.98711162255466045},44.638888615413208,{"$f":"VLOOKUP($A315,BasinData!$1:$1048576,3,FALSE)","v":3.4431008202914928},{"$f":"VLOOKUP($A315,BasinData!$1:$1048576,4,FALSE)","v":17.218078663861796},{"$f":"VLOOKUP($A315,BasinData!$1:$1048576,5,FALSE)","v":3.2894438846899998},154.91398184268485,{"$f":"VLOOKUP($A315,Sheet1!$1:$1048576,9,FALSE)","v":245.70977155669303},-6.0513425206948499,{"$f":"VLOOKUP($A315,Sheet1!$1:$1048576,10,FALSE)","v":230.57713884063568},0.93389300005983,{"$f":"VLOOKUP($A315,Sheet1!$1:$1048576,11,FALSE)","v":200.31187340852102},16.396522918266708,{"$f":"VLOOKUP($A315,Sheet1!$1:$1048576,12,FALSE)","v":154.91397526034899},44.638888615413208]
[14080,{"$f":"VLOOKUP($A316,BasinData!$1:$1048576,2,FALSE)","v":0.12447937659545882},43.189020485834881,{"$f":"VLOOKUP($A316,BasinData!$1:$1048576,3,FALSE)","v":9.283984886737958},{"$f":"VLOOKUP($A316,BasinData!$1:$1048576,4,FALSE)","v":21.932760879056907},{"$f":"VLOOKUP($A316,BasinData!$1:$1048576,5,FALSE)","v":3.6431607285399998},145.34016513207456,{"$f":"VLOOKUP($A316,Sheet1!$1:$1048576,9,FALSE)","v":230.52466002844844},-7.5011953243814355,{"$f":"VLOOKUP($A316,Sheet1!$1:$1048576,10,FALSE)","v":216.32723926612601},-0.51621958033233628,{"$f":"VLOOKUP($A316,Sheet1!$1:$1048576,11,FALSE)","v":187.93239774148117},14.946673902367094,{"$f":"VLOOKUP($A316,Sheet1!$1:$1048576,12,FALSE)","v":145.34013545451387},43.189020485834881]
[14081,{"$f":"VLOOKUP($A317,BasinData!$1:$1048576,2,FALSE)","v":0.40613144673433815},19.443743372974442,{"$f":"VLOOKUP($A317,BasinData!$1:$1048576,3,FALSE)","v":8.1843777801010873},{"$f":"VLOOKUP($A317,BasinData!$1:$1048576,4,FALSE)","v":52.057961208840773},{"$f":"VLOOKUP($A317,BasinData!$1:$1048576,5,FALSE)","v":9.4361024285700008},59.430359248335094,{"$f":"VLOOKUP($A317,Sheet1!$1:$1048576,9,FALSE)","v":94.262248762689353},-31.245893502925469,{"$f":"VLOOKUP($A317,Sheet1!$1:$1048576,10,FALSE)","v":88.456879360901922},-24.260653070317893,{"$f":"VLOOKUP($A317,Sheet1!$1:$1048576,11,FALSE)","v":76.846140557327033},-8.7980533733065709,{"$f":"VLOOKUP($A317,Sheet1!$1:$1048576,12,FALSE)","v":59.430032351964691},19.443743372974442]
[14082,{"$f":"VLOOKUP($A318,BasinData!$1:$1048576,2,FALSE)","v":0.69989028213825755},21.228568044706503,{"$f":"VLOOKUP($A318,BasinData!$1:$1048576,3,FALSE)","v":4.8051801602660769},{"$f":"VLOOKUP($A318,BasinData!$1:$1048576,4,FALSE)","v":32.816270251637363},{"$f":"VLOOKUP($A318,BasinData!$1:$1048576,5,FALSE)","v":9.0008021356899999},101.11000849897265,{"$f":"VLOOKUP($A318,Sheet1!$1:$1048576,9,FALSE)","v":160.37100379094514},-29.461633877391122,{"$f":"VLOOKUP($A318,Sheet1!$1:$1048576,10,FALSE)","v":150.49416623866301},-22.47640036977241,{"$f":"VLOOKUP($A318,Sheet1!$1:$1048576,11,FALSE)","v":130.74049113409873},-7.0138089160723469,{"$f":"VLOOKUP($A318,Sheet1!$1:$1048576,12,FALSE)","v":101.1099784772523},21.228568044706503]
[14083,{"$f":"VLOOKUP($A319,BasinData!$1:$1048576,2,FALSE)","v":4.0506157617045453},48.327027509899111,{"$f":"VLOOKUP($A319,BasinData!$1:$1048576,3,FALSE)","v":1.7740842846844521E-2},{"$f":"VLOOKUP($A319,BasinData!$1:$1048576,4,FALSE)","v":9.9601593625498008},{"$f":"VLOOKUP($A319,BasinData!$1:$1048576,5,FALSE)","v":2.38953654639},147.71636863417555,{"$f":"VLOOKUP($A319,Sheet1!$1:$1048576,9,FALSE)","v":234.29255491184739},-2.3627074552672562,{"$f":"VLOOKUP($A319,Sheet1!$1:$1048576,10,FALSE)","v":219.8630791969606},4.6225239225884751,{"$f":"VLOOKUP($A319,Sheet1!$1:$1048576,11,FALSE)","v":191.00412776718704},20.084951842725314,{"$f":"VLOOKUP($A319,Sheet1!$1:$1048576,12,FALSE)","v":147.71570062252667},48.327027509899111]
[14084,{"$f":"VLOOKUP($A320,BasinData!$1:$1048576,2,FALSE)","v":1.2390284380719698},-17.80383309938955,{"$f":"VLOOKUP($A320,BasinData!$1:$1048576,3,FALSE)","v":17.449029915302013},{"$f":"VLOOKUP($A320,BasinData!$1:$1048576,4,FALSE)","v":9.5189355168884333},{"$f":"VLOOKUP($A320,BasinData!$1:$1048576,5,FALSE)","v":18.523326763899998},189.46781486088514,{"$f":"VLOOKUP($A320,Sheet1!$1:$1048576,9,FALSE)","v":300.51427994321773},-68.493538888245169,{"$f":"VLOOKUP($A320,Sheet1!$1:$1048576,10,FALSE)","v":282.00637854597159},-61.508291035950904,{"$f":"VLOOKUP($A320,Sheet1!$1:$1048576,11,FALSE)","v":244.9905757514793},-46.045711647524961,{"$f":"VLOOKUP($A320,Sheet1!$1:$1048576,12,FALSE)","v":189.46687155974087},-17.80383309938955]
[14085,{"$f":"VLOOKUP($A321,BasinData!$1:$1048576,2,FALSE)","v":0.80189393939393938},-162.79425493914695,{"$f":"VLOOKUP($A321,BasinData!$1:$1048576,3,FALSE)","v":4.4972325524914449},{"$f":"VLOOKUP($A321,BasinData!$1:$1048576,4,FALSE)","v":0.50377799999999995},{"$f":"VLOOKUP($A321,BasinData!$1:$1048576,5,FALSE)","v":53.896434196000001},{"$f":"EXP(6.1523-(0.084*B321)-(0.0091*C321)-(0.0289*E321)-(0.0373*F321))","v":255.05327612742826},{"$f":"VLOOKUP($A321,Sheet1!$1:$1048576,9,FALSE)","v":404.54081088424579},-213.48434823910489,{"$f":"VLOOKUP($A321,Sheet1!$1:$1048576,10,FALSE)","v":379.62618306548677},-206.49915727200977,{"$f":"VLOOKUP($A321,Sheet1!$1:$1048576,11,FALSE)","v":329.7969274279688},-191.03674432759752,{"$f":"VLOOKUP($A321,Sheet1!$1:$1048576,12,FALSE)","v":255.05304397169178},-162.79425493914695]
[15001,{"$f":"VLOOKUP($A322,BasinData!$1:$1048576,2,FALSE)","v":0.412443642921551},41.703175502870621,{"$f":"VLOOKUP($A322,BasinData!$1:$1048576,3,FALSE)","v":4.7440103167543084},{"$f":"VLOOKUP($A322,BasinData!$1:$1048576,4,FALSE)","v":16.255783964196311},{"$f":"VLOOKUP($A322,BasinData!$1:$1048576,5,FALSE)","v":4.0056480952599998},167.16026224420401,{"$f":"VLOOKUP($A322,Sheet1!$1:$1048576,9,FALSE)","v":265.13350090185821},-8.986998438348925,{"$f":"VLOOKUP($A322,Sheet1!$1:$1048576,10,FALSE)","v":248.80461066501002},-2.0017885189225342,{"$f":"VLOOKUP($A322,Sheet1!$1:$1048576,11,FALSE)","v":216.14683019131371},13.460873634934904,{"$f":"VLOOKUP($A322,Sheet1!$1:$1048576,12,FALSE)","v":167.16015948076921},41.703175502870621]
[15004,{"$f":"VLOOKUP($A323,BasinData!$1:$1048576,2,FALSE)","v":0.68831448572967147},45.396735976012359,{"$f":"VLOOKUP($A323,BasinData!$1:$1048576,3,FALSE)","v":5.6194681088651999},{"$f":"VLOOKUP($A323,BasinData!$1:$1048576,4,FALSE)","v":20.698083691826358},{"$f":"VLOOKUP($A323,BasinData!$1:$1048576,5,FALSE)","v":3.1045543238},143.6524428493789,{"$f":"VLOOKUP($A323,Sheet1!$1:$1048576,9,FALSE)","v":227.84780022984538},-5.293497456032239,{"$f":"VLOOKUP($A323,Sheet1!$1:$1048576,10,FALSE)","v":213.81524037601673},1.6917368371629431,{"$f":"VLOOKUP($A323,Sheet1!$1:$1048576,11,FALSE)","v":185.75012066835947},17.154364040317056,{"$f":"VLOOKUP($A323,Sheet1!$1:$1048576,12,FALSE)","v":143.65244110687357},45.396735976012359]
[15005,{"$f":"VLOOKUP($A324,BasinData!$1:$1048576,2,FALSE)","v":0.69721115537848599},39.032924080217796,{"$f":"VLOOKUP($A324,BasinData!$1:$1048576,3,FALSE)","v":3.5349362514232108},{"$f":"VLOOKUP($A324,BasinData!$1:$1048576,4,FALSE)","v":21.110698259353473},{"$f":"VLOOKUP($A324,BasinData!$1:$1048576,5,FALSE)","v":4.6570529565000003},141.84393428191996,{"$f":"VLOOKUP($A324,Sheet1!$1:$1048576,9,FALSE)","v":224.97875644453859},-11.657050857637675,{"$f":"VLOOKUP($A324,Sheet1!$1:$1048576,10,FALSE)","v":211.1228936165314},-4.6718016327274148,{"$f":"VLOOKUP($A324,Sheet1!$1:$1048576,11,FALSE)","v":183.41116796051702},10.79068105576253,{"$f":"VLOOKUP($A324,Sheet1!$1:$1048576,12,FALSE)","v":141.84357947649545},39.032924080217796]
[15006,{"$f":"VLOOKUP($A325,BasinData!$1:$1048576,2,FALSE)","v":0.20577032946105506},44.983287105711199,{"$f":"VLOOKUP($A325,BasinData!$1:$1048576,3,FALSE)","v":2.8449147860074371},{"$f":"VLOOKUP($A325,BasinData!$1:$1048576,4,FALSE)","v":25.119841858166541},{"$f":"VLOOKUP($A325,BasinData!$1:$1048576,5,FALSE)","v":3.2054221890000001},131.64931757691454,{"$f":"VLOOKUP($A325,Sheet1!$1:$1048576,9,FALSE)","v":208.80958524827386},-5.7069454087538292,{"$f":"VLOOKUP($A325,Sheet1!$1:$1048576,10,FALSE)","v":195.94954007735839},1.2782895465613602,{"$f":"VLOOKUP($A325,Sheet1!$1:$1048576,11,FALSE)","v":170.22944973552745},16.740899925439457,{"$f":"VLOOKUP($A325,Sheet1!$1:$1048576,12,FALSE)","v":131.64931422278104},44.983287105711199]
[15007,{"$f":"VLOOKUP($A326,BasinData!$1:$1048576,2,FALSE)","v":1.1382098878882558},53.237964376297299,{"$f":"VLOOKUP($A326,BasinData!$1:$1048576,3,FALSE)","v":2.7635172136435751},{"$f":"VLOOKUP($A326,BasinData!$1:$1048576,4,FALSE)","v":12.064777327935222},{"$f":"VLOOKUP($A326,BasinData!$1:$1048576,5,FALSE)","v":1.1915017939699999},177.5247102497037,{"$f":"VLOOKUP($A326,Sheet1!$1:$1048576,9,FALSE)","v":281.57228602381241},2.5479206284481815,{"$f":"VLOOKUP($A326,Sheet1!$1:$1048576,10,FALSE)","v":264.23097330179939},9.5331500083975218,{"$f":"VLOOKUP($A326,Sheet1!$1:$1048576,11,FALSE)","v":229.54834785777331},24.995580024965673,{"$f":"VLOOKUP($A326,Sheet1!$1:$1048576,12,FALSE)","v":177.52440969173418},53.237964376297299]
[15008,{"$f":"VLOOKUP($A327,BasinData!$1:$1048576,2,FALSE)","v":0.59632886009563468},53.078284757863358,{"$f":"VLOOKUP($A327,BasinData!$1:$1048576,3,FALSE)","v":1.5767100351353083},{"$f":"VLOOKUP($A327,BasinData!$1:$1048576,4,FALSE)","v":16.185721417873189},{"$f":"VLOOKUP($A327,BasinData!$1:$1048576,5,FALSE)","v":1.23045679978},164.93188934780301,{"$f":"VLOOKUP($A327,Sheet1!$1:$1048576,9,FALSE)","v":261.5987720222447},2.388247875388541,{"$f":"VLOOKUP($A327,Sheet1!$1:$1048576,10,FALSE)","v":245.48757664363168},9.3734771882841113,{"$f":"VLOOKUP($A327,Sheet1!$1:$1048576,11,FALSE)","v":213.26518588640573},24.835802204670728,{"$f":"VLOOKUP($A327,Sheet1!$1:$1048576,12,FALSE)","v":164.93159975056676},53.078284757863358]
[15009,{"$f":"VLOOKUP($A328,BasinData!$1:$1048576,2,FALSE)","v":0.49067269322727269},47.522146891277771,{"$f":"VLOOKUP($A328,BasinData!$1:$1048576,3,FALSE)","v":3.7860830142467061},{"$f":"VLOOKUP($A328,BasinData!$1:$1048576,4,FALSE)","v":20.646437994722955},{"$f":"VLOOKUP($A328,BasinData!$1:$1048576,5,FALSE)","v":2.5858834285099999},146.27617539061961,{"$f":"VLOOKUP($A328,Sheet1!$1:$1048576,9,FALSE)","v":232.00811149913361},-3.1675145290990696,{"$f":"VLOOKUP($A328,Sheet1!$1:$1048576,10,FALSE)","v":217.71932877706593},3.8172489500988704,{"$f":"VLOOKUP($A328,Sheet1!$1:$1048576,11,FALSE)","v":189.14176333293062},19.280347600724927,{"$f":"VLOOKUP($A328,Sheet1!$1:$1048576,12,FALSE)","v":146.27541516672761},47.522146891277771]
[15010,{"$f":"VLOOKUP($A329,BasinData!$1:$1048576,2,FALSE)","v":0.62276646425946969},47.513869784466443,{"$f":"VLOOKUP($A329,BasinData!$1:$1048576,3,FALSE)","v":3.6729387346758009},{"$f":"VLOOKUP($A329,BasinData!$1:$1048576,4,FALSE)","v":18.633103642244411},{"$f":"VLOOKUP($A329,BasinData!$1:$1048576,5,FALSE)","v":2.5879025803100002},153.32900013968481,{"$f":"VLOOKUP($A329,Sheet1!$1:$1048576,9,FALSE)","v":243.19456948764824},-3.1757908395894359,{"$f":"VLOOKUP($A329,Sheet1!$1:$1048576,10,FALSE)","v":228.21684159640265},3.8089785075966502,{"$f":"VLOOKUP($A329,Sheet1!$1:$1048576,11,FALSE)","v":198.26138581391143},19.272071254203272,{"$f":"VLOOKUP($A329,Sheet1!$1:$1048576,12,FALSE)","v":153.32820214017465},47.513869784466443]
[15011,{"$f":"VLOOKUP($A330,BasinData!$1:$1048576,2,FALSE)","v":0.12447844228094576},53.067572851740472,{"$f":"VLOOKUP($A330,BasinData!$1:$1048576,3,FALSE)","v":1.6072921933134778},{"$f":"VLOOKUP($A330,BasinData!$1:$1048576,4,FALSE)","v":17.905990563220449},{"$f":"VLOOKUP($A330,BasinData!$1:$1048576,5,FALSE)","v":1.2330700456599999},163.27767154841169,{"$f":"VLOOKUP($A330,Sheet1!$1:$1048576,9,FALSE)","v":258.97501303141223},2.377536436446515,{"$f":"VLOOKUP($A330,Sheet1!$1:$1048576,10,FALSE)","v":243.02540821914982},9.3627657441430792,{"$f":"VLOOKUP($A330,Sheet1!$1:$1048576,11,FALSE)","v":211.12619859462504},24.825082883529522,{"$f":"VLOOKUP($A330,Sheet1!$1:$1048576,12,FALSE)","v":163.27738415783784},53.067572851740472]
[15012,{"$f":"VLOOKUP($A331,BasinData!$1:$1048576,2,FALSE)","v":0.88825387276282153},50.375846938051168,{"$f":"VLOOKUP($A331,BasinData!$1:$1048576,3,FALSE)","v":1.9571199193372151},{"$f":"VLOOKUP($A331,BasinData!$1:$1048576,4,FALSE)","v":25.321752025846088},{"$f":"VLOOKUP($A331,BasinData!$1:$1048576,5,FALSE)","v":1.8897287892600001},123.59139837483413,{"$f":"VLOOKUP($A331,Sheet1!$1:$1048576,9,FALSE)","v":196.02828103823936},-0.3140437131747198,{"$f":"VLOOKUP($A331,Sheet1!$1:$1048576,10,FALSE)","v":183.95540351237628},6.6711866746854165,{"$f":"VLOOKUP($A331,Sheet1!$1:$1048576,11,FALSE)","v":159.80964846065018},22.133811114826699,{"$f":"VLOOKUP($A331,Sheet1!$1:$1048576,12,FALSE)","v":123.59101588306105},50.375846938051168]
[15013,{"$f":"VLOOKUP($A332,BasinData!$1:$1048576,2,FALSE)","v":2.8384004036836132E-2},41.118445824799281,{"$f":"VLOOKUP($A332,BasinData!$1:$1048576,3,FALSE)","v":3.7993694468464909},{"$f":"VLOOKUP($A332,BasinData!$1:$1048576,4,FALSE)","v":21.299763585221488},{"$f":"VLOOKUP($A332,BasinData!$1:$1048576,5,FALSE)","v":4.1482962837799997},149.22321432503566,{"$f":"VLOOKUP($A332,Sheet1!$1:$1048576,9,FALSE)","v":236.68342169128954},-9.5717007775709746,{"$f":"VLOOKUP($A332,Sheet1!$1:$1048576,10,FALSE)","v":222.10669864221211},-2.5864607929095111,{"$f":"VLOOKUP($A332,Sheet1!$1:$1048576,11,FALSE)","v":192.95325254405719},12.876151813999742,{"$f":"VLOOKUP($A332,Sheet1!$1:$1048576,12,FALSE)","v":149.22308339682479},41.118445824799281]
[15014,{"$f":"VLOOKUP($A333,BasinData!$1:$1048576,2,FALSE)","v":0.14033335893693832},49.860015093945478,{"$f":"VLOOKUP($A333,BasinData!$1:$1048576,3,FALSE)","v":2.5612081196535685},{"$f":"VLOOKUP($A333,BasinData!$1:$1048576,4,FALSE)","v":25.477597383971084},{"$f":"VLOOKUP($A333,BasinData!$1:$1048576,5,FALSE)","v":2.0155665197300001},131.0138004909528,{"$f":"VLOOKUP($A333,Sheet1!$1:$1048576,9,FALSE)","v":207.80088387490554},-0.82984037325452464,{"$f":"VLOOKUP($A333,Sheet1!$1:$1048576,10,FALSE)","v":195.00296202658589},6.1551149701118417,{"$f":"VLOOKUP($A333,Sheet1!$1:$1048576,11,FALSE)","v":169.40711832994663},21.618010357957168,{"$f":"VLOOKUP($A333,Sheet1!$1:$1048576,12,FALSE)","v":131.01335278498772},49.860015093945478]
[15015,{"$f":"VLOOKUP($A334,BasinData!$1:$1048576,2,FALSE)","v":1.001669449081803E-2},42.732526941472223,{"$f":"VLOOKUP($A334,BasinData!$1:$1048576,3,FALSE)","v":3.4117217701190623},{"$f":"VLOOKUP($A334,BasinData!$1:$1048576,4,FALSE)","v":22.374555876953149},{"$f":"VLOOKUP($A334,BasinData!$1:$1048576,5,FALSE)","v":3.75452796675},144.88264131925857,{"$f":"VLOOKUP($A334,Sheet1!$1:$1048576,9,FALSE)","v":229.7989581112675},-7.9576795296944036,{"$f":"VLOOKUP($A334,Sheet1!$1:$1048576,10,FALSE)","v":215.64623146308006},-0.97260541139000056,{"$f":"VLOOKUP($A334,Sheet1!$1:$1048576,11,FALSE)","v":187.34077816670518},14.49018993720725,{"$f":"VLOOKUP($A334,Sheet1!$1:$1048576,12,FALSE)","v":144.88259822214286},42.732526941472223]
[15016,{"$f":"VLOOKUP($A335,BasinData!$1:$1048576,2,FALSE)","v":1.394566834030303},36.68307217107003,{"$f":"VLOOKUP($A335,BasinData!$1:$1048576,3,FALSE)","v":4.5425182722585866},{"$f":"VLOOKUP($A335,BasinData!$1:$1048576,4,FALSE)","v":16.893644617380026},{"$f":"VLOOKUP($A335,BasinData!$1:$1048576,5,FALSE)","v":5.2304080975799998},151.11178753262485,{"$f":"VLOOKUP($A335,Sheet1!$1:$1048576,9,FALSE)","v":239.67910236708707},-14.007184629216262,{"$f":"VLOOKUP($A335,Sheet1!$1:$1048576,10,FALSE)","v":224.9178830518895},-7.0219273615017137,{"$f":"VLOOKUP($A335,Sheet1!$1:$1048576,11,FALSE)","v":195.39544442149437},8.4406991992502451,{"$f":"VLOOKUP($A335,Sheet1!$1:$1048576,12,FALSE)","v":151.11178647590168},36.68307217107003]
[15017,{"$f":"VLOOKUP($A336,BasinData!$1:$1048576,2,FALSE)","v":0.1},42.405604434976865,{"$f":"VLOOKUP($A336,BasinData!$1:$1048576,3,FALSE)","v":3.3950236484906018},{"$f":"VLOOKUP($A336,BasinData!$1:$1048576,4,FALSE)","v":22.169691746096127},{"$f":"VLOOKUP($A336,BasinData!$1:$1048576,5,FALSE)","v":3.83428430777},144.64552634520101,{"$f":"VLOOKUP($A336,Sheet1!$1:$1048576,9,FALSE)","v":229.42284995937001},-8.2845935815966687,{"$f":"VLOOKUP($A336,Sheet1!$1:$1048576,10,FALSE)","v":215.29328684468032},-1.2994639677053952,{"$f":"VLOOKUP($A336,Sheet1!$1:$1048576,11,FALSE)","v":187.03416061530098},14.163257645425311,{"$f":"VLOOKUP($A336,Sheet1!$1:$1048576,12,FALSE)","v":144.64547127123194},42.405604434976865]
[15018,{"$f":"VLOOKUP($A337,BasinData!$1:$1048576,2,FALSE)","v":0},23.591816007343251,{"$f":"VLOOKUP($A337,BasinData!$1:$1048576,3,FALSE)","v":20.001307641341519},{"$f":"VLOOKUP($A337,BasinData!$1:$1048576,4,FALSE)","v":30.065445026178011},{"$f":"VLOOKUP($A337,BasinData!$1:$1048576,5,FALSE)","v":8.4241454283100001},116.10587479665206,{"$f":"VLOOKUP($A337,Sheet1!$1:$1048576,9,FALSE)","v":184.15532100722612},-27.097971166614876,{"$f":"VLOOKUP($A337,Sheet1!$1:$1048576,10,FALSE)","v":172.81366854524009},-20.112741781519102,{"$f":"VLOOKUP($A337,Sheet1!$1:$1048576,11,FALSE)","v":150.13036362126803},-4.6503716192929954,{"$f":"VLOOKUP($A337,Sheet1!$1:$1048576,12,FALSE)","v":116.10540623530996},23.591816007343251]
[15019,{"$f":"VLOOKUP($A338,BasinData!$1:$1048576,2,FALSE)","v":8.809135399673736E-3},21.719446570150119,{"$f":"VLOOKUP($A338,BasinData!$1:$1048576,3,FALSE)","v":21.776648601956662},{"$f":"VLOOKUP($A338,BasinData!$1:$1048576,4,FALSE)","v":30.796460176991154},{"$f":"VLOOKUP($A338,BasinData!$1:$1048576,5,FALSE)","v":8.8810353046700001},113.59423455686294,{"$f":"VLOOKUP($A338,Sheet1!$1:$1048576,9,FALSE)","v":180.17223098249437},-28.970720315071745,{"$f":"VLOOKUP($A338,Sheet1!$1:$1048576,10,FALSE)","v":169.07588678821537},-21.985488018289509,{"$f":"VLOOKUP($A338,Sheet1!$1:$1048576,11,FALSE)","v":146.88319839965732},-6.5228990835895138,{"$f":"VLOOKUP($A338,Sheet1!$1:$1048576,12,FALSE)","v":113.59416581682027},21.719446570150119]
[15020,{"$f":"VLOOKUP($A339,BasinData!$1:$1048576,2,FALSE)","v":1.0931771329053031},41.972700458394094,{"$f":"VLOOKUP($A339,BasinData!$1:$1048576,3,FALSE)","v":4.7152853507257664},{"$f":"VLOOKUP($A339,BasinData!$1:$1048576,4,FALSE)","v":23.334218210777806},{"$f":"VLOOKUP($A339,BasinData!$1:$1048576,5,FALSE)","v":3.9398953425799998},128.66402430482623,{"$f":"VLOOKUP($A339,Sheet1!$1:$1048576,9,FALSE)","v":204.07449795552242},-8.7174837554678533,{"$f":"VLOOKUP($A339,Sheet1!$1:$1048576,10,FALSE)","v":191.50607462945956},-1.7322986394321644,{"$f":"VLOOKUP($A339,Sheet1!$1:$1048576,11,FALSE)","v":166.36922797733385},13.730384616236533,{"$f":"VLOOKUP($A339,Sheet1!$1:$1048576,12,FALSE)","v":128.66395799914528},41.972700458394094]
[15021,{"$f":"VLOOKUP($A340,BasinData!$1:$1048576,2,FALSE)","v":0.45416164053076002},50.767444854421399,{"$f":"VLOOKUP($A340,BasinData!$1:$1048576,3,FALSE)","v":1.8179232183204024},{"$f":"VLOOKUP($A340,BasinData!$1:$1048576,4,FALSE)","v":16.042066605458643},{"$f":"VLOOKUP($A340,BasinData!$1:$1048576,5,FALSE)","v":1.7941976464},167.6079090401681,{"$f":"VLOOKUP($A340,Sheet1!$1:$1048576,9,FALSE)","v":265.84291679742097},7.7529163287799685E-2,{"$f":"VLOOKUP($A340,Sheet1!$1:$1048576,10,FALSE)","v":249.47033546061178},7.0627593725311932,{"$f":"VLOOKUP($A340,Sheet1!$1:$1048576,11,FALSE)","v":216.7251727869934},22.525386211155606,{"$f":"VLOOKUP($A340,Sheet1!$1:$1048576,12,FALSE)","v":167.60742877656583},50.767444854421399]
[15022,{"$f":"VLOOKUP($A341,BasinData!$1:$1048576,2,FALSE)","v":0.30023339698705709},20.061534254832583,{"$f":"VLOOKUP($A341,BasinData!$1:$1048576,3,FALSE)","v":24.686750929039189},{"$f":"VLOOKUP($A341,BasinData!$1:$1048576,4,FALSE)","v":31.312043317516231},{"$f":"VLOOKUP($A341,BasinData!$1:$1048576,5,FALSE)","v":9.2855282506899997},109.20776592453105,{"$f":"VLOOKUP($A341,Sheet1!$1:$1048576,9,FALSE)","v":173.21493833715641},-30.628701959990661,{"$f":"VLOOKUP($A341,Sheet1!$1:$1048576,10,FALSE)","v":162.54707589853982},-23.643464456539377,{"$f":"VLOOKUP($A341,Sheet1!$1:$1048576,11,FALSE)","v":141.21135102130665},-8.1808674545271423,{"$f":"VLOOKUP($A341,Sheet1!$1:$1048576,12,FALSE)","v":109.20776370545688},20.061534254832583]
[15023,{"$f":"VLOOKUP($A342,BasinData!$1:$1048576,2,FALSE)","v":0.45507406261174244},28.053111512622383,{"$f":"VLOOKUP($A342,BasinData!$1:$1048576,3,FALSE)","v":15.566677988378771},{"$f":"VLOOKUP($A342,BasinData!$1:$1048576,4,FALSE)","v":25.22880331548955},{"$f":"VLOOKUP($A342,BasinData!$1:$1048576,5,FALSE)","v":7.33581808913},128.51582306324866,{"$f":"VLOOKUP($A342,Sheet1!$1:$1048576,9,FALSE)","v":203.8393659018725},-22.636756991215478,{"$f":"VLOOKUP($A342,Sheet1!$1:$1048576,10,FALSE)","v":191.28542375409211},-15.651796167673337,{"$f":"VLOOKUP($A342,Sheet1!$1:$1048576,11,FALSE)","v":166.17753945853133},-0.18916678426013478,{"$f":"VLOOKUP($A342,Sheet1!$1:$1048576,12,FALSE)","v":128.51571301519019},28.053111512622383]
[15024,{"$f":"VLOOKUP($A343,BasinData!$1:$1048576,2,FALSE)","v":0.86303161521401517},51.823876682817428,{"$f":"VLOOKUP($A343,BasinData!$1:$1048576,3,FALSE)","v":1.2747523445736921},{"$f":"VLOOKUP($A343,BasinData!$1:$1048576,4,FALSE)","v":17.731481481481481},{"$f":"VLOOKUP($A343,BasinData!$1:$1048576,5,FALSE)","v":1.53647719245},154.23195220628921,{"$f":"VLOOKUP($A343,Sheet1!$1:$1048576,9,FALSE)","v":244.6274468696395},1.1339002032568002,{"$f":"VLOOKUP($A343,Sheet1!$1:$1048576,10,FALSE)","v":229.56147174666418},8.1191298351098649,{"$f":"VLOOKUP($A343,Sheet1!$1:$1048576,11,FALSE)","v":199.42952150071355},23.581760491559599,{"$f":"VLOOKUP($A343,Sheet1!$1:$1048576,12,FALSE)","v":154.2315961317876},51.823876682817428]
[15025,{"$f":"VLOOKUP($A344,BasinData!$1:$1048576,2,FALSE)","v":0.41825534373194684},35.644088513382528,{"$f":"VLOOKUP($A344,BasinData!$1:$1048576,3,FALSE)","v":7.1367783850958766},{"$f":"VLOOKUP($A344,BasinData!$1:$1048576,4,FALSE)","v":23.03774050320671},{"$f":"VLOOKUP($A344,BasinData!$1:$1048576,5,FALSE)","v":5.4838828530699999},137.34085309006238,{"$f":"VLOOKUP($A344,Sheet1!$1:$1048576,9,FALSE)","v":217.83692867596508},-15.046133104199333,{"$f":"VLOOKUP($A344,Sheet1!$1:$1048576,10,FALSE)","v":204.42091264712448},-8.0608952355941899,{"$f":"VLOOKUP($A344,Sheet1!$1:$1048576,11,FALSE)","v":177.58888058944325},7.4017349731999786,{"$f":"VLOOKUP($A344,Sheet1!$1:$1048576,12,FALSE)","v":137.34083250292142},35.644088513382528]
[15026,{"$f":"VLOOKUP($A345,BasinData!$1:$1048576,2,FALSE)","v":1.0200522023295455},51.853639075168907,{"$f":"VLOOKUP($A345,BasinData!$1:$1048576,3,FALSE)","v":1.5082273964315032},{"$f":"VLOOKUP($A345,BasinData!$1:$1048576,4,FALSE)","v":11.505296871150529},{"$f":"VLOOKUP($A345,BasinData!$1:$1048576,5,FALSE)","v":1.52921651312},182.21815878898573,{"$f":"VLOOKUP($A345,Sheet1!$1:$1048576,9,FALSE)","v":289.01640006152843},1.1636610193183803,{"$f":"VLOOKUP($A345,Sheet1!$1:$1048576,10,FALSE)","v":271.21662350669538},8.1488906861490378,{"$f":"VLOOKUP($A345,Sheet1!$1:$1048576,11,FALSE)","v":235.61707039702938},23.611521355580145,{"$f":"VLOOKUP($A345,Sheet1!$1:$1048576,12,FALSE)","v":182.21774073253033},51.853639075168907]
[15027,{"$f":"VLOOKUP($A346,BasinData!$1:$1048576,2,FALSE)","v":0.13756927949327},35.312431204995526,{"$f":"VLOOKUP($A346,BasinData!$1:$1048576,3,FALSE)","v":7.325893425502314},{"$f":"VLOOKUP($A346,BasinData!$1:$1048576,4,FALSE)","v":23.455554040696683},{"$f":"VLOOKUP($A346,BasinData!$1:$1048576,5,FALSE)","v":5.5647933200399997},138.92979782680899,{"$f":"VLOOKUP($A346,Sheet1!$1:$1048576,9,FALSE)","v":220.35713420024226},-15.377773547956673,{"$f":"VLOOKUP($A346,Sheet1!$1:$1048576,10,FALSE)","v":206.78590519665406},-8.3930703570794503,{"$f":"VLOOKUP($A346,Sheet1!$1:$1048576,11,FALSE)","v":179.64344718947766},7.0700915502925907,{"$f":"VLOOKUP($A346,Sheet1!$1:$1048576,12,FALSE)","v":138.92976017871305},35.312431204995526]
[15028,{"$f":"VLOOKUP($A347,BasinData!$1:$1048576,2,FALSE)","v":0},36.244062379609808,{"$f":"VLOOKUP($A347,BasinData!$1:$1048576,3,FALSE)","v":6.8228012759340286},{"$f":"VLOOKUP($A347,BasinData!$1:$1048576,4,FALSE)","v":22.605297384617241},{"$f":"VLOOKUP($A347,BasinData!$1:$1048576,5,FALSE)","v":5.3375115826000004},144.04082349609669,{"$f":"VLOOKUP($A347,Sheet1!$1:$1048576,9,FALSE)","v":228.46380708248606},-14.446181315644244,{"$f":"VLOOKUP($A347,Sheet1!$1:$1048576,10,FALSE)","v":214.39330895134543},-7.4609339172298688,{"$f":"VLOOKUP($A347,Sheet1!$1:$1048576,11,FALSE)","v":186.25231268906418},8.0016946072046888,{"$f":"VLOOKUP($A347,Sheet1!$1:$1048576,12,FALSE)","v":144.04081829564228},36.244062379609808]
[15029,{"$f":"VLOOKUP($A348,BasinData!$1:$1048576,2,FALSE)","v":1.9042151504166667},50.416169358405419,{"$f":"VLOOKUP($A348,BasinData!$1:$1048576,3,FALSE)","v":1.5644634208721799},{"$f":"VLOOKUP($A348,BasinData!$1:$1048576,4,FALSE)","v":19.139993533785969},{"$f":"VLOOKUP($A348,BasinData!$1:$1048576,5,FALSE)","v":1.87989206537},135.6791624492941,{"$f":"VLOOKUP($A348,Sheet1!$1:$1048576,9,FALSE)","v":215.2006853362609},-0.27372393659258387,{"$f":"VLOOKUP($A348,Sheet1!$1:$1048576,10,FALSE)","v":201.94702875270062},6.7115062181262397,{"$f":"VLOOKUP($A348,Sheet1!$1:$1048576,11,FALSE)","v":175.43971558558002},22.174131152251938,{"$f":"VLOOKUP($A348,Sheet1!$1:$1048576,12,FALSE)","v":135.67874583489908},50.416169358405419]
[15030,{"$f":"VLOOKUP($A349,BasinData!$1:$1048576,2,FALSE)","v":0.1001934235976789},49.000926683869992,{"$f":"VLOOKUP($A349,BasinData!$1:$1048576,3,FALSE)","v":9.2963776063214869},{"$f":"VLOOKUP($A349,BasinData!$1:$1048576,4,FALSE)","v":20.575825266815588},{"$f":"VLOOKUP($A349,BasinData!$1:$1048576,5,FALSE)","v":2.22514061064},151.46222055938136,{"$f":"VLOOKUP($A349,Sheet1!$1:$1048576,9,FALSE)","v":240.23396458005317},-1.688864327173164,{"$f":"VLOOKUP($A349,Sheet1!$1:$1048576,10,FALSE)","v":225.43857272860018},5.2960946597005156,{"$f":"VLOOKUP($A349,Sheet1!$1:$1048576,11,FALSE)","v":195.8477890256942},20.758975750458443,{"$f":"VLOOKUP($A349,Sheet1!$1:$1048576,12,FALSE)","v":151.4616134713352},49.000926683869992]
[15031,{"$f":"VLOOKUP($A350,BasinData!$1:$1048576,2,FALSE)","v":0.65657275346026833},33.065862380971936,{"$f":"VLOOKUP($A350,BasinData!$1:$1048576,3,FALSE)","v":7.1314355869518984},{"$f":"VLOOKUP($A350,BasinData!$1:$1048576,4,FALSE)","v":25.158301696213996},{"$f":"VLOOKUP($A350,BasinData!$1:$1048576,5,FALSE)","v":6.1127971698100003},126.61693741224491,{"$f":"VLOOKUP($A350,Sheet1!$1:$1048576,9,FALSE)","v":200.82700551290901},-17.623641723576824,{"$f":"VLOOKUP($A350,Sheet1!$1:$1048576,10,FALSE)","v":188.45858689187233},-10.638991574844088,{"$f":"VLOOKUP($A350,Sheet1!$1:$1048576,11,FALSE)","v":163.72174964979894},4.8238496284955463,{"$f":"VLOOKUP($A350,Sheet1!$1:$1048576,12,FALSE)","v":126.61649378668884},33.065862380971936]
[15032,{"$f":"VLOOKUP($A351,BasinData!$1:$1048576,2,FALSE)","v":24.058512820512821},36.053011023000259,{"$f":"VLOOKUP($A351,BasinData!$1:$1048576,3,FALSE)","v":6.915576650637596},{"$f":"VLOOKUP($A351,BasinData!$1:$1048576,4,FALSE)","v":22.861208208699317},{"$f":"VLOOKUP($A351,BasinData!$1:$1048576,5,FALSE)","v":5.3828755126000001},18.950538517150303,{"$f":"VLOOKUP($A351,Sheet1!$1:$1048576,9,FALSE)","v":30.056138145684457},-14.632120112807874,{"$f":"VLOOKUP($A351,Sheet1!$1:$1048576,10,FALSE)","v":28.20505791985477},-7.6475332493471058,{"$f":"VLOOKUP($A351,Sheet1!$1:$1048576,11,FALSE)","v":24.502897468195403},7.8126567074396807,{"$f":"VLOOKUP($A351,Sheet1!$1:$1048576,12,FALSE)","v":18.949656790706349},36.053011023000259]
[15033,{"$f":"VLOOKUP($A352,BasinData!$1:$1048576,2,FALSE)","v":1.9395979732386364},55.027544203095893,{"$f":"VLOOKUP($A352,BasinData!$1:$1048576,3,FALSE)","v":1.7917487703225723},{"$f":"VLOOKUP($A352,BasinData!$1:$1048576,4,FALSE)","v":8.1745120551090711},{"$f":"VLOOKUP($A352,BasinData!$1:$1048576,5,FALSE)","v":0.75491788220599998},185.71649353719354,{"$f":"VLOOKUP($A352,Sheet1!$1:$1048576,9,FALSE)","v":294.56546504080399},4.3374352266326195,{"$f":"VLOOKUP($A352,Sheet1!$1:$1048576,10,FALSE)","v":276.42393584944818},11.322649389934034,{"$f":"VLOOKUP($A352,Sheet1!$1:$1048576,11,FALSE)","v":240.14087746673658},26.785272739170829,{"$f":"VLOOKUP($A352,Sheet1!$1:$1048576,12,FALSE)","v":185.71628989266912},55.027544203095893]
[15034,{"$f":"VLOOKUP($A353,BasinData!$1:$1048576,2,FALSE)","v":1.1348758466761362},44.722555919599046,{"$f":"VLOOKUP($A353,BasinData!$1:$1048576,3,FALSE)","v":1.1638440571415209},{"$f":"VLOOKUP($A353,BasinData!$1:$1048576,4,FALSE)","v":21.361815754339119},{"$f":"VLOOKUP($A353,BasinData!$1:$1048576,5,FALSE)","v":3.26903188018},135.73491178701019,{"$f":"VLOOKUP($A353,Sheet1!$1:$1048576,9,FALSE)","v":215.28976227639464},-5.9676756107479951,{"$f":"VLOOKUP($A353,Sheet1!$1:$1048576,10,FALSE)","v":202.03061967325127},1.0175597712275912,{"$f":"VLOOKUP($A353,Sheet1!$1:$1048576,11,FALSE)","v":175.51233446696449},16.480190899676757,{"$f":"VLOOKUP($A353,Sheet1!$1:$1048576,12,FALSE)","v":135.73490665753434},44.722555919599046]
[15035,{"$f":"VLOOKUP($A354,BasinData!$1:$1048576,2,FALSE)","v":0},35.869325204769552,{"$f":"VLOOKUP($A354,BasinData!$1:$1048576,3,FALSE)","v":7.0650003372050447},{"$f":"VLOOKUP($A354,BasinData!$1:$1048576,4,FALSE)","v":23.673703018920179},{"$f":"VLOOKUP($A354,BasinData!$1:$1048576,5,FALSE)","v":5.4289338484099998},139.66125602755412,{"$f":"VLOOKUP($A354,Sheet1!$1:$1048576,9,FALSE)","v":221.51734234802353},-14.820905660947727,{"$f":"VLOOKUP($A354,Sheet1!$1:$1048576,10,FALSE)","v":207.87465910937044},-7.8356647152363079,{"$f":"VLOOKUP($A354,Sheet1!$1:$1048576,11,FALSE)","v":180.58929263206429},7.6269649758024816,{"$f":"VLOOKUP($A354,Sheet1!$1:$1048576,12,FALSE)","v":139.66124291610501},35.869325204769552]
[15036,{"$f":"VLOOKUP($A355,BasinData!$1:$1048576,2,FALSE)","v":5.9223300970873791E-2},35.872427522892622,{"$f":"VLOOKUP($A355,BasinData!$1:$1048576,3,FALSE)","v":7.1916133575900769},{"$f":"VLOOKUP($A355,BasinData!$1:$1048576,4,FALSE)","v":23.54876124199038},{"$f":"VLOOKUP($A355,BasinData!$1:$1048576,5,FALSE)","v":5.4281769999199998},139.47089622301061,{"$f":"VLOOKUP($A355,Sheet1!$1:$1048576,9,FALSE)","v":221.21541195425544},-14.817803460493241,{"$f":"VLOOKUP($A355,Sheet1!$1:$1048576,10,FALSE)","v":207.59132383180699},-7.8325624683462483,{"$f":"VLOOKUP($A355,Sheet1!$1:$1048576,11,FALSE)","v":180.34314758691005},7.6300672146743374,{"$f":"VLOOKUP($A355,Sheet1!$1:$1048576,12,FALSE)","v":139.47088321956466},35.872427522892622]
[15037,{"$f":"VLOOKUP($A356,BasinData!$1:$1048576,2,FALSE)","v":0.13544018058690743},42.247682970138385,{"$f":"VLOOKUP($A356,BasinData!$1:$1048576,3,FALSE)","v":11.395732698371059},{"$f":"VLOOKUP($A356,BasinData!$1:$1048576,4,FALSE)","v":25.850827541735327},{"$f":"VLOOKUP($A356,BasinData!$1:$1048576,5,FALSE)","v":3.87281083903},129.66112931805569,{"$f":"VLOOKUP($A356,Sheet1!$1:$1048576,9,FALSE)","v":205.65602828421029},-8.4425103745570613,{"$f":"VLOOKUP($A356,Sheet1!$1:$1048576,10,FALSE)","v":192.99020257385595},-1.4573582040838593,{"$f":"VLOOKUP($A356,Sheet1!$1:$1048576,11,FALSE)","v":167.65855115314727},14.005349366807962,{"$f":"VLOOKUP($A356,Sheet1!$1:$1048576,12,FALSE)","v":129.66107402208425},42.247682970138385]
[15038,{"$f":"VLOOKUP($A357,BasinData!$1:$1048576,2,FALSE)","v":1.1345502639886362},46.025662291940051,{"$f":"VLOOKUP($A357,BasinData!$1:$1048576,3,FALSE)","v":2.6698199685848647},{"$f":"VLOOKUP($A357,BasinData!$1:$1048576,4,FALSE)","v":21.900500131613583},{"$f":"VLOOKUP($A357,BasinData!$1:$1048576,5,FALSE)","v":2.95093864053},133.64269533006382,{"$f":"VLOOKUP($A357,Sheet1!$1:$1048576,9,FALSE)","v":211.96988712360996},-4.6638412049546627,{"$f":"VLOOKUP($A357,Sheet1!$1:$1048576,10,FALSE)","v":198.91520709040009},2.3213920982982414,{"$f":"VLOOKUP($A357,Sheet1!$1:$1048576,11,FALSE)","v":172.80584702398033},17.783912614122691,{"$f":"VLOOKUP($A357,Sheet1!$1:$1048576,12,FALSE)","v":133.64180692435067},46.025662291940051]
[15039,{"$f":"VLOOKUP($A358,BasinData!$1:$1048576,2,FALSE)","v":0},35.720704428196456,{"$f":"VLOOKUP($A358,BasinData!$1:$1048576,3,FALSE)","v":7.3626522607365015},{"$f":"VLOOKUP($A358,BasinData!$1:$1048576,4,FALSE)","v":23.639545748935813},{"$f":"VLOOKUP($A358,BasinData!$1:$1048576,5,FALSE)","v":5.46519160212},139.79919489417159,{"$f":"VLOOKUP($A358,Sheet1!$1:$1048576,9,FALSE)","v":221.73612007256574},-14.969520502772093,{"$f":"VLOOKUP($A358,Sheet1!$1:$1048576,10,FALSE)","v":208.07996287668669},-7.9842816515947481,{"$f":"VLOOKUP($A358,Sheet1!$1:$1048576,11,FALSE)","v":180.76764848492863},7.4783483948681697,{"$f":"VLOOKUP($A358,Sheet1!$1:$1048576,12,FALSE)","v":139.79917689729155},35.720704428196456]
[15040,{"$f":"VLOOKUP($A359,BasinData!$1:$1048576,2,FALSE)","v":0.6558773712803031},26.992150197520623,{"$f":"VLOOKUP($A359,BasinData!$1:$1048576,3,FALSE)","v":4.3371855857437245},{"$f":"VLOOKUP($A359,BasinData!$1:$1048576,4,FALSE)","v":26.831091180866967},{"$f":"VLOOKUP($A359,BasinData!$1:$1048576,5,FALSE)","v":7.5946090250499996},120.64837005153566,{"$f":"VLOOKUP($A359,Sheet1!$1:$1048576,9,FALSE)","v":191.36041977065702},-23.697303580429313,{"$f":"VLOOKUP($A359,Sheet1!$1:$1048576,10,FALSE)","v":179.57502381170241},-16.712554485508416,{"$f":"VLOOKUP($A359,Sheet1!$1:$1048576,11,FALSE)","v":156.00423189379319},-1.2499234769018539,{"$f":"VLOOKUP($A359,Sheet1!$1:$1048576,12,FALSE)","v":120.64804401692936},26.992150197520623]
[15041,{"$f":"VLOOKUP($A360,BasinData!$1:$1048576,2,FALSE)","v":9.496919917864477E-2},13.374095522453102,{"$f":"VLOOKUP($A360,BasinData!$1:$1048576,3,FALSE)","v":26.815225401462072},{"$f":"VLOOKUP($A360,BasinData!$1:$1048576,4,FALSE)","v":32.10801731377996},{"$f":"VLOOKUP($A360,BasinData!$1:$1048576,5,FALSE)","v":10.917042843700001},108.58040078028155,{"$f":"VLOOKUP($A360,Sheet1!$1:$1048576,9,FALSE)","v":172.21983748032659},-37.31576786011248,{"$f":"VLOOKUP($A360,Sheet1!$1:$1048576,10,FALSE)","v":161.61326074348099},-30.330880976433633,{"$f":"VLOOKUP($A360,Sheet1!$1:$1048576,11,FALSE)","v":140.40010726978977},-14.868262239202457,{"$f":"VLOOKUP($A360,Sheet1!$1:$1048576,12,FALSE)","v":108.58037705925297},13.374095522453102]
[15042,{"$f":"VLOOKUP($A361,BasinData!$1:$1048576,2,FALSE)","v":0.89267910593749999},8.3267196686056977,{"$f":"VLOOKUP($A361,BasinData!$1:$1048576,3,FALSE)","v":1.631098736755876},{"$f":"VLOOKUP($A361,BasinData!$1:$1048576,4,FALSE)","v":21.071012805587895},{"$f":"VLOOKUP($A361,BasinData!$1:$1048576,5,FALSE)","v":12.148321127099999},139.69439698728311,{"$f":"VLOOKUP($A361,Sheet1!$1:$1048576,9,FALSE)","v":221.56889593375416},-42.362999229819181,{"$f":"VLOOKUP($A361,Sheet1!$1:$1048576,10,FALSE)","v":207.92303764238295},-35.377768677374682,{"$f":"VLOOKUP($A361,Sheet1!$1:$1048576,11,FALSE)","v":180.63132105964047},-19.915141935596409,{"$f":"VLOOKUP($A361,Sheet1!$1:$1048576,12,FALSE)","v":139.69374618552672},8.3267196686056977]
[15043,{"$f":"VLOOKUP($A362,BasinData!$1:$1048576,2,FALSE)","v":0.38240816100378788},27.394753498228198,{"$f":"VLOOKUP($A362,BasinData!$1:$1048576,3,FALSE)","v":3.5563478010833567},{"$f":"VLOOKUP($A362,BasinData!$1:$1048576,4,FALSE)","v":32.632842990093067},{"$f":"VLOOKUP($A362,BasinData!$1:$1048576,5,FALSE)","v":7.4964507109799996},104.39467659807242,{"$f":"VLOOKUP($A362,Sheet1!$1:$1048576,9,FALSE)","v":165.58082608785989},-23.295053362880431,{"$f":"VLOOKUP($A362,Sheet1!$1:$1048576,10,FALSE)","v":155.38312898312424},-16.310213313980736,{"$f":"VLOOKUP($A362,Sheet1!$1:$1048576,11,FALSE)","v":134.9877347736529},-0.84758283055814609,{"$f":"VLOOKUP($A362,Sheet1!$1:$1048576,12,FALSE)","v":104.39464345944592},27.394753498228198]
[15044,{"$f":"VLOOKUP($A363,BasinData!$1:$1048576,2,FALSE)","v":1.0667082469147726},38.688594055721062,{"$f":"VLOOKUP($A363,BasinData!$1:$1048576,3,FALSE)","v":3.7355279383172477},{"$f":"VLOOKUP($A363,BasinData!$1:$1048576,4,FALSE)","v":35.825864276568502},{"$f":"VLOOKUP($A363,BasinData!$1:$1048576,5,FALSE)","v":4.7410477028600004},89.875173315240971,{"$f":"VLOOKUP($A363,Sheet1!$1:$1048576,9,FALSE)","v":142.55101396170963},-12.001338372540493,{"$f":"VLOOKUP($A363,Sheet1!$1:$1048576,10,FALSE)","v":133.77166373922006},-5.0160877373935744,{"$f":"VLOOKUP($A363,Sheet1!$1:$1048576,11,FALSE)","v":116.21296329424092},10.446516469853368,{"$f":"VLOOKUP($A363,Sheet1!$1:$1048576,12,FALSE)","v":89.874912626772215},38.688594055721062]
[15045,{"$f":"VLOOKUP($A364,BasinData!$1:$1048576,2,FALSE)","v":8.1017273918741814},17.060183449644214,{"$f":"VLOOKUP($A364,BasinData!$1:$1048576,3,FALSE)","v":3.1076182988871861},{"$f":"VLOOKUP($A364,BasinData!$1:$1048576,4,FALSE)","v":31.434751261715931},{"$f":"VLOOKUP($A364,BasinData!$1:$1048576,5,FALSE)","v":10.017705578399999},56.50801577158154,{"$f":"VLOOKUP($A364,Sheet1!$1:$1048576,9,FALSE)","v":89.627436703061647},-33.629818794572429,{"$f":"VLOOKUP($A364,Sheet1!$1:$1048576,10,FALSE)","v":84.107513452487268},-26.644586687374069,{"$f":"VLOOKUP($A364,Sheet1!$1:$1048576,11,FALSE)","v":73.067666951338509},-11.181978004346357,{"$f":"VLOOKUP($A364,Sheet1!$1:$1048576,12,FALSE)","v":56.507897199615371},17.060183449644214]
[15046,{"$f":"VLOOKUP($A365,BasinData!$1:$1048576,2,FALSE)","v":7.06233421750663E-2},50.032707766929249,{"$f":"VLOOKUP($A365,BasinData!$1:$1048576,3,FALSE)","v":1.4309382612860875},{"$f":"VLOOKUP($A365,BasinData!$1:$1048576,4,FALSE)","v":21.570043325768516},{"$f":"VLOOKUP($A365,BasinData!$1:$1048576,5,FALSE)","v":1.9734380276100001},147.53810892960647,{"$f":"VLOOKUP($A365,Sheet1!$1:$1048576,9,FALSE)","v":234.01010210965126},-0.65715976422270483,{"$f":"VLOOKUP($A365,Sheet1!$1:$1048576,10,FALSE)","v":219.59802193621232},6.3280708325786765,{"$f":"VLOOKUP($A365,Sheet1!$1:$1048576,11,FALSE)","v":190.77386158933444},21.790692506985007,{"$f":"VLOOKUP($A365,Sheet1!$1:$1048576,12,FALSE)","v":147.53762106901758},50.032707766929249]
[15047,{"$f":"VLOOKUP($A366,BasinData!$1:$1048576,2,FALSE)","v":0.90724398963446984},33.418585525673571,{"$f":"VLOOKUP($A366,BasinData!$1:$1048576,3,FALSE)","v":4.9428614436075291},{"$f":"VLOOKUP($A366,BasinData!$1:$1048576,4,FALSE)","v":29.335347432024168},{"$f":"VLOOKUP($A366,BasinData!$1:$1048576,5,FALSE)","v":6.0267686919300001},109.88038484059676,{"$f":"VLOOKUP($A366,Sheet1!$1:$1048576,9,FALSE)","v":174.2813352562132},-17.271329248147246,{"$f":"VLOOKUP($A366,Sheet1!$1:$1048576,10,FALSE)","v":163.54779617476967},-10.286407000464585,{"$f":"VLOOKUP($A366,Sheet1!$1:$1048576,11,FALSE)","v":142.0807180118826},5.176468465767627,{"$f":"VLOOKUP($A366,Sheet1!$1:$1048576,12,FALSE)","v":109.88010076755195},33.418585525673571]
[15048,{"$f":"VLOOKUP($A367,BasinData!$1:$1048576,2,FALSE)","v":0.17746774677467747},19.22955868810805,{"$f":"VLOOKUP($A367,BasinData!$1:$1048576,3,FALSE)","v":19.67456978038701},{"$f":"VLOOKUP($A367,BasinData!$1:$1048576,4,FALSE)","v":31.580936673195204},{"$f":"VLOOKUP($A367,BasinData!$1:$1048576,5,FALSE)","v":9.4883675918399994},109.48620331316144,{"$f":"VLOOKUP($A367,Sheet1!$1:$1048576,9,FALSE)","v":173.6556886792057},-31.460124399651249,{"$f":"VLOOKUP($A367,Sheet1!$1:$1048576,10,FALSE)","v":162.96068156089871},-24.474882788790463,{"$f":"VLOOKUP($A367,Sheet1!$1:$1048576,11,FALSE)","v":141.57066732428473},-9.0122821934301953,{"$f":"VLOOKUP($A367,Sheet1!$1:$1048576,12,FALSE)","v":109.48564596936374},19.22955868810805]
[15049,{"$f":"VLOOKUP($A368,BasinData!$1:$1048576,2,FALSE)","v":0.84558210541666667},42.921663671959877,{"$f":"VLOOKUP($A368,BasinData!$1:$1048576,3,FALSE)","v":3.2111059728025459},{"$f":"VLOOKUP($A368,BasinData!$1:$1048576,4,FALSE)","v":38.834365091348332},{"$f":"VLOOKUP($A368,BasinData!$1:$1048576,5,FALSE)","v":3.70838580726},83.935447559821881,{"$f":"VLOOKUP($A368,Sheet1!$1:$1048576,9,FALSE)","v":133.13036694049856},-7.7685469954326836,{"$f":"VLOOKUP($A368,Sheet1!$1:$1048576,10,FALSE)","v":124.93121013244435},-0.78351060350478896,{"$f":"VLOOKUP($A368,Sheet1!$1:$1048576,11,FALSE)","v":108.53289651633591},14.679315683870042,{"$f":"VLOOKUP($A368,Sheet1!$1:$1048576,12,FALSE)","v":83.93542609217323},42.921663671959877]
[15050,{"$f":"VLOOKUP($A369,BasinData!$1:$1048576,2,FALSE)","v":3.105353400647742E-2},32.496424124249344,{"$f":"VLOOKUP($A369,BasinData!$1:$1048576,3,FALSE)","v":8.6949745033135919},{"$f":"VLOOKUP($A369,BasinData!$1:$1048576,4,FALSE)","v":25.169042326644181},{"$f":"VLOOKUP($A369,BasinData!$1:$1048576,5,FALSE)","v":6.2516690279000002},133.40658107121476,{"$f":"VLOOKUP($A369,Sheet1!$1:$1048576,9,FALSE)","v":211.59563655914556},-18.193202154522211,{"$f":"VLOOKUP($A369,Sheet1!$1:$1048576,10,FALSE)","v":198.56400565540227},-11.208159262714711,{"$f":"VLOOKUP($A369,Sheet1!$1:$1048576,11,FALSE)","v":172.50074384791571},4.254632518891861,{"$f":"VLOOKUP($A369,Sheet1!$1:$1048576,12,FALSE)","v":133.40585113668584},32.496424124249344]
[15051,{"$f":"VLOOKUP($A370,BasinData!$1:$1048576,2,FALSE)","v":1.7866109459393942},53.539272748913326,{"$f":"VLOOKUP($A370,BasinData!$1:$1048576,3,FALSE)","v":1.5310164939168032},{"$f":"VLOOKUP($A370,BasinData!$1:$1048576,4,FALSE)","v":4.3885469628043881},{"$f":"VLOOKUP($A370,BasinData!$1:$1048576,5,FALSE)","v":1.1179953003500001},209.86974294897786,{"$f":"VLOOKUP($A370,Sheet1!$1:$1048576,9,FALSE)","v":332.87484284108564},2.8492165415867734,{"$f":"VLOOKUP($A370,Sheet1!$1:$1048576,10,FALSE)","v":312.37393762589682},9.8344460018256044,{"$f":"VLOOKUP($A370,Sheet1!$1:$1048576,11,FALSE)","v":271.37212719551923},25.297012726498245,{"$f":"VLOOKUP($A370,Sheet1!$1:$1048576,12,FALSE)","v":209.86941154995282},53.539272748913326]
[15052,{"$f":"VLOOKUP($A371,BasinData!$1:$1048576,2,FALSE)","v":2.4417178801325758},52.477267474453406,{"$f":"VLOOKUP($A371,BasinData!$1:$1048576,3,FALSE)","v":2.0401277846380728},{"$f":"VLOOKUP($A371,BasinData!$1:$1048576,4,FALSE)","v":20.985507246376812},{"$f":"VLOOKUP($A371,BasinData!$1:$1048576,5,FALSE)","v":1.3770789540099999},122.95351531176929,{"$f":"VLOOKUP($A371,Sheet1!$1:$1048576,9,FALSE)","v":195.01674708058522},1.7872580129513722,{"$f":"VLOOKUP($A371,Sheet1!$1:$1048576,10,FALSE)","v":183.00616732889705},8.7723092113477144,{"$f":"VLOOKUP($A371,Sheet1!$1:$1048576,11,FALSE)","v":158.98500782552071},24.235118990006331,{"$f":"VLOOKUP($A371,Sheet1!$1:$1048576,12,FALSE)","v":122.95326857045619},52.477267474453406]
[15053,{"$f":"VLOOKUP($A372,BasinData!$1:$1048576,2,FALSE)","v":0.69317714473484848},48.305258927183672,{"$f":"VLOOKUP($A372,BasinData!$1:$1048576,3,FALSE)","v":1.2242438837796425},{"$f":"VLOOKUP($A372,BasinData!$1:$1048576,4,FALSE)","v":25.959261013737567},{"$f":"VLOOKUP($A372,BasinData!$1:$1048576,5,FALSE)","v":2.3948469131699999},123.34000750934617,{"$f":"VLOOKUP($A372,Sheet1!$1:$1048576,9,FALSE)","v":195.62926739911708},-2.3844741390079887,{"$f":"VLOOKUP($A372,Sheet1!$1:$1048576,10,FALSE)","v":183.58096409678319},4.6007572702463824,{"$f":"VLOOKUP($A372,Sheet1!$1:$1048576,11,FALSE)","v":159.48435749211544},20.063158132757113,{"$f":"VLOOKUP($A372,Sheet1!$1:$1048576,12,FALSE)","v":123.33944758511377},48.305258927183672]
[15054,{"$f":"VLOOKUP($A373,BasinData!$1:$1048576,2,FALSE)","v":1.5757314427045457},48.348077946475335,{"$f":"VLOOKUP($A373,BasinData!$1:$1048576,3,FALSE)","v":2.2073011395002564},{"$f":"VLOOKUP($A373,BasinData!$1:$1048576,4,FALSE)","v":17.882792301062914},{"$f":"VLOOKUP($A373,BasinData!$1:$1048576,5,FALSE)","v":2.3844013674000002},144.63599126412296,{"$f":"VLOOKUP($A373,Sheet1!$1:$1048576,9,FALSE)","v":229.40678008804443},-2.3416588495306399,{"$f":"VLOOKUP($A373,Sheet1!$1:$1048576,10,FALSE)","v":215.27820667538828},4.6435724976330119,{"$f":"VLOOKUP($A373,Sheet1!$1:$1048576,11,FALSE)","v":187.02105985007594},20.106024902470605,{"$f":"VLOOKUP($A373,Sheet1!$1:$1048576,12,FALSE)","v":144.63533961210746},48.348077946475335]
[15055,{"$f":"VLOOKUP($A374,BasinData!$1:$1048576,2,FALSE)","v":1.4912162212405302},38.938651196924241,{"$f":"VLOOKUP($A374,BasinData!$1:$1048576,3,FALSE)","v":3.0964749180603506},{"$f":"VLOOKUP($A374,BasinData!$1:$1048576,4,FALSE)","v":26.862123613312207},{"$f":"VLOOKUP($A374,BasinData!$1:$1048576,5,FALSE)","v":4.6800496953400001},112.37201004119207,{"$f":"VLOOKUP($A374,Sheet1!$1:$1048576,9,FALSE)","v":178.23329953967655},-11.75131257992885,{"$f":"VLOOKUP($A374,Sheet1!$1:$1048576,10,FALSE)","v":167.25636914485648},-4.7660629757577047,{"$f":"VLOOKUP($A374,Sheet1!$1:$1048576,11,FALSE)","v":145.30250835521636},10.696499855037381,{"$f":"VLOOKUP($A374,Sheet1!$1:$1048576,12,FALSE)","v":112.37171717075618},38.938651196924241]
[15056,{"$f":"VLOOKUP($A375,BasinData!$1:$1048576,2,FALSE)","v":3.9554117224020136E-2},48.520621022957599,{"$f":"VLOOKUP($A375,BasinData!$1:$1048576,3,FALSE)","v":1.8041991345499573},{"$f":"VLOOKUP($A375,BasinData!$1:$1048576,4,FALSE)","v":23.486163586235065},{"$f":"VLOOKUP($A375,BasinData!$1:$1048576,5,FALSE)","v":2.34231004902},139.9550794951609,{"$f":"VLOOKUP($A375,Sheet1!$1:$1048576,9,FALSE)","v":221.98242791490611},-2.1691305784485349,{"$f":"VLOOKUP($A375,Sheet1!$1:$1048576,10,FALSE)","v":208.31110125267006},4.8160967635954091,{"$f":"VLOOKUP($A375,Sheet1!$1:$1048576,11,FALSE)","v":180.96844792819795},20.278693314761899,{"$f":"VLOOKUP($A375,Sheet1!$1:$1048576,12,FALSE)","v":139.95446794148978},48.520621022957599]
[15058,{"$f":"VLOOKUP($A376,BasinData!$1:$1048576,2,FALSE)","v":0.51817116060961321},36.667410498492707,{"$f":"VLOOKUP($A376,BasinData!$1:$1048576,3,FALSE)","v":6.4385668257188335},{"$f":"VLOOKUP($A376,BasinData!$1:$1048576,4,FALSE)","v":21.722959932758314},{"$f":"VLOOKUP($A376,BasinData!$1:$1048576,5,FALSE)","v":5.2342290271799996},141.46748493066087,{"$f":"VLOOKUP($A376,Sheet1!$1:$1048576,9,FALSE)","v":224.38222945687789},-14.022845842964321,{"$f":"VLOOKUP($A376,Sheet1!$1:$1048576,10,FALSE)","v":210.56310519141257},-7.0375889726468328,{"$f":"VLOOKUP($A376,Sheet1!$1:$1048576,11,FALSE)","v":182.92485666048194},8.4250376709621246,{"$f":"VLOOKUP($A376,Sheet1!$1:$1048576,12,FALSE)","v":141.46748386408598},36.667410498492707]
[15059,{"$f":"VLOOKUP($A377,BasinData!$1:$1048576,2,FALSE)","v":0.63222107893576351},50.860546444787545,{"$f":"VLOOKUP($A377,BasinData!$1:$1048576,3,FALSE)","v":2.317800732057179},{"$f":"VLOOKUP($A377,BasinData!$1:$1048576,4,FALSE)","v":22.138503217067392},{"$f":"VLOOKUP($A377,BasinData!$1:$1048576,5,FALSE)","v":1.7714852651199999},138.44640917173442,{"$f":"VLOOKUP($A377,Sheet1!$1:$1048576,9,FALSE)","v":219.58987128302746},0.17062500608469386,{"$f":"VLOOKUP($A377,Sheet1!$1:$1048576,10,FALSE)","v":206.06589602864631},7.1558552887809403,{"$f":"VLOOKUP($A377,Sheet1!$1:$1048576,11,FALSE)","v":179.01794551988402},22.618482486237774,{"$f":"VLOOKUP($A377,Sheet1!$1:$1048576,12,FALSE)","v":138.44601975674055},50.860546444787545]
[15060,{"$f":"VLOOKUP($A378,BasinData!$1:$1048576,2,FALSE)","v":0.80418132868371217},51.316244224802233,{"$f":"VLOOKUP($A378,BasinData!$1:$1048576,3,FALSE)","v":1.7110479269773282},{"$f":"VLOOKUP($A378,BasinData!$1:$1048576,4,FALSE)","v":36.054648450516495},{"$f":"VLOOKUP($A378,BasinData!$1:$1048576,5,FALSE)","v":1.6603163035999999},91.273619937814985,{"$f":"VLOOKUP($A378,Sheet1!$1:$1048576,9,FALSE)","v":144.76913872192534},0.62629576010075994,{"$f":"VLOOKUP($A378,Sheet1!$1:$1048576,10,FALSE)","v":135.85317990181233},7.611525749157626,{"$f":"VLOOKUP($A378,Sheet1!$1:$1048576,11,FALSE)","v":118.02126226158632},23.074154907729156,{"$f":"VLOOKUP($A378,Sheet1!$1:$1048576,12,FALSE)","v":91.273385801247258},51.316244224802233]
[15061,{"$f":"VLOOKUP($A379,BasinData!$1:$1048576,2,FALSE)","v":1.3745056804621212},50.204246874768479,{"$f":"VLOOKUP($A379,BasinData!$1:$1048576,3,FALSE)","v":2.7451693620905537},{"$f":"VLOOKUP($A379,BasinData!$1:$1048576,4,FALSE)","v":14.496604664895187},{"$f":"VLOOKUP($A379,BasinData!$1:$1048576,5,FALSE)","v":1.93159087806},162.22474063592333,{"$f":"VLOOKUP($A379,Sheet1!$1:$1048576,9,FALSE)","v":257.30458703863604},-0.48563235439443631,{"$f":"VLOOKUP($A379,Sheet1!$1:$1048576,10,FALSE)","v":241.45785946592295},6.4995452115818937,{"$f":"VLOOKUP($A379,Sheet1!$1:$1048576,11,FALSE)","v":209.76440432049674},21.962221272131927,{"$f":"VLOOKUP($A379,Sheet1!$1:$1048576,12,FALSE)","v":162.22422160235737},50.204246874768479]
[15062,{"$f":"VLOOKUP($A380,BasinData!$1:$1048576,2,FALSE)","v":0.25136298421807746},36.381864525652936,{"$f":"VLOOKUP($A380,BasinData!$1:$1048576,3,FALSE)","v":6.7143498970720232},{"$f":"VLOOKUP($A380,BasinData!$1:$1048576,4,FALSE)","v":22.354499767173419},{"$f":"VLOOKUP($A380,BasinData!$1:$1048576,5,FALSE)","v":5.3038926324500002},142.05727248993546,{"$f":"VLOOKUP($A380,Sheet1!$1:$1048576,9,FALSE)","v":225.31769064403827},-14.308383394355578,{"$f":"VLOOKUP($A380,Sheet1!$1:$1048576,10,FALSE)","v":211.4409537306276},-7.3231331765416945,{"$f":"VLOOKUP($A380,Sheet1!$1:$1048576,11,FALSE)","v":183.68747990380632},8.1394948076521949,{"$f":"VLOOKUP($A380,Sheet1!$1:$1048576,12,FALSE)","v":142.05726916357435},36.381864525652936]
[15063,{"$f":"VLOOKUP($A381,BasinData!$1:$1048576,2,FALSE)","v":0.40813148788927339},36.636933634951141,{"$f":"VLOOKUP($A381,BasinData!$1:$1048576,3,FALSE)","v":6.5638807966196726},{"$f":"VLOOKUP($A381,BasinData!$1:$1048576,4,FALSE)","v":22.044957945463796},{"$f":"VLOOKUP($A381,BasinData!$1:$1048576,5,FALSE)","v":5.2416643706599997},141.45865637429995,{"$f":"VLOOKUP($A381,Sheet1!$1:$1048576,9,FALSE)","v":224.36822618574772},-14.053321814361562,{"$f":"VLOOKUP($A381,Sheet1!$1:$1048576,10,FALSE)","v":210.54996434572644},-7.0680657075185298,{"$f":"VLOOKUP($A381,Sheet1!$1:$1048576,11,FALSE)","v":182.91344066568388},8.3945610944211584,{"$f":"VLOOKUP($A381,Sheet1!$1:$1048576,12,FALSE)","v":141.45865514562001},36.636933634951141]
[15064,{"$f":"VLOOKUP($A382,BasinData!$1:$1048576,2,FALSE)","v":3.1000070750757578},51.489320662408183,{"$f":"VLOOKUP($A382,BasinData!$1:$1048576,3,FALSE)","v":2.0212914710542758},{"$f":"VLOOKUP($A382,BasinData!$1:$1048576,4,FALSE)","v":10.527912621359222},{"$f":"VLOOKUP($A382,BasinData!$1:$1048576,5,FALSE)","v":1.61809362553},157.39129361145802,{"$f":"VLOOKUP($A382,Sheet1!$1:$1048576,9,FALSE)","v":249.63843964566823},0.79936240349123433,{"$f":"VLOOKUP($A382,Sheet1!$1:$1048576,10,FALSE)","v":234.263850368921},7.7842460636124926,{"$f":"VLOOKUP($A382,Sheet1!$1:$1048576,11,FALSE)","v":203.51467181542654},23.247222012558556,{"$f":"VLOOKUP($A382,Sheet1!$1:$1048576,12,FALSE)","v":157.39090398518482},51.489320662408183]
[15065,{"$f":"VLOOKUP($A383,BasinData!$1:$1048576,2,FALSE)","v":4.1628394528409096},51.432416874493192,{"$f":"VLOOKUP($A383,BasinData!$1:$1048576,3,FALSE)","v":2.0463001818383804},{"$f":"VLOOKUP($A383,BasinData!$1:$1048576,4,FALSE)","v":13.60759493670886},{"$f":"VLOOKUP($A383,BasinData!$1:$1048576,5,FALSE)","v":1.6319755354400001},131.69047876494184,{"$f":"VLOOKUP($A383,Sheet1!$1:$1048576,9,FALSE)","v":208.8743533379841},0.74246180765183678,{"$f":"VLOOKUP($A383,Sheet1!$1:$1048576,10,FALSE)","v":196.01031926704607},7.7271869882947,{"$f":"VLOOKUP($A383,Sheet1!$1:$1048576,11,FALSE)","v":170.28225112517003},23.190321272742292,{"$f":"VLOOKUP($A383,Sheet1!$1:$1048576,12,FALSE)","v":131.69014891235594},51.432416874493192]
[15066,{"$f":"VLOOKUP($A384,BasinData!$1:$1048576,2,FALSE)","v":0.83594306049822065},36.815657546773771,{"$f":"VLOOKUP($A384,BasinData!$1:$1048576,3,FALSE)","v":6.4571280735200896},{"$f":"VLOOKUP($A384,BasinData!$1:$1048576,4,FALSE)","v":21.809643241971013},{"$f":"VLOOKUP($A384,BasinData!$1:$1048576,5,FALSE)","v":5.1978749358199998},137.39759478667807,{"$f":"VLOOKUP($A384,Sheet1!$1:$1048576,9,FALSE)","v":217.9254413028371},-13.873836804939222,{"$f":"VLOOKUP($A384,Sheet1!$1:$1048576,10,FALSE)","v":204.50397400901545},-6.8885771611085387,{"$f":"VLOOKUP($A384,Sheet1!$1:$1048576,11,FALSE)","v":177.66103942137215},8.5740486518342696,{"$f":"VLOOKUP($A384,Sheet1!$1:$1048576,12,FALSE)","v":137.39663753990715},36.815657546773771]
[16003,{"$f":"VLOOKUP($A385,BasinData!$1:$1048576,2,FALSE)","v":4.5697891458333331},53.099690572040373,{"$f":"VLOOKUP($A385,BasinData!$1:$1048576,3,FALSE)","v":1.2952814698507895},{"$f":"VLOOKUP($A385,BasinData!$1:$1048576,4,FALSE)","v":5.0454086781029268},{"$f":"VLOOKUP($A385,BasinData!$1:$1048576,5,FALSE)","v":1.22523469816},{"$f":"EXP(6.1523-(0.084*B385)-(0.0091*C385)-(0.0289*E385)-(0.0373*F385))","v":162.99458224699671},{"$f":"VLOOKUP($A385,Sheet1!$1:$1048576,9,FALSE)","v":258.5260078807591},2.4096527584976131,{"$f":"VLOOKUP($A385,Sheet1!$1:$1048576,10,FALSE)","v":242.60405614061267},9.3948820815076211,{"$f":"VLOOKUP($A385,Sheet1!$1:$1048576,11,FALSE)","v":210.76015266031979},24.857222521949588,{"$f":"VLOOKUP($A385,Sheet1!$1:$1048576,12,FALSE)","v":162.99429743988046},53.099690572040373]
[16004,{"$f":"VLOOKUP($A386,BasinData!$1:$1048576,2,FALSE)","v":0.69860769860769856},49.484153582042225,{"$f":"VLOOKUP($A386,BasinData!$1:$1048576,3,FALSE)","v":1.1619900000000001},{"$f":"VLOOKUP($A386,BasinData!$1:$1048576,4,FALSE)","v":11.068422531425988},{"$f":"VLOOKUP($A386,BasinData!$1:$1048576,5,FALSE)","v":2.1072579335300001},189.58415651437855,{"$f":"VLOOKUP($A386,Sheet1!$1:$1048576,9,FALSE)","v":300.69920340353951},-1.2056746099418028,{"$f":"VLOOKUP($A386,Sheet1!$1:$1048576,10,FALSE)","v":282.17991304610712},5.7795561302942353,{"$f":"VLOOKUP($A386,Sheet1!$1:$1048576,11,FALSE)","v":245.14133233124232},21.242172130538961,{"$f":"VLOOKUP($A386,Sheet1!$1:$1048576,12,FALSE)","v":189.58346125894514},49.484153582042225]
[16005,{"$f":"VLOOKUP($A387,BasinData!$1:$1048576,2,FALSE)","v":3.8902684114772725},52.924325540127512,{"$f":"VLOOKUP($A387,BasinData!$1:$1048576,3,FALSE)","v":1.8901495630902638},{"$f":"VLOOKUP($A387,BasinData!$1:$1048576,4,FALSE)","v":1.7107126002831523},{"$f":"VLOOKUP($A387,BasinData!$1:$1048576,5,FALSE)","v":1.2680162288200001},190.02763169069092,{"$f":"VLOOKUP($A387,Sheet1!$1:$1048576,9,FALSE)","v":301.40315621323492},2.2342954533433783,{"$f":"VLOOKUP($A387,Sheet1!$1:$1048576,10,FALSE)","v":282.84051121324569},9.2195246822393528,{"$f":"VLOOKUP($A387,Sheet1!$1:$1048576,11,FALSE)","v":245.71522121326726},24.681726208564271,{"$f":"VLOOKUP($A387,Sheet1!$1:$1048576,12,FALSE)","v":190.02728621329962},52.924325540127512]
[16006,{"$f":"VLOOKUP($A388,BasinData!$1:$1048576,2,FALSE)","v":0.54088471849865949},48.317270223645288,{"$f":"VLOOKUP($A388,BasinData!$1:$1048576,3,FALSE)","v":2.8020102461998917},{"$f":"VLOOKUP($A388,BasinData!$1:$1048576,4,FALSE)","v":14.756801319043694},{"$f":"VLOOKUP($A388,BasinData!$1:$1048576,5,FALSE)","v":2.3919168011499998},172.68834049352955,{"$f":"VLOOKUP($A388,Sheet1!$1:$1048576,9,FALSE)","v":273.90053354368024},-2.3724638910620812,{"$f":"VLOOKUP($A388,Sheet1!$1:$1048576,10,FALSE)","v":257.03170432053184},4.6127675009098201,{"$f":"VLOOKUP($A388,Sheet1!$1:$1048576,11,FALSE)","v":223.29404587423511},20.075183512534693,{"$f":"VLOOKUP($A388,Sheet1!$1:$1048576,12,FALSE)","v":172.68755820478995},48.317270223645288]
[16007,{"$f":"VLOOKUP($A389,BasinData!$1:$1048576,2,FALSE)","v":0.86278849193803342},50.422871945835489,{"$f":"VLOOKUP($A389,BasinData!$1:$1048576,3,FALSE)","v":1.6232979455562122},{"$f":"VLOOKUP($A389,BasinData!$1:$1048576,4,FALSE)","v":10.99182892906815},{"$f":"VLOOKUP($A389,BasinData!$1:$1048576,5,FALSE)","v":1.8782569572600001},187.40176561801522,{"$f":"VLOOKUP($A389,Sheet1!$1:$1048576,9,FALSE)","v":297.23789436818333},-0.26702178715139263,{"$f":"VLOOKUP($A389,Sheet1!$1:$1048576,10,FALSE)","v":278.9317771296586},6.7182066342872213,{"$f":"VLOOKUP($A389,Sheet1!$1:$1048576,11,FALSE)","v":242.31954265260899},22.180833344272791,{"$f":"VLOOKUP($A389,Sheet1!$1:$1048576,12,FALSE)","v":187.40119093703461},50.422871945835489]
[16008,{"$f":"VLOOKUP($A390,BasinData!$1:$1048576,2,FALSE)","v":2.6604609269507575},49.380846167803966,{"$f":"VLOOKUP($A390,BasinData!$1:$1048576,3,FALSE)","v":1.913491506437903},{"$f":"VLOOKUP($A390,BasinData!$1:$1048576,4,FALSE)","v":2.5617566331198534},{"$f":"VLOOKUP($A390,BasinData!$1:$1048576,5,FALSE)","v":2.13245971513},205.58921334668341,{"$f":"VLOOKUP($A390,Sheet1!$1:$1048576,9,FALSE)","v":326.08478170369125},-1.3089742781493643,{"$f":"VLOOKUP($A390,Sheet1!$1:$1048576,10,FALSE)","v":306.00205888581121},5.6762566369592857,{"$f":"VLOOKUP($A390,Sheet1!$1:$1048576,11,FALSE)","v":265.83661325005107},21.138871192253387,{"$f":"VLOOKUP($A390,Sheet1!$1:$1048576,12,FALSE)","v":205.58844479641093},49.380846167803966]
[16009,{"$f":"VLOOKUP($A391,BasinData!$1:$1048576,2,FALSE)","v":3.544845501363636},53.217921189343244,{"$f":"VLOOKUP($A391,BasinData!$1:$1048576,3,FALSE)","v":1.6044513194800063},{"$f":"VLOOKUP($A391,BasinData!$1:$1048576,4,FALSE)","v":6.9341258048538883},{"$f":"VLOOKUP($A391,BasinData!$1:$1048576,5,FALSE)","v":1.19639147788},168.21253298808426,{"$f":"VLOOKUP($A391,Sheet1!$1:$1048576,9,FALSE)","v":266.80222159301508},2.52787829314296,{"$f":"VLOOKUP($A391,Sheet1!$1:$1048576,10,FALSE)","v":250.3705591417573},9.5131076657027727,{"$f":"VLOOKUP($A391,Sheet1!$1:$1048576,11,FALSE)","v":217.50723423924174},24.975525767409803,{"$f":"VLOOKUP($A391,Sheet1!$1:$1048576,12,FALSE)","v":168.2122468854684},53.217921189343244]
[16010,{"$f":"VLOOKUP($A392,BasinData!$1:$1048576,2,FALSE)","v":2.4199406570454545},50.950890362315782,{"$f":"VLOOKUP($A392,BasinData!$1:$1048576,3,FALSE)","v":1.436598036144132},{"$f":"VLOOKUP($A392,BasinData!$1:$1048576,4,FALSE)","v":7.4185652419506685},{"$f":"VLOOKUP($A392,BasinData!$1:$1048576,5,FALSE)","v":1.7494456072},182.31227725842334,{"$f":"VLOOKUP($A392,Sheet1!$1:$1048576,9,FALSE)","v":289.16554610605442},0.26096342044747217,{"$f":"VLOOKUP($A392,Sheet1!$1:$1048576,10,FALSE)","v":271.35658403003288},7.2461857239507879,{"$f":"VLOOKUP($A392,Sheet1!$1:$1048576,11,FALSE)","v":235.73865987798976},22.708821288305646,{"$f":"VLOOKUP($A392,Sheet1!$1:$1048576,12,FALSE)","v":182.3117736499251},50.950890362315782]
[16011,{"$f":"VLOOKUP($A393,BasinData!$1:$1048576,2,FALSE)","v":0.58842808521366452},49.548059236750987,{"$f":"VLOOKUP($A393,BasinData!$1:$1048576,3,FALSE)","v":0.96737669660157211},{"$f":"VLOOKUP($A393,BasinData!$1:$1048576,4,FALSE)","v":10.269715209578221},{"$f":"VLOOKUP($A393,BasinData!$1:$1048576,5,FALSE)","v":2.0916681740700001},195.81507311565383,{"$f":"VLOOKUP($A393,Sheet1!$1:$1048576,9,FALSE)","v":310.58206624474764},-1.1417736925879167,{"$f":"VLOOKUP($A393,Sheet1!$1:$1048576,10,FALSE)","v":291.45411578962489},5.8434569225560171,{"$f":"VLOOKUP($A393,Sheet1!$1:$1048576,11,FALSE)","v":253.19821487937935},21.306073794886498,{"$f":"VLOOKUP($A393,Sheet1!$1:$1048576,12,FALSE)","v":195.81436351401106},49.548059236750987]
[16012,{"$f":"VLOOKUP($A394,BasinData!$1:$1048576,2,FALSE)","v":0.59077809798270897},49.598368285456111,{"$f":"VLOOKUP($A394,BasinData!$1:$1048576,3,FALSE)","v":1.1120684433321315},{"$f":"VLOOKUP($A394,BasinData!$1:$1048576,4,FALSE)","v":10.101295327477064},{"$f":"VLOOKUP($A394,BasinData!$1:$1048576,5,FALSE)","v":2.0793952941599998},196.73164833820309,{"$f":"VLOOKUP($A394,Sheet1!$1:$1048576,9,FALSE)","v":312.03585575478223},-1.091468344296008,{"$f":"VLOOKUP($A394,Sheet1!$1:$1048576,10,FALSE)","v":292.81837014376219},5.8937619982231659,{"$f":"VLOOKUP($A394,Sheet1!$1:$1048576,11,FALSE)","v":254.38339892172215},21.356379711039821,{"$f":"VLOOKUP($A394,Sheet1!$1:$1048576,12,FALSE)","v":196.73094208866206},49.598368285456111]
[16013,{"$f":"VLOOKUP($A395,BasinData!$1:$1048576,2,FALSE)","v":2.0202526132404182},52.85442490820558,{"$f":"VLOOKUP($A395,BasinData!$1:$1048576,3,FALSE)","v":1.5164138633366031},{"$f":"VLOOKUP($A395,BasinData!$1:$1048576,4,FALSE)","v":4.69934510815638},{"$f":"VLOOKUP($A395,BasinData!$1:$1048576,5,FALSE)","v":1.2850689775499999},203.95091809751941,{"$f":"VLOOKUP($A395,Sheet1!$1:$1048576,9,FALSE)","v":323.48689580227256},2.1643979055126588,{"$f":"VLOOKUP($A395,Sheet1!$1:$1048576,10,FALSE)","v":303.56417009372734},9.1496227901383094,{"$f":"VLOOKUP($A395,Sheet1!$1:$1048576,11,FALSE)","v":263.71871867663691},24.612259018112521,{"$f":"VLOOKUP($A395,Sheet1!$1:$1048576,12,FALSE)","v":203.95054155100127},52.85442490820558]
[16014,{"$f":"VLOOKUP($A396,BasinData!$1:$1048576,2,FALSE)","v":1.3322180673095847},51.523797070991513,{"$f":"VLOOKUP($A396,BasinData!$1:$1048576,3,FALSE)","v":1.6696424373913341},{"$f":"VLOOKUP($A396,BasinData!$1:$1048576,4,FALSE)","v":4.5382918373778756},{"$f":"VLOOKUP($A396,BasinData!$1:$1048576,5,FALSE)","v":1.60968296252},217.09375705654617,{"$f":"VLOOKUP($A396,Sheet1!$1:$1048576,9,FALSE)","v":344.33256426096466},0.83383689136389594,{"$f":"VLOOKUP($A396,Sheet1!$1:$1048576,10,FALSE)","v":323.12600745971372},7.8188001485208458,{"$f":"VLOOKUP($A396,Sheet1!$1:$1048576,11,FALSE)","v":280.71289385721195},23.281696583345571,{"$f":"VLOOKUP($A396,Sheet1!$1:$1048576,12,FALSE)","v":217.09322345345933},51.523797070991513]
[16015,{"$f":"VLOOKUP($A397,BasinData!$1:$1048576,2,FALSE)","v":3.8058840034469696},54.552299728210727,{"$f":"VLOOKUP($A397,BasinData!$1:$1048576,3,FALSE)","v":1.3426603733730407},{"$f":"VLOOKUP($A397,BasinData!$1:$1048576,4,FALSE)","v":4.2672330565746286},{"$f":"VLOOKUP($A397,BasinData!$1:$1048576,5,FALSE)","v":0.87085848181799996},177.7492340402072,{"$f":"VLOOKUP($A397,Sheet1!$1:$1048576,9,FALSE)","v":281.92853224610866},3.862206104533763,{"$f":"VLOOKUP($A397,Sheet1!$1:$1048576,10,FALSE)","v":264.56527923574509},10.847319897687928,{"$f":"VLOOKUP($A397,Sheet1!$1:$1048576,11,FALSE)","v":229.83877321501802},26.310039751100529,{"$f":"VLOOKUP($A397,Sheet1!$1:$1048576,12,FALSE)","v":177.74901418392736},54.552299728210727]
[16016,{"$f":"VLOOKUP($A398,BasinData!$1:$1048576,2,FALSE)","v":2.5800711743772239E-2},44.942141973922503,{"$f":"VLOOKUP($A398,BasinData!$1:$1048576,3,FALSE)","v":2.343984677173732},{"$f":"VLOOKUP($A398,BasinData!$1:$1048576,4,FALSE)","v":12.319095726298393},{"$f":"VLOOKUP($A398,BasinData!$1:$1048576,5,FALSE)","v":3.2154602312599998},193.48514028627221,{"$f":"VLOOKUP($A398,Sheet1!$1:$1048576,9,FALSE)","v":306.88766617924495},-5.7480904082340141,{"$f":"VLOOKUP($A398,Sheet1!$1:$1048576,10,FALSE)","v":287.98724431992542},1.23714461387219,{"$f":"VLOOKUP($A398,Sheet1!$1:$1048576,11,FALSE)","v":250.18640060128641},16.699752163031711,{"$f":"VLOOKUP($A398,Sheet1!$1:$1048576,12,FALSE)","v":193.48513502332784},44.942141973922503]
[16017,{"$f":"VLOOKUP($A399,BasinData!$1:$1048576,2,FALSE)","v":0.51677852348993292},49.575257815890531,{"$f":"VLOOKUP($A399,BasinData!$1:$1048576,3,FALSE)","v":1.0969125417590582},{"$f":"VLOOKUP($A399,BasinData!$1:$1048576,4,FALSE)","v":9.565418274718704},{"$f":"VLOOKUP($A399,BasinData!$1:$1048576,5,FALSE)","v":2.0850330882399999},201.0479497484408,{"$f":"VLOOKUP($A399,Sheet1!$1:$1048576,9,FALSE)","v":318.88193181756787},-1.114577117168569,{"$f":"VLOOKUP($A399,Sheet1!$1:$1048576,10,FALSE)","v":299.24281399408852},5.8706534403214068,{"$f":"VLOOKUP($A399,Sheet1!$1:$1048576,11,FALSE)","v":259.96457834712982},21.333270679493076,{"$f":"VLOOKUP($A399,Sheet1!$1:$1048576,12,FALSE)","v":201.0472248766917},49.575257815890531]
[16018,{"$f":"VLOOKUP($A400,BasinData!$1:$1048576,2,FALSE)","v":1.21802406940946},53.929803292222495,{"$f":"VLOOKUP($A400,BasinData!$1:$1048576,3,FALSE)","v":1.1878348761937052},{"$f":"VLOOKUP($A400,BasinData!$1:$1048576,4,FALSE)","v":8.7057826731624655},{"$f":"VLOOKUP($A400,BasinData!$1:$1048576,5,FALSE)","v":1.0227221423799999},194.31491439177313,{"$f":"VLOOKUP($A400,Sheet1!$1:$1048576,9,FALSE)","v":308.20333927916994},3.2397318712000445,{"$f":"VLOOKUP($A400,Sheet1!$1:$1048576,10,FALSE)","v":289.22188849833287},10.224961367778175,{"$f":"VLOOKUP($A400,Sheet1!$1:$1048576,11,FALSE)","v":251.25898693665874},25.68755975288261,{"$f":"VLOOKUP($A400,Sheet1!$1:$1048576,12,FALSE)","v":194.31463459414755},53.929803292222495]
[16019,{"$f":"VLOOKUP($A401,BasinData!$1:$1048576,2,FALSE)","v":3.1329948424810605},52.023849334359284,{"$f":"VLOOKUP($A401,BasinData!$1:$1048576,3,FALSE)","v":1.5119951772049149},{"$f":"VLOOKUP($A401,BasinData!$1:$1048576,4,FALSE)","v":5.7192562792214847},{"$f":"VLOOKUP($A401,BasinData!$1:$1048576,5,FALSE)","v":1.4876928645800001},180.35623059072682,{"$f":"VLOOKUP($A401,Sheet1!$1:$1048576,9,FALSE)","v":286.06321717110171},1.3338624014067375,{"$f":"VLOOKUP($A401,Sheet1!$1:$1048576,10,FALSE)","v":268.44531955311783},8.3190922127347378,{"$f":"VLOOKUP($A401,Sheet1!$1:$1048576,11,FALSE)","v":233.20952431715003},23.781722977928755,{"$f":"VLOOKUP($A401,Sheet1!$1:$1048576,12,FALSE)","v":180.35583146319834},52.023849334359284]
[16020,{"$f":"VLOOKUP($A402,BasinData!$1:$1048576,2,FALSE)","v":0.157390342793955},49.673004886338759,{"$f":"VLOOKUP($A402,BasinData!$1:$1048576,3,FALSE)","v":1.0620300376264122},{"$f":"VLOOKUP($A402,BasinData!$1:$1048576,4,FALSE)","v":9.5687700755575484},{"$f":"VLOOKUP($A402,BasinData!$1:$1048576,5,FALSE)","v":2.0611877023899998},207.18976454620113,{"$f":"VLOOKUP($A402,Sheet1!$1:$1048576,9,FALSE)","v":328.62347901649491},-1.0168371863738712,{"$f":"VLOOKUP($A402,Sheet1!$1:$1048576,10,FALSE)","v":308.384404362184},5.9683683972181534,{"$f":"VLOOKUP($A402,Sheet1!$1:$1048576,11,FALSE)","v":267.90625505356212},21.431011678985826,{"$f":"VLOOKUP($A402,Sheet1!$1:$1048576,12,FALSE)","v":207.18903109062936},49.673004886338759]
[16021,{"$f":"VLOOKUP($A403,BasinData!$1:$1048576,2,FALSE)","v":0.5106079515065074},48.968583806258309,{"$f":"VLOOKUP($A403,BasinData!$1:$1048576,3,FALSE)","v":3.7593890359192135},{"$f":"VLOOKUP($A403,BasinData!$1:$1048576,4,FALSE)","v":13.294024756762262},{"$f":"VLOOKUP($A403,BasinData!$1:$1048576,5,FALSE)","v":2.2330305989800001},180.6037604275559,{"$f":"VLOOKUP($A403,Sheet1!$1:$1048576,9,FALSE)","v":286.45530351056584},-1.7212046290364331,{"$f":"VLOOKUP($A403,Sheet1!$1:$1048576,10,FALSE)","v":268.81325830361749},5.2637876527346084,{"$f":"VLOOKUP($A403,Sheet1!$1:$1048576,11,FALSE)","v":233.52916788972087},20.726634935667825,{"$f":"VLOOKUP($A403,Sheet1!$1:$1048576,12,FALSE)","v":180.60303226887589},48.968583806258309]
[16022,{"$f":"VLOOKUP($A404,BasinData!$1:$1048576,2,FALSE)","v":0.47456663824950268},49.299257586492452,{"$f":"VLOOKUP($A404,BasinData!$1:$1048576,3,FALSE)","v":1.0280687632952914},{"$f":"VLOOKUP($A404,BasinData!$1:$1048576,4,FALSE)","v":9.9367362886842585},{"$f":"VLOOKUP($A404,BasinData!$1:$1048576,5,FALSE)","v":2.1523631814200002},199.60857680917329,{"$f":"VLOOKUP($A404,Sheet1!$1:$1048576,9,FALSE)","v":316.59888395188119},-1.3905566646705705,{"$f":"VLOOKUP($A404,Sheet1!$1:$1048576,10,FALSE)","v":297.10037317306973},5.5946743682226083,{"$f":"VLOOKUP($A404,Sheet1!$1:$1048576,11,FALSE)","v":258.10335161544685},21.057287746250623,{"$f":"VLOOKUP($A404,Sheet1!$1:$1048576,12,FALSE)","v":199.60781927901249},49.299257586492452]
[16023,{"$f":"VLOOKUP($A405,BasinData!$1:$1048576,2,FALSE)","v":1.888745974215909},48.495996423479284,{"$f":"VLOOKUP($A405,BasinData!$1:$1048576,3,FALSE)","v":2.1562145622893025},{"$f":"VLOOKUP($A405,BasinData!$1:$1048576,4,FALSE)","v":16.934438973827419},{"$f":"VLOOKUP($A405,BasinData!$1:$1048576,5,FALSE)","v":2.3483171447900002},144.79721623464033,{"$f":"VLOOKUP($A405,Sheet1!$1:$1048576,9,FALSE)","v":229.66252539342187},-2.1937530867494646,{"$f":"VLOOKUP($A405,Sheet1!$1:$1048576,10,FALSE)","v":215.5182012853391},4.7914766404445546,{"$f":"VLOOKUP($A405,Sheet1!$1:$1048576,11,FALSE)","v":187.22955306917356},20.25405721207013,{"$f":"VLOOKUP($A405,Sheet1!$1:$1048576,12,FALSE)","v":144.79658074492522},48.495996423479284]
[16024,{"$f":"VLOOKUP($A406,BasinData!$1:$1048576,2,FALSE)","v":0.71930416020497612},51.745752354843894,{"$f":"VLOOKUP($A406,BasinData!$1:$1048576,3,FALSE)","v":1.6684115250495137},{"$f":"VLOOKUP($A406,BasinData!$1:$1048576,4,FALSE)","v":10.072403650350706},{"$f":"VLOOKUP($A406,BasinData!$1:$1048576,5,FALSE)","v":1.55553599103},194.78144714677799,{"$f":"VLOOKUP($A406,Sheet1!$1:$1048576,9,FALSE)","v":308.94302776696145},1.0557800473434475,{"$f":"VLOOKUP($A406,Sheet1!$1:$1048576,10,FALSE)","v":289.9160214750874},8.0410022269816892,{"$f":"VLOOKUP($A406,Sheet1!$1:$1048576,11,FALSE)","v":251.86200889133931},23.503640200720557,{"$f":"VLOOKUP($A406,Sheet1!$1:$1048576,12,FALSE)","v":194.78099001571718},51.745752354843894]
[16025,{"$f":"VLOOKUP($A407,BasinData!$1:$1048576,2,FALSE)","v":0.11622753016498398},49.489754128834363,{"$f":"VLOOKUP($A407,BasinData!$1:$1048576,3,FALSE)","v":1.0325249763277757},{"$f":"VLOOKUP($A407,BasinData!$1:$1048576,4,FALSE)","v":9.4215879566336778},{"$f":"VLOOKUP($A407,BasinData!$1:$1048576,5,FALSE)","v":2.1058916827399998},208.79365616195886,{"$f":"VLOOKUP($A407,Sheet1!$1:$1048576,9,FALSE)","v":331.16736903471832},-1.2000744799752743,{"$f":"VLOOKUP($A407,Sheet1!$1:$1048576,10,FALSE)","v":310.77162273860847},5.7851562498506013,{"$f":"VLOOKUP($A407,Sheet1!$1:$1048576,11,FALSE)","v":269.98013014638883},21.247772327135031,{"$f":"VLOOKUP($A407,Sheet1!$1:$1048576,12,FALSE)","v":208.79289125805937},49.489754128834363]
[16026,{"$f":"VLOOKUP($A408,BasinData!$1:$1048576,2,FALSE)","v":0.4261057173678533},51.070067576182318,{"$f":"VLOOKUP($A408,BasinData!$1:$1048576,3,FALSE)","v":1.7347964203710169},{"$f":"VLOOKUP($A408,BasinData!$1:$1048576,4,FALSE)","v":17.776184435497214},{"$f":"VLOOKUP($A408,BasinData!$1:$1048576,5,FALSE)","v":1.72037195662},159.79119003706066,{"$f":"VLOOKUP($A408,Sheet1!$1:$1048576,9,FALSE)","v":253.44486092981103},0.38013348548033588,{"$f":"VLOOKUP($A408,Sheet1!$1:$1048576,10,FALSE)","v":237.83584395859083},7.3649293378391114,{"$f":"VLOOKUP($A408,Sheet1!$1:$1048576,11,FALSE)","v":206.61781001615043},22.827991816573082,{"$f":"VLOOKUP($A408,Sheet1!$1:$1048576,12,FALSE)","v":159.7907591024898},51.070067576182318]
[16027,{"$f":"VLOOKUP($A409,BasinData!$1:$1048576,2,FALSE)","v":0.33288680509042196},50.269485472435193,{"$f":"VLOOKUP($A409,BasinData!$1:$1048576,3,FALSE)","v":1.6060089501072665},{"$f":"VLOOKUP($A409,BasinData!$1:$1048576,4,FALSE)","v":11.659557841956175},{"$f":"VLOOKUP($A409,BasinData!$1:$1048576,5,FALSE)","v":1.91567583392},192.18707763665623,{"$f":"VLOOKUP($A409,Sheet1!$1:$1048576,9,FALSE)","v":304.82784829370803},-0.42039813191508518,{"$f":"VLOOKUP($A409,Sheet1!$1:$1048576,10,FALSE)","v":286.0542853188615},6.5645935513087847,{"$f":"VLOOKUP($A409,Sheet1!$1:$1048576,11,FALSE)","v":248.50715936916845},22.027455966353621,{"$f":"VLOOKUP($A409,Sheet1!$1:$1048576,12,FALSE)","v":192.18647044462887},50.269485472435193]
[16028,{"$f":"VLOOKUP($A410,BasinData!$1:$1048576,2,FALSE)","v":2.819965155151515},47.21847782400441,{"$f":"VLOOKUP($A410,BasinData!$1:$1048576,3,FALSE)","v":2.8303638825636659},{"$f":"VLOOKUP($A410,BasinData!$1:$1048576,4,FALSE)","v":24.082121984115091},{"$f":"VLOOKUP($A410,BasinData!$1:$1048576,5,FALSE)","v":2.6599615871700002},108.91250856804447,{"$f":"VLOOKUP($A410,Sheet1!$1:$1048576,9,FALSE)","v":172.74568781141619},-3.4711538381605096,{"$f":"VLOOKUP($A410,Sheet1!$1:$1048576,10,FALSE)","v":162.10672530548385},3.5137977525785424,{"$f":"VLOOKUP($A410,Sheet1!$1:$1048576,11,FALSE)","v":140.82880029361911},18.97670642305641,{"$f":"VLOOKUP($A410,Sheet1!$1:$1048576,12,FALSE)","v":108.91191277582199},47.21847782400441]
[16029,{"$f":"VLOOKUP($A411,BasinData!$1:$1048576,2,FALSE)","v":3.169526168996212},52.194613757619059,{"$f":"VLOOKUP($A411,BasinData!$1:$1048576,3,FALSE)","v":2.4428538591283111},{"$f":"VLOOKUP($A411,BasinData!$1:$1048576,4,FALSE)","v":8.6284086284086285},{"$f":"VLOOKUP($A411,BasinData!$1:$1048576,5,FALSE)","v":1.44603396765},165.30475003460302,{"$f":"VLOOKUP($A411,Sheet1!$1:$1048576,9,FALSE)","v":262.19006800117779},1.504618151251446,{"$f":"VLOOKUP($A411,Sheet1!$1:$1048576,10,FALSE)","v":246.04245622439313},8.4898480323896131,{"$f":"VLOOKUP($A411,Sheet1!$1:$1048576,11,FALSE)","v":213.74723267082385},23.952478915818755,{"$f":"VLOOKUP($A411,Sheet1!$1:$1048576,12,FALSE)","v":165.3043973404699},52.194613757619059]
[16030,{"$f":"VLOOKUP($A412,BasinData!$1:$1048576,2,FALSE)","v":2.1692721227983309},50.912298965758623,{"$f":"VLOOKUP($A412,BasinData!$1:$1048576,3,FALSE)","v":1.7304981932383772},{"$f":"VLOOKUP($A412,BasinData!$1:$1048576,4,FALSE)","v":18.107049608355091},{"$f":"VLOOKUP($A412,BasinData!$1:$1048576,5,FALSE)","v":1.7588600913200001},136.71247612282147,{"$f":"VLOOKUP($A412,Sheet1!$1:$1048576,9,FALSE)","v":216.83968608168908},0.22237436573199815,{"$f":"VLOOKUP($A412,Sheet1!$1:$1048576,10,FALSE)","v":203.48508765871892},7.2074580181374657,{"$f":"VLOOKUP($A412,Sheet1!$1:$1048576,11,FALSE)","v":176.77589081277861},22.670232070537537,{"$f":"VLOOKUP($A412,Sheet1!$1:$1048576,12,FALSE)","v":136.71209554386812},50.912298965758623]
[16031,{"$f":"VLOOKUP($A413,BasinData!$1:$1048576,2,FALSE)","v":1.6900438321853475},53.557774852477081,{"$f":"VLOOKUP($A413,BasinData!$1:$1048576,3,FALSE)","v":1.2536311583603468},{"$f":"VLOOKUP($A413,BasinData!$1:$1048576,4,FALSE)","v":6.1680754624525296},{"$f":"VLOOKUP($A413,BasinData!$1:$1048576,5,FALSE)","v":1.1134815648700001},200.97295036497195,{"$f":"VLOOKUP($A413,Sheet1!$1:$1048576,9,FALSE)","v":318.76362349111616},2.8677179007717433,{"$f":"VLOOKUP($A413,Sheet1!$1:$1048576,10,FALSE)","v":299.13179197310239},9.8529473642590517,{"$f":"VLOOKUP($A413,Sheet1!$1:$1048576,11,FALSE)","v":259.86812893707486},25.315519953170234,{"$f":"VLOOKUP($A413,Sheet1!$1:$1048576,12,FALSE)","v":200.97263438303355},53.557774852477081]
[16032,{"$f":"VLOOKUP($A414,BasinData!$1:$1048576,2,FALSE)","v":3.6939643451893942},55.123160897449068,{"$f":"VLOOKUP($A414,BasinData!$1:$1048576,3,FALSE)","v":1.5233095113975605},{"$f":"VLOOKUP($A414,BasinData!$1:$1048576,4,FALSE)","v":14.238003164000704},{"$f":"VLOOKUP($A414,BasinData!$1:$1048576,5,FALSE)","v":0.73159120278900003},134.50744995846082,{"$f":"VLOOKUP($A414,Sheet1!$1:$1048576,9,FALSE)","v":213.34265931229507},4.4330489916892217,{"$f":"VLOOKUP($A414,Sheet1!$1:$1048576,10,FALSE)","v":200.20343377158429},11.418271682355709,{"$f":"VLOOKUP($A414,Sheet1!$1:$1048576,11,FALSE)","v":173.92498269016272},26.880887228793885,{"$f":"VLOOKUP($A414,Sheet1!$1:$1048576,12,FALSE)","v":134.5073060680304},55.123160897449068]
[16033,{"$f":"VLOOKUP($A415,BasinData!$1:$1048576,2,FALSE)","v":1.3330089947727273},29.681022192696183,{"$f":"VLOOKUP($A415,BasinData!$1:$1048576,3,FALSE)","v":82.300168060108348},{"$f":"VLOOKUP($A415,BasinData!$1:$1048576,4,FALSE)","v":18.392282958199356},{"$f":"VLOOKUP($A415,BasinData!$1:$1048576,5,FALSE)","v":6.9386491139400004},145.45712258488567,{"$f":"VLOOKUP($A415,Sheet1!$1:$1048576,9,FALSE)","v":230.70992041928423},-21.00898185372467,{"$f":"VLOOKUP($A415,Sheet1!$1:$1048576,10,FALSE)","v":216.50108994609201},-14.023859519764866,{"$f":"VLOOKUP($A415,Sheet1!$1:$1048576,11,FALSE)","v":188.08342899970751},1.4387850053243765,{"$f":"VLOOKUP($A415,Sheet1!$1:$1048576,12,FALSE)","v":145.45693758013073},29.681022192696183]
[16034,{"$f":"VLOOKUP($A416,BasinData!$1:$1048576,2,FALSE)","v":0.18530539982295663},47.912392305169497,{"$f":"VLOOKUP($A416,BasinData!$1:$1048576,3,FALSE)","v":1.7186268346562183},{"$f":"VLOOKUP($A416,BasinData!$1:$1048576,4,FALSE)","v":13.453104508341207},{"$f":"VLOOKUP($A416,BasinData!$1:$1048576,5,FALSE)","v":2.4906851135300001},184.75567959490431,{"$f":"VLOOKUP($A416,Sheet1!$1:$1048576,9,FALSE)","v":293.04041211570973},-2.7773057361991356,{"$f":"VLOOKUP($A416,Sheet1!$1:$1048576,10,FALSE)","v":274.99280701065214},4.2079261885947874,{"$f":"VLOOKUP($A416,Sheet1!$1:$1048576,11,FALSE)","v":238.89759680053689},19.67055740323261,{"$f":"VLOOKUP($A416,Sheet1!$1:$1048576,12,FALSE)","v":184.75478148536402},47.912392305169497]
[16035,{"$f":"VLOOKUP($A417,BasinData!$1:$1048576,2,FALSE)","v":3.8300694677272729},53.373849513258619,{"$f":"VLOOKUP($A417,BasinData!$1:$1048576,3,FALSE)","v":1.0214589259006428},{"$f":"VLOOKUP($A417,BasinData!$1:$1048576,4,FALSE)","v":7.2643237115200137},{"$f":"VLOOKUP($A417,BasinData!$1:$1048576,5,FALSE)","v":1.1583515897600001},162.67049708789469,{"$f":"VLOOKUP($A417,Sheet1!$1:$1048576,9,FALSE)","v":258.01200326955734},2.6838000671659956,{"$f":"VLOOKUP($A417,Sheet1!$1:$1048576,10,FALSE)","v":242.1217077510841},9.6690294901166354,{"$f":"VLOOKUP($A417,Sheet1!$1:$1048576,11,FALSE)","v":210.34111671413768},25.131530898448212,{"$f":"VLOOKUP($A417,Sheet1!$1:$1048576,12,FALSE)","v":162.67023015871803},53.373849513258619]
[16036,{"$f":"VLOOKUP($A418,BasinData!$1:$1048576,2,FALSE)","v":2.786111111111111},53.916410180072759,{"$f":"VLOOKUP($A418,BasinData!$1:$1048576,3,FALSE)","v":1.3640439307595866},{"$f":"VLOOKUP($A418,BasinData!$1:$1048576,4,FALSE)","v":14.15327564894932},{"$f":"VLOOKUP($A418,BasinData!$1:$1048576,5,FALSE)","v":1.02598950707},145.52214279046973,{"$f":"VLOOKUP($A418,Sheet1!$1:$1048576,9,FALSE)","v":230.81300928632919},3.2263392639481281,{"$f":"VLOOKUP($A418,Sheet1!$1:$1048576,10,FALSE)","v":216.59782983502257},10.211140594235369,{"$f":"VLOOKUP($A418,Sheet1!$1:$1048576,11,FALSE)","v":188.16747093240929},25.674167000435631,{"$f":"VLOOKUP($A418,Sheet1!$1:$1048576,12,FALSE)","v":145.52193257848933},53.916410180072759]
[16037,{"$f":"VLOOKUP($A419,BasinData!$1:$1048576,2,FALSE)","v":2.6901453032575762},51.595778870159471,{"$f":"VLOOKUP($A419,BasinData!$1:$1048576,3,FALSE)","v":1.3816756898047717},{"$f":"VLOOKUP($A419,BasinData!$1:$1048576,4,FALSE)","v":20.72072072072072},{"$f":"VLOOKUP($A419,BasinData!$1:$1048576,5,FALSE)","v":1.5921226958500001},121.33935434062406,{"$f":"VLOOKUP($A419,Sheet1!$1:$1048576,9,FALSE)","v":192.45644423067017},0.90581471248971235,{"$f":"VLOOKUP($A419,Sheet1!$1:$1048576,10,FALSE)","v":180.60354694486105},7.8909072322919984,{"$f":"VLOOKUP($A419,Sheet1!$1:$1048576,11,FALSE)","v":156.89775237324284},23.35367456748466,{"$f":"VLOOKUP($A419,Sheet1!$1:$1048576,12,FALSE)","v":121.33906051581548},51.595778870159471]
[16038,{"$f":"VLOOKUP($A420,BasinData!$1:$1048576,2,FALSE)","v":3.7493131971590912},56.736405565070967,{"$f":"VLOOKUP($A420,BasinData!$1:$1048576,3,FALSE)","v":1.2029038673334909},{"$f":"VLOOKUP($A420,BasinData!$1:$1048576,4,FALSE)","v":9.42684766214178},{"$f":"VLOOKUP($A420,BasinData!$1:$1048576,5,FALSE)","v":0.33802170219900002},153.85526054459902,{"$f":"VLOOKUP($A420,Sheet1!$1:$1048576,9,FALSE)","v":244.0303719360999},6.0462516246158007,{"$f":"VLOOKUP($A420,Sheet1!$1:$1048576,10,FALSE)","v":229.00116912224348},13.031480626214474,{"$f":"VLOOKUP($A420,Sheet1!$1:$1048576,11,FALSE)","v":198.94276349453065},28.494099715666216,{"$f":"VLOOKUP($A420,Sheet1!$1:$1048576,12,FALSE)","v":153.85515505296144},56.736405565070967]
[16039,{"$f":"VLOOKUP($A421,BasinData!$1:$1048576,2,FALSE)","v":0.26007567034051654},32.103234276568223,{"$f":"VLOOKUP($A421,BasinData!$1:$1048576,3,FALSE)","v":9.7680708236849689},{"$f":"VLOOKUP($A421,BasinData!$1:$1048576,4,FALSE)","v":14.068153333175681},{"$f":"VLOOKUP($A421,BasinData!$1:$1048576,5,FALSE)","v":6.3477398859100003},180.36343212988288,{"$f":"VLOOKUP($A421,Sheet1!$1:$1048576,9,FALSE)","v":286.07525656672669},-18.586984646769711,{"$f":"VLOOKUP($A421,Sheet1!$1:$1048576,10,FALSE)","v":268.45661747333889},-11.601910970646701,{"$f":"VLOOKUP($A421,Sheet1!$1:$1048576,11,FALSE)","v":233.21933928656321},3.8608505860495952,{"$f":"VLOOKUP($A421,Sheet1!$1:$1048576,12,FALSE)","v":180.3634220063997},32.103234276568223]
[16040,{"$f":"VLOOKUP($A422,BasinData!$1:$1048576,2,FALSE)","v":0.17256768818803928},47.986153114437514,{"$f":"VLOOKUP($A422,BasinData!$1:$1048576,3,FALSE)","v":0.97628556570623237},{"$f":"VLOOKUP($A422,BasinData!$1:$1048576,4,FALSE)","v":11.911018578867488},{"$f":"VLOOKUP($A422,BasinData!$1:$1048576,5,FALSE)","v":2.47269150266},193.38257696364855,{"$f":"VLOOKUP($A422,Sheet1!$1:$1048576,9,FALSE)","v":306.72352627509667},-2.7035516480881916,{"$f":"VLOOKUP($A422,Sheet1!$1:$1048576,10,FALSE)","v":287.83321337020658},4.2816801863867839,{"$f":"VLOOKUP($A422,Sheet1!$1:$1048576,11,FALSE)","v":250.05258756042633},19.744311562832831,{"$f":"VLOOKUP($A422,Sheet1!$1:$1048576,12,FALSE)","v":193.38164884575599},47.986153114437514]
[16041,{"$f":"VLOOKUP($A423,BasinData!$1:$1048576,2,FALSE)","v":4.9616048470643932},50.185248676001351,{"$f":"VLOOKUP($A423,BasinData!$1:$1048576,3,FALSE)","v":2.0457794919346983},{"$f":"VLOOKUP($A423,BasinData!$1:$1048576,4,FALSE)","v":18.260217472815899},{"$f":"VLOOKUP($A423,BasinData!$1:$1048576,5,FALSE)","v":1.9362255124700001},107.65136818691811,{"$f":"VLOOKUP($A423,Sheet1!$1:$1048576,9,FALSE)","v":170.74578391411151},-0.50462927145663494,{"$f":"VLOOKUP($A423,Sheet1!$1:$1048576,10,FALSE)","v":160.22999034425192},6.4805759853291676,{"$f":"VLOOKUP($A423,Sheet1!$1:$1048576,11,FALSE)","v":139.19840320453275},21.94322421315854,{"$f":"VLOOKUP($A423,Sheet1!$1:$1048576,12,FALSE)","v":107.65102249495398},50.185248676001351]
[16042,{"$f":"VLOOKUP($A424,BasinData!$1:$1048576,2,FALSE)","v":0.60778008298755193},48.658124746786044,{"$f":"VLOOKUP($A424,BasinData!$1:$1048576,3,FALSE)","v":1.3856522508051716},{"$f":"VLOOKUP($A424,BasinData!$1:$1048576,4,FALSE)","v":10.666610849760074},{"$f":"VLOOKUP($A424,BasinData!$1:$1048576,5,FALSE)","v":2.3087664018999998},193.26754983258976,{"$f":"VLOOKUP($A424,Sheet1!$1:$1048576,9,FALSE)","v":306.54124626917957},-2.0316383939293599,{"$f":"VLOOKUP($A424,Sheet1!$1:$1048576,10,FALSE)","v":287.66215952091949},4.9535574470972819,{"$f":"VLOOKUP($A424,Sheet1!$1:$1048576,11,FALSE)","v":249.90398602439933},20.416195762072935,{"$f":"VLOOKUP($A424,Sheet1!$1:$1048576,12,FALSE)","v":193.26672577961904},48.658124746786044]
[16043,{"$f":"VLOOKUP($A425,BasinData!$1:$1048576,2,FALSE)","v":2.9047041707080505},48.691145420411473,{"$f":"VLOOKUP($A425,BasinData!$1:$1048576,3,FALSE)","v":2.3703527057836888},{"$f":"VLOOKUP($A425,BasinData!$1:$1048576,4,FALSE)","v":10.809818110398902},{"$f":"VLOOKUP($A425,BasinData!$1:$1048576,5,FALSE)","v":2.3007110936199999},158.69675170131586,{"$f":"VLOOKUP($A425,Sheet1!$1:$1048576,9,FALSE)","v":251.70858382634839},-1.9986204601604531,{"$f":"VLOOKUP($A425,Sheet1!$1:$1048576,10,FALSE)","v":236.20649969517578},4.9865629047515956,{"$f":"VLOOKUP($A425,Sheet1!$1:$1048576,11,FALSE)","v":205.20233143283053},20.449214314458782,{"$f":"VLOOKUP($A425,Sheet1!$1:$1048576,12,FALSE)","v":158.69607903931268},48.691145420411473]
[16044,{"$f":"VLOOKUP($A426,BasinData!$1:$1048576,2,FALSE)","v":2.8082879190530305},52.280110942622287,{"$f":"VLOOKUP($A426,BasinData!$1:$1048576,3,FALSE)","v":2.5207678998624794},{"$f":"VLOOKUP($A426,BasinData!$1:$1048576,4,FALSE)","v":12.765283496990815},{"$f":"VLOOKUP($A426,BasinData!$1:$1048576,5,FALSE)","v":1.4251764495699999},151.19630575198252,{"$f":"VLOOKUP($A426,Sheet1!$1:$1048576,9,FALSE)","v":239.81265645884952},1.5901110799827638,{"$f":"VLOOKUP($A426,Sheet1!$1:$1048576,10,FALSE)","v":225.04321189072218},8.5749512821142613,{"$f":"VLOOKUP($A426,Sheet1!$1:$1048576,11,FALSE)","v":195.50432275446755},24.037971920166644,{"$f":"VLOOKUP($A426,Sheet1!$1:$1048576,12,FALSE)","v":151.19598905008559},52.280110942622287]
[16045,{"$f":"VLOOKUP($A427,BasinData!$1:$1048576,2,FALSE)","v":2.0652192464583332},51.923086770543975,{"$f":"VLOOKUP($A427,BasinData!$1:$1048576,3,FALSE)","v":2.3550829005097231},{"$f":"VLOOKUP($A427,BasinData!$1:$1048576,4,FALSE)","v":21.897518014411528},{"$f":"VLOOKUP($A427,BasinData!$1:$1048576,5,FALSE)","v":1.5122744055999999},123.60307059791093,{"$f":"VLOOKUP($A427,Sheet1!$1:$1048576,9,FALSE)","v":196.04695784413431},1.2331050645292643,{"$f":"VLOOKUP($A427,Sheet1!$1:$1048576,10,FALSE)","v":183.97293006184424},8.2183348010478454,{"$f":"VLOOKUP($A427,Sheet1!$1:$1048576,11,FALSE)","v":159.82487449726409},23.680965505642181,{"$f":"VLOOKUP($A427,Sheet1!$1:$1048576,12,FALSE)","v":123.60279115039383},51.923086770543975]
[16046,{"$f":"VLOOKUP($A428,BasinData!$1:$1048576,2,FALSE)","v":0.32575757575757575},48.609484109678981,{"$f":"VLOOKUP($A428,BasinData!$1:$1048576,3,FALSE)","v":1.39735535468248},{"$f":"VLOOKUP($A428,BasinData!$1:$1048576,4,FALSE)","v":11.078960739610469},{"$f":"VLOOKUP($A428,BasinData!$1:$1048576,5,FALSE)","v":2.3206321546800002},195.55633832650881,{"$f":"VLOOKUP($A428,Sheet1!$1:$1048576,9,FALSE)","v":310.1714772461242},-2.0802749734433092,{"$f":"VLOOKUP($A428,Sheet1!$1:$1048576,10,FALSE)","v":291.06881391114348},4.9049356785508982,{"$f":"VLOOKUP($A428,Sheet1!$1:$1048576,11,FALSE)","v":252.86348724118199},20.367558251710737,{"$f":"VLOOKUP($A428,Sheet1!$1:$1048576,12,FALSE)","v":195.55549723623977},48.609484109678981]
[16047,{"$f":"VLOOKUP($A429,BasinData!$1:$1048576,2,FALSE)","v":1.2155058304443744},49.043734862045767,{"$f":"VLOOKUP($A429,BasinData!$1:$1048576,3,FALSE)","v":3.051782029845115},{"$f":"VLOOKUP($A429,BasinData!$1:$1048576,4,FALSE)","v":17.986767485822305},{"$f":"VLOOKUP($A429,BasinData!$1:$1048576,5,FALSE)","v":2.21469762635},148.63203996582257,{"$f":"VLOOKUP($A429,Sheet1!$1:$1048576,9,FALSE)","v":235.74502739675776},-1.646059541151679,{"$f":"VLOOKUP($A429,Sheet1!$1:$1048576,10,FALSE)","v":221.22609763816291},5.3388515155299041,{"$f":"VLOOKUP($A429,Sheet1!$1:$1048576,11,FALSE)","v":192.18823812097324},20.801781201393808,{"$f":"VLOOKUP($A429,Sheet1!$1:$1048576,12,FALSE)","v":148.63144884518871},49.043734862045767]
[16048,{"$f":"VLOOKUP($A430,BasinData!$1:$1048576,2,FALSE)","v":1.459115917283248},50.820443254106316,{"$f":"VLOOKUP($A430,BasinData!$1:$1048576,3,FALSE)","v":1.6434370622825278},{"$f":"VLOOKUP($A430,BasinData!$1:$1048576,4,FALSE)","v":9.5049504950495045},{"$f":"VLOOKUP($A430,BasinData!$1:$1048576,5,FALSE)","v":1.7812685478000001},186.07202746631364,{"$f":"VLOOKUP($A430,Sheet1!$1:$1048576,9,FALSE)","v":295.12886525607655},0.13052428159933829,{"$f":"VLOOKUP($A430,Sheet1!$1:$1048576,10,FALSE)","v":276.95263769486814},7.1157473377298412,{"$f":"VLOOKUP($A430,Sheet1!$1:$1048576,11,FALSE)","v":240.60018257245139},22.578381579645111,{"$f":"VLOOKUP($A430,Sheet1!$1:$1048576,12,FALSE)","v":186.07149988882617},50.820443254106316]
[16049,{"$f":"VLOOKUP($A431,BasinData!$1:$1048576,2,FALSE)","v":4.0991792006818182},47.087960428097027,{"$f":"VLOOKUP($A431,BasinData!$1:$1048576,3,FALSE)","v":2.1334384846256342},{"$f":"VLOOKUP($A431,BasinData!$1:$1048576,4,FALSE)","v":9.0998234948029033},{"$f":"VLOOKUP($A431,BasinData!$1:$1048576,5,FALSE)","v":2.6918003989599999},150.81885084519283,{"$f":"VLOOKUP($A431,Sheet1!$1:$1048576,9,FALSE)","v":239.21313836303386},-3.6016580969534839,{"$f":"VLOOKUP($A431,Sheet1!$1:$1048576,10,FALSE)","v":224.48061657210474},3.3833579359534394,{"$f":"VLOOKUP($A431,Sheet1!$1:$1048576,11,FALSE)","v":195.01557299024648},18.846200950049251,{"$f":"VLOOKUP($A431,Sheet1!$1:$1048576,12,FALSE)","v":150.8180076174591},47.087960428097027]
[16050,{"$f":"VLOOKUP($A432,BasinData!$1:$1048576,2,FALSE)","v":3.9703023790530305},53.965328585546708,{"$f":"VLOOKUP($A432,BasinData!$1:$1048576,3,FALSE)","v":2.3316698495492911},{"$f":"VLOOKUP($A432,BasinData!$1:$1048576,4,FALSE)","v":1.7768301350390905},{"$f":"VLOOKUP($A432,BasinData!$1:$1048576,5,FALSE)","v":1.01405544069},188.39398807264988,{"$f":"VLOOKUP($A432,Sheet1!$1:$1048576,9,FALSE)","v":298.81214786838746},3.2752558309574629,{"$f":"VLOOKUP($A432,Sheet1!$1:$1048576,10,FALSE)","v":280.40907640671708},10.260485327983439,{"$f":"VLOOKUP($A432,Sheet1!$1:$1048576,11,FALSE)","v":243.60293348337635},25.723084064594595,{"$f":"VLOOKUP($A432,Sheet1!$1:$1048576,12,FALSE)","v":188.39371909836524},53.965328585546708]
[16051,{"$f":"VLOOKUP($A433,BasinData!$1:$1048576,2,FALSE)","v":1.9622022440909093},50.39360854072531,{"$f":"VLOOKUP($A433,BasinData!$1:$1048576,3,FALSE)","v":1.7035429292619715},{"$f":"VLOOKUP($A433,BasinData!$1:$1048576,4,FALSE)","v":9.9700667741192728},{"$f":"VLOOKUP($A433,BasinData!$1:$1048576,5,FALSE)","v":1.88539581616},175.99102159303084,{"$f":"VLOOKUP($A433,Sheet1!$1:$1048576,9,FALSE)","v":279.1393111770771},-0.29628327692732603,{"$f":"VLOOKUP($A433,Sheet1!$1:$1048576,10,FALSE)","v":261.9478391167919},6.688947019473245,{"$f":"VLOOKUP($A433,Sheet1!$1:$1048576,11,FALSE)","v":227.56489499622148},22.151571666942257,{"$f":"VLOOKUP($A433,Sheet1!$1:$1048576,12,FALSE)","v":175.99047881536592},50.39360854072531]
[16052,{"$f":"VLOOKUP($A434,BasinData!$1:$1048576,2,FALSE)","v":4.217169879956348},52.452849375711565,{"$f":"VLOOKUP($A434,BasinData!$1:$1048576,3,FALSE)","v":1.6974006748403316},{"$f":"VLOOKUP($A434,BasinData!$1:$1048576,4,FALSE)","v":8.8581393370573061},{"$f":"VLOOKUP($A434,BasinData!$1:$1048576,5,FALSE)","v":1.3830358968100001},150.37758055907818,{"$f":"VLOOKUP($A434,Sheet1!$1:$1048576,9,FALSE)","v":238.5140937645196},1.7628410868277797,{"$f":"VLOOKUP($A434,Sheet1!$1:$1048576,10,FALSE)","v":223.82462433204753},8.7478711158078486,{"$f":"VLOOKUP($A434,Sheet1!$1:$1048576,11,FALSE)","v":194.4456854671034},24.21070204972883,{"$f":"VLOOKUP($A434,Sheet1!$1:$1048576,12,FALSE)","v":150.37727716968718},52.452849375711565]
[16053,{"$f":"VLOOKUP($A435,BasinData!$1:$1048576,2,FALSE)","v":0},54.850914710027482,{"$f":"VLOOKUP($A435,BasinData!$1:$1048576,3,FALSE)","v":2.78032060501108},{"$f":"VLOOKUP($A435,BasinData!$1:$1048576,4,FALSE)","v":4.5400710619818394},{"$f":"VLOOKUP($A435,BasinData!$1:$1048576,5,FALSE)","v":0.79800843584199999},242.78660961060146,{"$f":"VLOOKUP($A435,Sheet1!$1:$1048576,9,FALSE)","v":385.0845209007739},4.1608112837129427,{"$f":"VLOOKUP($A435,Sheet1!$1:$1048576,10,FALSE)","v":361.36815592875337},11.14599987650425,{"$f":"VLOOKUP($A435,Sheet1!$1:$1048576,11,FALSE)","v":313.93542598471237},26.608647411664645,{"$f":"VLOOKUP($A435,Sheet1!$1:$1048576,12,FALSE)","v":242.78633106865078},54.850914710027482]
[16054,{"$f":"VLOOKUP($A436,BasinData!$1:$1048576,2,FALSE)","v":0.18301886792452829},49.563221780127499,{"$f":"VLOOKUP($A436,BasinData!$1:$1048576,3,FALSE)","v":1.0381938731627163},{"$f":"VLOOKUP($A436,BasinData!$1:$1048576,4,FALSE)","v":9.3814235413041924},{"$f":"VLOOKUP($A436,BasinData!$1:$1048576,5,FALSE)","v":2.0879692760499999},207.86663632630714,{"$f":"VLOOKUP($A436,Sheet1!$1:$1048576,9,FALSE)","v":329.69704041672009},-1.1266122671564913,{"$f":"VLOOKUP($A436,Sheet1!$1:$1048576,10,FALSE)","v":309.39184787761843},5.8586183161872185,{"$f":"VLOOKUP($A436,Sheet1!$1:$1048576,11,FALSE)","v":268.78146279941507},21.321235393318926,{"$f":"VLOOKUP($A436,Sheet1!$1:$1048576,12,FALSE)","v":207.86588518211011},49.563221780127499]
[16055,{"$f":"VLOOKUP($A437,BasinData!$1:$1048576,2,FALSE)","v":5.1176485075757574},52.609127565829503,{"$f":"VLOOKUP($A437,BasinData!$1:$1048576,3,FALSE)","v":1.8022980744628259},{"$f":"VLOOKUP($A437,BasinData!$1:$1048576,4,FALSE)","v":8.4750911300121512},{"$f":"VLOOKUP($A437,BasinData!$1:$1048576,5,FALSE)","v":1.34491086832},140.97451868054483,{"$f":"VLOOKUP($A437,Sheet1!$1:$1048576,9,FALSE)","v":223.59989918266592},1.919111850399829,{"$f":"VLOOKUP($A437,Sheet1!$1:$1048576,10,FALSE)","v":209.82895662616275},8.9042550557887292,{"$f":"VLOOKUP($A437,Sheet1!$1:$1048576,11,FALSE)","v":182.28707151315646},24.366972891609475,{"$f":"VLOOKUP($A437,Sheet1!$1:$1048576,12,FALSE)","v":140.974243843647},52.609127565829503]
[16056,{"$f":"VLOOKUP($A438,BasinData!$1:$1048576,2,FALSE)","v":2.717416333087121},52.715220900722912,{"$f":"VLOOKUP($A438,BasinData!$1:$1048576,3,FALSE)","v":2.9848314196605452},{"$f":"VLOOKUP($A438,BasinData!$1:$1048576,4,FALSE)","v":11.805555555555555},{"$f":"VLOOKUP($A438,BasinData!$1:$1048576,5,FALSE)","v":1.3190287190000001},156.63968864191366,{"$f":"VLOOKUP($A438,Sheet1!$1:$1048576,9,FALSE)","v":248.44646038510098},2.025200248538757,{"$f":"VLOOKUP($A438,Sheet1!$1:$1048576,10,FALSE)","v":233.1452820445206},9.0103920513438727,{"$f":"VLOOKUP($A438,Sheet1!$1:$1048576,11,FALSE)","v":202.54292536335984},24.473061327622393,{"$f":"VLOOKUP($A438,Sheet1!$1:$1048576,12,FALSE)","v":156.63939034161871},52.715220900722912]
[16057,{"$f":"VLOOKUP($A439,BasinData!$1:$1048576,2,FALSE)","v":4.030453231818182},53.588603773387703,{"$f":"VLOOKUP($A439,BasinData!$1:$1048576,3,FALSE)","v":3.256525349493947},{"$f":"VLOOKUP($A439,BasinData!$1:$1048576,4,FALSE)","v":9.4253823894171145},{"$f":"VLOOKUP($A439,BasinData!$1:$1048576,5,FALSE)","v":1.10596060286},150.27091313510593,{"$f":"VLOOKUP($A439,Sheet1!$1:$1048576,9,FALSE)","v":238.34501722956929},2.8985455866191807,{"$f":"VLOOKUP($A439,Sheet1!$1:$1048576,10,FALSE)","v":223.66596078591772},9.8837750551373293,{"$f":"VLOOKUP($A439,Sheet1!$1:$1048576,11,FALSE)","v":194.30784789861457},25.346356781150877,{"$f":"VLOOKUP($A439,Sheet1!$1:$1048576,12,FALSE)","v":150.27067856765984},53.588603773387703]
[16058,{"$f":"VLOOKUP($A440,BasinData!$1:$1048576,2,FALSE)","v":0.55403241945167103},48.279881849383969,{"$f":"VLOOKUP($A440,BasinData!$1:$1048576,3,FALSE)","v":2.8652554159348305},{"$f":"VLOOKUP($A440,BasinData!$1:$1048576,4,FALSE)","v":14.686805664654262},{"$f":"VLOOKUP($A440,BasinData!$1:$1048576,5,FALSE)","v":2.40103755743},172.84702717295028,{"$f":"VLOOKUP($A440,Sheet1!$1:$1048576,9,FALSE)","v":274.15221785492423},-2.4098489957396785,{"$f":"VLOOKUP($A440,Sheet1!$1:$1048576,10,FALSE)","v":257.26788804253056},4.5753824496906876,{"$f":"VLOOKUP($A440,Sheet1!$1:$1048576,11,FALSE)","v":223.49922841774327},20.03774951654805,{"$f":"VLOOKUP($A440,Sheet1!$1:$1048576,12,FALSE)","v":172.8462389805623},48.279881849383969]
[16059,{"$f":"VLOOKUP($A441,BasinData!$1:$1048576,2,FALSE)","v":1.436259487221591},46.149605431883565,{"$f":"VLOOKUP($A441,BasinData!$1:$1048576,3,FALSE)","v":4.3668446108208334},{"$f":"VLOOKUP($A441,BasinData!$1:$1048576,4,FALSE)","v":26.082084325535789},{"$f":"VLOOKUP($A441,BasinData!$1:$1048576,5,FALSE)","v":2.9207040013899999},115.46625206855364,{"$f":"VLOOKUP($A441,Sheet1!$1:$1048576,9,FALSE)","v":183.14036208239378},-4.5399122708051811,{"$f":"VLOOKUP($A441,Sheet1!$1:$1048576,10,FALSE)","v":171.86121832950005},2.445320216959495,{"$f":"VLOOKUP($A441,Sheet1!$1:$1048576,11,FALSE)","v":149.30293082371259},17.907926174589043,{"$f":"VLOOKUP($A441,Sheet1!$1:$1048576,12,FALSE)","v":115.46549956503141},46.149605431883565]
[16060,{"$f":"VLOOKUP($A442,BasinData!$1:$1048576,2,FALSE)","v":1.1003311258278146},48.877931701281405,{"$f":"VLOOKUP($A442,BasinData!$1:$1048576,3,FALSE)","v":1.2876266347134531},{"$f":"VLOOKUP($A442,BasinData!$1:$1048576,4,FALSE)","v":13.247529175275002},{"$f":"VLOOKUP($A442,BasinData!$1:$1048576,5,FALSE)","v":2.2551450065399998},172.1063337100978,{"$f":"VLOOKUP($A442,Sheet1!$1:$1048576,9,FALSE)","v":272.97753187040206},-1.811849455251435,{"$f":"VLOOKUP($A442,Sheet1!$1:$1048576,10,FALSE)","v":256.16554794579241},5.1732232888310872,{"$f":"VLOOKUP($A442,Sheet1!$1:$1048576,11,FALSE)","v":222.54158009657314},20.635988622329052,{"$f":"VLOOKUP($A442,Sheet1!$1:$1048576,12,FALSE)","v":172.1056283227442},48.877931701281405]
[17001,{"$f":"VLOOKUP($A443,BasinData!$1:$1048576,2,FALSE)","v":0},37.856827991629373,{"$f":"VLOOKUP($A443,BasinData!$1:$1048576,3,FALSE)","v":9.6147260200478879},{"$f":"VLOOKUP($A443,BasinData!$1:$1048576,4,FALSE)","v":27.811629329286248},{"$f":"VLOOKUP($A443,BasinData!$1:$1048576,5,FALSE)","v":4.94394081062},123.92019694807892,{"$f":"VLOOKUP($A443,Sheet1!$1:$1048576,9,FALSE)","v":196.54959888269903},-12.832980748611936,{"$f":"VLOOKUP($A443,Sheet1!$1:$1048576,10,FALSE)","v":184.44461473194048},-5.8477264073065616,{"$f":"VLOOKUP($A443,Sheet1!$1:$1048576,11,FALSE)","v":160.23464643042331},9.6148904017799754,{"$f":"VLOOKUP($A443,Sheet1!$1:$1048576,12,FALSE)","v":123.91969397814761},37.856827991629373]
[17002,{"$f":"VLOOKUP($A444,BasinData!$1:$1048576,2,FALSE)","v":0.20964749536178107},44.825274465389349,{"$f":"VLOOKUP($A444,BasinData!$1:$1048576,3,FALSE)","v":3.8186259469297648},{"$f":"VLOOKUP($A444,BasinData!$1:$1048576,4,FALSE)","v":27.242783778997698},{"$f":"VLOOKUP($A444,BasinData!$1:$1048576,5,FALSE)","v":3.2439719999999999},123.77470352136076,{"$f":"VLOOKUP($A444,Sheet1!$1:$1048576,9,FALSE)","v":196.31962245854902},-5.8649574928544048,{"$f":"VLOOKUP($A444,Sheet1!$1:$1048576,10,FALSE)","v":184.22880196411541},1.1202777200324394,{"$f":"VLOOKUP($A444,Sheet1!$1:$1048576,11,FALSE)","v":160.0471609752482},16.582653391088602,{"$f":"VLOOKUP($A444,Sheet1!$1:$1048576,12,FALSE)","v":123.77469949194736},44.825274465389349]
[17003,{"$f":"VLOOKUP($A445,BasinData!$1:$1048576,2,FALSE)","v":0.27258347978910369},46.501566446634079,{"$f":"VLOOKUP($A445,BasinData!$1:$1048576,3,FALSE)","v":2.8911227894543603},{"$f":"VLOOKUP($A445,BasinData!$1:$1048576,4,FALSE)","v":21.051381051381053},{"$f":"VLOOKUP($A445,BasinData!$1:$1048576,5,FALSE)","v":2.83484648074},147.24738256397436,{"$f":"VLOOKUP($A445,Sheet1!$1:$1048576,9,FALSE)","v":233.54831542317015},-4.1879904094092728,{"$f":"VLOOKUP($A445,Sheet1!$1:$1048576,10,FALSE)","v":219.16467550375697},2.7972069756179487,{"$f":"VLOOKUP($A445,Sheet1!$1:$1048576,11,FALSE)","v":190.3973956649306},18.259858771293786,{"$f":"VLOOKUP($A445,Sheet1!$1:$1048576,12,FALSE)","v":147.24647590669105},46.501566446634079]
[17004,{"$f":"VLOOKUP($A446,BasinData!$1:$1048576,2,FALSE)","v":2.917372482589874E-2},42.534494719159625,{"$f":"VLOOKUP($A446,BasinData!$1:$1048576,3,FALSE)","v":2.7189490986772107},{"$f":"VLOOKUP($A446,BasinData!$1:$1048576,4,FALSE)","v":27.244389027431421},{"$f":"VLOOKUP($A446,BasinData!$1:$1048576,5,FALSE)","v":3.8028401523499999},125.65960764234788,{"$f":"VLOOKUP($A446,Sheet1!$1:$1048576,9,FALSE)","v":199.30921498706905},-8.1557068184334618,{"$f":"VLOOKUP($A446,Sheet1!$1:$1048576,10,FALSE)","v":187.03427317984375},-1.1705976443831385,{"$f":"VLOOKUP($A446,Sheet1!$1:$1048576,11,FALSE)","v":162.48438956539317},14.292107816281078,{"$f":"VLOOKUP($A446,Sheet1!$1:$1048576,12,FALSE)","v":125.6595641437173},42.534494719159625]
[17005,{"$f":"VLOOKUP($A447,BasinData!$1:$1048576,2,FALSE)","v":6.6007310255858945E-2},34.492630726231461,{"$f":"VLOOKUP($A447,BasinData!$1:$1048576,3,FALSE)","v":13.215143476949395},{"$f":"VLOOKUP($A447,BasinData!$1:$1048576,4,FALSE)","v":29.155507945009816},{"$f":"VLOOKUP($A447,BasinData!$1:$1048576,5,FALSE)","v":5.7647826571378502},118.54016800070694,{"$f":"VLOOKUP($A447,Sheet1!$1:$1048576,9,FALSE)","v":188.01694749551325},-16.197505449506174,{"$f":"VLOOKUP($A447,Sheet1!$1:$1048576,10,FALSE)","v":176.43746739255218},-9.2126853928859163,{"$f":"VLOOKUP($A447,Sheet1!$1:$1048576,11,FALSE)","v":153.27850718663001},6.2499190952102008,{"$f":"VLOOKUP($A447,Sheet1!$1:$1048576,12,FALSE)","v":118.54006687774678},34.492630726231461]
[17006,{"$f":"VLOOKUP($A448,BasinData!$1:$1048576,2,FALSE)","v":0.16762177650429796},33.366164823016952,{"$f":"VLOOKUP($A448,BasinData!$1:$1048576,3,FALSE)","v":14.12154510159842},{"$f":"VLOOKUP($A448,BasinData!$1:$1048576,4,FALSE)","v":28.20932858123215},{"$f":"VLOOKUP($A448,BasinData!$1:$1048576,5,FALSE)","v":6.0395543425999998},120.79111094581722,{"$f":"VLOOKUP($A448,Sheet1!$1:$1048576,9,FALSE)","v":191.58681989298461},-17.323711662094798,{"$f":"VLOOKUP($A448,Sheet1!$1:$1048576,10,FALSE)","v":179.78748053293387},-10.338808338041419,{"$f":"VLOOKUP($A448,Sheet1!$1:$1048576,11,FALSE)","v":156.18880181283239},5.1240618689583721,{"$f":"VLOOKUP($A448,Sheet1!$1:$1048576,12,FALSE)","v":120.79078373268017},33.366164823016952]
[17007,{"$f":"VLOOKUP($A449,BasinData!$1:$1048576,2,FALSE)","v":2.5732959821969699},53.656467583179179,{"$f":"VLOOKUP($A449,BasinData!$1:$1048576,3,FALSE)","v":1.0456105380124321},{"$f":"VLOOKUP($A449,BasinData!$1:$1048576,4,FALSE)","v":20.085470085470085},{"$f":"VLOOKUP($A449,BasinData!$1:$1048576,5,FALSE)","v":1.0894046775336601},{"$f":"EXP(6.1523-(0.084*B449)-(0.0091*C449)-(0.0289*E449)-(0.0373*F449))","v":124.80648310545226},{"$f":"VLOOKUP($A449,Sheet1!$1:$1048576,9,FALSE)","v":197.95583509086262},2.9664067010387232,{"$f":"VLOOKUP($A449,Sheet1!$1:$1048576,10,FALSE)","v":185.76424446973317},9.9516361790198964,{"$f":"VLOOKUP($A449,Sheet1!$1:$1048576,11,FALSE)","v":161.38106322747427},25.414231778100806,{"$f":"VLOOKUP($A449,Sheet1!$1:$1048576,12,FALSE)","v":124.80629136408591},53.656467583179179]
[17008,{"$f":"VLOOKUP($A450,BasinData!$1:$1048576,2,FALSE)","v":4.0140212169507574},53.749648067261973,{"$f":"VLOOKUP($A450,BasinData!$1:$1048576,3,FALSE)","v":4.4985538076566529},{"$f":"VLOOKUP($A450,BasinData!$1:$1048576,4,FALSE)","v":3.1674208144796379},{"$f":"VLOOKUP($A450,BasinData!$1:$1048576,5,FALSE)","v":1.0666725318553101},180.30954590770747,{"$f":"VLOOKUP($A450,Sheet1!$1:$1048576,9,FALSE)","v":285.9893736128339},3.0595835366316906,{"$f":"VLOOKUP($A450,Sheet1!$1:$1048576,10,FALSE)","v":268.37602382963343},10.044813024244528,{"$f":"VLOOKUP($A450,Sheet1!$1:$1048576,11,FALSE)","v":233.14932426323247},25.507409589219172,{"$f":"VLOOKUP($A450,Sheet1!$1:$1048576,12,FALSE)","v":180.30927491363107},53.749648067261973]
[17009,{"$f":"VLOOKUP($A451,BasinData!$1:$1048576,2,FALSE)","v":3.7226875414393943},51.886368851171923,{"$f":"VLOOKUP($A451,BasinData!$1:$1048576,3,FALSE)","v":4.1073472713657253},{"$f":"VLOOKUP($A451,BasinData!$1:$1048576,4,FALSE)","v":2.1960784313725492},{"$f":"VLOOKUP($A451,BasinData!$1:$1048576,5,FALSE)","v":1.52123192417266},190.03716770607062,{"$f":"VLOOKUP($A451,Sheet1!$1:$1048576,9,FALSE)","v":301.41814252092411},1.1963890701811692,{"$f":"VLOOKUP($A451,Sheet1!$1:$1048576,10,FALSE)","v":282.85457455279817},8.1816187718585667,{"$f":"VLOOKUP($A451,Sheet1!$1:$1048576,11,FALSE)","v":245.72743861654629},23.644249457070057,{"$f":"VLOOKUP($A451,Sheet1!$1:$1048576,12,FALSE)","v":190.03673471216848},51.886368851171923]
[17010,{"$f":"VLOOKUP($A452,BasinData!$1:$1048576,2,FALSE)","v":2.8612737844128788},54.820692576876809,{"$f":"VLOOKUP($A452,BasinData!$1:$1048576,3,FALSE)","v":4.1245986132782289},{"$f":"VLOOKUP($A452,BasinData!$1:$1048576,4,FALSE)","v":16.767301439851369},{"$f":"VLOOKUP($A452,BasinData!$1:$1048576,5,FALSE)","v":0.80538142680532299},134.08433408462756,{"$f":"VLOOKUP($A452,Sheet1!$1:$1048576,9,FALSE)","v":212.67153562215839},4.130590118500078,{"$f":"VLOOKUP($A452,Sheet1!$1:$1048576,10,FALSE)","v":199.57364286298716},11.115772999015714,{"$f":"VLOOKUP($A452,Sheet1!$1:$1048576,11,FALSE)","v":173.3778573446447},26.578426003443681,{"$f":"VLOOKUP($A452,Sheet1!$1:$1048576,12,FALSE)","v":134.08417906713098},54.820692576876809]
[17011,{"$f":"VLOOKUP($A453,BasinData!$1:$1048576,2,FALSE)","v":7.7097657032240844E-3},53.336360605984936,{"$f":"VLOOKUP($A453,BasinData!$1:$1048576,3,FALSE)","v":1.0668205787945662},{"$f":"VLOOKUP($A453,BasinData!$1:$1048576,4,FALSE)","v":13.716658042056734},{"$f":"VLOOKUP($A453,BasinData!$1:$1048576,5,FALSE)","v":1.16749729470936},186.10898289348276,{"$f":"VLOOKUP($A453,Sheet1!$1:$1048576,9,FALSE)","v":295.18782863277471},2.6463127188590154,{"$f":"VLOOKUP($A453,Sheet1!$1:$1048576,10,FALSE)","v":277.00796966888493},9.6315421311359799,{"$f":"VLOOKUP($A453,Sheet1!$1:$1048576,11,FALSE)","v":240.64825174110538},25.094025464301197,{"$f":"VLOOKUP($A453,Sheet1!$1:$1048576,12,FALSE)","v":186.10867484943606},53.336360605984936]
[17012,{"$f":"VLOOKUP($A454,BasinData!$1:$1048576,2,FALSE)","v":0.75257360647927585},53.509775287741029,{"$f":"VLOOKUP($A454,BasinData!$1:$1048576,3,FALSE)","v":1.2012330436831018},{"$f":"VLOOKUP($A454,BasinData!$1:$1048576,4,FALSE)","v":11.67278284962363},{"$f":"VLOOKUP($A454,BasinData!$1:$1048576,5,FALSE)","v":1.12519143965921},185.45862231769664,{"$f":"VLOOKUP($A454,Sheet1!$1:$1048576,9,FALSE)","v":294.15630960963728},2.8197202720620309,{"$f":"VLOOKUP($A454,Sheet1!$1:$1048576,10,FALSE)","v":276.03997924869179},9.8049497267564778,{"$f":"VLOOKUP($A454,Sheet1!$1:$1048576,11,FALSE)","v":239.80731852680091},25.267506508449856,{"$f":"VLOOKUP($A454,Sheet1!$1:$1048576,12,FALSE)","v":185.45832744396455},53.509775287741029]
[17013,{"$f":"VLOOKUP($A455,BasinData!$1:$1048576,2,FALSE)","v":2.4288885123674242},55.968525439268454,{"$f":"VLOOKUP($A455,BasinData!$1:$1048576,3,FALSE)","v":1.0875350681600338},{"$f":"VLOOKUP($A455,BasinData!$1:$1048576,4,FALSE)","v":24.341838801134063},{"$f":"VLOOKUP($A455,BasinData!$1:$1048576,5,FALSE)","v":0.52535525810443695},111.70761651394977,{"$f":"VLOOKUP($A455,Sheet1!$1:$1048576,9,FALSE)","v":177.17981525743383},5.2783898337964965,{"$f":"VLOOKUP($A455,Sheet1!$1:$1048576,10,FALSE)","v":166.26776624935846},12.263618717160275,{"$f":"VLOOKUP($A455,Sheet1!$1:$1048576,11,FALSE)","v":144.44366823320772},27.726233762128707,{"$f":"VLOOKUP($A455,Sheet1!$1:$1048576,12,FALSE)","v":111.70752120898159},55.968525439268454]
[17014,{"$f":"VLOOKUP($A456,BasinData!$1:$1048576,2,FALSE)","v":2.6306046398674243},53.196927451159837,{"$f":"VLOOKUP($A456,BasinData!$1:$1048576,3,FALSE)","v":1.4249214977281894},{"$f":"VLOOKUP($A456,BasinData!$1:$1048576,4,FALSE)","v":12.537612838515546},{"$f":"VLOOKUP($A456,BasinData!$1:$1048576,5,FALSE)","v":1.2015130550414199},154.48294817684817,{"$f":"VLOOKUP($A456,Sheet1!$1:$1048576,9,FALSE)","v":245.02569875222076},2.5068854500933089,{"$f":"VLOOKUP($A456,Sheet1!$1:$1048576,10,FALSE)","v":229.93519632034193},9.4921148146082022,{"$f":"VLOOKUP($A456,Sheet1!$1:$1048576,11,FALSE)","v":199.75419145658429},24.954520050119353,{"$f":"VLOOKUP($A456,Sheet1!$1:$1048576,12,FALSE)","v":154.48268416094783},53.196927451159837]
[17015,{"$f":"VLOOKUP($A457,BasinData!$1:$1048576,2,FALSE)","v":9.7798742138364786E-2},51.343607413708007,{"$f":"VLOOKUP($A457,BasinData!$1:$1048576,3,FALSE)","v":1.5060682232443694},{"$f":"VLOOKUP($A457,BasinData!$1:$1048576,4,FALSE)","v":20.301186388822789},{"$f":"VLOOKUP($A457,BasinData!$1:$1048576,5,FALSE)","v":1.6536409501638101},152.69965976843397,{"$f":"VLOOKUP($A457,Sheet1!$1:$1048576,9,FALSE)","v":242.1970177120171},0.65365738358466752,{"$f":"VLOOKUP($A457,Sheet1!$1:$1048576,10,FALSE)","v":227.28072646832621},7.6388874182506914,{"$f":"VLOOKUP($A457,Sheet1!$1:$1048576,11,FALSE)","v":197.44814398094442},23.101516610082207,{"$f":"VLOOKUP($A457,Sheet1!$1:$1048576,12,FALSE)","v":152.69927024987174},51.343607413708007]
[17016,{"$f":"VLOOKUP($A458,BasinData!$1:$1048576,2,FALSE)","v":1.3705978051666667},52.481697600157254,{"$f":"VLOOKUP($A458,BasinData!$1:$1048576,3,FALSE)","v":1.8183653726881313},{"$f":"VLOOKUP($A458,BasinData!$1:$1048576,4,FALSE)","v":18.923010380622838},{"$f":"VLOOKUP($A458,BasinData!$1:$1048576,5,FALSE)","v":1.3759981979435401},142.7916540859521,{"$f":"VLOOKUP($A458,Sheet1!$1:$1048576,9,FALSE)","v":226.48204789903093},1.7916879263972965,{"$f":"VLOOKUP($A458,Sheet1!$1:$1048576,10,FALSE)","v":212.53360121771627},8.7767428224930537,{"$f":"VLOOKUP($A458,Sheet1!$1:$1048576,11,FALSE)","v":184.63670785508691},24.239548905940712,{"$f":"VLOOKUP($A458,Sheet1!$1:$1048576,12,FALSE)","v":142.79136781114289},52.481697600157254]
[17017,{"$f":"VLOOKUP($A459,BasinData!$1:$1048576,2,FALSE)","v":2.6830497067045456},48.558203689690934,{"$f":"VLOOKUP($A459,BasinData!$1:$1048576,3,FALSE)","v":1.3795900068630782},{"$f":"VLOOKUP($A459,BasinData!$1:$1048576,4,FALSE)","v":7.367036271377561},{"$f":"VLOOKUP($A459,BasinData!$1:$1048576,5,FALSE)","v":2.3331418684636298},178.59320666415732,{"$f":"VLOOKUP($A459,Sheet1!$1:$1048576,9,FALSE)","v":283.26628031199715},-2.1315510875461818,{"$f":"VLOOKUP($A459,Sheet1!$1:$1048576,10,FALSE)","v":265.82063883975252},4.8536707753148916,{"$f":"VLOOKUP($A459,Sheet1!$1:$1048576,11,FALSE)","v":230.92935589526326},20.316281130558664,{"$f":"VLOOKUP($A459,Sheet1!$1:$1048576,12,FALSE)","v":178.59243147852936},48.558203689690934]
[17018,{"$f":"VLOOKUP($A460,BasinData!$1:$1048576,2,FALSE)","v":1.2206625978844694},52.385103351447214,{"$f":"VLOOKUP($A460,BasinData!$1:$1048576,3,FALSE)","v":1.8057512625038055},{"$f":"VLOOKUP($A460,BasinData!$1:$1048576,4,FALSE)","v":28.880866425992778},{"$f":"VLOOKUP($A460,BasinData!$1:$1048576,5,FALSE)","v":1.3995629430793599},108.44023197086911,{"$f":"VLOOKUP($A460,Sheet1!$1:$1048576,9,FALSE)","v":171.99720054133684},1.6950983398123178,{"$f":"VLOOKUP($A460,Sheet1!$1:$1048576,10,FALSE)","v":161.40433544080676},8.6800624763434406,{"$f":"VLOOKUP($A460,Sheet1!$1:$1048576,11,FALSE)","v":140.21860523974664},24.142959259440701,{"$f":"VLOOKUP($A460,Sheet1!$1:$1048576,12,FALSE)","v":108.44000993815642},52.385103351447214]
[17019,{"$f":"VLOOKUP($A461,BasinData!$1:$1048576,2,FALSE)","v":0.16562377786468518},47.79579173044533,{"$f":"VLOOKUP($A461,BasinData!$1:$1048576,3,FALSE)","v":1.6366298808097461},{"$f":"VLOOKUP($A461,BasinData!$1:$1048576,4,FALSE)","v":19.727403156384504},{"$f":"VLOOKUP($A461,BasinData!$1:$1048576,5,FALSE)","v":2.5191292566163899},154.37125151774526,{"$f":"VLOOKUP($A461,Sheet1!$1:$1048576,9,FALSE)","v":244.84774053059809},-2.8938955570383311,{"$f":"VLOOKUP($A461,Sheet1!$1:$1048576,10,FALSE)","v":229.76819808777284},4.0913365056312001,{"$f":"VLOOKUP($A461,Sheet1!$1:$1048576,11,FALSE)","v":199.60911320212236},19.553967404317131,{"$f":"VLOOKUP($A461,Sheet1!$1:$1048576,12,FALSE)","v":154.37048587364663},47.79579173044533]
[17020,{"$f":"VLOOKUP($A462,BasinData!$1:$1048576,2,FALSE)","v":3.0865134669886363},50.589808469922545,{"$f":"VLOOKUP($A462,BasinData!$1:$1048576,3,FALSE)","v":3.6747829814952784},{"$f":"VLOOKUP($A462,BasinData!$1:$1048576,4,FALSE)","v":31.292517006802722},{"$f":"VLOOKUP($A462,BasinData!$1:$1048576,5,FALSE)","v":1.8375324625},86.467784353660136,{"$f":"VLOOKUP($A462,Sheet1!$1:$1048576,9,FALSE)","v":137.14654504091882},-0.10009603727301904,{"$f":"VLOOKUP($A462,Sheet1!$1:$1048576,10,FALSE)","v":128.70004215569847},6.8848178950034429,{"$f":"VLOOKUP($A462,Sheet1!$1:$1048576,11,FALSE)","v":111.80703638525779},22.347760084411405,{"$f":"VLOOKUP($A462,Sheet1!$1:$1048576,12,FALSE)","v":86.467527729596753},50.589808469922545]
[17021,{"$f":"VLOOKUP($A463,BasinData!$1:$1048576,2,FALSE)","v":0.34509137271568208},39.29254355932477,{"$f":"VLOOKUP($A463,BasinData!$1:$1048576,3,FALSE)","v":8.0056184799348866},{"$f":"VLOOKUP($A463,BasinData!$1:$1048576,4,FALSE)","v":33.156768746856081},{"$f":"VLOOKUP($A463,BasinData!$1:$1048576,5,FALSE)","v":4.5937214597100002},103.14891812241135,{"$f":"VLOOKUP($A463,Sheet1!$1:$1048576,9,FALSE)","v":163.60461071070159},-11.39746034049864,{"$f":"VLOOKUP($A463,Sheet1!$1:$1048576,10,FALSE)","v":153.5286236270241},-4.4122121341626199,{"$f":"VLOOKUP($A463,Sheet1!$1:$1048576,11,FALSE)","v":133.3766494596691},11.049878128410088,{"$f":"VLOOKUP($A463,Sheet1!$1:$1048576,12,FALSE)","v":103.1486882086366},39.29254355932477]
[17022,{"$f":"VLOOKUP($A464,BasinData!$1:$1048576,2,FALSE)","v":0.13962508080155139},39.463161124105397,{"$f":"VLOOKUP($A464,BasinData!$1:$1048576,3,FALSE)","v":7.0643951578925561},{"$f":"VLOOKUP($A464,BasinData!$1:$1048576,4,FALSE)","v":33.199821984868713},{"$f":"VLOOKUP($A464,BasinData!$1:$1048576,5,FALSE)","v":4.5521007678799998},104.81412181778762,{"$f":"VLOOKUP($A464,Sheet1!$1:$1048576,9,FALSE)","v":166.24582002980057},-11.226860621578831,{"$f":"VLOOKUP($A464,Sheet1!$1:$1048576,10,FALSE)","v":156.00716765894734},-4.2416130644957128,{"$f":"VLOOKUP($A464,Sheet1!$1:$1048576,11,FALSE)","v":135.52986291724088},11.221018574594243,{"$f":"VLOOKUP($A464,Sheet1!$1:$1048576,12,FALSE)","v":104.81390580468118},39.463161124105397]
[17023,{"$f":"VLOOKUP($A465,BasinData!$1:$1048576,2,FALSE)","v":1.6617508184318182},29.968693449166189,{"$f":"VLOOKUP($A465,BasinData!$1:$1048576,3,FALSE)","v":81.98913930882334},{"$f":"VLOOKUP($A465,BasinData!$1:$1048576,4,FALSE)","v":17.830045523520486},{"$f":"VLOOKUP($A465,BasinData!$1:$1048576,5,FALSE)","v":6.8684934332700003},143.81312305146346,{"$f":"VLOOKUP($A465,Sheet1!$1:$1048576,9,FALSE)","v":228.10259693868181},-20.721439302944088,{"$f":"VLOOKUP($A465,Sheet1!$1:$1048576,10,FALSE)","v":214.05434481104717},-13.736307361967127,{"$f":"VLOOKUP($A465,Sheet1!$1:$1048576,11,FALSE)","v":185.95784055577786},1.7263451026302516,{"$f":"VLOOKUP($A465,Sheet1!$1:$1048576,12,FALSE)","v":143.81308417287391},29.968693449166189]
[17024,{"$f":"VLOOKUP($A466,BasinData!$1:$1048576,2,FALSE)","v":1.6792545787291664},35.787097898385213,{"$f":"VLOOKUP($A466,BasinData!$1:$1048576,3,FALSE)","v":2.846610209275235},{"$f":"VLOOKUP($A466,BasinData!$1:$1048576,4,FALSE)","v":46.670997076973045},{"$f":"VLOOKUP($A466,BasinData!$1:$1048576,5,FALSE)","v":5.4489941747600001},62.398468154525631,{"$f":"VLOOKUP($A466,Sheet1!$1:$1048576,9,FALSE)","v":98.970487393380537},-14.903129758933053,{"$f":"VLOOKUP($A466,Sheet1!$1:$1048576,10,FALSE)","v":92.875149686765781},-7.9184995728863479,{"$f":"VLOOKUP($A466,Sheet1!$1:$1048576,11,FALSE)","v":80.684474273536253},7.5447398916231965,{"$f":"VLOOKUP($A466,Sheet1!$1:$1048576,12,FALSE)","v":62.398461153691954},35.787097898385213]
[17025,{"$f":"VLOOKUP($A467,BasinData!$1:$1048576,2,FALSE)","v":0},38.042166747559797,{"$f":"VLOOKUP($A467,BasinData!$1:$1048576,3,FALSE)","v":8.6696433795219612},{"$f":"VLOOKUP($A467,BasinData!$1:$1048576,4,FALSE)","v":29.937371107077347},{"$f":"VLOOKUP($A467,BasinData!$1:$1048576,5,FALSE)","v":4.8987317146700002},116.53638765751278,{"$f":"VLOOKUP($A467,Sheet1!$1:$1048576,9,FALSE)","v":184.83820478634001},-12.647672294341113,{"$f":"VLOOKUP($A467,Sheet1!$1:$1048576,10,FALSE)","v":173.45449526918839},-5.6624188173430436,{"$f":"VLOOKUP($A467,Sheet1!$1:$1048576,11,FALSE)","v":150.68707623488518},9.800195669473311,{"$f":"VLOOKUP($A467,Sheet1!$1:$1048576,12,FALSE)","v":116.53594768343034},38.042166747559797]
[17026,{"$f":"VLOOKUP($A468,BasinData!$1:$1048576,2,FALSE)","v":1.1969131841515153},26.948712909430856,{"$f":"VLOOKUP($A468,BasinData!$1:$1048576,3,FALSE)","v":100},{"$f":"VLOOKUP($A468,BasinData!$1:$1048576,4,FALSE)","v":16.869565217391305},{"$f":"VLOOKUP($A468,BasinData!$1:$1048576,5,FALSE)","v":7.6052170961199996},153.74893388596581,{"$f":"VLOOKUP($A468,Sheet1!$1:$1048576,9,FALSE)","v":243.86133301765125},-23.741263494913348,{"$f":"VLOOKUP($A468,Sheet1!$1:$1048576,10,FALSE)","v":228.84254087591177},-16.756035915034097,{"$f":"VLOOKUP($A468,Sheet1!$1:$1048576,11,FALSE)","v":198.80495659243283},-1.2934048549997874,{"$f":"VLOOKUP($A468,Sheet1!$1:$1048576,12,FALSE)","v":153.74858016721439},26.948712909430856]
[17027,{"$f":"VLOOKUP($A469,BasinData!$1:$1048576,2,FALSE)","v":0.30401396160558464},37.247247825285399,{"$f":"VLOOKUP($A469,BasinData!$1:$1048576,3,FALSE)","v":15.32855950837388},{"$f":"VLOOKUP($A469,BasinData!$1:$1048576,4,FALSE)","v":34.35504469987228},{"$f":"VLOOKUP($A469,BasinData!$1:$1048576,5,FALSE)","v":5.0926307590900004},99.9826781890566,{"$f":"VLOOKUP($A469,Sheet1!$1:$1048576,9,FALSE)","v":158.5821783089458},-13.442449082413717,{"$f":"VLOOKUP($A469,Sheet1!$1:$1048576,10,FALSE)","v":148.8155099161591},-6.4571917317798979,{"$f":"VLOOKUP($A469,Sheet1!$1:$1048576,11,FALSE)","v":129.28217313058573},9.0054310904447963,{"$f":"VLOOKUP($A469,Sheet1!$1:$1048576,12,FALSE)","v":99.982167952225666},37.247247825285399]
[17028,{"$f":"VLOOKUP($A470,BasinData!$1:$1048576,2,FALSE)","v":0},37.5611707518676,{"$f":"VLOOKUP($A470,BasinData!$1:$1048576,3,FALSE)","v":8.9028955753345986},{"$f":"VLOOKUP($A470,BasinData!$1:$1048576,4,FALSE)","v":29.665641232538203},{"$f":"VLOOKUP($A470,BasinData!$1:$1048576,5,FALSE)","v":5.0160586788100003},117.45524011494788,{"$f":"VLOOKUP($A470,Sheet1!$1:$1048576,9,FALSE)","v":186.2954523726724},-13.128586150046797,{"$f":"VLOOKUP($A470,Sheet1!$1:$1048576,10,FALSE)","v":174.82199472560058},-6.1433303817978846,{"$f":"VLOOKUP($A470,Sheet1!$1:$1048576,11,FALSE)","v":151.87507943145698},9.3192896346167693,{"$f":"VLOOKUP($A470,Sheet1!$1:$1048576,12,FALSE)","v":117.45470649024161},37.5611707518676]
[17029,{"$f":"VLOOKUP($A471,BasinData!$1:$1048576,2,FALSE)","v":0.79809597538446975},47.256183477398388,{"$f":"VLOOKUP($A471,BasinData!$1:$1048576,3,FALSE)","v":6.9743764583748309},{"$f":"VLOOKUP($A471,BasinData!$1:$1048576,4,FALSE)","v":28.024151571934208},{"$f":"VLOOKUP($A471,BasinData!$1:$1048576,5,FALSE)","v":2.6507635453499998},115.17551793518622,{"$f":"VLOOKUP($A471,Sheet1!$1:$1048576,9,FALSE)","v":182.67942784969955},-3.4334519408769957,{"$f":"VLOOKUP($A471,Sheet1!$1:$1048576,10,FALSE)","v":171.42867185039589},3.55147924936003,{"$f":"VLOOKUP($A471,Sheet1!$1:$1048576,11,FALSE)","v":148.92715985178853},19.01440862032609,{"$f":"VLOOKUP($A471,Sheet1!$1:$1048576,12,FALSE)","v":115.1748918538775},47.256183477398388]
[17030,{"$f":"VLOOKUP($A472,BasinData!$1:$1048576,2,FALSE)","v":0.6928794745814395},43.873950493979969,{"$f":"VLOOKUP($A472,BasinData!$1:$1048576,3,FALSE)","v":11.363234739204689},{"$f":"VLOOKUP($A472,BasinData!$1:$1048576,4,FALSE)","v":26.334716459197789},{"$f":"VLOOKUP($A472,BasinData!$1:$1048576,5,FALSE)","v":3.4760624679999998},122.01143122540654,{"$f":"VLOOKUP($A472,Sheet1!$1:$1048576,9,FALSE)","v":193.52287395872179},-6.816274846147758,{"$f":"VLOOKUP($A472,Sheet1!$1:$1048576,10,FALSE)","v":181.60429800946415},0.16850414797219032,{"$f":"VLOOKUP($A472,Sheet1!$1:$1048576,11,FALSE)","v":157.76714611094883},15.63157745764288,{"$f":"VLOOKUP($A472,Sheet1!$1:$1048576,12,FALSE)","v":122.01141826317586},43.873950493979969]
[17031,{"$f":"VLOOKUP($A473,BasinData!$1:$1048576,2,FALSE)","v":0.46738280741666666},31.518378450870969,{"$f":"VLOOKUP($A473,BasinData!$1:$1048576,3,FALSE)","v":13.933401878669297},{"$f":"VLOOKUP($A473,BasinData!$1:$1048576,4,FALSE)","v":62.341236240474174},{"$f":"VLOOKUP($A473,BasinData!$1:$1048576,5,FALSE)","v":6.4904138913600002},43.924332375974188,{"$f":"VLOOKUP($A473,Sheet1!$1:$1048576,9,FALSE)","v":69.66855133033458},-19.171784001204951,{"$f":"VLOOKUP($A473,Sheet1!$1:$1048576,10,FALSE)","v":65.37784448354364},-12.186674713615488,{"$f":"VLOOKUP($A473,Sheet1!$1:$1048576,11,FALSE)","v":56.796430789961761},3.2760478983320658,{"$f":"VLOOKUP($A473,Sheet1!$1:$1048576,12,FALSE)","v":43.924310249588927},31.518378450870969]
[17032,{"$f":"VLOOKUP($A474,BasinData!$1:$1048576,2,FALSE)","v":8.0751919512840886E-2},35.195804221624947,{"$f":"VLOOKUP($A474,BasinData!$1:$1048576,3,FALSE)","v":2.0626243600954033},{"$f":"VLOOKUP($A474,BasinData!$1:$1048576,4,FALSE)","v":42.766576595302432},{"$f":"VLOOKUP($A474,BasinData!$1:$1048576,5,FALSE)","v":5.5932450596300001},79.89017795691035,{"$f":"VLOOKUP($A474,Sheet1!$1:$1048576,9,FALSE)","v":126.71413880112345},-15.494393422096135,{"$f":"VLOOKUP($A474,Sheet1!$1:$1048576,10,FALSE)","v":118.91014097775452},-8.5096728674856745,{"$f":"VLOOKUP($A474,Sheet1!$1:$1048576,11,FALSE)","v":103.30214533101665},6.9534708376180792,{"$f":"VLOOKUP($A474,Sheet1!$1:$1048576,12,FALSE)","v":79.890151860909825},35.195804221624947]
[17033,{"$f":"VLOOKUP($A475,BasinData!$1:$1048576,2,FALSE)","v":7.4287652645861596E-2},36.904953781076678,{"$f":"VLOOKUP($A475,BasinData!$1:$1048576,3,FALSE)","v":10.737480197916483},{"$f":"VLOOKUP($A475,BasinData!$1:$1048576,4,FALSE)","v":28.268823667773045},{"$f":"VLOOKUP($A475,BasinData!$1:$1048576,5,FALSE)","v":5.1761215972199999},121.53307138292344,{"$f":"VLOOKUP($A475,Sheet1!$1:$1048576,9,FALSE)","v":192.7630533616659},-13.78467154451015,{"$f":"VLOOKUP($A475,Sheet1!$1:$1048576,10,FALSE)","v":180.89127280826284},-6.7994123859585143,{"$f":"VLOOKUP($A475,Sheet1!$1:$1048576,11,FALSE)","v":157.14771170145676},8.6632128829792432,{"$f":"VLOOKUP($A475,Sheet1!$1:$1048576,12,FALSE)","v":121.53237004124763},36.904953781076678]
[17034,{"$f":"VLOOKUP($A476,BasinData!$1:$1048576,2,FALSE)","v":1.1479174469791666},46.047815596180286,{"$f":"VLOOKUP($A476,BasinData!$1:$1048576,3,FALSE)","v":3.3701564801904706},{"$f":"VLOOKUP($A476,BasinData!$1:$1048576,4,FALSE)","v":30.299137456414023},{"$f":"VLOOKUP($A476,BasinData!$1:$1048576,5,FALSE)","v":2.9455345778500002},104.72378870018643,{"$f":"VLOOKUP($A476,Sheet1!$1:$1048576,9,FALSE)","v":166.1017845939931},-4.6416904614869612,{"$f":"VLOOKUP($A476,Sheet1!$1:$1048576,10,FALSE)","v":155.87200299508498},2.3435428070990105,{"$f":"VLOOKUP($A476,Sheet1!$1:$1048576,11,FALSE)","v":135.4124397972688},17.806098929273826,{"$f":"VLOOKUP($A476,Sheet1!$1:$1048576,12,FALSE)","v":104.72309500054455},46.047815596180286]
[17035,{"$f":"VLOOKUP($A477,BasinData!$1:$1048576,2,FALSE)","v":0.16229116945107397},51.238212167925802,{"$f":"VLOOKUP($A477,BasinData!$1:$1048576,3,FALSE)","v":8.4264329262169593},{"$f":"VLOOKUP($A477,BasinData!$1:$1048576,4,FALSE)","v":14.643733607104936},{"$f":"VLOOKUP($A477,BasinData!$1:$1048576,5,FALSE)","v":1.67935251034},178.8515373031872,{"$f":"VLOOKUP($A477,Sheet1!$1:$1048576,9,FALSE)","v":283.67650987434678},0.54826820264699527,{"$f":"VLOOKUP($A477,Sheet1!$1:$1048576,10,FALSE)","v":266.20560341871555},7.5334980081778271,{"$f":"VLOOKUP($A477,Sheet1!$1:$1048576,11,FALSE)","v":231.26379050745311},22.996127113097888,{"$f":"VLOOKUP($A477,Sheet1!$1:$1048576,12,FALSE)","v":178.85107114055941},51.238212167925802]
[17036,{"$f":"VLOOKUP($A478,BasinData!$1:$1048576,2,FALSE)","v":0.19240313036839091},43.744380930450141,{"$f":"VLOOKUP($A478,BasinData!$1:$1048576,3,FALSE)","v":8.4936850099995702},{"$f":"VLOOKUP($A478,BasinData!$1:$1048576,4,FALSE)","v":29.717901607915188},{"$f":"VLOOKUP($A478,BasinData!$1:$1048576,5,FALSE)","v":3.5076728664200001},115.397272221089,{"$f":"VLOOKUP($A478,Sheet1!$1:$1048576,9,FALSE)","v":183.0321241560934},-6.9458429650096978,{"$f":"VLOOKUP($A478,Sheet1!$1:$1048576,10,FALSE)","v":171.75964649862712},3.8977993099479531E-2,{"$f":"VLOOKUP($A478,Sheet1!$1:$1048576,11,FALSE)","v":149.21469118369455},15.502003581250351,{"$f":"VLOOKUP($A478,Sheet1!$1:$1048576,12,FALSE)","v":115.39725821129568},43.744380930450141]
[17037,{"$f":"VLOOKUP($A479,BasinData!$1:$1048576,2,FALSE)","v":2.7397260273972603E-3},47.436188726296812,{"$f":"VLOOKUP($A479,BasinData!$1:$1048576,3,FALSE)","v":8.1081680233741764},{"$f":"VLOOKUP($A479,BasinData!$1:$1048576,4,FALSE)","v":22.990821049089426},{"$f":"VLOOKUP($A479,BasinData!$1:$1048576,5,FALSE)","v":2.6068524102100001},142.41284839276167,{"$f":"VLOOKUP($A479,Sheet1!$1:$1048576,9,FALSE)","v":225.8804853223146},-3.2534643840724762,{"$f":"VLOOKUP($A479,Sheet1!$1:$1048576,10,FALSE)","v":211.96908733251715},3.7313579662538947,{"$f":"VLOOKUP($A479,Sheet1!$1:$1048576,11,FALSE)","v":184.14629135292228},19.194397334610581,{"$f":"VLOOKUP($A479,Sheet1!$1:$1048576,12,FALSE)","v":142.41209738352995},47.436188726296812]
[17038,{"$f":"VLOOKUP($A480,BasinData!$1:$1048576,2,FALSE)","v":6.4206074586697429E-2},38.440799594146853,{"$f":"VLOOKUP($A480,BasinData!$1:$1048576,3,FALSE)","v":7.7249235669685259},{"$f":"VLOOKUP($A480,BasinData!$1:$1048576,4,FALSE)","v":30.659346993947128},{"$f":"VLOOKUP($A480,BasinData!$1:$1048576,5,FALSE)","v":4.8014931266799996},113.5160903052504,{"$f":"VLOOKUP($A480,Sheet1!$1:$1048576,9,FALSE)","v":180.04781604397735},-12.249099209276928,{"$f":"VLOOKUP($A480,Sheet1!$1:$1048576,10,FALSE)","v":168.95913424569113},-5.263847515609859,{"$f":"VLOOKUP($A480,Sheet1!$1:$1048576,11,FALSE)","v":146.7817706491187},10.198761062514423,{"$f":"VLOOKUP($A480,Sheet1!$1:$1048576,12,FALSE)","v":113.51572525426006},38.440799594146853]
[17039,{"$f":"VLOOKUP($A481,BasinData!$1:$1048576,2,FALSE)","v":0.4959716403480503},38.875804759277969,{"$f":"VLOOKUP($A481,BasinData!$1:$1048576,3,FALSE)","v":11.14365174951647},{"$f":"VLOOKUP($A481,BasinData!$1:$1048576,4,FALSE)","v":39.119010819165382},{"$f":"VLOOKUP($A481,BasinData!$1:$1048576,5,FALSE)","v":4.6953802810900003},85.729026031472046,{"$f":"VLOOKUP($A481,Sheet1!$1:$1048576,9,FALSE)","v":135.97483994662554},-11.814151380510811,{"$f":"VLOOKUP($A481,Sheet1!$1:$1048576,10,FALSE)","v":127.60049936382866},-4.8289015206681061,{"$f":"VLOOKUP($A481,Sheet1!$1:$1048576,11,FALSE)","v":110.85181819823489},10.633697416467529,{"$f":"VLOOKUP($A481,Sheet1!$1:$1048576,12,FALSE)","v":85.728796449844225},38.875804759277969]
[17040,{"$f":"VLOOKUP($A482,BasinData!$1:$1048576,2,FALSE)","v":0.47516896855715551},52.8502267345444,{"$f":"VLOOKUP($A482,BasinData!$1:$1048576,3,FALSE)","v":7.6735518000134162},{"$f":"VLOOKUP($A482,BasinData!$1:$1048576,4,FALSE)","v":12.413847240756731},{"$f":"VLOOKUP($A482,BasinData!$1:$1048576,5,FALSE)","v":1.2860931503899999},185.80863195006705,{"$f":"VLOOKUP($A482,Sheet1!$1:$1048576,9,FALSE)","v":294.71138457864708},2.1601999212830929,{"$f":"VLOOKUP($A482,Sheet1!$1:$1048576,10,FALSE)","v":276.56086857834879},9.1454242779015509,{"$f":"VLOOKUP($A482,Sheet1!$1:$1048576,11,FALSE)","v":240.25983657775225},24.608061033116186,{"$f":"VLOOKUP($A482,Sheet1!$1:$1048576,12,FALSE)","v":185.80828857685742},52.8502267345444]
[17041,{"$f":"VLOOKUP($A483,BasinData!$1:$1048576,2,FALSE)","v":0.66980486308712128},42.106107181379862,{"$f":"VLOOKUP($A483,BasinData!$1:$1048576,3,FALSE)","v":2.3347585019114541},{"$f":"VLOOKUP($A483,BasinData!$1:$1048576,4,FALSE)","v":31.579557306756289},{"$f":"VLOOKUP($A483,BasinData!$1:$1048576,5,FALSE)","v":3.90734959075},105.05431165131169,{"$f":"VLOOKUP($A483,Sheet1!$1:$1048576,9,FALSE)","v":166.627050421315},-8.5840816254249166,{"$f":"VLOOKUP($A483,Sheet1!$1:$1048576,10,FALSE)","v":156.36491905140352},-1.5989115056544292,{"$f":"VLOOKUP($A483,Sheet1!$1:$1048576,11,FALSE)","v":135.84065631158052},13.863783366152209,{"$f":"VLOOKUP($A483,Sheet1!$1:$1048576,12,FALSE)","v":105.05426220184603},42.106107181379862]
[17042,{"$f":"VLOOKUP($A484,BasinData!$1:$1048576,2,FALSE)","v":1.7935954853181817},54.535185217614128,{"$f":"VLOOKUP($A484,BasinData!$1:$1048576,3,FALSE)","v":2.1411390009274629},{"$f":"VLOOKUP($A484,BasinData!$1:$1048576,4,FALSE)","v":6.5040650406504072},{"$f":"VLOOKUP($A484,BasinData!$1:$1048576,5,FALSE)","v":0.87503373009899998},197.30713112637818,{"$f":"VLOOKUP($A484,Sheet1!$1:$1048576,9,FALSE)","v":312.94936310977863},3.8450921720321563,{"$f":"VLOOKUP($A484,Sheet1!$1:$1048576,10,FALSE)","v":293.6756169308577},10.830200391281993,{"$f":"VLOOKUP($A484,Sheet1!$1:$1048576,11,FALSE)","v":255.12812457301584},26.29292567088277,{"$f":"VLOOKUP($A484,Sheet1!$1:$1048576,12,FALSE)","v":197.3068860362531},54.535185217614128]
[17043,{"$f":"VLOOKUP($A485,BasinData!$1:$1048576,2,FALSE)","v":1.2962230051193182},51.181045210975178,{"$f":"VLOOKUP($A485,BasinData!$1:$1048576,3,FALSE)","v":2.0510426468395959},{"$f":"VLOOKUP($A485,BasinData!$1:$1048576,4,FALSE)","v":2.8511966701352756},{"$f":"VLOOKUP($A485,BasinData!$1:$1048576,5,FALSE)","v":1.69329859114},228.63117941091065,{"$f":"VLOOKUP($A485,Sheet1!$1:$1048576,9,FALSE)","v":362.63201325472767},0.49110457534475122,{"$f":"VLOOKUP($A485,Sheet1!$1:$1048576,10,FALSE)","v":340.2984404671999},7.476290819937498,{"$f":"VLOOKUP($A485,Sheet1!$1:$1048576,11,FALSE)","v":295.6312948921443},22.93896329984986,{"$f":"VLOOKUP($A485,Sheet1!$1:$1048576,12,FALSE)","v":228.6305765295609},51.181045210975178]
[17044,{"$f":"VLOOKUP($A486,BasinData!$1:$1048576,2,FALSE)","v":1.3599335968579545},48.566678375794986,{"$f":"VLOOKUP($A486,BasinData!$1:$1048576,3,FALSE)","v":3.3015993653229097},{"$f":"VLOOKUP($A486,BasinData!$1:$1048576,4,FALSE)","v":29.386292369717783},{"$f":"VLOOKUP($A486,BasinData!$1:$1048576,5,FALSE)","v":2.33107449319},105.6250835373698,{"$f":"VLOOKUP($A486,Sheet1!$1:$1048576,9,FALSE)","v":167.53170669806443},-2.1230771150330949,{"$f":"VLOOKUP($A486,Sheet1!$1:$1048576,10,FALSE)","v":157.21385987539094},4.8621431972643432,{"$f":"VLOOKUP($A486,Sheet1!$1:$1048576,11,FALSE)","v":136.57816623004396},20.324755271335945,{"$f":"VLOOKUP($A486,Sheet1!$1:$1048576,12,FALSE)","v":105.62462576202353},48.566678375794986]
[17045,{"$f":"VLOOKUP($A487,BasinData!$1:$1048576,2,FALSE)","v":0.94012612943560614},45.25580520887064,{"$f":"VLOOKUP($A487,BasinData!$1:$1048576,3,FALSE)","v":2.4745031419200783},{"$f":"VLOOKUP($A487,BasinData!$1:$1048576,4,FALSE)","v":31.533058852022283},{"$f":"VLOOKUP($A487,BasinData!$1:$1048576,5,FALSE)","v":3.1389367952199998},102.833773436694,{"$f":"VLOOKUP($A487,Sheet1!$1:$1048576,9,FALSE)","v":163.10512033885931},-5.4344279883294373,{"$f":"VLOOKUP($A487,Sheet1!$1:$1048576,10,FALSE)","v":153.0598955821923},1.550806528923947,{"$f":"VLOOKUP($A487,Sheet1!$1:$1048576,11,FALSE)","v":132.96944606885825},17.01342996104621,{"$f":"VLOOKUP($A487,Sheet1!$1:$1048576,12,FALSE)","v":102.83377179885717},45.25580520887064]
[17046,{"$f":"VLOOKUP($A488,BasinData!$1:$1048576,2,FALSE)","v":1.0736013397897726},53.502593455822087,{"$f":"VLOOKUP($A488,BasinData!$1:$1048576,3,FALSE)","v":2.2169994452778927},{"$f":"VLOOKUP($A488,BasinData!$1:$1048576,4,FALSE)","v":30.296850215273057},{"$f":"VLOOKUP($A488,BasinData!$1:$1048576,5,FALSE)","v":1.12694350422},105.38601297517019,{"$f":"VLOOKUP($A488,Sheet1!$1:$1048576,9,FALSE)","v":167.15297564118052},2.8125387311911156,{"$f":"VLOOKUP($A488,Sheet1!$1:$1048576,10,FALSE)","v":156.85845388997521},9.7977681844661504,{"$f":"VLOOKUP($A488,Sheet1!$1:$1048576,11,FALSE)","v":136.26941038756459},25.260322434399345,{"$f":"VLOOKUP($A488,Sheet1!$1:$1048576,12,FALSE)","v":105.38584513394866},53.502593455822087]
[17047,{"$f":"VLOOKUP($A489,BasinData!$1:$1048576,2,FALSE)","v":0.61765673942803023},51.108419645261868,{"$f":"VLOOKUP($A489,BasinData!$1:$1048576,3,FALSE)","v":1.7860486858712814},{"$f":"VLOOKUP($A489,BasinData!$1:$1048576,4,FALSE)","v":26.509396241503396},{"$f":"VLOOKUP($A489,BasinData!$1:$1048576,5,FALSE)","v":1.7110158439900001},122.16685481536402,{"$f":"VLOOKUP($A489,Sheet1!$1:$1048576,9,FALSE)","v":193.76889405858134},0.41848328058074652,{"$f":"VLOOKUP($A489,Sheet1!$1:$1048576,10,FALSE)","v":181.83516636428581},7.4034668068601874,{"$f":"VLOOKUP($A489,Sheet1!$1:$1048576,11,FALSE)","v":157.96771097569476},22.866341752671694,{"$f":"VLOOKUP($A489,Sheet1!$1:$1048576,12,FALSE)","v":122.16652789280815},51.108419645261868]
[17048,{"$f":"VLOOKUP($A490,BasinData!$1:$1048576,2,FALSE)","v":2.4364275509090909},47.309026330942878,{"$f":"VLOOKUP($A490,BasinData!$1:$1048576,3,FALSE)","v":1.8860107665226797},{"$f":"VLOOKUP($A490,BasinData!$1:$1048576,4,FALSE)","v":14.651437573847973},{"$f":"VLOOKUP($A490,BasinData!$1:$1048576,5,FALSE)","v":2.63787287759},147.71854524721704,{"$f":"VLOOKUP($A490,Sheet1!$1:$1048576,9,FALSE)","v":234.29580443161345},-3.3806143220261706,{"$f":"VLOOKUP($A490,Sheet1!$1:$1048576,10,FALSE)","v":219.86612858716398},3.6042868990476151,{"$f":"VLOOKUP($A490,Sheet1!$1:$1048576,11,FALSE)","v":191.00677689826509},19.067246624374025,{"$f":"VLOOKUP($A490,Sheet1!$1:$1048576,12,FALSE)","v":147.71774936491676},47.309026330942878]
[17049,{"$f":"VLOOKUP($A491,BasinData!$1:$1048576,2,FALSE)","v":0.73025877132954542},39.910861986468582,{"$f":"VLOOKUP($A491,BasinData!$1:$1048576,3,FALSE)","v":2.9055364090192222},{"$f":"VLOOKUP($A491,BasinData!$1:$1048576,4,FALSE)","v":38.934092758340114},{"$f":"VLOOKUP($A491,BasinData!$1:$1048576,5,FALSE)","v":4.4428867375600003},84.508697926266279,{"$f":"VLOOKUP($A491,Sheet1!$1:$1048576,9,FALSE)","v":134.03941268025682},-10.779201565413974,{"$f":"VLOOKUP($A491,Sheet1!$1:$1048576,10,FALSE)","v":125.78427008370625},-3.7939556393661928,{"$f":"VLOOKUP($A491,Sheet1!$1:$1048576,11,FALSE)","v":109.27398489060512},11.668674574478569,{"$f":"VLOOKUP($A491,Sheet1!$1:$1048576,12,FALSE)","v":84.508557100953411},39.910861986468582]
[17050,{"$f":"VLOOKUP($A492,BasinData!$1:$1048576,2,FALSE)","v":9.0976606015595998E-2},44.859422543240385,{"$f":"VLOOKUP($A492,BasinData!$1:$1048576,3,FALSE)","v":5.5950661446615015},{"$f":"VLOOKUP($A492,BasinData!$1:$1048576,4,FALSE)","v":29.053225961692707},{"$f":"VLOOKUP($A492,BasinData!$1:$1048576,5,FALSE)","v":3.2356410115899998},118.64188426686803,{"$f":"VLOOKUP($A492,Sheet1!$1:$1048576,9,FALSE)","v":188.17843470930796},-5.8308095468970897,{"$f":"VLOOKUP($A492,Sheet1!$1:$1048576,10,FALSE)","v":176.58900902429207},1.1544256100750383,{"$f":"VLOOKUP($A492,Sheet1!$1:$1048576,11,FALSE)","v":153.41015765426022},16.61695323986417,{"$f":"VLOOKUP($A492,Sheet1!$1:$1048576,12,FALSE)","v":118.64188059921241},44.859422543240385]
[17051,{"$f":"VLOOKUP($A493,BasinData!$1:$1048576,2,FALSE)","v":0.75515338216098482},44.445539573609835,{"$f":"VLOOKUP($A493,BasinData!$1:$1048576,3,FALSE)","v":4.2712369938117858},{"$f":"VLOOKUP($A493,BasinData!$1:$1048576,4,FALSE)","v":37.02429149797571},{"$f":"VLOOKUP($A493,BasinData!$1:$1048576,5,FALSE)","v":3.3366144979799999},89.117432002624895,{"$f":"VLOOKUP($A493,Sheet1!$1:$1048576,9,FALSE)","v":141.34956268630839},-6.2446904891601864,{"$f":"VLOOKUP($A493,Sheet1!$1:$1048576,10,FALSE)","v":132.64420675701155},0.73987543914552711,{"$f":"VLOOKUP($A493,Sheet1!$1:$1048576,11,FALSE)","v":115.23349489841789},16.203166524507019,{"$f":"VLOOKUP($A493,Sheet1!$1:$1048576,12,FALSE)","v":89.117427110527387},44.445539573609835]
[17052,{"$f":"VLOOKUP($A494,BasinData!$1:$1048576,2,FALSE)","v":0.11248930710008555},44.490956992086609,{"$f":"VLOOKUP($A494,BasinData!$1:$1048576,3,FALSE)","v":5.4259989085402012},{"$f":"VLOOKUP($A494,BasinData!$1:$1048576,4,FALSE)","v":29.291202529318777},{"$f":"VLOOKUP($A494,BasinData!$1:$1048576,5,FALSE)","v":3.3255341925600002},117.61599182146266,{"$f":"VLOOKUP($A494,Sheet1!$1:$1048576,9,FALSE)","v":186.55125812190639},-6.1992733440878158,{"$f":"VLOOKUP($A494,Sheet1!$1:$1048576,10,FALSE)","v":175.06204605682635},0.78596242454158127,{"$f":"VLOOKUP($A494,Sheet1!$1:$1048576,11,FALSE)","v":152.08362192666627},16.248586735425768,{"$f":"VLOOKUP($A494,Sheet1!$1:$1048576,12,FALSE)","v":117.61598573142614},44.490956992086609]
[17053,{"$f":"VLOOKUP($A495,BasinData!$1:$1048576,2,FALSE)","v":1.2802250372102273},46.527459690608907,{"$f":"VLOOKUP($A495,BasinData!$1:$1048576,3,FALSE)","v":3.0911815228792632},{"$f":"VLOOKUP($A495,BasinData!$1:$1048576,4,FALSE)","v":13.847259289673577},{"$f":"VLOOKUP($A495,BasinData!$1:$1048576,5,FALSE)","v":2.82869436484},166.61156088788556,{"$f":"VLOOKUP($A495,Sheet1!$1:$1048576,9,FALSE)","v":264.26336540126192},-4.1627734692799452,{"$f":"VLOOKUP($A495,Sheet1!$1:$1048576,10,FALSE)","v":247.98806457138079},2.8224194474243856,{"$f":"VLOOKUP($A495,Sheet1!$1:$1048576,11,FALSE)","v":215.43746291161852},18.285076320260881,{"$f":"VLOOKUP($A495,Sheet1!$1:$1048576,12,FALSE)","v":166.61156042197507},46.527459690608907]
[17054,{"$f":"VLOOKUP($A496,BasinData!$1:$1048576,2,FALSE)","v":0.4759974548655303},-40.341201147380367,{"$f":"VLOOKUP($A496,BasinData!$1:$1048576,3,FALSE)","v":2.1242223814886376},{"$f":"VLOOKUP($A496,BasinData!$1:$1048576,4,FALSE)","v":23.342002600780233},{"$f":"VLOOKUP($A496,BasinData!$1:$1048576,5,FALSE)","v":24.021839137800001},135.47981592079327,{"$f":"VLOOKUP($A496,Sheet1!$1:$1048576,9,FALSE)","v":214.88505071616817},-91.031389689083426,{"$f":"VLOOKUP($A496,Sheet1!$1:$1048576,10,FALSE)","v":201.65083325685623},-84.04614893740451,{"$f":"VLOOKUP($A496,Sheet1!$1:$1048576,11,FALSE)","v":175.18239833823242},-68.583533490344038,{"$f":"VLOOKUP($A496,Sheet1!$1:$1048576,12,FALSE)","v":135.47974596029673},-40.341201147380367]
[17055,{"$f":"VLOOKUP($A497,BasinData!$1:$1048576,2,FALSE)","v":0.10542005420054201},41.395093455772894,{"$f":"VLOOKUP($A497,BasinData!$1:$1048576,3,FALSE)","v":7.409940614104169},{"$f":"VLOOKUP($A497,BasinData!$1:$1048576,4,FALSE)","v":26.641532566023074},{"$f":"VLOOKUP($A497,BasinData!$1:$1048576,5,FALSE)","v":4.0808067176499998},127.05181346201127,{"$f":"VLOOKUP($A497,Sheet1!$1:$1048576,9,FALSE)","v":201.51731797542311},-9.2950669817669009,{"$f":"VLOOKUP($A497,Sheet1!$1:$1048576,10,FALSE)","v":189.10638478572127},-2.3098373223668158,{"$f":"VLOOKUP($A497,Sheet1!$1:$1048576,11,FALSE)","v":164.2845184063176},13.15267370430114,{"$f":"VLOOKUP($A497,Sheet1!$1:$1048576,12,FALSE)","v":127.05171883721209},41.395093455772894]
[17056,{"$f":"VLOOKUP($A498,BasinData!$1:$1048576,2,FALSE)","v":1.1995965638124999},48.512808482605266,{"$f":"VLOOKUP($A498,BasinData!$1:$1048576,3,FALSE)","v":5.1536293829192381},{"$f":"VLOOKUP($A498,BasinData!$1:$1048576,4,FALSE)","v":9.3674698795180724},{"$f":"VLOOKUP($A498,BasinData!$1:$1048576,5,FALSE)","v":2.34421589455},190.93025400158075,{"$f":"VLOOKUP($A498,Sheet1!$1:$1048576,9,FALSE)","v":302.83403246897882},-2.1769424561215929,{"$f":"VLOOKUP($A498,Sheet1!$1:$1048576,10,FALSE)","v":284.18326348147735},4.808285744223241,{"$f":"VLOOKUP($A498,Sheet1!$1:$1048576,11,FALSE)","v":246.88172550647442},20.270877349031814,{"$f":"VLOOKUP($A498,Sheet1!$1:$1048576,12,FALSE)","v":190.92941854397003},48.512808482605266]
[17057,{"$f":"VLOOKUP($A499,BasinData!$1:$1048576,2,FALSE)","v":0.27581444183143944},42.283634770884042,{"$f":"VLOOKUP($A499,BasinData!$1:$1048576,3,FALSE)","v":3.7080324129964675},{"$f":"VLOOKUP($A499,BasinData!$1:$1048576,4,FALSE)","v":37.029813318473117},{"$f":"VLOOKUP($A499,BasinData!$1:$1048576,5,FALSE)","v":3.8640400441399998},92.764146421397243,{"$f":"VLOOKUP($A499,Sheet1!$1:$1048576,9,FALSE)","v":147.1335798583508},-8.4065596728455709,{"$f":"VLOOKUP($A499,Sheet1!$1:$1048576,10,FALSE)","v":138.0720011914178},-1.421412400106459,{"$f":"VLOOKUP($A499,Sheet1!$1:$1048576,11,FALSE)","v":119.94884385755175},14.041298402847046,{"$f":"VLOOKUP($A499,Sheet1!$1:$1048576,12,FALSE)","v":92.764107856752702},42.283634770884042]
[17058,{"$f":"VLOOKUP($A500,BasinData!$1:$1048576,2,FALSE)","v":1.4985620410568179},41.278830365716495,{"$f":"VLOOKUP($A500,BasinData!$1:$1048576,3,FALSE)","v":3.7014612306547026},{"$f":"VLOOKUP($A500,BasinData!$1:$1048576,4,FALSE)","v":22.261202360070165},{"$f":"VLOOKUP($A500,BasinData!$1:$1048576,5,FALSE)","v":4.1091697298399996},128.2732370346514,{"$f":"VLOOKUP($A500,Sheet1!$1:$1048576,9,FALSE)","v":203.45461116299396},-9.4113244700138559,{"$f":"VLOOKUP($A500,Sheet1!$1:$1048576,10,FALSE)","v":190.92436506975923},-2.4260896428149739,{"$f":"VLOOKUP($A500,Sheet1!$1:$1048576,11,FALSE)","v":165.86387288328982},13.03652195237013,{"$f":"VLOOKUP($A500,Sheet1!$1:$1048576,12,FALSE)","v":128.27313460358567},41.278830365716495]
[17059,{"$f":"VLOOKUP($A501,BasinData!$1:$1048576,2,FALSE)","v":1.3893887623314396},50.021960747767018,{"$f":"VLOOKUP($A501,BasinData!$1:$1048576,3,FALSE)","v":2.1153285787946987},{"$f":"VLOOKUP($A501,BasinData!$1:$1048576,4,FALSE)","v":19.795657726692209},{"$f":"VLOOKUP($A501,BasinData!$1:$1048576,5,FALSE)","v":1.9760597721499999},139.01612913715573,{"$f":"VLOOKUP($A501,Sheet1!$1:$1048576,9,FALSE)","v":220.49339380163025},-0.66790604107764673,{"$f":"VLOOKUP($A501,Sheet1!$1:$1048576,10,FALSE)","v":206.91377291973467},6.3173245801162121,{"$f":"VLOOKUP($A501,Sheet1!$1:$1048576,11,FALSE)","v":179.75453115594348},21.779946139705011,{"$f":"VLOOKUP($A501,Sheet1!$1:$1048576,12,FALSE)","v":139.01566851025669},50.021960747767018]
[17060,{"$f":"VLOOKUP($A502,BasinData!$1:$1048576,2,FALSE)","v":1.2283501161890009},37.09370979817259,{"$f":"VLOOKUP($A502,BasinData!$1:$1048576,3,FALSE)","v":9.2686686163829677},{"$f":"VLOOKUP($A502,BasinData!$1:$1048576,4,FALSE)","v":25.289647439890373},{"$f":"VLOOKUP($A502,BasinData!$1:$1048576,5,FALSE)","v":5.13008127293},120.22235524979878,{"$f":"VLOOKUP($A502,Sheet1!$1:$1048576,9,FALSE)","v":190.68420407941255},-13.595955819189456,{"$f":"VLOOKUP($A502,Sheet1!$1:$1048576,10,FALSE)","v":178.94045450524601},-6.6106976684793963,{"$f":"VLOOKUP($A502,Sheet1!$1:$1048576,11,FALSE)","v":155.45295535691292},8.8519263247684474,{"$f":"VLOOKUP($A502,Sheet1!$1:$1048576,12,FALSE)","v":120.22170663441328},37.09370979817259]
[17061,{"$f":"VLOOKUP($A503,BasinData!$1:$1048576,2,FALSE)","v":1.5297857719659091},46.384095899066857,{"$f":"VLOOKUP($A503,BasinData!$1:$1048576,3,FALSE)","v":4.9083082865339307},{"$f":"VLOOKUP($A503,BasinData!$1:$1048576,4,FALSE)","v":53.438276719138358},{"$f":"VLOOKUP($A503,BasinData!$1:$1048576,5,FALSE)","v":2.8635023414499998},51.962790126955056,{"$f":"VLOOKUP($A503,Sheet1!$1:$1048576,9,FALSE)","v":82.417904148120172},-4.3054480708714538,{"$f":"VLOOKUP($A503,Sheet1!$1:$1048576,10,FALSE)","v":77.341997460327121},2.6797665607265437,{"$f":"VLOOKUP($A503,Sheet1!$1:$1048576,11,FALSE)","v":67.19018408474102},18.142398010256837,{"$f":"VLOOKUP($A503,Sheet1!$1:$1048576,12,FALSE)","v":51.96246402136186},46.384095899066857]
[17062,{"$f":"VLOOKUP($A504,BasinData!$1:$1048576,2,FALSE)","v":1.5294741935321972},46.031284127398855,{"$f":"VLOOKUP($A504,BasinData!$1:$1048576,3,FALSE)","v":4.3357637152223658},{"$f":"VLOOKUP($A504,BasinData!$1:$1048576,4,FALSE)","v":22.549347607895616},{"$f":"VLOOKUP($A504,BasinData!$1:$1048576,5,FALSE)","v":2.9495672538400002},126.88034509643468,{"$f":"VLOOKUP($A504,Sheet1!$1:$1048576,9,FALSE)","v":201.24416469362839},-4.6582200201870796,{"$f":"VLOOKUP($A504,Sheet1!$1:$1048576,10,FALSE)","v":188.85005431183686},2.3270132742686576,{"$f":"VLOOKUP($A504,Sheet1!$1:$1048576,11,FALSE)","v":164.06183354825382},17.789543498348923,{"$f":"VLOOKUP($A504,Sheet1!$1:$1048576,12,FALSE)","v":126.87950240287925},46.031284127398855]
[17063,{"$f":"VLOOKUP($A505,BasinData!$1:$1048576,2,FALSE)","v":0.74409478526325756},48.77714581470012,{"$f":"VLOOKUP($A505,BasinData!$1:$1048576,3,FALSE)","v":3.4867279330608363},{"$f":"VLOOKUP($A505,BasinData!$1:$1048576,4,FALSE)","v":29.68324250681199},{"$f":"VLOOKUP($A505,BasinData!$1:$1048576,5,FALSE)","v":2.2797315052},110.28239656237207,{"$f":"VLOOKUP($A505,Sheet1!$1:$1048576,9,FALSE)","v":174.91868840898508},-1.9126271460497826,{"$f":"VLOOKUP($A505,Sheet1!$1:$1048576,10,FALSE)","v":164.14589638652004},5.0725140383042726,{"$f":"VLOOKUP($A505,Sheet1!$1:$1048576,11,FALSE)","v":142.60031234158998},20.535209190188105,{"$f":"VLOOKUP($A505,Sheet1!$1:$1048576,12,FALSE)","v":110.28193627419489},48.77714581470012]
[17064,{"$f":"VLOOKUP($A506,BasinData!$1:$1048576,2,FALSE)","v":1.7805010414829545},51.431789205457235,{"$f":"VLOOKUP($A506,BasinData!$1:$1048576,3,FALSE)","v":1.0041430820925574},{"$f":"VLOOKUP($A506,BasinData!$1:$1048576,4,FALSE)","v":21.714966256450975},{"$f":"VLOOKUP($A506,BasinData!$1:$1048576,5,FALSE)","v":1.63212865781},127.26451388960089,{"$f":"VLOOKUP($A506,Sheet1!$1:$1048576,9,FALSE)","v":201.85432752813338},0.74183417397830764,{"$f":"VLOOKUP($A506,Sheet1!$1:$1048576,10,FALSE)","v":189.42263878707249},7.7265574103387937,{"$f":"VLOOKUP($A506,Sheet1!$1:$1048576,11,FALSE)","v":164.55926130495072},23.189693637430199,{"$f":"VLOOKUP($A506,Sheet1!$1:$1048576,12,FALSE)","v":127.26419508176802},51.431789205457235]
[17065,{"$f":"VLOOKUP($A507,BasinData!$1:$1048576,2,FALSE)","v":0.82666302417702497},50.623118541572239,{"$f":"VLOOKUP($A507,BasinData!$1:$1048576,3,FALSE)","v":1.7141478551880953},{"$f":"VLOOKUP($A507,BasinData!$1:$1048576,4,FALSE)","v":21.863155794933174},{"$f":"VLOOKUP($A507,BasinData!$1:$1048576,5,FALSE)","v":1.8294063971500001},137.29170092985149,{"$f":"VLOOKUP($A507,Sheet1!$1:$1048576,9,FALSE)","v":217.7583588110021},-6.6788084737845518E-2,{"$f":"VLOOKUP($A507,Sheet1!$1:$1048576,10,FALSE)","v":204.34718169801536},6.9184407721810919,{"$f":"VLOOKUP($A507,Sheet1!$1:$1048576,11,FALSE)","v":177.52482747204186},22.381068223531006,{"$f":"VLOOKUP($A507,Sheet1!$1:$1048576,12,FALSE)","v":137.29129613308163},50.623118541572239]
[17066,{"$f":"VLOOKUP($A508,BasinData!$1:$1048576,2,FALSE)","v":0.2287894464562856},47.530969236394725,{"$f":"VLOOKUP($A508,BasinData!$1:$1048576,3,FALSE)","v":3.4173016435935084},{"$f":"VLOOKUP($A508,BasinData!$1:$1048576,4,FALSE)","v":32.343262902667128},{"$f":"VLOOKUP($A508,BasinData!$1:$1048576,5,FALSE)","v":2.5837312687899998},106.63975647323699,{"$f":"VLOOKUP($A508,Sheet1!$1:$1048576,9,FALSE)","v":169.14093246268661},-3.1586930318537978,{"$f":"VLOOKUP($A508,Sheet1!$1:$1048576,10,FALSE)","v":158.72397756507183},3.8260641456403497,{"$f":"VLOOKUP($A508,Sheet1!$1:$1048576,11,FALSE)","v":137.89006776984235},19.289169135574944,{"$f":"VLOOKUP($A508,Sheet1!$1:$1048576,12,FALSE)","v":106.63920307699807},47.530969236394725]
[17067,{"$f":"VLOOKUP($A509,BasinData!$1:$1048576,2,FALSE)","v":0.18544078361531613},46.261074726546852,{"$f":"VLOOKUP($A509,BasinData!$1:$1048576,3,FALSE)","v":2.390701784475564},{"$f":"VLOOKUP($A509,BasinData!$1:$1048576,4,FALSE)","v":37.50922007841919},{"$f":"VLOOKUP($A509,BasinData!$1:$1048576,5,FALSE)","v":2.8935121778899999},92.185488779142787,{"$f":"VLOOKUP($A509,Sheet1!$1:$1048576,9,FALSE)","v":146.2148934634144},-4.4284555537943469,{"$f":"VLOOKUP($A509,Sheet1!$1:$1048576,10,FALSE)","v":137.20989432812857},2.5567710930511924,{"$f":"VLOOKUP($A509,Sheet1!$1:$1048576,11,FALSE)","v":119.19989605755687},18.019386777383705,{"$f":"VLOOKUP($A509,Sheet1!$1:$1048576,12,FALSE)","v":92.184898651699328},46.261074726546852]
[17068,{"$f":"VLOOKUP($A510,BasinData!$1:$1048576,2,FALSE)","v":0.7126710291493159},46.20884503997047,{"$f":"VLOOKUP($A510,BasinData!$1:$1048576,3,FALSE)","v":3.7403718425036652},{"$f":"VLOOKUP($A510,BasinData!$1:$1048576,4,FALSE)","v":22.047649710238247},{"$f":"VLOOKUP($A510,BasinData!$1:$1048576,5,FALSE)","v":2.9062530945099998},137.87601325577762,{"$f":"VLOOKUP($A510,Sheet1!$1:$1048576,9,FALSE)","v":218.68436961793157},-4.480679367662793,{"$f":"VLOOKUP($A510,Sheet1!$1:$1048576,10,FALSE)","v":205.21616188160581},2.5045505958407515,{"$f":"VLOOKUP($A510,Sheet1!$1:$1048576,11,FALSE)","v":178.27974640895431},17.967161203168825,{"$f":"VLOOKUP($A510,Sheet1!$1:$1048576,12,FALSE)","v":137.87512319997705},46.20884503997047]
[17069,{"$f":"VLOOKUP($A511,BasinData!$1:$1048576,2,FALSE)","v":0.38806451612903226},47.820869307554389,{"$f":"VLOOKUP($A511,BasinData!$1:$1048576,3,FALSE)","v":2.7286017209443112},{"$f":"VLOOKUP($A511,BasinData!$1:$1048576,4,FALSE)","v":26.356880820242683},{"$f":"VLOOKUP($A511,BasinData!$1:$1048576,5,FALSE)","v":2.51301170697},125.09625457439846,{"$f":"VLOOKUP($A511,Sheet1!$1:$1048576,9,FALSE)","v":198.41476721977602},-2.8688203062076965,{"$f":"VLOOKUP($A511,Sheet1!$1:$1048576,10,FALSE)","v":186.19491214947774},4.1164117272772742,{"$f":"VLOOKUP($A511,Sheet1!$1:$1048576,11,FALSE)","v":161.75520200888121},19.579042700876865,{"$f":"VLOOKUP($A511,Sheet1!$1:$1048576,12,FALSE)","v":125.09563679798642},47.820869307554389]
[17070,{"$f":"VLOOKUP($A512,BasinData!$1:$1048576,2,FALSE)","v":1.1656165616561658},46.710973647542417,{"$f":"VLOOKUP($A512,BasinData!$1:$1048576,3,FALSE)","v":2.5708471787889269},{"$f":"VLOOKUP($A512,BasinData!$1:$1048576,4,FALSE)","v":35.513675258543756},{"$f":"VLOOKUP($A512,BasinData!$1:$1048576,5,FALSE)","v":2.78376340796},89.939638189813621,{"$f":"VLOOKUP($A512,Sheet1!$1:$1048576,9,FALSE)","v":142.6528266208482},-3.9786057347887729,{"$f":"VLOOKUP($A512,Sheet1!$1:$1048576,10,FALSE)","v":133.86720601860603},3.0065459303834121,{"$f":"VLOOKUP($A512,Sheet1!$1:$1048576,11,FALSE)","v":116.29596481412166},18.469247939689101,{"$f":"VLOOKUP($A512,Sheet1!$1:$1048576,12,FALSE)","v":89.939103007395104},46.710973647542417]
[17071,{"$f":"VLOOKUP($A513,BasinData!$1:$1048576,2,FALSE)","v":0.30059523809523808},47.186394172508322,{"$f":"VLOOKUP($A513,BasinData!$1:$1048576,3,FALSE)","v":3.0205783357535565},{"$f":"VLOOKUP($A513,BasinData!$1:$1048576,4,FALSE)","v":24.847053772673608},{"$f":"VLOOKUP($A513,BasinData!$1:$1048576,5,FALSE)","v":2.6677881758400002},{"$f":"EXP(6.1523-(0.084*B513)-(0.0091*C513)-(0.0289*E513)-(0.0373*F513))","v":131.63928071652097},{"$f":"VLOOKUP($A513,Sheet1!$1:$1048576,9,FALSE)","v":208.79252272469012},-3.5032342798186811,{"$f":"VLOOKUP($A513,Sheet1!$1:$1048576,10,FALSE)","v":195.93352839070707},3.481734033109495,{"$f":"VLOOKUP($A513,Sheet1!$1:$1048576,11,FALSE)","v":170.21553972274091},18.944625708867555,{"$f":"VLOOKUP($A513,Sheet1!$1:$1048576,12,FALSE)","v":131.63855672079166},47.186394172508322]
[17072,{"$f":"VLOOKUP($A514,BasinData!$1:$1048576,2,FALSE)","v":0.28227662690939526},46.853045785333684,{"$f":"VLOOKUP($A514,BasinData!$1:$1048576,3,FALSE)","v":2.6699370073262201},{"$f":"VLOOKUP($A514,BasinData!$1:$1048576,4,FALSE)","v":36.99077359829667},{"$f":"VLOOKUP($A514,BasinData!$1:$1048576,5,FALSE)","v":2.74910606116},92.818969685897116,{"$f":"VLOOKUP($A514,Sheet1!$1:$1048576,9,FALSE)","v":147.21974065899303},-3.8365485593561921,{"$f":"VLOOKUP($A514,Sheet1!$1:$1048576,10,FALSE)","v":138.15285557000615},3.1485604147806003,{"$f":"VLOOKUP($A514,Sheet1!$1:$1048576,11,FALSE)","v":120.01908539203237},18.61130750645663,{"$f":"VLOOKUP($A514,Sheet1!$1:$1048576,12,FALSE)","v":92.8184301250717},46.853045785333684]
[17073,{"$f":"VLOOKUP($A515,BasinData!$1:$1048576,2,FALSE)","v":3.0668677727501256E-2},47.107499250379753,{"$f":"VLOOKUP($A515,BasinData!$1:$1048576,3,FALSE)","v":2.564290745594576},{"$f":"VLOOKUP($A515,BasinData!$1:$1048576,4,FALSE)","v":32.026333789329684},{"$f":"VLOOKUP($A515,BasinData!$1:$1048576,5,FALSE)","v":2.6870340423600001},109.42705595353308,{"$f":"VLOOKUP($A515,Sheet1!$1:$1048576,9,FALSE)","v":173.56179155130309},-3.582121254760827,{"$f":"VLOOKUP($A515,Sheet1!$1:$1048576,10,FALSE)","v":162.87256731554342},3.4028857305374736,{"$f":"VLOOKUP($A515,Sheet1!$1:$1048576,11,FALSE)","v":141.49411884402409},18.865737992349167,{"$f":"VLOOKUP($A515,Sheet1!$1:$1048576,12,FALSE)","v":109.4264461367451},47.107499250379753]
[17074,{"$f":"VLOOKUP($A516,BasinData!$1:$1048576,2,FALSE)","v":1.4378295283522726},49.800346976786805,{"$f":"VLOOKUP($A516,BasinData!$1:$1048576,3,FALSE)","v":2.5650283979278701},{"$f":"VLOOKUP($A516,BasinData!$1:$1048576,4,FALSE)","v":10.172026925953627},{"$f":"VLOOKUP($A516,BasinData!$1:$1048576,5,FALSE)","v":2.03012257975},182.84595305307616,{"$f":"VLOOKUP($A516,Sheet1!$1:$1048576,9,FALSE)","v":290.01180821965488},-0.88950425429771507,{"$f":"VLOOKUP($A516,Sheet1!$1:$1048576,10,FALSE)","v":272.15072703715458},6.0955639071007317,{"$f":"VLOOKUP($A516,Sheet1!$1:$1048576,11,FALSE)","v":236.42856467215398},21.558345906323854,{"$f":"VLOOKUP($A516,Sheet1!$1:$1048576,12,FALSE)","v":182.84532112465308},49.800346976786805]
[17075,{"$f":"VLOOKUP($A517,BasinData!$1:$1048576,2,FALSE)","v":1.1844214124204546},41.623121260215903,{"$f":"VLOOKUP($A517,BasinData!$1:$1048576,3,FALSE)","v":11.068891889061891},{"$f":"VLOOKUP($A517,BasinData!$1:$1048576,4,FALSE)","v":19.662977365639644},{"$f":"VLOOKUP($A517,BasinData!$1:$1048576,5,FALSE)","v":4.0251778962799998},141.97330067263437,{"$f":"VLOOKUP($A517,Sheet1!$1:$1048576,9,FALSE)","v":225.18436218569269},-9.067049360896462,{"$f":"VLOOKUP($A517,Sheet1!$1:$1048576,10,FALSE)","v":211.31583662903012},-2.0818334484124699,{"$f":"VLOOKUP($A517,Sheet1!$1:$1048576,11,FALSE)","v":183.57878551570499},13.380823289022011,{"$f":"VLOOKUP($A517,Sheet1!$1:$1048576,12,FALSE)","v":141.97320884571729},41.623121260215903]
[17076,{"$f":"VLOOKUP($A518,BasinData!$1:$1048576,2,FALSE)","v":0.36056838365896976},46.732102015208639,{"$f":"VLOOKUP($A518,BasinData!$1:$1048576,3,FALSE)","v":2.4733970971567532},{"$f":"VLOOKUP($A518,BasinData!$1:$1048576,4,FALSE)","v":29.278430091884751},{"$f":"VLOOKUP($A518,BasinData!$1:$1048576,5,FALSE)","v":2.77860931791},115.23359974864468,{"$f":"VLOOKUP($A518,Sheet1!$1:$1048576,9,FALSE)","v":182.77146089428055},-3.9574796085659525,{"$f":"VLOOKUP($A518,Sheet1!$1:$1048576,10,FALSE)","v":171.51503681652579},3.027666323859671,{"$f":"VLOOKUP($A518,Sheet1!$1:$1048576,11,FALSE)","v":149.00218866101625},18.490374452893732,{"$f":"VLOOKUP($A518,Sheet1!$1:$1048576,12,FALSE)","v":115.23291642775192},46.732102015208639]
[17077,{"$f":"VLOOKUP($A519,BasinData!$1:$1048576,2,FALSE)","v":6.993006993006993E-3},45.944847174359488,{"$f":"VLOOKUP($A519,BasinData!$1:$1048576,3,FALSE)","v":3.2459826197865023},{"$f":"VLOOKUP($A519,BasinData!$1:$1048576,4,FALSE)","v":28.11466232378238},{"$f":"VLOOKUP($A519,BasinData!$1:$1048576,5,FALSE)","v":2.9706526090500001},122.76787713577838,{"$f":"VLOOKUP($A519,Sheet1!$1:$1048576,9,FALSE)","v":194.72138557560794},-4.7446469043379462,{"$f":"VLOOKUP($A519,Sheet1!$1:$1048576,10,FALSE)","v":182.72899637916291},2.2405865253729069,{"$f":"VLOOKUP($A519,Sheet1!$1:$1048576,11,FALSE)","v":158.74421798627287},17.702915253558189,{"$f":"VLOOKUP($A519,Sheet1!$1:$1048576,12,FALSE)","v":122.76705039693779},45.944847174359488]
[17078,{"$f":"VLOOKUP($A520,BasinData!$1:$1048576,2,FALSE)","v":0.98423194303153616},42.907867322792512,{"$f":"VLOOKUP($A520,BasinData!$1:$1048576,3,FALSE)","v":14.68329424494118},{"$f":"VLOOKUP($A520,BasinData!$1:$1048576,4,FALSE)","v":22.712215320910971},{"$f":"VLOOKUP($A520,BasinData!$1:$1048576,5,FALSE)","v":3.71175159512},132.20206755252184,{"$f":"VLOOKUP($A520,Sheet1!$1:$1048576,9,FALSE)","v":209.68625562099214},-7.7823430547175141,{"$f":"VLOOKUP($A520,Sheet1!$1:$1048576,10,FALSE)","v":196.77221857714727},-0.79730376788477209,{"$f":"VLOOKUP($A520,Sheet1!$1:$1048576,11,FALSE)","v":170.94414448945759},14.665520447700237,{"$f":"VLOOKUP($A520,Sheet1!$1:$1048576,12,FALSE)","v":132.20203335792309},42.907867322792512]
[17079,{"$f":"VLOOKUP($A521,BasinData!$1:$1048576,2,FALSE)","v":1.6372557717481064},44.506875594339462,{"$f":"VLOOKUP($A521,BasinData!$1:$1048576,3,FALSE)","v":2.6175654389632563},{"$f":"VLOOKUP($A521,BasinData!$1:$1048576,4,FALSE)","v":20.761978064267847},{"$f":"VLOOKUP($A521,BasinData!$1:$1048576,5,FALSE)","v":3.3216505942099999},132.40153194841008,{"$f":"VLOOKUP($A521,Sheet1!$1:$1048576,9,FALSE)","v":210.00267060595979},-6.1833548344921319,{"$f":"VLOOKUP($A521,Sheet1!$1:$1048576,10,FALSE)","v":197.06914637720146},0.80188090730327977,{"$f":"VLOOKUP($A521,Sheet1!$1:$1048576,11,FALSE)","v":171.20209791968483},16.26450611946693,{"$f":"VLOOKUP($A521,Sheet1!$1:$1048576,12,FALSE)","v":132.40152523340987},44.506875594339462]
[17080,{"$f":"VLOOKUP($A522,BasinData!$1:$1048576,2,FALSE)","v":1.6221350484166668},42.307287699954934,{"$f":"VLOOKUP($A522,BasinData!$1:$1048576,3,FALSE)","v":2.8435634808892174},{"$f":"VLOOKUP($A522,BasinData!$1:$1048576,4,FALSE)","v":21.215189873417721},{"$f":"VLOOKUP($A522,BasinData!$1:$1048576,5,FALSE)","v":3.85826967691},130.84480046409226,{"$f":"VLOOKUP($A522,Sheet1!$1:$1048576,9,FALSE)","v":207.53345742665186},-8.3829074553146299,{"$f":"VLOOKUP($A522,Sheet1!$1:$1048576,10,FALSE)","v":194.75200568529763},-1.3977634807320787,{"$f":"VLOOKUP($A522,Sheet1!$1:$1048576,11,FALSE)","v":169.18910220258917},14.064949441764869,{"$f":"VLOOKUP($A522,Sheet1!$1:$1048576,12,FALSE)","v":130.84474697852647},42.307287699954934]
[17081,{"$f":"VLOOKUP($A523,BasinData!$1:$1048576,2,FALSE)","v":2.4394370494886362},48.516413752799934,{"$f":"VLOOKUP($A523,BasinData!$1:$1048576,3,FALSE)","v":2.2971330418866032},{"$f":"VLOOKUP($A523,BasinData!$1:$1048576,4,FALSE)","v":43.811713783308534},{"$f":"VLOOKUP($A523,BasinData!$1:$1048576,5,FALSE)","v":2.3433363998400001},63.581525376134159,{"$f":"VLOOKUP($A523,Sheet1!$1:$1048576,9,FALSE)","v":100.84651002482948},-2.1733374918248272,{"$f":"VLOOKUP($A523,Sheet1!$1:$1048576,10,FALSE)","v":94.635632910608464},4.8118903242586182,{"$f":"VLOOKUP($A523,Sheet1!$1:$1048576,11,FALSE)","v":82.213878682166438},20.274484225747596,{"$f":"VLOOKUP($A523,Sheet1!$1:$1048576,12,FALSE)","v":63.581247339503385},48.516413752799934]
[17082,{"$f":"VLOOKUP($A524,BasinData!$1:$1048576,2,FALSE)","v":4.1757218255200249E-2},45.586778694705259,{"$f":"VLOOKUP($A524,BasinData!$1:$1048576,3,FALSE)","v":3.7303902843346513},{"$f":"VLOOKUP($A524,BasinData!$1:$1048576,4,FALSE)","v":27.331176242683171},{"$f":"VLOOKUP($A524,BasinData!$1:$1048576,5,FALSE)","v":3.0581901233100002},125.21236584663006,{"$f":"VLOOKUP($A524,Sheet1!$1:$1048576,9,FALSE)","v":198.59991010054722},-5.1034549453270062,{"$f":"VLOOKUP($A524,Sheet1!$1:$1048576,10,FALSE)","v":186.36865255652171},1.8817790477383778,{"$f":"VLOOKUP($A524,Sheet1!$1:$1048576,11,FALSE)","v":161.90613746847069},17.3444092065448,{"$f":"VLOOKUP($A524,Sheet1!$1:$1048576,12,FALSE)","v":125.21236483639413},45.586778694705259]
[17083,{"$f":"VLOOKUP($A525,BasinData!$1:$1048576,2,FALSE)","v":0.1855273287143957},45.577272860213498,{"$f":"VLOOKUP($A525,BasinData!$1:$1048576,3,FALSE)","v":3.6176765797262735},{"$f":"VLOOKUP($A525,BasinData!$1:$1048576,4,FALSE)","v":28.782096267171681},{"$f":"VLOOKUP($A525,BasinData!$1:$1048576,5,FALSE)","v":3.0605092363700002},118.62923353987954,{"$f":"VLOOKUP($A525,Sheet1!$1:$1048576,9,FALSE)","v":188.15837359874533},-5.1129607721159482,{"$f":"VLOOKUP($A525,Sheet1!$1:$1048576,10,FALSE)","v":176.57018342591965},1.8722732359168346,{"$f":"VLOOKUP($A525,Sheet1!$1:$1048576,11,FALSE)","v":153.3938030802683},17.334903291751214,{"$f":"VLOOKUP($A525,Sheet1!$1:$1048576,12,FALSE)","v":118.62923256179124},45.577272860213498]
[17084,{"$f":"VLOOKUP($A526,BasinData!$1:$1048576,2,FALSE)","v":1.101287680348485},52.037220718870415,{"$f":"VLOOKUP($A526,BasinData!$1:$1048576,3,FALSE)","v":2.266888925903447},{"$f":"VLOOKUP($A526,BasinData!$1:$1048576,4,FALSE)","v":35.376295628661559},{"$f":"VLOOKUP($A526,BasinData!$1:$1048576,5,FALSE)","v":1.4844308456699999},90.786347111829471,{"$f":"VLOOKUP($A526,Sheet1!$1:$1048576,9,FALSE)","v":143.99632664982761},1.3472330984076633,{"$f":"VLOOKUP($A526,Sheet1!$1:$1048576,10,FALSE)","v":135.12796333709511},8.3316750089570295,{"$f":"VLOOKUP($A526,Sheet1!$1:$1048576,11,FALSE)","v":117.39123671163011},23.795093689392846,{"$f":"VLOOKUP($A526,Sheet1!$1:$1048576,12,FALSE)","v":90.786146773432591},52.037220718870415]
[17085,{"$f":"VLOOKUP($A527,BasinData!$1:$1048576,2,FALSE)","v":2.020096804943182},49.303164021608296,{"$f":"VLOOKUP($A527,BasinData!$1:$1048576,3,FALSE)","v":1.6829719351177077},{"$f":"VLOOKUP($A527,BasinData!$1:$1048576,4,FALSE)","v":35.317582080392754},{"$f":"VLOOKUP($A527,BasinData!$1:$1048576,5,FALSE)","v":2.1514102102199999},84.18589192070759,{"$f":"VLOOKUP($A527,Sheet1!$1:$1048576,9,FALSE)","v":133.52712556502266},-1.3866505277179084,{"$f":"VLOOKUP($A527,Sheet1!$1:$1048576,10,FALSE)","v":125.30353341398713},5.5978684988818692,{"$f":"VLOOKUP($A527,Sheet1!$1:$1048576,11,FALSE)","v":108.85634911191602},21.061193917525575,{"$f":"VLOOKUP($A527,Sheet1!$1:$1048576,12,FALSE)","v":84.185572658809377},49.303164021608296]
[17086,{"$f":"VLOOKUP($A528,BasinData!$1:$1048576,2,FALSE)","v":1.2665111578143939},48.189752573258836,{"$f":"VLOOKUP($A528,BasinData!$1:$1048576,3,FALSE)","v":1.4907028831160583},{"$f":"VLOOKUP($A528,BasinData!$1:$1048576,4,FALSE)","v":30.637177461822013},{"$f":"VLOOKUP($A528,BasinData!$1:$1048576,5,FALSE)","v":2.4230242451500001},102.67750750747001,{"$f":"VLOOKUP($A528,Sheet1!$1:$1048576,9,FALSE)","v":162.85651430400364},-2.4999703195219953,{"$f":"VLOOKUP($A528,Sheet1!$1:$1048576,10,FALSE)","v":152.82660055345832},4.4852612508468104,{"$f":"VLOOKUP($A528,Sheet1!$1:$1048576,11,FALSE)","v":132.76677305236768},19.947488294178711,{"$f":"VLOOKUP($A528,Sheet1!$1:$1048576,12,FALSE)","v":102.67703180073171},48.189752573258836]
[17087,{"$f":"VLOOKUP($A529,BasinData!$1:$1048576,2,FALSE)","v":1.2055300638579547},44.709197592730121,{"$f":"VLOOKUP($A529,BasinData!$1:$1048576,3,FALSE)","v":1.8947265445371526},{"$f":"VLOOKUP($A529,BasinData!$1:$1048576,4,FALSE)","v":30.898621003182303},{"$f":"VLOOKUP($A529,BasinData!$1:$1048576,5,FALSE)","v":3.2722908627499998},102.4274947896148,{"$f":"VLOOKUP($A529,Sheet1!$1:$1048576,9,FALSE)","v":162.4607162411221},-5.9810338773735507,{"$f":"VLOOKUP($A529,Sheet1!$1:$1048576,10,FALSE)","v":152.45517867503767},1.004201526694332,{"$f":"VLOOKUP($A529,Sheet1!$1:$1048576,11,FALSE)","v":132.44410354286885},16.466832523402353,{"$f":"VLOOKUP($A529,Sheet1!$1:$1048576,12,FALSE)","v":102.4274908446156},44.709197592730121]
[17088,{"$f":"VLOOKUP($A530,BasinData!$1:$1048576,2,FALSE)","v":0.10929494998780191},45.97745092647466,{"$f":"VLOOKUP($A530,BasinData!$1:$1048576,3,FALSE)","v":3.6122624181500376},{"$f":"VLOOKUP($A530,BasinData!$1:$1048576,4,FALSE)","v":29.619920265335519},{"$f":"VLOOKUP($A530,BasinData!$1:$1048576,5,FALSE)","v":2.96269928211},116.53597712777993,{"$f":"VLOOKUP($A530,Sheet1!$1:$1048576,9,FALSE)","v":184.8370132357515},-4.712046966452216,{"$f":"VLOOKUP($A530,Sheet1!$1:$1048576,10,FALSE)","v":173.45337710313524},2.2731864122401961,{"$f":"VLOOKUP($A530,Sheet1!$1:$1048576,11,FALSE)","v":150.68610483790272},17.735604465318072,{"$f":"VLOOKUP($A530,Sheet1!$1:$1048576,12,FALSE)","v":116.53519644005395},45.97745092647466]
[17089,{"$f":"VLOOKUP($A531,BasinData!$1:$1048576,2,FALSE)","v":1.1506437588882577},40.977766035193703,{"$f":"VLOOKUP($A531,BasinData!$1:$1048576,3,FALSE)","v":4.3119673768133246},{"$f":"VLOOKUP($A531,BasinData!$1:$1048576,4,FALSE)","v":31.800667865399433},{"$f":"VLOOKUP($A531,BasinData!$1:$1048576,5,FALSE)","v":4.1826156502299998},100.25303983488986,{"$f":"VLOOKUP($A531,Sheet1!$1:$1048576,9,FALSE)","v":159.01165821438823},-9.7123728555460609,{"$f":"VLOOKUP($A531,Sheet1!$1:$1048576,10,FALSE)","v":149.21853925910739},-2.7271304281498479,{"$f":"VLOOKUP($A531,Sheet1!$1:$1048576,11,FALSE)","v":129.6323013485457},12.735484373384207,{"$f":"VLOOKUP($A531,Sheet1!$1:$1048576,12,FALSE)","v":100.25294448270311},40.977766035193703]
[17090,{"$f":"VLOOKUP($A532,BasinData!$1:$1048576,2,FALSE)","v":0.95362104441477269},33.499301273422262,{"$f":"VLOOKUP($A532,BasinData!$1:$1048576,3,FALSE)","v":3.5699543236037821},{"$f":"VLOOKUP($A532,BasinData!$1:$1048576,4,FALSE)","v":39.797671311318958},{"$f":"VLOOKUP($A532,BasinData!$1:$1048576,5,FALSE)","v":6.0070815285499997},80.893651597696788,{"$f":"VLOOKUP($A532,Sheet1!$1:$1048576,9,FALSE)","v":128.30548602545574},-17.19065718584206,{"$f":"VLOOKUP($A532,Sheet1!$1:$1048576,10,FALSE)","v":120.40348122044756},-10.205720291492845,{"$f":"VLOOKUP($A532,Sheet1!$1:$1048576,11,FALSE)","v":104.59947161043121},5.2571633871778483,{"$f":"VLOOKUP($A532,Sheet1!$1:$1048576,12,FALSE)","v":80.893457195406683},33.499301273422262]
[17091,{"$f":"VLOOKUP($A533,BasinData!$1:$1048576,2,FALSE)","v":1.7132346783636363},46.002346811542665,{"$f":"VLOOKUP($A533,BasinData!$1:$1048576,3,FALSE)","v":1.9423568916841685},{"$f":"VLOOKUP($A533,BasinData!$1:$1048576,4,FALSE)","v":29.813142977115266},{"$f":"VLOOKUP($A533,BasinData!$1:$1048576,5,FALSE)","v":2.9566262013200002},101.27959318829494,{"$f":"VLOOKUP($A533,Sheet1!$1:$1048576,9,FALSE)","v":160.63895860116034},-4.6871539805654665,{"$f":"VLOOKUP($A533,Sheet1!$1:$1048576,10,FALSE)","v":150.74561840145884},2.2980793591710693,{"$f":"VLOOKUP($A533,Sheet1!$1:$1048576,11,FALSE)","v":130.95893800205587},17.760554658147896,{"$f":"VLOOKUP($A533,Sheet1!$1:$1048576,12,FALSE)","v":101.27891740295142},46.002346811542665]
[17092,{"$f":"VLOOKUP($A534,BasinData!$1:$1048576,2,FALSE)","v":0.5319383259911894},39.327078341150738,{"$f":"VLOOKUP($A534,BasinData!$1:$1048576,3,FALSE)","v":6.6635813747708399},{"$f":"VLOOKUP($A534,BasinData!$1:$1048576,4,FALSE)","v":30.061061531235321},{"$f":"VLOOKUP($A534,BasinData!$1:$1048576,5,FALSE)","v":4.5852970083100004},111.04599790886991,{"$f":"VLOOKUP($A534,Sheet1!$1:$1048576,9,FALSE)","v":176.13018358248362},-11.362929220654699,{"$f":"VLOOKUP($A534,Sheet1!$1:$1048576,10,FALSE)","v":165.28277868898101},-4.3776811470043944,{"$f":"VLOOKUP($A534,Sheet1!$1:$1048576,11,FALSE)","v":143.58796890197584},11.084336845579678,{"$f":"VLOOKUP($A534,Sheet1!$1:$1048576,12,FALSE)","v":111.04575422146804},39.327078341150738]
[17093,{"$f":"VLOOKUP($A535,BasinData!$1:$1048576,2,FALSE)","v":0.82312912532386362},44.14345620998386,{"$f":"VLOOKUP($A535,BasinData!$1:$1048576,3,FALSE)","v":4.6807956232612709},{"$f":"VLOOKUP($A535,BasinData!$1:$1048576,4,FALSE)","v":26.512942034269049},{"$f":"VLOOKUP($A535,BasinData!$1:$1048576,5,FALSE)","v":3.4103124722699998},120.06377043931525,{"$f":"VLOOKUP($A535,Sheet1!$1:$1048576,9,FALSE)","v":190.43368569476755},-6.5467716709191697,{"$f":"VLOOKUP($A535,Sheet1!$1:$1048576,10,FALSE)","v":178.70536490342653},0.43791263642073291,{"$f":"VLOOKUP($A535,Sheet1!$1:$1048576,11,FALSE)","v":155.24872332074443},15.901093113244531,{"$f":"VLOOKUP($A535,Sheet1!$1:$1048576,12,FALSE)","v":120.06376094672132},44.14345620998386]
[17094,{"$f":"VLOOKUP($A536,BasinData!$1:$1048576,2,FALSE)","v":1.2327804329491143},39.325614099071196,{"$f":"VLOOKUP($A536,BasinData!$1:$1048576,3,FALSE)","v":8.0223696112650202},{"$f":"VLOOKUP($A536,BasinData!$1:$1048576,4,FALSE)","v":29.652538726333905},{"$f":"VLOOKUP($A536,BasinData!$1:$1048576,5,FALSE)","v":4.5856541973000002},105.94076154861398,{"$f":"VLOOKUP($A536,Sheet1!$1:$1048576,9,FALSE)","v":168.03276214074057},-11.364393308357986,{"$f":"VLOOKUP($A536,Sheet1!$1:$1048576,10,FALSE)","v":157.68405660237028},-4.3791452290950765,{"$f":"VLOOKUP($A536,Sheet1!$1:$1048576,11,FALSE)","v":136.98664552562965},11.082875927202787,{"$f":"VLOOKUP($A536,Sheet1!$1:$1048576,12,FALSE)","v":105.94052891051874},39.325614099071196]
[17095,{"$f":"VLOOKUP($A537,BasinData!$1:$1048576,2,FALSE)","v":0.6721847966761364},47.20965825345813,{"$f":"VLOOKUP($A537,BasinData!$1:$1048576,3,FALSE)","v":1.7949586929774748},{"$f":"VLOOKUP($A537,BasinData!$1:$1048576,4,FALSE)","v":44.579011788958326},{"$f":"VLOOKUP($A537,BasinData!$1:$1048576,5,FALSE)","v":2.66211306176},72.139253614045728,{"$f":"VLOOKUP($A537,Sheet1!$1:$1048576,9,FALSE)","v":114.41977644984938},-3.4799725276086098,{"$f":"VLOOKUP($A537,Sheet1!$1:$1048576,10,FALSE)","v":107.37295677516073},3.5049837179727126,{"$f":"VLOOKUP($A537,Sheet1!$1:$1048576,11,FALSE)","v":93.279317425783432},18.967887660302384,{"$f":"VLOOKUP($A537,Sheet1!$1:$1048576,12,FALSE)","v":72.138858401717499},47.20965825345813]
[17096,{"$f":"VLOOKUP($A538,BasinData!$1:$1048576,2,FALSE)","v":0.62250586890530302},49.603932428307822,{"$f":"VLOOKUP($A538,BasinData!$1:$1048576,3,FALSE)","v":2.1543124134140195},{"$f":"VLOOKUP($A538,BasinData!$1:$1048576,4,FALSE)","v":38.579982891360139},{"$f":"VLOOKUP($A538,BasinData!$1:$1048576,5,FALSE)","v":2.0780379225100001},86.154431572668813,{"$f":"VLOOKUP($A538,Sheet1!$1:$1048576,9,FALSE)","v":136.64945172981498},-1.0859046091428164,{"$f":"VLOOKUP($A538,Sheet1!$1:$1048576,10,FALSE)","v":128.23356354280091},5.8993251242109066,{"$f":"VLOOKUP($A538,Sheet1!$1:$1048576,11,FALSE)","v":111.4017871687728},21.361943507911018,{"$f":"VLOOKUP($A538,Sheet1!$1:$1048576,12,FALSE)","v":86.154122607730613},49.603932428307822]
[17097,{"$f":"VLOOKUP($A539,BasinData!$1:$1048576,2,FALSE)","v":0.27967323402210476},44.05426065218257,{"$f":"VLOOKUP($A539,BasinData!$1:$1048576,3,FALSE)","v":22.179340395453238},{"$f":"VLOOKUP($A539,BasinData!$1:$1048576,4,FALSE)","v":29.981549815498155},{"$f":"VLOOKUP($A539,BasinData!$1:$1048576,5,FALSE)","v":3.4320730943700002},113.68489704546477,{"$f":"VLOOKUP($A539,Sheet1!$1:$1048576,9,FALSE)","v":180.31612443737762},-6.635966453782931,{"$f":"VLOOKUP($A539,Sheet1!$1:$1048576,10,FALSE)","v":169.21091821539335},0.34875031284438218,{"$f":"VLOOKUP($A539,Sheet1!$1:$1048576,11,FALSE)","v":147.00050577142474},15.811887783924202,{"$f":"VLOOKUP($A539,Sheet1!$1:$1048576,12,FALSE)","v":113.68488710547186},44.05426065218257]
[17098,{"$f":"VLOOKUP($A540,BasinData!$1:$1048576,2,FALSE)","v":0.44624217118997911},45.257915170504539,{"$f":"VLOOKUP($A540,BasinData!$1:$1048576,3,FALSE)","v":4.0612054090702117},{"$f":"VLOOKUP($A540,BasinData!$1:$1048576,4,FALSE)","v":29.114544644183628},{"$f":"VLOOKUP($A540,BasinData!$1:$1048576,5,FALSE)","v":3.13842203413},114.9497581764109,{"$f":"VLOOKUP($A540,Sheet1!$1:$1048576,9,FALSE)","v":182.32233939168606},-5.4323180307649528,{"$f":"VLOOKUP($A540,Sheet1!$1:$1048576,10,FALSE)","v":171.09357555186398},1.5529164831227902,{"$f":"VLOOKUP($A540,Sheet1!$1:$1048576,11,FALSE)","v":148.63604787221982},17.015539984165699,{"$f":"VLOOKUP($A540,Sheet1!$1:$1048576,12,FALSE)","v":114.94975635275358},45.257915170504539]
[17099,{"$f":"VLOOKUP($A541,BasinData!$1:$1048576,2,FALSE)","v":0},44.877022692293025,{"$f":"VLOOKUP($A541,BasinData!$1:$1048576,3,FALSE)","v":1.9692836129092957},{"$f":"VLOOKUP($A541,BasinData!$1:$1048576,4,FALSE)","v":40.936134610021377},{"$f":"VLOOKUP($A541,BasinData!$1:$1048576,5,FALSE)","v":3.2313471634400002},84.80339302411339,{"$f":"VLOOKUP($A541,Sheet1!$1:$1048576,9,FALSE)","v":134.5070492517811},-5.8132094631666744,{"$f":"VLOOKUP($A541,Sheet1!$1:$1048576,10,FALSE)","v":126.22310612183441},1.171163975608817,{"$f":"VLOOKUP($A541,Sheet1!$1:$1048576,11,FALSE)","v":109.65521986194102},16.634602313826331,{"$f":"VLOOKUP($A541,Sheet1!$1:$1048576,12,FALSE)","v":84.803390472100943},44.877022692293025]
[17100,{"$f":"VLOOKUP($A542,BasinData!$1:$1048576,2,FALSE)","v":0},38.09519368976212,{"$f":"VLOOKUP($A542,BasinData!$1:$1048576,3,FALSE)","v":7.6807657563754477},{"$f":"VLOOKUP($A542,BasinData!$1:$1048576,4,FALSE)","v":32.127781038683274},{"$f":"VLOOKUP($A542,BasinData!$1:$1048576,5,FALSE)","v":4.8857969461500002},109.38793924112377,{"$f":"VLOOKUP($A542,Sheet1!$1:$1048576,9,FALSE)","v":173.50007413433897},-12.594653721140261,{"$f":"VLOOKUP($A542,Sheet1!$1:$1048576,10,FALSE)","v":162.81465091551561},-5.6094004872523078,{"$f":"VLOOKUP($A542,Sheet1!$1:$1048576,11,FALSE)","v":141.44380447786889},9.8532132877182796,{"$f":"VLOOKUP($A542,Sheet1!$1:$1048576,12,FALSE)","v":109.3875348213988},38.09519368976212]
[17101,{"$f":"VLOOKUP($A543,BasinData!$1:$1048576,2,FALSE)","v":1.879409047214015},29.156000691511831,{"$f":"VLOOKUP($A543,BasinData!$1:$1048576,3,FALSE)","v":3.3768756018537927},{"$f":"VLOOKUP($A543,BasinData!$1:$1048576,4,FALSE)","v":37.646370023419202},{"$f":"VLOOKUP($A543,BasinData!$1:$1048576,5,FALSE)","v":7.0667683396100003},79.641831884500036,{"$f":"VLOOKUP($A543,Sheet1!$1:$1048576,9,FALSE)","v":126.32026212713724},-21.534086742169318,{"$f":"VLOOKUP($A543,Sheet1!$1:$1048576,10,FALSE)","v":118.54052215483011},-14.54899523160395,{"$f":"VLOOKUP($A543,Sheet1!$1:$1048576,11,FALSE)","v":102.98104221021588},0.91363873189984124,{"$f":"VLOOKUP($A543,Sheet1!$1:$1048576,12,FALSE)","v":79.641822293294524},29.156000691511831]
[17102,{"$f":"VLOOKUP($A544,BasinData!$1:$1048576,2,FALSE)","v":1.4746868844109848},38.905844512559852,{"$f":"VLOOKUP($A544,BasinData!$1:$1048576,3,FALSE)","v":1.3244406072672597},{"$f":"VLOOKUP($A544,BasinData!$1:$1048576,4,FALSE)","v":46.726726726726724},{"$f":"VLOOKUP($A544,BasinData!$1:$1048576,5,FALSE)","v":4.6880524718699998},63.377972048593776,{"$f":"VLOOKUP($A544,Sheet1!$1:$1048576,9,FALSE)","v":100.52382840964187},-11.784115297452107,{"$f":"VLOOKUP($A544,Sheet1!$1:$1048576,10,FALSE)","v":94.332824425967999},-4.7988655601022048,{"$f":"VLOOKUP($A544,Sheet1!$1:$1048576,11,FALSE)","v":81.950816458620281},10.663717812576174,{"$f":"VLOOKUP($A544,Sheet1!$1:$1048576,12,FALSE)","v":63.377804507598697},38.905844512559852]
[17103,{"$f":"VLOOKUP($A545,BasinData!$1:$1048576,2,FALSE)","v":0.57061006985227269},36.601123517213658,{"$f":"VLOOKUP($A545,BasinData!$1:$1048576,3,FALSE)","v":40.155973654269943},{"$f":"VLOOKUP($A545,BasinData!$1:$1048576,4,FALSE)","v":20.75372249308209},{"$f":"VLOOKUP($A545,BasinData!$1:$1048576,5,FALSE)","v":5.2504008472499999},144.84670821366228,{"$f":"VLOOKUP($A545,Sheet1!$1:$1048576,9,FALSE)","v":229.74203046421158},-14.089130884184982,{"$f":"VLOOKUP($A545,Sheet1!$1:$1048576,10,FALSE)","v":215.59280984335399},-7.1038756578834414,{"$f":"VLOOKUP($A545,Sheet1!$1:$1048576,11,FALSE)","v":187.29436860163878},8.35875132525846,{"$f":"VLOOKUP($A545,Sheet1!$1:$1048576,12,FALSE)","v":144.84670673906601},36.601123517213658]
[17104,{"$f":"VLOOKUP($A546,BasinData!$1:$1048576,2,FALSE)","v":1.138090564979672},39.125618547482055,{"$f":"VLOOKUP($A546,BasinData!$1:$1048576,3,FALSE)","v":7.3715121865339652},{"$f":"VLOOKUP($A546,BasinData!$1:$1048576,4,FALSE)","v":33.248026172588695},{"$f":"VLOOKUP($A546,BasinData!$1:$1048576,5,FALSE)","v":4.6344411693599996},96.247659092445375,{"$f":"VLOOKUP($A546,Sheet1!$1:$1048576,9,FALSE)","v":152.65848996735266},-11.564367025633462,{"$f":"VLOOKUP($A546,Sheet1!$1:$1048576,10,FALSE)","v":143.25664630021606},-4.5791181687118439,{"$f":"VLOOKUP($A546,Sheet1!$1:$1048576,11,FALSE)","v":124.4529589659429},10.883254123310271,{"$f":"VLOOKUP($A546,Sheet1!$1:$1048576,12,FALSE)","v":96.247427964533131},39.125618547482055]
[17105,{"$f":"VLOOKUP($A547,BasinData!$1:$1048576,2,FALSE)","v":2.0950946339015153},51.838348507046298,{"$f":"VLOOKUP($A547,BasinData!$1:$1048576,3,FALSE)","v":2.6361719703061768},{"$f":"VLOOKUP($A547,BasinData!$1:$1048576,4,FALSE)","v":33.058419243986251},{"$f":"VLOOKUP($A547,BasinData!$1:$1048576,5,FALSE)","v":1.5329467212700001},89.30128258949108,{"$f":"VLOOKUP($A547,Sheet1!$1:$1048576,9,FALSE)","v":141.64085069939057},1.1483712601216838,{"$f":"VLOOKUP($A547,Sheet1!$1:$1048576,10,FALSE)","v":132.91755509073693},8.1336009093849615,{"$f":"VLOOKUP($A547,Sheet1!$1:$1048576,11,FALSE)","v":115.47096387342964},23.596231571975601,{"$f":"VLOOKUP($A547,Sheet1!$1:$1048576,12,FALSE)","v":89.301077047468681},51.838348507046298]
[17106,{"$f":"VLOOKUP($A548,BasinData!$1:$1048576,2,FALSE)","v":0.60031283258143942},36.409313257792178,{"$f":"VLOOKUP($A548,BasinData!$1:$1048576,3,FALSE)","v":2.2895336202448568},{"$f":"VLOOKUP($A548,BasinData!$1:$1048576,4,FALSE)","v":41.338067650906375},{"$f":"VLOOKUP($A548,BasinData!$1:$1048576,5,FALSE)","v":5.29719608087},79.701898213071345,{"$f":"VLOOKUP($A548,Sheet1!$1:$1048576,9,FALSE)","v":126.41554612485004},-14.28093548544985,{"$f":"VLOOKUP($A548,Sheet1!$1:$1048576,10,FALSE)","v":118.62993785625186},-7.296406333682528,{"$f":"VLOOKUP($A548,Sheet1!$1:$1048576,11,FALSE)","v":103.05872131905548},8.1669431932936618,{"$f":"VLOOKUP($A548,Sheet1!$1:$1048576,12,FALSE)","v":79.701896513260891},36.409313257792178]
[17107,{"$f":"VLOOKUP($A549,BasinData!$1:$1048576,2,FALSE)","v":5.2284250635055045},38.370503291482713,{"$f":"VLOOKUP($A549,BasinData!$1:$1048576,3,FALSE)","v":8.2312431787692333},{"$f":"VLOOKUP($A549,BasinData!$1:$1048576,4,FALSE)","v":31.165004733633573},{"$f":"VLOOKUP($A549,BasinData!$1:$1048576,5,FALSE)","v":4.8186406459000004},72.496391036807324,{"$f":"VLOOKUP($A549,Sheet1!$1:$1048576,9,FALSE)","v":114.98648003691355},-12.319385492008271,{"$f":"VLOOKUP($A549,Sheet1!$1:$1048576,10,FALSE)","v":107.90475854620195},-5.3341334911803742,{"$f":"VLOOKUP($A549,Sheet1!$1:$1048576,11,FALSE)","v":93.741315564778745},10.128476225560838,{"$f":"VLOOKUP($A549,Sheet1!$1:$1048576,12,FALSE)","v":72.496151092643913},38.370503291482713]
[17108,{"$f":"VLOOKUP($A550,BasinData!$1:$1048576,2,FALSE)","v":0.13212731852530341},44.326017027235238,{"$f":"VLOOKUP($A550,BasinData!$1:$1048576,3,FALSE)","v":7.6922247503682559},{"$f":"VLOOKUP($A550,BasinData!$1:$1048576,4,FALSE)","v":26.443830474495734},{"$f":"VLOOKUP($A550,BasinData!$1:$1048576,5,FALSE)","v":3.3657739173999999},127.4933851994614,{"$f":"VLOOKUP($A550,Sheet1!$1:$1048576,9,FALSE)","v":202.21783414636528},-6.364212249856017,{"$f":"VLOOKUP($A550,Sheet1!$1:$1048576,10,FALSE)","v":189.76375796784632},0.62102379925025419,{"$f":"VLOOKUP($A550,Sheet1!$1:$1048576,11,FALSE)","v":164.85560561080842},16.083632313694235,{"$f":"VLOOKUP($A550,Sheet1!$1:$1048576,12,FALSE)","v":127.49337707525156},44.326017027235238]
[17109,{"$f":"VLOOKUP($A551,BasinData!$1:$1048576,2,FALSE)","v":0.65431243505368897},39.435995936574727,{"$f":"VLOOKUP($A551,BasinData!$1:$1048576,3,FALSE)","v":7.6037330304622408},{"$f":"VLOOKUP($A551,BasinData!$1:$1048576,4,FALSE)","v":33.02657499872263},{"$f":"VLOOKUP($A551,BasinData!$1:$1048576,5,FALSE)","v":4.5587275037100001},100.88302114142405,{"$f":"VLOOKUP($A551,Sheet1!$1:$1048576,9,FALSE)","v":160.0106917893132},-11.254023053856571,{"$f":"VLOOKUP($A551,Sheet1!$1:$1048576,10,FALSE)","v":150.15604492627122},-4.2687753944485758,{"$f":"VLOOKUP($A551,Sheet1!$1:$1048576,11,FALSE)","v":130.44675120018724},11.193856285459871,{"$f":"VLOOKUP($A551,Sheet1!$1:$1048576,12,FALSE)","v":100.88281061106127},39.435995936574727]
[17110,{"$f":"VLOOKUP($A552,BasinData!$1:$1048576,2,FALSE)","v":1.2131029984223485},42.65590458641973,{"$f":"VLOOKUP($A552,BasinData!$1:$1048576,3,FALSE)","v":2.7811556200064134},{"$f":"VLOOKUP($A552,BasinData!$1:$1048576,4,FALSE)","v":27.423987322967218},{"$f":"VLOOKUP($A552,BasinData!$1:$1048576,5,FALSE)","v":3.7732208682300001},113.17510763574046,{"$f":"VLOOKUP($A552,Sheet1!$1:$1048576,9,FALSE)","v":179.50750420146844},-8.0343000441702177,{"$f":"VLOOKUP($A552,Sheet1!$1:$1048576,10,FALSE)","v":168.45209881955356},-1.0492118303830542,{"$f":"VLOOKUP($A552,Sheet1!$1:$1048576,11,FALSE)","v":146.34128805572379},14.413570336802296,{"$f":"VLOOKUP($A552,Sheet1!$1:$1048576,12,FALSE)","v":113.17507190997912},42.65590458641973]
[17111,{"$f":"VLOOKUP($A553,BasinData!$1:$1048576,2,FALSE)","v":0.95629996556060604},50.063840663466792,{"$f":"VLOOKUP($A553,BasinData!$1:$1048576,3,FALSE)","v":5.4241433170887143},{"$f":"VLOOKUP($A553,BasinData!$1:$1048576,4,FALSE)","v":22.881739918441323},{"$f":"VLOOKUP($A553,BasinData!$1:$1048576,5,FALSE)","v":1.96584312925},131.86538880718032,{"$f":"VLOOKUP($A553,Sheet1!$1:$1048576,9,FALSE)","v":209.15161465547916},-0.62602901176837078,{"$f":"VLOOKUP($A553,Sheet1!$1:$1048576,10,FALSE)","v":196.27050477328038},6.3592015071715986,{"$f":"VLOOKUP($A553,Sheet1!$1:$1048576,11,FALSE)","v":170.50828500888284},21.821823517674844,{"$f":"VLOOKUP($A553,Sheet1!$1:$1048576,12,FALSE)","v":131.86495536228651},50.063840663466792]
[17112,{"$f":"VLOOKUP($A554,BasinData!$1:$1048576,2,FALSE)","v":0.26743398781313477},39.606519211183958,{"$f":"VLOOKUP($A554,BasinData!$1:$1048576,3,FALSE)","v":7.2247295564307699},{"$f":"VLOOKUP($A554,BasinData!$1:$1048576,4,FALSE)","v":32.542720183461888},{"$f":"VLOOKUP($A554,BasinData!$1:$1048576,5,FALSE)","v":4.5171295744700002},105.68285483137663,{"$f":"VLOOKUP($A554,Sheet1!$1:$1048576,9,FALSE)","v":167.6237409418116},-11.083516650885086,{"$f":"VLOOKUP($A554,Sheet1!$1:$1048576,10,FALSE)","v":157.30022596683347},-4.098269627333643,{"$f":"VLOOKUP($A554,Sheet1!$1:$1048576,11,FALSE)","v":136.65319601687719},11.364361724441487,{"$f":"VLOOKUP($A554,Sheet1!$1:$1048576,12,FALSE)","v":105.68265109194276},39.606519211183958]
[17113,{"$f":"VLOOKUP($A555,BasinData!$1:$1048576,2,FALSE)","v":0.28380785719696966},6.7992358958845323,{"$f":"VLOOKUP($A555,BasinData!$1:$1048576,3,FALSE)","v":6.5341306614239496},{"$f":"VLOOKUP($A555,BasinData!$1:$1048576,4,FALSE)","v":46.226942425936279},{"$f":"VLOOKUP($A555,BasinData!$1:$1048576,5,FALSE)","v":12.5210082285},71.064992830914917,{"$f":"VLOOKUP($A555,Sheet1!$1:$1048576,9,FALSE)","v":112.71611517073629},-43.890405557275983,{"$f":"VLOOKUP($A555,Sheet1!$1:$1048576,10,FALSE)","v":105.77421961138117},-36.905996246267918,{"$f":"VLOOKUP($A555,Sheet1!$1:$1048576,11,FALSE)","v":91.890428492670907},-21.442748014734342,{"$f":"VLOOKUP($A555,Sheet1!$1:$1048576,12,FALSE)","v":71.064741814605497},6.7992358958845323]
[17114,{"$f":"VLOOKUP($A556,BasinData!$1:$1048576,2,FALSE)","v":0.20831673703497169},42.976311597545006,{"$f":"VLOOKUP($A556,BasinData!$1:$1048576,3,FALSE)","v":7.529728001637614},{"$f":"VLOOKUP($A556,BasinData!$1:$1048576,4,FALSE)","v":26.421088554680171},{"$f":"VLOOKUP($A556,BasinData!$1:$1048576,5,FALSE)","v":3.6950537723600001},126.76335396051488,{"$f":"VLOOKUP($A556,Sheet1!$1:$1048576,9,FALSE)","v":201.05989194506841},-7.7139001937621599,{"$f":"VLOOKUP($A556,Sheet1!$1:$1048576,10,FALSE)","v":188.67713044779975},-0.72887549256271511,{"$f":"VLOOKUP($A556,Sheet1!$1:$1048576,11,FALSE)","v":163.91160745326243},14.733958517209128,{"$f":"VLOOKUP($A556,Sheet1!$1:$1048576,12,FALSE)","v":126.76332296145647},42.976311597545006]
[17115,{"$f":"VLOOKUP($A557,BasinData!$1:$1048576,2,FALSE)","v":0.56975381008206338},44.267235382255251,{"$f":"VLOOKUP($A557,BasinData!$1:$1048576,3,FALSE)","v":7.6922315956532064},{"$f":"VLOOKUP($A557,BasinData!$1:$1048576,4,FALSE)","v":26.465065018644669},{"$f":"VLOOKUP($A557,BasinData!$1:$1048576,5,FALSE)","v":3.3801146212800002},122.81635410074921,{"$f":"VLOOKUP($A557,Sheet1!$1:$1048576,9,FALSE)","v":194.79957307637204},-6.4229934689289747,{"$f":"VLOOKUP($A557,Sheet1!$1:$1048576,10,FALSE)","v":182.8023685129005},0.56164392383813522,{"$f":"VLOOKUP($A557,Sheet1!$1:$1048576,11,FALSE)","v":158.80795938595739},16.024655553745578,{"$f":"VLOOKUP($A557,Sheet1!$1:$1048576,12,FALSE)","v":122.81634569554272},44.267235382255251]
[17116,{"$f":"VLOOKUP($A558,BasinData!$1:$1048576,2,FALSE)","v":1.6235379838503787},40.628832195463467,{"$f":"VLOOKUP($A558,BasinData!$1:$1048576,3,FALSE)","v":6.3217854137444727},{"$f":"VLOOKUP($A558,BasinData!$1:$1048576,4,FALSE)","v":30.798342043611459},{"$f":"VLOOKUP($A558,BasinData!$1:$1048576,5,FALSE)","v":4.2677388582800004},99.180526730772527,{"$f":"VLOOKUP($A558,Sheet1!$1:$1048576,9,FALSE)","v":157.31051002404237},-10.061285471846496,{"$f":"VLOOKUP($A558,Sheet1!$1:$1048576,10,FALSE)","v":147.62216040942303},-3.0760419566945574,{"$f":"VLOOKUP($A558,Sheet1!$1:$1048576,11,FALSE)","v":128.24546118018441},12.386580635753383,{"$f":"VLOOKUP($A558,Sheet1!$1:$1048576,12,FALSE)","v":99.180412336326413},40.628832195463467]
[17117,{"$f":"VLOOKUP($A559,BasinData!$1:$1048576,2,FALSE)","v":0.32032494424976105},38.844516755728634,{"$f":"VLOOKUP($A559,BasinData!$1:$1048576,3,FALSE)","v":7.2202819129560893},{"$f":"VLOOKUP($A559,BasinData!$1:$1048576,4,FALSE)","v":26.539209029841931},{"$f":"VLOOKUP($A559,BasinData!$1:$1048576,5,FALSE)","v":4.7030125745999998},125.14863266025635,{"$f":"VLOOKUP($A559,Sheet1!$1:$1048576,9,FALSE)","v":198.49828542105058},-11.845435520047705,{"$f":"VLOOKUP($A559,Sheet1!$1:$1048576,10,FALSE)","v":186.27328667959515},-4.8601855320643397,{"$f":"VLOOKUP($A559,Sheet1!$1:$1048576,11,FALSE)","v":161.82328919668424},10.602415622951511,{"$f":"VLOOKUP($A559,Sheet1!$1:$1048576,12,FALSE)","v":125.1482929723179},38.844516755728634]
[17118,{"$f":"VLOOKUP($A560,BasinData!$1:$1048576,2,FALSE)","v":0.23553564762971257},39.796426349623019,{"$f":"VLOOKUP($A560,BasinData!$1:$1048576,3,FALSE)","v":7.3444211880344525},{"$f":"VLOOKUP($A560,BasinData!$1:$1048576,4,FALSE)","v":31.622253479761202},{"$f":"VLOOKUP($A560,BasinData!$1:$1048576,5,FALSE)","v":4.4708028037599998},108.82308123996189,{"$f":"VLOOKUP($A560,Sheet1!$1:$1048576,9,FALSE)","v":172.6044876715786},-10.893627144805674,{"$f":"VLOOKUP($A560,Sheet1!$1:$1048576,10,FALSE)","v":161.97422131900669},-3.9083808115979086,{"$f":"VLOOKUP($A560,Sheet1!$1:$1048576,11,FALSE)","v":140.71368861386287},11.554249929574645,{"$f":"VLOOKUP($A560,Sheet1!$1:$1048576,12,FALSE)","v":108.8228895561471},39.796426349623019]
[17119,{"$f":"VLOOKUP($A561,BasinData!$1:$1048576,2,FALSE)","v":0.386254148378118},38.096531353792898,{"$f":"VLOOKUP($A561,BasinData!$1:$1048576,3,FALSE)","v":14.402048722915824},{"$f":"VLOOKUP($A561,BasinData!$1:$1048576,4,FALSE)","v":21.289422774103567},{"$f":"VLOOKUP($A561,BasinData!$1:$1048576,5,FALSE)","v":4.8854706517000004},144.8478444338582,{"$f":"VLOOKUP($A561,Sheet1!$1:$1048576,9,FALSE)","v":229.74298602816171},-12.593316266524608,{"$f":"VLOOKUP($A561,Sheet1!$1:$1048576,10,FALSE)","v":215.5937065565787},-5.6080630387455983,{"$f":"VLOOKUP($A561,Sheet1!$1:$1048576,11,FALSE)","v":187.29514761341272},9.8545507179865446,{"$f":"VLOOKUP($A561,Sheet1!$1:$1048576,12,FALSE)","v":144.84730919866371},38.096531353792898]
[17120,{"$f":"VLOOKUP($A562,BasinData!$1:$1048576,2,FALSE)","v":0.16347905282331512},39.934289787495068,{"$f":"VLOOKUP($A562,BasinData!$1:$1048576,3,FALSE)","v":7.0718164920965831},{"$f":"VLOOKUP($A562,BasinData!$1:$1048576,4,FALSE)","v":32.365408520442926},{"$f":"VLOOKUP($A562,BasinData!$1:$1048576,5,FALSE)","v":4.4371716166499997},107.15741429022792,{"$f":"VLOOKUP($A562,Sheet1!$1:$1048576,9,FALSE)","v":169.96258966072565},-10.755775772096062,{"$f":"VLOOKUP($A562,Sheet1!$1:$1048576,10,FALSE)","v":159.49503101008287},-3.7705299285989491,{"$f":"VLOOKUP($A562,Sheet1!$1:$1048576,11,FALSE)","v":138.5599137087973},11.692100160081838,{"$f":"VLOOKUP($A562,Sheet1!$1:$1048576,12,FALSE)","v":107.15723775686891},39.934289787495068]
[17121,{"$f":"VLOOKUP($A563,BasinData!$1:$1048576,2,FALSE)","v":2.4262144091856062},40.405077901449992,{"$f":"VLOOKUP($A563,BasinData!$1:$1048576,3,FALSE)","v":6.8014537978706775},{"$f":"VLOOKUP($A563,BasinData!$1:$1048576,4,FALSE)","v":31.553798727128086},{"$f":"VLOOKUP($A563,BasinData!$1:$1048576,5,FALSE)","v":4.3223238139399998},90.711516196250329,{"$f":"VLOOKUP($A563,Sheet1!$1:$1048576,9,FALSE)","v":143.87776790313788},-10.285024482328264,{"$f":"VLOOKUP($A563,Sheet1!$1:$1048576,10,FALSE)","v":135.01670631860921},-3.2997802415430599,{"$f":"VLOOKUP($A563,Sheet1!$1:$1048576,11,FALSE)","v":117.29458314955187},12.162845720955996,{"$f":"VLOOKUP($A563,Sheet1!$1:$1048576,12,FALSE)","v":90.71139839596583},40.405077901449992]
[17122,{"$f":"VLOOKUP($A564,BasinData!$1:$1048576,2,FALSE)","v":1.3601104266647726},40.495105644973705,{"$f":"VLOOKUP($A564,BasinData!$1:$1048576,3,FALSE)","v":3.0091868290997867},{"$f":"VLOOKUP($A564,BasinData!$1:$1048576,4,FALSE)","v":20.041872858774269},{"$f":"VLOOKUP($A564,BasinData!$1:$1048576,5,FALSE)","v":4.3003615481399997},138.37005462093273,{"$f":"VLOOKUP($A564,Sheet1!$1:$1048576,9,FALSE)","v":219.46911077933731},-10.195003052032959,{"$f":"VLOOKUP($A564,Sheet1!$1:$1048576,10,FALSE)","v":205.9525728537094},-3.2097591059188457,{"$f":"VLOOKUP($A564,Sheet1!$1:$1048576,11,FALSE)","v":178.91949700245357},12.252865631701193,{"$f":"VLOOKUP($A564,Sheet1!$1:$1048576,12,FALSE)","v":138.36988322556982},40.495105644973705]
[17123,{"$f":"VLOOKUP($A565,BasinData!$1:$1048576,2,FALSE)","v":0.79959616355376084},51.291756084009627,{"$f":"VLOOKUP($A565,BasinData!$1:$1048576,3,FALSE)","v":2.0964800189510693},{"$f":"VLOOKUP($A565,BasinData!$1:$1048576,4,FALSE)","v":4.6515725486741255},{"$f":"VLOOKUP($A565,BasinData!$1:$1048576,5,FALSE)","v":1.6662902768338299},226.2851360348877,{"$f":"VLOOKUP($A565,Sheet1!$1:$1048576,9,FALSE)","v":358.91097394558733},0.60180902568933914,{"$f":"VLOOKUP($A565,Sheet1!$1:$1048576,10,FALSE)","v":336.80657039634616},7.5870389662310558,{"$f":"VLOOKUP($A565,Sheet1!$1:$1048576,11,FALSE)","v":292.59776329786388},23.049668100862132,{"$f":"VLOOKUP($A565,Sheet1!$1:$1048576,12,FALSE)","v":226.28455265014043},51.291756084009627]
[18009,{"$f":"VLOOKUP($A566,BasinData!$1:$1048576,2,FALSE)","v":0.49343219810606065},-65.157807086036598,{"$f":"VLOOKUP($A566,BasinData!$1:$1048576,3,FALSE)","v":0.80919532379828474},{"$f":"VLOOKUP($A566,BasinData!$1:$1048576,4,FALSE)","v":13.51116894382997},{"$f":"VLOOKUP($A566,BasinData!$1:$1048576,5,FALSE)","v":30.076306154200001},179.73233885064661,{"$f":"VLOOKUP($A566,Sheet1!$1:$1048576,9,FALSE)","v":285.07428960282476},-115.84799636114879,{"$f":"VLOOKUP($A566,Sheet1!$1:$1048576,10,FALSE)","v":267.5172974896513},-108.86280992360427,{"$f":"VLOOKUP($A566,Sheet1!$1:$1048576,11,FALSE)","v":232.4033132633044},-93.400178072807137,{"$f":"VLOOKUP($A566,Sheet1!$1:$1048576,12,FALSE)","v":179.73233692378403},-65.157807086036598]
[18010,{"$f":"VLOOKUP($A567,BasinData!$1:$1048576,2,FALSE)","v":0.6478575871022727},-13.040509433171618,{"$f":"VLOOKUP($A567,BasinData!$1:$1048576,3,FALSE)","v":0.68224771865165401},{"$f":"VLOOKUP($A567,BasinData!$1:$1048576,4,FALSE)","v":7.4488491048593355},{"$f":"VLOOKUP($A567,BasinData!$1:$1048576,5,FALSE)","v":17.361362418700001},211.38857788907131,{"$f":"VLOOKUP($A567,Sheet1!$1:$1048576,9,FALSE)","v":335.28439844250801},-63.730738280747637,{"$f":"VLOOKUP($A567,Sheet1!$1:$1048576,10,FALSE)","v":314.63509489666171},-56.74551421696188,{"$f":"VLOOKUP($A567,Sheet1!$1:$1048576,11,FALSE)","v":273.33648780496912},-41.282945915615798,{"$f":"VLOOKUP($A567,Sheet1!$1:$1048576,12,FALSE)","v":211.3885771674303},-13.040509433171618]
[18011,{"$f":"VLOOKUP($A568,BasinData!$1:$1048576,2,FALSE)","v":0.76410256410256405},-28.595631529344399,{"$f":"VLOOKUP($A568,BasinData!$1:$1048576,3,FALSE)","v":5.8720619985050586},{"$f":"VLOOKUP($A568,BasinData!$1:$1048576,4,FALSE)","v":31.806982297865886},{"$f":"VLOOKUP($A568,BasinData!$1:$1048576,5,FALSE)","v":21.156257977500001},103.54283797602913,{"$f":"VLOOKUP($A568,Sheet1!$1:$1048576,9,FALSE)","v":164.22944335150686},-79.28545012702422,{"$f":"VLOOKUP($A568,Sheet1!$1:$1048576,10,FALSE)","v":154.11497443292959},-72.300415431076857,{"$f":"VLOOKUP($A568,Sheet1!$1:$1048576,11,FALSE)","v":133.88603659577498},-56.837815662107211,{"$f":"VLOOKUP($A568,Sheet1!$1:$1048576,12,FALSE)","v":103.54262984004311},-28.595631529344399]
[18012,{"$f":"VLOOKUP($A569,BasinData!$1:$1048576,2,FALSE)","v":0.21064162572727274},-70.67448813871647,{"$f":"VLOOKUP($A569,BasinData!$1:$1048576,3,FALSE)","v":1.2749781926311956},{"$f":"VLOOKUP($A569,BasinData!$1:$1048576,4,FALSE)","v":17.867981790591806},{"$f":"VLOOKUP($A569,BasinData!$1:$1048576,5,FALSE)","v":31.422198896299999},162.27805501816718,{"$f":"VLOOKUP($A569,Sheet1!$1:$1048576,9,FALSE)","v":257.38997014645201},-121.3645533777007,{"$f":"VLOOKUP($A569,Sheet1!$1:$1048576,10,FALSE)","v":241.53798404778553},-114.37949105287323,{"$f":"VLOOKUP($A569,Sheet1!$1:$1048576,11,FALSE)","v":209.8340118504525},-98.9168577592378,{"$f":"VLOOKUP($A569,Sheet1!$1:$1048576,12,FALSE)","v":162.27805355445298},-70.67448813871647]
[18013,{"$f":"VLOOKUP($A570,BasinData!$1:$1048576,2,FALSE)","v":0.19461176212901105},1.4119047303635723,{"$f":"VLOOKUP($A570,BasinData!$1:$1048576,3,FALSE)","v":8.1560815855363256},{"$f":"VLOOKUP($A570,BasinData!$1:$1048576,4,FALSE)","v":38.882093282986759},{"$f":"VLOOKUP($A570,BasinData!$1:$1048576,5,FALSE)","v":13.835409353899999},88.530844273301909,{"$f":"VLOOKUP($A570,Sheet1!$1:$1048576,9,FALSE)","v":140.41902874711292},-49.278206469282729,{"$f":"VLOOKUP($A570,Sheet1!$1:$1048576,10,FALSE)","v":131.77098200923513},-42.2933004910387,{"$f":"VLOOKUP($A570,Sheet1!$1:$1048576,11,FALSE)","v":114.47488853347954},-26.830345417278821,{"$f":"VLOOKUP($A570,Sheet1!$1:$1048576,12,FALSE)","v":88.53074831984614},1.4119047303635723]
[18014,{"$f":"VLOOKUP($A571,BasinData!$1:$1048576,2,FALSE)","v":1.0174541466912879},20.175436780587006,{"$f":"VLOOKUP($A571,BasinData!$1:$1048576,3,FALSE)","v":18.957697984072698},{"$f":"VLOOKUP($A571,BasinData!$1:$1048576,4,FALSE)","v":36.478095895136256},{"$f":"VLOOKUP($A571,BasinData!$1:$1048576,5,FALSE)","v":9.2577394495800007},88.562341179675585,{"$f":"VLOOKUP($A571,Sheet1!$1:$1048576,9,FALSE)","v":140.46913416774072},-30.51479795005087,{"$f":"VLOOKUP($A571,Sheet1!$1:$1048576,10,FALSE)","v":131.81800156590791},-23.529560918465812,{"$f":"VLOOKUP($A571,Sheet1!$1:$1048576,11,FALSE)","v":114.51573636224228},-8.0669644315143216,{"$f":"VLOOKUP($A571,Sheet1!$1:$1048576,12,FALSE)","v":88.562338556743811},20.175436780587006]
[18015,{"$f":"VLOOKUP($A572,BasinData!$1:$1048576,2,FALSE)","v":6.1768820464015155E-2},22.180635588717408,{"$f":"VLOOKUP($A572,BasinData!$1:$1048576,3,FALSE)","v":7.205230215224538},{"$f":"VLOOKUP($A572,BasinData!$1:$1048576,4,FALSE)","v":50.265988887575361},{"$f":"VLOOKUP($A572,BasinData!$1:$1048576,5,FALSE)","v":8.7685077658499999},64.425867177168158,{"$f":"VLOOKUP($A572,Sheet1!$1:$1048576,9,FALSE)","v":102.18605690099895},-28.509480165453368,{"$f":"VLOOKUP($A572,Sheet1!$1:$1048576,10,FALSE)","v":95.892680540799276},-21.524248808128142,{"$f":"VLOOKUP($A572,Sheet1!$1:$1048576,11,FALSE)","v":83.30592782039993},-6.06166234439163,{"$f":"VLOOKUP($A572,Sheet1!$1:$1048576,12,FALSE)","v":64.425798739800911},22.180635588717408]
[18016,{"$f":"VLOOKUP($A573,BasinData!$1:$1048576,2,FALSE)","v":1.9143786999621215},41.553908115078038,{"$f":"VLOOKUP($A573,BasinData!$1:$1048576,3,FALSE)","v":6.0363462242818899},{"$f":"VLOOKUP($A573,BasinData!$1:$1048576,4,FALSE)","v":29.099912612875034},{"$f":"VLOOKUP($A573,BasinData!$1:$1048576,5,FALSE)","v":4.04206289623},101.65606510177075,{"$f":"VLOOKUP($A573,Sheet1!$1:$1048576,9,FALSE)","v":161.23704532570298},-9.1362594805849628,{"$f":"VLOOKUP($A573,Sheet1!$1:$1048576,10,FALSE)","v":151.30687050327765},-2.151038880520197,{"$f":"VLOOKUP($A573,Sheet1!$1:$1048576,11,FALSE)","v":131.44652085842699},13.310977583151026,{"$f":"VLOOKUP($A573,Sheet1!$1:$1048576,12,FALSE)","v":101.65599639115099},41.553908115078038]
[18017,{"$f":"VLOOKUP($A574,BasinData!$1:$1048576,2,FALSE)","v":0.19593147751605997},51.56535018895385,{"$f":"VLOOKUP($A574,BasinData!$1:$1048576,3,FALSE)","v":3.8223895739361251},{"$f":"VLOOKUP($A574,BasinData!$1:$1048576,4,FALSE)","v":19.8456715698095},{"$f":"VLOOKUP($A574,BasinData!$1:$1048576,5,FALSE)","v":1.5995459036099999},153.4529643038062,{"$f":"VLOOKUP($A574,Sheet1!$1:$1048576,9,FALSE)","v":243.3918622176258},0.87538770762390072,{"$f":"VLOOKUP($A574,Sheet1!$1:$1048576,10,FALSE)","v":228.40198357469708},7.8604314446152683,{"$f":"VLOOKUP($A574,Sheet1!$1:$1048576,11,FALSE)","v":198.42222628883968},23.323247495345026,{"$f":"VLOOKUP($A574,Sheet1!$1:$1048576,12,FALSE)","v":153.45259036005353},51.56535018895385]
[18018,{"$f":"VLOOKUP($A575,BasinData!$1:$1048576,2,FALSE)","v":2.1003505289015152},47.109838723369641,{"$f":"VLOOKUP($A575,BasinData!$1:$1048576,3,FALSE)","v":3.7156259617356464},{"$f":"VLOOKUP($A575,BasinData!$1:$1048576,4,FALSE)","v":16.783405172413794},{"$f":"VLOOKUP($A575,BasinData!$1:$1048576,5,FALSE)","v":2.6864633444999999},142.86862918034655,{"$f":"VLOOKUP($A575,Sheet1!$1:$1048576,9,FALSE)","v":226.60333018058816},-3.5797820185383293,{"$f":"VLOOKUP($A575,Sheet1!$1:$1048576,10,FALSE)","v":212.64741403556374},3.405223869471079,{"$f":"VLOOKUP($A575,Sheet1!$1:$1048576,11,FALSE)","v":184.73558174551491},18.868077252081495,{"$f":"VLOOKUP($A575,Sheet1!$1:$1048576,12,FALSE)","v":142.86783331044165},47.109838723369641]
[18019,{"$f":"VLOOKUP($A576,BasinData!$1:$1048576,2,FALSE)","v":2.8853291946212121},53.327378930605853,{"$f":"VLOOKUP($A576,BasinData!$1:$1048576,3,FALSE)","v":3.7087798927242943},{"$f":"VLOOKUP($A576,BasinData!$1:$1048576,4,FALSE)","v":13.529256023298913},{"$f":"VLOOKUP($A576,BasinData!$1:$1048576,5,FALSE)","v":1.16968844258},{"$f":"EXP(6.1523-(0.084*B576)-(0.0091*C576)-(0.0289*E576)-(0.0373*F576))","v":146.94058500010343},{"$f":"VLOOKUP($A576,Sheet1!$1:$1048576,9,FALSE)","v":233.06275388245299},2.6373314184581287,{"$f":"VLOOKUP($A576,Sheet1!$1:$1048576,10,FALSE)","v":218.70901844917466},9.6225608280471135,{"$f":"VLOOKUP($A576,Sheet1!$1:$1048576,11,FALSE)","v":190.001547582618},25.085039648454661,{"$f":"VLOOKUP($A576,Sheet1!$1:$1048576,12,FALSE)","v":146.94034128278304},53.327378930605853]
[18020,{"$f":"VLOOKUP($A577,BasinData!$1:$1048576,2,FALSE)","v":0.56399743509659095},-34.791795357526965,{"$f":"VLOOKUP($A577,BasinData!$1:$1048576,3,FALSE)","v":0.33199566967843053},{"$f":"VLOOKUP($A577,BasinData!$1:$1048576,4,FALSE)","v":13.420486513321197},{"$f":"VLOOKUP($A577,BasinData!$1:$1048576,5,FALSE)","v":22.667948373000002},179.13917517155502,{"$f":"VLOOKUP($A577,Sheet1!$1:$1048576,9,FALSE)","v":284.1331748871562},-85.481911070952336,{"$f":"VLOOKUP($A577,Sheet1!$1:$1048576,10,FALSE)","v":266.63414360820462},-78.496684715981033,{"$f":"VLOOKUP($A577,Sheet1!$1:$1048576,11,FALSE)","v":231.63608105030144},-63.034075908452152,{"$f":"VLOOKUP($A577,Sheet1!$1:$1048576,12,FALSE)","v":179.13898721344665},-34.791795357526965]
[18021,{"$f":"VLOOKUP($A578,BasinData!$1:$1048576,2,FALSE)","v":0.43299532480303032},14.746405006119568,{"$f":"VLOOKUP($A578,BasinData!$1:$1048576,3,FALSE)","v":9.7637600481530296},{"$f":"VLOOKUP($A578,BasinData!$1:$1048576,4,FALSE)","v":34.637745974955273},{"$f":"VLOOKUP($A578,BasinData!$1:$1048576,5,FALSE)","v":10.582233220399999},98.100057171952344,{"$f":"VLOOKUP($A578,Sheet1!$1:$1048576,9,FALSE)","v":155.59686017742331},-35.943714676822367,{"$f":"VLOOKUP($A578,Sheet1!$1:$1048576,10,FALSE)","v":146.01404984831356},-28.958529517173837,{"$f":"VLOOKUP($A578,Sheet1!$1:$1048576,11,FALSE)","v":126.84842919009407},-13.495914036030559,{"$f":"VLOOKUP($A578,Sheet1!$1:$1048576,12,FALSE)","v":98.099998202764795},14.746405006119568]
[18022,{"$f":"VLOOKUP($A579,BasinData!$1:$1048576,2,FALSE)","v":0.37580993520518358},-9.190737532602105,{"$f":"VLOOKUP($A579,BasinData!$1:$1048576,3,FALSE)","v":3.5815064830824364},{"$f":"VLOOKUP($A579,BasinData!$1:$1048576,4,FALSE)","v":22.091503267973856},{"$f":"VLOOKUP($A579,BasinData!$1:$1048576,5,FALSE)","v":16.4221418813},141.65256588493551,{"$f":"VLOOKUP($A579,Sheet1!$1:$1048576,9,FALSE)","v":224.67578774471284},-59.880980686034519,{"$f":"VLOOKUP($A579,Sheet1!$1:$1048576,10,FALSE)","v":210.83858397950922},-52.895757788628011,{"$f":"VLOOKUP($A579,Sheet1!$1:$1048576,11,FALSE)","v":183.16417644910194},-37.43318390174219,{"$f":"VLOOKUP($A579,Sheet1!$1:$1048576,12,FALSE)","v":141.65256515349108},-9.190737532602105]
[18023,{"$f":"VLOOKUP($A580,BasinData!$1:$1048576,2,FALSE)","v":0.44484207238446966},26.625211001266479,{"$f":"VLOOKUP($A580,BasinData!$1:$1048576,3,FALSE)","v":15.158596243010084},{"$f":"VLOOKUP($A580,BasinData!$1:$1048576,4,FALSE)","v":62.974573319400903},{"$f":"VLOOKUP($A580,BasinData!$1:$1048576,5,FALSE)","v":7.6841887153300004},43.209416144022718,{"$f":"VLOOKUP($A580,Sheet1!$1:$1048576,9,FALSE)","v":68.534618398024662},-24.064386086828456,{"$f":"VLOOKUP($A580,Sheet1!$1:$1048576,10,FALSE)","v":64.313747563373454},-17.079732731826585,{"$f":"VLOOKUP($A580,Sheet1!$1:$1048576,11,FALSE)","v":55.872005894071073},-1.6171013289522056,{"$f":"VLOOKUP($A580,Sheet1!$1:$1048576,12,FALSE)","v":43.209393390117491},26.625211001266479]
[18024,{"$f":"VLOOKUP($A581,BasinData!$1:$1048576,2,FALSE)","v":0.336293702375},17.489073929146077,{"$f":"VLOOKUP($A581,BasinData!$1:$1048576,3,FALSE)","v":4.9111700574526944},{"$f":"VLOOKUP($A581,BasinData!$1:$1048576,4,FALSE)","v":46.690933156849766},{"$f":"VLOOKUP($A581,BasinData!$1:$1048576,5,FALSE)","v":9.9130581822200003},69.809891922559117,{"$f":"VLOOKUP($A581,Sheet1!$1:$1048576,9,FALSE)","v":110.72551040470636},-33.200889248530416,{"$f":"VLOOKUP($A581,Sheet1!$1:$1048576,10,FALSE)","v":103.90621107185179},-26.215647389256159,{"$f":"VLOOKUP($A581,Sheet1!$1:$1048576,11,FALSE)","v":90.267612406142632},-10.753040165341295,{"$f":"VLOOKUP($A581,Sheet1!$1:$1048576,12,FALSE)","v":69.809714407578923},17.489073929146077]
[18025,{"$f":"VLOOKUP($A582,BasinData!$1:$1048576,2,FALSE)","v":1.2875612026496213E-3},33.325504178875171,{"$f":"VLOOKUP($A582,BasinData!$1:$1048576,3,FALSE)","v":8.3708771817038521},{"$f":"VLOOKUP($A582,BasinData!$1:$1048576,4,FALSE)","v":46.806419914837868},{"$f":"VLOOKUP($A582,BasinData!$1:$1048576,5,FALSE)","v":6.0494715810299997},71.563053722097109,{"$f":"VLOOKUP($A582,Sheet1!$1:$1048576,9,FALSE)","v":113.50617128656619},-17.36433719317149,{"$f":"VLOOKUP($A582,Sheet1!$1:$1048576,10,FALSE)","v":106.51561820353919},-10.379453678786698,{"$f":"VLOOKUP($A582,Sheet1!$1:$1048576,11,FALSE)","v":92.5345120374852},5.0834124890968164,{"$f":"VLOOKUP($A582,Sheet1!$1:$1048576,12,FALSE)","v":71.5628527884042},33.325504178875171]
[18026,{"$f":"VLOOKUP($A583,BasinData!$1:$1048576,2,FALSE)","v":0.36593287515151518},21.176035566627078,{"$f":"VLOOKUP($A583,BasinData!$1:$1048576,3,FALSE)","v":1.7650463009374846},{"$f":"VLOOKUP($A583,BasinData!$1:$1048576,4,FALSE)","v":40.158067402326274},{"$f":"VLOOKUP($A583,BasinData!$1:$1048576,5,FALSE)","v":9.0136190205499993},84.106476828933268,{"$f":"VLOOKUP($A583,Sheet1!$1:$1048576,9,FALSE)","v":133.40163492980935},-29.514169160257705,{"$f":"VLOOKUP($A583,Sheet1!$1:$1048576,10,FALSE)","v":125.18577142415877},-22.528935508600778,{"$f":"VLOOKUP($A583,Sheet1!$1:$1048576,11,FALSE)","v":108.75404441285765},-7.0663437919704206,{"$f":"VLOOKUP($A583,Sheet1!$1:$1048576,12,FALSE)","v":84.106453895905972},21.176035566627078]
[18027,{"$f":"VLOOKUP($A584,BasinData!$1:$1048576,2,FALSE)","v":1.6522915545992469},20.919953104059378,{"$f":"VLOOKUP($A584,BasinData!$1:$1048576,3,FALSE)","v":13.921719787584419},{"$f":"VLOOKUP($A584,BasinData!$1:$1048576,4,FALSE)","v":58.5386697051702},{"$f":"VLOOKUP($A584,BasinData!$1:$1048576,5,FALSE)","v":9.0760975396599992},44.381820769167213,{"$f":"VLOOKUP($A584,Sheet1!$1:$1048576,9,FALSE)","v":70.394198607592372},-29.770263154605122,{"$f":"VLOOKUP($A584,Sheet1!$1:$1048576,10,FALSE)","v":66.058801011798735},-22.785028756986044,{"$f":"VLOOKUP($A584,Sheet1!$1:$1048576,11,FALSE)","v":57.388005820211468},-7.3224357767423234,{"$f":"VLOOKUP($A584,Sheet1!$1:$1048576,12,FALSE)","v":44.381813032830557},20.919953104059378]
[18028,{"$f":"VLOOKUP($A585,BasinData!$1:$1048576,2,FALSE)","v":0.31484728245824484},44.973587659619099,{"$f":"VLOOKUP($A585,BasinData!$1:$1048576,3,FALSE)","v":8.0848716818966047},{"$f":"VLOOKUP($A585,BasinData!$1:$1048576,4,FALSE)","v":29.24622314346076},{"$f":"VLOOKUP($A585,BasinData!$1:$1048576,5,FALSE)","v":3.2077885310999998},115.78405015528047,{"$f":"VLOOKUP($A585,Sheet1!$1:$1048576,9,FALSE)","v":183.64561189248292},-5.7166448243923664,{"$f":"VLOOKUP($A585,Sheet1!$1:$1048576,10,FALSE)","v":172.33535110359387},1.2685901466510825,{"$f":"VLOOKUP($A585,Sheet1!$1:$1048576,11,FALSE)","v":149.71482952581573},16.731199881991081,{"$f":"VLOOKUP($A585,Sheet1!$1:$1048576,12,FALSE)","v":115.78404715914851},44.973587659619099]
[18030,{"$f":"VLOOKUP($A586,BasinData!$1:$1048576,2,FALSE)","v":2.2797788079166664E-3},-11.892221781152994,{"$f":"VLOOKUP($A586,BasinData!$1:$1048576,3,FALSE)","v":6.3187965749986104},{"$f":"VLOOKUP($A586,BasinData!$1:$1048576,4,FALSE)","v":23.033252230332522},{"$f":"VLOOKUP($A586,BasinData!$1:$1048576,5,FALSE)","v":17.0812171615},142.24306607918268,{"$f":"VLOOKUP($A586,Sheet1!$1:$1048576,9,FALSE)","v":225.61238311587576},-62.582451293610063,{"$f":"VLOOKUP($A586,Sheet1!$1:$1048576,10,FALSE)","v":211.71749685125189},-55.597226541753628,{"$f":"VLOOKUP($A586,Sheet1!$1:$1048576,11,FALSE)","v":183.92772432200414},-40.134661120659054,{"$f":"VLOOKUP($A586,Sheet1!$1:$1048576,12,FALSE)","v":142.24306552813252},-11.892221781152994]
[18031,{"$f":"VLOOKUP($A587,BasinData!$1:$1048576,2,FALSE)","v":3.0987642431060608E-3},7.0614440685802684,{"$f":"VLOOKUP($A587,BasinData!$1:$1048576,3,FALSE)","v":6.0683064781489069},{"$f":"VLOOKUP($A587,BasinData!$1:$1048576,4,FALSE)","v":55.034979860080554},{"$f":"VLOOKUP($A587,BasinData!$1:$1048576,5,FALSE)","v":12.4570331165},56.408638382028961,{"$f":"VLOOKUP($A587,Sheet1!$1:$1048576,9,FALSE)","v":89.469669943968938},-43.628286118050383,{"$f":"VLOOKUP($A587,Sheet1!$1:$1048576,10,FALSE)","v":83.959463142215583},-36.643785550531739,{"$f":"VLOOKUP($A587,Sheet1!$1:$1048576,11,FALSE)","v":72.939049538708844},-21.180520587396106,{"$f":"VLOOKUP($A587,Sheet1!$1:$1048576,12,FALSE)","v":56.408429133448728},7.0614440685802684]
[18032,{"$f":"VLOOKUP($A588,BasinData!$1:$1048576,2,FALSE)","v":0.22986859185984851},15.573384620618047,{"$f":"VLOOKUP($A588,BasinData!$1:$1048576,3,FALSE)","v":2.6043434303082926},{"$f":"VLOOKUP($A588,BasinData!$1:$1048576,4,FALSE)","v":44.597672064777328},{"$f":"VLOOKUP($A588,BasinData!$1:$1048576,5,FALSE)","v":10.380466439599999},74.829269907810186,{"$f":"VLOOKUP($A588,Sheet1!$1:$1048576,9,FALSE)","v":118.68693335532781},-35.11673193845057,{"$f":"VLOOKUP($A588,Sheet1!$1:$1048576,10,FALSE)","v":111.37731046453877},-28.131507485779586,{"$f":"VLOOKUP($A588,Sheet1!$1:$1048576,11,FALSE)","v":96.758064682960679},-12.668894235605078,{"$f":"VLOOKUP($A588,Sheet1!$1:$1048576,12,FALSE)","v":74.829196010593535},15.573384620618047]
[19001,{"$f":"VLOOKUP($A589,BasinData!$1:$1048576,2,FALSE)","v":1.8483030781373324},52.394714117932082,{"$f":"VLOOKUP($A589,BasinData!$1:$1048576,3,FALSE)","v":1.085010954759889},{"$f":"VLOOKUP($A589,BasinData!$1:$1048576,4,FALSE)","v":11.577391946804582},{"$f":"VLOOKUP($A589,BasinData!$1:$1048576,5,FALSE)","v":1.39721833986},169.61781712173445,{"$f":"VLOOKUP($A589,Sheet1!$1:$1048576,9,FALSE)","v":269.03105334027498},1.7047086392253072,{"$f":"VLOOKUP($A589,Sheet1!$1:$1048576,10,FALSE)","v":252.46212287560658},8.6896827773993319,{"$f":"VLOOKUP($A589,Sheet1!$1:$1048576,11,FALSE)","v":219.3242619462697},24.152569565360569,{"$f":"VLOOKUP($A589,Sheet1!$1:$1048576,12,FALSE)","v":169.61747055226442},52.394714117932082]
[19002,{"$f":"VLOOKUP($A590,BasinData!$1:$1048576,2,FALSE)","v":7.9665803718521999E-2},53.127054777670068,{"$f":"VLOOKUP($A590,BasinData!$1:$1048576,3,FALSE)","v":0.7112520907983374},{"$f":"VLOOKUP($A590,BasinData!$1:$1048576,4,FALSE)","v":12.398921832884097},{"$f":"VLOOKUP($A590,BasinData!$1:$1048576,5,FALSE)","v":1.2185590030915801},192.16815234830219,{"$f":"VLOOKUP($A590,Sheet1!$1:$1048576,9,FALSE)","v":304.79826459469342},2.4370157787525373,{"$f":"VLOOKUP($A590,Sheet1!$1:$1048576,10,FALSE)","v":286.02652360376203},9.4222451141679144,{"$f":"VLOOKUP($A590,Sheet1!$1:$1048576,11,FALSE)","v":248.48304162189928},24.884604659623427,{"$f":"VLOOKUP($A590,Sheet1!$1:$1048576,12,FALSE)","v":192.16781864910516},53.127054777670068]
[19003,{"$f":"VLOOKUP($A591,BasinData!$1:$1048576,2,FALSE)","v":1.3055606632291665},54.665561851097671,{"$f":"VLOOKUP($A591,BasinData!$1:$1048576,3,FALSE)","v":1.100509724091278},{"$f":"VLOOKUP($A591,BasinData!$1:$1048576,4,FALSE)","v":19.312045081004932},{"$f":"VLOOKUP($A591,BasinData!$1:$1048576,5,FALSE)","v":0.843227094427483},141.96858744884096,{"$f":"VLOOKUP($A591,Sheet1!$1:$1048576,9,FALSE)","v":225.17676143155481},3.9754644464451885,{"$f":"VLOOKUP($A591,Sheet1!$1:$1048576,10,FALSE)","v":211.30870398578585},10.96061152314701,{"$f":"VLOOKUP($A591,Sheet1!$1:$1048576,11,FALSE)","v":183.57258909424797},26.423299055396502,{"$f":"VLOOKUP($A591,Sheet1!$1:$1048576,12,FALSE)","v":141.96841675694111},54.665561851097671]
[19004,{"$f":"VLOOKUP($A592,BasinData!$1:$1048576,2,FALSE)","v":1.9807623797648735},55.298867762028202,{"$f":"VLOOKUP($A592,BasinData!$1:$1048576,3,FALSE)","v":1.145378619603534},{"$f":"VLOOKUP($A592,BasinData!$1:$1048576,4,FALSE)","v":16.541158140742667},{"$f":"VLOOKUP($A592,BasinData!$1:$1048576,5,FALSE)","v":0.68872566651799205},145.32423155966063,{"$f":"VLOOKUP($A592,Sheet1!$1:$1048576,9,FALSE)","v":230.49919926458486},4.608750608681901,{"$f":"VLOOKUP($A592,Sheet1!$1:$1048576,10,FALSE)","v":216.3033465652083},11.593979319205944,{"$f":"VLOOKUP($A592,Sheet1!$1:$1048576,11,FALSE)","v":187.91164116645518},27.056590132678672,{"$f":"VLOOKUP($A592,Sheet1!$1:$1048576,12,FALSE)","v":145.32408306832554},55.298867762028202]
[19005,{"$f":"VLOOKUP($A593,BasinData!$1:$1048576,2,FALSE)","v":1.47865066099377},51.179223871028128,{"$f":"VLOOKUP($A593,BasinData!$1:$1048576,3,FALSE)","v":1.2287803012883736},{"$f":"VLOOKUP($A593,BasinData!$1:$1048576,4,FALSE)","v":7.7700004697702827},{"$f":"VLOOKUP($A593,BasinData!$1:$1048576,5,FALSE)","v":1.6937429133299999},195.31873898165284,{"$f":"VLOOKUP($A593,Sheet1!$1:$1048576,9,FALSE)","v":309.79513667677122},0.48928334194596618,{"$f":"VLOOKUP($A593,Sheet1!$1:$1048576,10,FALSE)","v":290.7156511892814},7.4744666638868145,{"$f":"VLOOKUP($A593,Sheet1!$1:$1048576,11,FALSE)","v":252.55668021430176},22.937142060346332,{"$f":"VLOOKUP($A593,Sheet1!$1:$1048576,12,FALSE)","v":195.31822375183231},51.179223871028128]
[19006,{"$f":"VLOOKUP($A594,BasinData!$1:$1048576,2,FALSE)","v":2.2847995124810607},40.24990232892975,{"$f":"VLOOKUP($A594,BasinData!$1:$1048576,3,FALSE)","v":2.8753873830264625},{"$f":"VLOOKUP($A594,BasinData!$1:$1048576,4,FALSE)","v":5.0457162207924142},{"$f":"VLOOKUP($A594,BasinData!$1:$1048576,5,FALSE)","v":4.3601787582},197.48188592442389,{"$f":"VLOOKUP($A594,Sheet1!$1:$1048576,9,FALSE)","v":313.22649055709496},-10.440188638342912,{"$f":"VLOOKUP($A594,Sheet1!$1:$1048576,10,FALSE)","v":293.93567681163319},-3.4549438809003878,{"$f":"VLOOKUP($A594,Sheet1!$1:$1048576,11,FALSE)","v":255.35404932070969},12.007683827483076,{"$f":"VLOOKUP($A594,Sheet1!$1:$1048576,12,FALSE)","v":197.48160808432442},40.24990232892975]
[19007,{"$f":"VLOOKUP($A595,BasinData!$1:$1048576,2,FALSE)","v":1.7663707468939391},32.172354314086547,{"$f":"VLOOKUP($A595,BasinData!$1:$1048576,3,FALSE)","v":1.2526012910158322},{"$f":"VLOOKUP($A595,BasinData!$1:$1048576,4,FALSE)","v":2.1857923497267762},{"$f":"VLOOKUP($A595,BasinData!$1:$1048576,5,FALSE)","v":6.3308772978599999},224.04463846997118,{"$f":"VLOOKUP($A595,Sheet1!$1:$1048576,9,FALSE)","v":355.3582221027296},-18.517867115886105,{"$f":"VLOOKUP($A595,Sheet1!$1:$1048576,10,FALSE)","v":333.47262339966386},-11.532798467357782,{"$f":"VLOOKUP($A595,Sheet1!$1:$1048576,11,FALSE)","v":289.70142599353244},3.9299681592710867,{"$f":"VLOOKUP($A595,Sheet1!$1:$1048576,12,FALSE)","v":224.04462988433525},32.172354314086547]
[19008,{"$f":"VLOOKUP($A596,BasinData!$1:$1048576,2,FALSE)","v":2.1061384770643938},45.163819644798878,{"$f":"VLOOKUP($A596,BasinData!$1:$1048576,3,FALSE)","v":1.6531506819903181},{"$f":"VLOOKUP($A596,BasinData!$1:$1048576,4,FALSE)","v":16.079007508978126},{"$f":"VLOOKUP($A596,BasinData!$1:$1048576,5,FALSE)","v":3.16137823632},145.73514281341818,{"$f":"VLOOKUP($A596,Sheet1!$1:$1048576,9,FALSE)","v":231.15117867728657},-5.526413357625187,{"$f":"VLOOKUP($A596,Sheet1!$1:$1048576,10,FALSE)","v":216.91517224316704},1.458821306716114,{"$f":"VLOOKUP($A596,Sheet1!$1:$1048576,11,FALSE)","v":188.44315937492797},16.921441305918631,{"$f":"VLOOKUP($A596,Sheet1!$1:$1048576,12,FALSE)","v":145.73514007256938},45.163819644798878]
[19009,{"$f":"VLOOKUP($A597,BasinData!$1:$1048576,2,FALSE)","v":0.82019495353977279},38.790940359252382,{"$f":"VLOOKUP($A597,BasinData!$1:$1048576,3,FALSE)","v":5.4563322368815346},{"$f":"VLOOKUP($A597,BasinData!$1:$1048576,4,FALSE)","v":33.257760725497036},{"$f":"VLOOKUP($A597,BasinData!$1:$1048576,5,FALSE)","v":4.7160818032299998},98.824636445568302,{"$f":"VLOOKUP($A597,Sheet1!$1:$1048576,9,FALSE)","v":156.74577691638243},-11.899005208155065,{"$f":"VLOOKUP($A597,Sheet1!$1:$1048576,10,FALSE)","v":147.09220776102882},-4.9137549994189662,{"$f":"VLOOKUP($A597,Sheet1!$1:$1048576,11,FALSE)","v":127.7850694503216},10.54884723175693,{"$f":"VLOOKUP($A597,Sheet1!$1:$1048576,12,FALSE)","v":98.824361984260761},38.790940359252382]
[19010,{"$f":"VLOOKUP($A598,BasinData!$1:$1048576,2,FALSE)","v":0.13738939912367423},28.733225269185631,{"$f":"VLOOKUP($A598,BasinData!$1:$1048576,3,FALSE)","v":5.4731983217942259},{"$f":"VLOOKUP($A598,BasinData!$1:$1048576,4,FALSE)","v":37.657748611812217},{"$f":"VLOOKUP($A598,BasinData!$1:$1048576,5,FALSE)","v":7.1699144079900003},92.161290366725467,{"$f":"VLOOKUP($A598,Sheet1!$1:$1048576,9,FALSE)","v":146.17744409896108},-21.956827706049161,{"$f":"VLOOKUP($A598,Sheet1!$1:$1048576,10,FALSE)","v":137.1747513736895},-14.971774670463033,{"$f":"VLOOKUP($A598,Sheet1!$1:$1048576,11,FALSE)","v":119.16936592314636},0.49085440556748727,{"$f":"VLOOKUP($A598,Sheet1!$1:$1048576,12,FALSE)","v":92.161287747331613},28.733225269185631]
[19011,{"$f":"VLOOKUP($A599,BasinData!$1:$1048576,2,FALSE)","v":1.5683252569886361},53.975776716460693,{"$f":"VLOOKUP($A599,BasinData!$1:$1048576,3,FALSE)","v":1.5891157819435902},{"$f":"VLOOKUP($A599,BasinData!$1:$1048576,4,FALSE)","v":22.339276066990816},{"$f":"VLOOKUP($A599,BasinData!$1:$1048576,5,FALSE)","v":1.01150652866},127.23640826362862,{"$f":"VLOOKUP($A599,Sheet1!$1:$1048576,9,FALSE)","v":201.80996731956148},3.2857035712296758,{"$f":"VLOOKUP($A599,Sheet1!$1:$1048576,10,FALSE)","v":189.38101060962526},10.270543841852701,{"$f":"VLOOKUP($A599,Sheet1!$1:$1048576,11,FALSE)","v":164.52309718975278},25.733531897288028,{"$f":"VLOOKUP($A599,Sheet1!$1:$1048576,12,FALSE)","v":127.23622705994408},53.975776716460693]
[19012,{"$f":"VLOOKUP($A600,BasinData!$1:$1048576,2,FALSE)","v":2.12397507280303},50.6083127973288,{"$f":"VLOOKUP($A600,BasinData!$1:$1048576,3,FALSE)","v":2.198015336909994},{"$f":"VLOOKUP($A600,BasinData!$1:$1048576,4,FALSE)","v":25.218733916623776},{"$f":"VLOOKUP($A600,BasinData!$1:$1048576,5,FALSE)","v":1.8330182913799999},111.73806813701833,{"$f":"VLOOKUP($A600,Sheet1!$1:$1048576,9,FALSE)","v":177.22774180627979},-8.1592888327702909E-2,{"$f":"VLOOKUP($A600,Sheet1!$1:$1048576,10,FALSE)","v":166.31274112535706},6.9036374528576481,{"$f":"VLOOKUP($A600,Sheet1!$1:$1048576,11,FALSE)","v":144.4827397635116},22.366263339099756,{"$f":"VLOOKUP($A600,Sheet1!$1:$1048576,12,FALSE)","v":111.73773772074341},50.6083127973288]
[19013,{"$f":"VLOOKUP($A601,BasinData!$1:$1048576,2,FALSE)","v":2.4762990924053025},49.930522193830548,{"$f":"VLOOKUP($A601,BasinData!$1:$1048576,3,FALSE)","v":1.6735515047119205},{"$f":"VLOOKUP($A601,BasinData!$1:$1048576,4,FALSE)","v":9.3410679756061281},{"$f":"VLOOKUP($A601,BasinData!$1:$1048576,5,FALSE)","v":1.9983662746099999},171.64479527884549,{"$f":"VLOOKUP($A601,Sheet1!$1:$1048576,9,FALSE)","v":272.2456844965136},-0.75933823395689493,{"$f":"VLOOKUP($A601,Sheet1!$1:$1048576,10,FALSE)","v":255.47877316890771},6.2258925518562682,{"$f":"VLOOKUP($A601,Sheet1!$1:$1048576,11,FALSE)","v":221.944950513696},21.688513150311394,{"$f":"VLOOKUP($A601,Sheet1!$1:$1048576,12,FALSE)","v":171.6442165308784},49.930522193830548]
[19014,{"$f":"VLOOKUP($A602,BasinData!$1:$1048576,2,FALSE)","v":1.3654861078087119},52.575074460559946,{"$f":"VLOOKUP($A602,BasinData!$1:$1048576,3,FALSE)","v":1.0529538466346451},{"$f":"VLOOKUP($A602,BasinData!$1:$1048576,4,FALSE)","v":11.702744491689215},{"$f":"VLOOKUP($A602,BasinData!$1:$1048576,5,FALSE)","v":1.35321833729},175.9995836767315,{"$f":"VLOOKUP($A602,Sheet1!$1:$1048576,9,FALSE)","v":279.15320412160264},1.8850603476119037,{"$f":"VLOOKUP($A602,Sheet1!$1:$1048576,10,FALSE)","v":261.96087643060514},8.8701832812751906,{"$f":"VLOOKUP($A602,Sheet1!$1:$1048576,11,FALSE)","v":227.57622104861022},24.332921374156978,{"$f":"VLOOKUP($A602,Sheet1!$1:$1048576,12,FALSE)","v":175.9992379756178},52.575074460559946]
[19015,{"$f":"VLOOKUP($A603,BasinData!$1:$1048576,2,FALSE)","v":0.37043282743114109},52.778757048996006,{"$f":"VLOOKUP($A603,BasinData!$1:$1048576,3,FALSE)","v":1.4091174539737612},{"$f":"VLOOKUP($A603,BasinData!$1:$1048576,4,FALSE)","v":22.992100065832783},{"$f":"VLOOKUP($A603,BasinData!$1:$1048576,5,FALSE)","v":1.30352864151},138.07591507186783,{"$f":"VLOOKUP($A603,Sheet1!$1:$1048576,9,FALSE)","v":219.00243517719335},2.0887335495200894,{"$f":"VLOOKUP($A603,Sheet1!$1:$1048576,10,FALSE)","v":205.51463860132964},9.073944535551103,{"$f":"VLOOKUP($A603,Sheet1!$1:$1048576,11,FALSE)","v":178.53904544960216},24.536026719490359,{"$f":"VLOOKUP($A603,Sheet1!$1:$1048576,12,FALSE)","v":138.07565572201099},52.778757048996006]
[19016,{"$f":"VLOOKUP($A604,BasinData!$1:$1048576,2,FALSE)","v":2.4560723161174245},52.362143307382247,{"$f":"VLOOKUP($A604,BasinData!$1:$1048576,3,FALSE)","v":1.9067298353638287},{"$f":"VLOOKUP($A604,BasinData!$1:$1048576,4,FALSE)","v":19.976993865030675},{"$f":"VLOOKUP($A604,BasinData!$1:$1048576,5,FALSE)","v":1.4051641806599999},126.43731790269297,{"$f":"VLOOKUP($A604,Sheet1!$1:$1048576,9,FALSE)","v":200.54240114857922},1.6721394144595201,{"$f":"VLOOKUP($A604,Sheet1!$1:$1048576,10,FALSE)","v":188.19151057816705},8.657078762707048,{"$f":"VLOOKUP($A604,Sheet1!$1:$1048576,11,FALSE)","v":163.48972943734276},24.12000031803688,{"$f":"VLOOKUP($A604,Sheet1!$1:$1048576,12,FALSE)","v":126.43705772610627},52.362143307382247]
[19017,{"$f":"VLOOKUP($A605,BasinData!$1:$1048576,2,FALSE)","v":1.0026845637583892},51.800744783579383,{"$f":"VLOOKUP($A605,BasinData!$1:$1048576,3,FALSE)","v":1.134779099296128},{"$f":"VLOOKUP($A605,BasinData!$1:$1048576,4,FALSE)","v":11.46189000367705},{"$f":"VLOOKUP($A605,BasinData!$1:$1048576,5,FALSE)","v":1.5421203297399999},182.71325469421419,{"$f":"VLOOKUP($A605,Sheet1!$1:$1048576,9,FALSE)","v":289.80166471551951},1.1107695341263992,{"$f":"VLOOKUP($A605,Sheet1!$1:$1048576,10,FALSE)","v":271.95352573082272},8.0959991365187776,{"$f":"VLOOKUP($A605,Sheet1!$1:$1048576,11,FALSE)","v":236.2572477614292},23.558629783863974,{"$f":"VLOOKUP($A605,Sheet1!$1:$1048576,12,FALSE)","v":182.71283080733889},51.800744783579383]
[19018,{"$f":"VLOOKUP($A606,BasinData!$1:$1048576,2,FALSE)","v":1.8589515546458335},49.359346982516627,{"$f":"VLOOKUP($A606,BasinData!$1:$1048576,3,FALSE)","v":0.93261216835856142},{"$f":"VLOOKUP($A606,BasinData!$1:$1048576,4,FALSE)","v":13.511282333516785},{"$f":"VLOOKUP($A606,BasinData!$1:$1048576,5,FALSE)","v":2.1377044250699999},160.25488474673242,{"$f":"VLOOKUP($A606,Sheet1!$1:$1048576,9,FALSE)","v":254.18005876876532},-1.3304718377037787,{"$f":"VLOOKUP($A606,Sheet1!$1:$1048576,10,FALSE)","v":238.52576285401736},5.6547591100372392,{"$f":"VLOOKUP($A606,Sheet1!$1:$1048576,11,FALSE)","v":207.21717102452143},21.117373358428438,{"$f":"VLOOKUP($A606,Sheet1!$1:$1048576,12,FALSE)","v":160.25428328027755},49.359346982516627]
[19019,{"$f":"VLOOKUP($A607,BasinData!$1:$1048576,2,FALSE)","v":1.6957848385056817},51.534309965207285,{"$f":"VLOOKUP($A607,BasinData!$1:$1048576,3,FALSE)","v":2.7629280613228411},{"$f":"VLOOKUP($A607,BasinData!$1:$1048576,4,FALSE)","v":6.8624216430221052},{"$f":"VLOOKUP($A607,BasinData!$1:$1048576,5,FALSE)","v":1.60711829784},196.88550263793232,{"$f":"VLOOKUP($A607,Sheet1!$1:$1048576,9,FALSE)","v":312.2802390573388},0.84434920188411255,{"$f":"VLOOKUP($A607,Sheet1!$1:$1048576,10,FALSE)","v":293.04770250741598},7.8293343813059408,{"$f":"VLOOKUP($A607,Sheet1!$1:$1048576,11,FALSE)","v":254.58262940757027},23.292208918516451,{"$f":"VLOOKUP($A607,Sheet1!$1:$1048576,12,FALSE)","v":196.88501975780173},51.534309965207285]
[19020,{"$f":"VLOOKUP($A608,BasinData!$1:$1048576,2,FALSE)","v":0.71899140067045619},50.620264101177064,{"$f":"VLOOKUP($A608,BasinData!$1:$1048576,3,FALSE)","v":1.0180807266368472},{"$f":"VLOOKUP($A608,BasinData!$1:$1048576,4,FALSE)","v":11.398822172302834},{"$f":"VLOOKUP($A608,BasinData!$1:$1048576,5,FALSE)","v":1.83010274427},187.46113161766704,{"$f":"VLOOKUP($A608,Sheet1!$1:$1048576,9,FALSE)","v":297.33208939562746},-6.9642343937882739E-2,{"$f":"VLOOKUP($A608,Sheet1!$1:$1048576,10,FALSE)","v":279.02017092768898},6.9155877627321001,{"$f":"VLOOKUP($A608,Sheet1!$1:$1048576,11,FALSE)","v":242.39633399181196},22.378213948829146,{"$f":"VLOOKUP($A608,Sheet1!$1:$1048576,12,FALSE)","v":187.46057858799645},50.620264101177064]
[19021,{"$f":"VLOOKUP($A609,BasinData!$1:$1048576,2,FALSE)","v":0.78520784095648544},52.281005763093958,{"$f":"VLOOKUP($A609,BasinData!$1:$1048576,3,FALSE)","v":1.3738717722887031},{"$f":"VLOOKUP($A609,BasinData!$1:$1048576,4,FALSE)","v":23.862270307401683},{"$f":"VLOOKUP($A609,BasinData!$1:$1048576,5,FALSE)","v":1.42495815302},130.03645548147855,{"$f":"VLOOKUP($A609,Sheet1!$1:$1048576,9,FALSE)","v":206.25099061143143},1.5910058562097029,{"$f":"VLOOKUP($A609,Sheet1!$1:$1048576,10,FALSE)","v":193.54852270194644},8.5758472311868026,{"$f":"VLOOKUP($A609,Sheet1!$1:$1048576,11,FALSE)","v":168.14358688297645},24.03886669713766,{"$f":"VLOOKUP($A609,Sheet1!$1:$1048576,12,FALSE)","v":130.03618315452144},52.281005763093958]
[19022,{"$f":"VLOOKUP($A610,BasinData!$1:$1048576,2,FALSE)","v":1.5284210153087123},50.168780465597287,{"$f":"VLOOKUP($A610,BasinData!$1:$1048576,3,FALSE)","v":1.8384310581640244},{"$f":"VLOOKUP($A610,BasinData!$1:$1048576,4,FALSE)","v":20.978160565979699},{"$f":"VLOOKUP($A610,BasinData!$1:$1048576,5,FALSE)","v":1.94024295236},132.78573711039951,{"$f":"VLOOKUP($A610,Sheet1!$1:$1048576,9,FALSE)","v":210.61139236750742},-0.52109636805726867,{"$f":"VLOOKUP($A610,Sheet1!$1:$1048576,10,FALSE)","v":197.64037853145587},6.4641244276381613,{"$f":"VLOOKUP($A610,Sheet1!$1:$1048576,11,FALSE)","v":171.69835085935276},21.926756991874143,{"$f":"VLOOKUP($A610,Sheet1!$1:$1048576,12,FALSE)","v":132.78530935119809},50.168780465597287]
[19023,{"$f":"VLOOKUP($A611,BasinData!$1:$1048576,2,FALSE)","v":1.5946447577727274},50.820479958109424,{"$f":"VLOOKUP($A611,BasinData!$1:$1048576,3,FALSE)","v":2.2589243694821728},{"$f":"VLOOKUP($A611,BasinData!$1:$1048576,4,FALSE)","v":15.106488360574541},{"$f":"VLOOKUP($A611,BasinData!$1:$1048576,5,FALSE)","v":1.78125959376},156.47010607832118,{"$f":"VLOOKUP($A611,Sheet1!$1:$1048576,9,FALSE)","v":248.17725416954823},0.13056098333870569,{"$f":"VLOOKUP($A611,Sheet1!$1:$1048576,10,FALSE)","v":232.89265554722255},7.1157841296254567,{"$f":"VLOOKUP($A611,Sheet1!$1:$1048576,11,FALSE)","v":202.32345830257123},22.578418281554743,{"$f":"VLOOKUP($A611,Sheet1!$1:$1048576,12,FALSE)","v":156.46966243559427},50.820479958109424]
[19024,{"$f":"VLOOKUP($A612,BasinData!$1:$1048576,2,FALSE)","v":2.0802039870190079},51.256577892947575,{"$f":"VLOOKUP($A612,BasinData!$1:$1048576,3,FALSE)","v":1.4740012834997409},{"$f":"VLOOKUP($A612,BasinData!$1:$1048576,4,FALSE)","v":22.254865956665444},{"$f":"VLOOKUP($A612,BasinData!$1:$1048576,5,FALSE)","v":1.6748721254600001},122.17930145197954,{"$f":"VLOOKUP($A612,Sheet1!$1:$1048576,9,FALSE)","v":193.78865105123262},0.56663286396440382,{"$f":"VLOOKUP($A612,Sheet1!$1:$1048576,10,FALSE)","v":181.85370657458662},7.551862720608475,{"$f":"VLOOKUP($A612,Sheet1!$1:$1048576,11,FALSE)","v":157.98381762129463},23.014491831900653,{"$f":"VLOOKUP($A612,Sheet1!$1:$1048576,12,FALSE)","v":122.17898419135665},51.256577892947575]
[19025,{"$f":"VLOOKUP($A613,BasinData!$1:$1048576,2,FALSE)","v":2.9854368932038837},51.183014184865741,{"$f":"VLOOKUP($A613,BasinData!$1:$1048576,3,FALSE)","v":1.470028352365613},{"$f":"VLOOKUP($A613,BasinData!$1:$1048576,4,FALSE)","v":20.511598347632663},{"$f":"VLOOKUP($A613,BasinData!$1:$1048576,5,FALSE)","v":1.69281825313},119.08417057051375,{"$f":"VLOOKUP($A613,Sheet1!$1:$1048576,9,FALSE)","v":188.87945501381137},0.49307343408320775,{"$f":"VLOOKUP($A613,Sheet1!$1:$1048576,10,FALSE)","v":177.24685529168923},7.4782627243563473,{"$f":"VLOOKUP($A613,Sheet1!$1:$1048576,11,FALSE)","v":153.98165584744496},22.940932165175049,{"$f":"VLOOKUP($A613,Sheet1!$1:$1048576,12,FALSE)","v":119.08385668107852},51.183014184865741]
[19026,{"$f":"VLOOKUP($A614,BasinData!$1:$1048576,2,FALSE)","v":0.52373865158505728},50.107662860197308,{"$f":"VLOOKUP($A614,BasinData!$1:$1048576,3,FALSE)","v":1.2989966166472735},{"$f":"VLOOKUP($A614,BasinData!$1:$1048576,4,FALSE)","v":11.499321573948439},{"$f":"VLOOKUP($A614,BasinData!$1:$1048576,5,FALSE)","v":1.95515266069},190.00846684471364,{"$f":"VLOOKUP($A614,Sheet1!$1:$1048576,9,FALSE)","v":301.37232439571682},-0.58220981719561771,{"$f":"VLOOKUP($A614,Sheet1!$1:$1048576,10,FALSE)","v":282.81157824805047},6.4030205718375841,{"$f":"VLOOKUP($A614,Sheet1!$1:$1048576,11,FALSE)","v":245.69008595271777},21.865643066494222,{"$f":"VLOOKUP($A614,Sheet1!$1:$1048576,12,FALSE)","v":190.00784750971869},50.107662860197308]
[19027,{"$f":"VLOOKUP($A615,BasinData!$1:$1048576,2,FALSE)","v":0.74155715698742397},50.597545233243856,{"$f":"VLOOKUP($A615,BasinData!$1:$1048576,3,FALSE)","v":1.31187010789273},{"$f":"VLOOKUP($A615,BasinData!$1:$1048576,4,FALSE)","v":14.707060457167273},{"$f":"VLOOKUP($A615,BasinData!$1:$1048576,5,FALSE)","v":1.83564506227},170.04581983169419,{"$f":"VLOOKUP($A615,Sheet1!$1:$1048576,9,FALSE)","v":269.70966086674275},-9.2359767055230288E-2,{"$f":"VLOOKUP($A615,Sheet1!$1:$1048576,10,FALSE)","v":253.09893671030812},6.8928706982644208,{"$f":"VLOOKUP($A615,Sheet1!$1:$1048576,11,FALSE)","v":219.87748839743881},22.355496400970441,{"$f":"VLOOKUP($A615,Sheet1!$1:$1048576,12,FALSE)","v":170.04531592813481},50.597545233243856]
[19028,{"$f":"VLOOKUP($A616,BasinData!$1:$1048576,2,FALSE)","v":2.1718595226704545},49.606374421191695,{"$f":"VLOOKUP($A616,BasinData!$1:$1048576,3,FALSE)","v":1.2820324964504957},{"$f":"VLOOKUP($A616,BasinData!$1:$1048576,4,FALSE)","v":9.5221280602636522},{"$f":"VLOOKUP($A616,BasinData!$1:$1048576,5,FALSE)","v":2.07744219876},175.17188605571883,{"$f":"VLOOKUP($A616,Sheet1!$1:$1048576,9,FALSE)","v":277.83994148975518},-1.0834627950914955,{"$f":"VLOOKUP($A616,Sheet1!$1:$1048576,10,FALSE)","v":260.72849426574754},5.9017666112233131,{"$f":"VLOOKUP($A616,Sheet1!$1:$1048576,11,FALSE)","v":226.50559981773227},21.364385348980672,{"$f":"VLOOKUP($A616,Sheet1!$1:$1048576,12,FALSE)","v":175.17125814570932},49.606374421191695]
[19029,{"$f":"VLOOKUP($A617,BasinData!$1:$1048576,2,FALSE)","v":1.370552321403409},49.010639150596496,{"$f":"VLOOKUP($A617,BasinData!$1:$1048576,3,FALSE)","v":1.7012247431759486},{"$f":"VLOOKUP($A617,BasinData!$1:$1048576,4,FALSE)","v":24.762267021681247},{"$f":"VLOOKUP($A617,BasinData!$1:$1048576,5,FALSE)","v":2.22277127086},120.61913098176717,{"$f":"VLOOKUP($A617,Sheet1!$1:$1048576,9,FALSE)","v":191.31379520185538},-1.6791526317706038,{"$f":"VLOOKUP($A617,Sheet1!$1:$1048576,10,FALSE)","v":179.53127073014667},5.3057958702545358,{"$f":"VLOOKUP($A617,Sheet1!$1:$1048576,11,FALSE)","v":155.96622178672928},20.768687598108862,{"$f":"VLOOKUP($A617,Sheet1!$1:$1048576,12,FALSE)","v":120.61864837160317},49.010639150596496]
[19030,{"$f":"VLOOKUP($A618,BasinData!$1:$1048576,2,FALSE)","v":0.66046663827651508},47.455659702004318,{"$f":"VLOOKUP($A618,BasinData!$1:$1048576,3,FALSE)","v":2.4057134398453117},{"$f":"VLOOKUP($A618,BasinData!$1:$1048576,4,FALSE)","v":16.342335186656076},{"$f":"VLOOKUP($A618,BasinData!$1:$1048576,5,FALSE)","v":2.6021025837399998},163.30545200068187,{"$f":"VLOOKUP($A618,Sheet1!$1:$1048576,9,FALSE)","v":259.01817013040329},-3.2339952985233915,{"$f":"VLOOKUP($A618,Sheet1!$1:$1048576,10,FALSE)","v":243.06590738344022},3.7508141151188821,{"$f":"VLOOKUP($A618,Sheet1!$1:$1048576,11,FALSE)","v":211.16138188951402},19.213866520641094,{"$f":"VLOOKUP($A618,Sheet1!$1:$1048576,12,FALSE)","v":163.30459364862469},47.455659702004318]
[19031,{"$f":"VLOOKUP($A619,BasinData!$1:$1048576,2,FALSE)","v":1.1176103571985652},53.903803197859411,{"$f":"VLOOKUP($A619,BasinData!$1:$1048576,3,FALSE)","v":1.1372505355221798},{"$f":"VLOOKUP($A619,BasinData!$1:$1048576,4,FALSE)","v":9.0805219796740637},{"$f":"VLOOKUP($A619,BasinData!$1:$1048576,5,FALSE)","v":1.0290650883500001},193.8500472547866,{"$f":"VLOOKUP($A619,Sheet1!$1:$1048576,9,FALSE)","v":307.46600966891344},3.2137327580666928,{"$f":"VLOOKUP($A619,Sheet1!$1:$1048576,10,FALSE)","v":288.52996912191446},10.198962254059564,{"$f":"VLOOKUP($A619,Sheet1!$1:$1048576,11,FALSE)","v":250.65788802791644},25.661560380353812,{"$f":"VLOOKUP($A619,Sheet1!$1:$1048576,12,FALSE)","v":193.84976638691944},53.903803197859411]
[19032,{"$f":"VLOOKUP($A620,BasinData!$1:$1048576,2,FALSE)","v":2.8510635132765154},52.671094145690475,{"$f":"VLOOKUP($A620,BasinData!$1:$1048576,3,FALSE)","v":1.1878698001463466},{"$f":"VLOOKUP($A620,BasinData!$1:$1048576,4,FALSE)","v":9.7108843537414966},{"$f":"VLOOKUP($A620,BasinData!$1:$1048576,5,FALSE)","v":1.3297937263499999},164.55713651607468,{"$f":"VLOOKUP($A620,Sheet1!$1:$1048576,9,FALSE)","v":261.00433222643846},1.9810755365893389,{"$f":"VLOOKUP($A620,Sheet1!$1:$1048576,10,FALSE)","v":244.92974686559054},8.9662497284878171,{"$f":"VLOOKUP($A620,Sheet1!$1:$1048576,11,FALSE)","v":212.78057614389473},24.428936601307743,{"$f":"VLOOKUP($A620,Sheet1!$1:$1048576,12,FALSE)","v":164.556820061351},52.671094145690475]
[19033,{"$f":"VLOOKUP($A621,BasinData!$1:$1048576,2,FALSE)","v":0.48336218503558376},50.729444436325238,{"$f":"VLOOKUP($A621,BasinData!$1:$1048576,3,FALSE)","v":1.2928044189369881},{"$f":"VLOOKUP($A621,BasinData!$1:$1048576,4,FALSE)","v":14.204392347076258},{"$f":"VLOOKUP($A621,BasinData!$1:$1048576,5,FALSE)","v":1.8034679442099999},176.31696960932911,{"$f":"VLOOKUP($A621,Sheet1!$1:$1048576,9,FALSE)","v":279.65635233614063},3.9531113572765633E-2,{"$f":"VLOOKUP($A621,Sheet1!$1:$1048576,10,FALSE)","v":262.43303704101123},7.0247613658311101,{"$f":"VLOOKUP($A621,Sheet1!$1:$1048576,11,FALSE)","v":227.98640645075244},22.487387975087632,{"$f":"VLOOKUP($A621,Sheet1!$1:$1048576,12,FALSE)","v":176.31646056536425},50.729444436325238]
[19034,{"$f":"VLOOKUP($A622,BasinData!$1:$1048576,2,FALSE)","v":1.6764676062050086},48.723214730202201,{"$f":"VLOOKUP($A622,BasinData!$1:$1048576,3,FALSE)","v":1.7943808675456445},{"$f":"VLOOKUP($A622,BasinData!$1:$1048576,4,FALSE)","v":16.029082013997417},{"$f":"VLOOKUP($A622,BasinData!$1:$1048576,5,FALSE)","v":2.29288786529},151.30993448136471,{"$f":"VLOOKUP($A622,Sheet1!$1:$1048576,9,FALSE)","v":239.99237441497667},-1.9665537999284655,{"$f":"VLOOKUP($A622,Sheet1!$1:$1048576,10,FALSE)","v":225.21186148027471},5.0186155052803159,{"$f":"VLOOKUP($A622,Sheet1!$1:$1048576,11,FALSE)","v":195.65083561087084},20.481281565319239,{"$f":"VLOOKUP($A622,Sheet1!$1:$1048576,12,FALSE)","v":151.30929680676508},48.723214730202201]
[19035,{"$f":"VLOOKUP($A623,BasinData!$1:$1048576,2,FALSE)","v":2.1602884331439394},50.441170786615046,{"$f":"VLOOKUP($A623,BasinData!$1:$1048576,3,FALSE)","v":0.6978918337143426},{"$f":"VLOOKUP($A623,BasinData!$1:$1048576,4,FALSE)","v":8.1671521398162668},{"$f":"VLOOKUP($A623,BasinData!$1:$1048576,5,FALSE)","v":1.87379292202},182.3445345730064,{"$f":"VLOOKUP($A623,Sheet1!$1:$1048576,9,FALSE)","v":289.21662461423097},-0.24872413999997781,{"$f":"VLOOKUP($A623,Sheet1!$1:$1048576,10,FALSE)","v":271.40451674429562},6.736474294902191,{"$f":"VLOOKUP($A623,Sheet1!$1:$1048576,11,FALSE)","v":235.78030100442493},22.199131106283996,{"$f":"VLOOKUP($A623,Sheet1!$1:$1048576,12,FALSE)","v":182.34397739461895},50.441170786615046]
[19036,{"$f":"VLOOKUP($A624,BasinData!$1:$1048576,2,FALSE)","v":2.0268209455681818},49.894713208677452,{"$f":"VLOOKUP($A624,BasinData!$1:$1048576,3,FALSE)","v":1.5256953558601778},{"$f":"VLOOKUP($A624,BasinData!$1:$1048576,4,FALSE)","v":8.0993269900208862},{"$f":"VLOOKUP($A624,BasinData!$1:$1048576,5,FALSE)","v":2.0071018973900001},184.76221972489836,{"$f":"VLOOKUP($A624,Sheet1!$1:$1048576,9,FALSE)","v":293.0512150846007},-0.79514470581718733,{"$f":"VLOOKUP($A624,Sheet1!$1:$1048576,10,FALSE)","v":275.00294465248083},6.1897290606884594,{"$f":"VLOOKUP($A624,Sheet1!$1:$1048576,11,FALSE)","v":238.90640378824116},21.65270634687062,{"$f":"VLOOKUP($A624,Sheet1!$1:$1048576,12,FALSE)","v":184.76159249188163},49.894713208677452]
[19037,{"$f":"VLOOKUP($A625,BasinData!$1:$1048576,2,FALSE)","v":1.8377951096121417},49.61377824933259,{"$f":"VLOOKUP($A625,BasinData!$1:$1048576,3,FALSE)","v":3.508590486459009},{"$f":"VLOOKUP($A625,BasinData!$1:$1048576,4,FALSE)","v":19.821649302489845},{"$f":"VLOOKUP($A625,BasinData!$1:$1048576,5,FALSE)","v":2.0756360360500001},133.77682678229135,{"$f":"VLOOKUP($A625,Sheet1!$1:$1048576,9,FALSE)","v":212.18328321629446},-1.0760595087834413,{"$f":"VLOOKUP($A625,Sheet1!$1:$1048576,10,FALSE)","v":199.11546066671994},5.9091686806591053,{"$f":"VLOOKUP($A625,Sheet1!$1:$1048576,11,FALSE)","v":172.97981556757088},21.371788716951432,{"$f":"VLOOKUP($A625,Sheet1!$1:$1048576,12,FALSE)","v":133.77634791884731},49.61377824933259]
[19038,{"$f":"VLOOKUP($A626,BasinData!$1:$1048576,2,FALSE)","v":0.3194719471947195},50.573297609695075,{"$f":"VLOOKUP($A626,BasinData!$1:$1048576,3,FALSE)","v":1.3103636315962273},{"$f":"VLOOKUP($A626,BasinData!$1:$1048576,4,FALSE)","v":14.485119831445878},{"$f":"VLOOKUP($A626,BasinData!$1:$1048576,5,FALSE)","v":1.8415603222900001},177.31666201085406,{"$f":"VLOOKUP($A626,Sheet1!$1:$1048576,9,FALSE)","v":281.24193906309085},-0.11660584334252529,{"$f":"VLOOKUP($A626,Sheet1!$1:$1048576,10,FALSE)","v":263.92097156053649},6.868538218974515,{"$f":"VLOOKUP($A626,Sheet1!$1:$1048576,11,FALSE)","v":229.27903655542781},22.331250188123697,{"$f":"VLOOKUP($A626,Sheet1!$1:$1048576,12,FALSE)","v":177.31613404776476},50.573297609695075]
[19039,{"$f":"VLOOKUP($A627,BasinData!$1:$1048576,2,FALSE)","v":0.76344463971880483},53.822916921730943,{"$f":"VLOOKUP($A627,BasinData!$1:$1048576,3,FALSE)","v":1.0445954682972987},{"$f":"VLOOKUP($A627,BasinData!$1:$1048576,4,FALSE)","v":10.139292589936206},{"$f":"VLOOKUP($A627,BasinData!$1:$1048576,5,FALSE)","v":1.04879798203},193.68563095350763,{"$f":"VLOOKUP($A627,Sheet1!$1:$1048576,9,FALSE)","v":307.20521993543701},3.1328495629292146,{"$f":"VLOOKUP($A627,Sheet1!$1:$1048576,10,FALSE)","v":288.28524075721396},10.118079055621058,{"$f":"VLOOKUP($A627,Sheet1!$1:$1048576,11,FALSE)","v":250.44528240076775},25.580676368393778,{"$f":"VLOOKUP($A627,Sheet1!$1:$1048576,12,FALSE)","v":193.68534486609846},53.822916921730943]
[19040,{"$f":"VLOOKUP($A628,BasinData!$1:$1048576,2,FALSE)","v":2.8747623944886365},52.612058499856161,{"$f":"VLOOKUP($A628,BasinData!$1:$1048576,3,FALSE)","v":1.0178640375020578},{"$f":"VLOOKUP($A628,BasinData!$1:$1048576,4,FALSE)","v":14.23788893265065},{"$f":"VLOOKUP($A628,BasinData!$1:$1048576,5,FALSE)","v":1.3441958484500001},144.08980214563718,{"$f":"VLOOKUP($A628,Sheet1!$1:$1048576,9,FALSE)","v":228.54105532766567},1.9220426469100891,{"$f":"VLOOKUP($A628,Sheet1!$1:$1048576,10,FALSE)","v":214.46579967583364},8.9071874877111519,{"$f":"VLOOKUP($A628,Sheet1!$1:$1048576,11,FALSE)","v":186.31528837216956},24.369903689322808,{"$f":"VLOOKUP($A628,Sheet1!$1:$1048576,12,FALSE)","v":144.08952141667339},52.612058499856161]
[19041,{"$f":"VLOOKUP($A629,BasinData!$1:$1048576,2,FALSE)","v":0.91078066914498135},51.158318627111413,{"$f":"VLOOKUP($A629,BasinData!$1:$1048576,3,FALSE)","v":1.1129807328259234},{"$f":"VLOOKUP($A629,BasinData!$1:$1048576,4,FALSE)","v":9.7952716766597288},{"$f":"VLOOKUP($A629,BasinData!$1:$1048576,5,FALSE)","v":1.6988428195},193.21499558428988,{"$f":"VLOOKUP($A629,Sheet1!$1:$1048576,9,FALSE)","v":306.45838492277522},0.46837932304511215,{"$f":"VLOOKUP($A629,Sheet1!$1:$1048576,10,FALSE)","v":287.58440139167067},7.4535216129207083,{"$f":"VLOOKUP($A629,Sheet1!$1:$1048576,11,FALSE)","v":249.83643432946161},22.916237970558424,{"$f":"VLOOKUP($A629,Sheet1!$1:$1048576,12,FALSE)","v":193.214483736148},51.158318627111413]
[19042,{"$f":"VLOOKUP($A630,BasinData!$1:$1048576,2,FALSE)","v":2.6745797510586424},45.558004669266388,{"$f":"VLOOKUP($A630,BasinData!$1:$1048576,3,FALSE)","v":1.5818485097705355},{"$f":"VLOOKUP($A630,BasinData!$1:$1048576,4,FALSE)","v":4.2439876841141713},{"$f":"VLOOKUP($A630,BasinData!$1:$1048576,5,FALSE)","v":3.0652100452500002},195.6004150756323,{"$f":"VLOOKUP($A630,Sheet1!$1:$1048576,9,FALSE)","v":310.24271896701947},-5.1322289466191551,{"$f":"VLOOKUP($A630,Sheet1!$1:$1048576,10,FALSE)","v":291.13566803772557},1.8530050917652501,{"$f":"VLOOKUP($A630,Sheet1!$1:$1048576,11,FALSE)","v":252.92156617913781},17.31563492632565,{"$f":"VLOOKUP($A630,Sheet1!$1:$1048576,12,FALSE)","v":195.6004133912561},45.558004669266388]
[19043,{"$f":"VLOOKUP($A631,BasinData!$1:$1048576,2,FALSE)","v":0.51775347644120429},50.267641242433619,{"$f":"VLOOKUP($A631,BasinData!$1:$1048576,3,FALSE)","v":1.4295696741407073},{"$f":"VLOOKUP($A631,BasinData!$1:$1048576,4,FALSE)","v":15.032733024074874},{"$f":"VLOOKUP($A631,BasinData!$1:$1048576,5,FALSE)","v":1.91612573646},171.64968732322322,{"$f":"VLOOKUP($A631,Sheet1!$1:$1048576,9,FALSE)","v":272.25350128332889},-0.42224223878851963,{"$f":"VLOOKUP($A631,Sheet1!$1:$1048576,10,FALSE)","v":255.48610853993256},6.5627568239440484,{"$f":"VLOOKUP($A631,Sheet1!$1:$1048576,11,FALSE)","v":221.9513230531399},22.025611846473158,{"$f":"VLOOKUP($A631,Sheet1!$1:$1048576,12,FALSE)","v":171.64914482295097},50.267641242433619]
[19044,{"$f":"VLOOKUP($A632,BasinData!$1:$1048576,2,FALSE)","v":0.74280308149749963},53.310016418348553,{"$f":"VLOOKUP($A632,BasinData!$1:$1048576,3,FALSE)","v":1.0010254643121572},{"$f":"VLOOKUP($A632,BasinData!$1:$1048576,4,FALSE)","v":10.947160168164208},{"$f":"VLOOKUP($A632,BasinData!$1:$1048576,5,FALSE)","v":1.17392415881},189.54436093372536,{"$f":"VLOOKUP($A632,Sheet1!$1:$1048576,9,FALSE)","v":300.63668555881605},2.6199696326958448,{"$f":"VLOOKUP($A632,Sheet1!$1:$1048576,10,FALSE)","v":282.12124551460647},9.6051990369422953,{"$f":"VLOOKUP($A632,Sheet1!$1:$1048576,11,FALSE)","v":245.09036542618733},25.067668933089156,{"$f":"VLOOKUP($A632,Sheet1!$1:$1048576,12,FALSE)","v":189.54404529355855},53.310016418348553]
[19045,{"$f":"VLOOKUP($A633,BasinData!$1:$1048576,2,FALSE)","v":0.56323930846223835},49.73604414551675,{"$f":"VLOOKUP($A633,BasinData!$1:$1048576,3,FALSE)","v":1.1096357705803266},{"$f":"VLOOKUP($A633,BasinData!$1:$1048576,4,FALSE)","v":9.0626965820926824},{"$f":"VLOOKUP($A633,BasinData!$1:$1048576,5,FALSE)","v":2.0458092703399999},203.19564418127749,{"$f":"VLOOKUP($A633,Sheet1!$1:$1048576,9,FALSE)","v":322.28842214039889},-0.95380248106515231,{"$f":"VLOOKUP($A633,Sheet1!$1:$1048576,10,FALSE)","v":302.43950734148945},6.0313514416095098,{"$f":"VLOOKUP($A633,Sheet1!$1:$1048576,11,FALSE)","v":262.74167774367061},21.494047038921703,{"$f":"VLOOKUP($A633,Sheet1!$1:$1048576,12,FALSE)","v":203.19493334694229},49.73604414551675]
[19046,{"$f":"VLOOKUP($A634,BasinData!$1:$1048576,2,FALSE)","v":5.8229352901893936},53.822930218176978,{"$f":"VLOOKUP($A634,BasinData!$1:$1048576,3,FALSE)","v":0.88694760439541398},{"$f":"VLOOKUP($A634,BasinData!$1:$1048576,4,FALSE)","v":1.3723696248856359},{"$f":"VLOOKUP($A634,BasinData!$1:$1048576,5,FALSE)","v":1.04879473825},163.13910548467737,{"$f":"VLOOKUP($A634,Sheet1!$1:$1048576,9,FALSE)","v":258.75530639004762},3.1328628588651437,{"$f":"VLOOKUP($A634,Sheet1!$1:$1048576,10,FALSE)","v":242.81923274460854},10.118092351557801,{"$f":"VLOOKUP($A634,Sheet1!$1:$1048576,11,FALSE)","v":210.94708545373038},25.580689664465318,{"$f":"VLOOKUP($A634,Sheet1!$1:$1048576,12,FALSE)","v":163.13886451741308},53.822930218176978]
[19047,{"$f":"VLOOKUP($A635,BasinData!$1:$1048576,2,FALSE)","v":0.55046197583511025},49.998988759872965,{"$f":"VLOOKUP($A635,BasinData!$1:$1048576,3,FALSE)","v":1.0697292138286414},{"$f":"VLOOKUP($A635,BasinData!$1:$1048576,4,FALSE)","v":8.478812294837363},{"$f":"VLOOKUP($A635,BasinData!$1:$1048576,5,FALSE)","v":1.9816638073699999},206.87539613455485,{"$f":"VLOOKUP($A635,Sheet1!$1:$1048576,9,FALSE)","v":328.12492914311611},-0.6908764385258257,{"$f":"VLOOKUP($A635,Sheet1!$1:$1048576,10,FALSE)","v":307.9165588929348},6.2943542308947169,{"$f":"VLOOKUP($A635,Sheet1!$1:$1048576,11,FALSE)","v":267.49981839257225},21.75697554674289,{"$f":"VLOOKUP($A635,Sheet1!$1:$1048576,12,FALSE)","v":206.87470764202837},49.998988759872965]
[19048,{"$f":"VLOOKUP($A636,BasinData!$1:$1048576,2,FALSE)","v":4.0663474909090906},50.16631276400372,{"$f":"VLOOKUP($A636,BasinData!$1:$1048576,3,FALSE)","v":1.0585487934658646},{"$f":"VLOOKUP($A636,BasinData!$1:$1048576,4,FALSE)","v":8.4841001413718438},{"$f":"VLOOKUP($A636,BasinData!$1:$1048576,5,FALSE)","v":1.9408449511000001},153.95022776596312,{"$f":"VLOOKUP($A636,Sheet1!$1:$1048576,9,FALSE)","v":244.18038022012988},-0.52356390252862473,{"$f":"VLOOKUP($A636,Sheet1!$1:$1048576,10,FALSE)","v":229.1419387819721},6.4616585803392521,{"$f":"VLOOKUP($A636,Sheet1!$1:$1048576,11,FALSE)","v":199.06505590565649},21.924289438585223,{"$f":"VLOOKUP($A636,Sheet1!$1:$1048576,12,FALSE)","v":153.94973159118314},50.16631276400372]
[19049,{"$f":"VLOOKUP($A637,BasinData!$1:$1048576,2,FALSE)","v":0.3596417576266443},50.82051703898901,{"$f":"VLOOKUP($A637,BasinData!$1:$1048576,3,FALSE)","v":1.2756581973312242},{"$f":"VLOOKUP($A637,BasinData!$1:$1048576,4,FALSE)","v":14.190271585927702},{"$f":"VLOOKUP($A637,BasinData!$1:$1048576,5,FALSE)","v":1.78125054778},178.23161156353351,{"$f":"VLOOKUP($A637,Sheet1!$1:$1048576,9,FALSE)","v":282.69318065673889},0.13059806193124263,{"$f":"VLOOKUP($A637,Sheet1!$1:$1048576,10,FALSE)","v":265.28283491790273},7.1158212987181715,{"$f":"VLOOKUP($A637,Sheet1!$1:$1048576,11,FALSE)","v":230.46214344023042},22.578455360319303,{"$f":"VLOOKUP($A637,Sheet1!$1:$1048576,12,FALSE)","v":178.23110622372195},50.82051703898901]
[19050,{"$f":"VLOOKUP($A638,BasinData!$1:$1048576,2,FALSE)","v":0.51594512738286125},50.030067789020904,{"$f":"VLOOKUP($A638,BasinData!$1:$1048576,3,FALSE)","v":1.6668065018118439},{"$f":"VLOOKUP($A638,BasinData!$1:$1048576,4,FALSE)","v":8.7418262034192082},{"$f":"VLOOKUP($A638,BasinData!$1:$1048576,5,FALSE)","v":1.97408205251},205.90501177994469,{"$f":"VLOOKUP($A638,Sheet1!$1:$1048576,9,FALSE)","v":326.58580959599277},-0.65979955988858729,{"$f":"VLOOKUP($A638,Sheet1!$1:$1048576,10,FALSE)","v":306.47222975917259},6.3254310430174572,{"$f":"VLOOKUP($A638,Sheet1!$1:$1048576,11,FALSE)","v":266.24507008553223},21.788052689167618,{"$f":"VLOOKUP($A638,Sheet1!$1:$1048576,12,FALSE)","v":205.9043305750717},50.030067789020904]
[19051,{"$f":"VLOOKUP($A639,BasinData!$1:$1048576,2,FALSE)","v":2.630976594185606},49.090223302828655,{"$f":"VLOOKUP($A639,BasinData!$1:$1048576,3,FALSE)","v":2.0093178827885225},{"$f":"VLOOKUP($A639,BasinData!$1:$1048576,4,FALSE)","v":5.4027504911591357},{"$f":"VLOOKUP($A639,BasinData!$1:$1048576,5,FALSE)","v":2.2033568426699999},189.8534074448547,{"$f":"VLOOKUP($A639,Sheet1!$1:$1048576,9,FALSE)","v":301.12617880155949},-1.5995747622418608,{"$f":"VLOOKUP($A639,Sheet1!$1:$1048576,10,FALSE)","v":282.58059212780194},5.3852791167973324,{"$f":"VLOOKUP($A639,Sheet1!$1:$1048576,11,FALSE)","v":245.48941878028694},20.848266684608337,{"$f":"VLOOKUP($A639,Sheet1!$1:$1048576,12,FALSE)","v":189.85265875901433},49.090223302828655]
[19052,{"$f":"VLOOKUP($A640,BasinData!$1:$1048576,2,FALSE)","v":0.35864485981308408},50.55567512542131,{"$f":"VLOOKUP($A640,BasinData!$1:$1048576,3,FALSE)","v":1.3369070800944174},{"$f":"VLOOKUP($A640,BasinData!$1:$1048576,4,FALSE)","v":12.673652015808168},{"$f":"VLOOKUP($A640,BasinData!$1:$1048576,5,FALSE)","v":1.8458593644700001},{"$f":"EXP(6.1523-(0.084*B640)-(0.0091*C640)-(0.0289*E640)-(0.0373*F640))","v":186.23290924062243},{"$f":"VLOOKUP($A640,Sheet1!$1:$1048576,9,FALSE)","v":295.38399480896209},-0.13422719971979413,{"$f":"VLOOKUP($A640,Sheet1!$1:$1048576,10,FALSE)","v":277.19205447493897},6.851002244809159,{"$f":"VLOOKUP($A640,Sheet1!$1:$1048576,11,FALSE)","v":240.80817380689274},22.31362873244985,{"$f":"VLOOKUP($A640,Sheet1!$1:$1048576,12,FALSE)","v":186.23235280482334},50.55567512542131]
[19053,{"$f":"VLOOKUP($A641,BasinData!$1:$1048576,2,FALSE)","v":3.2524053363636369},54.279885671631412,{"$f":"VLOOKUP($A641,BasinData!$1:$1048576,3,FALSE)","v":1.4078537442775982},{"$f":"VLOOKUP($A641,BasinData!$1:$1048576,4,FALSE)","v":4.8413249942089411},{"$f":"VLOOKUP($A641,BasinData!$1:$1048576,5,FALSE)","v":0.93731643949099996},183.1443787334868,{"$f":"VLOOKUP($A641,Sheet1!$1:$1048576,9,FALSE)","v":290.48576056563877},3.5898014637070297,{"$f":"VLOOKUP($A641,Sheet1!$1:$1048576,10,FALSE)","v":272.59548987744137},10.574808711372349,{"$f":"VLOOKUP($A641,Sheet1!$1:$1048576,11,FALSE)","v":236.81494850104656},26.037632685996439,{"$f":"VLOOKUP($A641,Sheet1!$1:$1048576,12,FALSE)","v":183.14413643645435},54.279885671631412]
[19054,{"$f":"VLOOKUP($A642,BasinData!$1:$1048576,2,FALSE)","v":3.7924980390530307},48.453291091820311,{"$f":"VLOOKUP($A642,BasinData!$1:$1048576,3,FALSE)","v":0.86305634048637114},{"$f":"VLOOKUP($A642,BasinData!$1:$1048576,4,FALSE)","v":4.1428873388290004},{"$f":"VLOOKUP($A642,BasinData!$1:$1048576,5,FALSE)","v":2.35873497568},178.59040741167931,{"$f":"VLOOKUP($A642,Sheet1!$1:$1048576,9,FALSE)","v":283.26181726975278},-2.2364547746605115,{"$f":"VLOOKUP($A642,Sheet1!$1:$1048576,10,FALSE)","v":265.81645066479831},4.7487764139933875,{"$f":"VLOOKUP($A642,Sheet1!$1:$1048576,11,FALSE)","v":230.92571745488945},20.211326974392026,{"$f":"VLOOKUP($A642,Sheet1!$1:$1048576,12,FALSE)","v":178.58961764002612},48.453291091820311]
[19055,{"$f":"VLOOKUP($A643,BasinData!$1:$1048576,2,FALSE)","v":0.44704019006137397},50.437582988775674,{"$f":"VLOOKUP($A643,BasinData!$1:$1048576,3,FALSE)","v":1.326507463316309},{"$f":"VLOOKUP($A643,BasinData!$1:$1048576,4,FALSE)","v":12.554034427342495},{"$f":"VLOOKUP($A643,BasinData!$1:$1048576,5,FALSE)","v":1.87466817184},185.49536608788304,{"$f":"VLOOKUP($A643,Sheet1!$1:$1048576,9,FALSE)","v":294.21415712968115},-0.25231170405424835,{"$f":"VLOOKUP($A643,Sheet1!$1:$1048576,10,FALSE)","v":276.094264088795},6.7328955544476621,{"$f":"VLOOKUP($A643,Sheet1!$1:$1048576,11,FALSE)","v":239.85447800702269},22.195543519868991,{"$f":"VLOOKUP($A643,Sheet1!$1:$1048576,12,FALSE)","v":185.49479888436423},50.437582988775674]
[19056,{"$f":"VLOOKUP($A644,BasinData!$1:$1048576,2,FALSE)","v":2.0047885075818037},48.677247603979595,{"$f":"VLOOKUP($A644,BasinData!$1:$1048576,3,FALSE)","v":11.81889073277094},{"$f":"VLOOKUP($A644,BasinData!$1:$1048576,4,FALSE)","v":4.1437549096622153},{"$f":"VLOOKUP($A644,BasinData!$1:$1048576,5,FALSE)","v":2.3041014304999998},207.52199040689021,{"$f":"VLOOKUP($A644,Sheet1!$1:$1048576,9,FALSE)","v":329.15018868595962},-2.0125171248834239,{"$f":"VLOOKUP($A644,Sheet1!$1:$1048576,10,FALSE)","v":308.87867533812215},4.9726717348631269,{"$f":"VLOOKUP($A644,Sheet1!$1:$1048576,11,FALSE)","v":268.33564864244727},20.435317390672193,{"$f":"VLOOKUP($A644,Sheet1!$1:$1048576,12,FALSE)","v":207.5211085989348},48.677247603979595]
[19057,{"$f":"VLOOKUP($A645,BasinData!$1:$1048576,2,FALSE)","v":2.0187645852651515},55.743378927729239,{"$f":"VLOOKUP($A645,BasinData!$1:$1048576,3,FALSE)","v":0.65806937971847923},{"$f":"VLOOKUP($A645,BasinData!$1:$1048576,4,FALSE)","v":16.239048811013767},{"$f":"VLOOKUP($A645,BasinData!$1:$1048576,5,FALSE)","v":0.58028230911699996},146.13136622550928,{"$f":"VLOOKUP($A645,Sheet1!$1:$1048576,9,FALSE)","v":231.77942448754635},5.0532492593409941,{"$f":"VLOOKUP($A645,Sheet1!$1:$1048576,10,FALSE)","v":217.50472601020104},12.038478092868221,{"$f":"VLOOKUP($A645,Sheet1!$1:$1048576,11,FALSE)","v":188.95532905551048},27.501091792145434,{"$f":"VLOOKUP($A645,Sheet1!$1:$1048576,12,FALSE)","v":146.1312336234746},55.743378927729239]
[19058,{"$f":"VLOOKUP($A646,BasinData!$1:$1048576,2,FALSE)","v":1.2969440993030303},54.763376324733819,{"$f":"VLOOKUP($A646,BasinData!$1:$1048576,3,FALSE)","v":0.68973235654450959},{"$f":"VLOOKUP($A646,BasinData!$1:$1048576,4,FALSE)","v":19.988172678888233},{"$f":"VLOOKUP($A646,BasinData!$1:$1048576,5,FALSE)","v":0.81936429482200002},139.32223568443669,{"$f":"VLOOKUP($A646,Sheet1!$1:$1048576,9,FALSE)","v":220.97938219507225},4.0732757168749361,{"$f":"VLOOKUP($A646,Sheet1!$1:$1048576,10,FALSE)","v":207.36983053828061},11.058446648561841,{"$f":"VLOOKUP($A646,Sheet1!$1:$1048576,11,FALSE)","v":180.15072722469731},26.521111135985834,{"$f":"VLOOKUP($A646,Sheet1!$1:$1048576,12,FALSE)","v":139.32207225432236},54.763376324733819]
[19059,{"$f":"VLOOKUP($A647,BasinData!$1:$1048576,2,FALSE)","v":1.4578698660018941},50.217604672448772,{"$f":"VLOOKUP($A647,BasinData!$1:$1048576,3,FALSE)","v":0.82730418931787497},{"$f":"VLOOKUP($A647,BasinData!$1:$1048576,4,FALSE)","v":11.907270811380402},{"$f":"VLOOKUP($A647,BasinData!$1:$1048576,5,FALSE)","v":1.92833222606},173.61007048598148,{"$f":"VLOOKUP($A647,Sheet1!$1:$1048576,9,FALSE)","v":275.36285578321093},-0.47227545583552316,{"$f":"VLOOKUP($A647,Sheet1!$1:$1048576,10,FALSE)","v":258.40396589530695},6.5128759505957134,{"$f":"VLOOKUP($A647,Sheet1!$1:$1048576,11,FALSE)","v":224.48618611949902},21.975578269238877,{"$f":"VLOOKUP($A647,Sheet1!$1:$1048576,12,FALSE)","v":173.60951645578709},50.217604672448772]
[19060,{"$f":"VLOOKUP($A648,BasinData!$1:$1048576,2,FALSE)","v":0.27918440510867132},50.339791008789085,{"$f":"VLOOKUP($A648,BasinData!$1:$1048576,3,FALSE)","v":1.5532379723812646},{"$f":"VLOOKUP($A648,BasinData!$1:$1048576,4,FALSE)","v":12.247435467478097},{"$f":"VLOOKUP($A648,BasinData!$1:$1048576,5,FALSE)","v":1.8985246921200001},189.8037333246842,{"$f":"VLOOKUP($A648,Sheet1!$1:$1048576,9,FALSE)","v":301.04763969967911},-0.350097265507745,{"$f":"VLOOKUP($A648,Sheet1!$1:$1048576,10,FALSE)","v":282.50689004715633},6.635133263230018,{"$f":"VLOOKUP($A648,Sheet1!$1:$1048576,11,FALSE)","v":245.42539074211078},22.097757322530523,{"$f":"VLOOKUP($A648,Sheet1!$1:$1048576,12,FALSE)","v":189.80314178454245},50.339791008789085]
[19061,{"$f":"VLOOKUP($A649,BasinData!$1:$1048576,2,FALSE)","v":2.5991332823863638},39.959716060677287,{"$f":"VLOOKUP($A649,BasinData!$1:$1048576,3,FALSE)","v":1.1447404177295526},{"$f":"VLOOKUP($A649,BasinData!$1:$1048576,4,FALSE)","v":9.0568496497800943},{"$f":"VLOOKUP($A649,BasinData!$1:$1048576,5,FALSE)","v":4.4309689713999996},171.28370762423108,{"$f":"VLOOKUP($A649,Sheet1!$1:$1048576,9,FALSE)","v":271.67343764069159},-10.730351658409967,{"$f":"VLOOKUP($A649,Sheet1!$1:$1048576,10,FALSE)","v":254.94176952477085},-3.7451059041982977,{"$f":"VLOOKUP($A649,Sheet1!$1:$1048576,11,FALSE)","v":221.47843329292934},11.717524041529813,{"$f":"VLOOKUP($A649,Sheet1!$1:$1048576,12,FALSE)","v":171.28342894516706},39.959716060677287]
[19062,{"$f":"VLOOKUP($A650,BasinData!$1:$1048576,2,FALSE)","v":2.5806397127083334},44.092187472831235,{"$f":"VLOOKUP($A650,BasinData!$1:$1048576,3,FALSE)","v":2.2048839918569478},{"$f":"VLOOKUP($A650,BasinData!$1:$1048576,4,FALSE)","v":24.510035419126329},{"$f":"VLOOKUP($A650,BasinData!$1:$1048576,5,FALSE)","v":3.4228202676900001},109.7578020291177,{"$f":"VLOOKUP($A650,Sheet1!$1:$1048576,9,FALSE)","v":174.08734207356062},-6.5980399703819277,{"$f":"VLOOKUP($A650,Sheet1!$1:$1048576,10,FALSE)","v":163.36575053316886},0.38666313114199868,{"$f":"VLOOKUP($A650,Sheet1!$1:$1048576,11,FALSE)","v":141.92256745238538},15.849820154246911,{"$f":"VLOOKUP($A650,Sheet1!$1:$1048576,12,FALSE)","v":109.75779283121012},44.092187472831235]
[19063,{"$f":"VLOOKUP($A651,BasinData!$1:$1048576,2,FALSE)","v":0.33141792203758347},49.846830689972023,{"$f":"VLOOKUP($A651,BasinData!$1:$1048576,3,FALSE)","v":1.5125386523037512},{"$f":"VLOOKUP($A651,BasinData!$1:$1048576,4,FALSE)","v":12.224747032007462},{"$f":"VLOOKUP($A651,BasinData!$1:$1048576,5,FALSE)","v":2.01878286087},189.09677959206093,{"$f":"VLOOKUP($A651,Sheet1!$1:$1048576,9,FALSE)","v":299.92624787500802},-0.84302384422107302,{"$f":"VLOOKUP($A651,Sheet1!$1:$1048576,10,FALSE)","v":281.45456186006885},6.141959346127452,{"$f":"VLOOKUP($A651,Sheet1!$1:$1048576,11,FALSE)","v":244.51118983019046},21.604826762858778,{"$f":"VLOOKUP($A651,Sheet1!$1:$1048576,12,FALSE)","v":189.0961317853729},49.846830689972023]
[19064,{"$f":"VLOOKUP($A652,BasinData!$1:$1048576,2,FALSE)","v":0.29683437184090911},13.803189946357213,{"$f":"VLOOKUP($A652,BasinData!$1:$1048576,3,FALSE)","v":100},{"$f":"VLOOKUP($A652,BasinData!$1:$1048576,4,FALSE)","v":27.287319422150887},{"$f":"VLOOKUP($A652,BasinData!$1:$1048576,5,FALSE)","v":10.8123551682},122.71351657429945,{"$f":"VLOOKUP($A652,Sheet1!$1:$1048576,9,FALSE)","v":194.63641509159098},-36.886803290450274,{"$f":"VLOOKUP($A652,Sheet1!$1:$1048576,10,FALSE)","v":182.64925900866109},-29.901776570483808,{"$f":"VLOOKUP($A652,Sheet1!$1:$1048576,11,FALSE)","v":158.67494684280132},-14.439158794171389,{"$f":"VLOOKUP($A652,Sheet1!$1:$1048576,12,FALSE)","v":122.71347859401165},13.803189946357213]
[19065,{"$f":"VLOOKUP($A653,BasinData!$1:$1048576,2,FALSE)","v":1.7419532878106061},-16.270178200191012,{"$f":"VLOOKUP($A653,BasinData!$1:$1048576,3,FALSE)","v":2.223355101974537},{"$f":"VLOOKUP($A653,BasinData!$1:$1048576,4,FALSE)","v":20.2729044834308},{"$f":"VLOOKUP($A653,BasinData!$1:$1048576,5,FALSE)","v":18.149148470499998},133.11113328551681,{"$f":"VLOOKUP($A653,Sheet1!$1:$1048576,9,FALSE)","v":211.12700734736876},-66.959790744685407,{"$f":"VLOOKUP($A653,Sheet1!$1:$1048576,10,FALSE)","v":198.12423811118109},-59.974571253896741,{"$f":"VLOOKUP($A653,Sheet1!$1:$1048576,11,FALSE)","v":172.11869963880574},-44.511995287629261,{"$f":"VLOOKUP($A653,Sheet1!$1:$1048576,12,FALSE)","v":133.11039193024268},-16.270178200191012]
[19066,{"$f":"VLOOKUP($A654,BasinData!$1:$1048576,2,FALSE)","v":1.1328725894549103},46.078915287946629,{"$f":"VLOOKUP($A654,BasinData!$1:$1048576,3,FALSE)","v":1.9551508960741739},{"$f":"VLOOKUP($A654,BasinData!$1:$1048576,4,FALSE)","v":19.640076137740092},{"$f":"VLOOKUP($A654,BasinData!$1:$1048576,5,FALSE)","v":2.9379481355000001},142.68464388723132,{"$f":"VLOOKUP($A654,Sheet1!$1:$1048576,9,FALSE)","v":226.31128091923645},-4.6105943496723985,{"$f":"VLOOKUP($A654,Sheet1!$1:$1048576,10,FALSE)","v":212.3733513368914},2.3746388702408896,{"$f":"VLOOKUP($A654,Sheet1!$1:$1048576,11,FALSE)","v":184.49749217220125},17.837233180553543,{"$f":"VLOOKUP($A654,Sheet1!$1:$1048576,12,FALSE)","v":142.68370342516604},46.078915287946629]
[19067,{"$f":"VLOOKUP($A655,BasinData!$1:$1048576,2,FALSE)","v":9.5921796242553842E-2},48.903718062271821,{"$f":"VLOOKUP($A655,BasinData!$1:$1048576,3,FALSE)","v":1.4781477473964213},{"$f":"VLOOKUP($A655,BasinData!$1:$1048576,4,FALSE)","v":12.717952811864622},{"$f":"VLOOKUP($A655,BasinData!$1:$1048576,5,FALSE)","v":2.2488544753199999},190.14513073582162,{"$f":"VLOOKUP($A655,Sheet1!$1:$1048576,9,FALSE)","v":301.58883962244005},-1.7860651736609681,{"$f":"VLOOKUP($A655,Sheet1!$1:$1048576,10,FALSE)","v":283.01475885896792},5.1989865651367548,{"$f":"VLOOKUP($A655,Sheet1!$1:$1048576,11,FALSE)","v":245.86659733202362},20.661773334447705,{"$f":"VLOOKUP($A655,Sheet1!$1:$1048576,12,FALSE)","v":190.14435504160718},48.903718062271821]
[19068,{"$f":"VLOOKUP($A656,BasinData!$1:$1048576,2,FALSE)","v":0.1107849196538937},45.966559873337793,{"$f":"VLOOKUP($A656,BasinData!$1:$1048576,3,FALSE)","v":1.2230180797046986},{"$f":"VLOOKUP($A656,BasinData!$1:$1048576,4,FALSE)","v":14.591836734693878},{"$f":"VLOOKUP($A656,BasinData!$1:$1048576,5,FALSE)","v":2.96553586326},179.89616126512814,{"$f":"VLOOKUP($A656,Sheet1!$1:$1048576,9,FALSE)","v":285.33413122198232},-4.72367384586423,{"$f":"VLOOKUP($A656,Sheet1!$1:$1048576,10,FALSE)","v":267.76113613195474},2.2615595515483711,{"$f":"VLOOKUP($A656,Sheet1!$1:$1048576,11,FALSE)","v":232.61514595189954},17.723947635121053,{"$f":"VLOOKUP($A656,Sheet1!$1:$1048576,12,FALSE)","v":179.89616068181675},45.966559873337793]
[19069,{"$f":"VLOOKUP($A657,BasinData!$1:$1048576,2,FALSE)","v":0.22102526002971767},49.644548705562862,{"$f":"VLOOKUP($A657,BasinData!$1:$1048576,3,FALSE)","v":1.2259454964950931},{"$f":"VLOOKUP($A657,BasinData!$1:$1048576,4,FALSE)","v":13.757827089970339},{"$f":"VLOOKUP($A657,BasinData!$1:$1048576,5,FALSE)","v":2.06812958664},182.58686793395353,{"$f":"VLOOKUP($A657,Sheet1!$1:$1048576,9,FALSE)","v":289.60084373282325},-1.0452912985302991,{"$f":"VLOOKUP($A657,Sheet1!$1:$1048576,10,FALSE)","v":271.76507279581773},5.9399280847474447,{"$f":"VLOOKUP($A657,Sheet1!$1:$1048576,11,FALSE)","v":236.09353092180669},21.402557262523171,{"$f":"VLOOKUP($A657,Sheet1!$1:$1048576,12,FALSE)","v":182.58621811079013},49.644548705562862]
[19070,{"$f":"VLOOKUP($A658,BasinData!$1:$1048576,2,FALSE)","v":1.2485146948143939},31.677881763847942,{"$f":"VLOOKUP($A658,BasinData!$1:$1048576,3,FALSE)","v":4.4242315801116652},{"$f":"VLOOKUP($A658,BasinData!$1:$1048576,4,FALSE)","v":23.51555136663525},{"$f":"VLOOKUP($A658,BasinData!$1:$1048576,5,FALSE)","v":6.4515053406399998},126.33226474338929,{"$f":"VLOOKUP($A658,Sheet1!$1:$1048576,9,FALSE)","v":200.37612589067936},-19.012304209120408,{"$f":"VLOOKUP($A658,Sheet1!$1:$1048576,10,FALSE)","v":188.03547578564073},-12.027203355038415,{"$f":"VLOOKUP($A658,Sheet1!$1:$1048576,11,FALSE)","v":163.35417557556349},3.4355291816646716,{"$f":"VLOOKUP($A658,Sheet1!$1:$1048576,12,FALSE)","v":126.33222526044764},31.677881763847942]
[19071,{"$f":"VLOOKUP($A659,BasinData!$1:$1048576,2,FALSE)","v":1.8123214285714286},-2.6627963232516434,{"$f":"VLOOKUP($A659,BasinData!$1:$1048576,3,FALSE)","v":53.20633631829098},{"$f":"VLOOKUP($A659,BasinData!$1:$1048576,4,FALSE)","v":22.750342382985579},{"$f":"VLOOKUP($A659,BasinData!$1:$1048576,5,FALSE)","v":14.8295260301},123.18289852006667,{"$f":"VLOOKUP($A659,Sheet1!$1:$1048576,9,FALSE)","v":195.3809033608502},-53.352993963370018,{"$f":"VLOOKUP($A659,Sheet1!$1:$1048576,10,FALSE)","v":183.34789616069068},-46.36792645747736,{"$f":"VLOOKUP($A659,Sheet1!$1:$1048576,11,FALSE)","v":159.28188176037165},-30.905380190877501,{"$f":"VLOOKUP($A659,Sheet1!$1:$1048576,12,FALSE)","v":123.18286015989307},-2.6627963232516434]
[19072,{"$f":"VLOOKUP($A660,BasinData!$1:$1048576,2,FALSE)","v":1.6569799999999999},48.172739047246843,{"$f":"VLOOKUP($A660,BasinData!$1:$1048576,3,FALSE)","v":1.3647307823464556},{"$f":"VLOOKUP($A660,BasinData!$1:$1048576,4,FALSE)","v":13.156835170478084},{"$f":"VLOOKUP($A660,BasinData!$1:$1048576,5,FALSE)","v":2.4271746261199998},164.67529150171919,{"$f":"VLOOKUP($A660,Sheet1!$1:$1048576,9,FALSE)","v":261.19102659234017},-2.5169823331112022,{"$f":"VLOOKUP($A660,Sheet1!$1:$1048576,10,FALSE)","v":245.10494320578721},4.4682492602503086,{"$f":"VLOOKUP($A660,Sheet1!$1:$1048576,11,FALSE)","v":212.93277643268124},19.930446304320924,{"$f":"VLOOKUP($A660,Sheet1!$1:$1048576,12,FALSE)","v":164.67452627302225},48.172739047246843]
[19073,{"$f":"VLOOKUP($A661,BasinData!$1:$1048576,2,FALSE)","v":0.82988379410416668},27.490035912562966,{"$f":"VLOOKUP($A661,BasinData!$1:$1048576,3,FALSE)","v":1.3403830165705271},{"$f":"VLOOKUP($A661,BasinData!$1:$1048576,4,FALSE)","v":5.0199537912203311},{"$f":"VLOOKUP($A661,BasinData!$1:$1048576,5,FALSE)","v":7.4731888709899996},223.31957671846115,{"$f":"VLOOKUP($A661,Sheet1!$1:$1048576,9,FALSE)","v":354.20788814743418},-23.200092798994824,{"$f":"VLOOKUP($A661,Sheet1!$1:$1048576,10,FALSE)","v":332.39313555332052},-16.214865344992507,{"$f":"VLOOKUP($A661,Sheet1!$1:$1048576,11,FALSE)","v":288.76363036509326},-0.75223500100175367,{"$f":"VLOOKUP($A661,Sheet1!$1:$1048576,12,FALSE)","v":223.31937258275229},27.490035912562966]
[19074,{"$f":"VLOOKUP($A662,BasinData!$1:$1048576,2,FALSE)","v":3.0476190476190477E-3},44.660822530679418,{"$f":"VLOOKUP($A662,BasinData!$1:$1048576,3,FALSE)","v":6.7079086684752527},{"$f":"VLOOKUP($A662,BasinData!$1:$1048576,4,FALSE)","v":14.6838373752287},{"$f":"VLOOKUP($A662,BasinData!$1:$1048576,5,FALSE)","v":3.28409274905},181.04958703908883,{"$f":"VLOOKUP($A662,Sheet1!$1:$1048576,9,FALSE)","v":287.16357425671293},-6.0294087127124367,{"$f":"VLOOKUP($A662,Sheet1!$1:$1048576,10,FALSE)","v":269.47790847661008},0.95582677156530427,{"$f":"VLOOKUP($A662,Sheet1!$1:$1048576,11,FALSE)","v":234.10657691640441},16.418457105126258,{"$f":"VLOOKUP($A662,Sheet1!$1:$1048576,12,FALSE)","v":181.04957957609582},44.660822530679418]
[19075,{"$f":"VLOOKUP($A663,BasinData!$1:$1048576,2,FALSE)","v":0.70872947277441656},46.011389921329808,{"$f":"VLOOKUP($A663,BasinData!$1:$1048576,3,FALSE)","v":3.0722370550440439},{"$f":"VLOOKUP($A663,BasinData!$1:$1048576,4,FALSE)","v":13.507980032341981},{"$f":"VLOOKUP($A663,BasinData!$1:$1048576,5,FALSE)","v":2.95459877482},176.52736710402192,{"$f":"VLOOKUP($A663,Sheet1!$1:$1048576,9,FALSE)","v":279.99087127382501},-4.6788437509347407,{"$f":"VLOOKUP($A663,Sheet1!$1:$1048576,10,FALSE)","v":262.74695381790866},2.306389576312962,{"$f":"VLOOKUP($A663,Sheet1!$1:$1048576,11,FALSE)","v":228.25911890607591},17.768881915235205,{"$f":"VLOOKUP($A663,Sheet1!$1:$1048576,12,FALSE)","v":176.52736653832676},46.011389921329808]
[19076,{"$f":"VLOOKUP($A664,BasinData!$1:$1048576,2,FALSE)","v":0.28249258160237389},23.21094571028037,{"$f":"VLOOKUP($A664,BasinData!$1:$1048576,3,FALSE)","v":96.39854916948066},{"$f":"VLOOKUP($A664,BasinData!$1:$1048576,4,FALSE)","v":33.400133600534403},{"$f":"VLOOKUP($A664,BasinData!$1:$1048576,5,FALSE)","v":8.5170949373900005},102.96606984325541,{"$f":"VLOOKUP($A664,Sheet1!$1:$1048576,9,FALSE)","v":163.31447895139658},-27.478962395103117,{"$f":"VLOOKUP($A664,Sheet1!$1:$1048576,10,FALSE)","v":153.25636033638034},-20.493732588275847,{"$f":"VLOOKUP($A664,Sheet1!$1:$1048576,11,FALSE)","v":133.14012310634786},-5.0312542772554227,{"$f":"VLOOKUP($A664,Sheet1!$1:$1048576,12,FALSE)","v":102.96576726129913},23.21094571028037]
[19077,{"$f":"VLOOKUP($A665,BasinData!$1:$1048576,2,FALSE)","v":1.0638096169545455},14.230091884155547,{"$f":"VLOOKUP($A665,BasinData!$1:$1048576,3,FALSE)","v":3.2816240865055022},{"$f":"VLOOKUP($A665,BasinData!$1:$1048576,4,FALSE)","v":19.093590775006707},{"$f":"VLOOKUP($A665,BasinData!$1:$1048576,5,FALSE)","v":10.708201749400001},145.7984891998158,{"$f":"VLOOKUP($A665,Sheet1!$1:$1048576,9,FALSE)","v":231.25155887945272},-36.459981328004318,{"$f":"VLOOKUP($A665,Sheet1!$1:$1048576,10,FALSE)","v":217.00937028692036},-29.474862030525951,{"$f":"VLOOKUP($A665,Sheet1!$1:$1048576,11,FALSE)","v":188.52499310185564},-14.012245261184271,{"$f":"VLOOKUP($A665,Sheet1!$1:$1048576,12,FALSE)","v":145.79842732425854},14.230091884155547]
[19078,{"$f":"VLOOKUP($A666,BasinData!$1:$1048576,2,FALSE)","v":0.2529416744264793},26.733096572944284,{"$f":"VLOOKUP($A666,BasinData!$1:$1048576,3,FALSE)","v":100},{"$f":"VLOOKUP($A666,BasinData!$1:$1048576,4,FALSE)","v":37.490426346693901},{"$f":"VLOOKUP($A666,BasinData!$1:$1048576,5,FALSE)","v":7.6578575572099998},91.713566456656935,{"$f":"VLOOKUP($A666,Sheet1!$1:$1048576,9,FALSE)","v":145.46717744902554},-23.95648676275264,{"$f":"VLOOKUP($A666,Sheet1!$1:$1048576,10,FALSE)","v":136.50822821948816},-16.971803931896346,{"$f":"VLOOKUP($A666,Sheet1!$1:$1048576,11,FALSE)","v":118.59032976041338},-1.5091726370337208,{"$f":"VLOOKUP($A666,Sheet1!$1:$1048576,12,FALSE)","v":91.713482071801224},26.733096572944284]
[19079,{"$f":"VLOOKUP($A667,BasinData!$1:$1048576,2,FALSE)","v":3.5646315734280307},53.926140651938901,{"$f":"VLOOKUP($A667,BasinData!$1:$1048576,3,FALSE)","v":1.3949870569737177},{"$f":"VLOOKUP($A667,BasinData!$1:$1048576,4,FALSE)","v":2.3843930635838149},{"$f":"VLOOKUP($A667,BasinData!$1:$1048576,5,FALSE)","v":1.0236156749500001},191.53168343574552,{"$f":"VLOOKUP($A667,Sheet1!$1:$1048576,9,FALSE)","v":303.78884978000758},3.2360693688750897,{"$f":"VLOOKUP($A667,Sheet1!$1:$1048576,10,FALSE)","v":285.07927605068733},10.221298865384128,{"$f":"VLOOKUP($A667,Sheet1!$1:$1048576,11,FALSE)","v":247.66012859204696},25.683897214109166,{"$f":"VLOOKUP($A667,Sheet1!$1:$1048576,12,FALSE)","v":191.53140740408637},53.926140651938901]
[19080,{"$f":"VLOOKUP($A668,BasinData!$1:$1048576,2,FALSE)","v":0.20378036397719285},42.27378328718811,{"$f":"VLOOKUP($A668,BasinData!$1:$1048576,3,FALSE)","v":6.4131749572692849},{"$f":"VLOOKUP($A668,BasinData!$1:$1048576,4,FALSE)","v":14.397860165592588},{"$f":"VLOOKUP($A668,BasinData!$1:$1048576,5,FALSE)","v":3.8664434108700001},179.49987714541263,{"$f":"VLOOKUP($A668,Sheet1!$1:$1048576,9,FALSE)","v":284.70546488270696},-8.4164108574940357,{"$f":"VLOOKUP($A668,Sheet1!$1:$1048576,10,FALSE)","v":267.17118773520536},-1.4312622288646086,{"$f":"VLOOKUP($A668,Sheet1!$1:$1048576,11,FALSE)","v":232.10263344020211},14.031447689422578,{"$f":"VLOOKUP($A668,Sheet1!$1:$1048576,12,FALSE)","v":179.49980199769726},42.27378328718811]
[19081,{"$f":"VLOOKUP($A669,BasinData!$1:$1048576,2,FALSE)","v":2.3494547423484851},53.74934719836871,{"$f":"VLOOKUP($A669,BasinData!$1:$1048576,3,FALSE)","v":1.0948346077763613},{"$f":"VLOOKUP($A669,BasinData!$1:$1048576,4,FALSE)","v":14.047909053999188},{"$f":"VLOOKUP($A669,BasinData!$1:$1048576,5,FALSE)","v":1.0667459313200001},151.41926024902719,{"$f":"VLOOKUP($A669,Sheet1!$1:$1048576,9,FALSE)","v":240.1664269570868},3.0592826794256447,{"$f":"VLOOKUP($A669,Sheet1!$1:$1048576,10,FALSE)","v":225.3751945740847},10.044512167013288,{"$f":"VLOOKUP($A669,Sheet1!$1:$1048576,11,FALSE)","v":195.79272980808048},25.507108728895894,{"$f":"VLOOKUP($A669,Sheet1!$1:$1048576,12,FALSE)","v":151.41903265907416},53.74934719836871]
[19082,{"$f":"VLOOKUP($A670,BasinData!$1:$1048576,2,FALSE)","v":3.2616168723863637},51.616950158195493,{"$f":"VLOOKUP($A670,BasinData!$1:$1048576,3,FALSE)","v":1.6743901441805744},{"$f":"VLOOKUP($A670,BasinData!$1:$1048576,4,FALSE)","v":9.0979182729375481},{"$f":"VLOOKUP($A670,BasinData!$1:$1048576,5,FALSE)","v":1.58695786788},161.82031770806427,{"$f":"VLOOKUP($A670,Sheet1!$1:$1048576,9,FALSE)","v":256.66333442193866},0.92698483873736193,{"$f":"VLOOKUP($A670,Sheet1!$1:$1048576,10,FALSE)","v":240.85609994819842},7.9121064839033064,{"$f":"VLOOKUP($A670,Sheet1!$1:$1048576,11,FALSE)","v":209.24163100071794},23.374844739156917,{"$f":"VLOOKUP($A670,Sheet1!$1:$1048576,12,FALSE)","v":161.81992757949723},51.616950158195493]
[19083,{"$f":"VLOOKUP($A671,BasinData!$1:$1048576,2,FALSE)","v":1.9351288703409093},45.753187025569773,{"$f":"VLOOKUP($A671,BasinData!$1:$1048576,3,FALSE)","v":14.459657432180125},{"$f":"VLOOKUP($A671,BasinData!$1:$1048576,4,FALSE)","v":30.774343635759386},{"$f":"VLOOKUP($A671,BasinData!$1:$1048576,5,FALSE)","v":3.0173410932700002},96.686116486510699,{"$f":"VLOOKUP($A671,Sheet1!$1:$1048576,9,FALSE)","v":153.35286030315876},-4.9360186074861145,{"$f":"VLOOKUP($A671,Sheet1!$1:$1048576,10,FALSE)","v":143.90825215338029},2.0492151217615815,{"$f":"VLOOKUP($A671,Sheet1!$1:$1048576,11,FALSE)","v":125.01903585382334},17.511846535314842,{"$f":"VLOOKUP($A671,Sheet1!$1:$1048576,12,FALSE)","v":96.685211404487902},45.753187025569773]
[19084,{"$f":"VLOOKUP($A672,BasinData!$1:$1048576,2,FALSE)","v":2.1552502574431815},49.557402344812445,{"$f":"VLOOKUP($A672,BasinData!$1:$1048576,3,FALSE)","v":2.2803233701886056},{"$f":"VLOOKUP($A672,BasinData!$1:$1048576,4,FALSE)","v":12.850524262375028},{"$f":"VLOOKUP($A672,BasinData!$1:$1048576,5,FALSE)","v":2.0893889256599998},159.32916126117391,{"$f":"VLOOKUP($A672,Sheet1!$1:$1048576,9,FALSE)","v":252.71180426922109},-1.1324312736746733,{"$f":"VLOOKUP($A672,Sheet1!$1:$1048576,10,FALSE)","v":237.1479343718616},5.8527993219744703,{"$f":"VLOOKUP($A672,Sheet1!$1:$1048576,11,FALSE)","v":206.0201945771426},21.31541632059249,{"$f":"VLOOKUP($A672,Sheet1!$1:$1048576,12,FALSE)","v":159.32858488506409},49.557402344812445]
[19085,{"$f":"VLOOKUP($A673,BasinData!$1:$1048576,2,FALSE)","v":1.6353238037708333},53.049776980403145,{"$f":"VLOOKUP($A673,BasinData!$1:$1048576,3,FALSE)","v":1.3092154485280223},{"$f":"VLOOKUP($A673,BasinData!$1:$1048576,4,FALSE)","v":14.290071679121549},{"$f":"VLOOKUP($A673,BasinData!$1:$1048576,5,FALSE)","v":1.23741147491},159.65916277759371,{"$f":"VLOOKUP($A673,Sheet1!$1:$1048576,9,FALSE)","v":253.23568785908955},2.3597413430998988,{"$f":"VLOOKUP($A673,Sheet1!$1:$1048576,10,FALSE)","v":237.63955331917543},9.3449706419534504,{"$f":"VLOOKUP($A673,Sheet1!$1:$1048576,11,FALSE)","v":206.44728423934725},24.807274460677142,{"$f":"VLOOKUP($A673,Sheet1!$1:$1048576,12,FALSE)","v":159.65888061960493},53.049776980403145]
[20001,{"$f":"VLOOKUP($A674,BasinData!$1:$1048576,2,FALSE)","v":5.0011639196206819},53.459017182038856,{"$f":"VLOOKUP($A674,BasinData!$1:$1048576,3,FALSE)","v":1.0380493409996761},{"$f":"VLOOKUP($A674,BasinData!$1:$1048576,4,FALSE)","v":12.106672054144148},{"$f":"VLOOKUP($A674,BasinData!$1:$1048576,5,FALSE)","v":1.13757427813},128.17683468271909,{"$f":"VLOOKUP($A674,Sheet1!$1:$1048576,9,FALSE)","v":203.30154233008253},2.768964231060834,{"$f":"VLOOKUP($A674,Sheet1!$1:$1048576,10,FALSE)","v":190.78072335248123},9.7541936751252827,{"$f":"VLOOKUP($A674,Sheet1!$1:$1048576,11,FALSE)","v":165.73908539727861},25.216731626714946,{"$f":"VLOOKUP($A674,Sheet1!$1:$1048576,12,FALSE)","v":128.1766284644747},53.459017182038856]
[20002,{"$f":"VLOOKUP($A675,BasinData!$1:$1048576,2,FALSE)","v":1.3695652173913042},52.969857790983724,{"$f":"VLOOKUP($A675,BasinData!$1:$1048576,3,FALSE)","v":1.0714297900541574},{"$f":"VLOOKUP($A675,BasinData!$1:$1048576,4,FALSE)","v":13.61947231512449},{"$f":"VLOOKUP($A675,BasinData!$1:$1048576,5,FALSE)","v":1.2569083219299999},166.45839287110587,{"$f":"VLOOKUP($A675,Sheet1!$1:$1048576,9,FALSE)","v":264.01995054151939},2.2798256762197653,{"$f":"VLOOKUP($A675,Sheet1!$1:$1048576,10,FALSE)","v":247.75964100663961},9.2650549320926334,{"$f":"VLOOKUP($A675,Sheet1!$1:$1048576,11,FALSE)","v":215.23902193687996},24.72729529452667,{"$f":"VLOOKUP($A675,Sheet1!$1:$1048576,12,FALSE)","v":166.45809333224054},52.969857790983724]
[20003,{"$f":"VLOOKUP($A676,BasinData!$1:$1048576,2,FALSE)","v":2.3069451235984846},53.092711509674345,{"$f":"VLOOKUP($A676,BasinData!$1:$1048576,3,FALSE)","v":3.1910000526060558},{"$f":"VLOOKUP($A676,BasinData!$1:$1048576,4,FALSE)","v":4.5884923525127457},{"$f":"VLOOKUP($A676,BasinData!$1:$1048576,5,FALSE)","v":1.22693729048},199.73684895501449,{"$f":"VLOOKUP($A676,Sheet1!$1:$1048576,9,FALSE)","v":316.80298407422833},2.4026739993259345,{"$f":"VLOOKUP($A676,Sheet1!$1:$1048576,10,FALSE)","v":297.2919032939505},9.3879033190781431,{"$f":"VLOOKUP($A676,Sheet1!$1:$1048576,11,FALSE)","v":258.26974173339471},24.850238777031379,{"$f":"VLOOKUP($A676,Sheet1!$1:$1048576,12,FALSE)","v":199.73649939256109},53.092711509674345]
[20004,{"$f":"VLOOKUP($A677,BasinData!$1:$1048576,2,FALSE)","v":1.0931547802272727},56.550733416066642,{"$f":"VLOOKUP($A677,BasinData!$1:$1048576,3,FALSE)","v":2.3482918466172316},{"$f":"VLOOKUP($A677,BasinData!$1:$1048576,4,FALSE)","v":3.2957028404952662},{"$f":"VLOOKUP($A677,BasinData!$1:$1048576,5,FALSE)","v":0.38331871161800002},229.59565139321754,{"$f":"VLOOKUP($A677,Sheet1!$1:$1048576,9,FALSE)","v":364.16245938642936},5.8605836468996326,{"$f":"VLOOKUP($A677,Sheet1!$1:$1048576,10,FALSE)","v":341.73463035888301},12.8458126264065,{"$f":"VLOOKUP($A677,Sheet1!$1:$1048576,11,FALSE)","v":296.87897230379031},28.308430811947201,{"$f":"VLOOKUP($A677,Sheet1!$1:$1048576,12,FALSE)","v":229.59548522115125},56.550733416066642]
[20005,{"$f":"VLOOKUP($A678,BasinData!$1:$1048576,2,FALSE)","v":1.2239682836496211},53.615884585412772,{"$f":"VLOOKUP($A678,BasinData!$1:$1048576,3,FALSE)","v":1.0607097970836861},{"$f":"VLOOKUP($A678,BasinData!$1:$1048576,4,FALSE)","v":27.110389610389614},{"$f":"VLOOKUP($A678,BasinData!$1:$1048576,5,FALSE)","v":1.0993052290700001},114.1014277186792,{"$f":"VLOOKUP($A678,Sheet1!$1:$1048576,9,FALSE)","v":180.97652072954006},2.925825311180668,{"$f":"VLOOKUP($A678,Sheet1!$1:$1048576,10,FALSE)","v":169.83064239886011},9.9110547837637082,{"$f":"VLOOKUP($A678,Sheet1!$1:$1048576,11,FALSE)","v":147.53888573750021},25.373643938002814,{"$f":"VLOOKUP($A678,Sheet1!$1:$1048576,12,FALSE)","v":114.10125074546033},53.615884585412772]
[20006,{"$f":"VLOOKUP($A679,BasinData!$1:$1048576,2,FALSE)","v":1.7155213374147726E-2},55.172853463952151,{"$f":"VLOOKUP($A679,BasinData!$1:$1048576,3,FALSE)","v":1.5133816376953295},{"$f":"VLOOKUP($A679,BasinData!$1:$1048576,4,FALSE)","v":8.2756916996047423},{"$f":"VLOOKUP($A679,BasinData!$1:$1048576,5,FALSE)","v":0.71946818326899997},217.62694647102285,{"$f":"VLOOKUP($A679,Sheet1!$1:$1048576,9,FALSE)","v":345.17874028403008},4.4827400564210729,{"$f":"VLOOKUP($A679,Sheet1!$1:$1048576,10,FALSE)","v":323.92006967839507},11.467965779183812,{"$f":"VLOOKUP($A679,Sheet1!$1:$1048576,11,FALSE)","v":281.40272846712492},26.930578663287658,{"$f":"VLOOKUP($A679,Sheet1!$1:$1048576,12,FALSE)","v":217.62671665021978},55.172853463952151]
[20007,{"$f":"VLOOKUP($A680,BasinData!$1:$1048576,2,FALSE)","v":0.95323376610795452},52.75856959688835,{"$f":"VLOOKUP($A680,BasinData!$1:$1048576,3,FALSE)","v":0.77033353696145546},{"$f":"VLOOKUP($A680,BasinData!$1:$1048576,4,FALSE)","v":13.223547973572625},{"$f":"VLOOKUP($A680,BasinData!$1:$1048576,5,FALSE)","v":1.3084535206700001},174.3665212186942,{"$f":"VLOOKUP($A680,Sheet1!$1:$1048576,9,FALSE)","v":276.56302289734009},2.0685469517607071,{"$f":"VLOOKUP($A680,Sheet1!$1:$1048576,10,FALSE)","v":259.53021780443248},9.0537526103393979,{"$f":"VLOOKUP($A680,Sheet1!$1:$1048576,11,FALSE)","v":225.46460761861726},24.516408043137485,{"$f":"VLOOKUP($A680,Sheet1!$1:$1048576,12,FALSE)","v":174.3661923398945},52.75856959688835]
[20009,{"$f":"VLOOKUP($A681,BasinData!$1:$1048576,2,FALSE)","v":0.8981615588295454},47.61204421780247,{"$f":"VLOOKUP($A681,BasinData!$1:$1048576,3,FALSE)","v":2.1929286530635146},{"$f":"VLOOKUP($A681,BasinData!$1:$1048576,4,FALSE)","v":25},{"$f":"VLOOKUP($A681,BasinData!$1:$1048576,5,FALSE)","v":2.5639534883700001},124.64246533349343,{"$f":"VLOOKUP($A681,Sheet1!$1:$1048576,9,FALSE)","v":197.69497800412043},-3.0776257985381248,{"$f":"VLOOKUP($A681,Sheet1!$1:$1048576,10,FALSE)","v":185.51945289988126},3.9070711665398816,{"$f":"VLOOKUP($A681,Sheet1!$1:$1048576,11,FALSE)","v":161.16840269140289},19.370236677514143,{"$f":"VLOOKUP($A681,Sheet1!$1:$1048576,12,FALSE)","v":124.64182737868538},47.61204421780247]
[20010,{"$f":"VLOOKUP($A682,BasinData!$1:$1048576,2,FALSE)","v":2.0620349996780303},44.677180151151319,{"$f":"VLOOKUP($A682,BasinData!$1:$1048576,3,FALSE)","v":1.7970510394625443},{"$f":"VLOOKUP($A682,BasinData!$1:$1048576,4,FALSE)","v":15.207373271889402},{"$f":"VLOOKUP($A682,BasinData!$1:$1048576,5,FALSE)","v":3.2801020408200001},150.00758012278956,{"$f":"VLOOKUP($A682,Sheet1!$1:$1048576,9,FALSE)","v":237.9277059847258},-6.0130511704143341,{"$f":"VLOOKUP($A682,Sheet1!$1:$1048576,10,FALSE)","v":223.27435066706727},0.97218428670458101,{"$f":"VLOOKUP($A682,Sheet1!$1:$1048576,11,FALSE)","v":193.96764003175019},16.434814880456823,{"$f":"VLOOKUP($A682,Sheet1!$1:$1048576,12,FALSE)","v":150.00757407877455},44.677180151151319]
[20011,{"$f":"VLOOKUP($A683,BasinData!$1:$1048576,2,FALSE)","v":0.44683409030189691},46.440851819531616,{"$f":"VLOOKUP($A683,BasinData!$1:$1048576,3,FALSE)","v":1.845980077608296},{"$f":"VLOOKUP($A683,BasinData!$1:$1048576,4,FALSE)","v":18.937547866044699},{"$f":"VLOOKUP($A683,BasinData!$1:$1048576,5,FALSE)","v":2.84965726174},154.24879267143604,{"$f":"VLOOKUP($A683,Sheet1!$1:$1048576,9,FALSE)","v":244.65320103202225},-4.2486983988904878,{"$f":"VLOOKUP($A683,Sheet1!$1:$1048576,10,FALSE)","v":229.58563977644107},2.7365086241247059,{"$f":"VLOOKUP($A683,Sheet1!$1:$1048576,11,FALSE)","v":199.45051726527868},18.199149235704994,{"$f":"VLOOKUP($A683,Sheet1!$1:$1048576,12,FALSE)","v":154.2478334985351},46.440851819531616]
[20012,{"$f":"VLOOKUP($A684,BasinData!$1:$1048576,2,FALSE)","v":1.5811532277367399},48.977267235934974,{"$f":"VLOOKUP($A684,BasinData!$1:$1048576,3,FALSE)","v":3.3893353030022744},{"$f":"VLOOKUP($A684,BasinData!$1:$1048576,4,FALSE)","v":22.517942583732058},{"$f":"VLOOKUP($A684,BasinData!$1:$1048576,5,FALSE)","v":2.2309122917900002},126.44512604751549,{"$f":"VLOOKUP($A684,Sheet1!$1:$1048576,9,FALSE)","v":200.5543910253858},-1.7125218919879179,{"$f":"VLOOKUP($A684,Sheet1!$1:$1048576,10,FALSE)","v":188.20276202930634},5.2724616934966368,{"$f":"VLOOKUP($A684,Sheet1!$1:$1048576,11,FALSE)","v":163.4995040371474},20.735317811327619,{"$f":"VLOOKUP($A684,Sheet1!$1:$1048576,12,FALSE)","v":126.44461704890904},48.977267235934974]
[20013,{"$f":"VLOOKUP($A685,BasinData!$1:$1048576,2,FALSE)","v":0.39902912621359221},47.321342286923269,{"$f":"VLOOKUP($A685,BasinData!$1:$1048576,3,FALSE)","v":1.7395830460409374},{"$f":"VLOOKUP($A685,BasinData!$1:$1048576,4,FALSE)","v":18.589407446250654},{"$f":"VLOOKUP($A685,BasinData!$1:$1048576,5,FALSE)","v":2.6348684796400001},156.43535680651493,{"$f":"VLOOKUP($A685,Sheet1!$1:$1048576,9,FALSE)","v":248.12150777734942},-3.3682995811771406,{"$f":"VLOOKUP($A685,Sheet1!$1:$1048576,10,FALSE)","v":232.84034243190587},3.6165944212258179,{"$f":"VLOOKUP($A685,Sheet1!$1:$1048576,11,FALSE)","v":202.27801174101873},19.079561449326043,{"$f":"VLOOKUP($A685,Sheet1!$1:$1048576,12,FALSE)","v":156.43451570468801},47.321342286923269]
[20014,{"$f":"VLOOKUP($A686,BasinData!$1:$1048576,2,FALSE)","v":1.4001418659071971},53.105164154581317,{"$f":"VLOOKUP($A686,BasinData!$1:$1048576,3,FALSE)","v":1.1669890980686717},{"$f":"VLOOKUP($A686,BasinData!$1:$1048576,4,FALSE)","v":17.696538337107732},{"$f":"VLOOKUP($A686,BasinData!$1:$1048576,5,FALSE)","v":1.2238993783800001},147.57694262727293,{"$f":"VLOOKUP($A686,Sheet1!$1:$1048576,9,FALSE)","v":234.07206171907944},2.4151261034956519,{"$f":"VLOOKUP($A686,Sheet1!$1:$1048576,10,FALSE)","v":219.6561656126934},9.400355429033679,{"$f":"VLOOKUP($A686,Sheet1!$1:$1048576,11,FALSE)","v":190.82437339992131},24.862699745880832,{"$f":"VLOOKUP($A686,Sheet1!$1:$1048576,12,FALSE)","v":147.57668508076318},53.105164154581317]
[20015,{"$f":"VLOOKUP($A687,BasinData!$1:$1048576,2,FALSE)","v":1.9106267867613638},52.972229902451581,{"$f":"VLOOKUP($A687,BasinData!$1:$1048576,3,FALSE)","v":1.2709011249785755},{"$f":"VLOOKUP($A687,BasinData!$1:$1048576,4,FALSE)","v":8.1704628949301981},{"$f":"VLOOKUP($A687,BasinData!$1:$1048576,5,FALSE)","v":1.2563296288600001},186.19091741099945,{"$f":"VLOOKUP($A687,Sheet1!$1:$1048576,9,FALSE)","v":295.31774280392494},2.2821976824559522,{"$f":"VLOOKUP($A687,Sheet1!$1:$1048576,10,FALSE)","v":277.12988276045184},9.267426939683606,{"$f":"VLOOKUP($A687,Sheet1!$1:$1048576,11,FALSE)","v":240.75416267350562},24.729669271732941,{"$f":"VLOOKUP($A687,Sheet1!$1:$1048576,12,FALSE)","v":186.19058254308629},52.972229902451581]
[20016,{"$f":"VLOOKUP($A688,BasinData!$1:$1048576,2,FALSE)","v":1.0128529880851862},48.138488889869926,{"$f":"VLOOKUP($A688,BasinData!$1:$1048576,3,FALSE)","v":1.3976647659605179},{"$f":"VLOOKUP($A688,BasinData!$1:$1048576,4,FALSE)","v":17.744195823795955},{"$f":"VLOOKUP($A688,BasinData!$1:$1048576,5,FALSE)","v":2.4355298110099999},152.24751412106443,{"$f":"VLOOKUP($A688,Sheet1!$1:$1048576,9,FALSE)","v":241.47935632552009},-2.5512294348776225,{"$f":"VLOOKUP($A688,Sheet1!$1:$1048576,10,FALSE)","v":226.60726400036447},4.4340022042299196,{"$f":"VLOOKUP($A688,Sheet1!$1:$1048576,11,FALSE)","v":196.86307935005325},19.896135352479256,{"$f":"VLOOKUP($A688,Sheet1!$1:$1048576,12,FALSE)","v":152.24680237458639},48.138488889869926]
[20017,{"$f":"VLOOKUP($A689,BasinData!$1:$1048576,2,FALSE)","v":0.89434810533076425},52.893262539444123,{"$f":"VLOOKUP($A689,BasinData!$1:$1048576,3,FALSE)","v":0.89958374449687484},{"$f":"VLOOKUP($A689,BasinData!$1:$1048576,4,FALSE)","v":11.439178105844773},{"$f":"VLOOKUP($A689,BasinData!$1:$1048576,5,FALSE)","v":1.2755942600800001},184.50455598906677,{"$f":"VLOOKUP($A689,Sheet1!$1:$1048576,9,FALSE)","v":292.64299253519329},2.2032338450246853,{"$f":"VLOOKUP($A689,Sheet1!$1:$1048576,10,FALSE)","v":274.61986347969616},9.1884623157101508,{"$f":"VLOOKUP($A689,Sheet1!$1:$1048576,11,FALSE)","v":238.57360536870198},24.650636956009432,{"$f":"VLOOKUP($A689,Sheet1!$1:$1048576,12,FALSE)","v":184.50421820221067},52.893262539444123]
[20018,{"$f":"VLOOKUP($A690,BasinData!$1:$1048576,2,FALSE)","v":2.5195866748920421},54.015052683438569,{"$f":"VLOOKUP($A690,BasinData!$1:$1048576,3,FALSE)","v":1.5115744640779074},{"$f":"VLOOKUP($A690,BasinData!$1:$1048576,4,FALSE)","v":12.823061630218687},{"$f":"VLOOKUP($A690,BasinData!$1:$1048576,5,FALSE)","v":1.00192481478},154.64922119292524,{"$f":"VLOOKUP($A690,Sheet1!$1:$1048576,9,FALSE)","v":245.28949785822567},3.3249780760688399,{"$f":"VLOOKUP($A690,Sheet1!$1:$1048576,10,FALSE)","v":230.18274871805886},10.309842937774535,{"$f":"VLOOKUP($A690,Sheet1!$1:$1048576,11,FALSE)","v":199.96925043772518},25.772806787774261,{"$f":"VLOOKUP($A690,Sheet1!$1:$1048576,12,FALSE)","v":154.64900301722463},54.015052683438569]
[20019,{"$f":"VLOOKUP($A691,BasinData!$1:$1048576,2,FALSE)","v":2.5852539595849264},53.364302109378364,{"$f":"VLOOKUP($A691,BasinData!$1:$1048576,3,FALSE)","v":1.5733646309832285},{"$f":"VLOOKUP($A691,BasinData!$1:$1048576,4,FALSE)","v":11.449917997934762},{"$f":"VLOOKUP($A691,BasinData!$1:$1048576,5,FALSE)","v":1.16068075201},160.02459081358472,{"$f":"VLOOKUP($A691,Sheet1!$1:$1048576,9,FALSE)","v":253.81532507576887},2.6742530593691365,{"$f":"VLOOKUP($A691,Sheet1!$1:$1048576,10,FALSE)","v":238.18349217085694},9.6594824796840211,{"$f":"VLOOKUP($A691,Sheet1!$1:$1048576,11,FALSE)","v":206.91982636103307},25.121979400960257,{"$f":"VLOOKUP($A691,Sheet1!$1:$1048576,12,FALSE)","v":160.02432764629725},53.364302109378364]
[20020,{"$f":"VLOOKUP($A692,BasinData!$1:$1048576,2,FALSE)","v":1.7704666532481059},53.549077513807703,{"$f":"VLOOKUP($A692,BasinData!$1:$1048576,3,FALSE)","v":1.9475043557464047},{"$f":"VLOOKUP($A692,BasinData!$1:$1048576,4,FALSE)","v":9.3923504009870449},{"$f":"VLOOKUP($A692,BasinData!$1:$1048576,5,FALSE)","v":1.11560334996},181.85929145876381,{"$f":"VLOOKUP($A692,Sheet1!$1:$1048576,9,FALSE)","v":288.44740757528211},2.8590209117198477,{"$f":"VLOOKUP($A692,Sheet1!$1:$1048576,10,FALSE)","v":270.68267380388426},9.8442503737019234,{"$f":"VLOOKUP($A692,Sheet1!$1:$1048576,11,FALSE)","v":235.15320626108854},25.306820241652304,{"$f":"VLOOKUP($A692,Sheet1!$1:$1048576,12,FALSE)","v":181.85900494689491},53.549077513807703]
[20021,{"$f":"VLOOKUP($A693,BasinData!$1:$1048576,2,FALSE)","v":2.8865642782007579},48.061596116633964,{"$f":"VLOOKUP($A693,BasinData!$1:$1048576,3,FALSE)","v":6.2169556315765675},{"$f":"VLOOKUP($A693,BasinData!$1:$1048576,4,FALSE)","v":16.472642607683351},{"$f":"VLOOKUP($A693,BasinData!$1:$1048576,5,FALSE)","v":2.4542875124700001},134.94452666430851,{"$f":"VLOOKUP($A693,Sheet1!$1:$1048576,9,FALSE)","v":214.03512305099665},-2.628115455330204,{"$f":"VLOOKUP($A693,Sheet1!$1:$1048576,10,FALSE)","v":200.85325045005473},4.3571162839721369,{"$f":"VLOOKUP($A693,Sheet1!$1:$1048576,11,FALSE)","v":174.48950524817087},19.819747800980185,{"$f":"VLOOKUP($A693,Sheet1!$1:$1048576,12,FALSE)","v":134.94388744534513},48.061596116633964]
[20023,{"$f":"VLOOKUP($A694,BasinData!$1:$1048576,2,FALSE)","v":1.9283551367992424},47.969101189981359,{"$f":"VLOOKUP($A694,BasinData!$1:$1048576,3,FALSE)","v":11.283419503827165},{"$f":"VLOOKUP($A694,BasinData!$1:$1048576,4,FALSE)","v":27.028587929540858},{"$f":"VLOOKUP($A694,BasinData!$1:$1048576,5,FALSE)","v":2.47685124275},107.80096445715479,{"$f":"VLOOKUP($A694,Sheet1!$1:$1048576,9,FALSE)","v":170.98278450704569},-2.7206020243548488,{"$f":"VLOOKUP($A694,Sheet1!$1:$1048576,10,FALSE)","v":160.45239468037613},4.2646298312305548,{"$f":"VLOOKUP($A694,Sheet1!$1:$1048576,11,FALSE)","v":139.39161502703701},19.727261172573449,{"$f":"VLOOKUP($A694,Sheet1!$1:$1048576,12,FALSE)","v":107.80044554702833},47.969101189981359]
[20024,{"$f":"VLOOKUP($A695,BasinData!$1:$1048576,2,FALSE)","v":0.11325636978087121},39.415711251418045,{"$f":"VLOOKUP($A695,BasinData!$1:$1048576,3,FALSE)","v":7.7231954802523859},{"$f":"VLOOKUP($A695,BasinData!$1:$1048576,4,FALSE)","v":63.415637860082306},{"$f":"VLOOKUP($A695,BasinData!$1:$1048576,5,FALSE)","v":4.56367575275},43.867180900779722,{"$f":"VLOOKUP($A695,Sheet1!$1:$1048576,9,FALSE)","v":69.577791548471467},-11.274305510365803,{"$f":"VLOOKUP($A695,Sheet1!$1:$1048576,10,FALSE)","v":65.292674363156436},-4.2904781898816298,{"$f":"VLOOKUP($A695,Sheet1!$1:$1048576,11,FALSE)","v":56.722439992526361},11.172754408714221,{"$f":"VLOOKUP($A695,Sheet1!$1:$1048576,12,FALSE)","v":43.867088436581241},39.415711251418045]
[20025,{"$f":"VLOOKUP($A696,BasinData!$1:$1048576,2,FALSE)","v":1.0638140784488637},37.049341715799052,{"$f":"VLOOKUP($A696,BasinData!$1:$1048576,3,FALSE)","v":16.108967740977807},{"$f":"VLOOKUP($A696,BasinData!$1:$1048576,4,FALSE)","v":29.21043713995256},{"$f":"VLOOKUP($A696,BasinData!$1:$1048576,5,FALSE)","v":5.14090333559},108.83721004418808,{"$f":"VLOOKUP($A696,Sheet1!$1:$1048576,9,FALSE)","v":172.62625516581221},-13.640314613793477,{"$f":"VLOOKUP($A696,Sheet1!$1:$1048576,10,FALSE)","v":161.9946482092696},-6.6550562286107704,{"$f":"VLOOKUP($A696,Sheet1!$1:$1048576,11,FALSE)","v":140.7314342961844},8.8075680802496841,{"$f":"VLOOKUP($A696,Sheet1!$1:$1048576,12,FALSE)","v":108.83661342655657},37.049341715799052]
[20048,{"$f":"VLOOKUP($A697,BasinData!$1:$1048576,2,FALSE)","v":0.65281191589204557},46.798809610994205,{"$f":"VLOOKUP($A697,BasinData!$1:$1048576,3,FALSE)","v":2.6495385043803794},{"$f":"VLOOKUP($A697,BasinData!$1:$1048576,4,FALSE)","v":30.315602311453549},{"$f":"VLOOKUP($A697,BasinData!$1:$1048576,5,FALSE)","v":2.7623365439283001},109.11895001098281,{"$f":"VLOOKUP($A697,Sheet1!$1:$1048576,9,FALSE)","v":173.07305540806914},-3.8907790521435417,{"$f":"VLOOKUP($A697,Sheet1!$1:$1048576,10,FALSE)","v":162.41393117404633},3.0943473779992079,{"$f":"VLOOKUP($A697,Sheet1!$1:$1048576,11,FALSE)","v":141.09568270600076},18.557076158034324,{"$f":"VLOOKUP($A697,Sheet1!$1:$1048576,12,FALSE)","v":109.11831000393236},46.798809610994205]
[20049,{"$f":"VLOOKUP($A698,BasinData!$1:$1048576,2,FALSE)","v":1.9550342130987292E-3},46.185414558140238,{"$f":"VLOOKUP($A698,BasinData!$1:$1048576,3,FALSE)","v":2.3878004117646294},{"$f":"VLOOKUP($A698,BasinData!$1:$1048576,4,FALSE)","v":21.640869812933243},{"$f":"VLOOKUP($A698,BasinData!$1:$1048576,5,FALSE)","v":2.91196872640475},148.08862817596352,{"$f":"VLOOKUP($A698,Sheet1!$1:$1048576,9,FALSE)","v":234.88253502612201},-4.5041072031566554,{"$f":"VLOOKUP($A698,Sheet1!$1:$1048576,10,FALSE)","v":220.41672395378268},2.4811239139385814,{"$f":"VLOOKUP($A698,Sheet1!$1:$1048576,11,FALSE)","v":191.48510180910401},17.943732543701131,{"$f":"VLOOKUP($A698,Sheet1!$1:$1048576,12,FALSE)","v":148.087668592086},46.185414558140238]
[20050,{"$f":"VLOOKUP($A699,BasinData!$1:$1048576,2,FALSE)","v":5.1710875331564985},46.204048041241315,{"$f":"VLOOKUP($A699,BasinData!$1:$1048576,3,FALSE)","v":2.4886146983044006},{"$f":"VLOOKUP($A699,BasinData!$1:$1048576,4,FALSE)","v":20.798489344483411},{"$f":"VLOOKUP($A699,BasinData!$1:$1048576,5,FALSE)","v":2.9074232745600002},98.292583809174701,{"$f":"VLOOKUP($A699,Sheet1!$1:$1048576,9,FALSE)","v":155.90131389762004},-4.4854758251953273,{"$f":"VLOOKUP($A699,Sheet1!$1:$1048576,10,FALSE)","v":146.29975304712246},2.4997543911772264,{"$f":"VLOOKUP($A699,Sheet1!$1:$1048576,11,FALSE)","v":127.09663134612728},17.96236457869437,{"$f":"VLOOKUP($A699,Sheet1!$1:$1048576,12,FALSE)","v":98.291948794634507},46.204048041241315]
[20051,{"$f":"VLOOKUP($A700,BasinData!$1:$1048576,2,FALSE)","v":0.68974076116933269},50.044690190738073,{"$f":"VLOOKUP($A700,BasinData!$1:$1048576,3,FALSE)","v":1.1039821252562694},{"$f":"VLOOKUP($A700,BasinData!$1:$1048576,4,FALSE)","v":15.008310561455898},{"$f":"VLOOKUP($A700,BasinData!$1:$1048576,5,FALSE)","v":1.97051490472235},169.30718270735949,{"$f":"VLOOKUP($A700,Sheet1!$1:$1048576,9,FALSE)","v":268.53801841927594},-0.64517816673566297,{"$f":"VLOOKUP($A700,Sheet1!$1:$1048576,10,FALSE)","v":251.99945270700789},6.3400524014041713,{"$f":"VLOOKUP($A700,Sheet1!$1:$1048576,11,FALSE)","v":218.92232128247176},21.802674204513352,{"$f":"VLOOKUP($A700,Sheet1!$1:$1048576,12,FALSE)","v":169.30662414566754},50.044690190738073]
[20052,{"$f":"VLOOKUP($A701,BasinData!$1:$1048576,2,FALSE)","v":2.4938149430303027},53.503069047010172,{"$f":"VLOOKUP($A701,BasinData!$1:$1048576,3,FALSE)","v":0.78695157137141758},{"$f":"VLOOKUP($A701,BasinData!$1:$1048576,4,FALSE)","v":10.933821606068532},{"$f":"VLOOKUP($A701,BasinData!$1:$1048576,5,FALSE)","v":1.12682748},163.68167033590996,{"$f":"VLOOKUP($A701,Sheet1!$1:$1048576,9,FALSE)","v":259.61583977789081},2.8130143030945951,{"$f":"VLOOKUP($A701,Sheet1!$1:$1048576,10,FALSE)","v":243.62676809490674},9.7982437564645206,{"$f":"VLOOKUP($A701,Sheet1!$1:$1048576,11,FALSE)","v":211.64862472893856},25.260798175400794,{"$f":"VLOOKUP($A701,Sheet1!$1:$1048576,12,FALSE)","v":163.68140967998625},53.503069047010172]
[20053,{"$f":"VLOOKUP($A702,BasinData!$1:$1048576,2,FALSE)","v":0.50210716435881997},49.8672520430842,{"$f":"VLOOKUP($A702,BasinData!$1:$1048576,3,FALSE)","v":0.9749726241317902},{"$f":"VLOOKUP($A702,BasinData!$1:$1048576,4,FALSE)","v":14.025858429094725},{"$f":"VLOOKUP($A702,BasinData!$1:$1048576,5,FALSE)","v":2.0138010626299998},176.95030250926902,{"$f":"VLOOKUP($A702,Sheet1!$1:$1048576,9,FALSE)","v":280.66073419687137},-0.82260393551969246,{"$f":"VLOOKUP($A702,Sheet1!$1:$1048576,10,FALSE)","v":263.37556160681709},6.1623353949072666,{"$f":"VLOOKUP($A702,Sheet1!$1:$1048576,11,FALSE)","v":228.80521642670851},21.625246863363024,{"$f":"VLOOKUP($A702,Sheet1!$1:$1048576,12,FALSE)","v":176.94969865654571},49.8672520430842]
[21001,{"$f":"VLOOKUP($A703,BasinData!$1:$1048576,2,FALSE)","v":1.1931965065502184},27.380249339817745,{"$f":"VLOOKUP($A703,BasinData!$1:$1048576,3,FALSE)","v":35.953841626936338},{"$f":"VLOOKUP($A703,BasinData!$1:$1048576,4,FALSE)","v":34.162760971452919},{"$f":"VLOOKUP($A703,BasinData!$1:$1048576,5,FALSE)","v":7.49999074235226},93.303514662215278,{"$f":"VLOOKUP($A703,Sheet1!$1:$1048576,9,FALSE)","v":147.98909669444831},-23.309560559233702,{"$f":"VLOOKUP($A703,Sheet1!$1:$1048576,10,FALSE)","v":138.8748289464867},-16.32472355064543,{"$f":"VLOOKUP($A703,Sheet1!$1:$1048576,11,FALSE)","v":120.64629345056349},-0.86209304646253282,{"$f":"VLOOKUP($A703,Sheet1!$1:$1048576,12,FALSE)","v":93.303490206678646},27.380249339817745]
[21002,{"$f":"VLOOKUP($A704,BasinData!$1:$1048576,2,FALSE)","v":0.10903377110694183},9.5761985495945758,{"$f":"VLOOKUP($A704,BasinData!$1:$1048576,3,FALSE)","v":50.320471962886124},{"$f":"VLOOKUP($A704,BasinData!$1:$1048576,4,FALSE)","v":38.316650414917113},{"$f":"VLOOKUP($A704,BasinData!$1:$1048576,5,FALSE)","v":11.843458921384499},{"$f":"EXP(6.1523-(0.084*B704)-(0.0091*C704)-(0.0289*E704)-(0.0373*F704))","v":90.639086801815282},{"$f":"VLOOKUP($A704,Sheet1!$1:$1048576,9,FALSE)","v":143.76224590133387},-41.113407870778254,{"$f":"VLOOKUP($A704,Sheet1!$1:$1048576,10,FALSE)","v":134.90829901970386},-34.128979547573984,{"$f":"VLOOKUP($A704,Sheet1!$1:$1048576,11,FALSE)","v":117.20040525644383},-18.665543432252036,{"$f":"VLOOKUP($A704,Sheet1!$1:$1048576,12,FALSE)","v":90.63856461155379},9.5761985495945758]
[21003,{"$f":"VLOOKUP($A705,BasinData!$1:$1048576,2,FALSE)","v":0.21693580985227273},27.524379400940298,{"$f":"VLOOKUP($A705,BasinData!$1:$1048576,3,FALSE)","v":100},{"$f":"VLOOKUP($A705,BasinData!$1:$1048576,4,FALSE)","v":42.330762639245926},{"$f":"VLOOKUP($A705,BasinData!$1:$1048576,5,FALSE)","v":7.4648009844691501},79.982624907514932,{"$f":"VLOOKUP($A705,Sheet1!$1:$1048576,9,FALSE)","v":126.86065132431462},-23.16535070026762,{"$f":"VLOOKUP($A705,Sheet1!$1:$1048576,10,FALSE)","v":119.04763017156114},-16.180484231513162,{"$f":"VLOOKUP($A705,Sheet1!$1:$1048576,11,FALSE)","v":103.4215878660542},-0.71785394005691927,{"$f":"VLOOKUP($A705,Sheet1!$1:$1048576,12,FALSE)","v":79.982524407793775},27.524379400940298]
[21004,{"$f":"VLOOKUP($A706,BasinData!$1:$1048576,2,FALSE)","v":0.18517132978068182},28.545730455336731,{"$f":"VLOOKUP($A706,BasinData!$1:$1048576,3,FALSE)","v":100},{"$f":"VLOOKUP($A706,BasinData!$1:$1048576,4,FALSE)","v":57.337723424270933},{"$f":"VLOOKUP($A706,BasinData!$1:$1048576,5,FALSE)","v":7.21557788944724},51.975798611000513,{"$f":"VLOOKUP($A706,Sheet1!$1:$1048576,9,FALSE)","v":82.438808256531175},-22.143974901929063,{"$f":"VLOOKUP($A706,Sheet1!$1:$1048576,10,FALSE)","v":77.361614138479098},-15.158943545761343,{"$f":"VLOOKUP($A706,Sheet1!$1:$1048576,11,FALSE)","v":67.207225902374944},0.30368479016482347,{"$f":"VLOOKUP($A706,Sheet1!$1:$1048576,12,FALSE)","v":51.975643548218713},28.545730455336731]
[21005,{"$f":"VLOOKUP($A707,BasinData!$1:$1048576,2,FALSE)","v":0.28960259529602594},4.9845477267407601,{"$f":"VLOOKUP($A707,BasinData!$1:$1048576,3,FALSE)","v":51.256114436441884},{"$f":"VLOOKUP($A707,BasinData!$1:$1048576,4,FALSE)","v":36.051655342095536},{"$f":"VLOOKUP($A707,BasinData!$1:$1048576,5,FALSE)","v":12.9637622312659},95.313630438429129,{"$f":"VLOOKUP($A707,Sheet1!$1:$1048576,9,FALSE)","v":151.17701595343073},-45.70541609943718,{"$f":"VLOOKUP($A707,Sheet1!$1:$1048576,10,FALSE)","v":141.86641245956451},-38.720690648715617,{"$f":"VLOOKUP($A707,Sheet1!$1:$1048576,11,FALSE)","v":123.24520547183216},-23.257551563519598,{"$f":"VLOOKUP($A707,Sheet1!$1:$1048576,12,FALSE)","v":95.313394990233618},4.9845477267407601]
[21006,{"$f":"VLOOKUP($A708,BasinData!$1:$1048576,2,FALSE)","v":0.52309475237878789},31.613646505043,{"$f":"VLOOKUP($A708,BasinData!$1:$1048576,3,FALSE)","v":2.2148475100324978},{"$f":"VLOOKUP($A708,BasinData!$1:$1048576,4,FALSE)","v":56.79431747992588},{"$f":"VLOOKUP($A708,BasinData!$1:$1048576,5,FALSE)","v":6.4671748238512698},51.320714469560286,{"$f":"VLOOKUP($A708,Sheet1!$1:$1048576,9,FALSE)","v":81.399991152948218},-19.076530912881509,{"$f":"VLOOKUP($A708,Sheet1!$1:$1048576,10,FALSE)","v":76.386775107840023},-12.091426542580168,{"$f":"VLOOKUP($A708,Sheet1!$1:$1048576,11,FALSE)","v":66.360343017623634},3.3713019348644568,{"$f":"VLOOKUP($A708,Sheet1!$1:$1048576,12,FALSE)","v":51.320694882299058},31.613646505043]
[21007,{"$f":"VLOOKUP($A709,BasinData!$1:$1048576,2,FALSE)","v":0.16087312734082396},10.456562129397204,{"$f":"VLOOKUP($A709,BasinData!$1:$1048576,3,FALSE)","v":49.158442274449179},{"$f":"VLOOKUP($A709,BasinData!$1:$1048576,4,FALSE)","v":38.668075094828829},{"$f":"VLOOKUP($A709,BasinData!$1:$1048576,5,FALSE)","v":11.6286548042661},89.333427637529596,{"$f":"VLOOKUP($A709,Sheet1!$1:$1048576,9,FALSE)","v":141.69122040654679},-40.232941101645139,{"$f":"VLOOKUP($A709,Sheet1!$1:$1048576,10,FALSE)","v":132.96482265721073},-33.247707892356232,{"$f":"VLOOKUP($A709,Sheet1!$1:$1048576,11,FALSE)","v":115.51202715853864},-17.785083855326974,{"$f":"VLOOKUP($A709,Sheet1!$1:$1048576,12,FALSE)","v":89.332833910530482},10.456562129397204]
[21008,{"$f":"VLOOKUP($A710,BasinData!$1:$1048576,2,FALSE)","v":9.2646653671969698E-2},30.602139633262574,{"$f":"VLOOKUP($A710,BasinData!$1:$1048576,3,FALSE)","v":7.3869598030451389},{"$f":"VLOOKUP($A710,BasinData!$1:$1048576,4,FALSE)","v":44.665718349928881},{"$f":"VLOOKUP($A710,BasinData!$1:$1048576,5,FALSE)","v":6.7138644533900003},75.548271230716097,{"$f":"VLOOKUP($A710,Sheet1!$1:$1048576,9,FALSE)","v":119.82703397773122},-20.08766107360719,{"$f":"VLOOKUP($A710,Sheet1!$1:$1048576,10,FALSE)","v":112.44719522263659},-13.102524286545155,{"$f":"VLOOKUP($A710,Sheet1!$1:$1048576,11,FALSE)","v":97.687517712447345},2.3601512032648162,{"$f":"VLOOKUP($A710,Sheet1!$1:$1048576,12,FALSE)","v":75.548001447163472},30.602139633262574]
[21009,{"$f":"VLOOKUP($A711,BasinData!$1:$1048576,2,FALSE)","v":0.29688337203071979},26.896306713284446,{"$f":"VLOOKUP($A711,BasinData!$1:$1048576,3,FALSE)","v":47.33631752176742},{"$f":"VLOOKUP($A711,BasinData!$1:$1048576,4,FALSE)","v":31.165471010231684},{"$f":"VLOOKUP($A711,BasinData!$1:$1048576,5,FALSE)","v":7.6180138775300001},109.70241436447944,{"$f":"VLOOKUP($A711,Sheet1!$1:$1048576,9,FALSE)","v":173.99917942336725},-23.793213954638485,{"$f":"VLOOKUP($A711,Sheet1!$1:$1048576,10,FALSE)","v":163.28301759379326},-16.808488649319575,{"$f":"VLOOKUP($A711,Sheet1!$1:$1048576,11,FALSE)","v":141.85069393464528},-1.3458575302512037,{"$f":"VLOOKUP($A711,Sheet1!$1:$1048576,12,FALSE)","v":109.70220844592332},26.896306713284446]
[21010,{"$f":"VLOOKUP($A712,BasinData!$1:$1048576,2,FALSE)","v":0.96892206889772725},6.3931853526455722,{"$f":"VLOOKUP($A712,BasinData!$1:$1048576,3,FALSE)","v":2.8664878933625455},{"$f":"VLOOKUP($A712,BasinData!$1:$1048576,4,FALSE)","v":7.9985256173977142},{"$f":"VLOOKUP($A712,BasinData!$1:$1048576,5,FALSE)","v":12.6200785263},202.52153774587336,{"$f":"VLOOKUP($A712,Sheet1!$1:$1048576,9,FALSE)","v":321.21929586310534},-44.296684538403113,{"$f":"VLOOKUP($A712,Sheet1!$1:$1048576,10,FALSE)","v":301.43622580117517},-37.31145554228145,{"$f":"VLOOKUP($A712,Sheet1!$1:$1048576,11,FALSE)","v":261.87008567731471},-21.848827030903525,{"$f":"VLOOKUP($A712,Sheet1!$1:$1048576,12,FALSE)","v":202.52087549152398},6.3931853526455722]
[21011,{"$f":"VLOOKUP($A713,BasinData!$1:$1048576,2,FALSE)","v":0.22972550517234847},42.776607678972944,{"$f":"VLOOKUP($A713,BasinData!$1:$1048576,3,FALSE)","v":4.0185800582843791},{"$f":"VLOOKUP($A713,BasinData!$1:$1048576,4,FALSE)","v":63.152835629605896},{"$f":"VLOOKUP($A713,BasinData!$1:$1048576,5,FALSE)","v":3.7437739563900001},43.771206239696106,{"$f":"VLOOKUP($A713,Sheet1!$1:$1048576,9,FALSE)","v":69.425692404600781},-7.9135998136978039,{"$f":"VLOOKUP($A713,Sheet1!$1:$1048576,10,FALSE)","v":65.149942614265768},-0.92853411258419372,{"$f":"VLOOKUP($A713,Sheet1!$1:$1048576,11,FALSE)","v":56.598443033595728},14.53426877475243,{"$f":"VLOOKUP($A713,Sheet1!$1:$1048576,12,FALSE)","v":43.771193662590676},42.776607678972944]
[21012,{"$f":"VLOOKUP($A714,BasinData!$1:$1048576,2,FALSE)","v":0.29348907254734846},-31.008369505290045,{"$f":"VLOOKUP($A714,BasinData!$1:$1048576,3,FALSE)","v":1.0565858400259405},{"$f":"VLOOKUP($A714,BasinData!$1:$1048576,4,FALSE)","v":20.640569395017792},{"$f":"VLOOKUP($A714,BasinData!$1:$1048576,5,FALSE)","v":21.744899877000002},148.74387386488655,{"$f":"VLOOKUP($A714,Sheet1!$1:$1048576,9,FALSE)","v":235.92297180269421},-81.698402053589462,{"$f":"VLOOKUP($A714,Sheet1!$1:$1048576,10,FALSE)","v":221.39308290591836},-74.71320030590671,{"$f":"VLOOKUP($A714,Sheet1!$1:$1048576,11,FALSE)","v":192.33330511236667},-59.250596802097533,{"$f":"VLOOKUP($A714,Sheet1!$1:$1048576,12,FALSE)","v":148.74363842203914},-31.008369505290045]
[21013,{"$f":"VLOOKUP($A715,BasinData!$1:$1048576,2,FALSE)","v":0.16798783100522752},-9.6530227899788628,{"$f":"VLOOKUP($A715,BasinData!$1:$1048576,3,FALSE)","v":100},{"$f":"VLOOKUP($A715,BasinData!$1:$1048576,4,FALSE)","v":40.158013544018054},{"$f":"VLOOKUP($A715,BasinData!$1:$1048576,5,FALSE)","v":16.5346911008},85.51749373506324,{"$f":"VLOOKUP($A715,Sheet1!$1:$1048576,9,FALSE)","v":135.63850962408478},-60.342303905485721,{"$f":"VLOOKUP($A715,Sheet1!$1:$1048576,10,FALSE)","v":127.2848827606082},-53.357080948625068,{"$f":"VLOOKUP($A715,Sheet1!$1:$1048576,11,FALSE)","v":110.57762903365504},-37.894510763203982,{"$f":"VLOOKUP($A715,Sheet1!$1:$1048576,12,FALSE)","v":85.51674844322531},-9.6530227899788628]
[21014,{"$f":"VLOOKUP($A716,BasinData!$1:$1048576,2,FALSE)","v":6.0802745449119663E-2},0.33417885400199848,{"$f":"VLOOKUP($A716,BasinData!$1:$1048576,3,FALSE)","v":48.822187771006},{"$f":"VLOOKUP($A716,BasinData!$1:$1048576,4,FALSE)","v":34.543927138986078},{"$f":"VLOOKUP($A716,BasinData!$1:$1048576,5,FALSE)","v":14.0983471083},101.49034799903261,{"$f":"VLOOKUP($A716,Sheet1!$1:$1048576,9,FALSE)","v":160.97417908325494},-50.355963531479674,{"$f":"VLOOKUP($A716,Sheet1!$1:$1048576,10,FALSE)","v":151.06019351645105},-43.371008710810671,{"$f":"VLOOKUP($A716,Sheet1!$1:$1048576,11,FALSE)","v":131.23222238284325},-27.9081010300083,{"$f":"VLOOKUP($A716,Sheet1!$1:$1048576,12,FALSE)","v":101.49026568243157},0.33417885400199848]
[21015,{"$f":"VLOOKUP($A717,BasinData!$1:$1048576,2,FALSE)","v":0.3775484171420454},-48.865807090599738,{"$f":"VLOOKUP($A717,BasinData!$1:$1048576,3,FALSE)","v":100},{"$f":"VLOOKUP($A717,BasinData!$1:$1048576,4,FALSE)","v":14.846996599924442},{"$f":"VLOOKUP($A717,BasinData!$1:$1048576,5,FALSE)","v":26.1015795066},174.61746379700352,{"$f":"VLOOKUP($A717,Sheet1!$1:$1048576,9,FALSE)","v":276.96153394343503},-99.556026040543358,{"$f":"VLOOKUP($A717,Sheet1!$1:$1048576,10,FALSE)","v":259.90418558040983},-92.570798836884748,{"$f":"VLOOKUP($A717,Sheet1!$1:$1048576,11,FALSE)","v":225.78948885435949},-77.10817555336962,{"$f":"VLOOKUP($A717,Sheet1!$1:$1048576,12,FALSE)","v":174.61744376528389},-48.865807090599738]
[21016,{"$f":"VLOOKUP($A718,BasinData!$1:$1048576,2,FALSE)","v":0.29301804437310608},13.705772089680453,{"$f":"VLOOKUP($A718,BasinData!$1:$1048576,3,FALSE)","v":100},{"$f":"VLOOKUP($A718,BasinData!$1:$1048576,4,FALSE)","v":38.704156479217602},{"$f":"VLOOKUP($A718,BasinData!$1:$1048576,5,FALSE)","v":10.836122599399999},88.254656831453445,{"$f":"VLOOKUP($A718,Sheet1!$1:$1048576,9,FALSE)","v":139.98107861359279},-36.984196441270043,{"$f":"VLOOKUP($A718,Sheet1!$1:$1048576,10,FALSE)","v":131.36000409776591},-29.999196915243761,{"$f":"VLOOKUP($A718,Sheet1!$1:$1048576,11,FALSE)","v":114.11785506611217},-14.53657891632718,{"$f":"VLOOKUP($A718,Sheet1!$1:$1048576,12,FALSE)","v":88.254631518631555},13.705772089680453]
[21017,{"$f":"VLOOKUP($A719,BasinData!$1:$1048576,2,FALSE)","v":0},-15.032837544929817,{"$f":"VLOOKUP($A719,BasinData!$1:$1048576,3,FALSE)","v":58.584958327807506},{"$f":"VLOOKUP($A719,BasinData!$1:$1048576,4,FALSE)","v":29.522352453065036},{"$f":"VLOOKUP($A719,BasinData!$1:$1048576,5,FALSE)","v":17.847263421400001},117.94281757009578,{"$f":"VLOOKUP($A719,Sheet1!$1:$1048576,9,FALSE)","v":187.06850988818266},-65.72237561507599,{"$f":"VLOOKUP($A719,Sheet1!$1:$1048576,10,FALSE)","v":175.54744161750199},-58.737174323543663,{"$f":"VLOOKUP($A719,Sheet1!$1:$1048576,11,FALSE)","v":152.5053050761407},-43.27460121991129,{"$f":"VLOOKUP($A719,Sheet1!$1:$1048576,12,FALSE)","v":117.94210026409871},-15.032837544929817]
[21018,{"$f":"VLOOKUP($A720,BasinData!$1:$1048576,2,FALSE)","v":0.21570130437310606},30.949467324835854,{"$f":"VLOOKUP($A720,BasinData!$1:$1048576,3,FALSE)","v":7.4357796179852098},{"$f":"VLOOKUP($A720,BasinData!$1:$1048576,4,FALSE)","v":22.388059701492537},{"$f":"VLOOKUP($A720,BasinData!$1:$1048576,5,FALSE)","v":6.6291724184799996},142.34559682247954,{"$f":"VLOOKUP($A720,Sheet1!$1:$1048576,9,FALSE)","v":225.77457906879849},-19.740528487493904,{"$f":"VLOOKUP($A720,Sheet1!$1:$1048576,10,FALSE)","v":211.86970357270019},-12.755397681310226,{"$f":"VLOOKUP($A720,Sheet1!$1:$1048576,11,FALSE)","v":184.05995258050356},2.7072937115425053,{"$f":"VLOOKUP($A720,Sheet1!$1:$1048576,12,FALSE)","v":142.34532609220864},30.949467324835854]
[21019,{"$f":"VLOOKUP($A721,BasinData!$1:$1048576,2,FALSE)","v":0.33808653401203148},-11.600923606869632,{"$f":"VLOOKUP($A721,BasinData!$1:$1048576,3,FALSE)","v":88.173432305950001},{"$f":"VLOOKUP($A721,BasinData!$1:$1048576,4,FALSE)","v":38.67357166722352},{"$f":"VLOOKUP($A721,BasinData!$1:$1048576,5,FALSE)","v":17.009943938199999},87.999576845068972,{"$f":"VLOOKUP($A721,Sheet1!$1:$1048576,9,FALSE)","v":139.57546303466555},-62.290309789253357,{"$f":"VLOOKUP($A721,Sheet1!$1:$1048576,10,FALSE)","v":130.97936933885626},-55.305084655429447,{"$f":"VLOOKUP($A721,Sheet1!$1:$1048576,11,FALSE)","v":113.78718194723766},-39.842519980322301,{"$f":"VLOOKUP($A721,Sheet1!$1:$1048576,12,FALSE)","v":87.998900859809766},-11.600923606869632]
[21020,{"$f":"VLOOKUP($A722,BasinData!$1:$1048576,2,FALSE)","v":0.21405208114962121},28.288817550439841,{"$f":"VLOOKUP($A722,BasinData!$1:$1048576,3,FALSE)","v":11.700479384886286},{"$f":"VLOOKUP($A722,BasinData!$1:$1048576,4,FALSE)","v":41.023936170212764},{"$f":"VLOOKUP($A722,BasinData!$1:$1048576,5,FALSE)","v":7.2783107347699998},83.081216361620534,{"$f":"VLOOKUP($A722,Sheet1!$1:$1048576,9,FALSE)","v":131.77537500781008},-22.401075752400686,{"$f":"VLOOKUP($A722,Sheet1!$1:$1048576,10,FALSE)","v":123.65966866703148},-15.416079240432726,{"$f":"VLOOKUP($A722,Sheet1!$1:$1048576,11,FALSE)","v":107.42825598547432},4.65496677706142E-2,{"$f":"VLOOKUP($A722,Sheet1!$1:$1048576,12,FALSE)","v":83.081136963138562},28.288817550439841]
[21021,{"$f":"VLOOKUP($A723,BasinData!$1:$1048576,2,FALSE)","v":0.40849599525363395},-8.8841685947390889,{"$f":"VLOOKUP($A723,BasinData!$1:$1048576,3,FALSE)","v":82.05904611842675},{"$f":"VLOOKUP($A723,BasinData!$1:$1048576,4,FALSE)","v":37.421145596770124},{"$f":"VLOOKUP($A723,BasinData!$1:$1048576,5,FALSE)","v":16.347058556699999},90.705308062455984,{"$f":"VLOOKUP($A723,Sheet1!$1:$1048576,9,FALSE)","v":143.86654907415743},-59.5732258558266,{"$f":"VLOOKUP($A723,Sheet1!$1:$1048576,10,FALSE)","v":135.00617842844406},-52.588002353409614,{"$f":"VLOOKUP($A723,Sheet1!$1:$1048576,11,FALSE)","v":117.2854371370173},-37.125425627022302,{"$f":"VLOOKUP($A723,Sheet1!$1:$1048576,12,FALSE)","v":90.704325199877161},-8.8841685947390889]
[21022,{"$f":"VLOOKUP($A724,BasinData!$1:$1048576,2,FALSE)","v":0.47945179892045453},-76.916424584582813,{"$f":"VLOOKUP($A724,BasinData!$1:$1048576,3,FALSE)","v":2.8137743361881555},{"$f":"VLOOKUP($A724,BasinData!$1:$1048576,4,FALSE)","v":12.323491655969192},{"$f":"VLOOKUP($A724,BasinData!$1:$1048576,5,FALSE)","v":32.945030620526801},186.22711209117352,{"$f":"VLOOKUP($A724,Sheet1!$1:$1048576,9,FALSE)","v":295.37568031383722},-127.60667265018996,{"$f":"VLOOKUP($A724,Sheet1!$1:$1048576,10,FALSE)","v":277.18425204817891},-120.6214275593592,{"$f":"VLOOKUP($A724,Sheet1!$1:$1048576,11,FALSE)","v":240.80139551686236},-105.1587932749581,{"$f":"VLOOKUP($A724,Sheet1!$1:$1048576,12,FALSE)","v":186.22711071988749},-76.916424584582813]
[21023,{"$f":"VLOOKUP($A725,BasinData!$1:$1048576,2,FALSE)","v":0.41955741343750003},-83.13478945721431,{"$f":"VLOOKUP($A725,BasinData!$1:$1048576,3,FALSE)","v":12.629365244769945},{"$f":"VLOOKUP($A725,BasinData!$1:$1048576,4,FALSE)","v":12.078479460453709},{"$f":"VLOOKUP($A725,BasinData!$1:$1048576,5,FALSE)","v":34.462111632300001},188.49640612189972,{"$f":"VLOOKUP($A725,Sheet1!$1:$1048576,9,FALSE)","v":298.97501844714429},-133.82505771440091,{"$f":"VLOOKUP($A725,Sheet1!$1:$1048576,10,FALSE)","v":280.56191620552994},-126.83979246678953,{"$f":"VLOOKUP($A725,Sheet1!$1:$1048576,11,FALSE)","v":243.73571172230118},-111.37715771196513,{"$f":"VLOOKUP($A725,Sheet1!$1:$1048576,12,FALSE)","v":188.496404997458},-83.13478945721431]
[21024,{"$f":"VLOOKUP($A726,BasinData!$1:$1048576,2,FALSE)","v":0.3566132154147727},-56.30247310119433,{"$f":"VLOOKUP($A726,BasinData!$1:$1048576,3,FALSE)","v":100},{"$f":"VLOOKUP($A726,BasinData!$1:$1048576,4,FALSE)","v":9.267319550235765},{"$f":"VLOOKUP($A726,BasinData!$1:$1048576,5,FALSE)","v":27.915889464599999},205.53344767375646,{"$f":"VLOOKUP($A726,Sheet1!$1:$1048576,9,FALSE)","v":325.99754595578071},-106.99270089100794,{"$f":"VLOOKUP($A726,Sheet1!$1:$1048576,10,FALSE)","v":305.92019576319137},-100.00747576145713,{"$f":"VLOOKUP($A726,Sheet1!$1:$1048576,11,FALSE)","v":265.7654953780127},-84.544847654123942,{"$f":"VLOOKUP($A726,Sheet1!$1:$1048576,12,FALSE)","v":205.53344480024469},-56.30247310119433]
[21025,{"$f":"VLOOKUP($A727,BasinData!$1:$1048576,2,FALSE)","v":3.1539641261585656E-2},-14.644889314109783,{"$f":"VLOOKUP($A727,BasinData!$1:$1048576,3,FALSE)","v":47.300231170282117},{"$f":"VLOOKUP($A727,BasinData!$1:$1048576,4,FALSE)","v":32.430753735101561},{"$f":"VLOOKUP($A727,BasinData!$1:$1048576,5,FALSE)","v":17.752612044700001},108.14770705846369,{"$f":"VLOOKUP($A727,Sheet1!$1:$1048576,9,FALSE)","v":171.53250563589415},-65.334378612535289,{"$f":"VLOOKUP($A727,Sheet1!$1:$1048576,10,FALSE)","v":160.968259899114},-58.349207700643369,{"$f":"VLOOKUP($A727,Sheet1!$1:$1048576,11,FALSE)","v":139.83976842555367},-42.886635513610585,{"$f":"VLOOKUP($A727,Sheet1!$1:$1048576,12,FALSE)","v":108.14703121521318},-14.644889314109783]
[21026,{"$f":"VLOOKUP($A728,BasinData!$1:$1048576,2,FALSE)","v":0.13757878722016953},-43.229761231305702,{"$f":"VLOOKUP($A728,BasinData!$1:$1048576,3,FALSE)","v":18.596440071015405},{"$f":"VLOOKUP($A728,BasinData!$1:$1048576,4,FALSE)","v":35.15853983479883},{"$f":"VLOOKUP($A728,BasinData!$1:$1048576,5,FALSE)","v":24.7265597749},99.062575701345835,{"$f":"VLOOKUP($A728,Sheet1!$1:$1048576,9,FALSE)","v":157.12355640960612},-93.919962766303058,{"$f":"VLOOKUP($A728,Sheet1!$1:$1048576,10,FALSE)","v":147.44672078714217},-86.934729068431793,{"$f":"VLOOKUP($A728,Sheet1!$1:$1048576,11,FALSE)","v":128.09304954221429},-71.472110663050074,{"$f":"VLOOKUP($A728,Sheet1!$1:$1048576,12,FALSE)","v":99.062542674822424},-43.229761231305702]
[21027,{"$f":"VLOOKUP($A729,BasinData!$1:$1048576,2,FALSE)","v":0.18113175833238637},-152.19380318780875,{"$f":"VLOOKUP($A729,BasinData!$1:$1048576,3,FALSE)","v":3.6011733469786784},{"$f":"VLOOKUP($A729,BasinData!$1:$1048576,4,FALSE)","v":3.6492374727668841},{"$f":"VLOOKUP($A729,BasinData!$1:$1048576,5,FALSE)","v":51.310251100599999},245.35673489053207,{"$f":"VLOOKUP($A729,Sheet1!$1:$1048576,9,FALSE)","v":389.16089426031971},-202.88385126944459,{"$f":"VLOOKUP($A729,Sheet1!$1:$1048576,10,FALSE)","v":365.19347593998214},-195.89864869222819,{"$f":"VLOOKUP($A729,Sheet1!$1:$1048576,11,FALSE)","v":317.25863929930699},-180.43624076547673,{"$f":"VLOOKUP($A729,Sheet1!$1:$1048576,12,FALSE)","v":245.35638433829428},-152.19380318780875]
[21028,{"$f":"VLOOKUP($A730,BasinData!$1:$1048576,2,FALSE)","v":0.30393392757765153},5.6837539471043987,{"$f":"VLOOKUP($A730,BasinData!$1:$1048576,3,FALSE)","v":29.210620391028627},{"$f":"VLOOKUP($A730,BasinData!$1:$1048576,4,FALSE)","v":43.625967036663305},{"$f":"VLOOKUP($A730,BasinData!$1:$1048576,5,FALSE)","v":12.793168315500001},76.483250078545623,{"$f":"VLOOKUP($A730,Sheet1!$1:$1048576,9,FALSE)","v":121.31009081671601},-45.006163633007723,{"$f":"VLOOKUP($A730,Sheet1!$1:$1048576,10,FALSE)","v":113.83891440622735},-38.021484356037199,{"$f":"VLOOKUP($A730,Sheet1!$1:$1048576,11,FALSE)","v":98.896561585250012},-22.558304430365901,{"$f":"VLOOKUP($A730,Sheet1!$1:$1048576,12,FALSE)","v":76.483032353784012},5.6837539471043987]
[21029,{"$f":"VLOOKUP($A731,BasinData!$1:$1048576,2,FALSE)","v":0.16396532227666791},-13.189668498639056,{"$f":"VLOOKUP($A731,BasinData!$1:$1048576,3,FALSE)","v":88.9632593061542},{"$f":"VLOOKUP($A731,BasinData!$1:$1048576,4,FALSE)","v":20.102169442048694},{"$f":"VLOOKUP($A731,BasinData!$1:$1048576,5,FALSE)","v":17.397752433499999},152.72883574964433,{"$f":"VLOOKUP($A731,Sheet1!$1:$1048576,9,FALSE)","v":242.2439108744},-63.879477826783962,{"$f":"VLOOKUP($A731,Sheet1!$1:$1048576,10,FALSE)","v":227.32473160147555},-56.894673283473779,{"$f":"VLOOKUP($A731,Sheet1!$1:$1048576,11,FALSE)","v":197.48637305562659},-41.432104615614762,{"$f":"VLOOKUP($A731,Sheet1!$1:$1048576,12,FALSE)","v":152.72883523685312},-13.189668498639056]
[21030,{"$f":"VLOOKUP($A732,BasinData!$1:$1048576,2,FALSE)","v":0.15008262753446969},-57.069350632108595,{"$f":"VLOOKUP($A732,BasinData!$1:$1048576,3,FALSE)","v":0.46949240197490405},{"$f":"VLOOKUP($A732,BasinData!$1:$1048576,4,FALSE)","v":29.56171735241503},{"$f":"VLOOKUP($A732,BasinData!$1:$1048576,5,FALSE)","v":28.102982918799999},116.33212604959142,{"$f":"VLOOKUP($A732,Sheet1!$1:$1048576,9,FALSE)","v":184.51491982926058},-107.75901240956382,{"$f":"VLOOKUP($A732,Sheet1!$1:$1048576,10,FALSE)","v":173.15112060093105},-100.77435330878703,{"$f":"VLOOKUP($A732,Sheet1!$1:$1048576,11,FALSE)","v":150.42352214427206},-85.311724799320899,{"$f":"VLOOKUP($A732,Sheet1!$1:$1048576,12,FALSE)","v":116.33212445928358},-57.069350632108595]
[21031,{"$f":"VLOOKUP($A733,BasinData!$1:$1048576,2,FALSE)","v":0.26607541899441339},16.755627921162855,{"$f":"VLOOKUP($A733,BasinData!$1:$1048576,3,FALSE)","v":13.140271347558942},{"$f":"VLOOKUP($A733,BasinData!$1:$1048576,4,FALSE)","v":46.995108315863035},{"$f":"VLOOKUP($A733,BasinData!$1:$1048576,5,FALSE)","v":10.0920148046},69.608220303970768,{"$f":"VLOOKUP($A733,Sheet1!$1:$1048576,9,FALSE)","v":110.4057187936},-33.934402045892028,{"$f":"VLOOKUP($A733,Sheet1!$1:$1048576,10,FALSE)","v":103.60611460337606},-26.949172836180658,{"$f":"VLOOKUP($A733,Sheet1!$1:$1048576,11,FALSE)","v":90.006906222928166},-11.486563156597787,{"$f":"VLOOKUP($A733,Sheet1!$1:$1048576,12,FALSE)","v":69.608093652256329},16.755627921162855]
[21032,{"$f":"VLOOKUP($A734,BasinData!$1:$1048576,2,FALSE)","v":8.3294916557007576E-2},11.055083020258813,{"$f":"VLOOKUP($A734,BasinData!$1:$1048576,3,FALSE)","v":1.0995157593529457},{"$f":"VLOOKUP($A734,BasinData!$1:$1048576,4,FALSE)","v":26.234807344194465},{"$f":"VLOOKUP($A734,BasinData!$1:$1048576,5,FALSE)","v":11.482812840799999},128.79308448160623,{"$f":"VLOOKUP($A734,Sheet1!$1:$1048576,9,FALSE)","v":204.27930374846835},-39.635147190664128,{"$f":"VLOOKUP($A734,Sheet1!$1:$1048576,10,FALSE)","v":191.69826696050231},-32.649916132380724,{"$f":"VLOOKUP($A734,Sheet1!$1:$1048576,11,FALSE)","v":166.53619338457023},-17.187293019185134,{"$f":"VLOOKUP($A734,Sheet1!$1:$1048576,12,FALSE)","v":128.7930830206721},11.055083020258813]
[21033,{"$f":"VLOOKUP($A735,BasinData!$1:$1048576,2,FALSE)","v":0.71123519823106063},-1.9787308998779072,{"$f":"VLOOKUP($A735,BasinData!$1:$1048576,3,FALSE)","v":100},{"$f":"VLOOKUP($A735,BasinData!$1:$1048576,4,FALSE)","v":36.464088397790057},{"$f":"VLOOKUP($A735,BasinData!$1:$1048576,5,FALSE)","v":14.6626337832},90.906753988602674,{"$f":"VLOOKUP($A735,Sheet1!$1:$1048576,9,FALSE)","v":144.18756508776778},-52.668891475225429,{"$f":"VLOOKUP($A735,Sheet1!$1:$1048576,10,FALSE)","v":135.30742389162344},-45.683874680535425,{"$f":"VLOOKUP($A735,Sheet1!$1:$1048576,11,FALSE)","v":117.5471414993348},-30.221414341266112,{"$f":"VLOOKUP($A735,Sheet1!$1:$1048576,12,FALSE)","v":90.906717910901818},-1.9787308998779072]
[21034,{"$f":"VLOOKUP($A736,BasinData!$1:$1048576,2,FALSE)","v":0.14516834280717097},9.9860420777484524,{"$f":"VLOOKUP($A736,BasinData!$1:$1048576,3,FALSE)","v":75.700334194426162},{"$f":"VLOOKUP($A736,BasinData!$1:$1048576,4,FALSE)","v":29.904882688649337},{"$f":"VLOOKUP($A736,BasinData!$1:$1048576,5,FALSE)","v":11.743459552199999},115.23237310236843,{"$f":"VLOOKUP($A736,Sheet1!$1:$1048576,9,FALSE)","v":182.76947297028818},-40.703517056711163,{"$f":"VLOOKUP($A736,Sheet1!$1:$1048576,10,FALSE)","v":171.51317132365796},-33.718281181552015,{"$f":"VLOOKUP($A736,Sheet1!$1:$1048576,11,FALSE)","v":149.00056803039752},-18.255656470647626,{"$f":"VLOOKUP($A736,Sheet1!$1:$1048576,12,FALSE)","v":115.23166309050681},9.9860420777484524]
[21035,{"$f":"VLOOKUP($A737,BasinData!$1:$1048576,2,FALSE)","v":7.1563310539966993E-2},7.4558497159054253,{"$f":"VLOOKUP($A737,BasinData!$1:$1048576,3,FALSE)","v":51.637384259686343},{"$f":"VLOOKUP($A737,BasinData!$1:$1048576,4,FALSE)","v":35.666670439240804},{"$f":"VLOOKUP($A737,BasinData!$1:$1048576,5,FALSE)","v":12.360803349299999},98.161659749869031,{"$f":"VLOOKUP($A737,Sheet1!$1:$1048576,9,FALSE)","v":155.69404086355308},-43.233923770850446,{"$f":"VLOOKUP($A737,Sheet1!$1:$1048576,10,FALSE)","v":146.10524542599208},-36.249375150123051,{"$f":"VLOOKUP($A737,Sheet1!$1:$1048576,11,FALSE)","v":126.9276545508701},-20.786084654327752,{"$f":"VLOOKUP($A737,Sheet1!$1:$1048576,12,FALSE)","v":98.16126823818712},7.4558497159054253]
[21036,{"$f":"VLOOKUP($A738,BasinData!$1:$1048576,2,FALSE)","v":0.55176685446969698},7.6731654999271113,{"$f":"VLOOKUP($A738,BasinData!$1:$1048576,3,FALSE)","v":23.670605683143194},{"$f":"VLOOKUP($A738,BasinData!$1:$1048576,4,FALSE)","v":28.018757327080891},{"$f":"VLOOKUP($A738,BasinData!$1:$1048576,5,FALSE)","v":12.3077809964},117.60169636781235,{"$f":"VLOOKUP($A738,Sheet1!$1:$1048576,9,FALSE)","v":186.52781987014544},-43.016603719374842,{"$f":"VLOOKUP($A738,Sheet1!$1:$1048576,10,FALSE)","v":175.04005130669398},-36.031378890309192,{"$f":"VLOOKUP($A738,Sheet1!$1:$1048576,11,FALSE)","v":152.0645141797911},-20.568751483991576,{"$f":"VLOOKUP($A738,Sheet1!$1:$1048576,12,FALSE)","v":117.60120848943679},7.6731654999271113]
[21037,{"$f":"VLOOKUP($A739,BasinData!$1:$1048576,2,FALSE)","v":0.336574739717803},15.408934777010991,{"$f":"VLOOKUP($A739,BasinData!$1:$1048576,3,FALSE)","v":100},{"$f":"VLOOKUP($A739,BasinData!$1:$1048576,4,FALSE)","v":31.110126301794814},{"$f":"VLOOKUP($A739,BasinData!$1:$1048576,5,FALSE)","v":10.420589274799999},109.5121810265282,{"$f":"VLOOKUP($A739,Sheet1!$1:$1048576,9,FALSE)","v":173.69761983765468},-35.28118794635202,{"$f":"VLOOKUP($A739,Sheet1!$1:$1048576,10,FALSE)","v":163.00003028717111},-28.29596700926189,{"$f":"VLOOKUP($A739,Sheet1!$1:$1048576,11,FALSE)","v":141.60485118620397},-12.833353298521944,{"$f":"VLOOKUP($A739,Sheet1!$1:$1048576,12,FALSE)","v":109.51208253475328},15.408934777010991]
[21038,{"$f":"VLOOKUP($A740,BasinData!$1:$1048576,2,FALSE)","v":0.21201037618181817},-13.985162883093475,{"$f":"VLOOKUP($A740,BasinData!$1:$1048576,3,FALSE)","v":100},{"$f":"VLOOKUP($A740,BasinData!$1:$1048576,4,FALSE)","v":20.494357872111767},{"$f":"VLOOKUP($A740,BasinData!$1:$1048576,5,FALSE)","v":17.591652180699999},150.40032039400197,{"$f":"VLOOKUP($A740,Sheet1!$1:$1048576,9,FALSE)","v":238.54908221084256},-64.674515777657447,{"$f":"VLOOKUP($A740,Sheet1!$1:$1048576,10,FALSE)","v":223.8574579299729},-57.689449152460512,{"$f":"VLOOKUP($A740,Sheet1!$1:$1048576,11,FALSE)","v":194.47420936823357},-42.226878545370234,{"$f":"VLOOKUP($A740,Sheet1!$1:$1048576,12,FALSE)","v":150.39933652562462},-13.985162883093475]
[21039,{"$f":"VLOOKUP($A741,BasinData!$1:$1048576,2,FALSE)","v":0.50884126060227275},1.9030484200001656,{"$f":"VLOOKUP($A741,BasinData!$1:$1048576,3,FALSE)","v":7.2168567432965555E-2},{"$f":"VLOOKUP($A741,BasinData!$1:$1048576,4,FALSE)","v":27.996965098634298},{"$f":"VLOOKUP($A741,BasinData!$1:$1048576,5,FALSE)","v":13.715582231999999},118.10051511552666,{"$f":"VLOOKUP($A741,Sheet1!$1:$1048576,9,FALSE)","v":187.31954240319237},-48.78704247103061,{"$f":"VLOOKUP($A741,Sheet1!$1:$1048576,10,FALSE)","v":175.78301368571971},-41.802163949929053,{"$f":"VLOOKUP($A741,Sheet1!$1:$1048576,11,FALSE)","v":152.70995625077435},-26.339186031695164,{"$f":"VLOOKUP($A741,Sheet1!$1:$1048576,12,FALSE)","v":118.10037009835634},1.9030484200001656]
[21040,{"$f":"VLOOKUP($A742,BasinData!$1:$1048576,2,FALSE)","v":5.3268765133171914E-2},-15.125278632920606,{"$f":"VLOOKUP($A742,BasinData!$1:$1048576,3,FALSE)","v":56.670887939483563},{"$f":"VLOOKUP($A742,BasinData!$1:$1048576,4,FALSE)","v":30.111144002798785},{"$f":"VLOOKUP($A742,BasinData!$1:$1048576,5,FALSE)","v":17.869817129600001},115.43518673809682,{"$f":"VLOOKUP($A742,Sheet1!$1:$1048576,9,FALSE)","v":183.09117645140165},-65.81482585369568,{"$f":"VLOOKUP($A742,Sheet1!$1:$1048576,10,FALSE)","v":171.81506191498553},-58.829619740700785,{"$f":"VLOOKUP($A742,Sheet1!$1:$1048576,11,FALSE)","v":149.26283284215333},-43.367046420011519,{"$f":"VLOOKUP($A742,Sheet1!$1:$1048576,12,FALSE)","v":115.43448923290499},-15.125278632920606]
[21041,{"$f":"VLOOKUP($A743,BasinData!$1:$1048576,2,FALSE)","v":0.41344196887310602},20.610600530648071,{"$f":"VLOOKUP($A743,BasinData!$1:$1048576,3,FALSE)","v":11.065142303278348},{"$f":"VLOOKUP($A743,BasinData!$1:$1048576,4,FALSE)","v":37.128338198724187},{"$f":"VLOOKUP($A743,BasinData!$1:$1048576,5,FALSE)","v":9.1515717984599991},91.437146044269241,{"$f":"VLOOKUP($A743,Sheet1!$1:$1048576,9,FALSE)","v":145.0288661296386},-30.079625655618596,{"$f":"VLOOKUP($A743,Sheet1!$1:$1048576,10,FALSE)","v":136.09691136666049},-23.094390252910092,{"$f":"VLOOKUP($A743,Sheet1!$1:$1048576,11,FALSE)","v":118.23300184070426},-7.6317957857661423,{"$f":"VLOOKUP($A743,Sheet1!$1:$1048576,12,FALSE)","v":91.437137551769908},20.610600530648071]
[21042,{"$f":"VLOOKUP($A744,BasinData!$1:$1048576,2,FALSE)","v":0.24268713815530302},-8.5281761784078185,{"$f":"VLOOKUP($A744,BasinData!$1:$1048576,3,FALSE)","v":2.1888067902114057},{"$f":"VLOOKUP($A744,BasinData!$1:$1048576,4,FALSE)","v":45.640942847917337},{"$f":"VLOOKUP($A744,BasinData!$1:$1048576,5,FALSE)","v":16.260498093399999},72.528591992730682,{"$f":"VLOOKUP($A744,Sheet1!$1:$1048576,9,FALSE)","v":115.03793353311724},-59.218412206568878,{"$f":"VLOOKUP($A744,Sheet1!$1:$1048576,10,FALSE)","v":107.95304315394397},-52.233204199252597,{"$f":"VLOOKUP($A744,Sheet1!$1:$1048576,11,FALSE)","v":93.783262395597404},-36.770623833070395,{"$f":"VLOOKUP($A744,Sheet1!$1:$1048576,12,FALSE)","v":72.52859125807754},-8.5281761784078185]
[21043,{"$f":"VLOOKUP($A745,BasinData!$1:$1048576,2,FALSE)","v":0.12732649156375023},-1.2481037421559791,{"$f":"VLOOKUP($A745,BasinData!$1:$1048576,3,FALSE)","v":50.77647566968205},{"$f":"VLOOKUP($A745,BasinData!$1:$1048576,4,FALSE)","v":33.886624970768089},{"$f":"VLOOKUP($A745,BasinData!$1:$1048576,5,FALSE)","v":14.4843813524},102.86026664594634,{"$f":"VLOOKUP($A745,Sheet1!$1:$1048576,9,FALSE)","v":163.14706148387049},-51.938282691918616,{"$f":"VLOOKUP($A745,Sheet1!$1:$1048576,10,FALSE)","v":153.09925367998022},-44.953261912627099,{"$f":"VLOOKUP($A745,Sheet1!$1:$1048576,11,FALSE)","v":133.00363807219966},-29.490914352012716,{"$f":"VLOOKUP($A745,Sheet1!$1:$1048576,12,FALSE)","v":102.86021466052884},-1.2481037421559791]
[21045,{"$f":"VLOOKUP($A746,BasinData!$1:$1048576,2,FALSE)","v":0.40294038136174243},39.178991994812165,{"$f":"VLOOKUP($A746,BasinData!$1:$1048576,3,FALSE)","v":5.9430818229832933},{"$f":"VLOOKUP($A746,BasinData!$1:$1048576,4,FALSE)","v":52.670623145400597},{"$f":"VLOOKUP($A746,BasinData!$1:$1048576,5,FALSE)","v":4.6214212717900001},58.402818956538844,{"$f":"VLOOKUP($A746,Sheet1!$1:$1048576,9,FALSE)","v":92.632763609999216},-11.510999552340145,{"$f":"VLOOKUP($A746,Sheet1!$1:$1048576,10,FALSE)","v":86.927750006744759},-4.5257509051185725,{"$f":"VLOOKUP($A746,Sheet1!$1:$1048576,11,FALSE)","v":75.517722800235831},10.9365430913076,{"$f":"VLOOKUP($A746,Sheet1!$1:$1048576,12,FALSE)","v":58.402681990472445},39.178991994812165]
[21046,{"$f":"VLOOKUP($A747,BasinData!$1:$1048576,2,FALSE)","v":4.54014598540146E-2},24.98772993418919,{"$f":"VLOOKUP($A747,BasinData!$1:$1048576,3,FALSE)","v":32.303958420709819},{"$f":"VLOOKUP($A747,BasinData!$1:$1048576,4,FALSE)","v":40.843575059519985},{"$f":"VLOOKUP($A747,BasinData!$1:$1048576,5,FALSE)","v":8.0836812268700005},84.706920639534175,{"$f":"VLOOKUP($A747,Sheet1!$1:$1048576,9,FALSE)","v":134.35396631004642},-25.702441160335407,{"$f":"VLOOKUP($A747,Sheet1!$1:$1048576,10,FALSE)","v":126.07945116465928},-18.717212839227216,{"$f":"VLOOKUP($A747,Sheet1!$1:$1048576,11,FALSE)","v":109.53042087388496},-3.2555047522518938,{"$f":"VLOOKUP($A747,Sheet1!$1:$1048576,12,FALSE)","v":84.706875437723511},24.98772993418919]
[21047,{"$f":"VLOOKUP($A748,BasinData!$1:$1048576,2,FALSE)","v":2.1201413427561835E-3},25.631007986087123,{"$f":"VLOOKUP($A748,BasinData!$1:$1048576,3,FALSE)","v":41.524778877880856},{"$f":"VLOOKUP($A748,BasinData!$1:$1048576,4,FALSE)","v":35.388853570671749},{"$f":"VLOOKUP($A748,BasinData!$1:$1048576,5,FALSE)","v":7.9266950304100003},99.531695644264119,{"$f":"VLOOKUP($A748,Sheet1!$1:$1048576,9,FALSE)","v":157.86732082409654},-25.058970028162388,{"$f":"VLOOKUP($A748,Sheet1!$1:$1048576,10,FALSE)","v":148.14467866475599},-18.073742017887437,{"$f":"VLOOKUP($A748,Sheet1!$1:$1048576,11,FALSE)","v":128.69939434607485},-2.6111098867113189,{"$f":"VLOOKUP($A748,Sheet1!$1:$1048576,12,FALSE)","v":99.531467868053142},25.631007986087123]
[21048,{"$f":"VLOOKUP($A749,BasinData!$1:$1048576,2,FALSE)","v":1.1185682326621924E-3},27.414912420922096,{"$f":"VLOOKUP($A749,BasinData!$1:$1048576,3,FALSE)","v":27.851098332199932},{"$f":"VLOOKUP($A749,BasinData!$1:$1048576,4,FALSE)","v":45.383839456360157},{"$f":"VLOOKUP($A749,BasinData!$1:$1048576,5,FALSE)","v":7.49153016029},74.567391617947251,{"$f":"VLOOKUP($A749,Sheet1!$1:$1048576,9,FALSE)","v":118.27163597028539},-23.274888711995434,{"$f":"VLOOKUP($A749,Sheet1!$1:$1048576,10,FALSE)","v":110.98759017704509},-16.29004446587836,{"$f":"VLOOKUP($A749,Sheet1!$1:$1048576,11,FALSE)","v":96.419498590564501},-0.82741401154753758,{"$f":"VLOOKUP($A749,Sheet1!$1:$1048576,12,FALSE)","v":74.567361210843586},27.414912420922096]
[21049,{"$f":"VLOOKUP($A750,BasinData!$1:$1048576,2,FALSE)","v":1.2558059521761568E-2},23.331250082464155,{"$f":"VLOOKUP($A750,BasinData!$1:$1048576,3,FALSE)","v":27.513757790293436},{"$f":"VLOOKUP($A750,BasinData!$1:$1048576,4,FALSE)","v":46.502384737678852},{"$f":"VLOOKUP($A750,BasinData!$1:$1048576,5,FALSE)","v":8.4877359927300002},72.126338001391332,{"$f":"VLOOKUP($A750,Sheet1!$1:$1048576,9,FALSE)","v":114.3995451267795},-27.358622855766242,{"$f":"VLOOKUP($A750,Sheet1!$1:$1048576,10,FALSE)","v":107.35397144723153},-20.373393189705883,{"$f":"VLOOKUP($A750,Sheet1!$1:$1048576,11,FALSE)","v":93.262824088135588},-4.9109458241677268,{"$f":"VLOOKUP($A750,Sheet1!$1:$1048576,12,FALSE)","v":72.126103049491675},23.331250082464155]
[21050,{"$f":"VLOOKUP($A751,BasinData!$1:$1048576,2,FALSE)","v":0.15684936054886364},37.645253145654337,{"$f":"VLOOKUP($A751,BasinData!$1:$1048576,3,FALSE)","v":5.9088867139795616},{"$f":"VLOOKUP($A751,BasinData!$1:$1048576,4,FALSE)","v":45.553145336225597},{"$f":"VLOOKUP($A751,BasinData!$1:$1048576,5,FALSE)","v":4.9955490841700003},73.239359096092301,{"$f":"VLOOKUP($A751,Sheet1!$1:$1048576,9,FALSE)","v":116.16477440334573},-13.044518947685921,{"$f":"VLOOKUP($A751,Sheet1!$1:$1048576,10,FALSE)","v":109.01048479389122},-6.0602402732613738,{"$f":"VLOOKUP($A751,Sheet1!$1:$1048576,11,FALSE)","v":94.701905574982206},9.4033555741207397,{"$f":"VLOOKUP($A751,Sheet1!$1:$1048576,12,FALSE)","v":73.23903674661868},37.645253145654337]
[21051,{"$f":"VLOOKUP($A752,BasinData!$1:$1048576,2,FALSE)","v":0.12151192288178589},22.875794766646514,{"$f":"VLOOKUP($A752,BasinData!$1:$1048576,3,FALSE)","v":48.352089993024002},{"$f":"VLOOKUP($A752,BasinData!$1:$1048576,4,FALSE)","v":33.267412397256038},{"$f":"VLOOKUP($A752,BasinData!$1:$1048576,5,FALSE)","v":8.5988815386000006},104.76887845007762,{"$f":"VLOOKUP($A752,Sheet1!$1:$1048576,9,FALSE)","v":166.17404100046286},-27.814197984413326,{"$f":"VLOOKUP($A752,Sheet1!$1:$1048576,10,FALSE)","v":155.93980931536748},-20.82896774497792,{"$f":"VLOOKUP($A752,Sheet1!$1:$1048576,11,FALSE)","v":135.47134594517669},-5.3664185596345639,{"$f":"VLOOKUP($A752,Sheet1!$1:$1048576,12,FALSE)","v":104.76865088989051},22.875794766646514]
[21052,{"$f":"VLOOKUP($A753,BasinData!$1:$1048576,2,FALSE)","v":0.34325306678782369},28.104774908058634,{"$f":"VLOOKUP($A753,BasinData!$1:$1048576,3,FALSE)","v":40.950460907847436},{"$f":"VLOOKUP($A753,BasinData!$1:$1048576,4,FALSE)","v":39.054024734215666},{"$f":"VLOOKUP($A753,BasinData!$1:$1048576,5,FALSE)","v":7.3231181759100004},86.999264791478367,{"$f":"VLOOKUP($A753,Sheet1!$1:$1048576,9,FALSE)","v":137.98932488551469},-22.584709494956147,{"$f":"VLOOKUP($A753,Sheet1!$1:$1048576,10,FALSE)","v":129.4909173578051},-15.59974048617658,{"$f":"VLOOKUP($A753,Sheet1!$1:$1048576,11,FALSE)","v":112.49410230238593},-0.13711120378937053,{"$f":"VLOOKUP($A753,Sheet1!$1:$1048576,12,FALSE)","v":86.998879719257133},28.104774908058634]
[21053,{"$f":"VLOOKUP($A754,BasinData!$1:$1048576,2,FALSE)","v":0.3826315100776515},5.5612213212527273,{"$f":"VLOOKUP($A754,BasinData!$1:$1048576,3,FALSE)","v":0.41749210575016898},{"$f":"VLOOKUP($A754,BasinData!$1:$1048576,4,FALSE)","v":26.938775510204081},{"$f":"VLOOKUP($A754,BasinData!$1:$1048576,5,FALSE)","v":12.823064179199999},123.06601675829199,{"$f":"VLOOKUP($A754,Sheet1!$1:$1048576,9,FALSE)","v":195.19503527247636},-45.12870428292117,{"$f":"VLOOKUP($A754,Sheet1!$1:$1048576,10,FALSE)","v":183.17347520971467},-38.14401718876632,{"$f":"VLOOKUP($A754,Sheet1!$1:$1048576,11,FALSE)","v":159.13035508419125},-22.680844534526393,{"$f":"VLOOKUP($A754,Sheet1!$1:$1048576,12,FALSE)","v":123.06567489590614},5.5612213212527273]
[21054,{"$f":"VLOOKUP($A755,BasinData!$1:$1048576,2,FALSE)","v":0.16758703481392559},21.000467505754344,{"$f":"VLOOKUP($A755,BasinData!$1:$1048576,3,FALSE)","v":36.525753166465257},{"$f":"VLOOKUP($A755,BasinData!$1:$1048576,4,FALSE)","v":40.892123926838373},{"$f":"VLOOKUP($A755,BasinData!$1:$1048576,5,FALSE)","v":9.05645387673},83.724389228799865,{"$f":"VLOOKUP($A755,Sheet1!$1:$1048576,9,FALSE)","v":132.79561358747483},-29.689745487417163,{"$f":"VLOOKUP($A755,Sheet1!$1:$1048576,10,FALSE)","v":124.61707337724528},-22.704511332373986,{"$f":"VLOOKUP($A755,Sheet1!$1:$1048576,11,FALSE)","v":108.25999295678619},-7.2419187461972729,{"$f":"VLOOKUP($A755,Sheet1!$1:$1048576,12,FALSE)","v":83.724372326097551},21.000467505754344]
[21055,{"$f":"VLOOKUP($A756,BasinData!$1:$1048576,2,FALSE)","v":0.2910845438939394},15.966326777036562,{"$f":"VLOOKUP($A756,BasinData!$1:$1048576,3,FALSE)","v":1.3522204574900205},{"$f":"VLOOKUP($A756,BasinData!$1:$1048576,4,FALSE)","v":37.081659973226238},{"$f":"VLOOKUP($A756,BasinData!$1:$1048576,5,FALSE)","v":10.284594865000001},92.506597190277958,{"$f":"VLOOKUP($A756,Sheet1!$1:$1048576,9,FALSE)","v":146.72496146037986},-34.723152924451028,{"$f":"VLOOKUP($A756,Sheet1!$1:$1048576,10,FALSE)","v":137.68854854936424},-27.738539406818376,{"$f":"VLOOKUP($A756,Sheet1!$1:$1048576,11,FALSE)","v":119.61572272733304},-12.275927292574401,{"$f":"VLOOKUP($A756,Sheet1!$1:$1048576,12,FALSE)","v":92.506483994286214},15.966326777036562]
[21056,{"$f":"VLOOKUP($A757,BasinData!$1:$1048576,2,FALSE)","v":0.1970138186060606},24.117322031399812,{"$f":"VLOOKUP($A757,BasinData!$1:$1048576,3,FALSE)","v":91.076645611694545},{"$f":"VLOOKUP($A757,BasinData!$1:$1048576,4,FALSE)","v":31.944055944055943},{"$f":"VLOOKUP($A757,BasinData!$1:$1048576,5,FALSE)","v":8.2960468056599996},108.16495749983663,{"$f":"VLOOKUP($A757,Sheet1!$1:$1048576,9,FALSE)","v":171.56093697702158},-26.572907157422833,{"$f":"VLOOKUP($A757,Sheet1!$1:$1048576,10,FALSE)","v":160.99494022708399},-19.587678250354735,{"$f":"VLOOKUP($A757,Sheet1!$1:$1048576,11,FALSE)","v":139.86294672720879},-4.1255069692074926,{"$f":"VLOOKUP($A757,Sheet1!$1:$1048576,12,FALSE)","v":108.16495647739599},24.117322031399812]
[21057,{"$f":"VLOOKUP($A758,BasinData!$1:$1048576,2,FALSE)","v":0.13875054542556819},18.356088604666184,{"$f":"VLOOKUP($A758,BasinData!$1:$1048576,3,FALSE)","v":8.6986926182947535},{"$f":"VLOOKUP($A758,BasinData!$1:$1048576,4,FALSE)","v":27.981458069953646},{"$f":"VLOOKUP($A758,BasinData!$1:$1048576,5,FALSE)","v":9.7015048268000008},121.88454931720565,{"$f":"VLOOKUP($A758,Sheet1!$1:$1048576,9,FALSE)","v":193.32094102174977},-32.333758611517403,{"$f":"VLOOKUP($A758,Sheet1!$1:$1048576,10,FALSE)","v":181.41480160258661},-25.348511169720911,{"$f":"VLOOKUP($A758,Sheet1!$1:$1048576,11,FALSE)","v":157.60252276426024},-9.8859071018222888,{"$f":"VLOOKUP($A758,Sheet1!$1:$1048576,12,FALSE)","v":121.88410450677071},18.356088604666184]
[21058,{"$f":"VLOOKUP($A759,BasinData!$1:$1048576,2,FALSE)","v":0.16354244569053031},26.805136221490955,{"$f":"VLOOKUP($A759,BasinData!$1:$1048576,3,FALSE)","v":29.305081853256006},{"$f":"VLOOKUP($A759,BasinData!$1:$1048576,4,FALSE)","v":37.872189138743224},{"$f":"VLOOKUP($A759,BasinData!$1:$1048576,5,FALSE)","v":7.6402725141800003},91.391023644443408,{"$f":"VLOOKUP($A759,Sheet1!$1:$1048576,9,FALSE)","v":144.95553890285424},-23.88442647686724,{"$f":"VLOOKUP($A759,Sheet1!$1:$1048576,10,FALSE)","v":136.02810017513181},-16.899724588435166,{"$f":"VLOOKUP($A759,Sheet1!$1:$1048576,11,FALSE)","v":118.17322271968695},-1.43709336929205,{"$f":"VLOOKUP($A759,Sheet1!$1:$1048576,12,FALSE)","v":91.390906536519623},26.805136221490955]
[21059,{"$f":"VLOOKUP($A760,BasinData!$1:$1048576,2,FALSE)","v":0.22372217033712122},-4.8556916909807404,{"$f":"VLOOKUP($A760,BasinData!$1:$1048576,3,FALSE)","v":100},{"$f":"VLOOKUP($A760,BasinData!$1:$1048576,4,FALSE)","v":46.939586645468999},{"$f":"VLOOKUP($A760,BasinData!$1:$1048576,5,FALSE)","v":15.364526960899999},69.96836577360861,{"$f":"VLOOKUP($A760,Sheet1!$1:$1048576,9,FALSE)","v":110.97713424839276},-55.545915041605042,{"$f":"VLOOKUP($A760,Sheet1!$1:$1048576,10,FALSE)","v":104.14233805033423},-48.560778773147057,{"$f":"VLOOKUP($A760,Sheet1!$1:$1048576,11,FALSE)","v":90.472745654217164},-33.098137455932097,{"$f":"VLOOKUP($A760,Sheet1!$1:$1048576,12,FALSE)","v":69.968357060041569},-4.8556916909807404]
[21061,{"$f":"VLOOKUP($A761,BasinData!$1:$1048576,2,FALSE)","v":0.25156975514583335},44.37715461452683,{"$f":"VLOOKUP($A761,BasinData!$1:$1048576,3,FALSE)","v":52.722386100711006},{"$f":"VLOOKUP($A761,BasinData!$1:$1048576,4,FALSE)","v":34.520365012241264},{"$f":"VLOOKUP($A761,BasinData!$1:$1048576,5,FALSE)","v":3.35329809558},99.944943138711054,{"$f":"VLOOKUP($A761,Sheet1!$1:$1048576,9,FALSE)","v":158.52312637554815},-6.3130750107001727,{"$f":"VLOOKUP($A761,Sheet1!$1:$1048576,10,FALSE)","v":148.76009483942212},0.67151887364274643,{"$f":"VLOOKUP($A761,Sheet1!$1:$1048576,11,FALSE)","v":129.23403176717011},16.134775752834059,{"$f":"VLOOKUP($A761,Sheet1!$1:$1048576,12,FALSE)","v":99.944937158792072},44.37715461452683]
[21062,{"$f":"VLOOKUP($A762,BasinData!$1:$1048576,2,FALSE)","v":0.1780219519414773},-5.9720552034766472,{"$f":"VLOOKUP($A762,BasinData!$1:$1048576,3,FALSE)","v":95.382296451031536},{"$f":"VLOOKUP($A762,BasinData!$1:$1048576,4,FALSE)","v":34.538031150763651},{"$f":"VLOOKUP($A762,BasinData!$1:$1048576,5,FALSE)","v":15.6368852172},100.51298664809222,{"$f":"VLOOKUP($A762,Sheet1!$1:$1048576,9,FALSE)","v":159.42410120751367},-56.66227725655645,{"$f":"VLOOKUP($A762,Sheet1!$1:$1048576,10,FALSE)","v":149.60558094933901},-49.677121952593744,{"$f":"VLOOKUP($A762,Sheet1!$1:$1048576,11,FALSE)","v":129.9685404329897},-34.214503667971684,{"$f":"VLOOKUP($A762,Sheet1!$1:$1048576,12,FALSE)","v":100.51297965846572},-5.9720552034766472]
[21063,{"$f":"VLOOKUP($A763,BasinData!$1:$1048576,2,FALSE)","v":0.19999418231818181},34.29489499513484,{"$f":"VLOOKUP($A763,BasinData!$1:$1048576,3,FALSE)","v":15.03548629377917},{"$f":"VLOOKUP($A763,BasinData!$1:$1048576,4,FALSE)","v":42.696809363476028},{"$f":"VLOOKUP($A763,BasinData!$1:$1048576,5,FALSE)","v":5.8130179017300003},79.253659305283847,{"$f":"VLOOKUP($A763,Sheet1!$1:$1048576,9,FALSE)","v":125.70446006302726},-16.394538127769646,{"$f":"VLOOKUP($A763,Sheet1!$1:$1048576,10,FALSE)","v":117.96264575563337},-9.4103699570629598,{"$f":"VLOOKUP($A763,Sheet1!$1:$1048576,11,FALSE)","v":102.4790171408456},6.0523636329496107,{"$f":"VLOOKUP($A763,Sheet1!$1:$1048576,12,FALSE)","v":79.253574218663914},34.29489499513484]
[21064,{"$f":"VLOOKUP($A764,BasinData!$1:$1048576,2,FALSE)","v":0.51558666994318181},8.5960169320431277,{"$f":"VLOOKUP($A764,BasinData!$1:$1048576,3,FALSE)","v":83.008772767504098},{"$f":"VLOOKUP($A764,BasinData!$1:$1048576,4,FALSE)","v":56.598984771573605},{"$f":"VLOOKUP($A764,BasinData!$1:$1048576,5,FALSE)","v":12.0826152763},51.644037887407556,{"$f":"VLOOKUP($A764,Sheet1!$1:$1048576,9,FALSE)","v":81.912447097050546},-42.09368730351526,{"$f":"VLOOKUP($A764,Sheet1!$1:$1048576,10,FALSE)","v":76.867670208691678},-35.109187469618817,{"$f":"VLOOKUP($A764,Sheet1!$1:$1048576,11,FALSE)","v":66.778116431973942},-19.645820457815915,{"$f":"VLOOKUP($A764,Sheet1!$1:$1048576,12,FALSE)","v":51.643785766897324},8.5960169320431277]
[21065,{"$f":"VLOOKUP($A765,BasinData!$1:$1048576,2,FALSE)","v":0.26584046037499998},29.120941763667005,{"$f":"VLOOKUP($A765,BasinData!$1:$1048576,3,FALSE)","v":20.123444548521615},{"$f":"VLOOKUP($A765,BasinData!$1:$1048576,4,FALSE)","v":26.785121222185321},{"$f":"VLOOKUP($A765,BasinData!$1:$1048576,5,FALSE)","v":7.0753192405499998},124.83207327156364,{"$f":"VLOOKUP($A765,Sheet1!$1:$1048576,9,FALSE)","v":197.99668669667955},-21.569132698077215,{"$f":"VLOOKUP($A765,Sheet1!$1:$1048576,10,FALSE)","v":185.80258013024286},-14.584043895451966,{"$f":"VLOOKUP($A765,Sheet1!$1:$1048576,11,FALSE)","v":161.41436699736948},0.87858954155087055,{"$f":"VLOOKUP($A765,Sheet1!$1:$1048576,12,FALSE)","v":124.83204729805945},29.120941763667005]
[21066,{"$f":"VLOOKUP($A766,BasinData!$1:$1048576,2,FALSE)","v":0.10188728136471605},11.552902226157233,{"$f":"VLOOKUP($A766,BasinData!$1:$1048576,3,FALSE)","v":46.974020788445436},{"$f":"VLOOKUP($A766,BasinData!$1:$1048576,4,FALSE)","v":39.828007142076302},{"$f":"VLOOKUP($A766,BasinData!$1:$1048576,5,FALSE)","v":11.361360533199999},86.816952145502256,{"$f":"VLOOKUP($A766,Sheet1!$1:$1048576,9,FALSE)","v":137.70076491416444},-39.1373251402253,{"$f":"VLOOKUP($A766,Sheet1!$1:$1048576,10,FALSE)","v":129.22012905273957},-32.152095156556989,{"$f":"VLOOKUP($A766,Sheet1!$1:$1048576,11,FALSE)","v":112.25885732988982},-16.689472873292132,{"$f":"VLOOKUP($A766,Sheet1!$1:$1048576,12,FALSE)","v":86.816949745615176},11.552902226157233]
[21067,{"$f":"VLOOKUP($A767,BasinData!$1:$1048576,2,FALSE)","v":0.14503194420473484},41.317157050147159,{"$f":"VLOOKUP($A767,BasinData!$1:$1048576,3,FALSE)","v":1.4460726852501635},{"$f":"VLOOKUP($A767,BasinData!$1:$1048576,4,FALSE)","v":62.750642673521853},{"$f":"VLOOKUP($A767,BasinData!$1:$1048576,5,FALSE)","v":4.0998197358599997},{"$f":"EXP(6.1523-(0.084*B767)-(0.0091*C767)-(0.0289*E767)-(0.0373*F767))","v":44.599129376004704},{"$f":"VLOOKUP($A767,Sheet1!$1:$1048576,9,FALSE)","v":70.738829852417041},-9.3729996677423184,{"$f":"VLOOKUP($A767,Sheet1!$1:$1048576,10,FALSE)","v":66.382207304854617},-2.387766409566261,{"$f":"VLOOKUP($A767,Sheet1!$1:$1048576,11,FALSE)","v":57.668962209729784},13.074845128736134,{"$f":"VLOOKUP($A767,Sheet1!$1:$1048576,12,FALSE)","v":44.599094567042528},41.317157050147159]
[21068,{"$f":"VLOOKUP($A768,BasinData!$1:$1048576,2,FALSE)","v":0.11683153477218225},12.601476180906317,{"$f":"VLOOKUP($A768,BasinData!$1:$1048576,3,FALSE)","v":6.830287947328884},{"$f":"VLOOKUP($A768,BasinData!$1:$1048576,4,FALSE)","v":40.593550282817894},{"$f":"VLOOKUP($A768,BasinData!$1:$1048576,5,FALSE)","v":11.105540143200001},84.810763882401716,{"$f":"VLOOKUP($A768,Sheet1!$1:$1048576,9,FALSE)","v":134.51873010028922},-38.087987028048616,{"$f":"VLOOKUP($A768,Sheet1!$1:$1048576,10,FALSE)","v":126.2340675769331},-31.10351272632338,{"$f":"VLOOKUP($A768,Sheet1!$1:$1048576,11,FALSE)","v":109.66474253022091},-15.640892383022349,{"$f":"VLOOKUP($A768,Sheet1!$1:$1048576,12,FALSE)","v":84.810754960152593},12.601476180906317]
[21069,{"$f":"VLOOKUP($A769,BasinData!$1:$1048576,2,FALSE)","v":0.57919553072625707},31.770246665773406,{"$f":"VLOOKUP($A769,BasinData!$1:$1048576,3,FALSE)","v":10.366504490424992},{"$f":"VLOOKUP($A769,BasinData!$1:$1048576,4,FALSE)","v":33.889302029108684},{"$f":"VLOOKUP($A769,BasinData!$1:$1048576,5,FALSE)","v":6.4289734989099996},99.021479436848423,{"$f":"VLOOKUP($A769,Sheet1!$1:$1048576,9,FALSE)","v":157.05838975422472},-18.919949678796243,{"$f":"VLOOKUP($A769,Sheet1!$1:$1048576,10,FALSE)","v":147.38556757841769},-11.934854158444379,{"$f":"VLOOKUP($A769,Sheet1!$1:$1048576,11,FALSE)","v":128.03992322680358},3.5278843630716037,{"$f":"VLOOKUP($A769,Sheet1!$1:$1048576,12,FALSE)","v":99.021456699382398},31.770246665773406]
[21070,{"$f":"VLOOKUP($A770,BasinData!$1:$1048576,2,FALSE)","v":0.34312012480499215},23.521959560523147,{"$f":"VLOOKUP($A770,BasinData!$1:$1048576,3,FALSE)","v":14.491023863840171},{"$f":"VLOOKUP($A770,BasinData!$1:$1048576,4,FALSE)","v":31.417021053184229},{"$f":"VLOOKUP($A770,BasinData!$1:$1048576,5,FALSE)","v":8.4411940756299995},108.48583701732213,{"$f":"VLOOKUP($A770,Sheet1!$1:$1048576,9,FALSE)","v":172.06923067783649},-27.167851951033786,{"$f":"VLOOKUP($A770,Sheet1!$1:$1048576,10,FALSE)","v":161.47192942650446},-20.182622493692058,{"$f":"VLOOKUP($A770,Sheet1!$1:$1048576,11,FALSE)","v":140.27732692384046},-4.7202302550707911,{"$f":"VLOOKUP($A770,Sheet1!$1:$1048576,12,FALSE)","v":108.48542316984441},23.521959560523147]
[21071,{"$f":"VLOOKUP($A771,BasinData!$1:$1048576,2,FALSE)","v":0.24803412969283276},0.53082876561727765,{"$f":"VLOOKUP($A771,BasinData!$1:$1048576,3,FALSE)","v":62.391474648500719},{"$f":"VLOOKUP($A771,BasinData!$1:$1048576,4,FALSE)","v":37.656330611446158},{"$f":"VLOOKUP($A771,BasinData!$1:$1048576,5,FALSE)","v":14.050369634700001},91.31251459015553,{"$f":"VLOOKUP($A771,Sheet1!$1:$1048576,9,FALSE)","v":144.83107700539992},-50.159318062943179,{"$f":"VLOOKUP($A771,Sheet1!$1:$1048576,10,FALSE)","v":135.91130356575042},-43.174362199912437,{"$f":"VLOOKUP($A771,Sheet1!$1:$1048576,11,FALSE)","v":118.07175668645144},-27.711446148369152,{"$f":"VLOOKUP($A771,Sheet1!$1:$1048576,12,FALSE)","v":91.312436367502954},0.53082876561727765]
[21072,{"$f":"VLOOKUP($A772,BasinData!$1:$1048576,2,FALSE)","v":0.41111516409090909},27.92216397614996,{"$f":"VLOOKUP($A772,BasinData!$1:$1048576,3,FALSE)","v":8.9603094776967147},{"$f":"VLOOKUP($A772,BasinData!$1:$1048576,4,FALSE)","v":32.40256831417053},{"$f":"VLOOKUP($A772,BasinData!$1:$1048576,5,FALSE)","v":7.3677250156099996},104.83883504708095,{"$f":"VLOOKUP($A772,Sheet1!$1:$1048576,9,FALSE)","v":166.28496955898305},-22.767518865805076,{"$f":"VLOOKUP($A772,Sheet1!$1:$1048576,10,FALSE)","v":156.04390606934373},-15.782579486788821,{"$f":"VLOOKUP($A772,Sheet1!$1:$1048576,11,FALSE)","v":135.5617790900651},-0.31994985906595419,{"$f":"VLOOKUP($A772,Sheet1!$1:$1048576,12,FALSE)","v":104.83858862114715},27.92216397614996]
[21073,{"$f":"VLOOKUP($A773,BasinData!$1:$1048576,2,FALSE)","v":0.15789145772386362},-3.0356779126596587,{"$f":"VLOOKUP($A773,BasinData!$1:$1048576,3,FALSE)","v":100},{"$f":"VLOOKUP($A773,BasinData!$1:$1048576,4,FALSE)","v":31.580315369953215},{"$f":"VLOOKUP($A773,BasinData!$1:$1048576,5,FALSE)","v":14.9204982298},109.66783202331406,{"$f":"VLOOKUP($A773,Sheet1!$1:$1048576,9,FALSE)","v":173.94460771248714},-53.725877629372469,{"$f":"VLOOKUP($A773,Sheet1!$1:$1048576,10,FALSE)","v":163.23180681419481},-46.740800588074116,{"$f":"VLOOKUP($A773,Sheet1!$1:$1048576,11,FALSE)","v":141.80620501761015},-31.278215370614554,{"$f":"VLOOKUP($A773,Sheet1!$1:$1048576,12,FALSE)","v":109.66780232273318},-3.0356779126596587]
[21074,{"$f":"VLOOKUP($A774,BasinData!$1:$1048576,2,FALSE)","v":0.38971382289416845},-14.334327499017526,{"$f":"VLOOKUP($A774,BasinData!$1:$1048576,3,FALSE)","v":100},{"$f":"VLOOKUP($A774,BasinData!$1:$1048576,4,FALSE)","v":46.977879707035584},{"$f":"VLOOKUP($A774,BasinData!$1:$1048576,5,FALSE)","v":17.676841295199999},68.92365999825094,{"$f":"VLOOKUP($A774,Sheet1!$1:$1048576,9,FALSE)","v":109.31943732875371},-65.023762520959863,{"$f":"VLOOKUP($A774,Sheet1!$1:$1048576,10,FALSE)","v":102.58673441937681},-58.038630899463364,{"$f":"VLOOKUP($A774,Sheet1!$1:$1048576,11,FALSE)","v":89.121328600623031},-42.576059452833107,{"$f":"VLOOKUP($A774,Sheet1!$1:$1048576,12,FALSE)","v":68.923219872492353},-14.334327499017526]
[21075,{"$f":"VLOOKUP($A775,BasinData!$1:$1048576,2,FALSE)","v":0.52051464775378786},19.999763556319106,{"$f":"VLOOKUP($A775,BasinData!$1:$1048576,3,FALSE)","v":50.478281105536652},{"$f":"VLOOKUP($A775,BasinData!$1:$1048576,4,FALSE)","v":20.295602018745491},{"$f":"VLOOKUP($A775,BasinData!$1:$1048576,5,FALSE)","v":9.3005984231193803},147.39612666585685,{"$f":"VLOOKUP($A775,Sheet1!$1:$1048576,9,FALSE)","v":233.78567338561788},-30.690473365609691,{"$f":"VLOOKUP($A775,Sheet1!$1:$1048576,10,FALSE)","v":219.38741519992575},-23.705235597837614,{"$f":"VLOOKUP($A775,Sheet1!$1:$1048576,11,FALSE)","v":190.5908988285415},-8.2426383188346168,{"$f":"VLOOKUP($A775,Sheet1!$1:$1048576,12,FALSE)","v":147.39612427146511},19.999763556319106]
[21076,{"$f":"VLOOKUP($A776,BasinData!$1:$1048576,2,FALSE)","v":9.4944148616287888E-2},-15.194456347810121,{"$f":"VLOOKUP($A776,BasinData!$1:$1048576,3,FALSE)","v":63.026865732496681},{"$f":"VLOOKUP($A776,BasinData!$1:$1048576,4,FALSE)","v":33.849918433931485},{"$f":"VLOOKUP($A776,BasinData!$1:$1048576,5,FALSE)","v":17.886695054},103.25047951325007,{"$f":"VLOOKUP($A776,Sheet1!$1:$1048576,9,FALSE)","v":163.76507764004589},-65.884009898823777,{"$f":"VLOOKUP($A776,Sheet1!$1:$1048576,10,FALSE)","v":153.67920781100807},-58.898800681947037,{"$f":"VLOOKUP($A776,Sheet1!$1:$1048576,11,FALSE)","v":133.5074681529324},-43.436227199163923,{"$f":"VLOOKUP($A776,Sheet1!$1:$1048576,12,FALSE)","v":103.24985866581889},-15.194456347810121]
[21077,{"$f":"VLOOKUP($A777,BasinData!$1:$1048576,2,FALSE)","v":0.27452912905871213},-20.935943672990561,{"$f":"VLOOKUP($A777,BasinData!$1:$1048576,3,FALSE)","v":71.907006860986073},{"$f":"VLOOKUP($A777,BasinData!$1:$1048576,4,FALSE)","v":35.771197526459744},{"$f":"VLOOKUP($A777,BasinData!$1:$1048576,5,FALSE)","v":19.287489501900001},96.211190247687199,{"$f":"VLOOKUP($A777,Sheet1!$1:$1048576,9,FALSE)","v":152.6004157571376},-71.625748841616598,{"$f":"VLOOKUP($A777,Sheet1!$1:$1048576,10,FALSE)","v":143.20214873120617},-64.640518449315195,{"$f":"VLOOKUP($A777,Sheet1!$1:$1048576,11,FALSE)","v":124.40561467934332},-49.177932493814936,{"$f":"VLOOKUP($A777,Sheet1!$1:$1048576,12,FALSE)","v":96.21081360154902},-20.935943672990561]
[21078,{"$f":"VLOOKUP($A778,BasinData!$1:$1048576,2,FALSE)","v":0.44698418942992429},-9.3673982897143055,{"$f":"VLOOKUP($A778,BasinData!$1:$1048576,3,FALSE)","v":1.155248532182676},{"$f":"VLOOKUP($A778,BasinData!$1:$1048576,4,FALSE)","v":7.71478667445938},{"$f":"VLOOKUP($A778,BasinData!$1:$1048576,5,FALSE)","v":16.4652414251},213.339717384176,{"$f":"VLOOKUP($A778,Sheet1!$1:$1048576,9,FALSE)","v":338.37910923524049},-60.057639379161003,{"$f":"VLOOKUP($A778,Sheet1!$1:$1048576,10,FALSE)","v":317.53921041313743},-53.072416576638183,{"$f":"VLOOKUP($A778,Sheet1!$1:$1048576,11,FALSE)","v":275.85941276893129},-37.609844185795986,{"$f":"VLOOKUP($A778,Sheet1!$1:$1048576,12,FALSE)","v":213.33971630262209},-9.3673982897143055]
[21079,{"$f":"VLOOKUP($A779,BasinData!$1:$1048576,2,FALSE)","v":0.25726591895643941},-79.133610461036511,{"$f":"VLOOKUP($A779,BasinData!$1:$1048576,3,FALSE)","v":0.42965108884633008},{"$f":"VLOOKUP($A779,BasinData!$1:$1048576,4,FALSE)","v":10.197910940076966},{"$f":"VLOOKUP($A779,BasinData!$1:$1048576,5,FALSE)","v":33.485952658099997},201.75616366512796,{"$f":"VLOOKUP($A779,Sheet1!$1:$1048576,9,FALSE)","v":320.00638071567408},-129.82389009186898,{"$f":"VLOOKUP($A779,Sheet1!$1:$1048576,10,FALSE)","v":300.29801097732292},-122.83861345099008,{"$f":"VLOOKUP($A779,Sheet1!$1:$1048576,11,FALSE)","v":260.88127150062053},-107.37597894834605,{"$f":"VLOOKUP($A779,Sheet1!$1:$1048576,12,FALSE)","v":201.756162285567},-79.133610461036511]
[21080,{"$f":"VLOOKUP($A780,BasinData!$1:$1048576,2,FALSE)","v":1.2687073646344698},-44.436650929969424,{"$f":"VLOOKUP($A780,BasinData!$1:$1048576,3,FALSE)","v":9.9589883216167241E-2},{"$f":"VLOOKUP($A780,BasinData!$1:$1048576,4,FALSE)","v":4.7708489857250189},{"$f":"VLOOKUP($A780,BasinData!$1:$1048576,5,FALSE)","v":25.0210036631},216.79259921319883,{"$f":"VLOOKUP($A780,Sheet1!$1:$1048576,9,FALSE)","v":343.85564902375569},-95.126857080583903,{"$f":"VLOOKUP($A780,Sheet1!$1:$1048576,10,FALSE)","v":322.67846420505009},-88.141625419277489,{"$f":"VLOOKUP($A780,Sheet1!$1:$1048576,11,FALSE)","v":280.32409456763895},-72.679005872626121,{"$f":"VLOOKUP($A780,Sheet1!$1:$1048576,12,FALSE)","v":216.79254011152219},-44.436650929969424]
[21081,{"$f":"VLOOKUP($A781,BasinData!$1:$1048576,2,FALSE)","v":0.2064798825378788},-97.679986869658336,{"$f":"VLOOKUP($A781,BasinData!$1:$1048576,3,FALSE)","v":53.071867481384658},{"$f":"VLOOKUP($A781,BasinData!$1:$1048576,4,FALSE)","v":9.0185374729898786},{"$f":"VLOOKUP($A781,BasinData!$1:$1048576,5,FALSE)","v":38.010671924699999},209.64377369778293,{"$f":"VLOOKUP($A781,Sheet1!$1:$1048576,9,FALSE)","v":332.51695643394487},-148.37022811790627,{"$f":"VLOOKUP($A781,Sheet1!$1:$1048576,10,FALSE)","v":312.03809252187159},-141.38498988050969,{"$f":"VLOOKUP($A781,Sheet1!$1:$1048576,11,FALSE)","v":271.08036469772509},-125.92260889919984,{"$f":"VLOOKUP($A781,Sheet1!$1:$1048576,12,FALSE)","v":209.64377296150525},-97.679986869658336]
[21082,{"$f":"VLOOKUP($A782,BasinData!$1:$1048576,2,FALSE)","v":0.25605700712589069},-69.090458522381255,{"$f":"VLOOKUP($A782,BasinData!$1:$1048576,3,FALSE)","v":100},{"$f":"VLOOKUP($A782,BasinData!$1:$1048576,4,FALSE)","v":9.4113541181945095},{"$f":"VLOOKUP($A782,BasinData!$1:$1048576,5,FALSE)","v":31.035746618200001},206.41586605621251,{"$f":"VLOOKUP($A782,Sheet1!$1:$1048576,9,FALSE)","v":327.39715527978944},-119.78068477754321,{"$f":"VLOOKUP($A782,Sheet1!$1:$1048576,10,FALSE)","v":307.23360674957598},-112.79546141734704,{"$f":"VLOOKUP($A782,Sheet1!$1:$1048576,11,FALSE)","v":266.906509689149},-97.33282847731877,{"$f":"VLOOKUP($A782,Sheet1!$1:$1048576,12,FALSE)","v":206.41586409850859},-69.090458522381255]
[21083,{"$f":"VLOOKUP($A783,BasinData!$1:$1048576,2,FALSE)","v":9.2758089368258856E-2},-79.860589483749436,{"$f":"VLOOKUP($A783,BasinData!$1:$1048576,3,FALSE)","v":91.527757085832221},{"$f":"VLOOKUP($A783,BasinData!$1:$1048576,4,FALSE)","v":9.9352569738629999},{"$f":"VLOOKUP($A783,BasinData!$1:$1048576,5,FALSE)","v":33.663312156018499},206.1222037171776,{"$f":"VLOOKUP($A783,Sheet1!$1:$1048576,9,FALSE)","v":326.93137701151392},-130.55086816870377,{"$f":"VLOOKUP($A783,Sheet1!$1:$1048576,10,FALSE)","v":306.79651456658019},-123.56559247797915,{"$f":"VLOOKUP($A783,Sheet1!$1:$1048576,11,FALSE)","v":266.52678967671267},-108.10295791678153,{"$f":"VLOOKUP($A783,Sheet1!$1:$1048576,12,FALSE)","v":206.12220234191136},-79.860589483749436]
[21084,{"$f":"VLOOKUP($A784,BasinData!$1:$1048576,2,FALSE)","v":0.66667811799242427},-73.824300575672638,{"$f":"VLOOKUP($A784,BasinData!$1:$1048576,3,FALSE)","v":3.3430072803117179},{"$f":"VLOOKUP($A784,BasinData!$1:$1048576,4,FALSE)","v":17.32899022801303},{"$f":"VLOOKUP($A784,BasinData!$1:$1048576,5,FALSE)","v":32.190651819778097},158.631046396664,{"$f":"VLOOKUP($A784,Sheet1!$1:$1048576,9,FALSE)","v":251.60543320084653},-124.51453057709229,{"$f":"VLOOKUP($A784,Sheet1!$1:$1048576,10,FALSE)","v":236.10970185133277},-117.5293035240116,{"$f":"VLOOKUP($A784,Sheet1!$1:$1048576,11,FALSE)","v":205.11823915230528},-102.06666965481925,{"$f":"VLOOKUP($A784,Sheet1!$1:$1048576,12,FALSE)","v":158.63104510376402},-73.824300575672638]
[21085,{"$f":"VLOOKUP($A785,BasinData!$1:$1048576,2,FALSE)","v":0.85374916326704553},-1.8216965882322687,{"$f":"VLOOKUP($A785,BasinData!$1:$1048576,3,FALSE)","v":9.6572046893597836},{"$f":"VLOOKUP($A785,BasinData!$1:$1048576,4,FALSE)","v":1.593625498007968},{"$f":"VLOOKUP($A785,BasinData!$1:$1048576,5,FALSE)","v":14.6243218807},246.07085580724211,{"$f":"VLOOKUP($A785,Sheet1!$1:$1048576,9,FALSE)","v":390.29395738259745},-52.511852678771625,{"$f":"VLOOKUP($A785,Sheet1!$1:$1048576,10,FALSE)","v":366.25675661948236},-45.526843487053227,{"$f":"VLOOKUP($A785,Sheet1!$1:$1048576,11,FALSE)","v":318.18235509325211},-30.064019327373639,{"$f":"VLOOKUP($A785,Sheet1!$1:$1048576,12,FALSE)","v":246.07075280390674},-1.8216965882322687]
[21086,{"$f":"VLOOKUP($A786,BasinData!$1:$1048576,2,FALSE)","v":0},-90.750611132380968,{"$f":"VLOOKUP($A786,BasinData!$1:$1048576,3,FALSE)","v":68.609231171292691},{"$f":"VLOOKUP($A786,BasinData!$1:$1048576,4,FALSE)","v":8.8966783508596237},{"$f":"VLOOKUP($A786,BasinData!$1:$1048576,5,FALSE)","v":36.320127145900003},214.06416668988012,{"$f":"VLOOKUP($A786,Sheet1!$1:$1048576,9,FALSE)","v":339.52816179444699},-141.44086203884862,{"$f":"VLOOKUP($A786,Sheet1!$1:$1048576,10,FALSE)","v":318.61749578128041},-134.45561415504545,{"$f":"VLOOKUP($A786,Sheet1!$1:$1048576,11,FALSE)","v":276.79616375494732},-118.99323673749203,{"$f":"VLOOKUP($A786,Sheet1!$1:$1048576,12,FALSE)","v":214.06416571544767},-90.750611132380968]
[21087,{"$f":"VLOOKUP($A787,BasinData!$1:$1048576,2,FALSE)","v":0},-80.487650763148153,{"$f":"VLOOKUP($A787,BasinData!$1:$1048576,3,FALSE)","v":90.091264192464536},{"$f":"VLOOKUP($A787,BasinData!$1:$1048576,4,FALSE)","v":9.7889431406520711},{"$f":"VLOOKUP($A787,BasinData!$1:$1048576,5,FALSE)","v":33.816294938399999},208.61477386944205,{"$f":"VLOOKUP($A787,Sheet1!$1:$1048576,9,FALSE)","v":330.88485406081224},-131.17792728720326,{"$f":"VLOOKUP($A787,Sheet1!$1:$1048576,10,FALSE)","v":310.50650713514591},-124.19265376080465,{"$f":"VLOOKUP($A787,Sheet1!$1:$1048576,11,FALSE)","v":269.7498132838133},-108.73001915390296,{"$f":"VLOOKUP($A787,Sheet1!$1:$1048576,12,FALSE)","v":208.6147725068144},-80.487650763148153]
[21088,{"$f":"VLOOKUP($A788,BasinData!$1:$1048576,2,FALSE)","v":0.28872407131439393},-127.93713517488513,{"$f":"VLOOKUP($A788,BasinData!$1:$1048576,3,FALSE)","v":1.014797788549525},{"$f":"VLOOKUP($A788,BasinData!$1:$1048576,4,FALSE)","v":3.6843356310910389},{"$f":"VLOOKUP($A788,BasinData!$1:$1048576,5,FALSE)","v":45.392354685500003},242.90319235493234,{"$f":"VLOOKUP($A788,Sheet1!$1:$1048576,9,FALSE)","v":385.2686090888235},-178.6270035394792,{"$f":"VLOOKUP($A788,Sheet1!$1:$1048576,10,FALSE)","v":361.5409065988872},-171.64177694561283,{"$f":"VLOOKUP($A788,Sheet1!$1:$1048576,11,FALSE)","v":314.08550161901451},-156.17938077120505,{"$f":"VLOOKUP($A788,Sheet1!$1:$1048576,12,FALSE)","v":242.90239414920541},-127.93713517488513]
[21089,{"$f":"VLOOKUP($A789,BasinData!$1:$1048576,2,FALSE)","v":0.23847876574053031},18.022802413554096,{"$f":"VLOOKUP($A789,BasinData!$1:$1048576,3,FALSE)","v":3.5923058544164901},{"$f":"VLOOKUP($A789,BasinData!$1:$1048576,4,FALSE)","v":33.079695634761713},{"$f":"VLOOKUP($A789,BasinData!$1:$1048576,5,FALSE)","v":9.7828282828299997},104.30899322898038,{"$f":"VLOOKUP($A789,Sheet1!$1:$1048576,9,FALSE)","v":165.44444827901955},-32.667098114902025,{"$f":"VLOOKUP($A789,Sheet1!$1:$1048576,10,FALSE)","v":155.25515033268417},-25.681847948950587,{"$f":"VLOOKUP($A789,Sheet1!$1:$1048576,11,FALSE)","v":134.87655444001342},-10.219242634474318,{"$f":"VLOOKUP($A789,Sheet1!$1:$1048576,12,FALSE)","v":104.30866060100726},18.022802413554096]
[21090,{"$f":"VLOOKUP($A790,BasinData!$1:$1048576,2,FALSE)","v":0.51513072655871206},20.689248403729291,{"$f":"VLOOKUP($A790,BasinData!$1:$1048576,3,FALSE)","v":26.196021755107143},{"$f":"VLOOKUP($A790,BasinData!$1:$1048576,4,FALSE)","v":39.738895080401207},{"$f":"VLOOKUP($A790,BasinData!$1:$1048576,5,FALSE)","v":9.1323837827599998},84.071268661802463,{"$f":"VLOOKUP($A790,Sheet1!$1:$1048576,9,FALSE)","v":133.34581277032504},-30.000975616743457,{"$f":"VLOOKUP($A790,Sheet1!$1:$1048576,10,FALSE)","v":125.13338720786875},-23.015740480937357,{"$f":"VLOOKUP($A790,Sheet1!$1:$1048576,11,FALSE)","v":108.70853608295621},-7.5531463877496945,{"$f":"VLOOKUP($A790,Sheet1!$1:$1048576,12,FALSE)","v":84.07125939558739},20.689248403729291]
[21091,{"$f":"VLOOKUP($A791,BasinData!$1:$1048576,2,FALSE)","v":1.0001328715359847},-77.086717488897733,{"$f":"VLOOKUP($A791,BasinData!$1:$1048576,3,FALSE)","v":1.8190863145350884},{"$f":"VLOOKUP($A791,BasinData!$1:$1048576,4,FALSE)","v":10.818809602104571},{"$f":"VLOOKUP($A791,BasinData!$1:$1048576,5,FALSE)","v":32.986576611700002},186.18020761583307,{"$f":"VLOOKUP($A791,Sheet1!$1:$1048576,9,FALSE)","v":295.30128492169479},-127.77696734889439,{"$f":"VLOOKUP($A791,Sheet1!$1:$1048576,10,FALSE)","v":277.11443847684865},-120.79172046494885,{"$f":"VLOOKUP($A791,Sheet1!$1:$1048576,11,FALSE)","v":240.74074558715628},-105.32908616156342,{"$f":"VLOOKUP($A791,Sheet1!$1:$1048576,12,FALSE)","v":186.18020625261775},-77.086717488897733]
[21092,{"$f":"VLOOKUP($A792,BasinData!$1:$1048576,2,FALSE)","v":0.57448630671401524},-46.715276487055363,{"$f":"VLOOKUP($A792,BasinData!$1:$1048576,3,FALSE)","v":12.649078458583897},{"$f":"VLOOKUP($A792,BasinData!$1:$1048576,4,FALSE)","v":30.122377622377623},{"$f":"VLOOKUP($A792,BasinData!$1:$1048576,5,FALSE)","v":25.576917483500001},110.45370024531401,{"$f":"VLOOKUP($A792,Sheet1!$1:$1048576,9,FALSE)","v":175.19109255720213},-97.405490019200883,{"$f":"VLOOKUP($A792,Sheet1!$1:$1048576,10,FALSE)","v":164.40152386403659},-90.420261139685806,{"$f":"VLOOKUP($A792,Sheet1!$1:$1048576,11,FALSE)","v":142.82238647770558},-74.957639584109458,{"$f":"VLOOKUP($A792,Sheet1!$1:$1048576,12,FALSE)","v":110.45368039820902},-46.715276487055363]
[21093,{"$f":"VLOOKUP($A793,BasinData!$1:$1048576,2,FALSE)","v":0},20.699019040339742,{"$f":"VLOOKUP($A793,BasinData!$1:$1048576,3,FALSE)","v":4.0920223027208822},{"$f":"VLOOKUP($A793,BasinData!$1:$1048576,4,FALSE)","v":29.156715046849165},{"$f":"VLOOKUP($A793,BasinData!$1:$1048576,5,FALSE)","v":9.1300000000000008},119.19500648852477,{"$f":"VLOOKUP($A793,Sheet1!$1:$1048576,9,FALSE)","v":189.05572896369441},-29.99120469519616,{"$f":"VLOOKUP($A793,Sheet1!$1:$1048576,10,FALSE)","v":177.41227298248216},-23.005969591993409,{"$f":"VLOOKUP($A793,Sheet1!$1:$1048576,11,FALSE)","v":154.12536102005768},-7.5433755454559295,{"$f":"VLOOKUP($A793,Sheet1!$1:$1048576,12,FALSE)","v":119.19499307642096},20.699019040339742]
[21094,{"$f":"VLOOKUP($A794,BasinData!$1:$1048576,2,FALSE)","v":0.49598517603458925},19.22271316323323,{"$f":"VLOOKUP($A794,BasinData!$1:$1048576,3,FALSE)","v":19.182619372529139},{"$f":"VLOOKUP($A794,BasinData!$1:$1048576,4,FALSE)","v":38.142981691368789},{"$f":"VLOOKUP($A794,BasinData!$1:$1048576,5,FALSE)","v":9.4900380205699992},88.181744786427956,{"$f":"VLOOKUP($A794,Sheet1!$1:$1048576,9,FALSE)","v":139.86476241881434},-31.46697136043203,{"$f":"VLOOKUP($A794,Sheet1!$1:$1048576,10,FALSE)","v":131.25085151818828},-24.481729710417842,{"$f":"VLOOKUP($A794,Sheet1!$1:$1048576,11,FALSE)","v":114.02302971693616},-9.0191290866554787,{"$f":"VLOOKUP($A794,Sheet1!$1:$1048576,12,FALSE)","v":88.181297015057979},19.22271316323323]
[21095,{"$f":"VLOOKUP($A795,BasinData!$1:$1048576,2,FALSE)","v":7.4198610177090341E-2},-2.6551287500699399,{"$f":"VLOOKUP($A795,BasinData!$1:$1048576,3,FALSE)","v":45.373473599091916},{"$f":"VLOOKUP($A795,BasinData!$1:$1048576,4,FALSE)","v":33.231729055258469},{"$f":"VLOOKUP($A795,BasinData!$1:$1048576,5,FALSE)","v":14.8276553654},105.29442497637544,{"$f":"VLOOKUP($A795,Sheet1!$1:$1048576,9,FALSE)","v":167.00792155288315},-53.345326390550611,{"$f":"VLOOKUP($A795,Sheet1!$1:$1048576,10,FALSE)","v":156.72233330980924},-46.360259037747092,{"$f":"VLOOKUP($A795,Sheet1!$1:$1048576,11,FALSE)","v":136.15115682366144},-30.897713630067003,{"$f":"VLOOKUP($A795,Sheet1!$1:$1048576,12,FALSE)","v":105.29439209443971},-2.6551287500699399]
[21096,{"$f":"VLOOKUP($A796,BasinData!$1:$1048576,2,FALSE)","v":0.34639999999999999},-60.616230670072149,{"$f":"VLOOKUP($A796,BasinData!$1:$1048576,3,FALSE)","v":7.5707334406285014},{"$f":"VLOOKUP($A796,BasinData!$1:$1048576,4,FALSE)","v":22.765393952769809},{"$f":"VLOOKUP($A796,BasinData!$1:$1048576,5,FALSE)","v":28.968307575899999},139.26412936631294,{"$f":"VLOOKUP($A796,Sheet1!$1:$1048576,9,FALSE)","v":220.88747599456704},-111.3062363037394,{"$f":"VLOOKUP($A796,Sheet1!$1:$1048576,10,FALSE)","v":207.28358460422618},-104.32123342491252,{"$f":"VLOOKUP($A796,Sheet1!$1:$1048576,11,FALSE)","v":180.07580182354445},-88.85860325122097,{"$f":"VLOOKUP($A796,Sheet1!$1:$1048576,12,FALSE)","v":139.26412765252189},-60.616230670072149]
[21097,{"$f":"VLOOKUP($A797,BasinData!$1:$1048576,2,FALSE)","v":1.390403489640131E-2},2.7419757375146943,{"$f":"VLOOKUP($A797,BasinData!$1:$1048576,3,FALSE)","v":11.785339110347786},{"$f":"VLOOKUP($A797,BasinData!$1:$1048576,4,FALSE)","v":34.903381642512073},{"$f":"VLOOKUP($A797,BasinData!$1:$1048576,5,FALSE)","v":13.510903514900001},100.83803857652811,{"$f":"VLOOKUP($A797,Sheet1!$1:$1048576,9,FALSE)","v":159.9394378740061},-47.948089837609402,{"$f":"VLOOKUP($A797,Sheet1!$1:$1048576,10,FALSE)","v":150.08917935629972},-40.963247243060174,{"$f":"VLOOKUP($A797,Sheet1!$1:$1048576,11,FALSE)","v":130.38866232088697},-25.500228491342572,{"$f":"VLOOKUP($A797,Sheet1!$1:$1048576,12,FALSE)","v":100.8378867677678},2.7419757375146943]
[21098,{"$f":"VLOOKUP($A798,BasinData!$1:$1048576,2,FALSE)","v":1.1450873938825756},-0.65259608868658225,{"$f":"VLOOKUP($A798,BasinData!$1:$1048576,3,FALSE)","v":1.0531365793072505},{"$f":"VLOOKUP($A798,BasinData!$1:$1048576,4,FALSE)","v":28.231939163498097},{"$f":"VLOOKUP($A798,BasinData!$1:$1048576,5,FALSE)","v":14.3390938814},111.19662601001362,{"$f":"VLOOKUP($A798,Sheet1!$1:$1048576,9,FALSE)","v":176.36937471628642},-51.342761579049814,{"$f":"VLOOKUP($A798,Sheet1!$1:$1048576,10,FALSE)","v":165.50723865619713},-44.357765675791242,{"$f":"VLOOKUP($A798,Sheet1!$1:$1048576,11,FALSE)","v":143.78296653601859},-28.895526404657765,{"$f":"VLOOKUP($A798,Sheet1!$1:$1048576,12,FALSE)","v":111.1965583557508},-0.65259608868658225]
[21099,{"$f":"VLOOKUP($A799,BasinData!$1:$1048576,2,FALSE)","v":0},-1.1873819120337001,{"$f":"VLOOKUP($A799,BasinData!$1:$1048576,3,FALSE)","v":46.019474550653364},{"$f":"VLOOKUP($A799,BasinData!$1:$1048576,4,FALSE)","v":33.353366732298475},{"$f":"VLOOKUP($A799,BasinData!$1:$1048576,5,FALSE)","v":14.4695669144},105.58095777685018,{"$f":"VLOOKUP($A799,Sheet1!$1:$1048576,9,FALSE)","v":167.46235841478551},-51.877563071226959,{"$f":"VLOOKUP($A799,Sheet1!$1:$1048576,10,FALSE)","v":157.14878257447347},-44.892541262730823,{"$f":"VLOOKUP($A799,Sheet1!$1:$1048576,11,FALSE)","v":136.52163089384936},-29.430204065330578,{"$f":"VLOOKUP($A799,Sheet1!$1:$1048576,12,FALSE)","v":105.58090337291318},-1.1873819120337001]
[21100,{"$f":"VLOOKUP($A800,BasinData!$1:$1048576,2,FALSE)","v":0.56982061202954615},-0.78413599135665346,{"$f":"VLOOKUP($A800,BasinData!$1:$1048576,3,FALSE)","v":12.013490944960649},{"$f":"VLOOKUP($A800,BasinData!$1:$1048576,4,FALSE)","v":31.721910409827387},{"$f":"VLOOKUP($A800,BasinData!$1:$1048576,5,FALSE)","v":14.3711860278},105.50541265954809,{"$f":"VLOOKUP($A800,Sheet1!$1:$1048576,9,FALSE)","v":167.34252443833836},-51.473747504995856,{"$f":"VLOOKUP($A800,Sheet1!$1:$1048576,10,FALSE)","v":157.03632886435022},-44.48930289472289,{"$f":"VLOOKUP($A800,Sheet1!$1:$1048576,11,FALSE)","v":136.42393771637398},-29.027038618240688,{"$f":"VLOOKUP($A800,Sheet1!$1:$1048576,12,FALSE)","v":105.50535099440958},-0.78413599135665346]
[21101,{"$f":"VLOOKUP($A801,BasinData!$1:$1048576,2,FALSE)","v":0.28374804963636363},-27.048325557825809,{"$f":"VLOOKUP($A801,BasinData!$1:$1048576,3,FALSE)","v":44.901445371926108},{"$f":"VLOOKUP($A801,BasinData!$1:$1048576,4,FALSE)","v":25.63739376770538},{"$f":"VLOOKUP($A801,BasinData!$1:$1048576,5,FALSE)","v":20.778756683200001},128.84841323984566,{"$f":"VLOOKUP($A801,Sheet1!$1:$1048576,9,FALSE)","v":204.36658829928987},-77.737834449748036,{"$f":"VLOOKUP($A801,Sheet1!$1:$1048576,10,FALSE)","v":191.78017588038739},-70.753074995202752,{"$f":"VLOOKUP($A801,Sheet1!$1:$1048576,11,FALSE)","v":166.60735104258242},-55.290477772606195,{"$f":"VLOOKUP($A801,Sheet1!$1:$1048576,12,FALSE)","v":128.84811378587494},-27.048325557825809]
[21102,{"$f":"VLOOKUP($A802,BasinData!$1:$1048576,2,FALSE)","v":0.42114045262689392},1.5042465156353866,{"$f":"VLOOKUP($A802,BasinData!$1:$1048576,3,FALSE)","v":6.0864293926074104},{"$f":"VLOOKUP($A802,BasinData!$1:$1048576,4,FALSE)","v":18.745405537858367},{"$f":"VLOOKUP($A802,BasinData!$1:$1048576,5,FALSE)","v":13.812880229399999},155.44203643544509,{"$f":"VLOOKUP($A802,Sheet1!$1:$1048576,9,FALSE)","v":246.54705817237991},-49.185861029815818,{"$f":"VLOOKUP($A802,Sheet1!$1:$1048576,10,FALSE)","v":231.36285912766994},-42.200960097498353,{"$f":"VLOOKUP($A802,Sheet1!$1:$1048576,11,FALSE)","v":200.99446103824994},-26.738000788275539,{"$f":"VLOOKUP($A802,Sheet1!$1:$1048576,12,FALSE)","v":155.44186390411997},1.5042465156353866]
[21103,{"$f":"VLOOKUP($A803,BasinData!$1:$1048576,2,FALSE)","v":0.30007605158333334},-10.860688270373211,{"$f":"VLOOKUP($A803,BasinData!$1:$1048576,3,FALSE)","v":100},{"$f":"VLOOKUP($A803,BasinData!$1:$1048576,4,FALSE)","v":17.300049677098858},{"$f":"VLOOKUP($A803,BasinData!$1:$1048576,5,FALSE)","v":16.829556158700001},163.72889726387959,{"$f":"VLOOKUP($A803,Sheet1!$1:$1048576,9,FALSE)","v":259.69115892944973},-61.550919821038732,{"$f":"VLOOKUP($A803,Sheet1!$1:$1048576,10,FALSE)","v":243.69744853368749},-54.565693879730695,{"$f":"VLOOKUP($A803,Sheet1!$1:$1048576,11,FALSE)","v":211.71002774216311},-39.103130242643516,{"$f":"VLOOKUP($A803,Sheet1!$1:$1048576,12,FALSE)","v":163.72889655487648},-10.860688270373211]
[21104,{"$f":"VLOOKUP($A804,BasinData!$1:$1048576,2,FALSE)","v":0.17661274334715907},-42.047182596668598,{"$f":"VLOOKUP($A804,BasinData!$1:$1048576,3,FALSE)","v":0.1109261247722815},{"$f":"VLOOKUP($A804,BasinData!$1:$1048576,4,FALSE)","v":37.284539909838237},{"$f":"VLOOKUP($A804,BasinData!$1:$1048576,5,FALSE)","v":24.438046805500001},92.854294797183755,{"$f":"VLOOKUP($A804,Sheet1!$1:$1048576,9,FALSE)","v":147.27656663860276},-92.737379137180326,{"$f":"VLOOKUP($A804,Sheet1!$1:$1048576,10,FALSE)","v":138.20618178372249},-85.75214296674902,{"$f":"VLOOKUP($A804,Sheet1!$1:$1048576,11,FALSE)","v":120.06541207396197},-70.289525733207725,{"$f":"VLOOKUP($A804,Sheet1!$1:$1048576,12,FALSE)","v":92.854257509321144},-42.047182596668598]
[21105,{"$f":"VLOOKUP($A805,BasinData!$1:$1048576,2,FALSE)","v":3.7615486141662997E-2},8.9318534696214194,{"$f":"VLOOKUP($A805,BasinData!$1:$1048576,3,FALSE)","v":46.146152001665421},{"$f":"VLOOKUP($A805,BasinData!$1:$1048576,4,FALSE)","v":37.483983067334847},{"$f":"VLOOKUP($A805,BasinData!$1:$1048576,5,FALSE)","v":12.0006742118},93.405307942959737,{"$f":"VLOOKUP($A805,Sheet1!$1:$1048576,9,FALSE)","v":148.14982417428786},-41.75782555987962,{"$f":"VLOOKUP($A805,Sheet1!$1:$1048576,10,FALSE)","v":139.02565763433122},-34.773342881997863,{"$f":"VLOOKUP($A805,Sheet1!$1:$1048576,11,FALSE)","v":120.77732455441792},-19.309952536187431,{"$f":"VLOOKUP($A805,Sheet1!$1:$1048576,12,FALSE)","v":93.40482493454796},8.9318534696214194]
[21106,{"$f":"VLOOKUP($A806,BasinData!$1:$1048576,2,FALSE)","v":0},-21.649283330999932,{"$f":"VLOOKUP($A806,BasinData!$1:$1048576,3,FALSE)","v":90.066322351181938},{"$f":"VLOOKUP($A806,BasinData!$1:$1048576,4,FALSE)","v":23.638968481375358},{"$f":"VLOOKUP($A806,BasinData!$1:$1048576,5,FALSE)","v":19.461527251500002},139.80202612485522,{"$f":"VLOOKUP($A806,Sheet1!$1:$1048576,9,FALSE)","v":221.7398193343202},-72.339110534843172,{"$f":"VLOOKUP($A806,Sheet1!$1:$1048576,10,FALSE)","v":208.08343431042644},-65.353881955846063,{"$f":"VLOOKUP($A806,Sheet1!$1:$1048576,11,FALSE)","v":180.77066426263895},-49.891294581797652,{"$f":"VLOOKUP($A806,Sheet1!$1:$1048576,12,FALSE)","v":139.80150919095769},-21.649283330999932]
[21107,{"$f":"VLOOKUP($A807,BasinData!$1:$1048576,2,FALSE)","v":5.9479553903345729E-2},-20.912519219602199,{"$f":"VLOOKUP($A807,BasinData!$1:$1048576,3,FALSE)","v":66.446909385974109},{"$f":"VLOOKUP($A807,BasinData!$1:$1048576,4,FALSE)","v":29.928383409613694},{"$f":"VLOOKUP($A807,BasinData!$1:$1048576,5,FALSE)","v":19.2817744936},115.98573080304341,{"$f":"VLOOKUP($A807,Sheet1!$1:$1048576,9,FALSE)","v":183.96478172607075},-71.602323657342538,{"$f":"VLOOKUP($A807,Sheet1!$1:$1048576,10,FALSE)","v":172.63486408822882},-64.61709319605842,{"$f":"VLOOKUP($A807,Sheet1!$1:$1048576,11,FALSE)","v":149.97502881254499},-49.15450728761779,{"$f":"VLOOKUP($A807,Sheet1!$1:$1048576,12,FALSE)","v":115.98527589901921},-20.912519219602199]
[21108,{"$f":"VLOOKUP($A808,BasinData!$1:$1048576,2,FALSE)","v":0.39313137232954543},-2.4064053558911738,{"$f":"VLOOKUP($A808,BasinData!$1:$1048576,3,FALSE)","v":3.3137730240008687},{"$f":"VLOOKUP($A808,BasinData!$1:$1048576,4,FALSE)","v":18.07168096920747},{"$f":"VLOOKUP($A808,BasinData!$1:$1048576,5,FALSE)","v":14.7669740701},158.87147478214845,{"$f":"VLOOKUP($A808,Sheet1!$1:$1048576,9,FALSE)","v":251.98669371681191},-53.096604892486994,{"$f":"VLOOKUP($A808,Sheet1!$1:$1048576,10,FALSE)","v":236.46748151295247},-46.111540619768491,{"$f":"VLOOKUP($A808,Sheet1!$1:$1048576,11,FALSE)","v":205.42905710523357},-30.649024348294091,{"$f":"VLOOKUP($A808,Sheet1!$1:$1048576,12,FALSE)","v":158.87142049365519},-2.4064053558911738]
[21109,{"$f":"VLOOKUP($A809,BasinData!$1:$1048576,2,FALSE)","v":0},6.1423341969328513,{"$f":"VLOOKUP($A809,BasinData!$1:$1048576,3,FALSE)","v":54.773842412612368},{"$f":"VLOOKUP($A809,BasinData!$1:$1048576,4,FALSE)","v":36.368786290893638},{"$f":"VLOOKUP($A809,BasinData!$1:$1048576,5,FALSE)","v":12.6812822837},96.769804227348786,{"$f":"VLOOKUP($A809,Sheet1!$1:$1048576,9,FALSE)","v":153.48655519503313},-44.5475528997002,{"$f":"VLOOKUP($A809,Sheet1!$1:$1048576,10,FALSE)","v":144.03371312080822},-37.56290255530692,{"$f":"VLOOKUP($A809,Sheet1!$1:$1048576,11,FALSE)","v":125.12802897235841},-22.099694985574349,{"$f":"VLOOKUP($A809,Sheet1!$1:$1048576,12,FALSE)","v":96.769502749683681},6.1423341969328513]
[21110,{"$f":"VLOOKUP($A810,BasinData!$1:$1048576,2,FALSE)","v":0.34945447826325754},8.9505993082265203,{"$f":"VLOOKUP($A810,BasinData!$1:$1048576,3,FALSE)","v":49.203557369299233},{"$f":"VLOOKUP($A810,BasinData!$1:$1048576,4,FALSE)","v":37.705553515322151},{"$f":"VLOOKUP($A810,BasinData!$1:$1048576,5,FALSE)","v":11.9961003877},90.409588483342461,{"$f":"VLOOKUP($A810,Sheet1!$1:$1048576,9,FALSE)","v":143.3983219085427},-41.739077626185683,{"$f":"VLOOKUP($A810,Sheet1!$1:$1048576,10,FALSE)","v":134.56678816939612},-34.754596564889269,{"$f":"VLOOKUP($A810,Sheet1!$1:$1048576,11,FALSE)","v":116.90372069110295},-19.291204906372293,{"$f":"VLOOKUP($A810,Sheet1!$1:$1048576,12,FALSE)","v":90.409119473663168},8.9505993082265203]
[21111,{"$f":"VLOOKUP($A811,BasinData!$1:$1048576,2,FALSE)","v":0.82369132010037871},23.756373458755029,{"$f":"VLOOKUP($A811,BasinData!$1:$1048576,3,FALSE)","v":21.049183307958867},{"$f":"VLOOKUP($A811,BasinData!$1:$1048576,4,FALSE)","v":30.798192771084338},{"$f":"VLOOKUP($A811,BasinData!$1:$1048576,5,FALSE)","v":8.3839837467200002},106.0739577876441,{"$f":"VLOOKUP($A811,Sheet1!$1:$1048576,9,FALSE)","v":168.24362145962274},-26.933352260791882,{"$f":"VLOOKUP($A811,Sheet1!$1:$1048576,10,FALSE)","v":157.88192963826017},-19.948123037465194,{"$f":"VLOOKUP($A811,Sheet1!$1:$1048576,11,FALSE)","v":137.15854599553501},-4.4858089192207915,{"$f":"VLOOKUP($A811,Sheet1!$1:$1048576,12,FALSE)","v":106.07347053144727},23.756373458755029]
[21112,{"$f":"VLOOKUP($A812,BasinData!$1:$1048576,2,FALSE)","v":1.2016888600194868E-2},9.4199780125448207,{"$f":"VLOOKUP($A812,BasinData!$1:$1048576,3,FALSE)","v":49.952879070191635},{"$f":"VLOOKUP($A812,BasinData!$1:$1048576,4,FALSE)","v":37.73475555064924},{"$f":"VLOOKUP($A812,BasinData!$1:$1048576,5,FALSE)","v":11.881575658799999},92.930469519526312,{"$f":"VLOOKUP($A812,Sheet1!$1:$1048576,9,FALSE)","v":147.39661940216919},-41.269646163729099,{"$f":"VLOOKUP($A812,Sheet1!$1:$1048576,10,FALSE)","v":138.31884080642919},-34.284405421705294,{"$f":"VLOOKUP($A812,Sheet1!$1:$1048576,11,FALSE)","v":120.16328361494914},-18.821779959402324,{"$f":"VLOOKUP($A812,Sheet1!$1:$1048576,12,FALSE)","v":92.92994782772908},9.4199780125448207]
[21113,{"$f":"VLOOKUP($A813,BasinData!$1:$1048576,2,FALSE)","v":4.8832271762208074E-3},6.6533666148765471,{"$f":"VLOOKUP($A813,BasinData!$1:$1048576,3,FALSE)","v":53.765072496614941},{"$f":"VLOOKUP($A813,BasinData!$1:$1048576,4,FALSE)","v":35.301505488590585},{"$f":"VLOOKUP($A813,BasinData!$1:$1048576,5,FALSE)","v":12.556598211100001},99.76022440595726,{"$f":"VLOOKUP($A813,Sheet1!$1:$1048576,9,FALSE)","v":158.22960889675667},-44.036195801807679,{"$f":"VLOOKUP($A813,Sheet1!$1:$1048576,10,FALSE)","v":148.48465434704497},-37.051866713182072,{"$f":"VLOOKUP($A813,Sheet1!$1:$1048576,11,FALSE)","v":128.99474524762158},-21.588627710337146,{"$f":"VLOOKUP($A813,Sheet1!$1:$1048576,12,FALSE)","v":99.759881598486487},6.6533666148765471]
[21114,{"$f":"VLOOKUP($A814,BasinData!$1:$1048576,2,FALSE)","v":0.58344377521590907},-49.565812216742195,{"$f":"VLOOKUP($A814,BasinData!$1:$1048576,3,FALSE)","v":2.0547766359818529},{"$f":"VLOOKUP($A814,BasinData!$1:$1048576,4,FALSE)","v":19.427580225498701},{"$f":"VLOOKUP($A814,BasinData!$1:$1048576,5,FALSE)","v":26.272358693099999},150.34363384220075,{"$f":"VLOOKUP($A814,Sheet1!$1:$1048576,9,FALSE)","v":238.46070862762505},-100.25603262388071,{"$f":"VLOOKUP($A814,Sheet1!$1:$1048576,10,FALSE)","v":223.77452704839547},-93.270805817248984,{"$f":"VLOOKUP($A814,Sheet1!$1:$1048576,11,FALSE)","v":194.40216388993628},-77.808182005195292,{"$f":"VLOOKUP($A814,Sheet1!$1:$1048576,12,FALSE)","v":150.34361915224753},-49.565812216742195]
[21115,{"$f":"VLOOKUP($A815,BasinData!$1:$1048576,2,FALSE)","v":0.25259654444318186},24.877128373672104,{"$f":"VLOOKUP($A815,BasinData!$1:$1048576,3,FALSE)","v":8.3069153699052052},{"$f":"VLOOKUP($A815,BasinData!$1:$1048576,4,FALSE)","v":56.01866251944012},{"$f":"VLOOKUP($A815,BasinData!$1:$1048576,5,FALSE)","v":8.1106683553199996},53.690321129796367,{"$f":"VLOOKUP($A815,Sheet1!$1:$1048576,9,FALSE)","v":85.158433251096426},-25.811824321493155,{"$f":"VLOOKUP($A815,Sheet1!$1:$1048576,10,FALSE)","v":79.913744426149194},-18.827830396068251,{"$f":"VLOOKUP($A815,Sheet1!$1:$1048576,11,FALSE)","v":69.424366776254715},-3.3660539020581335,{"$f":"VLOOKUP($A815,Sheet1!$1:$1048576,12,FALSE)","v":53.690300301412989},24.877128373672104]
[21116,{"$f":"VLOOKUP($A816,BasinData!$1:$1048576,2,FALSE)","v":8.2495732979328655E-3},8.8360725569670056,{"$f":"VLOOKUP($A816,BasinData!$1:$1048576,3,FALSE)","v":51.576225512784568},{"$f":"VLOOKUP($A816,BasinData!$1:$1048576,4,FALSE)","v":37.446391547615661},{"$f":"VLOOKUP($A816,BasinData!$1:$1048576,5,FALSE)","v":12.0240439181},93.737771752515826,{"$f":"VLOOKUP($A816,Sheet1!$1:$1048576,9,FALSE)","v":148.67715628131225},-41.853617170567446,{"$f":"VLOOKUP($A816,Sheet1!$1:$1048576,10,FALSE)","v":139.52051271350103},-34.869126191732292,{"$f":"VLOOKUP($A816,Sheet1!$1:$1048576,11,FALSE)","v":121.20722557787862},-19.405742535476254,{"$f":"VLOOKUP($A816,Sheet1!$1:$1048576,12,FALSE)","v":93.73729487444497},8.8360725569670056]
[21117,{"$f":"VLOOKUP($A817,BasinData!$1:$1048576,2,FALSE)","v":0.51767396714393943},2.7751626078613958,{"$f":"VLOOKUP($A817,BasinData!$1:$1048576,3,FALSE)","v":41.700670721370166},{"$f":"VLOOKUP($A817,BasinData!$1:$1048576,4,FALSE)","v":10.007251631617114},{"$f":"VLOOKUP($A817,BasinData!$1:$1048576,5,FALSE)","v":13.5028066688},198.48174797041492,{"$f":"VLOOKUP($A817,Sheet1!$1:$1048576,9,FALSE)","v":314.8123393802889},-47.914901382050886,{"$f":"VLOOKUP($A817,Sheet1!$1:$1048576,10,FALSE)","v":295.42385728556883},-40.929670816642705,{"$f":"VLOOKUP($A817,Sheet1!$1:$1048576,11,FALSE)","v":256.64689309612862},-25.467040331866823,{"$f":"VLOOKUP($A817,Sheet1!$1:$1048576,12,FALSE)","v":198.48144681196834},2.7751626078613958]
[21118,{"$f":"VLOOKUP($A818,BasinData!$1:$1048576,2,FALSE)","v":0.53174197452651517},10.324031048146704,{"$f":"VLOOKUP($A818,BasinData!$1:$1048576,3,FALSE)","v":38.521388927477005},{"$f":"VLOOKUP($A818,BasinData!$1:$1048576,4,FALSE)","v":22.581585081585082},{"$f":"VLOOKUP($A818,BasinData!$1:$1048576,5,FALSE)","v":11.660991857899999},137.84394148425469,{"$f":"VLOOKUP($A818,Sheet1!$1:$1048576,9,FALSE)","v":218.63348951245112},-40.365488129625525,{"$f":"VLOOKUP($A818,Sheet1!$1:$1048576,10,FALSE)","v":205.16841535092749},-33.380254271806997,{"$f":"VLOOKUP($A818,Sheet1!$1:$1048576,11,FALSE)","v":178.23826702788028},-17.917630040314947,{"$f":"VLOOKUP($A818,Sheet1!$1:$1048576,12,FALSE)","v":137.84304454330942},10.324031048146704]
[21119,{"$f":"VLOOKUP($A819,BasinData!$1:$1048576,2,FALSE)","v":0.2049988474469697},14.815099071299052,{"$f":"VLOOKUP($A819,BasinData!$1:$1048576,3,FALSE)","v":6.2649032123128414},{"$f":"VLOOKUP($A819,BasinData!$1:$1048576,4,FALSE)","v":19.57882754695504},{"$f":"VLOOKUP($A819,BasinData!$1:$1048576,5,FALSE)","v":10.5654733553},154.5229181698738,{"$f":"VLOOKUP($A819,Sheet1!$1:$1048576,9,FALSE)","v":245.08936016185791},-35.875023468874382,{"$f":"VLOOKUP($A819,Sheet1!$1:$1048576,10,FALSE)","v":229.9949369875352},-28.889832491586194,{"$f":"VLOOKUP($A819,Sheet1!$1:$1048576,11,FALSE)","v":199.80609063888971},-13.427217187786104,{"$f":"VLOOKUP($A819,Sheet1!$1:$1048576,12,FALSE)","v":154.52282111592154},14.815099071299052]
[21120,{"$f":"VLOOKUP($A820,BasinData!$1:$1048576,2,FALSE)","v":0.39191403040151512},-47.308289595475905,{"$f":"VLOOKUP($A820,BasinData!$1:$1048576,3,FALSE)","v":1.3352348298661612},{"$f":"VLOOKUP($A820,BasinData!$1:$1048576,4,FALSE)","v":19.502995340581318},{"$f":"VLOOKUP($A820,BasinData!$1:$1048576,5,FALSE)","v":25.7215941388},152.44938358656267,{"$f":"VLOOKUP($A820,Sheet1!$1:$1048576,9,FALSE)","v":241.80063269828779},-97.998504767786713,{"$f":"VLOOKUP($A820,Sheet1!$1:$1048576,10,FALSE)","v":226.90875378785051},-91.013276428408162,{"$f":"VLOOKUP($A820,Sheet1!$1:$1048576,11,FALSE)","v":197.124995966976},-75.550654380389219,{"$f":"VLOOKUP($A820,Sheet1!$1:$1048576,12,FALSE)","v":152.44935923566422},-47.308289595475905]
[21121,{"$f":"VLOOKUP($A821,BasinData!$1:$1048576,2,FALSE)","v":0.23263601452462121},-12.39487464459409,{"$f":"VLOOKUP($A821,BasinData!$1:$1048576,3,FALSE)","v":50.560095548744108},{"$f":"VLOOKUP($A821,BasinData!$1:$1048576,4,FALSE)","v":25.307083964327781},{"$f":"VLOOKUP($A821,BasinData!$1:$1048576,5,FALSE)","v":17.203653024200001},130.64463793450622,{"$f":"VLOOKUP($A821,Sheet1!$1:$1048576,9,FALSE)","v":207.21455351752576},-63.084303349696839,{"$f":"VLOOKUP($A821,Sheet1!$1:$1048576,10,FALSE)","v":194.45274224752089},-56.099079021940561,{"$f":"VLOOKUP($A821,Sheet1!$1:$1048576,11,FALSE)","v":168.92911970751118},-40.636512331902189,{"$f":"VLOOKUP($A821,Sheet1!$1:$1048576,12,FALSE)","v":130.6436858974966},-12.39487464459409]
[21122,{"$f":"VLOOKUP($A822,BasinData!$1:$1048576,2,FALSE)","v":0.33591369807575755},-43.995513001850156,{"$f":"VLOOKUP($A822,BasinData!$1:$1048576,3,FALSE)","v":17.326971533808241},{"$f":"VLOOKUP($A822,BasinData!$1:$1048576,4,FALSE)","v":29.724277067921989},{"$f":"VLOOKUP($A822,BasinData!$1:$1048576,5,FALSE)","v":24.9133796317},113.99353658371689,{"$f":"VLOOKUP($A822,Sheet1!$1:$1048576,9,FALSE)","v":180.80562167153769},-94.685717522230362,{"$f":"VLOOKUP($A822,Sheet1!$1:$1048576,10,FALSE)","v":169.67026857418438},-87.700485168217924,{"$f":"VLOOKUP($A822,Sheet1!$1:$1048576,11,FALSE)","v":147.39956237947774},-72.237866032400589,{"$f":"VLOOKUP($A822,Sheet1!$1:$1048576,12,FALSE)","v":113.99350308741779},-43.995513001850156]
[21123,{"$f":"VLOOKUP($A823,BasinData!$1:$1048576,2,FALSE)","v":8.7438102684388841E-2},16.924329417064978,{"$f":"VLOOKUP($A823,BasinData!$1:$1048576,3,FALSE)","v":49.765493783858751},{"$f":"VLOOKUP($A823,BasinData!$1:$1048576,4,FALSE)","v":38.56505344726191},{"$f":"VLOOKUP($A823,BasinData!$1:$1048576,5,FALSE)","v":10.0508530233},90.153785445063505,{"$f":"VLOOKUP($A823,Sheet1!$1:$1048576,9,FALSE)","v":142.99305368356499},-33.765685254902827,{"$f":"VLOOKUP($A823,Sheet1!$1:$1048576,10,FALSE)","v":134.18647937179983},-26.780454776670389,{"$f":"VLOOKUP($A823,Sheet1!$1:$1048576,11,FALSE)","v":116.57333074826951},-11.317845645099272,{"$f":"VLOOKUP($A823,Sheet1!$1:$1048576,12,FALSE)","v":90.15360781297403},16.924329417064978]
[21124,{"$f":"VLOOKUP($A824,BasinData!$1:$1048576,2,FALSE)","v":0},5.0980479301927017,{"$f":"VLOOKUP($A824,BasinData!$1:$1048576,3,FALSE)","v":52.842517861432668},{"$f":"VLOOKUP($A824,BasinData!$1:$1048576,4,FALSE)","v":36.584620088671457},{"$f":"VLOOKUP($A824,BasinData!$1:$1048576,5,FALSE)","v":12.9360702656},96.168015421867935,{"$f":"VLOOKUP($A824,Sheet1!$1:$1048576,9,FALSE)","v":152.53214765545374},-45.591908210769191,{"$f":"VLOOKUP($A824,Sheet1!$1:$1048576,10,FALSE)","v":143.13808508627818},-38.60719061186041,{"$f":"VLOOKUP($A824,Sheet1!$1:$1048576,11,FALSE)","v":124.34995994792706},-23.144045004769858,{"$f":"VLOOKUP($A824,Sheet1!$1:$1048576,12,FALSE)","v":96.167772240400353},5.0980479301927017]
[21125,{"$f":"VLOOKUP($A825,BasinData!$1:$1048576,2,FALSE)","v":0.70063878272159086},13.113547346441244,{"$f":"VLOOKUP($A825,BasinData!$1:$1048576,3,FALSE)","v":4.4828311092873427},{"$f":"VLOOKUP($A825,BasinData!$1:$1048576,4,FALSE)","v":31.148633636969564},{"$f":"VLOOKUP($A825,BasinData!$1:$1048576,5,FALSE)","v":10.9806094183},106.0956258383948,{"$f":"VLOOKUP($A825,Sheet1!$1:$1048576,9,FALSE)","v":168.27873287533086},-37.576207726849496,{"$f":"VLOOKUP($A825,Sheet1!$1:$1048576,10,FALSE)","v":157.9148786322026},-30.591434065787599,{"$f":"VLOOKUP($A825,Sheet1!$1:$1048576,11,FALSE)","v":137.18717014594611},-15.128814769428612,{"$f":"VLOOKUP($A825,Sheet1!$1:$1048576,12,FALSE)","v":106.09560741656136},13.113547346441244]
[21126,{"$f":"VLOOKUP($A826,BasinData!$1:$1048576,2,FALSE)","v":0.47883897027651523},-35.801117094329939,{"$f":"VLOOKUP($A826,BasinData!$1:$1048576,3,FALSE)","v":1.7119637505859253},{"$f":"VLOOKUP($A826,BasinData!$1:$1048576,4,FALSE)","v":36.488748372698531},{"$f":"VLOOKUP($A826,BasinData!$1:$1048576,5,FALSE)","v":22.9141935484},92.632814277661993,{"$f":"VLOOKUP($A826,Sheet1!$1:$1048576,9,FALSE)","v":146.92519757298595},-86.491254863224214,{"$f":"VLOOKUP($A826,Sheet1!$1:$1048576,10,FALSE)","v":137.87645263492331},-79.506019313660872,{"$f":"VLOOKUP($A826,Sheet1!$1:$1048576,11,FALSE)","v":119.77896275879802},-64.043409200547842,{"$f":"VLOOKUP($A826,Sheet1!$1:$1048576,12,FALSE)","v":92.632727944610068},-35.801117094329939]
[21127,{"$f":"VLOOKUP($A827,BasinData!$1:$1048576,2,FALSE)","v":0},4.6361563491739624,{"$f":"VLOOKUP($A827,BasinData!$1:$1048576,3,FALSE)","v":55.313155393717146},{"$f":"VLOOKUP($A827,BasinData!$1:$1048576,4,FALSE)","v":36.467517810538197},{"$f":"VLOOKUP($A827,BasinData!$1:$1048576,5,FALSE)","v":13.048763165},96.494001562946536,{"$f":"VLOOKUP($A827,Sheet1!$1:$1048576,9,FALSE)","v":153.04922994250168},-46.053832236448486,{"$f":"VLOOKUP($A827,Sheet1!$1:$1048576,10,FALSE)","v":143.62332160551517},-39.069081106954457,{"$f":"VLOOKUP($A827,Sheet1!$1:$1048576,11,FALSE)","v":124.77150493154215},-23.605961779897093,{"$f":"VLOOKUP($A827,Sheet1!$1:$1048576,12,FALSE)","v":96.493779920582625},4.6361563491739624]
[21128,{"$f":"VLOOKUP($A828,BasinData!$1:$1048576,2,FALSE)","v":0.10133652503490924},-24.805807530634876,{"$f":"VLOOKUP($A828,BasinData!$1:$1048576,3,FALSE)","v":4.0502067205728469},{"$f":"VLOOKUP($A828,BasinData!$1:$1048576,4,FALSE)","v":23.535801575088257},{"$f":"VLOOKUP($A828,BasinData!$1:$1048576,5,FALSE)","v":20.231640613300002},139.03083179788098,{"$f":"VLOOKUP($A828,Sheet1!$1:$1048576,9,FALSE)","v":220.51681821651832},-75.495725323562397,{"$f":"VLOOKUP($A828,Sheet1!$1:$1048576,10,FALSE)","v":206.93575468517153},-68.510500388010286,{"$f":"VLOOKUP($A828,Sheet1!$1:$1048576,11,FALSE)","v":179.77362762247796},-53.047907068659271,{"$f":"VLOOKUP($A828,Sheet1!$1:$1048576,12,FALSE)","v":139.03043702843758},-24.805807530634876]
[21129,{"$f":"VLOOKUP($A829,BasinData!$1:$1048576,2,FALSE)","v":4.1536863966770508E-3},-13.506343455652598,{"$f":"VLOOKUP($A829,BasinData!$1:$1048576,3,FALSE)","v":47.419680138171699},{"$f":"VLOOKUP($A829,BasinData!$1:$1048576,4,FALSE)","v":29.273548732277142},{"$f":"VLOOKUP($A829,BasinData!$1:$1048576,5,FALSE)","v":17.474829790800001},118.7525725464876,{"$f":"VLOOKUP($A829,Sheet1!$1:$1048576,9,FALSE)","v":188.35273044194059},-64.195536922184601,{"$f":"VLOOKUP($A829,Sheet1!$1:$1048576,10,FALSE)","v":176.75257033114588},-57.210605740980739,{"$f":"VLOOKUP($A829,Sheet1!$1:$1048576,11,FALSE)","v":153.55225010955638},-41.748036297508001,{"$f":"VLOOKUP($A829,Sheet1!$1:$1048576,12,FALSE)","v":118.75176977717213},-13.506343455652598]
[21130,{"$f":"VLOOKUP($A830,BasinData!$1:$1048576,2,FALSE)","v":0.21883562740530302},-24.099257620203385,{"$f":"VLOOKUP($A830,BasinData!$1:$1048576,3,FALSE)","v":0.795927311379792},{"$f":"VLOOKUP($A830,BasinData!$1:$1048576,4,FALSE)","v":26.938957705613216},{"$f":"VLOOKUP($A830,BasinData!$1:$1048576,5,FALSE)","v":20.059260391399999},124.77033924103716,{"$f":"VLOOKUP($A830,Sheet1!$1:$1048576,9,FALSE)","v":197.89821409695847},-74.789156263247321,{"$f":"VLOOKUP($A830,Sheet1!$1:$1048576,10,FALSE)","v":185.71017220460755},-67.803930923265952,{"$f":"VLOOKUP($A830,Sheet1!$1:$1048576,11,FALSE)","v":161.33408841990567},-52.341338888424715,{"$f":"VLOOKUP($A830,Sheet1!$1:$1048576,12,FALSE)","v":124.76996274285284},-24.099257620203385]
[21131,{"$f":"VLOOKUP($A831,BasinData!$1:$1048576,2,FALSE)","v":0.10806560323522803},17.542454728506058,{"$f":"VLOOKUP($A831,BasinData!$1:$1048576,3,FALSE)","v":47.216205428210579},{"$f":"VLOOKUP($A831,BasinData!$1:$1048576,4,FALSE)","v":30.997591441214361},{"$f":"VLOOKUP($A831,BasinData!$1:$1048576,5,FALSE)","v":9.9000333807699992},111.99839194353571,{"$f":"VLOOKUP($A831,Sheet1!$1:$1048576,9,FALSE)","v":177.64070433427395},-33.147503664118808,{"$f":"VLOOKUP($A831,Sheet1!$1:$1048576,10,FALSE)","v":166.7002703536414},-26.162260019960765,{"$f":"VLOOKUP($A831,Sheet1!$1:$1048576,11,FALSE)","v":144.81940239237633},-10.69965298229261,{"$f":"VLOOKUP($A831,Sheet1!$1:$1048576,12,FALSE)","v":111.9981004504787},17.542454728506058]
[21132,{"$f":"VLOOKUP($A832,BasinData!$1:$1048576,2,FALSE)","v":0.66166387851515152},6.4079165365122419,{"$f":"VLOOKUP($A832,BasinData!$1:$1048576,3,FALSE)","v":37.342331685481533},{"$f":"VLOOKUP($A832,BasinData!$1:$1048576,4,FALSE)","v":50.903258483876414},{"$f":"VLOOKUP($A832,BasinData!$1:$1048576,5,FALSE)","v":12.6164843433},{"$f":"EXP(6.1523-(0.084*B832)-(0.0091*C832)-(0.0289*E832)-(0.0373*F832))","v":60.142043590294534},{"$f":"VLOOKUP($A832,Sheet1!$1:$1048576,9,FALSE)","v":95.391260258614409},-44.281451074165062,{"$f":"VLOOKUP($A832,Sheet1!$1:$1048576,10,FALSE)","v":89.516357943293244},-37.297318438121643,{"$f":"VLOOKUP($A832,Sheet1!$1:$1048576,11,FALSE)","v":77.766553312650927},-21.834094843246802,{"$f":"VLOOKUP($A832,Sheet1!$1:$1048576,12,FALSE)","v":60.141846366687453},6.4079165365122419]
[21133,{"$f":"VLOOKUP($A833,BasinData!$1:$1048576,2,FALSE)","v":0.32661839564683165},2.461862820202374,{"$f":"VLOOKUP($A833,BasinData!$1:$1048576,3,FALSE)","v":60.184819150455709},{"$f":"VLOOKUP($A833,BasinData!$1:$1048576,4,FALSE)","v":34.796144554307489},{"$f":"VLOOKUP($A833,BasinData!$1:$1048576,5,FALSE)","v":13.579244662800001},98.528584057764121,{"$f":"VLOOKUP($A833,Sheet1!$1:$1048576,9,FALSE)","v":156.27642211214751},-48.228217969962188,{"$f":"VLOOKUP($A833,Sheet1!$1:$1048576,10,FALSE)","v":146.65175931172234},-41.24335686495268,{"$f":"VLOOKUP($A833,Sheet1!$1:$1048576,11,FALSE)","v":127.40243371087202},-25.780351997955481,{"$f":"VLOOKUP($A833,Sheet1!$1:$1048576,12,FALSE)","v":98.528445309596492},2.461862820202374]
[21134,{"$f":"VLOOKUP($A834,BasinData!$1:$1048576,2,FALSE)","v":8.2522104135036176E-2},15.716964381021242,{"$f":"VLOOKUP($A834,BasinData!$1:$1048576,3,FALSE)","v":46.677235415557952},{"$f":"VLOOKUP($A834,BasinData!$1:$1048576,4,FALSE)","v":41.899010664268275},{"$f":"VLOOKUP($A834,BasinData!$1:$1048576,5,FALSE)","v":10.345435398699999},81.906439882891505,{"$f":"VLOOKUP($A834,Sheet1!$1:$1048576,9,FALSE)","v":129.91204359646642},-34.973145131799662,{"$f":"VLOOKUP($A834,Sheet1!$1:$1048576,10,FALSE)","v":121.91109504369729},-27.987918722401044,{"$f":"VLOOKUP($A834,Sheet1!$1:$1048576,11,FALSE)","v":105.90919793815904},-12.525305881374701,{"$f":"VLOOKUP($A834,Sheet1!$1:$1048576,12,FALSE)","v":81.906352279851674},15.716964381021242]
[21135,{"$f":"VLOOKUP($A835,BasinData!$1:$1048576,2,FALSE)","v":0.62668952267992428},-11.521011836732731,{"$f":"VLOOKUP($A835,BasinData!$1:$1048576,3,FALSE)","v":3.0495196017569404},{"$f":"VLOOKUP($A835,BasinData!$1:$1048576,4,FALSE)","v":20.192043895747599},{"$f":"VLOOKUP($A835,BasinData!$1:$1048576,5,FALSE)","v":16.990653873199999},146.52525896693078,{"$f":"VLOOKUP($A835,Sheet1!$1:$1048576,9,FALSE)","v":232.40438896704759},-62.211241850519919,{"$f":"VLOOKUP($A835,Sheet1!$1:$1048576,10,FALSE)","v":218.09120053519638},-55.226016588694002,{"$f":"VLOOKUP($A835,Sheet1!$1:$1048576,11,FALSE)","v":189.464823671494},-39.763452116415408,{"$f":"VLOOKUP($A835,Sheet1!$1:$1048576,12,FALSE)","v":146.52525837594038},-11.521011836732731]
[21136,{"$f":"VLOOKUP($A836,BasinData!$1:$1048576,2,FALSE)","v":0.36150234741784032},-5.4266947076606922,{"$f":"VLOOKUP($A836,BasinData!$1:$1048576,3,FALSE)","v":93.082946337884536},{"$f":"VLOOKUP($A836,BasinData!$1:$1048576,4,FALSE)","v":32.346784996651039},{"$f":"VLOOKUP($A836,BasinData!$1:$1048576,5,FALSE)","v":15.5038341559},105.4462795063484,{"$f":"VLOOKUP($A836,Sheet1!$1:$1048576,9,FALSE)","v":167.24881522148229},-56.116915941729651,{"$f":"VLOOKUP($A836,Sheet1!$1:$1048576,10,FALSE)","v":156.94839095708355},-49.13177119233324,{"$f":"VLOOKUP($A836,Sheet1!$1:$1048576,11,FALSE)","v":136.34754242828606},-33.669142149499578,{"$f":"VLOOKUP($A836,Sheet1!$1:$1048576,12,FALSE)","v":105.44626963508985},-5.4266947076606922]
[21137,{"$f":"VLOOKUP($A837,BasinData!$1:$1048576,2,FALSE)","v":0.38544536271808993},-11.029754599257185,{"$f":"VLOOKUP($A837,BasinData!$1:$1048576,3,FALSE)","v":41.045379066094135},{"$f":"VLOOKUP($A837,BasinData!$1:$1048576,4,FALSE)","v":25.776820140621453},{"$f":"VLOOKUP($A837,BasinData!$1:$1048576,5,FALSE)","v":16.8708029059},127.23837630707531,{"$f":"VLOOKUP($A837,Sheet1!$1:$1048576,9,FALSE)","v":201.81337539212367},-61.719985657790687,{"$f":"VLOOKUP($A837,Sheet1!$1:$1048576,10,FALSE)","v":189.38420878776594},-54.734759338883656,{"$f":"VLOOKUP($A837,Sheet1!$1:$1048576,11,FALSE)","v":164.52587557905053},-39.272196135683686,{"$f":"VLOOKUP($A837,Sheet1!$1:$1048576,12,FALSE)","v":127.23837576597738},-11.029754599257185]
[21138,{"$f":"VLOOKUP($A838,BasinData!$1:$1048576,2,FALSE)","v":0.9385496977518939},31.162776241585448,{"$f":"VLOOKUP($A838,BasinData!$1:$1048576,3,FALSE)","v":71.207005632963472},{"$f":"VLOOKUP($A838,BasinData!$1:$1048576,4,FALSE)","v":27.777777777777779},{"$f":"VLOOKUP($A838,BasinData!$1:$1048576,5,FALSE)","v":6.5771502221900002},114.6375119956555,{"$f":"VLOOKUP($A838,Sheet1!$1:$1048576,9,FALSE)","v":181.82686558179665},-19.527300334149011,{"$f":"VLOOKUP($A838,Sheet1!$1:$1048576,10,FALSE)","v":170.62861669926738},-12.542175964501391,{"$f":"VLOOKUP($A838,Sheet1!$1:$1048576,11,FALSE)","v":148.23211893420887},2.920526374619087,{"$f":"VLOOKUP($A838,Sheet1!$1:$1048576,12,FALSE)","v":114.63737228662112},31.162776241585448]
[21139,{"$f":"VLOOKUP($A839,BasinData!$1:$1048576,2,FALSE)","v":0.2590598139469697},24.319932923667515,{"$f":"VLOOKUP($A839,BasinData!$1:$1048576,3,FALSE)","v":4.6574825070756285},{"$f":"VLOOKUP($A839,BasinData!$1:$1048576,4,FALSE)","v":54.311747478034491},{"$f":"VLOOKUP($A839,BasinData!$1:$1048576,5,FALSE)","v":8.2466154492099992},56.374635245318487,{"$f":"VLOOKUP($A839,Sheet1!$1:$1048576,9,FALSE)","v":89.41606573169048},-26.37029278042791,{"$f":"VLOOKUP($A839,Sheet1!$1:$1048576,10,FALSE)","v":83.909160275468892},-19.385064030352876,{"$f":"VLOOKUP($A839,Sheet1!$1:$1048576,11,FALSE)","v":72.895349363025716},-3.9229854121663155,{"$f":"VLOOKUP($A839,Sheet1!$1:$1048576,12,FALSE)","v":56.374632994360944},24.319932923667515]
[21140,{"$f":"VLOOKUP($A840,BasinData!$1:$1048576,2,FALSE)","v":0.12409369771332962},-16.633708546768634,{"$f":"VLOOKUP($A840,BasinData!$1:$1048576,3,FALSE)","v":64.988489021795644},{"$f":"VLOOKUP($A840,BasinData!$1:$1048576,4,FALSE)","v":29.85533729252322},{"$f":"VLOOKUP($A840,BasinData!$1:$1048576,5,FALSE)","v":18.237842050699999},115.60186865261589,{"$f":"VLOOKUP($A840,Sheet1!$1:$1048576,9,FALSE)","v":183.35566300123867},-67.322747106942217,{"$f":"VLOOKUP($A840,Sheet1!$1:$1048576,10,FALSE)","v":172.06325941863744},-60.338117456473007,{"$f":"VLOOKUP($A840,Sheet1!$1:$1048576,11,FALSE)","v":149.47845225343499},-44.875540668746154,{"$f":"VLOOKUP($A840,Sheet1!$1:$1048576,12,FALSE)","v":115.60124150563131},-16.633708546768634]
[21141,{"$f":"VLOOKUP($A841,BasinData!$1:$1048576,2,FALSE)","v":1.1325663500757577},-14.782597860103181,{"$f":"VLOOKUP($A841,BasinData!$1:$1048576,3,FALSE)","v":1.1582373486301014},{"$f":"VLOOKUP($A841,BasinData!$1:$1048576,4,FALSE)","v":18.619128466327108},{"$f":"VLOOKUP($A841,BasinData!$1:$1048576,5,FALSE)","v":17.7862101033},146.96105468923028,{"$f":"VLOOKUP($A841,Sheet1!$1:$1048576,9,FALSE)","v":233.09416477982836},-65.472106596961936,{"$f":"VLOOKUP($A841,Sheet1!$1:$1048576,10,FALSE)","v":218.7384948301885},-58.486922816747835,{"$f":"VLOOKUP($A841,Sheet1!$1:$1048576,11,FALSE)","v":190.02715493090881},-43.024350303301084,{"$f":"VLOOKUP($A841,Sheet1!$1:$1048576,12,FALSE)","v":146.96014508198925},-14.782597860103181]
[21142,{"$f":"VLOOKUP($A842,BasinData!$1:$1048576,2,FALSE)","v":0.7782657666856061},20.319515101052396,{"$f":"VLOOKUP($A842,BasinData!$1:$1048576,3,FALSE)","v":8.4347395597752826},{"$f":"VLOOKUP($A842,BasinData!$1:$1048576,4,FALSE)","v":19.102486355366889},{"$f":"VLOOKUP($A842,BasinData!$1:$1048576,5,FALSE)","v":9.2225885569500008},149.29939903725941,{"$f":"VLOOKUP($A842,Sheet1!$1:$1048576,9,FALSE)","v":236.80445557847884},-30.370717360539587,{"$f":"VLOOKUP($A842,Sheet1!$1:$1048576,10,FALSE)","v":222.22027836366175},-23.385480897940994,{"$f":"VLOOKUP($A842,Sheet1!$1:$1048576,11,FALSE)","v":193.05192393402757},-7.9228850705472551,{"$f":"VLOOKUP($A842,Sheet1!$1:$1048576,12,FALSE)","v":149.29939228957625},20.319515101052396]
[21143,{"$f":"VLOOKUP($A843,BasinData!$1:$1048576,2,FALSE)","v":0.98810992451893942},-2.2699257238527863,{"$f":"VLOOKUP($A843,BasinData!$1:$1048576,3,FALSE)","v":6.4096596703141833},{"$f":"VLOOKUP($A843,BasinData!$1:$1048576,4,FALSE)","v":15.580584607133281},{"$f":"VLOOKUP($A843,BasinData!$1:$1048576,5,FALSE)","v":14.7336769759},162.40773307978276,{"$f":"VLOOKUP($A843,Sheet1!$1:$1048576,9,FALSE)","v":257.59556304721912},-52.96012862050943,{"$f":"VLOOKUP($A843,Sheet1!$1:$1048576,10,FALSE)","v":241.73091501070365},-45.975063715470071,{"$f":"VLOOKUP($A843,Sheet1!$1:$1048576,11,FALSE)","v":210.00161893767267},-30.512564485784551,{"$f":"VLOOKUP($A843,Sheet1!$1:$1048576,12,FALSE)","v":162.4076748281262},-2.2699257238527863]
[21144,{"$f":"VLOOKUP($A844,BasinData!$1:$1048576,2,FALSE)","v":0.31194759049999998},-7.266357149712622,{"$f":"VLOOKUP($A844,BasinData!$1:$1048576,3,FALSE)","v":0.82250021741735746},{"$f":"VLOOKUP($A844,BasinData!$1:$1048576,4,FALSE)","v":34.98175922172679},{"$f":"VLOOKUP($A844,BasinData!$1:$1048576,5,FALSE)","v":15.9526543077},98.122176903182734,{"$f":"VLOOKUP($A844,Sheet1!$1:$1048576,9,FALSE)","v":155.63203322043785},-57.95654033441604,{"$f":"VLOOKUP($A844,Sheet1!$1:$1048576,10,FALSE)","v":146.04705667409516},-50.971402676540897,{"$f":"VLOOKUP($A844,Sheet1!$1:$1048576,11,FALSE)","v":126.8771035814098},-35.508806169360263,{"$f":"VLOOKUP($A844,Sheet1!$1:$1048576,12,FALSE)","v":98.122173942381764},-7.266357149712622]
[21145,{"$f":"VLOOKUP($A845,BasinData!$1:$1048576,2,FALSE)","v":0},-8.3652218487658772,{"$f":"VLOOKUP($A845,BasinData!$1:$1048576,3,FALSE)","v":57.347773069658281},{"$f":"VLOOKUP($A845,BasinData!$1:$1048576,4,FALSE)","v":23.006209965282871},{"$f":"VLOOKUP($A845,BasinData!$1:$1048576,5,FALSE)","v":16.220742431200001},142.38154034175005,{"$f":"VLOOKUP($A845,Sheet1!$1:$1048576,9,FALSE)","v":225.83201596317787},-59.055452157506522,{"$f":"VLOOKUP($A845,Sheet1!$1:$1048576,10,FALSE)","v":211.92360307651714},-52.070251930323231,{"$f":"VLOOKUP($A845,Sheet1!$1:$1048576,11,FALSE)","v":184.10677730319574},-36.60766976039519,{"$f":"VLOOKUP($A845,Sheet1!$1:$1048576,12,FALSE)","v":142.38153864321362},-8.3652218487658772]
[21146,{"$f":"VLOOKUP($A846,BasinData!$1:$1048576,2,FALSE)","v":0.56386219826576056},12.972513932094111,{"$f":"VLOOKUP($A846,BasinData!$1:$1048576,3,FALSE)","v":57.347064548996485},{"$f":"VLOOKUP($A846,BasinData!$1:$1048576,4,FALSE)","v":23.775327006924851},{"$f":"VLOOKUP($A846,BasinData!$1:$1048576,5,FALSE)","v":11.015017605400001},132.8098746234231,{"$f":"VLOOKUP($A846,Sheet1!$1:$1048576,9,FALSE)","v":210.65032337170624},-37.717698570886235,{"$f":"VLOOKUP($A846,Sheet1!$1:$1048576,10,FALSE)","v":197.67691187526017},-30.732469814974714,{"$f":"VLOOKUP($A846,Sheet1!$1:$1048576,11,FALSE)","v":171.73008888236802},-15.269850223203406,{"$f":"VLOOKUP($A846,Sheet1!$1:$1048576,12,FALSE)","v":132.80985439302981},12.972513932094111]
[21147,{"$f":"VLOOKUP($A847,BasinData!$1:$1048576,2,FALSE)","v":0.24735322425409045},-30.520754700309872,{"$f":"VLOOKUP($A847,BasinData!$1:$1048576,3,FALSE)","v":62.593689909559444},{"$f":"VLOOKUP($A847,BasinData!$1:$1048576,4,FALSE)","v":22.019297036526535},{"$f":"VLOOKUP($A847,BasinData!$1:$1048576,5,FALSE)","v":21.625935392799999},143.48867646411645,{"$f":"VLOOKUP($A847,Sheet1!$1:$1048576,9,FALSE)","v":227.58767380158062},-81.210761806011604,{"$f":"VLOOKUP($A847,Sheet1!$1:$1048576,10,FALSE)","v":213.57113446526634},-74.225576661808546,{"$f":"VLOOKUP($A847,Sheet1!$1:$1048576,11,FALSE)","v":185.53805579263775},-58.762973890113308,{"$f":"VLOOKUP($A847,Sheet1!$1:$1048576,12,FALSE)","v":143.48843778369491},-30.520754700309872]
[21148,{"$f":"VLOOKUP($A848,BasinData!$1:$1048576,2,FALSE)","v":5.3956834532374098E-2},-0.76239266605744405,{"$f":"VLOOKUP($A848,BasinData!$1:$1048576,3,FALSE)","v":100},{"$f":"VLOOKUP($A848,BasinData!$1:$1048576,4,FALSE)","v":36.366148913824553},{"$f":"VLOOKUP($A848,BasinData!$1:$1048576,5,FALSE)","v":14.365881251099999},96.33929900214838,{"$f":"VLOOKUP($A848,Sheet1!$1:$1048576,9,FALSE)","v":152.80411713676787},-51.452557413470622,{"$f":"VLOOKUP($A848,Sheet1!$1:$1048576,10,FALSE)","v":143.39330466690814},-44.467560173817247,{"$f":"VLOOKUP($A848,Sheet1!$1:$1048576,11,FALSE)","v":124.57167972718868},-29.005299821087149,{"$f":"VLOOKUP($A848,Sheet1!$1:$1048576,12,FALSE)","v":96.339242317609504},-0.76239266605744405]
[21149,{"$f":"VLOOKUP($A849,BasinData!$1:$1048576,2,FALSE)","v":0.92079933470833342},-14.912668765868636,{"$f":"VLOOKUP($A849,BasinData!$1:$1048576,3,FALSE)","v":0.6096352263469591},{"$f":"VLOOKUP($A849,BasinData!$1:$1048576,4,FALSE)","v":17.133620689655171},{"$f":"VLOOKUP($A849,BasinData!$1:$1048576,5,FALSE)","v":17.8179447242},156.16094365359319,{"$f":"VLOOKUP($A849,Sheet1!$1:$1048576,9,FALSE)","v":247.68607473464067},-65.60219363862555,{"$f":"VLOOKUP($A849,Sheet1!$1:$1048576,10,FALSE)","v":232.43172659010042},-58.616999886187017,{"$f":"VLOOKUP($A849,Sheet1!$1:$1048576,11,FALSE)","v":201.92303030101996},-43.154427065494204,{"$f":"VLOOKUP($A849,Sheet1!$1:$1048576,12,FALSE)","v":156.15998586739923},-14.912668765868636]
[21150,{"$f":"VLOOKUP($A850,BasinData!$1:$1048576,2,FALSE)","v":0.34952961001325755},-11.089046219773955,{"$f":"VLOOKUP($A850,BasinData!$1:$1048576,3,FALSE)","v":100},{"$f":"VLOOKUP($A850,BasinData!$1:$1048576,4,FALSE)","v":34.418226200162735},{"$f":"VLOOKUP($A850,BasinData!$1:$1048576,5,FALSE)","v":16.885055288499998},99.419724929752547,{"$f":"VLOOKUP($A850,Sheet1!$1:$1048576,9,FALSE)","v":157.68883212832822},-61.778404606045818,{"$f":"VLOOKUP($A850,Sheet1!$1:$1048576,10,FALSE)","v":147.97718262857916},-54.793178444185273,{"$f":"VLOOKUP($A850,Sheet1!$1:$1048576,11,FALSE)","v":128.55388362908104},-39.330615089265741,{"$f":"VLOOKUP($A850,Sheet1!$1:$1048576,12,FALSE)","v":99.418935129833855},-11.089046219773955]
[21151,{"$f":"VLOOKUP($A851,BasinData!$1:$1048576,2,FALSE)","v":0.40788106819696973},-15.483179420696311,{"$f":"VLOOKUP($A851,BasinData!$1:$1048576,3,FALSE)","v":1.8703172386379259},{"$f":"VLOOKUP($A851,BasinData!$1:$1048576,4,FALSE)","v":27.627535341118627},{"$f":"VLOOKUP($A851,BasinData!$1:$1048576,5,FALSE)","v":17.957137452000001},120.38535926381475,{"$f":"VLOOKUP($A851,Sheet1!$1:$1048576,9,FALSE)","v":190.94264931761313},-66.172755337134859,{"$f":"VLOOKUP($A851,Sheet1!$1:$1048576,10,FALSE)","v":179.18298276610327},-59.187537097729148,{"$f":"VLOOKUP($A851,Sheet1!$1:$1048576,11,FALSE)","v":155.6636496630835},-43.724962941550643,{"$f":"VLOOKUP($A851,Sheet1!$1:$1048576,12,FALSE)","v":120.38465000855388},-15.483179420696311]
[21152,{"$f":"VLOOKUP($A852,BasinData!$1:$1048576,2,FALSE)","v":0.56027294010984852},-36.467763059850029,{"$f":"VLOOKUP($A852,BasinData!$1:$1048576,3,FALSE)","v":93.279144331110274},{"$f":"VLOOKUP($A852,BasinData!$1:$1048576,4,FALSE)","v":18.246491059411653},{"$f":"VLOOKUP($A852,BasinData!$1:$1048576,5,FALSE)","v":23.076835650900001},155.86716770867122,{"$f":"VLOOKUP($A852,Sheet1!$1:$1048576,9,FALSE)","v":247.22142192604412},-87.157920956336952,{"$f":"VLOOKUP($A852,Sheet1!$1:$1048576,10,FALSE)","v":231.99569055261733},-80.172673191613967,{"$f":"VLOOKUP($A852,Sheet1!$1:$1048576,11,FALSE)","v":201.54422780576377},-64.710062240605723,{"$f":"VLOOKUP($A852,Sheet1!$1:$1048576,12,FALSE)","v":155.86703368548339},-36.467763059850029]
[21153,{"$f":"VLOOKUP($A853,BasinData!$1:$1048576,2,FALSE)","v":0.23882883933901514},14.685276507595233,{"$f":"VLOOKUP($A853,BasinData!$1:$1048576,3,FALSE)","v":7.6996589038361796},{"$f":"VLOOKUP($A853,BasinData!$1:$1048576,4,FALSE)","v":35.226808336738863},{"$f":"VLOOKUP($A853,BasinData!$1:$1048576,5,FALSE)","v":10.597147231799999},98.030044537477934,{"$f":"VLOOKUP($A853,Sheet1!$1:$1048576,9,FALSE)","v":155.48581650236997},-36.004840043225556,{"$f":"VLOOKUP($A853,Sheet1!$1:$1048576,10,FALSE)","v":145.90984506753526},-29.019660571447055,{"$f":"VLOOKUP($A853,Sheet1!$1:$1048576,11,FALSE)","v":126.75790219786586},-13.557044933680739,{"$f":"VLOOKUP($A853,Sheet1!$1:$1048576,12,FALSE)","v":98.029987893361778},14.685276507595233]
[21154,{"$f":"VLOOKUP($A854,BasinData!$1:$1048576,2,FALSE)","v":0.73520207895643941},15.685524128710149,{"$f":"VLOOKUP($A854,BasinData!$1:$1048576,3,FALSE)","v":100},{"$f":"VLOOKUP($A854,BasinData!$1:$1048576,4,FALSE)","v":33.177257525083611},{"$f":"VLOOKUP($A854,BasinData!$1:$1048576,5,FALSE)","v":10.3531063012},99.76437426413267,{"$f":"VLOOKUP($A854,Sheet1!$1:$1048576,9,FALSE)","v":158.23656839873783},-35.004587047833276,{"$f":"VLOOKUP($A854,Sheet1!$1:$1048576,10,FALSE)","v":148.49118523120316},-28.019360991183383,{"$f":"VLOOKUP($A854,Sheet1!$1:$1048576,11,FALSE)","v":129.00041889613382},-12.556748059999816,{"$f":"VLOOKUP($A854,Sheet1!$1:$1048576,12,FALSE)","v":99.764269393529815},15.685524128710149]
[21155,{"$f":"VLOOKUP($A855,BasinData!$1:$1048576,2,FALSE)","v":0.79075425790754261},-5.3718270305129652,{"$f":"VLOOKUP($A855,BasinData!$1:$1048576,3,FALSE)","v":55.681655567357041},{"$f":"VLOOKUP($A855,BasinData!$1:$1048576,4,FALSE)","v":33.51681957186544},{"$f":"VLOOKUP($A855,BasinData!$1:$1048576,5,FALSE)","v":15.490448135299999},98.33012767645198,{"$f":"VLOOKUP($A855,Sheet1!$1:$1048576,9,FALSE)","v":155.96185457606666},-56.062048287230283,{"$f":"VLOOKUP($A855,Sheet1!$1:$1048576,10,FALSE)","v":146.35656518093077},-49.076904516709256,{"$f":"VLOOKUP($A855,Sheet1!$1:$1048576,11,FALSE)","v":127.145986390659},-33.614274339358033,{"$f":"VLOOKUP($A855,Sheet1!$1:$1048576,12,FALSE)","v":98.330118205251367},-5.3718270305129652]
[21156,{"$f":"VLOOKUP($A856,BasinData!$1:$1048576,2,FALSE)","v":4.7900650502661152E-2},-3.2007278904847771,{"$f":"VLOOKUP($A856,BasinData!$1:$1048576,3,FALSE)","v":53.980931843211096},{"$f":"VLOOKUP($A856,BasinData!$1:$1048576,4,FALSE)","v":31.637699980658173},{"$f":"VLOOKUP($A856,BasinData!$1:$1048576,5,FALSE)","v":14.960765562200001},110.50236066901491,{"$f":"VLOOKUP($A856,Sheet1!$1:$1048576,9,FALSE)","v":175.26826001986501},-53.890472175687172,{"$f":"VLOOKUP($A856,Sheet1!$1:$1048576,10,FALSE)","v":164.47393878119547},-46.905847147292441,{"$f":"VLOOKUP($A856,Sheet1!$1:$1048576,11,FALSE)","v":142.88529630385639},-31.443246567166181,{"$f":"VLOOKUP($A856,Sheet1!$1:$1048576,12,FALSE)","v":110.50233258784775},-3.2007278904847771]
[21157,{"$f":"VLOOKUP($A857,BasinData!$1:$1048576,2,FALSE)","v":0.16202232912771172},-10.596538109902211,{"$f":"VLOOKUP($A857,BasinData!$1:$1048576,3,FALSE)","v":69.139838878425223},{"$f":"VLOOKUP($A857,BasinData!$1:$1048576,4,FALSE)","v":39.054648241206031},{"$f":"VLOOKUP($A857,BasinData!$1:$1048576,5,FALSE)","v":16.764892222},88.3325621676032,{"$f":"VLOOKUP($A857,Sheet1!$1:$1048576,9,FALSE)","v":140.10353554257094},-61.285869693148953,{"$f":"VLOOKUP($A857,Sheet1!$1:$1048576,10,FALSE)","v":131.47491921952158},-54.300644545415011,{"$f":"VLOOKUP($A857,Sheet1!$1:$1048576,11,FALSE)","v":114.21768657342285},-38.838079861812965,{"$f":"VLOOKUP($A857,Sheet1!$1:$1048576,12,FALSE)","v":88.331837604274767},-10.596538109902211]
[21158,{"$f":"VLOOKUP($A858,BasinData!$1:$1048576,2,FALSE)","v":0.25655370843989772},22.802410713809163,{"$f":"VLOOKUP($A858,BasinData!$1:$1048576,3,FALSE)","v":30.299068443408743},{"$f":"VLOOKUP($A858,BasinData!$1:$1048576,4,FALSE)","v":37.165455715993744},{"$f":"VLOOKUP($A858,BasinData!$1:$1048576,5,FALSE)","v":8.6167887948399997},92.550982861797507,{"$f":"VLOOKUP($A858,Sheet1!$1:$1048576,9,FALSE)","v":146.79524387602029},-27.887598152814526,{"$f":"VLOOKUP($A858,Sheet1!$1:$1048576,10,FALSE)","v":137.75450245183427},-20.902367810147044,{"$f":"VLOOKUP($A858,Sheet1!$1:$1048576,11,FALSE)","v":119.67301960346221},-5.4398060715773475,{"$f":"VLOOKUP($A858,Sheet1!$1:$1048576,12,FALSE)","v":92.550795330904123},22.802410713809163]
[21159,{"$f":"VLOOKUP($A859,BasinData!$1:$1048576,2,FALSE)","v":0.20953870211102427},-14.397944618647191,{"$f":"VLOOKUP($A859,BasinData!$1:$1048576,3,FALSE)","v":68.311760876580635},{"$f":"VLOOKUP($A859,BasinData!$1:$1048576,4,FALSE)","v":29.081098494000162},{"$f":"VLOOKUP($A859,BasinData!$1:$1048576,5,FALSE)","v":17.692362579699999},117.37232820268767,{"$f":"VLOOKUP($A859,Sheet1!$1:$1048576,9,FALSE)","v":186.16360823352159},-65.087392058413272,{"$f":"VLOOKUP($A859,Sheet1!$1:$1048576,10,FALSE)","v":174.69827052779723},-58.102251108084076,{"$f":"VLOOKUP($A859,Sheet1!$1:$1048576,11,FALSE)","v":151.76759511634853},-42.63967950930266,{"$f":"VLOOKUP($A859,Sheet1!$1:$1048576,12,FALSE)","v":117.37158199917546},-14.397944618647191]
[21160,{"$f":"VLOOKUP($A860,BasinData!$1:$1048576,2,FALSE)","v":2.4462957467853608},-2.9537774556889449,{"$f":"VLOOKUP($A860,BasinData!$1:$1048576,3,FALSE)","v":49.405877343108052},{"$f":"VLOOKUP($A860,BasinData!$1:$1048576,4,FALSE)","v":33.940582959641254},{"$f":"VLOOKUP($A860,BasinData!$1:$1048576,5,FALSE)","v":14.9005169234},84.522553437847662,{"$f":"VLOOKUP($A860,Sheet1!$1:$1048576,9,FALSE)","v":134.06157487891426},-53.643976479320735,{"$f":"VLOOKUP($A860,Sheet1!$1:$1048576,10,FALSE)","v":125.80506736956296},-46.658901768181046,{"$f":"VLOOKUP($A860,Sheet1!$1:$1048576,11,FALSE)","v":109.29205235086036},-31.196324633793832,{"$f":"VLOOKUP($A860,Sheet1!$1:$1048576,12,FALSE)","v":84.522529822806462},-2.9537774556889449]
[21161,{"$f":"VLOOKUP($A861,BasinData!$1:$1048576,2,FALSE)","v":0.7518059704393939},14.08520408854932,{"$f":"VLOOKUP($A861,BasinData!$1:$1048576,3,FALSE)","v":4.177208229134842},{"$f":"VLOOKUP($A861,BasinData!$1:$1048576,4,FALSE)","v":22.84654877353109},{"$f":"VLOOKUP($A861,BasinData!$1:$1048576,5,FALSE)","v":10.743550834600001},134.28618554653431,{"$f":"VLOOKUP($A861,Sheet1!$1:$1048576,9,FALSE)","v":212.99185757260256},-36.604846779447655,{"$f":"VLOOKUP($A861,Sheet1!$1:$1048576,10,FALSE)","v":199.87423700856525},-29.619754426871111,{"$f":"VLOOKUP($A861,Sheet1!$1:$1048576,11,FALSE)","v":173.6389958804906},-14.157137309967561,{"$f":"VLOOKUP($A861,Sheet1!$1:$1048576,12,FALSE)","v":134.28613418837858},14.08520408854932]
[21162,{"$f":"VLOOKUP($A862,BasinData!$1:$1048576,2,FALSE)","v":0.17081652524690497},-1.4173557483412811,{"$f":"VLOOKUP($A862,BasinData!$1:$1048576,3,FALSE)","v":56.265095736189259},{"$f":"VLOOKUP($A862,BasinData!$1:$1048576,4,FALSE)","v":33.404727907345709},{"$f":"VLOOKUP($A862,BasinData!$1:$1048576,5,FALSE)","v":14.525674116099999},103.92246249400948,{"$f":"VLOOKUP($A862,Sheet1!$1:$1048576,9,FALSE)","v":164.83181879464797},-52.107533395014883,{"$f":"VLOOKUP($A862,Sheet1!$1:$1048576,10,FALSE)","v":154.68025112220153},-45.122510615763588,{"$f":"VLOOKUP($A862,Sheet1!$1:$1048576,11,FALSE)","v":134.37711577730866},-29.660134974251566,{"$f":"VLOOKUP($A862,Sheet1!$1:$1048576,12,FALSE)","v":103.92241275996932},-1.4173557483412811]
[21163,{"$f":"VLOOKUP($A863,BasinData!$1:$1048576,2,FALSE)","v":0.17268041237113399},9.99468360732339,{"$f":"VLOOKUP($A863,BasinData!$1:$1048576,3,FALSE)","v":91.89185957991738},{"$f":"VLOOKUP($A863,BasinData!$1:$1048576,4,FALSE)","v":35.483591652956967},{"$f":"VLOOKUP($A863,BasinData!$1:$1048576,5,FALSE)","v":11.7413510649},97.847978165993666,{"$f":"VLOOKUP($A863,Sheet1!$1:$1048576,9,FALSE)","v":155.1961724323632},-40.694874517319647,{"$f":"VLOOKUP($A863,Sheet1!$1:$1048576,10,FALSE)","v":145.63803943066051},-33.709638700969592,{"$f":"VLOOKUP($A863,Sheet1!$1:$1048576,11,FALSE)","v":126.52177342725514},-18.247014002031015,{"$f":"VLOOKUP($A863,Sheet1!$1:$1048576,12,FALSE)","v":97.847374422147084},9.99468360732339]
[21164,{"$f":"VLOOKUP($A864,BasinData!$1:$1048576,2,FALSE)","v":0.30931710925189393},-37.487839528783013,{"$f":"VLOOKUP($A864,BasinData!$1:$1048576,3,FALSE)","v":51.414658625266469},{"$f":"VLOOKUP($A864,BasinData!$1:$1048576,4,FALSE)","v":38.23146944083225},{"$f":"VLOOKUP($A864,BasinData!$1:$1048576,5,FALSE)","v":23.325704242400001},89.34617821123463,{"$f":"VLOOKUP($A864,Sheet1!$1:$1048576,9,FALSE)","v":141.71227855045612},-88.178012829751538,{"$f":"VLOOKUP($A864,Sheet1!$1:$1048576,10,FALSE)","v":132.98458388421099},-81.192760912293906,{"$f":"VLOOKUP($A864,Sheet1!$1:$1048576,11,FALSE)","v":115.52919455172068},-65.730148716268232,{"$f":"VLOOKUP($A864,Sheet1!$1:$1048576,12,FALSE)","v":89.346110552985238},-37.487839528783013]
[21165,{"$f":"VLOOKUP($A865,BasinData!$1:$1048576,2,FALSE)","v":7.77262180974478E-2},-10.358275392351754,{"$f":"VLOOKUP($A865,BasinData!$1:$1048576,3,FALSE)","v":75.266577889746017},{"$f":"VLOOKUP($A865,BasinData!$1:$1048576,4,FALSE)","v":28.210586064992192},{"$f":"VLOOKUP($A865,BasinData!$1:$1048576,5,FALSE)","v":16.706983573500001},121.70193251239034,{"$f":"VLOOKUP($A865,Sheet1!$1:$1048576,9,FALSE)","v":193.03199629835822},-61.048508945800343,{"$f":"VLOOKUP($A865,Sheet1!$1:$1048576,10,FALSE)","v":181.14365224136816},-54.063284476251809,{"$f":"VLOOKUP($A865,Sheet1!$1:$1048576,11,FALSE)","v":157.36696412738806},-38.600718669875327,{"$f":"VLOOKUP($A865,Sheet1!$1:$1048576,12,FALSE)","v":121.70193195641791},-10.358275392351754]
[21166,{"$f":"VLOOKUP($A866,BasinData!$1:$1048576,2,FALSE)","v":0.17413105402424242},22.780752884908292,{"$f":"VLOOKUP($A866,BasinData!$1:$1048576,3,FALSE)","v":100},{"$f":"VLOOKUP($A866,BasinData!$1:$1048576,4,FALSE)","v":31.353230947551435},{"$f":"VLOOKUP($A866,BasinData!$1:$1048576,5,FALSE)","v":8.6220737237199998},110.2396261398589,{"$f":"VLOOKUP($A866,Sheet1!$1:$1048576,9,FALSE)","v":174.85123309207339},-27.909260582599522,{"$f":"VLOOKUP($A866,Sheet1!$1:$1048576,10,FALSE)","v":164.08259546904108},-20.924030208848183,{"$f":"VLOOKUP($A866,Sheet1!$1:$1048576,11,FALSE)","v":142.54532022297647},-5.4614649664346269,{"$f":"VLOOKUP($A866,Sheet1!$1:$1048576,12,FALSE)","v":110.23940735387956},22.780752884908292]
[21167,{"$f":"VLOOKUP($A867,BasinData!$1:$1048576,2,FALSE)","v":0.44479142090719698},13.629381469317099,{"$f":"VLOOKUP($A867,BasinData!$1:$1048576,3,FALSE)","v":22.745374400381436},{"$f":"VLOOKUP($A867,BasinData!$1:$1048576,4,FALSE)","v":43.38296112489661},{"$f":"VLOOKUP($A867,BasinData!$1:$1048576,5,FALSE)","v":10.8547599072},76.116116897914395,{"$f":"VLOOKUP($A867,Sheet1!$1:$1048576,9,FALSE)","v":120.72809193562145},-37.060565815120292,{"$f":"VLOOKUP($A867,Sheet1!$1:$1048576,10,FALSE)","v":113.29275933896632},-30.075589392690038,{"$f":"VLOOKUP($A867,Sheet1!$1:$1048576,11,FALSE)","v":98.422094145656075},-14.61297122105619,{"$f":"VLOOKUP($A867,Sheet1!$1:$1048576,12,FALSE)","v":76.116096355690701},13.629381469317099]
[21168,{"$f":"VLOOKUP($A868,BasinData!$1:$1048576,2,FALSE)","v":0},-86.195600369013817,{"$f":"VLOOKUP($A868,BasinData!$1:$1048576,3,FALSE)","v":100},{"$f":"VLOOKUP($A868,BasinData!$1:$1048576,4,FALSE)","v":8.9602326752055479},{"$f":"VLOOKUP($A868,BasinData!$1:$1048576,5,FALSE)","v":35.2088510398533},213.67135178820655,{"$f":"VLOOKUP($A868,Sheet1!$1:$1048576,9,FALSE)","v":338.90511599356972},-136.88586061733068,{"$f":"VLOOKUP($A868,Sheet1!$1:$1048576,10,FALSE)","v":318.03282176842862},-129.90060338738675,{"$f":"VLOOKUP($A868,Sheet1!$1:$1048576,11,FALSE)","v":276.28823331814647},-114.43836215970427,{"$f":"VLOOKUP($A868,Sheet1!$1:$1048576,12,FALSE)","v":213.67135064272316},-86.195600369013817]
[21169,{"$f":"VLOOKUP($A869,BasinData!$1:$1048576,2,FALSE)","v":0.1650185414091471},-5.8062098090281147,{"$f":"VLOOKUP($A869,BasinData!$1:$1048576,3,FALSE)","v":52.850798375005233},{"$f":"VLOOKUP($A869,BasinData!$1:$1048576,4,FALSE)","v":32.792050930142075},{"$f":"VLOOKUP($A869,BasinData!$1:$1048576,5,FALSE)","v":15.596424094283901},105.83042629259239,{"$f":"VLOOKUP($A869,Sheet1!$1:$1048576,9,FALSE)","v":167.85811505657045},-56.496431468372236,{"$f":"VLOOKUP($A869,Sheet1!$1:$1048576,10,FALSE)","v":157.52016558281628},-49.511279474768664,{"$f":"VLOOKUP($A869,Sheet1!$1:$1048576,11,FALSE)","v":136.84426663530792},-34.048658018162691,{"$f":"VLOOKUP($A869,Sheet1!$1:$1048576,12,FALSE)","v":105.83041821404535},-5.8062098090281147]
[21173,{"$f":"VLOOKUP($A870,BasinData!$1:$1048576,2,FALSE)","v":0.31393154102840909},19.815652776117464,{"$f":"VLOOKUP($A870,BasinData!$1:$1048576,3,FALSE)","v":0.24691462639738671},{"$f":"VLOOKUP($A870,BasinData!$1:$1048576,4,FALSE)","v":16.079873883342092},{"$f":"VLOOKUP($A870,BasinData!$1:$1048576,5,FALSE)","v":9.3455157653666294},169.4082050531845,{"$f":"VLOOKUP($A870,Sheet1!$1:$1048576,9,FALSE)","v":268.69913435629383},-30.874585918537274,{"$f":"VLOOKUP($A870,Sheet1!$1:$1048576,10,FALSE)","v":252.15064592795244},-23.889347326450867,{"$f":"VLOOKUP($A870,Sheet1!$1:$1048576,11,FALSE)","v":219.05366907126967},-8.4267492315212991,{"$f":"VLOOKUP($A870,Sheet1!$1:$1048576,12,FALSE)","v":169.40820378624554},19.815652776117464]
[21174,{"$f":"VLOOKUP($A871,BasinData!$1:$1048576,2,FALSE)","v":0.89425892524242423},34.096463822336005,{"$f":"VLOOKUP($A871,BasinData!$1:$1048576,3,FALSE)","v":6.523079658883578},{"$f":"VLOOKUP($A871,BasinData!$1:$1048576,4,FALSE)","v":14.333814333814335},{"$f":"VLOOKUP($A871,BasinData!$1:$1048576,5,FALSE)","v":5.8614217327959697},169.69898050921427,{"$f":"VLOOKUP($A871,Sheet1!$1:$1048576,9,FALSE)","v":269.15997749938492},-16.593258532781288,{"$f":"VLOOKUP($A871,Sheet1!$1:$1048576,10,FALSE)","v":252.58310692742779},-9.6087467891999534,{"$f":"VLOOKUP($A871,Sheet1!$1:$1048576,11,FALSE)","v":219.42936578351359},5.854081696860959,{"$f":"VLOOKUP($A871,Sheet1!$1:$1048576,12,FALSE)","v":169.69875406764226},34.096463822336005]
[21188,{"$f":"VLOOKUP($A872,BasinData!$1:$1048576,2,FALSE)","v":6.9886363636363635E-2},43.708966390010531,{"$f":"VLOOKUP($A872,BasinData!$1:$1048576,3,FALSE)","v":2.3093641299928223},{"$f":"VLOOKUP($A872,BasinData!$1:$1048576,4,FALSE)","v":85.52215189873418},{"$f":"VLOOKUP($A872,BasinData!$1:$1048576,5,FALSE)","v":3.5163127413127402},23.241263458289701,{"$f":"VLOOKUP($A872,Sheet1!$1:$1048576,9,FALSE)","v":36.863070640773721},-6.9812570192999868,{"$f":"VLOOKUP($A872,Sheet1!$1:$1048576,10,FALSE)","v":34.592768954118192},3.575014153158633E-3,{"$f":"VLOOKUP($A872,Sheet1!$1:$1048576,11,FALSE)","v":30.052165580807131},15.463889057539232,{"$f":"VLOOKUP($A872,Sheet1!$1:$1048576,12,FALSE)","v":23.241260520840541},43.708966390010531]
[21193,{"$f":"VLOOKUP($A873,BasinData!$1:$1048576,2,FALSE)","v":3.3027247019128785E-3},4.9748292908604395,{"$f":"VLOOKUP($A873,BasinData!$1:$1048576,3,FALSE)","v":4.2239346422850828},{"$f":"VLOOKUP($A873,BasinData!$1:$1048576,4,FALSE)","v":23.948908994145825},{"$f":"VLOOKUP($A873,BasinData!$1:$1048576,5,FALSE)","v":12.9661333499346},138.516767141694,{"$f":"VLOOKUP($A873,Sheet1!$1:$1048576,9,FALSE)","v":219.70154240831619},-45.715135199928689,{"$f":"VLOOKUP($A873,Sheet1!$1:$1048576,10,FALSE)","v":206.17068961661417},-38.730409067238654,{"$f":"VLOOKUP($A873,Sheet1!$1:$1048576,11,FALSE)","v":179.10898403321013},-23.267270538537918,{"$f":"VLOOKUP($A873,Sheet1!$1:$1048576,12,FALSE)","v":138.51642565810408},4.9748292908604395]
[21194,{"$f":"VLOOKUP($A874,BasinData!$1:$1048576,2,FALSE)","v":0.95730865261363629},-29.889925070464329,{"$f":"VLOOKUP($A874,BasinData!$1:$1048576,3,FALSE)","v":1.521445835309128},{"$f":"VLOOKUP($A874,BasinData!$1:$1048576,4,FALSE)","v":21.50197628458498},{"$f":"VLOOKUP($A874,BasinData!$1:$1048576,5,FALSE)","v":21.472030349665399},137.21795096281664,{"$f":"VLOOKUP($A874,Sheet1!$1:$1048576,9,FALSE)","v":217.64164006074679},-80.579888038686889,{"$f":"VLOOKUP($A874,Sheet1!$1:$1048576,10,FALSE)","v":204.23765135531707},-73.5947351254908,{"$f":"VLOOKUP($A874,Sheet1!$1:$1048576,11,FALSE)","v":177.42967394445762},-58.132133317865787,{"$f":"VLOOKUP($A874,Sheet1!$1:$1048576,12,FALSE)","v":137.21770782816841},-29.889925070464329]
[21195,{"$f":"VLOOKUP($A875,BasinData!$1:$1048576,2,FALSE)","v":0.62675479632196973},-32.575050341161237,{"$f":"VLOOKUP($A875,BasinData!$1:$1048576,3,FALSE)","v":2.7912942967923091},{"$f":"VLOOKUP($A875,BasinData!$1:$1048576,4,FALSE)","v":11.344350156319786},{"$f":"VLOOKUP($A875,BasinData!$1:$1048576,5,FALSE)","v":22.1271260317166},189.2165326578735,{"$f":"VLOOKUP($A875,Sheet1!$1:$1048576,9,FALSE)","v":300.11681322445492},-83.265130627764393,{"$f":"VLOOKUP($A875,Sheet1!$1:$1048576,10,FALSE)","v":281.63339077989258},-76.279907476420661,{"$f":"VLOOKUP($A875,Sheet1!$1:$1048576,11,FALSE)","v":244.66654589076802},-60.817301696393521,{"$f":"VLOOKUP($A875,Sheet1!$1:$1048576,12,FALSE)","v":189.21627855708107},-32.575050341161237]
[21197,{"$f":"VLOOKUP($A876,BasinData!$1:$1048576,2,FALSE)","v":0.14302191464821221},-49.766839181930365,{"$f":"VLOOKUP($A876,BasinData!$1:$1048576,3,FALSE)","v":11.801879271204809},{"$f":"VLOOKUP($A876,BasinData!$1:$1048576,4,FALSE)","v":17.814113597246127},{"$f":"VLOOKUP($A876,BasinData!$1:$1048576,5,FALSE)","v":26.321402927000001},163.45670982844118,{"$f":"VLOOKUP($A876,Sheet1!$1:$1048576,9,FALSE)","v":259.2594181510222},-100.45705998104633,{"$f":"VLOOKUP($A876,Sheet1!$1:$1048576,10,FALSE)","v":243.29229755910501},-93.47183327721801,{"$f":"VLOOKUP($A876,Sheet1!$1:$1048576,11,FALSE)","v":211.35805637527056},-78.009209316387839,{"$f":"VLOOKUP($A876,Sheet1!$1:$1048576,12,FALSE)","v":163.45669459951893},-49.766839181930365]
[21198,{"$f":"VLOOKUP($A877,BasinData!$1:$1048576,2,FALSE)","v":0.71407837445573297},-29.199741883973591,{"$f":"VLOOKUP($A877,BasinData!$1:$1048576,3,FALSE)","v":26.423435832143944},{"$f":"VLOOKUP($A877,BasinData!$1:$1048576,4,FALSE)","v":22.859159347553327},{"$f":"VLOOKUP($A877,BasinData!$1:$1048576,5,FALSE)","v":21.303644521999999},134.66354682384153,{"$f":"VLOOKUP($A877,Sheet1!$1:$1048576,9,FALSE)","v":213.590068473278},-79.889638268226065,{"$f":"VLOOKUP($A877,Sheet1!$1:$1048576,10,FALSE)","v":200.43560563882826},-72.90453828684366,{"$f":"VLOOKUP($A877,Sheet1!$1:$1048576,11,FALSE)","v":174.12667996992877},-57.441937556107511,{"$f":"VLOOKUP($A877,Sheet1!$1:$1048576,12,FALSE)","v":134.66329146657955},-29.199741883973591]
[21205,{"$f":"VLOOKUP($A878,BasinData!$1:$1048576,2,FALSE)","v":0.1456378171706639},-74.602234687652768,{"$f":"VLOOKUP($A878,BasinData!$1:$1048576,3,FALSE)","v":100},{"$f":"VLOOKUP($A878,BasinData!$1:$1048576,4,FALSE)","v":8.5162023877202948},{"$f":"VLOOKUP($A878,BasinData!$1:$1048576,5,FALSE)","v":32.380442721199998},213.79935815593529,{"$f":"VLOOKUP($A878,Sheet1!$1:$1048576,9,FALSE)","v":339.10814660674788},-125.29246701048234,{"$f":"VLOOKUP($A878,Sheet1!$1:$1048576,10,FALSE)","v":318.22334824845865},-118.30723764324222,{"$f":"VLOOKUP($A878,Sheet1!$1:$1048576,11,FALSE)","v":276.45375153188024},-102.84460365648779,{"$f":"VLOOKUP($A878,Sheet1!$1:$1048576,12,FALSE)","v":213.79935645701255},-74.602234687652768]
[21206,{"$f":"VLOOKUP($A879,BasinData!$1:$1048576,2,FALSE)","v":0.21450670333447922},33.244373994356216,{"$f":"VLOOKUP($A879,BasinData!$1:$1048576,3,FALSE)","v":40.043915457087429},{"$f":"VLOOKUP($A879,BasinData!$1:$1048576,4,FALSE)","v":35.734643734643733},{"$f":"VLOOKUP($A879,BasinData!$1:$1048576,5,FALSE)","v":6.0692592334000004},96.799619184874388,{"$f":"VLOOKUP($A879,Sheet1!$1:$1048576,9,FALSE)","v":153.53386040837557},-17.445383087600923,{"$f":"VLOOKUP($A879,Sheet1!$1:$1048576,10,FALSE)","v":144.07810492775852},-10.460552568316508,{"$f":"VLOOKUP($A879,Sheet1!$1:$1048576,11,FALSE)","v":125.1665939665244},5.0023056453108712,{"$f":"VLOOKUP($A879,Sheet1!$1:$1048576,12,FALSE)","v":96.799327524673231},33.244373994356216]
[21207,{"$f":"VLOOKUP($A880,BasinData!$1:$1048576,2,FALSE)","v":2.5490196078431372E-2},25.772641675597196,{"$f":"VLOOKUP($A880,BasinData!$1:$1048576,3,FALSE)","v":34.343597880658272},{"$f":"VLOOKUP($A880,BasinData!$1:$1048576,4,FALSE)","v":50.246397024639698},{"$f":"VLOOKUP($A880,BasinData!$1:$1048576,5,FALSE)","v":7.8921229514400002},64.659220973472983,{"$f":"VLOOKUP($A880,Sheet1!$1:$1048576,9,FALSE)","v":102.55598537117039},-24.916412185874346,{"$f":"VLOOKUP($A880,Sheet1!$1:$1048576,10,FALSE)","v":96.23982606817259},-17.932034500462546,{"$f":"VLOOKUP($A880,Sheet1!$1:$1048576,11,FALSE)","v":83.607507462176983},-2.4694024476427754,{"$f":"VLOOKUP($A880,Sheet1!$1:$1048576,12,FALSE)","v":64.659029553183586},25.772641675597196]
[21209,{"$f":"VLOOKUP($A881,BasinData!$1:$1048576,2,FALSE)","v":0.15857423519506034},-1.1156262964371633,{"$f":"VLOOKUP($A881,BasinData!$1:$1048576,3,FALSE)","v":100},{"$f":"VLOOKUP($A881,BasinData!$1:$1048576,4,FALSE)","v":23.566117896972916},{"$f":"VLOOKUP($A881,BasinData!$1:$1048576,5,FALSE)","v":14.452060534799999},138.24248741822879,{"$f":"VLOOKUP($A881,Sheet1!$1:$1048576,9,FALSE)","v":219.26693211681547},-51.805812131159598,{"$f":"VLOOKUP($A881,Sheet1!$1:$1048576,10,FALSE)","v":205.76284585488651},-44.82078703858781,{"$f":"VLOOKUP($A881,Sheet1!$1:$1048576,11,FALSE)","v":178.75467333102853},-29.35846228429682,{"$f":"VLOOKUP($A881,Sheet1!$1:$1048576,12,FALSE)","v":138.24241454524162},-1.1156262964371633]
[21216,{"$f":"VLOOKUP($A882,BasinData!$1:$1048576,2,FALSE)","v":0.5441400632386364},-110.49368476091504,{"$f":"VLOOKUP($A882,BasinData!$1:$1048576,3,FALSE)","v":32.265721853977446},{"$f":"VLOOKUP($A882,BasinData!$1:$1048576,4,FALSE)","v":4.486743711760707},{"$f":"VLOOKUP($A882,BasinData!$1:$1048576,5,FALSE)","v":41.136802011298997},232.29663584288622,{"$f":"VLOOKUP($A882,Sheet1!$1:$1048576,9,FALSE)","v":368.44676609062378},-161.18391729212655,{"$f":"VLOOKUP($A882,Sheet1!$1:$1048576,10,FALSE)","v":345.75507763499377},-154.19868770271827,{"$f":"VLOOKUP($A882,Sheet1!$1:$1048576,11,FALSE)","v":300.37170072373374},-138.73630021431555,{"$f":"VLOOKUP($A882,Sheet1!$1:$1048576,12,FALSE)","v":232.29663535684369},-110.49368476091504]
[21217,{"$f":"VLOOKUP($A883,BasinData!$1:$1048576,2,FALSE)","v":9.8513011152416355E-2},11.790195446260819,{"$f":"VLOOKUP($A883,BasinData!$1:$1048576,3,FALSE)","v":41.138121652752446},{"$f":"VLOOKUP($A883,BasinData!$1:$1048576,4,FALSE)","v":40.924322274588107},{"$f":"VLOOKUP($A883,BasinData!$1:$1048576,5,FALSE)","v":11.303468308499999},84.133249608982524,{"$f":"VLOOKUP($A883,Sheet1!$1:$1048576,9,FALSE)","v":133.44413048684817},-38.900030293681553,{"$f":"VLOOKUP($A883,Sheet1!$1:$1048576,10,FALSE)","v":125.22564978916385},-31.914800663574852,{"$f":"VLOOKUP($A883,Sheet1!$1:$1048576,11,FALSE)","v":108.78868839379523},-16.452178796040588,{"$f":"VLOOKUP($A883,Sheet1!$1:$1048576,12,FALSE)","v":84.133246300742286},11.790195446260819]
[21218,{"$f":"VLOOKUP($A884,BasinData!$1:$1048576,2,FALSE)","v":0.10847880299251871},-87.674733231029904,{"$f":"VLOOKUP($A884,BasinData!$1:$1048576,3,FALSE)","v":63.109321253010215},{"$f":"VLOOKUP($A884,BasinData!$1:$1048576,4,FALSE)","v":8.1434386048308038},{"$f":"VLOOKUP($A884,BasinData!$1:$1048576,5,FALSE)","v":35.569711879499998},216.79066795825122,{"$f":"VLOOKUP($A884,Sheet1!$1:$1048576,9,FALSE)","v":343.85267784380619},-138.364990134805,{"$f":"VLOOKUP($A884,Sheet1!$1:$1048576,10,FALSE)","v":322.67567601243002},-131.37973625194417,{"$f":"VLOOKUP($A884,Sheet1!$1:$1048576,11,FALSE)","v":280.32167234967773},-115.91739328727218,{"$f":"VLOOKUP($A884,Sheet1!$1:$1048576,12,FALSE)","v":216.79066685554923},-87.674733231029904]
[21219,{"$f":"VLOOKUP($A885,BasinData!$1:$1048576,2,FALSE)","v":0},-29.672589298297634,{"$f":"VLOOKUP($A885,BasinData!$1:$1048576,3,FALSE)","v":43.07318116911695},{"$f":"VLOOKUP($A885,BasinData!$1:$1048576,4,FALSE)","v":32.121445967082799},{"$f":"VLOOKUP($A885,BasinData!$1:$1048576,5,FALSE)","v":21.419006380700001},109.40776178718544,{"$f":"VLOOKUP($A885,Sheet1!$1:$1048576,9,FALSE)","v":173.53184205518068},-80.362533573142599,{"$f":"VLOOKUP($A885,Sheet1!$1:$1048576,10,FALSE)","v":162.84446233183897},-73.377395125687201,{"$f":"VLOOKUP($A885,Sheet1!$1:$1048576,11,FALSE)","v":141.46970288515558},-57.914793654665417,{"$f":"VLOOKUP($A885,Sheet1!$1:$1048576,12,FALSE)","v":109.40756371513048},-29.672589298297634]
[21220,{"$f":"VLOOKUP($A886,BasinData!$1:$1048576,2,FALSE)","v":0.55555555555555547},-19.74244466395254,{"$f":"VLOOKUP($A886,BasinData!$1:$1048576,3,FALSE)","v":61.791069724944954},{"$f":"VLOOKUP($A886,BasinData!$1:$1048576,4,FALSE)","v":29.079597316919543},{"$f":"VLOOKUP($A886,BasinData!$1:$1048576,5,FALSE)","v":18.996303852899999},114.01466535700777,{"$f":"VLOOKUP($A886,Sheet1!$1:$1048576,9,FALSE)","v":180.83840990618458},-70.432212151701236,{"$f":"VLOOKUP($A886,Sheet1!$1:$1048576,10,FALSE)","v":169.70103746581054},-63.446977300431335,{"$f":"VLOOKUP($A886,Sheet1!$1:$1048576,11,FALSE)","v":147.42629258506244},-47.984393781695601,{"$f":"VLOOKUP($A886,Sheet1!$1:$1048576,12,FALSE)","v":114.01417526394027},-19.74244466395254]
[21221,{"$f":"VLOOKUP($A887,BasinData!$1:$1048576,2,FALSE)","v":0.36178153769594423},-33.22072246429483,{"$f":"VLOOKUP($A887,BasinData!$1:$1048576,3,FALSE)","v":2.3576611894600004},{"$f":"VLOOKUP($A887,BasinData!$1:$1048576,4,FALSE)","v":23.399636734151418},{"$f":"VLOOKUP($A887,BasinData!$1:$1048576,5,FALSE)","v":22.284651694299999},136.55833902509568,{"$f":"VLOOKUP($A887,Sheet1!$1:$1048576,9,FALSE)","v":216.59554097571043},-83.910651578160312,{"$f":"VLOOKUP($A887,Sheet1!$1:$1048576,10,FALSE)","v":203.25597882172863},-76.92558957288287,{"$f":"VLOOKUP($A887,Sheet1!$1:$1048576,11,FALSE)","v":176.57685451376506},-61.462982888545412,{"$f":"VLOOKUP($A887,Sheet1!$1:$1048576,12,FALSE)","v":136.55816805181968},-33.22072246429483]
[21225,{"$f":"VLOOKUP($A888,BasinData!$1:$1048576,2,FALSE)","v":0.54155923082007573},-81.562305403357442,{"$f":"VLOOKUP($A888,BasinData!$1:$1048576,3,FALSE)","v":0.22315829373929222},{"$f":"VLOOKUP($A888,BasinData!$1:$1048576,4,FALSE)","v":2.2099447513812152},{"$f":"VLOOKUP($A888,BasinData!$1:$1048576,5,FALSE)","v":34.078476103570203},248.1495135694349,{"$f":"VLOOKUP($A888,Sheet1!$1:$1048576,9,FALSE)","v":393.59108695418394},-132.25257840929606,{"$f":"VLOOKUP($A888,Sheet1!$1:$1048576,10,FALSE)","v":369.35082446296593},-125.26730840634313,{"$f":"VLOOKUP($A888,Sheet1!$1:$1048576,11,FALSE)","v":320.87029948052987},-109.80467373093974,{"$f":"VLOOKUP($A888,Sheet1!$1:$1048576,12,FALSE)","v":248.14951200687585},-81.562305403357442]
[21226,{"$f":"VLOOKUP($A889,BasinData!$1:$1048576,2,FALSE)","v":0.51787505527083333},-14.424726960853555,{"$f":"VLOOKUP($A889,BasinData!$1:$1048576,3,FALSE)","v":0.75074091214943584},{"$f":"VLOOKUP($A889,BasinData!$1:$1048576,4,FALSE)","v":12.96133567662566},{"$f":"VLOOKUP($A889,BasinData!$1:$1048576,5,FALSE)","v":17.6990669762145},182.23657605872651,{"$f":"VLOOKUP($A889,Sheet1!$1:$1048576,9,FALSE)","v":289.04627401525141},-65.114876402360281,{"$f":"VLOOKUP($A889,Sheet1!$1:$1048576,10,FALSE)","v":271.24465760046246},-58.129731765687467,{"$f":"VLOOKUP($A889,Sheet1!$1:$1048576,11,FALSE)","v":235.64142477088456},-42.667160101262247,{"$f":"VLOOKUP($A889,Sheet1!$1:$1048576,12,FALSE)","v":182.23657552651775},-14.424726960853555]
[21227,{"$f":"VLOOKUP($A890,BasinData!$1:$1048576,2,FALSE)","v":0.62543204974431821},-59.681345098784114,{"$f":"VLOOKUP($A890,BasinData!$1:$1048576,3,FALSE)","v":40.79120366184808},{"$f":"VLOOKUP($A890,BasinData!$1:$1048576,4,FALSE)","v":18.453652285348142},{"$f":"VLOOKUP($A890,BasinData!$1:$1048576,5,FALSE)","v":28.740225563909799},154.09094555249536,{"$f":"VLOOKUP($A890,Sheet1!$1:$1048576,9,FALSE)","v":244.40435724346659},-110.37128147475997,{"$f":"VLOOKUP($A890,Sheet1!$1:$1048576,10,FALSE)","v":229.35212163664585},-103.38634783423018,{"$f":"VLOOKUP($A890,Sheet1!$1:$1048576,11,FALSE)","v":199.24765042300433},-87.923718067385195,{"$f":"VLOOKUP($A890,Sheet1!$1:$1048576,12,FALSE)","v":154.09094360254207},-59.681345098784114]
[21228,{"$f":"VLOOKUP($A891,BasinData!$1:$1048576,2,FALSE)","v":0.45449078627840905},-114.01991124919334,{"$f":"VLOOKUP($A891,BasinData!$1:$1048576,3,FALSE)","v":0},{"$f":"VLOOKUP($A891,BasinData!$1:$1048576,4,FALSE)","v":6.2732589048378529},{"$f":"VLOOKUP($A891,BasinData!$1:$1048576,5,FALSE)","v":41.9970878380838},222.27501191454718,{"$f":"VLOOKUP($A891,Sheet1!$1:$1048576,9,FALSE)","v":352.55142223532096},-164.71014263453051,{"$f":"VLOOKUP($A891,Sheet1!$1:$1048576,10,FALSE)","v":330.83868711530232},-157.72491416338352,{"$f":"VLOOKUP($A891,Sheet1!$1:$1048576,11,FALSE)","v":287.41321687526505},-142.26252490310264,{"$f":"VLOOKUP($A891,Sheet1!$1:$1048576,12,FALSE)","v":222.27501151520917},-114.01991124919334]
[21229,{"$f":"VLOOKUP($A892,BasinData!$1:$1048576,2,FALSE)","v":0.28942790103977273},-68.001623146992927,{"$f":"VLOOKUP($A892,BasinData!$1:$1048576,3,FALSE)","v":1.5440220838388301},{"$f":"VLOOKUP($A892,BasinData!$1:$1048576,4,FALSE)","v":13.384113166485308},{"$f":"VLOOKUP($A892,BasinData!$1:$1048576,5,FALSE)","v":30.770105807307701},183.51144017446094,{"$f":"VLOOKUP($A892,Sheet1!$1:$1048576,9,FALSE)","v":291.06833986401188},-118.69184533584531,{"$f":"VLOOKUP($A892,Sheet1!$1:$1048576,10,FALSE)","v":273.1421896155739},-111.70662602731025,{"$f":"VLOOKUP($A892,Sheet1!$1:$1048576,11,FALSE)","v":237.28988911869803},-96.243993357883028,{"$f":"VLOOKUP($A892,Sheet1!$1:$1048576,12,FALSE)","v":183.51143837338418},-68.001623146992927]
[21230,{"$f":"VLOOKUP($A893,BasinData!$1:$1048576,2,FALSE)","v":0.52320545374431815},-66.645198698901297,{"$f":"VLOOKUP($A893,BasinData!$1:$1048576,3,FALSE)","v":1.4884344168212769},{"$f":"VLOOKUP($A893,BasinData!$1:$1048576,4,FALSE)","v":6.1855670103092786},{"$f":"VLOOKUP($A893,BasinData!$1:$1048576,5,FALSE)","v":30.439181868919601},221.55650969797034,{"$f":"VLOOKUP($A893,Sheet1!$1:$1048576,9,FALSE)","v":351.41179958691913},-117.33541019640347,{"$f":"VLOOKUP($A893,Sheet1!$1:$1048576,10,FALSE)","v":329.76925089401698},-110.35020155965458,{"$f":"VLOOKUP($A893,Sheet1!$1:$1048576,11,FALSE)","v":286.48415350821267},-94.887569259919232,{"$f":"VLOOKUP($A893,Sheet1!$1:$1048576,12,FALSE)","v":221.55650742950613},-66.645198698901297]
[22001,{"$f":"VLOOKUP($A894,BasinData!$1:$1048576,2,FALSE)","v":0.1240530303030303},3.5713266791499945,{"$f":"VLOOKUP($A894,BasinData!$1:$1048576,3,FALSE)","v":2.4920337161659245},{"$f":"VLOOKUP($A894,BasinData!$1:$1048576,4,FALSE)","v":18.573926559160675},{"$f":"VLOOKUP($A894,BasinData!$1:$1048576,5,FALSE)","v":13.308560075400001},160.16182403021745,{"$f":"VLOOKUP($A894,Sheet1!$1:$1048576,9,FALSE)","v":254.03294582682946},-47.118645911885238,{"$f":"VLOOKUP($A894,Sheet1!$1:$1048576,10,FALSE)","v":238.38771021971186},-40.133904411096914,{"$f":"VLOOKUP($A894,Sheet1!$1:$1048576,11,FALSE)","v":207.09723900547669},-24.670843082876214,{"$f":"VLOOKUP($A894,Sheet1!$1:$1048576,12,FALSE)","v":160.16153218412393},3.5713266791499945]
[22002,{"$f":"VLOOKUP($A895,BasinData!$1:$1048576,2,FALSE)","v":0.16240817630150112},-5.9449239856038396,{"$f":"VLOOKUP($A895,BasinData!$1:$1048576,3,FALSE)","v":3.0068755820067818},{"$f":"VLOOKUP($A895,BasinData!$1:$1048576,4,FALSE)","v":16.839937230286388},{"$f":"VLOOKUP($A895,BasinData!$1:$1048576,5,FALSE)","v":15.630266043900001},167.85045128897801,{"$f":"VLOOKUP($A895,Sheet1!$1:$1048576,9,FALSE)","v":266.22835712533168},-56.635145968868251,{"$f":"VLOOKUP($A895,Sheet1!$1:$1048576,10,FALSE)","v":249.83203751031209},-49.649991209101515,{"$f":"VLOOKUP($A895,Sheet1!$1:$1048576,11,FALSE)","v":217.03939828027288},-34.187372411515781,{"$f":"VLOOKUP($A895,Sheet1!$1:$1048576,12,FALSE)","v":167.85043943521407},-5.9449239856038396]
[22003,{"$f":"VLOOKUP($A896,BasinData!$1:$1048576,2,FALSE)","v":0.11101694915254237},2.7405378098568796,{"$f":"VLOOKUP($A896,BasinData!$1:$1048576,3,FALSE)","v":54.903149618408115},{"$f":"VLOOKUP($A896,BasinData!$1:$1048576,4,FALSE)","v":26.900557620817843},{"$f":"VLOOKUP($A896,BasinData!$1:$1048576,5,FALSE)","v":13.5112543367},{"$f":"EXP(6.1523-(0.084*B896)-(0.0091*C896)-(0.0289*E896)-(0.0373*F896))","v":126.04510009901072},{"$f":"VLOOKUP($A896,Sheet1!$1:$1048576,9,FALSE)","v":199.92041447354981},-47.949527834660692,{"$f":"VLOOKUP($A896,Sheet1!$1:$1048576,10,FALSE)","v":187.60783046232686},-40.964685154463481,{"$f":"VLOOKUP($A896,Sheet1!$1:$1048576,11,FALSE)","v":162.98266243988095},-25.501666474674696,{"$f":"VLOOKUP($A896,Sheet1!$1:$1048576,12,FALSE)","v":126.04491040621208},2.7405378098568796]
[22004,{"$f":"VLOOKUP($A897,BasinData!$1:$1048576,2,FALSE)","v":0.50723794775946962},26.564616859611142,{"$f":"VLOOKUP($A897,BasinData!$1:$1048576,3,FALSE)","v":4.078270344310698},{"$f":"VLOOKUP($A897,BasinData!$1:$1048576,4,FALSE)","v":30.165082541270639},{"$f":"VLOOKUP($A897,BasinData!$1:$1048576,5,FALSE)","v":7.6989759530599997},110.94241805759523,{"$f":"VLOOKUP($A897,Sheet1!$1:$1048576,9,FALSE)","v":175.96621662827729},-24.12498044782448,{"$f":"VLOOKUP($A897,Sheet1!$1:$1048576,10,FALSE)","v":165.12891003766211},-17.140344149526815,{"$f":"VLOOKUP($A897,Sheet1!$1:$1048576,11,FALSE)","v":143.45429685643171},-1.6777126887475857,{"$f":"VLOOKUP($A897,Sheet1!$1:$1048576,12,FALSE)","v":110.94237708458616},26.564616859611142]
[22005,{"$f":"VLOOKUP($A898,BasinData!$1:$1048576,2,FALSE)","v":0.13325656861718832},10.301655328147552,{"$f":"VLOOKUP($A898,BasinData!$1:$1048576,3,FALSE)","v":9.0836095457650075},{"$f":"VLOOKUP($A898,BasinData!$1:$1048576,4,FALSE)","v":37.428397318708107},{"$f":"VLOOKUP($A898,BasinData!$1:$1048576,5,FALSE)","v":11.666451438299999},92.806999592475051,{"$f":"VLOOKUP($A898,Sheet1!$1:$1048576,9,FALSE)","v":147.20065623713023},-40.3878665256861,{"$f":"VLOOKUP($A898,Sheet1!$1:$1048576,10,FALSE)","v":138.13494650858919},-33.402632551032056,{"$f":"VLOOKUP($A898,Sheet1!$1:$1048576,11,FALSE)","v":120.00352705150713},-17.940008287071624,{"$f":"VLOOKUP($A898,Sheet1!$1:$1048576,12,FALSE)","v":92.806397865884037},10.301655328147552]
[22006,{"$f":"VLOOKUP($A899,BasinData!$1:$1048576,2,FALSE)","v":8.0392392214772724E-3},19.864927125645455,{"$f":"VLOOKUP($A899,BasinData!$1:$1048576,3,FALSE)","v":100},{"$f":"VLOOKUP($A899,BasinData!$1:$1048576,4,FALSE)","v":30.102389078498291},{"$f":"VLOOKUP($A899,BasinData!$1:$1048576,5,FALSE)","v":9.3334943583700003},115.90321427383179,{"$f":"VLOOKUP($A899,Sheet1!$1:$1048576,9,FALSE)","v":183.83462167923446},-30.825311138072916,{"$f":"VLOOKUP($A899,Sheet1!$1:$1048576,10,FALSE)","v":172.51272026382685},-23.84007277206808,{"$f":"VLOOKUP($A899,Sheet1!$1:$1048576,11,FALSE)","v":149.86891743301157},-8.3774748940966521,{"$f":"VLOOKUP($A899,Sheet1!$1:$1048576,12,FALSE)","v":115.9032131867887},19.864927125645455]
[22011,{"$f":"VLOOKUP($A900,BasinData!$1:$1048576,2,FALSE)","v":0.62160325877272726},25.496009665453368,{"$f":"VLOOKUP($A900,BasinData!$1:$1048576,3,FALSE)","v":18.19500060300189},{"$f":"VLOOKUP($A900,BasinData!$1:$1048576,4,FALSE)","v":47.836411609498683},{"$f":"VLOOKUP($A900,BasinData!$1:$1048576,5,FALSE)","v":7.9596445365799999},65.937320512311899,{"$f":"VLOOKUP($A900,Sheet1!$1:$1048576,9,FALSE)","v":104.58330485139663},-25.193069019200145,{"$f":"VLOOKUP($A900,Sheet1!$1:$1048576,10,FALSE)","v":98.14228815710338},-18.208798768411874,{"$f":"VLOOKUP($A900,Sheet1!$1:$1048576,11,FALSE)","v":85.260254768516859},-2.7474420842693559,{"$f":"VLOOKUP($A900,Sheet1!$1:$1048576,12,FALSE)","v":65.937204685637084},25.496009665453368]
[22012,{"$f":"VLOOKUP($A901,BasinData!$1:$1048576,2,FALSE)","v":0.20004985311363635},15.313509718716364,{"$f":"VLOOKUP($A901,BasinData!$1:$1048576,3,FALSE)","v":28.653468366709699},{"$f":"VLOOKUP($A901,BasinData!$1:$1048576,4,FALSE)","v":54.666234607906674},{"$f":"VLOOKUP($A901,BasinData!$1:$1048576,5,FALSE)","v":10.443871218},56.077367362187701,{"$f":"VLOOKUP($A901,Sheet1!$1:$1048576,9,FALSE)","v":88.944495655239379},-35.376615520751685,{"$f":"VLOOKUP($A901,Sheet1!$1:$1048576,10,FALSE)","v":83.466632986863004},-28.392685450155149,{"$f":"VLOOKUP($A901,Sheet1!$1:$1048576,11,FALSE)","v":72.510907650110269},-12.928783422523431,{"$f":"VLOOKUP($A901,Sheet1!$1:$1048576,12,FALSE)","v":56.077319644981152},15.313509718716364]
[22013,{"$f":"VLOOKUP($A902,BasinData!$1:$1048576,2,FALSE)","v":2.9039808511553029E-3},-7.3984168952777489,{"$f":"VLOOKUP($A902,BasinData!$1:$1048576,3,FALSE)","v":17.999097784606704},{"$f":"VLOOKUP($A902,BasinData!$1:$1048576,4,FALSE)","v":36.38653949973007},{"$f":"VLOOKUP($A902,BasinData!$1:$1048576,5,FALSE)","v":15.9848727129},96.696278394470696,{"$f":"VLOOKUP($A902,Sheet1!$1:$1048576,9,FALSE)","v":153.37040951311508},-58.088619622570455,{"$f":"VLOOKUP($A902,Sheet1!$1:$1048576,10,FALSE)","v":143.92472055264258},-51.103460433122478,{"$f":"VLOOKUP($A902,Sheet1!$1:$1048576,11,FALSE)","v":125.03334263169756},-35.640865847464497,{"$f":"VLOOKUP($A902,Sheet1!$1:$1048576,12,FALSE)","v":96.696275750280037},-7.3984168952777489]
[22014,{"$f":"VLOOKUP($A903,BasinData!$1:$1048576,2,FALSE)","v":3.7553859472159094E-3},-23.351586398381986,{"$f":"VLOOKUP($A903,BasinData!$1:$1048576,3,FALSE)","v":1.0461720030733241},{"$f":"VLOOKUP($A903,BasinData!$1:$1048576,4,FALSE)","v":44.475560081466398},{"$f":"VLOOKUP($A903,BasinData!$1:$1048576,5,FALSE)","v":19.876847383899999},76.533908426442949,{"$f":"VLOOKUP($A903,Sheet1!$1:$1048576,9,FALSE)","v":121.39039536888961},-74.041464031494655,{"$f":"VLOOKUP($A903,Sheet1!$1:$1048576,10,FALSE)","v":113.91427320762443},-67.056238063585326,{"$f":"VLOOKUP($A903,Sheet1!$1:$1048576,11,FALSE)","v":98.962028885094099},-51.593647416828482,{"$f":"VLOOKUP($A903,Sheet1!$1:$1048576,12,FALSE)","v":76.533662401298614},-23.351586398381986]
[22015,{"$f":"VLOOKUP($A904,BasinData!$1:$1048576,2,FALSE)","v":3.4827951649999997E-3},10.789893420033552,{"$f":"VLOOKUP($A904,BasinData!$1:$1048576,3,FALSE)","v":65.814997722313109},{"$f":"VLOOKUP($A904,BasinData!$1:$1048576,4,FALSE)","v":44.189417733752109},{"$f":"VLOOKUP($A904,BasinData!$1:$1048576,5,FALSE)","v":11.5472331204},77.171749210449988,{"$f":"VLOOKUP($A904,Sheet1!$1:$1048576,9,FALSE)","v":122.40119968677455},-39.899200347158555,{"$f":"VLOOKUP($A904,Sheet1!$1:$1048576,10,FALSE)","v":114.8628246879708},-32.914870924660491,{"$f":"VLOOKUP($A904,Sheet1!$1:$1048576,11,FALSE)","v":99.786074690363336},-17.451344949470343,{"$f":"VLOOKUP($A904,Sheet1!$1:$1048576,12,FALSE)","v":77.17094969395211},10.789893420033552]
[22016,{"$f":"VLOOKUP($A905,BasinData!$1:$1048576,2,FALSE)","v":0.13993642720915447},-3.4703092835773472,{"$f":"VLOOKUP($A905,BasinData!$1:$1048576,3,FALSE)","v":20.650923707661505},{"$f":"VLOOKUP($A905,BasinData!$1:$1048576,4,FALSE)","v":38.355841523486298},{"$f":"VLOOKUP($A905,BasinData!$1:$1048576,5,FALSE)","v":15.0265354378},90.301273447874905,{"$f":"VLOOKUP($A905,Sheet1!$1:$1048576,9,FALSE)","v":143.22723411016068},-54.160399641029713,{"$f":"VLOOKUP($A905,Sheet1!$1:$1048576,10,FALSE)","v":134.40623722837515},-47.175423267553498,{"$f":"VLOOKUP($A905,Sheet1!$1:$1048576,11,FALSE)","v":116.76424346480412},-31.712799598589733,{"$f":"VLOOKUP($A905,Sheet1!$1:$1048576,12,FALSE)","v":90.301252819447569},-3.4703092835773472]
[22017,{"$f":"VLOOKUP($A906,BasinData!$1:$1048576,2,FALSE)","v":2.9931767250946967E-3},-20.121838938468045,{"$f":"VLOOKUP($A906,BasinData!$1:$1048576,3,FALSE)","v":0.59762901120680234},{"$f":"VLOOKUP($A906,BasinData!$1:$1048576,4,FALSE)","v":32.836941559254164},{"$f":"VLOOKUP($A906,BasinData!$1:$1048576,5,FALSE)","v":19.088867195900001},107.1419884910848,{"$f":"VLOOKUP($A906,Sheet1!$1:$1048576,9,FALSE)","v":169.93769345559747},-70.811618486627765,{"$f":"VLOOKUP($A906,Sheet1!$1:$1048576,10,FALSE)","v":159.47166809818043},-63.826385279926988,{"$f":"VLOOKUP($A906,Sheet1!$1:$1048576,11,FALSE)","v":138.53961738334635},-48.363800977918103,{"$f":"VLOOKUP($A906,Sheet1!$1:$1048576,12,FALSE)","v":107.14154131109522},-20.121838938468045]
[22018,{"$f":"VLOOKUP($A907,BasinData!$1:$1048576,2,FALSE)","v":1.5664556962025316},-14.021797243869404,{"$f":"VLOOKUP($A907,BasinData!$1:$1048576,3,FALSE)","v":10.679335107860059},{"$f":"VLOOKUP($A907,BasinData!$1:$1048576,4,FALSE)","v":40.242424242424242},{"$f":"VLOOKUP($A907,BasinData!$1:$1048576,5,FALSE)","v":17.6005902283},75.853814935428588,{"$f":"VLOOKUP($A907,Sheet1!$1:$1048576,9,FALSE)","v":120.31130110669113},-64.711159962891713,{"$f":"VLOOKUP($A907,Sheet1!$1:$1048576,10,FALSE)","v":112.90163758495177},-57.726085324751232,{"$f":"VLOOKUP($A907,Sheet1!$1:$1048576,11,FALSE)","v":98.082310541473049},-42.263514629221696,{"$f":"VLOOKUP($A907,Sheet1!$1:$1048576,12,FALSE)","v":75.853319976254966},-14.021797243869404]
[22019,{"$f":"VLOOKUP($A908,BasinData!$1:$1048576,2,FALSE)","v":5.699456029011786E-2},7.6306178790689234,{"$f":"VLOOKUP($A908,BasinData!$1:$1048576,3,FALSE)","v":41.569555812491416},{"$f":"VLOOKUP($A908,BasinData!$1:$1048576,4,FALSE)","v":44.830157415078709},{"$f":"VLOOKUP($A908,BasinData!$1:$1048576,5,FALSE)","v":12.3181620974},75.415651926811904,{"$f":"VLOOKUP($A908,Sheet1!$1:$1048576,9,FALSE)","v":119.61662134678028},-43.059153187103711,{"$f":"VLOOKUP($A908,Sheet1!$1:$1048576,10,FALSE)","v":112.24974136431739},-36.074604507296002,{"$f":"VLOOKUP($A908,Sheet1!$1:$1048576,11,FALSE)","v":97.51598139939162},-20.611302549977392,{"$f":"VLOOKUP($A908,Sheet1!$1:$1048576,12,FALSE)","v":75.415341452002963},7.6306178790689234]
[22020,{"$f":"VLOOKUP($A909,BasinData!$1:$1048576,2,FALSE)","v":0.34619735755573905},-15.269739205609348,{"$f":"VLOOKUP($A909,BasinData!$1:$1048576,3,FALSE)","v":5.3631543532554007},{"$f":"VLOOKUP($A909,BasinData!$1:$1048576,4,FALSE)","v":35.560882539993152},{"$f":"VLOOKUP($A909,BasinData!$1:$1048576,5,FALSE)","v":17.9050625032},96.216966778691912,{"$f":"VLOOKUP($A909,Sheet1!$1:$1048576,9,FALSE)","v":152.60926255191964},-65.959299183283903,{"$f":"VLOOKUP($A909,Sheet1!$1:$1048576,10,FALSE)","v":143.2104506746569},-58.974087037888282,{"$f":"VLOOKUP($A909,Sheet1!$1:$1048576,11,FALSE)","v":124.41282692013139},-43.511513379035549,{"$f":"VLOOKUP($A909,Sheet1!$1:$1048576,12,FALSE)","v":96.216391288343146},-15.269739205609348]
[22021,{"$f":"VLOOKUP($A910,BasinData!$1:$1048576,2,FALSE)","v":1.2371857535454546E-3},11.988119908716097,{"$f":"VLOOKUP($A910,BasinData!$1:$1048576,3,FALSE)","v":2.184444132804491},{"$f":"VLOOKUP($A910,BasinData!$1:$1048576,4,FALSE)","v":41.883899233296823},{"$f":"VLOOKUP($A910,BasinData!$1:$1048576,5,FALSE)","v":11.2551807834},82.503544344084773,{"$f":"VLOOKUP($A910,Sheet1!$1:$1048576,9,FALSE)","v":130.85924596131596},-38.702104277636636,{"$f":"VLOOKUP($A910,Sheet1!$1:$1048576,10,FALSE)","v":122.79996165167303},-31.716874882764643,{"$f":"VLOOKUP($A910,Sheet1!$1:$1048576,11,FALSE)","v":106.68139303238718},-16.254253372193197,{"$f":"VLOOKUP($A910,Sheet1!$1:$1048576,12,FALSE)","v":82.503540103458391},11.988119908716097]
[22022,{"$f":"VLOOKUP($A911,BasinData!$1:$1048576,2,FALSE)","v":3.3719707195454546E-3},-1.0338398959999531,{"$f":"VLOOKUP($A911,BasinData!$1:$1048576,3,FALSE)","v":0.69009680512464577},{"$f":"VLOOKUP($A911,BasinData!$1:$1048576,4,FALSE)","v":50.969267139479904},{"$f":"VLOOKUP($A911,BasinData!$1:$1048576,5,FALSE)","v":14.4321069156},63.440045163187811,{"$f":"VLOOKUP($A911,Sheet1!$1:$1048576,9,FALSE)","v":100.62249417506617},-51.724012201087064,{"$f":"VLOOKUP($A911,Sheet1!$1:$1048576,10,FALSE)","v":94.425413620727838},-44.739002212319754,{"$f":"VLOOKUP($A911,Sheet1!$1:$1048576,11,FALSE)","v":82.031252512051182},-29.276691908307363,{"$f":"VLOOKUP($A911,Sheet1!$1:$1048576,12,FALSE)","v":63.440010849036192},-1.0338398959999531]
[22023,{"$f":"VLOOKUP($A912,BasinData!$1:$1048576,2,FALSE)","v":2.0366265835227272E-3},8.9587086660828064,{"$f":"VLOOKUP($A912,BasinData!$1:$1048576,3,FALSE)","v":81.770760786787847},{"$f":"VLOOKUP($A912,BasinData!$1:$1048576,4,FALSE)","v":36.047666335650447},{"$f":"VLOOKUP($A912,BasinData!$1:$1048576,5,FALSE)","v":11.9941217735},97.655538663040645,{"$f":"VLOOKUP($A912,Sheet1!$1:$1048576,9,FALSE)","v":154.89109622221702},-41.730967361837763,{"$f":"VLOOKUP($A912,Sheet1!$1:$1048576,10,FALSE)","v":145.35175207945673},-34.745720798641287,{"$f":"VLOOKUP($A912,Sheet1!$1:$1048576,11,FALSE)","v":126.27306379393617},-19.283094769790917,{"$f":"VLOOKUP($A912,Sheet1!$1:$1048576,12,FALSE)","v":97.655031365655319},8.9587086660828064]
[22049,{"$f":"VLOOKUP($A913,BasinData!$1:$1048576,2,FALSE)","v":0.25487503081628787},34.448103458983681,{"$f":"VLOOKUP($A913,BasinData!$1:$1048576,3,FALSE)","v":3.5220606755253909},{"$f":"VLOOKUP($A913,BasinData!$1:$1048576,4,FALSE)","v":58.632902426066934},{"$f":"VLOOKUP($A913,BasinData!$1:$1048576,5,FALSE)","v":5.7756446324999997},49.773879133319454,{"$f":"VLOOKUP($A913,Sheet1!$1:$1048576,9,FALSE)","v":78.946508536229871},-16.241037090487268,{"$f":"VLOOKUP($A913,Sheet1!$1:$1048576,10,FALSE)","v":74.084396173644393},-9.2572011061756054,{"$f":"VLOOKUP($A913,Sheet1!$1:$1048576,11,FALSE)","v":64.360171448473423},6.2054352662829499,{"$f":"VLOOKUP($A913,Sheet1!$1:$1048576,12,FALSE)","v":49.773834360716975},34.448103458983681]
[22050,{"$f":"VLOOKUP($A914,BasinData!$1:$1048576,2,FALSE)","v":0.15485866501098483},23.88909936502532,{"$f":"VLOOKUP($A914,BasinData!$1:$1048576,3,FALSE)","v":3.0813704283803225},{"$f":"VLOOKUP($A914,BasinData!$1:$1048576,4,FALSE)","v":64.853001224989796},{"$f":"VLOOKUP($A914,BasinData!$1:$1048576,5,FALSE)","v":8.3515897492400004},41.935596925159196,{"$f":"VLOOKUP($A914,Sheet1!$1:$1048576,9,FALSE)","v":66.513905790226048},-26.800572360260496,{"$f":"VLOOKUP($A914,Sheet1!$1:$1048576,10,FALSE)","v":62.417485446594362},-19.815343259223091,{"$f":"VLOOKUP($A914,Sheet1!$1:$1048576,11,FALSE)","v":54.224644759331007},-4.3530785185088003,{"$f":"VLOOKUP($A914,Sheet1!$1:$1048576,12,FALSE)","v":41.935383728435966},23.88909936502532]
[22051,{"$f":"VLOOKUP($A915,BasinData!$1:$1048576,2,FALSE)","v":0.3812063413882576},30.994356248696388,{"$f":"VLOOKUP($A915,BasinData!$1:$1048576,3,FALSE)","v":8.2687142573120891},{"$f":"VLOOKUP($A915,BasinData!$1:$1048576,4,FALSE)","v":62.312138728323696},{"$f":"VLOOKUP($A915,BasinData!$1:$1048576,5,FALSE)","v":6.6182253283700003},44.28072193031398,{"$f":"VLOOKUP($A915,Sheet1!$1:$1048576,9,FALSE)","v":70.233735393967592},-19.695658732567576,{"$f":"VLOOKUP($A915,Sheet1!$1:$1048576,10,FALSE)","v":65.908220314692684},-12.710529111493994,{"$f":"VLOOKUP($A915,Sheet1!$1:$1048576,11,FALSE)","v":57.257190156142869},2.7521645098632446,{"$f":"VLOOKUP($A915,Sheet1!$1:$1048576,12,FALSE)","v":44.280644918318139},30.994356248696388]
[22052,{"$f":"VLOOKUP($A916,BasinData!$1:$1048576,2,FALSE)","v":0.54179060987310612},23.417901390068337,{"$f":"VLOOKUP($A916,BasinData!$1:$1048576,3,FALSE)","v":7.457232882404238},{"$f":"VLOOKUP($A916,BasinData!$1:$1048576,4,FALSE)","v":45.484186501467235},{"$f":"VLOOKUP($A916,BasinData!$1:$1048576,5,FALSE)","v":8.46658929054},71.050430645897706,{"$f":"VLOOKUP($A916,Sheet1!$1:$1048576,9,FALSE)","v":112.69302144038744},-27.271944526620853,{"$f":"VLOOKUP($A916,Sheet1!$1:$1048576,10,FALSE)","v":105.75254816447345},-20.286714957527671,{"$f":"VLOOKUP($A916,Sheet1!$1:$1048576,11,FALSE)","v":91.871601612645478},-4.824291711172787,{"$f":"VLOOKUP($A916,Sheet1!$1:$1048576,12,FALSE)","v":71.050181784903515},23.417901390068337]
[22053,{"$f":"VLOOKUP($A917,BasinData!$1:$1048576,2,FALSE)","v":0.27198280869318181},21.20953863817325,{"$f":"VLOOKUP($A917,BasinData!$1:$1048576,3,FALSE)","v":6.6074920895291962},{"$f":"VLOOKUP($A917,BasinData!$1:$1048576,4,FALSE)","v":56.616373979718027},{"$f":"VLOOKUP($A917,BasinData!$1:$1048576,5,FALSE)","v":9.0054449388499993},52.684976459185528,{"$f":"VLOOKUP($A917,Sheet1!$1:$1048576,9,FALSE)","v":83.563860399029394},-29.480664318528962,{"$f":"VLOOKUP($A917,Sheet1!$1:$1048576,10,FALSE)","v":78.417377213835309},-22.495430759075763,{"$f":"VLOOKUP($A917,Sheet1!$1:$1048576,11,FALSE)","v":68.124410843447137},-7.0328392099846466,{"$f":"VLOOKUP($A917,Sheet1!$1:$1048576,12,FALSE)","v":52.68496128786488},21.20953863817325]
[22054,{"$f":"VLOOKUP($A918,BasinData!$1:$1048576,2,FALSE)","v":0.18211610108882578},42.152644850496429,{"$f":"VLOOKUP($A918,BasinData!$1:$1048576,3,FALSE)","v":3.6531983541008275},{"$f":"VLOOKUP($A918,BasinData!$1:$1048576,4,FALSE)","v":50.600144613159792},{"$f":"VLOOKUP($A918,BasinData!$1:$1048576,5,FALSE)","v":3.8959962958899998},63.16487290772659,{"$f":"VLOOKUP($A918,Sheet1!$1:$1048576,9,FALSE)","v":100.18605094962224},-8.5375454854424309,{"$f":"VLOOKUP($A918,Sheet1!$1:$1048576,10,FALSE)","v":94.015849810743106},-1.5523810322113798,{"$f":"VLOOKUP($A918,Sheet1!$1:$1048576,11,FALSE)","v":81.675447532984833},13.910317992393452,{"$f":"VLOOKUP($A918,Sheet1!$1:$1048576,12,FALSE)","v":63.164844116347403},42.152644850496429]
[22055,{"$f":"VLOOKUP($A919,BasinData!$1:$1048576,2,FALSE)","v":0.15849432297253788},45.769160986986542,{"$f":"VLOOKUP($A919,BasinData!$1:$1048576,3,FALSE)","v":5.838160923846381},{"$f":"VLOOKUP($A919,BasinData!$1:$1048576,4,FALSE)","v":48.467650397275825},{"$f":"VLOOKUP($A919,BasinData!$1:$1048576,5,FALSE)","v":3.0134500119899998},67.314140765120669,{"$f":"VLOOKUP($A919,Sheet1!$1:$1048576,9,FALSE)","v":106.76629417272927},-4.9200694311775601,{"$f":"VLOOKUP($A919,Sheet1!$1:$1048576,10,FALSE)","v":100.19083278210378},2.0651642730808932,{"$f":"VLOOKUP($A919,Sheet1!$1:$1048576,11,FALSE)","v":87.039910000852799},17.52671308078013,{"$f":"VLOOKUP($A919,Sheet1!$1:$1048576,12,FALSE)","v":67.313525828976324},45.769160986986542]
[22056,{"$f":"VLOOKUP($A920,BasinData!$1:$1048576,2,FALSE)","v":0.11129647283126788},28.65995260920786,{"$f":"VLOOKUP($A920,BasinData!$1:$1048576,3,FALSE)","v":3.1895424983118481},{"$f":"VLOOKUP($A920,BasinData!$1:$1048576,4,FALSE)","v":61.681228941808008},{"$f":"VLOOKUP($A920,BasinData!$1:$1048576,5,FALSE)","v":7.1877816007200002},46.129550688770934,{"$f":"VLOOKUP($A920,Sheet1!$1:$1048576,9,FALSE)","v":73.166266790622132},-22.030054848000525,{"$f":"VLOOKUP($A920,Sheet1!$1:$1048576,10,FALSE)","v":68.660144646871402},-15.045009809968191,{"$f":"VLOOKUP($A920,Sheet1!$1:$1048576,11,FALSE)","v":59.647900359369942},0.41761874093306067,{"$f":"VLOOKUP($A920,Sheet1!$1:$1048576,12,FALSE)","v":46.129533928117738},28.65995260920786]
[22057,{"$f":"VLOOKUP($A921,BasinData!$1:$1048576,2,FALSE)","v":0.34086179716237519},36.980796298560804,{"$f":"VLOOKUP($A921,BasinData!$1:$1048576,3,FALSE)","v":10.607761701514555},{"$f":"VLOOKUP($A921,BasinData!$1:$1048576,4,FALSE)","v":66.97218710493047},{"$f":"VLOOKUP($A921,BasinData!$1:$1048576,5,FALSE)","v":5.15762257035},38.832861479250539,{"$f":"VLOOKUP($A921,Sheet1!$1:$1048576,9,FALSE)","v":61.592634919609338},-13.708845461996692,{"$f":"VLOOKUP($A921,Sheet1!$1:$1048576,10,FALSE)","v":57.799302988414247},-6.7244209420756409,{"$f":"VLOOKUP($A921,Sheet1!$1:$1048576,11,FALSE)","v":50.212639126024058},8.73903806688873,{"$f":"VLOOKUP($A921,Sheet1!$1:$1048576,12,FALSE)","v":38.832643332438764},36.980796298560804]
[22058,{"$f":"VLOOKUP($A922,BasinData!$1:$1048576,2,FALSE)","v":0.20417494047537879},28.43684742526327,{"$f":"VLOOKUP($A922,BasinData!$1:$1048576,3,FALSE)","v":28.589114471962379},{"$f":"VLOOKUP($A922,BasinData!$1:$1048576,4,FALSE)","v":46.896239238785682},{"$f":"VLOOKUP($A922,BasinData!$1:$1048576,5,FALSE)","v":7.2422033738099998},70.17123670956974,{"$f":"VLOOKUP($A922,Sheet1!$1:$1048576,9,FALSE)","v":111.2988459818811},-22.253095832625611,{"$f":"VLOOKUP($A922,Sheet1!$1:$1048576,10,FALSE)","v":104.44423638579416},-15.26807875840697,{"$f":"VLOOKUP($A922,Sheet1!$1:$1048576,11,FALSE)","v":90.735017193620251},0.19454982749364877,{"$f":"VLOOKUP($A922,Sheet1!$1:$1048576,12,FALSE)","v":70.171188405359388},28.43684742526327]
[22059,{"$f":"VLOOKUP($A923,BasinData!$1:$1048576,2,FALSE)","v":0.24697655070265154},46.959523382309236,{"$f":"VLOOKUP($A923,BasinData!$1:$1048576,3,FALSE)","v":4.2855989547872664},{"$f":"VLOOKUP($A923,BasinData!$1:$1048576,4,FALSE)","v":83.216336949585184},{"$f":"VLOOKUP($A923,BasinData!$1:$1048576,5,FALSE)","v":2.7231316726000001},24.476105543938015,{"$f":"VLOOKUP($A923,Sheet1!$1:$1048576,9,FALSE)","v":38.821442300395695},-3.7300820082505002,{"$f":"VLOOKUP($A923,Sheet1!$1:$1048576,10,FALSE)","v":36.430529541340235},3.2549883987389689,{"$f":"VLOOKUP($A923,Sheet1!$1:$1048576,11,FALSE)","v":31.648704023229314},18.717775547150701,{"$f":"VLOOKUP($A923,Sheet1!$1:$1048576,12,FALSE)","v":24.475965746062926},46.959523382309236]
[22060,{"$f":"VLOOKUP($A924,BasinData!$1:$1048576,2,FALSE)","v":8.9643760949970813E-2},41.611264008064147,{"$f":"VLOOKUP($A924,BasinData!$1:$1048576,3,FALSE)","v":69.852731025267275},{"$f":"VLOOKUP($A924,BasinData!$1:$1048576,4,FALSE)","v":57.900418297125889},{"$f":"VLOOKUP($A924,BasinData!$1:$1048576,5,FALSE)","v":4.0280705367599996},51.549283013344812,{"$f":"VLOOKUP($A924,Sheet1!$1:$1048576,9,FALSE)","v":81.762502509941882},-9.078906037945659,{"$f":"VLOOKUP($A924,Sheet1!$1:$1048576,10,FALSE)","v":76.726960322954881},-2.0936892900955191,{"$f":"VLOOKUP($A924,Sheet1!$1:$1048576,11,FALSE)","v":66.655875948980878},13.36804678684476,{"$f":"VLOOKUP($A924,Sheet1!$1:$1048576,12,FALSE)","v":51.549249388019859},41.611264008064147]
[22061,{"$f":"VLOOKUP($A925,BasinData!$1:$1048576,2,FALSE)","v":0.28717275689583333},38.784811491271789,{"$f":"VLOOKUP($A925,BasinData!$1:$1048576,3,FALSE)","v":4.4666683302643717},{"$f":"VLOOKUP($A925,BasinData!$1:$1048576,4,FALSE)","v":53.494236311239199},{"$f":"VLOOKUP($A925,BasinData!$1:$1048576,5,FALSE)","v":4.7175768548599999},57.586413190567725,{"$f":"VLOOKUP($A925,Sheet1!$1:$1048576,9,FALSE)","v":91.33782156342572},-11.905133301348739,{"$f":"VLOOKUP($A925,Sheet1!$1:$1048576,10,FALSE)","v":85.71256010944569},-4.9211344014364116,{"$f":"VLOOKUP($A925,Sheet1!$1:$1048576,11,FALSE)","v":74.462037201485629},10.54271929038271,{"$f":"VLOOKUP($A925,Sheet1!$1:$1048576,12,FALSE)","v":57.586252839545544},38.784811491271789]
[22062,{"$f":"VLOOKUP($A926,BasinData!$1:$1048576,2,FALSE)","v":0.40642286620643941},48.685200357382541,{"$f":"VLOOKUP($A926,BasinData!$1:$1048576,3,FALSE)","v":3.2869265979697242},{"$f":"VLOOKUP($A926,BasinData!$1:$1048576,4,FALSE)","v":29.220367631523349},{"$f":"VLOOKUP($A926,BasinData!$1:$1048576,5,FALSE)","v":2.30216137665},114.98318635740718,{"$f":"VLOOKUP($A926,Sheet1!$1:$1048576,9,FALSE)","v":182.37458902509533},-2.004565030780797,{"$f":"VLOOKUP($A926,Sheet1!$1:$1048576,10,FALSE)","v":171.14260726476923},4.9806207284064881,{"$f":"VLOOKUP($A926,Sheet1!$1:$1048576,11,FALSE)","v":148.67864374411704},20.443269633249621,{"$f":"VLOOKUP($A926,Sheet1!$1:$1048576,12,FALSE)","v":114.98269846313872},48.685200357382541]
[22063,{"$f":"VLOOKUP($A927,BasinData!$1:$1048576,2,FALSE)","v":0.33479134392803034},37.71205263864217,{"$f":"VLOOKUP($A927,BasinData!$1:$1048576,3,FALSE)","v":7.3569264498842015},{"$f":"VLOOKUP($A927,BasinData!$1:$1048576,4,FALSE)","v":45.558698727015553},{"$f":"VLOOKUP($A927,BasinData!$1:$1048576,5,FALSE)","v":4.9792551158},72.141194907489179,{"$f":"VLOOKUP($A927,Sheet1!$1:$1048576,9,FALSE)","v":114.42299140708546},-12.977731266829792,{"$f":"VLOOKUP($A927,Sheet1!$1:$1048576,10,FALSE)","v":107.37597373145147},-5.9934679478384965,{"$f":"VLOOKUP($A927,Sheet1!$1:$1048576,11,FALSE)","v":93.281938380183448},9.4701422207694996,{"$f":"VLOOKUP($A927,Sheet1!$1:$1048576,12,FALSE)","v":72.140885353281433},37.71205263864217]
[22064,{"$f":"VLOOKUP($A928,BasinData!$1:$1048576,2,FALSE)","v":1.8048697428911971E-2},34.683903652052386,{"$f":"VLOOKUP($A928,BasinData!$1:$1048576,3,FALSE)","v":5.0134687502885598},{"$f":"VLOOKUP($A928,BasinData!$1:$1048576,4,FALSE)","v":41.020010978591749},{"$f":"VLOOKUP($A928,BasinData!$1:$1048576,5,FALSE)","v":5.71812303801822},84.469969408646705,{"$f":"VLOOKUP($A928,Sheet1!$1:$1048576,9,FALSE)","v":133.97811836413899},-16.006252917173729,{"$f":"VLOOKUP($A928,Sheet1!$1:$1048576,10,FALSE)","v":125.72675072683209},-9.0214590087946931,{"$f":"VLOOKUP($A928,Sheet1!$1:$1048576,11,FALSE)","v":109.22401545221825},6.4409859239469318,{"$f":"VLOOKUP($A928,Sheet1!$1:$1048576,12,FALSE)","v":84.4699125402975},34.683903652052386]
[22065,{"$f":"VLOOKUP($A929,BasinData!$1:$1048576,2,FALSE)","v":0.26406644391098483},9.3582636479028967,{"$f":"VLOOKUP($A929,BasinData!$1:$1048576,3,FALSE)","v":2.494085149451136},{"$f":"VLOOKUP($A929,BasinData!$1:$1048576,4,FALSE)","v":62.679917751884851},{"$f":"VLOOKUP($A929,BasinData!$1:$1048576,5,FALSE)","v":11.896633518839501},44.245964353028917,{"$f":"VLOOKUP($A929,Sheet1!$1:$1048576,9,FALSE)","v":70.178338453355963},-41.331367509947079,{"$f":"VLOOKUP($A929,Sheet1!$1:$1048576,10,FALSE)","v":65.856235129138895},-34.346921046390804,{"$f":"VLOOKUP($A929,Sheet1!$1:$1048576,11,FALSE)","v":57.21202848070476},-18.883500560936518,{"$f":"VLOOKUP($A929,Sheet1!$1:$1048576,12,FALSE)","v":44.245718508053557},9.3582636479028967]
[22066,{"$f":"VLOOKUP($A930,BasinData!$1:$1048576,2,FALSE)","v":0.59099901088031648},19.00926841597337,{"$f":"VLOOKUP($A930,BasinData!$1:$1048576,3,FALSE)","v":20.993208745557819},{"$f":"VLOOKUP($A930,BasinData!$1:$1048576,4,FALSE)","v":52.636904009105855},{"$f":"VLOOKUP($A930,BasinData!$1:$1048576,5,FALSE)","v":9.5421219868399998},57.543665783309628,{"$f":"VLOOKUP($A930,Sheet1!$1:$1048576,9,FALSE)","v":91.269845697802836},-31.680459639967243,{"$f":"VLOOKUP($A930,Sheet1!$1:$1048576,10,FALSE)","v":85.648770702511484},-24.695216720605096,{"$f":"VLOOKUP($A930,Sheet1!$1:$1048576,11,FALSE)","v":74.406620711928795},-9.2326152208031935,{"$f":"VLOOKUP($A930,Sheet1!$1:$1048576,12,FALSE)","v":57.543395726054754},19.00926841597337]
[22067,{"$f":"VLOOKUP($A931,BasinData!$1:$1048576,2,FALSE)","v":0.67520693732755221},33.09246368623468,{"$f":"VLOOKUP($A931,BasinData!$1:$1048576,3,FALSE)","v":5.4132176033963866},{"$f":"VLOOKUP($A931,BasinData!$1:$1048576,4,FALSE)","v":40.097507129058961},{"$f":"VLOOKUP($A931,BasinData!$1:$1048576,5,FALSE)","v":6.1063093616500002},82.093422907511794,{"$f":"VLOOKUP($A931,Sheet1!$1:$1048576,9,FALSE)","v":130.2083109510632},-17.597084054732029,{"$f":"VLOOKUP($A931,Sheet1!$1:$1048576,10,FALSE)","v":122.18911605410327},-10.612401428589601,{"$f":"VLOOKUP($A931,Sheet1!$1:$1048576,11,FALSE)","v":106.15072626018338},4.8504422667844542,{"$f":"VLOOKUP($A931,Sheet1!$1:$1048576,12,FALSE)","v":82.093141569303555},33.09246368623468]
[22068,{"$f":"VLOOKUP($A932,BasinData!$1:$1048576,2,FALSE)","v":0.66543648320643944},43.96055007283767,{"$f":"VLOOKUP($A932,BasinData!$1:$1048576,3,FALSE)","v":10.504442028914667},{"$f":"VLOOKUP($A932,BasinData!$1:$1048576,4,FALSE)","v":39.241151005856892},{"$f":"VLOOKUP($A932,BasinData!$1:$1048576,5,FALSE)","v":3.4549352076600002},84.219289160855766,{"$f":"VLOOKUP($A932,Sheet1!$1:$1048576,9,FALSE)","v":133.58059052321079},-6.7296761499941997,{"$f":"VLOOKUP($A932,Sheet1!$1:$1048576,10,FALSE)","v":125.35370560294464},0.25507351899891062,{"$f":"VLOOKUP($A932,Sheet1!$1:$1048576,11,FALSE)","v":108.89993576241235},15.718191619116025,{"$f":"VLOOKUP($A932,Sheet1!$1:$1048576,12,FALSE)","v":84.219281001613894},43.96055007283767]
[22070,{"$f":"VLOOKUP($A933,BasinData!$1:$1048576,2,FALSE)","v":6.9350481425946965E-3},28.790470918370847,{"$f":"VLOOKUP($A933,BasinData!$1:$1048576,3,FALSE)","v":2.2027726922159543},{"$f":"VLOOKUP($A933,BasinData!$1:$1048576,4,FALSE)","v":23.747108712413262},{"$f":"VLOOKUP($A933,BasinData!$1:$1048576,5,FALSE)","v":7.1558292075500001},139.28473614490684,{"$f":"VLOOKUP($A933,Sheet1!$1:$1048576,9,FALSE)","v":220.9191754897285},-21.899100500847862,{"$f":"VLOOKUP($A933,Sheet1!$1:$1048576,10,FALSE)","v":207.31333180903093},-14.914041461710104,{"$f":"VLOOKUP($A933,Sheet1!$1:$1048576,11,FALSE)","v":180.10164444763575},0.5485880947461016,{"$f":"VLOOKUP($A933,Sheet1!$1:$1048576,12,FALSE)","v":139.284113405543},28.790470918370847]
[22071,{"$f":"VLOOKUP($A934,BasinData!$1:$1048576,2,FALSE)","v":1.1528762805358549E-2},0.85794018234186753,{"$f":"VLOOKUP($A934,BasinData!$1:$1048576,3,FALSE)","v":28.508941438636541},{"$f":"VLOOKUP($A934,BasinData!$1:$1048576,4,FALSE)","v":40.433333920984431},{"$f":"VLOOKUP($A934,BasinData!$1:$1048576,5,FALSE)","v":13.970562831700001},85.96145381525254,{"$f":"VLOOKUP($A934,Sheet1!$1:$1048576,9,FALSE)","v":136.3437311812973},-49.832058214661224,{"$f":"VLOOKUP($A934,Sheet1!$1:$1048576,10,FALSE)","v":127.9466715363683},-42.847256215427045,{"$f":"VLOOKUP($A934,Sheet1!$1:$1048576,11,FALSE)","v":111.15255224651034},-27.384326023936829,{"$f":"VLOOKUP($A934,Sheet1!$1:$1048576,12,FALSE)","v":85.961373311723378},0.85794018234186753]
[22072,{"$f":"VLOOKUP($A935,BasinData!$1:$1048576,2,FALSE)","v":0.47877573021590913},45.140163762957215,{"$f":"VLOOKUP($A935,BasinData!$1:$1048576,3,FALSE)","v":6.9081079753185497},{"$f":"VLOOKUP($A935,BasinData!$1:$1048576,4,FALSE)","v":70.671046457062417},{"$f":"VLOOKUP($A935,BasinData!$1:$1048576,5,FALSE)","v":3.1665615941772298},34.494550614104838,{"$f":"VLOOKUP($A935,Sheet1!$1:$1048576,9,FALSE)","v":54.710765216015105},-5.5476594552334113,{"$f":"VLOOKUP($A935,Sheet1!$1:$1048576,10,FALSE)","v":51.341269935533859},1.4365812784003738,{"$f":"VLOOKUP($A935,Sheet1!$1:$1048576,11,FALSE)","v":44.602279374571374},16.900194267368619,{"$f":"VLOOKUP($A935,Sheet1!$1:$1048576,12,FALSE)","v":34.493793533127636},45.140163762957215]
[22080,{"$f":"VLOOKUP($A936,BasinData!$1:$1048576,2,FALSE)","v":5.8329501416477273E-3},-57.92800134295355,{"$f":"VLOOKUP($A936,BasinData!$1:$1048576,3,FALSE)","v":4.5109217817460996},{"$f":"VLOOKUP($A936,BasinData!$1:$1048576,4,FALSE)","v":6.1574896388395501},{"$f":"VLOOKUP($A936,BasinData!$1:$1048576,5,FALSE)","v":28.312466077233999},231.58533172344579,{"$f":"VLOOKUP($A936,Sheet1!$1:$1048576,9,FALSE)","v":367.31855921669847},-108.61822908229911,{"$f":"VLOOKUP($A936,Sheet1!$1:$1048576,10,FALSE)","v":344.69635412000321},-101.63300404118706,{"$f":"VLOOKUP($A936,Sheet1!$1:$1048576,11,FALSE)","v":299.45194392661261},-86.170375096792469,{"$f":"VLOOKUP($A936,Sheet1!$1:$1048576,12,FALSE)","v":231.58532863652675},-57.92800134295355]
[22084,{"$f":"VLOOKUP($A937,BasinData!$1:$1048576,2,FALSE)","v":0.70837048316666662},42.462593484977383,{"$f":"VLOOKUP($A937,BasinData!$1:$1048576,3,FALSE)","v":13.222328691118067},{"$f":"VLOOKUP($A937,BasinData!$1:$1048576,4,FALSE)","v":19.725628767408026},{"$f":"VLOOKUP($A937,BasinData!$1:$1048576,5,FALSE)","v":3.8203812310168201},147.49826122505601,{"$f":"VLOOKUP($A937,Sheet1!$1:$1048576,9,FALSE)","v":233.94758785124012},-8.2276061204586206,{"$f":"VLOOKUP($A937,Sheet1!$1:$1048576,10,FALSE)","v":219.53935777015224},-1.2424853163748104,{"$f":"VLOOKUP($A937,Sheet1!$1:$1048576,11,FALSE)","v":190.72289760797651},14.2202411918108,{"$f":"VLOOKUP($A937,Sheet1!$1:$1048576,12,FALSE)","v":147.49820736471287},42.462593484977383]
[22090,{"$f":"VLOOKUP($A938,BasinData!$1:$1048576,2,FALSE)","v":3.0318537859007833E-2},4.9132965708180318,{"$f":"VLOOKUP($A938,BasinData!$1:$1048576,3,FALSE)","v":26.153964080675934},{"$f":"VLOOKUP($A938,BasinData!$1:$1048576,4,FALSE)","v":39.818144699027904},{"$f":"VLOOKUP($A938,BasinData!$1:$1048576,5,FALSE)","v":12.981146191400001},87.365556035724154,{"$f":"VLOOKUP($A938,Sheet1!$1:$1048576,9,FALSE)","v":138.57057459546166},-45.776672155972058,{"$f":"VLOOKUP($A938,Sheet1!$1:$1048576,10,FALSE)","v":130.03636939344221},-38.791941666172889,{"$f":"VLOOKUP($A938,Sheet1!$1:$1048576,11,FALSE)","v":112.96795898940324},-23.328806653840115,{"$f":"VLOOKUP($A938,Sheet1!$1:$1048576,12,FALSE)","v":87.365343383344808},4.9132965708180318]
[22094,{"$f":"VLOOKUP($A939,BasinData!$1:$1048576,2,FALSE)","v":5.7312977099236641E-2},30.549217088888255,{"$f":"VLOOKUP($A939,BasinData!$1:$1048576,3,FALSE)","v":5.6915913098133704},{"$f":"VLOOKUP($A939,BasinData!$1:$1048576,4,FALSE)","v":63.911264544175935},{"$f":"VLOOKUP($A939,BasinData!$1:$1048576,5,FALSE)","v":6.7267670818400003},43.447090043433512,{"$f":"VLOOKUP($A939,Sheet1!$1:$1048576,9,FALSE)","v":68.911361531709971},-20.140545599407204,{"$f":"VLOOKUP($A939,Sheet1!$1:$1048576,10,FALSE)","v":64.667288056666266},-13.155408414222492,{"$f":"VLOOKUP($A939,Sheet1!$1:$1048576,11,FALSE)","v":56.179141106578854},2.3072648592764238,{"$f":"VLOOKUP($A939,Sheet1!$1:$1048576,12,FALSE)","v":43.446920681447729},30.549217088888255]
[22101,{"$f":"VLOOKUP($A940,BasinData!$1:$1048576,2,FALSE)","v":0.77396676579734847},27.401258360567887,{"$f":"VLOOKUP($A940,BasinData!$1:$1048576,3,FALSE)","v":24.319159572643663},{"$f":"VLOOKUP($A940,BasinData!$1:$1048576,4,FALSE)","v":20.156314273961332},{"$f":"VLOOKUP($A940,BasinData!$1:$1048576,5,FALSE)","v":7.4948629999999996},144.87328563392546,{"$f":"VLOOKUP($A940,Sheet1!$1:$1048576,9,FALSE)","v":229.78410814061027},-23.288546851375148,{"$f":"VLOOKUP($A940,Sheet1!$1:$1048576,10,FALSE)","v":215.63229606391249},-16.303705444515469,{"$f":"VLOOKUP($A940,Sheet1!$1:$1048576,11,FALSE)","v":187.32867191051699},-0.84107497044995938,{"$f":"VLOOKUP($A940,Sheet1!$1:$1048576,12,FALSE)","v":144.8732356804237},27.401258360567887]
[22104,{"$f":"VLOOKUP($A941,BasinData!$1:$1048576,2,FALSE)","v":3.3648068669527902E-2},40.469872629180138,{"$f":"VLOOKUP($A941,BasinData!$1:$1048576,3,FALSE)","v":53.310507361656512},{"$f":"VLOOKUP($A941,BasinData!$1:$1048576,4,FALSE)","v":57.146576412392605},{"$f":"VLOOKUP($A941,BasinData!$1:$1048576,5,FALSE)","v":4.3065171473200001},52.9330852485148,{"$f":"VLOOKUP($A941,Sheet1!$1:$1048576,9,FALSE)","v":83.957305569798763},-10.220234320909231,{"$f":"VLOOKUP($A941,Sheet1!$1:$1048576,10,FALSE)","v":78.786591108715896},-3.2349902925761329,{"$f":"VLOOKUP($A941,Sheet1!$1:$1048576,11,FALSE)","v":68.445162186550164},12.227634805245465,{"$f":"VLOOKUP($A941,Sheet1!$1:$1048576,12,FALSE)","v":52.933018803301572},40.469872629180138]
[22127,{"$f":"VLOOKUP($A942,BasinData!$1:$1048576,2,FALSE)","v":0.66548676012461061},31.388948245374642,{"$f":"VLOOKUP($A942,BasinData!$1:$1048576,3,FALSE)","v":3.0024480945128542},{"$f":"VLOOKUP($A942,BasinData!$1:$1048576,4,FALSE)","v":46.603121203625832},{"$f":"VLOOKUP($A942,BasinData!$1:$1048576,5,FALSE)","v":6.52198510886},68.078362798231026,{"$f":"VLOOKUP($A942,Sheet1!$1:$1048576,9,FALSE)","v":107.97932871921739},-19.301188928492767,{"$f":"VLOOKUP($A942,Sheet1!$1:$1048576,10,FALSE)","v":101.32915965153209},-12.316073543266407,{"$f":"VLOOKUP($A942,Sheet1!$1:$1048576,11,FALSE)","v":88.028821516161514},3.1466413949306178,{"$f":"VLOOKUP($A942,Sheet1!$1:$1048576,12,FALSE)","v":68.078314313105636},31.388948245374642]
[22130,{"$f":"VLOOKUP($A943,BasinData!$1:$1048576,2,FALSE)","v":7.1917808219178078E-2},28.689699047326918,{"$f":"VLOOKUP($A943,BasinData!$1:$1048576,3,FALSE)","v":8.3018123708769949},{"$f":"VLOOKUP($A943,BasinData!$1:$1048576,4,FALSE)","v":43.503807773109244},{"$f":"VLOOKUP($A943,BasinData!$1:$1048576,5,FALSE)","v":7.1805298988599997},78.264086540736002,{"$f":"VLOOKUP($A943,Sheet1!$1:$1048576,9,FALSE)","v":124.13500932140768},-22.000334413286879,{"$f":"VLOOKUP($A943,Sheet1!$1:$1048576,10,FALSE)","v":116.48985344761374},-15.015286080058839,{"$f":"VLOOKUP($A943,Sheet1!$1:$1048576,11,FALSE)","v":101.19954170002589},0.44734267263078126,{"$f":"VLOOKUP($A943,Sheet1!$1:$1048576,12,FALSE)","v":78.264074078644086},28.689699047326918]
[22131,{"$f":"VLOOKUP($A944,BasinData!$1:$1048576,2,FALSE)","v":2.849091977026515E-3},33.716303289896999,{"$f":"VLOOKUP($A944,BasinData!$1:$1048576,3,FALSE)","v":2.4234484405066046},{"$f":"VLOOKUP($A944,BasinData!$1:$1048576,4,FALSE)","v":36.271676300578036},{"$f":"VLOOKUP($A944,BasinData!$1:$1048576,5,FALSE)","v":5.9541518829613302},97.018434420066072,{"$f":"VLOOKUP($A944,Sheet1!$1:$1048576,9,FALSE)","v":153.88108516484064},-16.97368204044988,{"$f":"VLOOKUP($A944,Sheet1!$1:$1048576,10,FALSE)","v":144.40394500474497},-9.9887919418744726,{"$f":"VLOOKUP($A944,Sheet1!$1:$1048576,11,FALSE)","v":125.44966468455357},5.4741145051868427,{"$f":"VLOOKUP($A944,Sheet1!$1:$1048576,12,FALSE)","v":97.018244204266495},33.716303289896999]
[22132,{"$f":"VLOOKUP($A945,BasinData!$1:$1048576,2,FALSE)","v":3.0627909078787879E-3},14.532878337451864,{"$f":"VLOOKUP($A945,BasinData!$1:$1048576,3,FALSE)","v":100},{"$f":"VLOOKUP($A945,BasinData!$1:$1048576,4,FALSE)","v":31.391170431211503},{"$f":"VLOOKUP($A945,BasinData!$1:$1048576,5,FALSE)","v":10.6343289625297},111.71245869107628,{"$f":"VLOOKUP($A945,Sheet1!$1:$1048576,9,FALSE)","v":177.18755401945896},-36.157227821437203,{"$f":"VLOOKUP($A945,Sheet1!$1:$1048576,10,FALSE)","v":166.27502840093925},-29.172064799878132,{"$f":"VLOOKUP($A945,Sheet1!$1:$1048576,11,FALSE)","v":144.4499771638998},-13.709448776478601,{"$f":"VLOOKUP($A945,Sheet1!$1:$1048576,12,FALSE)","v":111.71240030834061},14.532878337451864]
[22133,{"$f":"VLOOKUP($A946,BasinData!$1:$1048576,2,FALSE)","v":6.9656793120643932E-3},6.3797249922898844,{"$f":"VLOOKUP($A946,BasinData!$1:$1048576,3,FALSE)","v":100},{"$f":"VLOOKUP($A946,BasinData!$1:$1048576,4,FALSE)","v":30.934767989240079},{"$f":"VLOOKUP($A946,BasinData!$1:$1048576,5,FALSE)","v":12.6233626473978},113.15891564243496,{"$f":"VLOOKUP($A946,Sheet1!$1:$1048576,9,FALSE)","v":179.48129327166859},-44.309614482316029,{"$f":"VLOOKUP($A946,Sheet1!$1:$1048576,10,FALSE)","v":168.42750215348971},-37.325510143528469,{"$f":"VLOOKUP($A946,Sheet1!$1:$1048576,11,FALSE)","v":146.31991991713195},-21.862288309042935,{"$f":"VLOOKUP($A946,Sheet1!$1:$1048576,12,FALSE)","v":113.15854656259532},6.3797249922898844]
[23001,{"$f":"VLOOKUP($A947,BasinData!$1:$1048576,2,FALSE)","v":0.87309733566287884},-1.9949380208415755,{"$f":"VLOOKUP($A947,BasinData!$1:$1048576,3,FALSE)","v":0.24683960240984942},{"$f":"VLOOKUP($A947,BasinData!$1:$1048576,4,FALSE)","v":30.06076111288775},{"$f":"VLOOKUP($A947,BasinData!$1:$1048576,5,FALSE)","v":14.666587858249899},107.90962125201281,{"$f":"VLOOKUP($A947,Sheet1!$1:$1048576,9,FALSE)","v":171.15588104740897},-52.685101793859623,{"$f":"VLOOKUP($A947,Sheet1!$1:$1048576,10,FALSE)","v":160.6148306501274},-45.700081480304426,{"$f":"VLOOKUP($A947,Sheet1!$1:$1048576,11,FALSE)","v":139.5327298555643},-30.23761888588222,{"$f":"VLOOKUP($A947,Sheet1!$1:$1048576,12,FALSE)","v":107.90957866371963},-1.9949380208415755]
[23002,{"$f":"VLOOKUP($A948,BasinData!$1:$1048576,2,FALSE)","v":0},-30.404095252934891,{"$f":"VLOOKUP($A948,BasinData!$1:$1048576,3,FALSE)","v":100},{"$f":"VLOOKUP($A948,BasinData!$1:$1048576,4,FALSE)","v":14.582685006535135},{"$f":"VLOOKUP($A948,BasinData!$1:$1048576,5,FALSE)","v":21.597473712799999},181.62641281823116,{"$f":"VLOOKUP($A948,Sheet1!$1:$1048576,9,FALSE)","v":288.07800726031661},-81.094095229535498,{"$f":"VLOOKUP($A948,Sheet1!$1:$1048576,10,FALSE)","v":270.33602390399648},-74.108915052991307,{"$f":"VLOOKUP($A948,Sheet1!$1:$1048576,11,FALSE)","v":234.85205719135621},-58.646312458137331,{"$f":"VLOOKUP($A948,Sheet1!$1:$1048576,12,FALSE)","v":181.62610712239575},-30.404095252934891]
[23003,{"$f":"VLOOKUP($A949,BasinData!$1:$1048576,2,FALSE)","v":0.35961128310973517},5.5137230763407894,{"$f":"VLOOKUP($A949,BasinData!$1:$1048576,3,FALSE)","v":19.512197715427227},{"$f":"VLOOKUP($A949,BasinData!$1:$1048576,4,FALSE)","v":24.209207045231594},{"$f":"VLOOKUP($A949,BasinData!$1:$1048576,5,FALSE)","v":12.834652929200001},133.42494824948528,{"$f":"VLOOKUP($A949,Sheet1!$1:$1048576,9,FALSE)","v":211.62534428247795},-45.176205634887914,{"$f":"VLOOKUP($A949,Sheet1!$1:$1048576,10,FALSE)","v":198.59188375648085},-38.191515491066106,{"$f":"VLOOKUP($A949,Sheet1!$1:$1048576,11,FALSE)","v":172.52496270448665},-22.728345642447419,{"$f":"VLOOKUP($A949,Sheet1!$1:$1048576,12,FALSE)","v":133.42458112649535},5.5137230763407894]
[23004,{"$f":"VLOOKUP($A950,BasinData!$1:$1048576,2,FALSE)","v":0},30.508282084706153,{"$f":"VLOOKUP($A950,BasinData!$1:$1048576,3,FALSE)","v":17.68636866843276},{"$f":"VLOOKUP($A950,BasinData!$1:$1048576,4,FALSE)","v":27.341061043636504},{"$f":"VLOOKUP($A950,BasinData!$1:$1048576,5,FALSE)","v":6.7367467223700004},125.61696494408592,{"$f":"VLOOKUP($A950,Sheet1!$1:$1048576,9,FALSE)","v":199.24081814604168},-20.181449499832674,{"$f":"VLOOKUP($A950,Sheet1!$1:$1048576,10,FALSE)","v":186.97008872429723},-13.196312102974799,{"$f":"VLOOKUP($A950,Sheet1!$1:$1048576,11,FALSE)","v":162.42862988080833},2.2663594934759366,{"$f":"VLOOKUP($A950,Sheet1!$1:$1048576,12,FALSE)","v":125.61644161557498},30.508282084706153]
[23005,{"$f":"VLOOKUP($A951,BasinData!$1:$1048576,2,FALSE)","v":0.95640206565340924},38.463800167658789,{"$f":"VLOOKUP($A951,BasinData!$1:$1048576,3,FALSE)","v":23.977973692662331},{"$f":"VLOOKUP($A951,BasinData!$1:$1048576,4,FALSE)","v":25.525269733106189},{"$f":"VLOOKUP($A951,BasinData!$1:$1048576,5,FALSE)","v":4.7958825386799999},122.16528598605295,{"$f":"VLOOKUP($A951,Sheet1!$1:$1048576,9,FALSE)","v":193.76630700722987},-12.226101867367472,{"$f":"VLOOKUP($A951,Sheet1!$1:$1048576,10,FALSE)","v":181.83273864277163},-5.2408502735351536,{"$f":"VLOOKUP($A951,Sheet1!$1:$1048576,11,FALSE)","v":157.9656019138551},10.221757922576513,{"$f":"VLOOKUP($A951,Sheet1!$1:$1048576,12,FALSE)","v":122.16489682048032},38.463800167658789]
[23006,{"$f":"VLOOKUP($A952,BasinData!$1:$1048576,2,FALSE)","v":0},30.766375356237173,{"$f":"VLOOKUP($A952,BasinData!$1:$1048576,3,FALSE)","v":15.484602453471473},{"$f":"VLOOKUP($A952,BasinData!$1:$1048576,4,FALSE)","v":29.55306104315375},{"$f":"VLOOKUP($A952,BasinData!$1:$1048576,5,FALSE)","v":6.67381997739},117.83779202904671,{"$f":"VLOOKUP($A952,Sheet1!$1:$1048576,9,FALSE)","v":186.90256430117205},-19.923528653810401,{"$f":"VLOOKUP($A952,Sheet1!$1:$1048576,10,FALSE)","v":175.39171619228298},-12.938393978455396,{"$f":"VLOOKUP($A952,Sheet1!$1:$1048576,11,FALSE)","v":152.37001997450483},2.5242887365034758,{"$f":"VLOOKUP($A952,Sheet1!$1:$1048576,12,FALSE)","v":117.83747564783761},30.766375356237173]
[23007,{"$f":"VLOOKUP($A953,BasinData!$1:$1048576,2,FALSE)","v":1.0051454475265151},-41.912692400193407,{"$f":"VLOOKUP($A953,BasinData!$1:$1048576,3,FALSE)","v":0.80309455646412065},{"$f":"VLOOKUP($A953,BasinData!$1:$1048576,4,FALSE)","v":16.700434153400867},{"$f":"VLOOKUP($A953,BasinData!$1:$1048576,5,FALSE)","v":24.405235301099999},157.01093608036211,{"$f":"VLOOKUP($A953,Sheet1!$1:$1048576,9,FALSE)","v":249.03566871733929},-92.602888343612662,{"$f":"VLOOKUP($A953,Sheet1!$1:$1048576,10,FALSE)","v":233.69820255137648},-85.617651858229195,{"$f":"VLOOKUP($A953,Sheet1!$1:$1048576,11,FALSE)","v":203.02327021945092},-70.155034761371667,{"$f":"VLOOKUP($A953,Sheet1!$1:$1048576,12,FALSE)","v":157.01087172156252},-41.912692400193407]
[23008,{"$f":"VLOOKUP($A954,BasinData!$1:$1048576,2,FALSE)","v":0.91008274476325757},7.9162211313194559,{"$f":"VLOOKUP($A954,BasinData!$1:$1048576,3,FALSE)","v":100},{"$f":"VLOOKUP($A954,BasinData!$1:$1048576,4,FALSE)","v":13.737864077669904},{"$f":"VLOOKUP($A954,BasinData!$1:$1048576,5,FALSE)","v":12.2484782913},172.41820067788228,{"$f":"VLOOKUP($A954,Sheet1!$1:$1048576,9,FALSE)","v":273.472119306477},-42.773225186259701,{"$f":"VLOOKUP($A954,Sheet1!$1:$1048576,10,FALSE)","v":256.62967501405745},-35.78830297460641,{"$f":"VLOOKUP($A954,Sheet1!$1:$1048576,11,FALSE)","v":222.94478642921842},-20.32567580718483,{"$f":"VLOOKUP($A954,Sheet1!$1:$1048576,12,FALSE)","v":172.41745355195985},7.9162211313194559]
[23009,{"$f":"VLOOKUP($A955,BasinData!$1:$1048576,2,FALSE)","v":1.4597608987499999},-96.122600543788778,{"$f":"VLOOKUP($A955,BasinData!$1:$1048576,3,FALSE)","v":45.796798634082791},{"$f":"VLOOKUP($A955,BasinData!$1:$1048576,4,FALSE)","v":2.9912325941206808},{"$f":"VLOOKUP($A955,BasinData!$1:$1048576,5,FALSE)","v":37.630719759000002},224.60050269317333,{"$f":"VLOOKUP($A955,Sheet1!$1:$1048576,9,FALSE)","v":356.23989320406992},-146.81284356820444,{"$f":"VLOOKUP($A955,Sheet1!$1:$1048576,10,FALSE)","v":334.29999464606385},-139.8276035590622,{"$f":"VLOOKUP($A955,Sheet1!$1:$1048576,11,FALSE)","v":290.42019753005184},-124.3652233759617,{"$f":"VLOOKUP($A955,Sheet1!$1:$1048576,12,FALSE)","v":224.6005018560337},-96.122600543788778]
[23010,{"$f":"VLOOKUP($A956,BasinData!$1:$1048576,2,FALSE)","v":1.9565666973674241},-28.337274047237312,{"$f":"VLOOKUP($A956,BasinData!$1:$1048576,3,FALSE)","v":1.8116392920657692E-3},{"$f":"VLOOKUP($A956,BasinData!$1:$1048576,4,FALSE)","v":3.166666666666667},{"$f":"VLOOKUP($A956,BasinData!$1:$1048576,5,FALSE)","v":21.093225718700001},214.33144071562285,{"$f":"VLOOKUP($A956,Sheet1!$1:$1048576,9,FALSE)","v":339.95138749992668},-79.027052864466356,{"$f":"VLOOKUP($A956,Sheet1!$1:$1048576,10,FALSE)","v":319.01465610435207},-72.04205244195127,{"$f":"VLOOKUP($A956,Sheet1!$1:$1048576,11,FALSE)","v":277.1411933132029},-56.57945308981094,{"$f":"VLOOKUP($A956,Sheet1!$1:$1048576,12,FALSE)","v":214.33099912647913},-28.337274047237312]
[23011,{"$f":"VLOOKUP($A957,BasinData!$1:$1048576,2,FALSE)","v":0.95343895804166667},45.551608898987816,{"$f":"VLOOKUP($A957,BasinData!$1:$1048576,3,FALSE)","v":1.6952043405504083},{"$f":"VLOOKUP($A957,BasinData!$1:$1048576,4,FALSE)","v":9.4139650872817953},{"$f":"VLOOKUP($A957,BasinData!$1:$1048576,5,FALSE)","v":3.0667704041100001},194.6566737658612,{"$f":"VLOOKUP($A957,Sheet1!$1:$1048576,9,FALSE)","v":308.74584649196061},-5.1386247111910199,{"$f":"VLOOKUP($A957,Sheet1!$1:$1048576,10,FALSE)","v":289.73098408754441},1.8466093372721399,{"$f":"VLOOKUP($A957,Sheet1!$1:$1048576,11,FALSE)","v":251.70125927871197},17.309239094549266,{"$f":"VLOOKUP($A957,Sheet1!$1:$1048576,12,FALSE)","v":194.65667206546328},45.551608898987816]
[23012,{"$f":"VLOOKUP($A958,BasinData!$1:$1048576,2,FALSE)","v":0.91278726911742414},19.236594859571696,{"$f":"VLOOKUP($A958,BasinData!$1:$1048576,3,FALSE)","v":4.612532851980844},{"$f":"VLOOKUP($A958,BasinData!$1:$1048576,4,FALSE)","v":38.302425106990015},{"$f":"VLOOKUP($A958,BasinData!$1:$1048576,5,FALSE)","v":9.4866506413200007},{"$f":"EXP(6.1523-(0.084*B958)-(0.0091*C958)-(0.0289*E958)-(0.0373*F958))","v":84.756352708081664},{"$f":"VLOOKUP($A958,Sheet1!$1:$1048576,9,FALSE)","v":134.43175634318581},-31.453086749677393,{"$f":"VLOOKUP($A958,Sheet1!$1:$1048576,10,FALSE)","v":126.1524503097806},-24.467845178961706,{"$f":"VLOOKUP($A958,Sheet1!$1:$1048576,11,FALSE)","v":109.59383824297021},-9.0052446128144723,{"$f":"VLOOKUP($A958,Sheet1!$1:$1048576,12,FALSE)","v":84.755920142754604},19.236594859571696]
[23013,{"$f":"VLOOKUP($A959,BasinData!$1:$1048576,2,FALSE)","v":0.6628501118568233},18.422365912224734,{"$f":"VLOOKUP($A959,BasinData!$1:$1048576,3,FALSE)","v":23.192735766325637},{"$f":"VLOOKUP($A959,BasinData!$1:$1048576,4,FALSE)","v":32.306835066864785},{"$f":"VLOOKUP($A959,BasinData!$1:$1048576,5,FALSE)","v":9.6853326910700002},102.92973984012299,{"$f":"VLOOKUP($A959,Sheet1!$1:$1048576,9,FALSE)","v":163.2567240316599},-32.267470125179685,{"$f":"VLOOKUP($A959,Sheet1!$1:$1048576,10,FALSE)","v":153.20216239356967},-25.282223189654726,{"$f":"VLOOKUP($A959,Sheet1!$1:$1048576,11,FALSE)","v":133.0930391173892},-9.819619374723576,{"$f":"VLOOKUP($A959,Sheet1!$1:$1048576,12,FALSE)","v":102.92935420311849},18.422365912224734]
[23014,{"$f":"VLOOKUP($A960,BasinData!$1:$1048576,2,FALSE)","v":2.1556612074621211},35.081288220290133,{"$f":"VLOOKUP($A960,BasinData!$1:$1048576,3,FALSE)","v":13.595815884318913},{"$f":"VLOOKUP($A960,BasinData!$1:$1048576,4,FALSE)","v":18.121827411167512},{"$f":"VLOOKUP($A960,BasinData!$1:$1048576,5,FALSE)","v":5.6211816107099999},136.81010227567748,{"$f":"VLOOKUP($A960,Sheet1!$1:$1048576,9,FALSE)","v":216.99505062105939},-15.608901728015114,{"$f":"VLOOKUP($A960,Sheet1!$1:$1048576,10,FALSE)","v":203.63088369580095},-8.6241643533456713,{"$f":"VLOOKUP($A960,Sheet1!$1:$1048576,11,FALSE)","v":176.90254984528408},6.8389618072980793,{"$f":"VLOOKUP($A960,Sheet1!$1:$1048576,12,FALSE)","v":136.81004906950881},35.081288220290133]
[23015,{"$f":"VLOOKUP($A961,BasinData!$1:$1048576,2,FALSE)","v":1.0106095021685606},14.562020811796,{"$f":"VLOOKUP($A961,BasinData!$1:$1048576,3,FALSE)","v":10.076097516256745},{"$f":"VLOOKUP($A961,BasinData!$1:$1048576,4,FALSE)","v":7.1407230355542275},{"$f":"VLOOKUP($A961,BasinData!$1:$1048576,5,FALSE)","v":10.627218861599999},206.87862179935667,{"$f":"VLOOKUP($A961,Sheet1!$1:$1048576,9,FALSE)","v":328.13096255676248},-36.128087631702414,{"$f":"VLOOKUP($A961,Sheet1!$1:$1048576,10,FALSE)","v":307.92222072415632},-29.142921200984969,{"$f":"VLOOKUP($A961,Sheet1!$1:$1048576,11,FALSE)","v":267.50473705894399},-13.68030525079671,{"$f":"VLOOKUP($A961,Sheet1!$1:$1048576,12,FALSE)","v":206.87851156112541},14.562020811796]
[23016,{"$f":"VLOOKUP($A962,BasinData!$1:$1048576,2,FALSE)","v":0.82533783395454552},38.16175770651995,{"$f":"VLOOKUP($A962,BasinData!$1:$1048576,3,FALSE)","v":6.9288071556985651},{"$f":"VLOOKUP($A962,BasinData!$1:$1048576,4,FALSE)","v":26.084344587288239},{"$f":"VLOOKUP($A962,BasinData!$1:$1048576,5,FALSE)","v":4.8695600569700002},121.53806162427426,{"$f":"VLOOKUP($A962,Sheet1!$1:$1048576,9,FALSE)","v":192.77138672638517},-12.528100024332426,{"$f":"VLOOKUP($A962,Sheet1!$1:$1048576,10,FALSE)","v":180.89909294248753},-5.5428470930257436,{"$f":"VLOOKUP($A962,Sheet1!$1:$1048576,11,FALSE)","v":157.15450537469223},9.9197657573051075,{"$f":"VLOOKUP($A962,Sheet1!$1:$1048576,12,FALSE)","v":121.53762402299928},38.16175770651995]
[23017,{"$f":"VLOOKUP($A963,BasinData!$1:$1048576,2,FALSE)","v":1.4301579595037881},17.172137890295389,{"$f":"VLOOKUP($A963,BasinData!$1:$1048576,3,FALSE)","v":47.65170242886645},{"$f":"VLOOKUP($A963,BasinData!$1:$1048576,4,FALSE)","v":21.378955492667867},{"$f":"VLOOKUP($A963,BasinData!$1:$1048576,5,FALSE)","v":9.9903893475000007},132.34431059789304,{"$f":"VLOOKUP($A963,Sheet1!$1:$1048576,9,FALSE)","v":209.91145865489952},-33.517854095366737,{"$f":"VLOOKUP($A963,Sheet1!$1:$1048576,10,FALSE)","v":196.98355193555471},-26.532620166027097,{"$f":"VLOOKUP($A963,Sheet1!$1:$1048576,11,FALSE)","v":171.12773849686511},-11.07001185753159,{"$f":"VLOOKUP($A963,Sheet1!$1:$1048576,12,FALSE)","v":132.34401833883067},17.172137890295389]
[23018,{"$f":"VLOOKUP($A964,BasinData!$1:$1048576,2,FALSE)","v":0.10122038765254845},42.686576390543571,{"$f":"VLOOKUP($A964,BasinData!$1:$1048576,3,FALSE)","v":6.2634983070681924},{"$f":"VLOOKUP($A964,BasinData!$1:$1048576,4,FALSE)","v":31.834997414376069},{"$f":"VLOOKUP($A964,BasinData!$1:$1048576,5,FALSE)","v":3.7657381326700001},109.38307654614823,{"$f":"VLOOKUP($A964,Sheet1!$1:$1048576,9,FALSE)","v":173.49294935775961},-8.003628986832414,{"$f":"VLOOKUP($A964,Sheet1!$1:$1048576,10,FALSE)","v":162.80796493559654},-1.0185463342254191,{"$f":"VLOOKUP($A964,Sheet1!$1:$1048576,11,FALSE)","v":141.43799609127041},14.444241104163492,{"$f":"VLOOKUP($A964,Sheet1!$1:$1048576,12,FALSE)","v":109.38304282478119},42.686576390543571]
[23019,{"$f":"VLOOKUP($A965,BasinData!$1:$1048576,2,FALSE)","v":1.1419160968371211},25.593221013598932,{"$f":"VLOOKUP($A965,BasinData!$1:$1048576,3,FALSE)","v":31.360532724429824},{"$f":"VLOOKUP($A965,BasinData!$1:$1048576,4,FALSE)","v":22.714570858283434},{"$f":"VLOOKUP($A965,BasinData!$1:$1048576,5,FALSE)","v":7.9359180793500004},130.45389828190471,{"$f":"VLOOKUP($A965,Sheet1!$1:$1048576,9,FALSE)","v":206.91308973602639},-25.096774405306562,{"$f":"VLOOKUP($A965,Sheet1!$1:$1048576,10,FALSE)","v":194.16984484477692},-18.111546379030742,{"$f":"VLOOKUP($A965,Sheet1!$1:$1048576,11,FALSE)","v":168.683355062278},-2.6489142285594003,{"$f":"VLOOKUP($A965,Sheet1!$1:$1048576,12,FALSE)","v":130.4536203885296},25.593221013598932]
[23020,{"$f":"VLOOKUP($A966,BasinData!$1:$1048576,2,FALSE)","v":6.4707347135227267E-3},7.3262504200343423,{"$f":"VLOOKUP($A966,BasinData!$1:$1048576,3,FALSE)","v":22.601151733813246},{"$f":"VLOOKUP($A966,BasinData!$1:$1048576,4,FALSE)","v":24.351108978795043},{"$f":"VLOOKUP($A966,BasinData!$1:$1048576,5,FALSE)","v":12.3924239094},136.87979311562026,{"$f":"VLOOKUP($A966,Sheet1!$1:$1048576,9,FALSE)","v":217.10482631791882},-43.363517778788506,{"$f":"VLOOKUP($A966,Sheet1!$1:$1048576,10,FALSE)","v":203.73389858990032},-36.378321809029451,{"$f":"VLOOKUP($A966,Sheet1!$1:$1048576,11,FALSE)","v":176.99204313386326},-20.915694078411292,{"$f":"VLOOKUP($A966,Sheet1!$1:$1048576,12,FALSE)","v":136.87925994980765},7.3262504200343423]
[23021,{"$f":"VLOOKUP($A967,BasinData!$1:$1048576,2,FALSE)","v":0.20064320171520456},2.2081366883595606,{"$f":"VLOOKUP($A967,BasinData!$1:$1048576,3,FALSE)","v":29.938032183044914},{"$f":"VLOOKUP($A967,BasinData!$1:$1048576,4,FALSE)","v":23.52096869011536},{"$f":"VLOOKUP($A967,BasinData!$1:$1048576,5,FALSE)","v":13.641147930500001},137.93480062028618,{"$f":"VLOOKUP($A967,Sheet1!$1:$1048576,9,FALSE)","v":218.77873456088037},-48.481963304842701,{"$f":"VLOOKUP($A967,Sheet1!$1:$1048576,10,FALSE)","v":205.30471513048207},-41.497079797725902,{"$f":"VLOOKUP($A967,Sheet1!$1:$1048576,11,FALSE)","v":178.35667626968552},-26.034087285666168,{"$f":"VLOOKUP($A967,Sheet1!$1:$1048576,12,FALSE)","v":137.93461797849073},2.2081366883595606]
[23023,{"$f":"VLOOKUP($A968,BasinData!$1:$1048576,2,FALSE)","v":1.3237831269147726},-28.445389380169434,{"$f":"VLOOKUP($A968,BasinData!$1:$1048576,3,FALSE)","v":3.5452450852376689},{"$f":"VLOOKUP($A968,BasinData!$1:$1048576,4,FALSE)","v":27.59629449049244},{"$f":"VLOOKUP($A968,BasinData!$1:$1048576,5,FALSE)","v":21.119602947400001},111.57100004882888,{"$f":"VLOOKUP($A968,Sheet1!$1:$1048576,9,FALSE)","v":176.96291754976468},-79.135185354927259,{"$f":"VLOOKUP($A968,Sheet1!$1:$1048576,10,FALSE)","v":166.0642267135126},-72.150170091256584,{"$f":"VLOOKUP($A968,Sheet1!$1:$1048576,11,FALSE)","v":144.26684504100839},-56.687570564281074,{"$f":"VLOOKUP($A968,Sheet1!$1:$1048576,12,FALSE)","v":111.57077253225211},-28.445389380169434]
[23024,{"$f":"VLOOKUP($A969,BasinData!$1:$1048576,2,FALSE)","v":0.75336801387221553},-15.901412753005378,{"$f":"VLOOKUP($A969,BasinData!$1:$1048576,3,FALSE)","v":1.8292672234414544},{"$f":"VLOOKUP($A969,BasinData!$1:$1048576,4,FALSE)","v":8.2338410868670238},{"$f":"VLOOKUP($A969,BasinData!$1:$1048576,5,FALSE)","v":18.059330814500001},204.82355395451157,{"$f":"VLOOKUP($A969,Sheet1!$1:$1048576,9,FALSE)","v":324.87158400757545},-66.591640918249183,{"$f":"VLOOKUP($A969,Sheet1!$1:$1048576,10,FALSE)","v":304.86357891472107},-59.606417573712037,{"$f":"VLOOKUP($A969,Sheet1!$1:$1048576,11,FALSE)","v":264.84756872901227},-44.143842449536052,{"$f":"VLOOKUP($A969,Sheet1!$1:$1048576,12,FALSE)","v":204.82355345044903},-15.901412753005378]
[23025,{"$f":"VLOOKUP($A970,BasinData!$1:$1048576,2,FALSE)","v":7.1229050279329603E-2},8.0914302140341814,{"$f":"VLOOKUP($A970,BasinData!$1:$1048576,3,FALSE)","v":38.861956644766309},{"$f":"VLOOKUP($A970,BasinData!$1:$1048576,4,FALSE)","v":17.986405027574708},{"$f":"VLOOKUP($A970,BasinData!$1:$1048576,5,FALSE)","v":12.2057292438},163.62937121977697,{"$f":"VLOOKUP($A970,Sheet1!$1:$1048576,9,FALSE)","v":259.53214121211397},-42.598233713243253,{"$f":"VLOOKUP($A970,Sheet1!$1:$1048576,10,FALSE)","v":243.54822430847275},-35.613078862419208,{"$f":"VLOOKUP($A970,Sheet1!$1:$1048576,11,FALSE)","v":211.58039050119032},-20.15045187314551,{"$f":"VLOOKUP($A970,Sheet1!$1:$1048576,12,FALSE)","v":163.62863979026662},8.0914302140341814]
[23026,{"$f":"VLOOKUP($A971,BasinData!$1:$1048576,2,FALSE)","v":0.28625637376971425},-126.02038792131414,{"$f":"VLOOKUP($A971,BasinData!$1:$1048576,3,FALSE)","v":12.557052082884933},{"$f":"VLOOKUP($A971,BasinData!$1:$1048576,4,FALSE)","v":2.4571096248909567},{"$f":"VLOOKUP($A971,BasinData!$1:$1048576,5,FALSE)","v":44.924724851400001},251.72501705916608,{"$f":"VLOOKUP($A971,Sheet1!$1:$1048576,9,FALSE)","v":399.26082303202361},-176.71023523426905,{"$f":"VLOOKUP($A971,Sheet1!$1:$1048576,10,FALSE)","v":374.67137608176125},-169.72500853567183,{"$f":"VLOOKUP($A971,Sheet1!$1:$1048576,11,FALSE)","v":325.4924821812366},-154.26261330609017,{"$f":"VLOOKUP($A971,Sheet1!$1:$1048576,12,FALSE)","v":251.72414133044961},-126.02038792131414]
[23027,{"$f":"VLOOKUP($A972,BasinData!$1:$1048576,2,FALSE)","v":0.13596986817325801},-3.3621374232194468,{"$f":"VLOOKUP($A972,BasinData!$1:$1048576,3,FALSE)","v":25.272733298544665},{"$f":"VLOOKUP($A972,BasinData!$1:$1048576,4,FALSE)","v":15.857933018619446},{"$f":"VLOOKUP($A972,BasinData!$1:$1048576,5,FALSE)","v":15.000144713899999},173.06622410745217,{"$f":"VLOOKUP($A972,Sheet1!$1:$1048576,9,FALSE)","v":274.50107180869412},-54.05212828786653,{"$f":"VLOOKUP($A972,Sheet1!$1:$1048576,10,FALSE)","v":257.59525697875108},-47.067253531233881,{"$f":"VLOOKUP($A972,Sheet1!$1:$1048576,11,FALSE)","v":223.78362731886509},-31.604638774340984,{"$f":"VLOOKUP($A972,Sheet1!$1:$1048576,12,FALSE)","v":173.06618282903605},-3.3621374232194468]
[23028,{"$f":"VLOOKUP($A973,BasinData!$1:$1048576,2,FALSE)","v":1.4828054742973484},26.112576998785734,{"$f":"VLOOKUP($A973,BasinData!$1:$1048576,3,FALSE)","v":6.7913679830258351},{"$f":"VLOOKUP($A973,BasinData!$1:$1048576,4,FALSE)","v":14.553111839026672},{"$f":"VLOOKUP($A973,BasinData!$1:$1048576,5,FALSE)","v":7.8091305504499999},160.49365158342152,{"$f":"VLOOKUP($A973,Sheet1!$1:$1048576,9,FALSE)","v":254.55840699744795},-24.577084724078176,{"$f":"VLOOKUP($A973,Sheet1!$1:$1048576,10,FALSE)","v":238.88080958863586},-17.591856897287371,{"$f":"VLOOKUP($A973,Sheet1!$1:$1048576,11,FALSE)","v":207.52561477101167},-2.1292250625664337,{"$f":"VLOOKUP($A973,Sheet1!$1:$1048576,12,FALSE)","v":160.4928225445754},26.112576998785734]
[23029,{"$f":"VLOOKUP($A974,BasinData!$1:$1048576,2,FALSE)","v":1.0569985471155303},39.174109143652544,{"$f":"VLOOKUP($A974,BasinData!$1:$1048576,3,FALSE)","v":31.69122476476462},{"$f":"VLOOKUP($A974,BasinData!$1:$1048576,4,FALSE)","v":20.587838748820278},{"$f":"VLOOKUP($A974,BasinData!$1:$1048576,5,FALSE)","v":4.6226123936799999},139.71655269900813,{"$f":"VLOOKUP($A974,Sheet1!$1:$1048576,9,FALSE)","v":221.60454861277756},-11.515881861466884,{"$f":"VLOOKUP($A974,Sheet1!$1:$1048576,10,FALSE)","v":207.95649456462553},-4.5306331951269927,{"$f":"VLOOKUP($A974,Sheet1!$1:$1048576,11,FALSE)","v":180.66038646832146},10.931668420661701,{"$f":"VLOOKUP($A974,Sheet1!$1:$1048576,12,FALSE)","v":139.71622432386533},39.174109143652544]
[23030,{"$f":"VLOOKUP($A975,BasinData!$1:$1048576,2,FALSE)","v":0.99169782686742425},-19.525024383370379,{"$f":"VLOOKUP($A975,BasinData!$1:$1048576,3,FALSE)","v":60.840354946749464},{"$f":"VLOOKUP($A975,BasinData!$1:$1048576,4,FALSE)","v":12.91916696081892},{"$f":"VLOOKUP($A975,BasinData!$1:$1048576,5,FALSE)","v":18.943258349600001},175.34012215304185,{"$f":"VLOOKUP($A975,Sheet1!$1:$1048576,9,FALSE)","v":278.10656179896068},-70.214784937890826,{"$f":"VLOOKUP($A975,Sheet1!$1:$1048576,10,FALSE)","v":260.97869411601772},-63.2295490337372,{"$f":"VLOOKUP($A975,Sheet1!$1:$1048576,11,FALSE)","v":226.72295875013185},-47.766965967538432,{"$f":"VLOOKUP($A975,Sheet1!$1:$1048576,12,FALSE)","v":175.33935570130302},-19.525024383370379]
[23031,{"$f":"VLOOKUP($A976,BasinData!$1:$1048576,2,FALSE)","v":0.28127641589180052},-28.09728321859474,{"$f":"VLOOKUP($A976,BasinData!$1:$1048576,3,FALSE)","v":99.013068403514936},{"$f":"VLOOKUP($A976,BasinData!$1:$1048576,4,FALSE)","v":17.693064206434695},{"$f":"VLOOKUP($A976,BasinData!$1:$1048576,5,FALSE)","v":21.034674406699999},162.13594458215425,{"$f":"VLOOKUP($A976,Sheet1!$1:$1048576,9,FALSE)","v":257.16402842177905},-78.787021198143961,{"$f":"VLOOKUP($A976,Sheet1!$1:$1048576,10,FALSE)","v":241.32595749267639},-71.802056410171005,{"$f":"VLOOKUP($A976,Sheet1!$1:$1048576,11,FALSE)","v":209.64981563447108},-56.339457448206247,{"$f":"VLOOKUP($A976,Sheet1!$1:$1048576,12,FALSE)","v":162.13560284716311},-28.09728321859474]
[23032,{"$f":"VLOOKUP($A977,BasinData!$1:$1048576,2,FALSE)","v":1.5303891560996941},26.486724727442027,{"$f":"VLOOKUP($A977,BasinData!$1:$1048576,3,FALSE)","v":16.984587533053361},{"$f":"VLOOKUP($A977,BasinData!$1:$1048576,4,FALSE)","v":16.787601268052128},{"$f":"VLOOKUP($A977,BasinData!$1:$1048576,5,FALSE)","v":7.7179831049300001},149.85612534053644,{"$f":"VLOOKUP($A977,Sheet1!$1:$1048576,9,FALSE)","v":237.68743992317661},-24.203480283623318,{"$f":"VLOOKUP($A977,Sheet1!$1:$1048576,10,FALSE)","v":223.04888197413928},-17.218252576728297,{"$f":"VLOOKUP($A977,Sheet1!$1:$1048576,11,FALSE)","v":193.77176607606461},-1.7556210435149364,{"$f":"VLOOKUP($A977,Sheet1!$1:$1048576,12,FALSE)","v":149.8560922289526},26.486724727442027]
[23033,{"$f":"VLOOKUP($A978,BasinData!$1:$1048576,2,FALSE)","v":0},23.698598070675043,{"$f":"VLOOKUP($A978,BasinData!$1:$1048576,3,FALSE)","v":10.535764781326634},{"$f":"VLOOKUP($A978,BasinData!$1:$1048576,4,FALSE)","v":12.644415917843387},{"$f":"VLOOKUP($A978,BasinData!$1:$1048576,5,FALSE)","v":8.3980844992300003},192.09126270989424,{"$f":"VLOOKUP($A978,Sheet1!$1:$1048576,9,FALSE)","v":304.67550087294512},-26.991149900334161,{"$f":"VLOOKUP($A978,Sheet1!$1:$1048576,10,FALSE)","v":285.91132058381368},-20.005920621524933,{"$f":"VLOOKUP($A978,Sheet1!$1:$1048576,11,FALSE)","v":248.38296000555084},-4.5435861772138111,{"$f":"VLOOKUP($A978,Sheet1!$1:$1048576,12,FALSE)","v":192.09041913815653},23.698598070675043]
[23034,{"$f":"VLOOKUP($A979,BasinData!$1:$1048576,2,FALSE)","v":0.61142274349821513},23.659352326226816,{"$f":"VLOOKUP($A979,BasinData!$1:$1048576,3,FALSE)","v":13.026862366708944},{"$f":"VLOOKUP($A979,BasinData!$1:$1048576,4,FALSE)","v":15.672270771414629},{"$f":"VLOOKUP($A979,BasinData!$1:$1048576,5,FALSE)","v":8.4076627748800004},167.18582804813701,{"$f":"VLOOKUP($A979,Sheet1!$1:$1048576,9,FALSE)","v":265.17308479446893},-27.03041033941745,{"$f":"VLOOKUP($A979,Sheet1!$1:$1048576,10,FALSE)","v":248.84175668750856},-20.045181022116605,{"$f":"VLOOKUP($A979,Sheet1!$1:$1048576,11,FALSE)","v":216.17910047358788},-4.5828331721648761,{"$f":"VLOOKUP($A979,Sheet1!$1:$1048576,12,FALSE)","v":167.18511615270683},23.659352326226816]
[23035,{"$f":"VLOOKUP($A980,BasinData!$1:$1048576,2,FALSE)","v":0.28250701590271282},0.78447480696089611,{"$f":"VLOOKUP($A980,BasinData!$1:$1048576,3,FALSE)","v":97.784573673145218},{"$f":"VLOOKUP($A980,BasinData!$1:$1048576,4,FALSE)","v":24.117343554212429},{"$f":"VLOOKUP($A980,BasinData!$1:$1048576,5,FALSE)","v":13.9884865127},134.64866630142123,{"$f":"VLOOKUP($A980,Sheet1!$1:$1048576,9,FALSE)","v":213.56667535084102},-49.90565355706611,{"$f":"VLOOKUP($A980,Sheet1!$1:$1048576,10,FALSE)","v":200.4136532386209},-42.920720427947117,{"$f":"VLOOKUP($A980,Sheet1!$1:$1048576,11,FALSE)","v":174.1076090141807},-27.457793403778222,{"$f":"VLOOKUP($A980,Sheet1!$1:$1048576,12,FALSE)","v":134.64854267752042},0.78447480696089611]
[23036,{"$f":"VLOOKUP($A981,BasinData!$1:$1048576,2,FALSE)","v":0.15074946466809422},-25.849558306575361,{"$f":"VLOOKUP($A981,BasinData!$1:$1048576,3,FALSE)","v":98.955945109573648},{"$f":"VLOOKUP($A981,BasinData!$1:$1048576,4,FALSE)","v":17.424706943192064},{"$f":"VLOOKUP($A981,BasinData!$1:$1048576,5,FALSE)","v":20.4862889015},165.19976174652444,{"$f":"VLOOKUP($A981,Sheet1!$1:$1048576,9,FALSE)","v":262.023426268273},-76.539503085381952,{"$f":"VLOOKUP($A981,Sheet1!$1:$1048576,10,FALSE)","v":245.88607752711465},-69.554278512437108,{"$f":"VLOOKUP($A981,Sheet1!$1:$1048576,11,FALSE)","v":213.61138004479795},-54.091683343347178,{"$f":"VLOOKUP($A981,Sheet1!$1:$1048576,12,FALSE)","v":165.19933382132288},-25.849558306575361]
[23037,{"$f":"VLOOKUP($A982,BasinData!$1:$1048576,2,FALSE)","v":0.72098999910795458},3.4645077431903806,{"$f":"VLOOKUP($A982,BasinData!$1:$1048576,3,FALSE)","v":100},{"$f":"VLOOKUP($A982,BasinData!$1:$1048576,4,FALSE)","v":23.561832586978987},{"$f":"VLOOKUP($A982,BasinData!$1:$1048576,5,FALSE)","v":13.3346216199},131.8798751390301,{"$f":"VLOOKUP($A982,Sheet1!$1:$1048576,9,FALSE)","v":209.17490687982934},-47.225408034518907,{"$f":"VLOOKUP($A982,Sheet1!$1:$1048576,10,FALSE)","v":196.29236248945452},-40.240722415091923,{"$f":"VLOOKUP($A982,Sheet1!$1:$1048576,11,FALSE)","v":170.52727370870488},-24.777666728934797,{"$f":"VLOOKUP($A982,Sheet1!$1:$1048576,12,FALSE)","v":131.87964053758043},3.4645077431903806]
[23038,{"$f":"VLOOKUP($A983,BasinData!$1:$1048576,2,FALSE)","v":0.26313052522100883},-30.970278324002813,{"$f":"VLOOKUP($A983,BasinData!$1:$1048576,3,FALSE)","v":21.058146222198221},{"$f":"VLOOKUP($A983,BasinData!$1:$1048576,4,FALSE)","v":14.053708009029952},{"$f":"VLOOKUP($A983,BasinData!$1:$1048576,5,FALSE)","v":21.735606688299999},180.39272462675618,{"$f":"VLOOKUP($A983,Sheet1!$1:$1048576,9,FALSE)","v":286.12127892272395},-81.660309117706177,{"$f":"VLOOKUP($A983,Sheet1!$1:$1048576,10,FALSE)","v":268.49980543082756},-74.675108445385064,{"$f":"VLOOKUP($A983,Sheet1!$1:$1048576,11,FALSE)","v":233.25685844703483},-59.212504998358455,{"$f":"VLOOKUP($A983,Sheet1!$1:$1048576,12,FALSE)","v":180.39243797134571},-30.970278324002813]
[23039,{"$f":"VLOOKUP($A984,BasinData!$1:$1048576,2,FALSE)","v":0.91337683912689394},-4.7397754047100875,{"$f":"VLOOKUP($A984,BasinData!$1:$1048576,3,FALSE)","v":14.897294489068681},{"$f":"VLOOKUP($A984,BasinData!$1:$1048576,4,FALSE)","v":7.3049645390070914},{"$f":"VLOOKUP($A984,BasinData!$1:$1048576,5,FALSE)","v":15.336246927099999},207.58747479995779,{"$f":"VLOOKUP($A984,Sheet1!$1:$1048576,9,FALSE)","v":329.25540909666921},-55.42999990220175,{"$f":"VLOOKUP($A984,Sheet1!$1:$1048576,10,FALSE)","v":308.97741549442668},-48.444864681896071,{"$f":"VLOOKUP($A984,Sheet1!$1:$1048576,11,FALSE)","v":268.42142828994156},-32.982220746453301,{"$f":"VLOOKUP($A984,Sheet1!$1:$1048576,12,FALSE)","v":207.58744748321391},-4.7397754047100875]
[23040,{"$f":"VLOOKUP($A985,BasinData!$1:$1048576,2,FALSE)","v":0.58695652173913038},-25.553643307527956,{"$f":"VLOOKUP($A985,BasinData!$1:$1048576,3,FALSE)","v":24.916063209350025},{"$f":"VLOOKUP($A985,BasinData!$1:$1048576,4,FALSE)","v":13.931801055011302},{"$f":"VLOOKUP($A985,BasinData!$1:$1048576,5,FALSE)","v":20.4140933131},176.17169780514064,{"$f":"VLOOKUP($A985,Sheet1!$1:$1048576,9,FALSE)","v":279.42600037247274},-76.243580595735196,{"$f":"VLOOKUP($A985,Sheet1!$1:$1048576,10,FALSE)","v":262.21687186218111},-69.258355942579158,{"$f":"VLOOKUP($A985,Sheet1!$1:$1048576,11,FALSE)","v":227.79861484159784},-53.795761292163519,{"$f":"VLOOKUP($A985,Sheet1!$1:$1048576,12,FALSE)","v":176.17122931072288},-25.553643307527956]
[23041,{"$f":"VLOOKUP($A986,BasinData!$1:$1048576,2,FALSE)","v":0.59393180932954548},40.628085610777383,{"$f":"VLOOKUP($A986,BasinData!$1:$1048576,3,FALSE)","v":15.933667187472995},{"$f":"VLOOKUP($A986,BasinData!$1:$1048576,4,FALSE)","v":31.009933774834437},{"$f":"VLOOKUP($A986,BasinData!$1:$1048576,5,FALSE)","v":4.2679209884900002},107.4809486492743,{"$f":"VLOOKUP($A986,Sheet1!$1:$1048576,9,FALSE)","v":170.47583229659577},-10.062032007777935,{"$f":"VLOOKUP($A986,Sheet1!$1:$1048576,10,FALSE)","v":159.97666435238017},-3.0767884902421905,{"$f":"VLOOKUP($A986,Sheet1!$1:$1048576,11,FALSE)","v":138.97832846394897},12.385834115341856,{"$f":"VLOOKUP($A986,Sheet1!$1:$1048576,12,FALSE)","v":107.48082463130217},40.628085610777383]
[23042,{"$f":"VLOOKUP($A987,BasinData!$1:$1048576,2,FALSE)","v":1.1602595139943181},24.423946157899191,{"$f":"VLOOKUP($A987,BasinData!$1:$1048576,3,FALSE)","v":95.087959289105058},{"$f":"VLOOKUP($A987,BasinData!$1:$1048576,4,FALSE)","v":21.762711864406782},{"$f":"VLOOKUP($A987,BasinData!$1:$1048576,5,FALSE)","v":8.2212387762199999},133.88560101508804,{"$f":"VLOOKUP($A987,Sheet1!$1:$1048576,9,FALSE)","v":212.35655531932045},-26.266276243304226,{"$f":"VLOOKUP($A987,Sheet1!$1:$1048576,10,FALSE)","v":199.2780613866812},-19.281047568563611,{"$f":"VLOOKUP($A987,Sheet1!$1:$1048576,11,FALSE)","v":173.12107352140265},-3.8190200408394865,{"$f":"VLOOKUP($A987,Sheet1!$1:$1048576,12,FALSE)","v":133.88559172348488},24.423946157899191]
[23043,{"$f":"VLOOKUP($A988,BasinData!$1:$1048576,2,FALSE)","v":0.183402489626556},-29.44041092283129,{"$f":"VLOOKUP($A988,BasinData!$1:$1048576,3,FALSE)","v":26.372012360151611},{"$f":"VLOOKUP($A988,BasinData!$1:$1048576,4,FALSE)","v":13.519212390588736},{"$f":"VLOOKUP($A988,BasinData!$1:$1048576,5,FALSE)","v":21.362361205900001},184.43196077913629,{"$f":"VLOOKUP($A988,Sheet1!$1:$1048576,9,FALSE)","v":292.52784288010292},-80.130332982295712,{"$f":"VLOOKUP($A988,Sheet1!$1:$1048576,10,FALSE)","v":274.51180559562829},-73.145212161636422,{"$f":"VLOOKUP($A988,Sheet1!$1:$1048576,11,FALSE)","v":238.47973102667902},-57.682611052745621,{"$f":"VLOOKUP($A988,Sheet1!$1:$1048576,12,FALSE)","v":184.43161917325511},-29.44041092283129]
[23044,{"$f":"VLOOKUP($A989,BasinData!$1:$1048576,2,FALSE)","v":0.96999626878977274},24.320098437650085,{"$f":"VLOOKUP($A989,BasinData!$1:$1048576,3,FALSE)","v":15.509525961773305},{"$f":"VLOOKUP($A989,BasinData!$1:$1048576,4,FALSE)","v":18.898056960340696},{"$f":"VLOOKUP($A989,BasinData!$1:$1048576,5,FALSE)","v":8.2465750681000003},147.78467584566891,{"$f":"VLOOKUP($A989,Sheet1!$1:$1048576,9,FALSE)","v":234.40194746352631},-26.370127262146646,{"$f":"VLOOKUP($A989,Sheet1!$1:$1048576,10,FALSE)","v":219.96573454280542},-19.38489851219418,{"$f":"VLOOKUP($A989,Sheet1!$1:$1048576,11,FALSE)","v":191.09330870136364},-3.9228199733991933,{"$f":"VLOOKUP($A989,Sheet1!$1:$1048576,12,FALSE)","v":147.78466993920091},24.320098437650085]
[23045,{"$f":"VLOOKUP($A990,BasinData!$1:$1048576,2,FALSE)","v":0.53913444343939398},26.28656348752126,{"$f":"VLOOKUP($A990,BasinData!$1:$1048576,3,FALSE)","v":59.926213437767522},{"$f":"VLOOKUP($A990,BasinData!$1:$1048576,4,FALSE)","v":49.562023170387114},{"$f":"VLOOKUP($A990,BasinData!$1:$1048576,5,FALSE)","v":7.7668209710399996},63.165615033566979,{"$f":"VLOOKUP($A990,Sheet1!$1:$1048576,9,FALSE)","v":100.18727011495115},-24.402987372142046,{"$f":"VLOOKUP($A990,Sheet1!$1:$1048576,10,FALSE)","v":94.016993890815826},-17.418434135173023,{"$f":"VLOOKUP($A990,Sheet1!$1:$1048576,11,FALSE)","v":81.676441442545183},-1.9558024329447394,{"$f":"VLOOKUP($A990,Sheet1!$1:$1048576,12,FALSE)","v":63.165612770139226},26.28656348752126]
[23046,{"$f":"VLOOKUP($A991,BasinData!$1:$1048576,2,FALSE)","v":0.34269449715370021},-21.92450018639973,{"$f":"VLOOKUP($A991,BasinData!$1:$1048576,3,FALSE)","v":26.166553151597682},{"$f":"VLOOKUP($A991,BasinData!$1:$1048576,4,FALSE)","v":16.062735423045577},{"$f":"VLOOKUP($A991,BasinData!$1:$1048576,5,FALSE)","v":19.528673492799999},169.08373049195995,{"$f":"VLOOKUP($A991,Sheet1!$1:$1048576,9,FALSE)","v":268.18351595767632},-72.614335763828763,{"$f":"VLOOKUP($A991,Sheet1!$1:$1048576,10,FALSE)","v":251.66678314002345},-65.62910775172098,{"$f":"VLOOKUP($A991,Sheet1!$1:$1048576,11,FALSE)","v":218.63331750471775},-50.166519837871249,{"$f":"VLOOKUP($A991,Sheet1!$1:$1048576,12,FALSE)","v":169.08311905175918},-21.92450018639973]
[23047,{"$f":"VLOOKUP($A992,BasinData!$1:$1048576,2,FALSE)","v":6.1741098991562049E-2},-21.077874919107099,{"$f":"VLOOKUP($A992,BasinData!$1:$1048576,3,FALSE)","v":89.995470385543697},{"$f":"VLOOKUP($A992,BasinData!$1:$1048576,4,FALSE)","v":18.959806642198551},{"$f":"VLOOKUP($A992,BasinData!$1:$1048576,5,FALSE)","v":19.322117337400002},159.21715430923336,{"$f":"VLOOKUP($A992,Sheet1!$1:$1048576,9,FALSE)","v":252.53408619022215},-71.767684506993106,{"$f":"VLOOKUP($A992,Sheet1!$1:$1048576,10,FALSE)","v":236.98116149214982},-64.782454519001803,{"$f":"VLOOKUP($A992,Sheet1!$1:$1048576,11,FALSE)","v":205.87531209600519},-49.319868279013214,{"$f":"VLOOKUP($A992,Sheet1!$1:$1048576,12,FALSE)","v":159.21653800178819},-21.077874919107099]
[23048,{"$f":"VLOOKUP($A993,BasinData!$1:$1048576,2,FALSE)","v":1.1870845204178538E-2},-20.082986468440037,{"$f":"VLOOKUP($A993,BasinData!$1:$1048576,3,FALSE)","v":26.561748744070098},{"$f":"VLOOKUP($A993,BasinData!$1:$1048576,4,FALSE)","v":17.546694648478489},{"$f":"VLOOKUP($A993,BasinData!$1:$1048576,5,FALSE)","v":19.079388103799999},166.55030139135079,{"$f":"VLOOKUP($A993,Sheet1!$1:$1048576,9,FALSE)","v":264.16509627196353},-70.772764784300904,{"$f":"VLOOKUP($A993,Sheet1!$1:$1048576,10,FALSE)","v":247.89584758494829},-63.787531419807031,{"$f":"VLOOKUP($A993,Sheet1!$1:$1048576,11,FALSE)","v":215.35735021091773},-48.324947197637712,{"$f":"VLOOKUP($A993,Sheet1!$1:$1048576,12,FALSE)","v":166.54960414987187},-20.082986468440037]
[23049,{"$f":"VLOOKUP($A994,BasinData!$1:$1048576,2,FALSE)","v":0.37441609773625584},-25.158756660752804,{"$f":"VLOOKUP($A994,BasinData!$1:$1048576,3,FALSE)","v":27.23450759750807},{"$f":"VLOOKUP($A994,BasinData!$1:$1048576,4,FALSE)","v":14.590149976281122},{"$f":"VLOOKUP($A994,BasinData!$1:$1048576,5,FALSE)","v":20.317751153700002},175.96520577881344,{"$f":"VLOOKUP($A994,Sheet1!$1:$1048576,9,FALSE)","v":279.09845703490811},-75.848683755047688,{"$f":"VLOOKUP($A994,Sheet1!$1:$1048576,10,FALSE)","v":261.90950107613753},-68.863458968588716,{"$f":"VLOOKUP($A994,Sheet1!$1:$1048576,11,FALSE)","v":227.53158915859638},-53.400865017394906,{"$f":"VLOOKUP($A994,Sheet1!$1:$1048576,12,FALSE)","v":175.96472128228467},-25.158756660752804]
[23050,{"$f":"VLOOKUP($A995,BasinData!$1:$1048576,2,FALSE)","v":1.0852114273087121},11.68725529687708,{"$f":"VLOOKUP($A995,BasinData!$1:$1048576,3,FALSE)","v":24.373864349394808},{"$f":"VLOOKUP($A995,BasinData!$1:$1048576,4,FALSE)","v":30.24068844964367},{"$f":"VLOOKUP($A995,BasinData!$1:$1048576,5,FALSE)","v":11.328582538499999},105.45414269505694,{"$f":"VLOOKUP($A995,Sheet1!$1:$1048576,9,FALSE)","v":167.26129704779001},-39.00297117699796,{"$f":"VLOOKUP($A995,Sheet1!$1:$1048576,10,FALSE)","v":156.9601040598198},-32.017741403957054,{"$f":"VLOOKUP($A995,Sheet1!$1:$1048576,11,FALSE)","v":136.35771808387935},-16.555119354450067,{"$f":"VLOOKUP($A995,Sheet1!$1:$1048576,12,FALSE)","v":105.45413911996866},11.68725529687708]
[23051,{"$f":"VLOOKUP($A996,BasinData!$1:$1048576,2,FALSE)","v":1.0945720400094698},43.167406305232753,{"$f":"VLOOKUP($A996,BasinData!$1:$1048576,3,FALSE)","v":7.1732217191514103},{"$f":"VLOOKUP($A996,BasinData!$1:$1048576,4,FALSE)","v":19.403988348644411},{"$f":"VLOOKUP($A996,BasinData!$1:$1048576,5,FALSE)","v":3.6484337851899999},144.12351972984223,{"$f":"VLOOKUP($A996,Sheet1!$1:$1048576,9,FALSE)","v":228.5949326101728},-7.5228091035435849,{"$f":"VLOOKUP($A996,Sheet1!$1:$1048576,10,FALSE)","v":214.5163587951161},-0.53782813091369108,{"$f":"VLOOKUP($A996,Sheet1!$1:$1048576,11,FALSE)","v":186.35921116500271},14.924527965719728,{"$f":"VLOOKUP($A996,Sheet1!$1:$1048576,12,FALSE)","v":144.12348971983255},43.167406305232753]
[23052,{"$f":"VLOOKUP($A997,BasinData!$1:$1048576,2,FALSE)","v":0.66826532392613636},32.928863623230797,{"$f":"VLOOKUP($A997,BasinData!$1:$1048576,3,FALSE)","v":8.7745671071403528},{"$f":"VLOOKUP($A997,BasinData!$1:$1048576,4,FALSE)","v":34.677527039658166},{"$f":"VLOOKUP($A997,BasinData!$1:$1048576,5,FALSE)","v":6.1462093319599997},96.070175027107382,{"$f":"VLOOKUP($A997,Sheet1!$1:$1048576,9,FALSE)","v":152.37675113932053},-17.760382419063305,{"$f":"VLOOKUP($A997,Sheet1!$1:$1048576,10,FALSE)","v":142.9922590417998},-10.775930884422896,{"$f":"VLOOKUP($A997,Sheet1!$1:$1048576,11,FALSE)","v":124.22327484675833},4.6868977215938079,{"$f":"VLOOKUP($A997,Sheet1!$1:$1048576,12,FALSE)","v":96.069798554196154},32.928863623230797]
[23053,{"$f":"VLOOKUP($A998,BasinData!$1:$1048576,2,FALSE)","v":0.17011173184357542},-19.504032028995415,{"$f":"VLOOKUP($A998,BasinData!$1:$1048576,3,FALSE)","v":41.457819826596563},{"$f":"VLOOKUP($A998,BasinData!$1:$1048576,4,FALSE)","v":18.085370160266283},{"$f":"VLOOKUP($A998,BasinData!$1:$1048576,5,FALSE)","v":18.938136701000001},161.81239512906907,{"$f":"VLOOKUP($A998,Sheet1!$1:$1048576,9,FALSE)","v":256.65026347167588},-70.193791913500462,{"$f":"VLOOKUP($A998,Sheet1!$1:$1048576,10,FALSE)","v":240.84383400413594},-63.208555903152529,{"$f":"VLOOKUP($A998,Sheet1!$1:$1048576,11,FALSE)","v":209.23097506905609},-47.745972880788962,{"$f":"VLOOKUP($A998,Sheet1!$1:$1048576,12,FALSE)","v":161.81168666643626},-19.504032028995415]
[23054,{"$f":"VLOOKUP($A999,BasinData!$1:$1048576,2,FALSE)","v":0.27715626127751714},32.784257271171654,{"$f":"VLOOKUP($A999,BasinData!$1:$1048576,3,FALSE)","v":11.735107778186693},{"$f":"VLOOKUP($A999,BasinData!$1:$1048576,4,FALSE)","v":29.095095842668655},{"$f":"VLOOKUP($A999,BasinData!$1:$1048576,5,FALSE)","v":6.1814758494399999},116.66012745372106,{"$f":"VLOOKUP($A999,Sheet1!$1:$1048576,9,FALSE)","v":185.03435358470458},-17.905488192410353,{"$f":"VLOOKUP($A999,Sheet1!$1:$1048576,10,FALSE)","v":173.63856376767501},-10.920470917000257,{"$f":"VLOOKUP($A999,Sheet1!$1:$1048576,11,FALSE)","v":150.84698413361588},4.5423450213335075,{"$f":"VLOOKUP($A999,Sheet1!$1:$1048576,12,FALSE)","v":116.65961468252719},32.784257271171654]
[23055,{"$f":"VLOOKUP($A1000,BasinData!$1:$1048576,2,FALSE)","v":0.34931195068939397},25.925505092725025,{"$f":"VLOOKUP($A1000,BasinData!$1:$1048576,3,FALSE)","v":34.963107400822814},{"$f":"VLOOKUP($A1000,BasinData!$1:$1048576,4,FALSE)","v":21.31943621935331},{"$f":"VLOOKUP($A1000,BasinData!$1:$1048576,5,FALSE)","v":7.8548056202899996},145.17207216394053,{"$f":"VLOOKUP($A1000,Sheet1!$1:$1048576,9,FALSE)","v":230.25720992178074},-24.764302363328646,{"$f":"VLOOKUP($A1000,Sheet1!$1:$1048576,10,FALSE)","v":216.07626072348455},-17.779074469510274,{"$f":"VLOOKUP($A1000,Sheet1!$1:$1048576,11,FALSE)","v":187.71436232689223},-2.3164425080347151,{"$f":"VLOOKUP($A1000,Sheet1!$1:$1048576,12,FALSE)","v":145.17151473200369},25.925505092725025]
[23056,{"$f":"VLOOKUP($A1001,BasinData!$1:$1048576,2,FALSE)","v":1.8440057401022729},38.402951268041789,{"$f":"VLOOKUP($A1001,BasinData!$1:$1048576,3,FALSE)","v":20.323564139055733},{"$f":"VLOOKUP($A1001,BasinData!$1:$1048576,4,FALSE)","v":17.776886035313002},{"$f":"VLOOKUP($A1001,BasinData!$1:$1048576,5,FALSE)","v":4.8107255520500001},141.84637301639214,{"$f":"VLOOKUP($A1001,Sheet1!$1:$1048576,9,FALSE)","v":224.98245246144882},-12.286942167468691,{"$f":"VLOOKUP($A1001,Sheet1!$1:$1048576,10,FALSE)","v":211.12636200526853},-5.3016903088054583,{"$f":"VLOOKUP($A1001,Sheet1!$1:$1048576,11,FALSE)","v":183.41418109290794},10.160918887738898,{"$f":"VLOOKUP($A1001,Sheet1!$1:$1048576,12,FALSE)","v":141.845909724367},38.402951268041789]
[23057,{"$f":"VLOOKUP($A1002,BasinData!$1:$1048576,2,FALSE)","v":1.8740413976893939},40.189892266546707,{"$f":"VLOOKUP($A1002,BasinData!$1:$1048576,3,FALSE)","v":100},{"$f":"VLOOKUP($A1002,BasinData!$1:$1048576,4,FALSE)","v":13.553370786516854},{"$f":"VLOOKUP($A1002,BasinData!$1:$1048576,5,FALSE)","v":4.37481811385},159.856953000516,{"$f":"VLOOKUP($A1002,Sheet1!$1:$1048576,9,FALSE)","v":253.5494835989808},-10.500194099547061,{"$f":"VLOOKUP($A1002,Sheet1!$1:$1048576,10,FALSE)","v":237.9340231867192},-3.514949139281883,{"$f":"VLOOKUP($A1002,Sheet1!$1:$1048576,11,FALSE)","v":206.70310236219601},11.947679132840259,{"$f":"VLOOKUP($A1002,Sheet1!$1:$1048576,12,FALSE)","v":159.85672112541121},40.189892266546707]
[23058,{"$f":"VLOOKUP($A1003,BasinData!$1:$1048576,2,FALSE)","v":0.78953611634659093},30.130548484739489,{"$f":"VLOOKUP($A1003,BasinData!$1:$1048576,3,FALSE)","v":9.0060387517077949},{"$f":"VLOOKUP($A1003,BasinData!$1:$1048576,4,FALSE)","v":25.704708212707605},{"$f":"VLOOKUP($A1003,BasinData!$1:$1048576,5,FALSE)","v":6.8290112727199999},123.24851783809035,{"$f":"VLOOKUP($A1003,Sheet1!$1:$1048576,9,FALSE)","v":195.48502882085782},-20.559614947006626,{"$f":"VLOOKUP($A1003,Sheet1!$1:$1048576,10,FALSE)","v":183.4456088014901},-13.57447970502129,{"$f":"VLOOKUP($A1003,Sheet1!$1:$1048576,11,FALSE)","v":159.36676876275459},1.8881779103850926,{"$f":"VLOOKUP($A1003,Sheet1!$1:$1048576,12,FALSE)","v":123.24850870465136},30.130548484739489]
[23059,{"$f":"VLOOKUP($A1004,BasinData!$1:$1048576,2,FALSE)","v":1.3292717197708332},21.472047605770083,{"$f":"VLOOKUP($A1004,BasinData!$1:$1048576,3,FALSE)","v":5.1973224155933639},{"$f":"VLOOKUP($A1004,BasinData!$1:$1048576,4,FALSE)","v":24.745912505523641},{"$f":"VLOOKUP($A1004,BasinData!$1:$1048576,5,FALSE)","v":8.9413973851699993},121.09490154195558,{"$f":"VLOOKUP($A1004,Sheet1!$1:$1048576,9,FALSE)","v":192.0690999438194},-29.218139071699095,{"$f":"VLOOKUP($A1004,Sheet1!$1:$1048576,10,FALSE)","v":180.24005819615368},-22.232906194144039,{"$f":"VLOOKUP($A1004,Sheet1!$1:$1048576,11,FALSE)","v":156.58197470082223},-6.7703159757792974,{"$f":"VLOOKUP($A1004,Sheet1!$1:$1048576,12,FALSE)","v":121.09484945782508},21.472047605770083]
[23060,{"$f":"VLOOKUP($A1005,BasinData!$1:$1048576,2,FALSE)","v":0.25421096643172858},33.883681943514297,{"$f":"VLOOKUP($A1005,BasinData!$1:$1048576,3,FALSE)","v":9.9774824008469842},{"$f":"VLOOKUP($A1005,BasinData!$1:$1048576,4,FALSE)","v":30.257177377596228},{"$f":"VLOOKUP($A1005,BasinData!$1:$1048576,5,FALSE)","v":5.9133248572700001},113.02458141996472,{"$f":"VLOOKUP($A1005,Sheet1!$1:$1048576,9,FALSE)","v":179.26851242953495},-16.806235515407149,{"$f":"VLOOKUP($A1005,Sheet1!$1:$1048576,10,FALSE)","v":168.22782593602207},-9.8214660753647003,{"$f":"VLOOKUP($A1005,Sheet1!$1:$1048576,11,FALSE)","v":146.14645294899634},5.641426770650126,{"$f":"VLOOKUP($A1005,Sheet1!$1:$1048576,12,FALSE)","v":113.02439346845775},33.883681943514297]
[23061,{"$f":"VLOOKUP($A1006,BasinData!$1:$1048576,2,FALSE)","v":1.2693945432424243},44.612911923391508,{"$f":"VLOOKUP($A1006,BasinData!$1:$1048576,3,FALSE)","v":21.352494377155587},{"$f":"VLOOKUP($A1006,BasinData!$1:$1048576,4,FALSE)","v":24.682448036951502},{"$f":"VLOOKUP($A1006,BasinData!$1:$1048576,5,FALSE)","v":3.2957813205800002},121.92888541456296,{"$f":"VLOOKUP($A1006,Sheet1!$1:$1048576,9,FALSE)","v":193.3919597115505},-6.0773190819655856,{"$f":"VLOOKUP($A1006,Sheet1!$1:$1048576,10,FALSE)","v":181.4814464339855},0.90791648207873366,{"$f":"VLOOKUP($A1006,Sheet1!$1:$1048576,11,FALSE)","v":157.66041987885552},16.370545797078677,{"$f":"VLOOKUP($A1006,Sheet1!$1:$1048576,12,FALSE)","v":121.92888004616057},44.612911923391508]
[23062,{"$f":"VLOOKUP($A1007,BasinData!$1:$1048576,2,FALSE)","v":0.25566152742803028},8.3685167435921404,{"$f":"VLOOKUP($A1007,BasinData!$1:$1048576,3,FALSE)","v":28.417860497507469},{"$f":"VLOOKUP($A1007,BasinData!$1:$1048576,4,FALSE)","v":26.30021948659223},{"$f":"VLOOKUP($A1007,BasinData!$1:$1048576,5,FALSE)","v":12.138123070500001},126.70259842953408,{"$f":"VLOOKUP($A1007,Sheet1!$1:$1048576,9,FALSE)","v":200.96263338618601},-42.321199249703277,{"$f":"VLOOKUP($A1007,Sheet1!$1:$1048576,10,FALSE)","v":188.58586179335111},-35.335967853331844,{"$f":"VLOOKUP($A1007,Sheet1!$1:$1048576,11,FALSE)","v":163.83231860768126},-19.873341156519416,{"$f":"VLOOKUP($A1007,Sheet1!$1:$1048576,12,FALSE)","v":126.7020038291765},8.3685167435921404]
[23063,{"$f":"VLOOKUP($A1008,BasinData!$1:$1048576,2,FALSE)","v":4.3028242677824267},23.410526223869557,{"$f":"VLOOKUP($A1008,BasinData!$1:$1048576,3,FALSE)","v":23.461024216507532},{"$f":"VLOOKUP($A1008,BasinData!$1:$1048576,4,FALSE)","v":27.983907018328118},{"$f":"VLOOKUP($A1008,BasinData!$1:$1048576,5,FALSE)","v":8.4683891669599998},85.903205428747427,{"$f":"VLOOKUP($A1008,Sheet1!$1:$1048576,9,FALSE)","v":136.25099651233654},-27.279322049429986,{"$f":"VLOOKUP($A1008,Sheet1!$1:$1048576,10,FALSE)","v":127.85964815709922},-20.294092472224136,{"$f":"VLOOKUP($A1008,Sheet1!$1:$1048576,11,FALSE)","v":111.07695144662453},-4.8316671129976063,{"$f":"VLOOKUP($A1008,Sheet1!$1:$1048576,12,FALSE)","v":85.902906380912512},23.410526223869557]
[23064,{"$f":"VLOOKUP($A1009,BasinData!$1:$1048576,2,FALSE)","v":4.3880762821699684E-2},31.314087849770775,{"$f":"VLOOKUP($A1009,BasinData!$1:$1048576,3,FALSE)","v":16.114058345147139},{"$f":"VLOOKUP($A1009,BasinData!$1:$1048576,4,FALSE)","v":28.300006643194049},{"$f":"VLOOKUP($A1009,BasinData!$1:$1048576,5,FALSE)","v":6.5402447232399998},121.73353252236539,{"$f":"VLOOKUP($A1009,Sheet1!$1:$1048576,9,FALSE)","v":193.08195240285761},-19.376031763782297,{"$f":"VLOOKUP($A1009,Sheet1!$1:$1048576,10,FALSE)","v":181.19053167790872},-12.390913165685353,{"$f":"VLOOKUP($A1009,Sheet1!$1:$1048576,11,FALSE)","v":157.40769022801101},3.0717974885856481,{"$f":"VLOOKUP($A1009,Sheet1!$1:$1048576,12,FALSE)","v":121.73342805316445},31.314087849770775]
[23065,{"$f":"VLOOKUP($A1010,BasinData!$1:$1048576,2,FALSE)","v":0.73141059855303026},29.07832176152866,{"$f":"VLOOKUP($A1010,BasinData!$1:$1048576,3,FALSE)","v":18.253529244404415},{"$f":"VLOOKUP($A1010,BasinData!$1:$1048576,4,FALSE)","v":41.586964222458377},{"$f":"VLOOKUP($A1010,BasinData!$1:$1048576,5,FALSE)","v":7.0857128790899999},78.264054637479532,{"$f":"VLOOKUP($A1010,Sheet1!$1:$1048576,9,FALSE)","v":124.13493288229101},-21.611731049928842,{"$f":"VLOOKUP($A1010,Sheet1!$1:$1048576,10,FALSE)","v":116.48978171618563},-14.626645653414355,{"$f":"VLOOKUP($A1010,Sheet1!$1:$1048576,11,FALSE)","v":101.19947938397486},0.83598717335091388,{"$f":"VLOOKUP($A1010,Sheet1!$1:$1048576,12,FALSE)","v":78.264025885658711},29.07832176152866]
[23066,{"$f":"VLOOKUP($A1011,BasinData!$1:$1048576,2,FALSE)","v":1.5831232442291665},13.65030701440792,{"$f":"VLOOKUP($A1011,BasinData!$1:$1048576,3,FALSE)","v":7.8708295640482469},{"$f":"VLOOKUP($A1011,BasinData!$1:$1048576,4,FALSE)","v":9.7868507955568891},{"$f":"VLOOKUP($A1011,BasinData!$1:$1048576,5,FALSE)","v":10.849654624999999},182.64926847145728,{"$f":"VLOOKUP($A1011,Sheet1!$1:$1048576,9,FALSE)","v":289.70076869386088},-37.039646258354928,{"$f":"VLOOKUP($A1011,Sheet1!$1:$1048576,10,FALSE)","v":271.8588436355725},-30.05466334695712,{"$f":"VLOOKUP($A1011,Sheet1!$1:$1048576,11,FALSE)","v":236.17499351899571},-14.592045222475251,{"$f":"VLOOKUP($A1011,Sheet1!$1:$1048576,12,FALSE)","v":182.6492183441305},13.65030701440792]
[23067,{"$f":"VLOOKUP($A1012,BasinData!$1:$1048576,2,FALSE)","v":0.34274796477820235},29.603913991347554,{"$f":"VLOOKUP($A1012,BasinData!$1:$1048576,3,FALSE)","v":23.46493124718986},{"$f":"VLOOKUP($A1012,BasinData!$1:$1048576,4,FALSE)","v":27.65812431842966},{"$f":"VLOOKUP($A1012,BasinData!$1:$1048576,5,FALSE)","v":6.9574479175299997},120.93835506583045,{"$f":"VLOOKUP($A1012,Sheet1!$1:$1048576,9,FALSE)","v":191.82054564201835},-21.086030725820791,{"$f":"VLOOKUP($A1012,Sheet1!$1:$1048576,10,FALSE)","v":180.00681171436858},-14.100911812431942,{"$f":"VLOOKUP($A1012,Sheet1!$1:$1048576,11,FALSE)","v":156.37934385906905},1.3617308464842175,{"$f":"VLOOKUP($A1012,Sheet1!$1:$1048576,12,FALSE)","v":120.93814207611976},29.603913991347554]
[23068,{"$f":"VLOOKUP($A1013,BasinData!$1:$1048576,2,FALSE)","v":0.68981723237597914},39.54063135516764,{"$f":"VLOOKUP($A1013,BasinData!$1:$1048576,3,FALSE)","v":9.4866353810510979},{"$f":"VLOOKUP($A1013,BasinData!$1:$1048576,4,FALSE)","v":26.810775931601871},{"$f":"VLOOKUP($A1013,BasinData!$1:$1048576,5,FALSE)","v":4.5332024736300003},120.37546468937389,{"$f":"VLOOKUP($A1013,Sheet1!$1:$1048576,9,FALSE)","v":190.92770083932285},-11.14939810676278,{"$f":"VLOOKUP($A1013,Sheet1!$1:$1048576,10,FALSE)","v":179.16895492613435},-4.1641508393408841,{"$f":"VLOOKUP($A1013,Sheet1!$1:$1048576,11,FALSE)","v":155.65146309975734},11.2984806604735,{"$f":"VLOOKUP($A1013,Sheet1!$1:$1048576,12,FALSE)","v":120.37522536019182},39.54063135516764]
[23069,{"$f":"VLOOKUP($A1014,BasinData!$1:$1048576,2,FALSE)","v":1.1190140845070422},47.034522266128697,{"$f":"VLOOKUP($A1014,BasinData!$1:$1048576,3,FALSE)","v":4.6415561237655041},{"$f":"VLOOKUP($A1014,BasinData!$1:$1048576,4,FALSE)","v":35.156039212159371},{"$f":"VLOOKUP($A1014,BasinData!$1:$1048576,5,FALSE)","v":2.7048362521399998},91.230451451497203,{"$f":"VLOOKUP($A1014,Sheet1!$1:$1048576,9,FALSE)","v":144.70022410062165},-3.6550908191595273,{"$f":"VLOOKUP($A1014,Sheet1!$1:$1048576,10,FALSE)","v":135.78850955474465},3.3299489030619815,{"$f":"VLOOKUP($A1014,Sheet1!$1:$1048576,11,FALSE)","v":117.96508046299064},18.792767645343606,{"$f":"VLOOKUP($A1014,Sheet1!$1:$1048576,12,FALSE)","v":91.229936825359658},47.034522266128697]
[23070,{"$f":"VLOOKUP($A1015,BasinData!$1:$1048576,2,FALSE)","v":1.0636122679450757},22.916713644976568,{"$f":"VLOOKUP($A1015,BasinData!$1:$1048576,3,FALSE)","v":28.212302926363449},{"$f":"VLOOKUP($A1015,BasinData!$1:$1048576,4,FALSE)","v":27.178691492112751},{"$f":"VLOOKUP($A1015,BasinData!$1:$1048576,5,FALSE)","v":8.5888963812100005},115.42078565499291,{"$f":"VLOOKUP($A1015,Sheet1!$1:$1048576,9,FALSE)","v":183.06902802896644},-27.773269759609249,{"$f":"VLOOKUP($A1015,Sheet1!$1:$1048576,10,FALSE)","v":171.79427755690898},-20.788039576357743,{"$f":"VLOOKUP($A1015,Sheet1!$1:$1048576,11,FALSE)","v":149.24477661279406},-5.3254978492457168,{"$f":"VLOOKUP($A1015,Sheet1!$1:$1048576,12,FALSE)","v":115.42052519662167},22.916713644976568]
[23071,{"$f":"VLOOKUP($A1016,BasinData!$1:$1048576,2,FALSE)","v":8.4258486812552144E-2},-17.359169399570998,{"$f":"VLOOKUP($A1016,BasinData!$1:$1048576,3,FALSE)","v":40.524335127956412},{"$f":"VLOOKUP($A1016,BasinData!$1:$1048576,4,FALSE)","v":19.449304023731649},{"$f":"VLOOKUP($A1016,BasinData!$1:$1048576,5,FALSE)","v":18.4148386665},156.68420711815412,{"$f":"VLOOKUP($A1016,Sheet1!$1:$1048576,9,FALSE)","v":248.51626584567126},-68.048842829441426,{"$f":"VLOOKUP($A1016,Sheet1!$1:$1048576,10,FALSE)","v":233.21078836635621},-61.063609064683511,{"$f":"VLOOKUP($A1016,Sheet1!$1:$1048576,11,FALSE)","v":202.59983340772612},-45.601030654284905,{"$f":"VLOOKUP($A1016,Sheet1!$1:$1048576,12,FALSE)","v":156.68340096978102},-17.359169399570998]
[23072,{"$f":"VLOOKUP($A1017,BasinData!$1:$1048576,2,FALSE)","v":0.11575967285309846},27.253280906753893,{"$f":"VLOOKUP($A1017,BasinData!$1:$1048576,3,FALSE)","v":21.750868960967672},{"$f":"VLOOKUP($A1017,BasinData!$1:$1048576,4,FALSE)","v":26.55438347664214},{"$f":"VLOOKUP($A1017,BasinData!$1:$1048576,5,FALSE)","v":7.5309733235899996},127.26154061625969,{"$f":"VLOOKUP($A1017,Sheet1!$1:$1048576,9,FALSE)","v":201.85011230905971},-23.436527722781001,{"$f":"VLOOKUP($A1017,Sheet1!$1:$1048576,10,FALSE)","v":189.41868317249748},-16.451718071081956,{"$f":"VLOOKUP($A1017,Sheet1!$1:$1048576,11,FALSE)","v":164.55582489937299},-0.98908739115667332,{"$f":"VLOOKUP($A1017,Sheet1!$1:$1048576,12,FALSE)","v":127.26153748968628},27.253280906753893]
[23073,{"$f":"VLOOKUP($A1018,BasinData!$1:$1048576,2,FALSE)","v":1.3526310736590907},54.661565097892634,{"$f":"VLOOKUP($A1018,BasinData!$1:$1048576,3,FALSE)","v":5.198943390968684},{"$f":"VLOOKUP($A1018,BasinData!$1:$1048576,4,FALSE)","v":35.593220338983052},{"$f":"VLOOKUP($A1018,BasinData!$1:$1048576,5,FALSE)","v":0.84420214124799997},88.334075551855918,{"$f":"VLOOKUP($A1018,Sheet1!$1:$1048576,9,FALSE)","v":140.1069165385733},3.971467825343312,{"$f":"VLOOKUP($A1018,Sheet1!$1:$1048576,10,FALSE)","v":131.47809198867813},10.956613832375604,{"$f":"VLOOKUP($A1018,Sheet1!$1:$1048576,11,FALSE)","v":114.22044288888776},26.41930240078042,{"$f":"VLOOKUP($A1018,Sheet1!$1:$1048576,12,FALSE)","v":88.333969239202219},54.661565097892634]
[23074,{"$f":"VLOOKUP($A1019,BasinData!$1:$1048576,2,FALSE)","v":1.2988350590492423},52.899946724106883,{"$f":"VLOOKUP($A1019,BasinData!$1:$1048576,3,FALSE)","v":4.7354325074265313},{"$f":"VLOOKUP($A1019,BasinData!$1:$1048576,4,FALSE)","v":45.166352793471439},{"$f":"VLOOKUP($A1019,BasinData!$1:$1048576,5,FALSE)","v":1.2739636077100001},67.287999117951699,{"$f":"VLOOKUP($A1019,Sheet1!$1:$1048576,9,FALSE)","v":106.72561104042575},2.2099177294692933,{"$f":"VLOOKUP($A1019,Sheet1!$1:$1048576,10,FALSE)","v":100.15265521925721},9.1951465853404013,{"$f":"VLOOKUP($A1019,Sheet1!$1:$1048576,11,FALSE)","v":87.006743576920144},24.65732686705859,{"$f":"VLOOKUP($A1019,Sheet1!$1:$1048576,12,FALSE)","v":67.287876113414512},52.899946724106883]
[23075,{"$f":"VLOOKUP($A1020,BasinData!$1:$1048576,2,FALSE)","v":0.37302325581395346},31.365382006921998,{"$f":"VLOOKUP($A1020,BasinData!$1:$1048576,3,FALSE)","v":20.929171643037776},{"$f":"VLOOKUP($A1020,BasinData!$1:$1048576,4,FALSE)","v":29.654561558901683},{"$f":"VLOOKUP($A1020,BasinData!$1:$1048576,5,FALSE)","v":6.52773333806},113.86798917196438,{"$f":"VLOOKUP($A1020,Sheet1!$1:$1048576,9,FALSE)","v":180.6064069290756},-19.324749885508616,{"$f":"VLOOKUP($A1020,Sheet1!$1:$1048576,10,FALSE)","v":169.48332295520973},-12.339633463749735,{"$f":"VLOOKUP($A1020,Sheet1!$1:$1048576,11,FALSE)","v":147.23715500747801},3.1230801136772297,{"$f":"VLOOKUP($A1020,Sheet1!$1:$1048576,12,FALSE)","v":113.86790308588041},31.365382006921998]
[23076,{"$f":"VLOOKUP($A1021,BasinData!$1:$1048576,2,FALSE)","v":0.18567518248175183},-5.0044369580078927,{"$f":"VLOOKUP($A1021,BasinData!$1:$1048576,3,FALSE)","v":34.975924800984373},{"$f":"VLOOKUP($A1021,BasinData!$1:$1048576,4,FALSE)","v":21.68214069986843},{"$f":"VLOOKUP($A1021,BasinData!$1:$1048576,5,FALSE)","v":15.4008162528},145.64604785956112,{"$f":"VLOOKUP($A1021,Sheet1!$1:$1048576,9,FALSE)","v":231.00984233786889},-55.69465926822015,{"$f":"VLOOKUP($A1021,Sheet1!$1:$1048576,10,FALSE)","v":216.78254044529154},-48.709521243919696,{"$f":"VLOOKUP($A1021,Sheet1!$1:$1048576,11,FALSE)","v":188.32793666013688},-33.246883223869091,{"$f":"VLOOKUP($A1021,Sheet1!$1:$1048576,12,FALSE)","v":145.64603098240488},-5.0044369580078927]
[23077,{"$f":"VLOOKUP($A1022,BasinData!$1:$1048576,2,FALSE)","v":4.4617784711388456E-2},0.65540740963097588,{"$f":"VLOOKUP($A1022,BasinData!$1:$1048576,3,FALSE)","v":31.933556166691037},{"$f":"VLOOKUP($A1022,BasinData!$1:$1048576,4,FALSE)","v":23.123144917225499},{"$f":"VLOOKUP($A1022,BasinData!$1:$1048576,5,FALSE)","v":14.0199756543},{"$f":"EXP(6.1523-(0.084*B1022)-(0.0091*C1022)-(0.0289*E1022)-(0.0373*F1022))","v":141.37047383973507},{"$f":"VLOOKUP($A1022,Sheet1!$1:$1048576,9,FALSE)","v":224.22816264067581},-50.034727369336821,{"$f":"VLOOKUP($A1022,Sheet1!$1:$1048576,10,FALSE)","v":210.41852695406735},-43.049785667366237,{"$f":"VLOOKUP($A1022,Sheet1!$1:$1048576,11,FALSE)","v":182.79925558085046},-27.586864253810944,{"$f":"VLOOKUP($A1022,Sheet1!$1:$1048576,12,FALSE)","v":141.37034852102511},0.65540740963097588]
[23078,{"$f":"VLOOKUP($A1023,BasinData!$1:$1048576,2,FALSE)","v":0.91395359534280296},35.49714762184545,{"$f":"VLOOKUP($A1023,BasinData!$1:$1048576,3,FALSE)","v":6.9886307006704795},{"$f":"VLOOKUP($A1023,BasinData!$1:$1048576,4,FALSE)","v":23.079004329004331},{"$f":"VLOOKUP($A1023,BasinData!$1:$1048576,5,FALSE)","v":5.5197304331800003},131.58258592882365,{"$f":"VLOOKUP($A1023,Sheet1!$1:$1048576,9,FALSE)","v":208.70370602145366},-15.193067073405185,{"$f":"VLOOKUP($A1023,Sheet1!$1:$1048576,10,FALSE)","v":195.85018167973266},-8.208391854235499,{"$f":"VLOOKUP($A1023,Sheet1!$1:$1048576,11,FALSE)","v":170.14313299629063},7.2547995721120522,{"$f":"VLOOKUP($A1023,Sheet1!$1:$1048576,12,FALSE)","v":131.58255997112761},35.49714762184545]
[23079,{"$f":"VLOOKUP($A1024,BasinData!$1:$1048576,2,FALSE)","v":1.8518518518518517E-2},2.0016002357289757,{"$f":"VLOOKUP($A1024,BasinData!$1:$1048576,3,FALSE)","v":30.18194916878452},{"$f":"VLOOKUP($A1024,BasinData!$1:$1048576,4,FALSE)","v":23.490307717368538},{"$f":"VLOOKUP($A1024,BasinData!$1:$1048576,5,FALSE)","v":13.6915379418},140.18537081446496,{"$f":"VLOOKUP($A1024,Sheet1!$1:$1048576,9,FALSE)","v":222.34838422128709},-48.688416028675142,{"$f":"VLOOKUP($A1024,Sheet1!$1:$1048576,10,FALSE)","v":208.65451925160195},-41.70361345930008,{"$f":"VLOOKUP($A1024,Sheet1!$1:$1048576,11,FALSE)","v":181.26678931223168},-26.240630893760613,{"$f":"VLOOKUP($A1024,Sheet1!$1:$1048576,12,FALSE)","v":140.18519440317627},2.0016002357289757]
[23080,{"$f":"VLOOKUP($A1025,BasinData!$1:$1048576,2,FALSE)","v":0.16187050359712229},1.6343540255131599,{"$f":"VLOOKUP($A1025,BasinData!$1:$1048576,3,FALSE)","v":30.812598602976152},{"$f":"VLOOKUP($A1025,BasinData!$1:$1048576,4,FALSE)","v":23.339477556445107},{"$f":"VLOOKUP($A1025,BasinData!$1:$1048576,5,FALSE)","v":13.7811371763},139.1124971772509,{"$f":"VLOOKUP($A1025,Sheet1!$1:$1048576,9,FALSE)","v":220.64672100937489},-49.055431374687466,{"$f":"VLOOKUP($A1025,Sheet1!$1:$1048576,10,FALSE)","v":207.05765709920462},-42.070854377492623,{"$f":"VLOOKUP($A1025,Sheet1!$1:$1048576,11,FALSE)","v":179.87952927886403},-26.607889188186036,{"$f":"VLOOKUP($A1025,Sheet1!$1:$1048576,12,FALSE)","v":139.1123375483532},1.6343540255131599]
[23081,{"$f":"VLOOKUP($A1026,BasinData!$1:$1048576,2,FALSE)","v":1.048410335844697},32.850508436354048,{"$f":"VLOOKUP($A1026,BasinData!$1:$1048576,3,FALSE)","v":9.0789930888811146},{"$f":"VLOOKUP($A1026,BasinData!$1:$1048576,4,FALSE)","v":31.308314327182252},{"$f":"VLOOKUP($A1026,BasinData!$1:$1048576,5,FALSE)","v":6.1653186875400001},102.5671015766692,{"$f":"VLOOKUP($A1026,Sheet1!$1:$1048576,9,FALSE)","v":162.68147476375711},-17.839261721503185,{"$f":"VLOOKUP($A1026,Sheet1!$1:$1048576,10,FALSE)","v":152.66234124818803},-10.854250694238891,{"$f":"VLOOKUP($A1026,Sheet1!$1:$1048576,11,FALSE)","v":132.62407421704984},4.6085710549710948,{"$f":"VLOOKUP($A1026,Sheet1!$1:$1048576,12,FALSE)","v":102.56667367034258},32.850508436354048]
[23082,{"$f":"VLOOKUP($A1027,BasinData!$1:$1048576,2,FALSE)","v":0.42589464338825755},15.713183762635246,{"$f":"VLOOKUP($A1027,BasinData!$1:$1048576,3,FALSE)","v":75.353769278022156},{"$f":"VLOOKUP($A1027,BasinData!$1:$1048576,4,FALSE)","v":36.213572447523944},{"$f":"VLOOKUP($A1027,BasinData!$1:$1048576,5,FALSE)","v":10.3463578075},93.788616348974145,{"$f":"VLOOKUP($A1027,Sheet1!$1:$1048576,9,FALSE)","v":148.75839873472046},-34.976925953655069,{"$f":"VLOOKUP($A1027,Sheet1!$1:$1048576,10,FALSE)","v":139.59675165320854},-27.991699584615905,{"$f":"VLOOKUP($A1027,Sheet1!$1:$1048576,11,FALSE)","v":121.27345749018474},-12.52908673273155,{"$f":"VLOOKUP($A1027,Sheet1!$1:$1048576,12,FALSE)","v":93.788516245649021},15.713183762635246]
[23083,{"$f":"VLOOKUP($A1028,BasinData!$1:$1048576,2,FALSE)","v":0.64707347135227267},23.926875711294837,{"$f":"VLOOKUP($A1028,BasinData!$1:$1048576,3,FALSE)","v":34.733685094729211},{"$f":"VLOOKUP($A1028,BasinData!$1:$1048576,4,FALSE)","v":40.865533230293664},{"$f":"VLOOKUP($A1028,BasinData!$1:$1048576,5,FALSE)","v":8.3423696099499995},80.481469278470072,{"$f":"VLOOKUP($A1028,Sheet1!$1:$1048576,9,FALSE)","v":127.65136242279931},-26.762779891560029,{"$f":"VLOOKUP($A1028,Sheet1!$1:$1048576,10,FALSE)","v":119.78964340767727},-19.777550824052746,{"$f":"VLOOKUP($A1028,Sheet1!$1:$1048576,11,FALSE)","v":104.06620537743321},-4.3153008248982303,{"$f":"VLOOKUP($A1028,Sheet1!$1:$1048576,12,FALSE)","v":80.48104833206709},23.926875711294837]
[23084,{"$f":"VLOOKUP($A1029,BasinData!$1:$1048576,2,FALSE)","v":0.89129968191098474},28.892748409951341,{"$f":"VLOOKUP($A1029,BasinData!$1:$1048576,3,FALSE)","v":14.62759100262468},{"$f":"VLOOKUP($A1029,BasinData!$1:$1048576,4,FALSE)","v":17.88424019076523},{"$f":"VLOOKUP($A1029,BasinData!$1:$1048576,5,FALSE)","v":7.1309379918399998},153.18836188000606,{"$f":"VLOOKUP($A1029,Sheet1!$1:$1048576,9,FALSE)","v":242.97223654170369},-21.797085185781391,{"$f":"VLOOKUP($A1029,Sheet1!$1:$1048576,10,FALSE)","v":228.00820156462404},-14.812016103884627,{"$f":"VLOOKUP($A1029,Sheet1!$1:$1048576,11,FALSE)","v":198.08013161046472},0.65061444546713776,{"$f":"VLOOKUP($A1029,Sheet1!$1:$1048576,12,FALSE)","v":153.18802667922574},28.892748409951341]
[23085,{"$f":"VLOOKUP($A1030,BasinData!$1:$1048576,2,FALSE)","v":2.6706283566058002},8.5565880682723847,{"$f":"VLOOKUP($A1030,BasinData!$1:$1048576,3,FALSE)","v":22.928940926953082},{"$f":"VLOOKUP($A1030,BasinData!$1:$1048576,4,FALSE)","v":23.50134838816199},{"$f":"VLOOKUP($A1030,BasinData!$1:$1048576,5,FALSE)","v":12.092235539400001},112.1539984004703,{"$f":"VLOOKUP($A1030,Sheet1!$1:$1048576,9,FALSE)","v":177.88711226072482},-42.133117640530763,{"$f":"VLOOKUP($A1030,Sheet1!$1:$1048576,10,FALSE)","v":166.93150264981239},-35.147879407876218,{"$f":"VLOOKUP($A1030,Sheet1!$1:$1048576,11,FALSE)","v":145.02028342798747},-19.68525291717042,{"$f":"VLOOKUP($A1030,Sheet1!$1:$1048576,12,FALSE)","v":112.15345459525011},8.5565880682723847]
[23086,{"$f":"VLOOKUP($A1031,BasinData!$1:$1048576,2,FALSE)","v":1.4997744759883258},5.6450948355178738,{"$f":"VLOOKUP($A1031,BasinData!$1:$1048576,3,FALSE)","v":46.071042916995445},{"$f":"VLOOKUP($A1031,BasinData!$1:$1048576,4,FALSE)","v":34.564670357322598},{"$f":"VLOOKUP($A1031,BasinData!$1:$1048576,5,FALSE)","v":12.802600480700001},89.881542573335992,{"$f":"VLOOKUP($A1031,Sheet1!$1:$1048576,9,FALSE)","v":142.5611270353279},-45.044825278555834,{"$f":"VLOOKUP($A1031,Sheet1!$1:$1048576,10,FALSE)","v":133.78115397465112},-38.060143542110964,{"$f":"VLOOKUP($A1031,Sheet1!$1:$1048576,11,FALSE)","v":116.22120785329756},-22.596965915822302,{"$f":"VLOOKUP($A1031,Sheet1!$1:$1048576,12,FALSE)","v":89.881288671267242},5.6450948355178738]
[23087,{"$f":"VLOOKUP($A1032,BasinData!$1:$1048576,2,FALSE)","v":1.1960482155518788},14.773548018945601,{"$f":"VLOOKUP($A1032,BasinData!$1:$1048576,3,FALSE)","v":30.39077895714702},{"$f":"VLOOKUP($A1032,BasinData!$1:$1048576,4,FALSE)","v":32.04534089014836},{"$f":"VLOOKUP($A1032,BasinData!$1:$1048576,5,FALSE)","v":10.5756109155},99.167667038293075,{"$f":"VLOOKUP($A1032,Sheet1!$1:$1048576,9,FALSE)","v":157.29019843842056},-35.91657287500383,{"$f":"VLOOKUP($A1032,Sheet1!$1:$1048576,10,FALSE)","v":147.60309976210601},-28.93138534587586,{"$f":"VLOOKUP($A1032,Sheet1!$1:$1048576,11,FALSE)","v":128.22890240947689},-13.468769934636688,{"$f":"VLOOKUP($A1032,Sheet1!$1:$1048576,12,FALSE)","v":99.167606380533201},14.773548018945601]
[23088,{"$f":"VLOOKUP($A1033,BasinData!$1:$1048576,2,FALSE)","v":0.9318049261083744},7.6356600290495322,{"$f":"VLOOKUP($A1033,BasinData!$1:$1048576,3,FALSE)","v":22.406867946717981},{"$f":"VLOOKUP($A1033,BasinData!$1:$1048576,4,FALSE)","v":23.472312942526628},{"$f":"VLOOKUP($A1033,BasinData!$1:$1048576,5,FALSE)","v":12.3169318745},129.90098117843073,{"$f":"VLOOKUP($A1033,Sheet1!$1:$1048576,9,FALSE)","v":206.03569713905534},-43.05411083998397,{"$f":"VLOOKUP($A1033,Sheet1!$1:$1048576,10,FALSE)","v":193.34648860066898},-36.06888743346871,{"$f":"VLOOKUP($A1033,Sheet1!$1:$1048576,11,FALSE)","v":167.96807152389627},-20.606259991161483,{"$f":"VLOOKUP($A1033,Sheet1!$1:$1048576,12,FALSE)","v":129.9004459087372},7.6356600290495322]
[23089,{"$f":"VLOOKUP($A1034,BasinData!$1:$1048576,2,FALSE)","v":0.52007182606250002},41.637574850221114,{"$f":"VLOOKUP($A1034,BasinData!$1:$1048576,3,FALSE)","v":6.2271874613409448},{"$f":"VLOOKUP($A1034,BasinData!$1:$1048576,4,FALSE)","v":28.819226750261233},{"$f":"VLOOKUP($A1034,BasinData!$1:$1048576,5,FALSE)","v":4.0216518426999999},115.218320606335,{"$f":"VLOOKUP($A1034,Sheet1!$1:$1048576,9,FALSE)","v":182.74819326756534},-9.0525963797491986,{"$f":"VLOOKUP($A1034,Sheet1!$1:$1048576,10,FALSE)","v":171.49320218308154},-2.0673815037245769,{"$f":"VLOOKUP($A1034,Sheet1!$1:$1048576,11,FALSE)","v":148.98322001411395},13.39527617815725,{"$f":"VLOOKUP($A1034,Sheet1!$1:$1048576,12,FALSE)","v":115.21824676066259},41.637574850221114]
[23090,{"$f":"VLOOKUP($A1035,BasinData!$1:$1048576,2,FALSE)","v":0.75720153368560605},46.016342511668817,{"$f":"VLOOKUP($A1035,BasinData!$1:$1048576,3,FALSE)","v":5.3309844250947434},{"$f":"VLOOKUP($A1035,BasinData!$1:$1048576,4,FALSE)","v":19.218955682316803},{"$f":"VLOOKUP($A1035,BasinData!$1:$1048576,5,FALSE)","v":2.9532121010300001},149.06220823193487,{"$f":"VLOOKUP($A1035,Sheet1!$1:$1048576,9,FALSE)","v":236.42668281811828},-4.6731599052503485,{"$f":"VLOOKUP($A1035,Sheet1!$1:$1048576,10,FALSE)","v":221.86577165575181},2.3120734125861206,{"$f":"VLOOKUP($A1035,Sheet1!$1:$1048576,11,FALSE)","v":192.74394933101885},17.774576816379383,{"$f":"VLOOKUP($A1035,Sheet1!$1:$1048576,12,FALSE)","v":149.06121584391943},46.016342511668817]
[23091,{"$f":"VLOOKUP($A1036,BasinData!$1:$1048576,2,FALSE)","v":0.48107152235037876},37.034636659163318,{"$f":"VLOOKUP($A1036,BasinData!$1:$1048576,3,FALSE)","v":11.808769309638269},{"$f":"VLOOKUP($A1036,BasinData!$1:$1048576,4,FALSE)","v":33.788095500055007},{"$f":"VLOOKUP($A1036,BasinData!$1:$1048576,5,FALSE)","v":5.1444901206300004},100.13400681750075,{"$f":"VLOOKUP($A1036,Sheet1!$1:$1048576,9,FALSE)","v":158.82213541213864},-13.655016567528444,{"$f":"VLOOKUP($A1036,Sheet1!$1:$1048576,10,FALSE)","v":149.04068867868108},-6.66975810430678,{"$f":"VLOOKUP($A1036,Sheet1!$1:$1048576,11,FALSE)","v":129.47779521176597},8.7928663069781177,{"$f":"VLOOKUP($A1036,Sheet1!$1:$1048576,12,FALSE)","v":100.13345501139329},37.034636659163318]
[23092,{"$f":"VLOOKUP($A1037,BasinData!$1:$1048576,2,FALSE)","v":0.42990030811742425},19.166780942112048,{"$f":"VLOOKUP($A1037,BasinData!$1:$1048576,3,FALSE)","v":6.0592718394965095},{"$f":"VLOOKUP($A1037,BasinData!$1:$1048576,4,FALSE)","v":33.577757409104798},{"$f":"VLOOKUP($A1037,BasinData!$1:$1048576,5,FALSE)","v":9.5036864446999996},101.17846866955844,{"$f":"VLOOKUP($A1037,Sheet1!$1:$1048576,9,FALSE)","v":160.47883804449896},-31.522915220253768,{"$f":"VLOOKUP($A1037,Sheet1!$1:$1048576,10,FALSE)","v":150.59535925795535},-24.537673246764871,{"$f":"VLOOKUP($A1037,Sheet1!$1:$1048576,11,FALSE)","v":130.82840168486814},-9.075072391654917,{"$f":"VLOOKUP($A1037,Sheet1!$1:$1048576,12,FALSE)","v":101.1779653252373},19.166780942112048]
[23093,{"$f":"VLOOKUP($A1038,BasinData!$1:$1048576,2,FALSE)","v":2.3204299123106056},43.549734922476937,{"$f":"VLOOKUP($A1038,BasinData!$1:$1048576,3,FALSE)","v":19.963958029360001},{"$f":"VLOOKUP($A1038,BasinData!$1:$1048576,4,FALSE)","v":28.935698447893571},{"$f":"VLOOKUP($A1038,BasinData!$1:$1048576,5,FALSE)","v":3.5551595443799999},98.714531385773554,{"$f":"VLOOKUP($A1038,Sheet1!$1:$1048576,9,FALSE)","v":156.5715510825386},-7.140486504939485,{"$f":"VLOOKUP($A1038,Sheet1!$1:$1048576,10,FALSE)","v":146.92871204807722},-0.15560673612024314,{"$f":"VLOOKUP($A1038,Sheet1!$1:$1048576,11,FALSE)","v":127.64303397915448},15.307360086443481,{"$f":"VLOOKUP($A1038,Sheet1!$1:$1048576,12,FALSE)","v":98.714516875770357},43.549734922476937]
[23094,{"$f":"VLOOKUP($A1039,BasinData!$1:$1048576,2,FALSE)","v":0.91531629107575752},38.829485335664302,{"$f":"VLOOKUP($A1039,BasinData!$1:$1048576,3,FALSE)","v":5.2007162174254153},{"$f":"VLOOKUP($A1039,BasinData!$1:$1048576,4,FALSE)","v":20.688762299326775},{"$f":"VLOOKUP($A1039,BasinData!$1:$1048576,5,FALSE)","v":4.70667928668},140.97756259045167,{"$f":"VLOOKUP($A1039,Sheet1!$1:$1048576,9,FALSE)","v":223.60455220921278},-11.860465069664624,{"$f":"VLOOKUP($A1039,Sheet1!$1:$1048576,10,FALSE)","v":209.83332308477503},-4.8752150199166424,{"$f":"VLOOKUP($A1039,Sheet1!$1:$1048576,11,FALSE)","v":182.29086483589947},10.587386439968199,{"$f":"VLOOKUP($A1039,Sheet1!$1:$1048576,12,FALSE)","v":140.9771774625861},38.829485335664302]
[23095,{"$f":"VLOOKUP($A1040,BasinData!$1:$1048576,2,FALSE)","v":0.34914155446320438},10.862793010638612,{"$f":"VLOOKUP($A1040,BasinData!$1:$1048576,3,FALSE)","v":26.7114791065841},{"$f":"VLOOKUP($A1040,BasinData!$1:$1048576,4,FALSE)","v":25.988785609453203},{"$f":"VLOOKUP($A1040,BasinData!$1:$1048576,5,FALSE)","v":11.5297255216},126.84755700848002,{"$f":"VLOOKUP($A1040,Sheet1!$1:$1048576,9,FALSE)","v":201.19349445977713},-39.827438191912485,{"$f":"VLOOKUP($A1040,Sheet1!$1:$1048576,10,FALSE)","v":188.80250472733402},-32.84220656329417,{"$f":"VLOOKUP($A1040,Sheet1!$1:$1048576,11,FALSE)","v":164.02052526244782},-17.379583144440719,{"$f":"VLOOKUP($A1040,Sheet1!$1:$1048576,12,FALSE)","v":126.8475560651185},10.862793010638612]
[23096,{"$f":"VLOOKUP($A1041,BasinData!$1:$1048576,2,FALSE)","v":0.40424817632954541},-25.508697569026662,{"$f":"VLOOKUP($A1041,BasinData!$1:$1048576,3,FALSE)","v":100},{"$f":"VLOOKUP($A1041,BasinData!$1:$1048576,4,FALSE)","v":15.937445088736602},{"$f":"VLOOKUP($A1041,BasinData!$1:$1048576,5,FALSE)","v":20.403127715030401},168.82175838353993,{"$f":"VLOOKUP($A1041,Sheet1!$1:$1048576,9,FALSE)","v":267.76825568023548},-76.198633708361953,{"$f":"VLOOKUP($A1041,Sheet1!$1:$1048576,10,FALSE)","v":251.27709767476966},-69.213409041630413,{"$f":"VLOOKUP($A1041,Sheet1!$1:$1048576,11,FALSE)","v":218.29478166383802},-53.750814470391326,{"$f":"VLOOKUP($A1041,Sheet1!$1:$1048576,12,FALSE)","v":168.82130764744051},-25.508697569026662]
[24001,{"$f":"VLOOKUP($A1042,BasinData!$1:$1048576,2,FALSE)","v":5.1585205739772726E-3},23.336818771846236,{"$f":"VLOOKUP($A1042,BasinData!$1:$1048576,3,FALSE)","v":100},{"$f":"VLOOKUP($A1042,BasinData!$1:$1048576,4,FALSE)","v":27.566693613581243},{"$f":"VLOOKUP($A1042,BasinData!$1:$1048576,5,FALSE)","v":8.4863769999999992},124.74633131660735,{"$f":"VLOOKUP($A1042,Sheet1!$1:$1048576,9,FALSE)","v":197.86008461212381},-27.353052473186356,{"$f":"VLOOKUP($A1042,Sheet1!$1:$1048576,10,FALSE)","v":185.67439101665175},-20.367822813467107,{"$f":"VLOOKUP($A1042,Sheet1!$1:$1048576,11,FALSE)","v":161.30300382570761},-4.9053769517128103,{"$f":"VLOOKUP($A1042,Sheet1!$1:$1048576,12,FALSE)","v":124.74592303929143},23.336818771846236]
[24002,{"$f":"VLOOKUP($A1043,BasinData!$1:$1048576,2,FALSE)","v":0.17915106117353308},-31.570924691240183,{"$f":"VLOOKUP($A1043,BasinData!$1:$1048576,3,FALSE)","v":3.0436254020993792},{"$f":"VLOOKUP($A1043,BasinData!$1:$1048576,4,FALSE)","v":34.94142705005325},{"$f":"VLOOKUP($A1043,BasinData!$1:$1048576,5,FALSE)","v":21.882147641154599},99.338715255104603,{"$f":"VLOOKUP($A1043,Sheet1!$1:$1048576,9,FALSE)","v":157.5613597020614},-82.260979258631181,{"$f":"VLOOKUP($A1043,Sheet1!$1:$1048576,10,FALSE)","v":147.85756090110993},-75.275765304620293,{"$f":"VLOOKUP($A1043,Sheet1!$1:$1048576,11,FALSE)","v":128.44996329920704},-59.813160970218028,{"$f":"VLOOKUP($A1043,Sheet1!$1:$1048576,12,FALSE)","v":99.338566896352688},-31.570924691240183]
[24004,{"$f":"VLOOKUP($A1044,BasinData!$1:$1048576,2,FALSE)","v":5.203057612973485E-3},-7.2492980406602285,{"$f":"VLOOKUP($A1044,BasinData!$1:$1048576,3,FALSE)","v":2.6463520272845842},{"$f":"VLOOKUP($A1044,BasinData!$1:$1048576,4,FALSE)","v":24.543738200125865},{"$f":"VLOOKUP($A1044,BasinData!$1:$1048576,5,FALSE)","v":15.948492423730601},136.13387192133678,{"$f":"VLOOKUP($A1044,Sheet1!$1:$1048576,9,FALSE)","v":215.92255632637585},-57.939478079529685,{"$f":"VLOOKUP($A1044,Sheet1!$1:$1048576,10,FALSE)","v":202.62444156562307},-50.95434382684428,{"$f":"VLOOKUP($A1044,Sheet1!$1:$1048576,11,FALSE)","v":176.02821204411757},-35.491747067547308,{"$f":"VLOOKUP($A1044,Sheet1!$1:$1048576,12,FALSE)","v":136.13386776185928},-7.2492980406602285]
[24005,{"$f":"VLOOKUP($A1045,BasinData!$1:$1048576,2,FALSE)","v":0.47235150994704456},-31.947412075637018,{"$f":"VLOOKUP($A1045,BasinData!$1:$1048576,3,FALSE)","v":45.17409245922029},{"$f":"VLOOKUP($A1045,BasinData!$1:$1048576,4,FALSE)","v":25.37268238144042},{"$f":"VLOOKUP($A1045,BasinData!$1:$1048576,5,FALSE)","v":21.974},127.79701721931914,{"$f":"VLOOKUP($A1045,Sheet1!$1:$1048576,9,FALSE)","v":202.69914817022038},-82.637477945422916,{"$f":"VLOOKUP($A1045,Sheet1!$1:$1048576,10,FALSE)","v":190.21542909920294},-75.652259030796131,{"$f":"VLOOKUP($A1045,Sheet1!$1:$1048576,11,FALSE)","v":165.24799095716801},-60.189654148853847,{"$f":"VLOOKUP($A1045,Sheet1!$1:$1048576,12,FALSE)","v":127.79683374411565},-31.947412075637018]
[24006,{"$f":"VLOOKUP($A1046,BasinData!$1:$1048576,2,FALSE)","v":0.37840784465909089},-90.760350568814331,{"$f":"VLOOKUP($A1046,BasinData!$1:$1048576,3,FALSE)","v":58.882041090669169},{"$f":"VLOOKUP($A1046,BasinData!$1:$1048576,4,FALSE)","v":11.676325391714961},{"$f":"VLOOKUP($A1046,BasinData!$1:$1048576,5,FALSE)","v":36.322503255100003},191.36024594115597,{"$f":"VLOOKUP($A1046,Sheet1!$1:$1048576,9,FALSE)","v":303.51736841208822},-141.45060145818189,{"$f":"VLOOKUP($A1046,Sheet1!$1:$1048576,10,FALSE)","v":284.82451452180391},-134.46535359147688,{"$f":"VLOOKUP($A1046,Sheet1!$1:$1048576,11,FALSE)","v":247.43880674123531},-119.00297616889257,{"$f":"VLOOKUP($A1046,Sheet1!$1:$1048576,12,FALSE)","v":191.36024507038243},-90.760350568814331]
[24007,{"$f":"VLOOKUP($A1047,BasinData!$1:$1048576,2,FALSE)","v":0.35982759104545459},-77.33056919017119,{"$f":"VLOOKUP($A1047,BasinData!$1:$1048576,3,FALSE)","v":5.1311966623106207},{"$f":"VLOOKUP($A1047,BasinData!$1:$1048576,4,FALSE)","v":9.0097148229395163},{"$f":"VLOOKUP($A1047,BasinData!$1:$1048576,5,FALSE)","v":33.046068583299999},207.01340413467588,{"$f":"VLOOKUP($A1047,Sheet1!$1:$1048576,9,FALSE)","v":328.34491390586192},-128.02082179131176,{"$f":"VLOOKUP($A1047,Sheet1!$1:$1048576,10,FALSE)","v":308.12299536007697},-121.03557216801551,{"$f":"VLOOKUP($A1047,Sheet1!$1:$1048576,11,FALSE)","v":267.67915826850708},-105.57293783811049,{"$f":"VLOOKUP($A1047,Sheet1!$1:$1048576,12,FALSE)","v":207.01340263115219},-77.33056919017119]
[24008,{"$f":"VLOOKUP($A1048,BasinData!$1:$1048576,2,FALSE)","v":0.43891545558901507},-23.123281009398813,{"$f":"VLOOKUP($A1048,BasinData!$1:$1048576,3,FALSE)","v":15.429755834816508},{"$f":"VLOOKUP($A1048,BasinData!$1:$1048576,4,FALSE)","v":24.87274728298253},{"$f":"VLOOKUP($A1048,BasinData!$1:$1048576,5,FALSE)","v":19.821146552399998},130.02175674550483,{"$f":"VLOOKUP($A1048,Sheet1!$1:$1048576,9,FALSE)","v":206.22743309764417},-73.81315208043857,{"$f":"VLOOKUP($A1048,Sheet1!$1:$1048576,10,FALSE)","v":193.52641603482917},-66.827925869405192,{"$f":"VLOOKUP($A1048,Sheet1!$1:$1048576,11,FALSE)","v":168.12438190919914},-51.365335652463266,{"$f":"VLOOKUP($A1048,Sheet1!$1:$1048576,12,FALSE)","v":130.02133072075412},-23.123281009398813]
[24009,{"$f":"VLOOKUP($A1049,BasinData!$1:$1048576,2,FALSE)","v":0.31272412165340907},9.0136758367174821,{"$f":"VLOOKUP($A1049,BasinData!$1:$1048576,3,FALSE)","v":100},{"$f":"VLOOKUP($A1049,BasinData!$1:$1048576,4,FALSE)","v":23.514414591096294},{"$f":"VLOOKUP($A1049,BasinData!$1:$1048576,5,FALSE)","v":11.980710247199999},136.6686864418364,{"$f":"VLOOKUP($A1049,Sheet1!$1:$1048576,9,FALSE)","v":216.76969807940441},-41.675994043786005,{"$f":"VLOOKUP($A1049,Sheet1!$1:$1048576,10,FALSE)","v":203.4194100374435},-34.690748280655754,{"$f":"VLOOKUP($A1049,Sheet1!$1:$1048576,11,FALSE)","v":176.71883395352168},-19.228122317226962,{"$f":"VLOOKUP($A1049,Sheet1!$1:$1048576,12,FALSE)","v":136.66796982763893},9.0136758367174821]
[24010,{"$f":"VLOOKUP($A1050,BasinData!$1:$1048576,2,FALSE)","v":0.2111877364810606},-3.1052666341054405,{"$f":"VLOOKUP($A1050,BasinData!$1:$1048576,3,FALSE)","v":1.0602485278951903},{"$f":"VLOOKUP($A1050,BasinData!$1:$1048576,4,FALSE)","v":34.146341463414636},{"$f":"VLOOKUP($A1050,BasinData!$1:$1048576,5,FALSE)","v":14.9374758303},101.37444520731609,{"$f":"VLOOKUP($A1050,Sheet1!$1:$1048576,9,FALSE)","v":160.79043329403703},-53.794792422563432,{"$f":"VLOOKUP($A1050,Sheet1!$1:$1048576,10,FALSE)","v":150.88776415768578},-46.810387735481349,{"$f":"VLOOKUP($A1050,Sheet1!$1:$1048576,11,FALSE)","v":131.08242588498328},-31.347796041951089,{"$f":"VLOOKUP($A1050,Sheet1!$1:$1048576,12,FALSE)","v":101.37441847592952},-3.1052666341054405]
[24011,{"$f":"VLOOKUP($A1051,BasinData!$1:$1048576,2,FALSE)","v":0.13879408418657566},-78.55497723829906,{"$f":"VLOOKUP($A1051,BasinData!$1:$1048576,3,FALSE)","v":37.542319075401515},{"$f":"VLOOKUP($A1051,BasinData!$1:$1048576,4,FALSE)","v":14.419800707168113},{"$f":"VLOOKUP($A1051,BasinData!$1:$1048576,5,FALSE)","v":33.344784763699998},180.36794036520945,{"$f":"VLOOKUP($A1051,Sheet1!$1:$1048576,9,FALSE)","v":286.08242116194191},-129.24524683912591,{"$f":"VLOOKUP($A1051,Sheet1!$1:$1048576,10,FALSE)","v":268.46334081956644},-122.25998022458479,{"$f":"VLOOKUP($A1051,Sheet1!$1:$1048576,11,FALSE)","v":233.2251801348155},-106.79734577301402,{"$f":"VLOOKUP($A1051,Sheet1!$1:$1048576,12,FALSE)","v":180.3679391076891},-78.55497723829906]
[24012,{"$f":"VLOOKUP($A1052,BasinData!$1:$1048576,2,FALSE)","v":0.11105651105651104},-54.159826708072146,{"$f":"VLOOKUP($A1052,BasinData!$1:$1048576,3,FALSE)","v":24.962694218209247},{"$f":"VLOOKUP($A1052,BasinData!$1:$1048576,4,FALSE)","v":21.074005270661424},{"$f":"VLOOKUP($A1052,BasinData!$1:$1048576,5,FALSE)","v":27.393152348899999},149.16041554065046,{"$f":"VLOOKUP($A1052,Sheet1!$1:$1048576,9,FALSE)","v":236.58401771222563},-104.85005343872147,{"$f":"VLOOKUP($A1052,Sheet1!$1:$1048576,10,FALSE)","v":222.01341669849157},-97.864828068037298,{"$f":"VLOOKUP($A1052,Sheet1!$1:$1048576,11,FALSE)","v":192.87221467102347},-82.402201177883583,{"$f":"VLOOKUP($A1052,Sheet1!$1:$1048576,12,FALSE)","v":149.16041162982128},-54.159826708072146]
[24013,{"$f":"VLOOKUP($A1053,BasinData!$1:$1048576,2,FALSE)","v":0.32307077156818176},-9.0000337128207111,{"$f":"VLOOKUP($A1053,BasinData!$1:$1048576,3,FALSE)","v":1.1859354009531446},{"$f":"VLOOKUP($A1053,BasinData!$1:$1048576,4,FALSE)","v":29.064486830154408},{"$f":"VLOOKUP($A1053,BasinData!$1:$1048576,5,FALSE)","v":16.375616262699999},116.31339230433893,{"$f":"VLOOKUP($A1053,Sheet1!$1:$1048576,9,FALSE)","v":184.48520756905182},-59.690279338546247,{"$f":"VLOOKUP($A1053,Sheet1!$1:$1048576,10,FALSE)","v":173.1232382423907},-52.705056128095002,{"$f":"VLOOKUP($A1053,Sheet1!$1:$1048576,11,FALSE)","v":150.39929958906839},-37.242480516644648,{"$f":"VLOOKUP($A1053,Sheet1!$1:$1048576,12,FALSE)","v":116.31339160908496},-9.0000337128207111]
[24014,{"$f":"VLOOKUP($A1054,BasinData!$1:$1048576,2,FALSE)","v":0.45936465260984849},23.158198436886053,{"$f":"VLOOKUP($A1054,BasinData!$1:$1048576,3,FALSE)","v":50.026769468692329},{"$f":"VLOOKUP($A1054,BasinData!$1:$1048576,4,FALSE)","v":24.970847909378644},{"$f":"VLOOKUP($A1054,BasinData!$1:$1048576,5,FALSE)","v":8.5299671200699994},129.43107308154163,{"$f":"VLOOKUP($A1054,Sheet1!$1:$1048576,9,FALSE)","v":205.2906465945633},-27.531724257667175,{"$f":"VLOOKUP($A1054,Sheet1!$1:$1048576,10,FALSE)","v":192.64732380249166},-20.546494386791153,{"$f":"VLOOKUP($A1054,Sheet1!$1:$1048576,11,FALSE)","v":167.36067821834837},-5.0840034323762735,{"$f":"VLOOKUP($A1054,Sheet1!$1:$1048576,12,FALSE)","v":129.43070984213344},23.158198436886053]
[24015,{"$f":"VLOOKUP($A1055,BasinData!$1:$1048576,2,FALSE)","v":0},5.7355626444241681,{"$f":"VLOOKUP($A1055,BasinData!$1:$1048576,3,FALSE)","v":38.0974205728347},{"$f":"VLOOKUP($A1055,BasinData!$1:$1048576,4,FALSE)","v":27.426390403489641},{"$f":"VLOOKUP($A1055,BasinData!$1:$1048576,5,FALSE)","v":12.78052787},125.30741119064832,{"$f":"VLOOKUP($A1055,Sheet1!$1:$1048576,9,FALSE)","v":198.75009192124705},-44.954351534591822,{"$f":"VLOOKUP($A1055,Sheet1!$1:$1048576,10,FALSE)","v":186.5095850652431},-37.969675545452951,{"$f":"VLOOKUP($A1055,Sheet1!$1:$1048576,11,FALSE)","v":162.02857135323518},-22.506492530706357,{"$f":"VLOOKUP($A1055,Sheet1!$1:$1048576,12,FALSE)","v":125.30705078522331},5.7355626444241681]
[24016,{"$f":"VLOOKUP($A1056,BasinData!$1:$1048576,2,FALSE)","v":0.57305213372727271},8.3197910468600362,{"$f":"VLOOKUP($A1056,BasinData!$1:$1048576,3,FALSE)","v":2.0713448685110016},{"$f":"VLOOKUP($A1056,BasinData!$1:$1048576,4,FALSE)","v":26.287078077054211},{"$f":"VLOOKUP($A1056,BasinData!$1:$1048576,5,FALSE)","v":12.150011639100001},123.41609490268866,{"$f":"VLOOKUP($A1056,Sheet1!$1:$1048576,9,FALSE)","v":195.74992721255973},-42.369928351057709,{"$f":"VLOOKUP($A1056,Sheet1!$1:$1048576,10,FALSE)","v":183.69419278272591},-35.384697918644115,{"$f":"VLOOKUP($A1056,Sheet1!$1:$1048576,11,FALSE)","v":159.5827239230583},-19.922071169441129,{"$f":"VLOOKUP($A1056,Sheet1!$1:$1048576,12,FALSE)","v":123.41552063355687},8.3197910468600362]
[24017,{"$f":"VLOOKUP($A1057,BasinData!$1:$1048576,2,FALSE)","v":0.43538283552083329},36.911622566267646,{"$f":"VLOOKUP($A1057,BasinData!$1:$1048576,3,FALSE)","v":1.8770740498131671},{"$f":"VLOOKUP($A1057,BasinData!$1:$1048576,4,FALSE)","v":28.248375812093951},{"$f":"VLOOKUP($A1057,BasinData!$1:$1048576,5,FALSE)","v":5.1744949926499997},117.97176925820889,{"$f":"VLOOKUP($A1057,Sheet1!$1:$1048576,9,FALSE)","v":187.11449075612595},-13.778004217812844,{"$f":"VLOOKUP($A1057,Sheet1!$1:$1048576,10,FALSE)","v":175.59059064207926},-6.7927450953311794,{"$f":"VLOOKUP($A1057,Sheet1!$1:$1048576,11,FALSE)","v":152.54279041398587},8.669880131458175,{"$f":"VLOOKUP($A1057,Sheet1!$1:$1048576,12,FALSE)","v":117.97109007184582},36.911622566267646]
[24018,{"$f":"VLOOKUP($A1058,BasinData!$1:$1048576,2,FALSE)","v":0.37417742251704544},10.861310853246684,{"$f":"VLOOKUP($A1058,BasinData!$1:$1048576,3,FALSE)","v":0.14914948884333762},{"$f":"VLOOKUP($A1058,BasinData!$1:$1048576,4,FALSE)","v":55.612244897959187},{"$f":"VLOOKUP($A1058,BasinData!$1:$1048576,5,FALSE)","v":11.5297760473},53.773277532325523,{"$f":"VLOOKUP($A1058,Sheet1!$1:$1048576,9,FALSE)","v":85.289053569290672},-39.827645295007031,{"$f":"VLOOKUP($A1058,Sheet1!$1:$1048576,10,FALSE)","v":80.036320174980304},-32.843321666124737,{"$f":"VLOOKUP($A1058,Sheet1!$1:$1048576,11,FALSE)","v":69.530853386359553},-17.37979024801815,{"$f":"VLOOKUP($A1058,Sheet1!$1:$1048576,12,FALSE)","v":53.772653203428412},10.861310853246684]
[24019,{"$f":"VLOOKUP($A1059,BasinData!$1:$1048576,2,FALSE)","v":5.4694473748275581E-2},-0.6676089049767906,{"$f":"VLOOKUP($A1059,BasinData!$1:$1048576,3,FALSE)","v":72.754016551382392},{"$f":"VLOOKUP($A1059,BasinData!$1:$1048576,4,FALSE)","v":42.793277589204401},{"$f":"VLOOKUP($A1059,BasinData!$1:$1048576,5,FALSE)","v":14.3427565998},80.003498241763765,{"$f":"VLOOKUP($A1059,Sheet1!$1:$1048576,9,FALSE)","v":126.89384116567349},-51.357773928717116,{"$f":"VLOOKUP($A1059,Sheet1!$1:$1048576,10,FALSE)","v":119.07877593597507},-44.37277820843137,{"$f":"VLOOKUP($A1059,Sheet1!$1:$1048576,11,FALSE)","v":103.44864547657824},-28.91053602492093,{"$f":"VLOOKUP($A1059,Sheet1!$1:$1048576,12,FALSE)","v":80.003449787482964},-0.6676089049767906]
[24020,{"$f":"VLOOKUP($A1060,BasinData!$1:$1048576,2,FALSE)","v":0.12939049586776857},-42.685530269829471,{"$f":"VLOOKUP($A1060,BasinData!$1:$1048576,3,FALSE)","v":20.584986621244973},{"$f":"VLOOKUP($A1060,BasinData!$1:$1048576,4,FALSE)","v":24.190388735843282},{"$f":"VLOOKUP($A1060,BasinData!$1:$1048576,5,FALSE)","v":24.593784117399998},136.10397854699369,{"$f":"VLOOKUP($A1060,Sheet1!$1:$1048576,9,FALSE)","v":215.87507039823467},-93.375729563772495,{"$f":"VLOOKUP($A1060,Sheet1!$1:$1048576,10,FALSE)","v":202.5798801736336},-86.390494791784064,{"$f":"VLOOKUP($A1060,Sheet1!$1:$1048576,11,FALSE)","v":175.98949972443145},-70.927876919028833,{"$f":"VLOOKUP($A1060,Sheet1!$1:$1048576,12,FALSE)","v":136.10392905062824},-42.685530269829471]
[24021,{"$f":"VLOOKUP($A1061,BasinData!$1:$1048576,2,FALSE)","v":6.1385603884090909E-2},33.984417293595513,{"$f":"VLOOKUP($A1061,BasinData!$1:$1048576,3,FALSE)","v":1.4841276488100947},{"$f":"VLOOKUP($A1061,BasinData!$1:$1048576,4,FALSE)","v":40.723822909346453},{"$f":"VLOOKUP($A1061,BasinData!$1:$1048576,5,FALSE)","v":5.8887530210600003},84.886616469731123,{"$f":"VLOOKUP($A1061,Sheet1!$1:$1048576,9,FALSE)","v":134.63885233394859},-16.70542282298381,{"$f":"VLOOKUP($A1061,Sheet1!$1:$1048576,10,FALSE)","v":126.34679179124842},-9.7207609532644383,{"$f":"VLOOKUP($A1061,Sheet1!$1:$1048576,11,FALSE)","v":109.76267070584812},5.742106141290062,{"$f":"VLOOKUP($A1061,Sheet1!$1:$1048576,12,FALSE)","v":84.886489077747655},33.984417293595513]
[24022,{"$f":"VLOOKUP($A1062,BasinData!$1:$1048576,2,FALSE)","v":3.8167418771780301E-2},20.37229897010987,{"$f":"VLOOKUP($A1062,BasinData!$1:$1048576,3,FALSE)","v":30.466415912826239},{"$f":"VLOOKUP($A1062,BasinData!$1:$1048576,4,FALSE)","v":43.65948428117273},{"$f":"VLOOKUP($A1062,BasinData!$1:$1048576,5,FALSE)","v":9.2097108055400003},78.133953588502337,{"$f":"VLOOKUP($A1062,Sheet1!$1:$1048576,9,FALSE)","v":123.92861815257673},-30.317932534613284,{"$f":"VLOOKUP($A1062,Sheet1!$1:$1048576,10,FALSE)","v":116.2961733799082},-23.33269627292356,{"$f":"VLOOKUP($A1062,Sheet1!$1:$1048576,11,FALSE)","v":101.03128383457114},-7.870100689425616,{"$f":"VLOOKUP($A1062,Sheet1!$1:$1048576,12,FALSE)","v":78.133949516565551},20.37229897010987]
[24023,{"$f":"VLOOKUP($A1063,BasinData!$1:$1048576,2,FALSE)","v":8.7390959555908004E-2},5.2628732034307433,{"$f":"VLOOKUP($A1063,BasinData!$1:$1048576,3,FALSE)","v":32.118842224717127},{"$f":"VLOOKUP($A1063,BasinData!$1:$1048576,4,FALSE)","v":41.634023503077785},{"$f":"VLOOKUP($A1063,BasinData!$1:$1048576,5,FALSE)","v":12.895855877100001},82.502476394346473,{"$f":"VLOOKUP($A1063,Sheet1!$1:$1048576,9,FALSE)","v":130.85721656003687},-45.427071970137106,{"$f":"VLOOKUP($A1063,Sheet1!$1:$1048576,10,FALSE)","v":122.79805723599789},-38.442365460221971,{"$f":"VLOOKUP($A1063,Sheet1!$1:$1048576,11,FALSE)","v":106.6797385879199},-22.979210307705127,{"$f":"VLOOKUP($A1063,Sheet1!$1:$1048576,12,FALSE)","v":82.502260615802896},5.2628732034307433]
[24024,{"$f":"VLOOKUP($A1064,BasinData!$1:$1048576,2,FALSE)","v":0.38819535314204545},0.45765171946553063,{"$f":"VLOOKUP($A1064,BasinData!$1:$1048576,3,FALSE)","v":100},{"$f":"VLOOKUP($A1064,BasinData!$1:$1048576,4,FALSE)","v":34.592923394022677},{"$f":"VLOOKUP($A1064,BasinData!$1:$1048576,5,FALSE)","v":14.06822294},98.597583967846134,{"$f":"VLOOKUP($A1064,Sheet1!$1:$1048576,9,FALSE)","v":156.38595197429632},-50.232464707809754,{"$f":"VLOOKUP($A1064,Sheet1!$1:$1048576,10,FALSE)","v":146.75454351143844},-43.247537977689639,{"$f":"VLOOKUP($A1064,Sheet1!$1:$1048576,11,FALSE)","v":127.49172658572269},-27.784625066799247,{"$f":"VLOOKUP($A1064,Sheet1!$1:$1048576,12,FALSE)","v":98.597501197149057},0.45765171946553063]
[24025,{"$f":"VLOOKUP($A1065,BasinData!$1:$1048576,2,FALSE)","v":0},5.0504121004038742,{"$f":"VLOOKUP($A1065,BasinData!$1:$1048576,3,FALSE)","v":38.443796675777286},{"$f":"VLOOKUP($A1065,BasinData!$1:$1048576,4,FALSE)","v":41.321151176316086},{"$f":"VLOOKUP($A1065,BasinData!$1:$1048576,5,FALSE)","v":12.9476925367},83.865225272189264,{"$f":"VLOOKUP($A1065,Sheet1!$1:$1048576,9,FALSE)","v":133.01868800895565},-45.63954724993809,{"$f":"VLOOKUP($A1065,Sheet1!$1:$1048576,10,FALSE)","v":124.8264092189894},-38.654826379864978,{"$f":"VLOOKUP($A1065,Sheet1!$1:$1048576,11,FALSE)","v":108.44185163905692},-23.191683515086016,{"$f":"VLOOKUP($A1065,Sheet1!$1:$1048576,12,FALSE)","v":83.865015269158192},5.0504121004038742]
[24026,{"$f":"VLOOKUP($A1066,BasinData!$1:$1048576,2,FALSE)","v":6.583715873399372E-2},-3.8838907647795193,{"$f":"VLOOKUP($A1066,BasinData!$1:$1048576,3,FALSE)","v":69.10712237822338},{"$f":"VLOOKUP($A1066,BasinData!$1:$1048576,4,FALSE)","v":31.15808823529412},{"$f":"VLOOKUP($A1066,BasinData!$1:$1048576,5,FALSE)","v":15.1274369718},111.87597991547878,{"$f":"VLOOKUP($A1066,Sheet1!$1:$1048576,9,FALSE)","v":177.44697419557534},-54.574097908030787,{"$f":"VLOOKUP($A1066,Sheet1!$1:$1048576,10,FALSE)","v":166.51847155579418},-47.588996603177016,{"$f":"VLOOKUP($A1066,Sheet1!$1:$1048576,11,FALSE)","v":144.66146627623186},-32.126343123323814,{"$f":"VLOOKUP($A1066,Sheet1!$1:$1048576,12,FALSE)","v":111.87595835688838},-3.8838907647795193]
[24027,{"$f":"VLOOKUP($A1067,BasinData!$1:$1048576,2,FALSE)","v":0.2919108421647727},23.441675648062922,{"$f":"VLOOKUP($A1067,BasinData!$1:$1048576,3,FALSE)","v":1.8436554558375198},{"$f":"VLOOKUP($A1067,BasinData!$1:$1048576,4,FALSE)","v":59.921773142112123},{"$f":"VLOOKUP($A1067,BasinData!$1:$1048576,5,FALSE)","v":8.4607872710599992},47.805162312869292,{"$f":"VLOOKUP($A1067,Sheet1!$1:$1048576,9,FALSE)","v":75.823717853196669},-27.248162599007074,{"$f":"VLOOKUP($A1067,Sheet1!$1:$1048576,10,FALSE)","v":71.153930135073125},-20.262933055890791,{"$f":"VLOOKUP($A1067,Sheet1!$1:$1048576,11,FALSE)","v":61.814354698826058},-4.8005166967463113,{"$f":"VLOOKUP($A1067,Sheet1!$1:$1048576,12,FALSE)","v":47.804991544455447},23.441675648062922]
[24028,{"$f":"VLOOKUP($A1068,BasinData!$1:$1048576,2,FALSE)","v":0.55048280387121207},-24.059490846873327,{"$f":"VLOOKUP($A1068,BasinData!$1:$1048576,3,FALSE)","v":5.3331556135300593},{"$f":"VLOOKUP($A1068,BasinData!$1:$1048576,4,FALSE)","v":24.416552265150031},{"$f":"VLOOKUP($A1068,BasinData!$1:$1048576,5,FALSE)","v":20.0495583031},130.51836254391253,{"$f":"VLOOKUP($A1068,Sheet1!$1:$1048576,9,FALSE)","v":207.01515076822952},-74.749388391449074,{"$f":"VLOOKUP($A1068,Sheet1!$1:$1048576,10,FALSE)","v":194.26562020056934},-67.764163023786011,{"$f":"VLOOKUP($A1068,Sheet1!$1:$1048576,11,FALSE)","v":168.76655906524903},-52.301571062024713,{"$f":"VLOOKUP($A1068,Sheet1!$1:$1048576,12,FALSE)","v":130.51796736226856},-24.059490846873327]
[24029,{"$f":"VLOOKUP($A1069,BasinData!$1:$1048576,2,FALSE)","v":0.22817243472981175},10.931306635372041,{"$f":"VLOOKUP($A1069,BasinData!$1:$1048576,3,FALSE)","v":39.69539771823186},{"$f":"VLOOKUP($A1069,BasinData!$1:$1048576,4,FALSE)","v":27.279366327734394},{"$f":"VLOOKUP($A1069,BasinData!$1:$1048576,5,FALSE)","v":11.5130103675},123.45165865205412,{"$f":"VLOOKUP($A1069,Sheet1!$1:$1048576,9,FALSE)","v":195.80724418709542},-39.758924216399144,{"$f":"VLOOKUP($A1069,Sheet1!$1:$1048576,10,FALSE)","v":183.74797975225388},-32.773692802609709,{"$f":"VLOOKUP($A1069,Sheet1!$1:$1048576,11,FALSE)","v":159.62945088257081},-17.311069491727089,{"$f":"VLOOKUP($A1069,Sheet1!$1:$1048576,12,FALSE)","v":123.45165757804617},10.931306635372041]
[24030,{"$f":"VLOOKUP($A1070,BasinData!$1:$1048576,2,FALSE)","v":0.11905094207955338},28.235612479623761,{"$f":"VLOOKUP($A1070,BasinData!$1:$1048576,3,FALSE)","v":13.009828626616704},{"$f":"VLOOKUP($A1070,BasinData!$1:$1048576,4,FALSE)","v":32.018158755591159},{"$f":"VLOOKUP($A1070,BasinData!$1:$1048576,5,FALSE)","v":7.2913099383200004},108.64275240258738,{"$f":"VLOOKUP($A1070,Sheet1!$1:$1048576,9,FALSE)","v":172.31872795787206},-22.454350453200092,{"$f":"VLOOKUP($A1070,Sheet1!$1:$1048576,10,FALSE)","v":161.70606081092055},-15.469361683167447,{"$f":"VLOOKUP($A1070,Sheet1!$1:$1048576,11,FALSE)","v":140.4807265170175},-6.7326635171764248E-3,{"$f":"VLOOKUP($A1070,Sheet1!$1:$1048576,12,FALSE)","v":108.64272507616295},28.235612479623761]
[24031,{"$f":"VLOOKUP($A1071,BasinData!$1:$1048576,2,FALSE)","v":0.11442725215583145},10.164026595371695,{"$f":"VLOOKUP($A1071,BasinData!$1:$1048576,3,FALSE)","v":77.281902298137823},{"$f":"VLOOKUP($A1071,BasinData!$1:$1048576,4,FALSE)","v":34.959087427949534},{"$f":"VLOOKUP($A1071,BasinData!$1:$1048576,5,FALSE)","v":11.700032226699999},99.829790430000259,{"$f":"VLOOKUP($A1071,Sheet1!$1:$1048576,9,FALSE)","v":158.33948747006858},-40.525511619411688,{"$f":"VLOOKUP($A1071,Sheet1!$1:$1048576,10,FALSE)","v":148.58776578170074},-33.540276876157613,{"$f":"VLOOKUP($A1071,Sheet1!$1:$1048576,11,FALSE)","v":129.08432240496506},-18.077652414778903,{"$f":"VLOOKUP($A1071,Sheet1!$1:$1048576,12,FALSE)","v":99.829157339861538},10.164026595371695]
[24032,{"$f":"VLOOKUP($A1072,BasinData!$1:$1048576,2,FALSE)","v":0.16566501175855763},24.523608948431363,{"$f":"VLOOKUP($A1072,BasinData!$1:$1048576,3,FALSE)","v":14.882646310354119},{"$f":"VLOOKUP($A1072,BasinData!$1:$1048576,4,FALSE)","v":47.695277934196767},{"$f":"VLOOKUP($A1072,BasinData!$1:$1048576,5,FALSE)","v":8.1969231830599991},68.791523372601247,{"$f":"VLOOKUP($A1072,Sheet1!$1:$1048576,9,FALSE)","v":109.11054094024453},-26.166608973367854,{"$f":"VLOOKUP($A1072,Sheet1!$1:$1048576,10,FALSE)","v":102.39070342202808},-19.181380367656249,{"$f":"VLOOKUP($A1072,Sheet1!$1:$1048576,11,FALSE)","v":88.951028385595194},-3.719404058231421,{"$f":"VLOOKUP($A1072,Sheet1!$1:$1048576,12,FALSE)","v":68.791515830945855},24.523608948431363]
[24033,{"$f":"VLOOKUP($A1073,BasinData!$1:$1048576,2,FALSE)","v":0.48861131520940482},20.714852893190059,{"$f":"VLOOKUP($A1073,BasinData!$1:$1048576,3,FALSE)","v":9.9106808404499365},{"$f":"VLOOKUP($A1073,BasinData!$1:$1048576,4,FALSE)","v":62.840385421030589},{"$f":"VLOOKUP($A1073,BasinData!$1:$1048576,5,FALSE)","v":9.12613694727},43.21810226506549,{"$f":"VLOOKUP($A1073,Sheet1!$1:$1048576,9,FALSE)","v":68.548423610678086},-29.975370372884772,{"$f":"VLOOKUP($A1073,Sheet1!$1:$1048576,10,FALSE)","v":64.326702548494922},-22.990135322259874,{"$f":"VLOOKUP($A1073,Sheet1!$1:$1048576,11,FALSE)","v":55.883260424128594},-7.5275413514122809,{"$f":"VLOOKUP($A1073,Sheet1!$1:$1048576,12,FALSE)","v":43.218097237579109},20.714852893190059]
[24034,{"$f":"VLOOKUP($A1074,BasinData!$1:$1048576,2,FALSE)","v":8.7824351297405179E-2},-10.91965428537647,{"$f":"VLOOKUP($A1074,BasinData!$1:$1048576,3,FALSE)","v":39.136019590321219},{"$f":"VLOOKUP($A1074,BasinData!$1:$1048576,4,FALSE)","v":36.957818412272367},{"$f":"VLOOKUP($A1074,BasinData!$1:$1048576,5,FALSE)","v":16.843726740000001},94.437633056705877,{"$f":"VLOOKUP($A1074,Sheet1!$1:$1048576,9,FALSE)","v":149.7867627566871},-61.60900344771057,{"$f":"VLOOKUP($A1074,Sheet1!$1:$1048576,10,FALSE)","v":140.5617813806364},-54.62377733796869,{"$f":"VLOOKUP($A1074,Sheet1!$1:$1048576,11,FALSE)","v":122.11181862853502},-39.161213901027601,{"$f":"VLOOKUP($A1074,Sheet1!$1:$1048576,12,FALSE)","v":94.43687450038297},-10.91965428537647]
[24035,{"$f":"VLOOKUP($A1075,BasinData!$1:$1048576,2,FALSE)","v":0},23.684613093114578,{"$f":"VLOOKUP($A1075,BasinData!$1:$1048576,3,FALSE)","v":11.096264070559718},{"$f":"VLOOKUP($A1075,BasinData!$1:$1048576,4,FALSE)","v":59.649673530889004},{"$f":"VLOOKUP($A1075,BasinData!$1:$1048576,5,FALSE)","v":8.4014976677799993},49.378672134582324,{"$f":"VLOOKUP($A1075,Sheet1!$1:$1048576,9,FALSE)","v":78.31939971294922},-27.005140152870577,{"$f":"VLOOKUP($A1075,Sheet1!$1:$1048576,10,FALSE)","v":73.495909369486469},-20.019910860420374,{"$f":"VLOOKUP($A1075,Sheet1!$1:$1048576,11,FALSE)","v":63.848928682560967},-4.5575716019178509,{"$f":"VLOOKUP($A1075,Sheet1!$1:$1048576,12,FALSE)","v":49.378457652172713},23.684613093114578]
[24036,{"$f":"VLOOKUP($A1076,BasinData!$1:$1048576,2,FALSE)","v":0},31.097626236482736,{"$f":"VLOOKUP($A1076,BasinData!$1:$1048576,3,FALSE)","v":16.853406301808253},{"$f":"VLOOKUP($A1076,BasinData!$1:$1048576,4,FALSE)","v":71.700942587832046},{"$f":"VLOOKUP($A1076,BasinData!$1:$1048576,5,FALSE)","v":6.5930397599699999},34.856302851075007,{"$f":"VLOOKUP($A1076,Sheet1!$1:$1048576,9,FALSE)","v":55.285665298679461},-19.592428353054498,{"$f":"VLOOKUP($A1076,Sheet1!$1:$1048576,10,FALSE)","v":51.880763401097596},-12.607301802979103,{"$f":"VLOOKUP($A1076,Sheet1!$1:$1048576,11,FALSE)","v":45.070959605933851},2.8553970969082489,{"$f":"VLOOKUP($A1076,Sheet1!$1:$1048576,12,FALSE)","v":34.856253913188226},31.097626236482736]
[24037,{"$f":"VLOOKUP($A1077,BasinData!$1:$1048576,2,FALSE)","v":5.4185857491194797E-2},10.353400073299975,{"$f":"VLOOKUP($A1077,BasinData!$1:$1048576,3,FALSE)","v":8.7088436730279568},{"$f":"VLOOKUP($A1077,BasinData!$1:$1048576,4,FALSE)","v":56.637738946874641},{"$f":"VLOOKUP($A1077,BasinData!$1:$1048576,5,FALSE)","v":11.653825938300001},53.624930662504873,{"$f":"VLOOKUP($A1077,Sheet1!$1:$1048576,9,FALSE)","v":85.054194110800935},-40.336115585001224,{"$f":"VLOOKUP($A1077,Sheet1!$1:$1048576,10,FALSE)","v":79.815925106338398},-33.351750788362672,{"$f":"VLOOKUP($A1077,Sheet1!$1:$1048576,11,FALSE)","v":69.339387097413308},-17.888257692123382,{"$f":"VLOOKUP($A1077,Sheet1!$1:$1048576,12,FALSE)","v":53.624580084025666},10.353400073299975]
[24038,{"$f":"VLOOKUP($A1078,BasinData!$1:$1048576,2,FALSE)","v":0},18.5520639826691,{"$f":"VLOOKUP($A1078,BasinData!$1:$1048576,3,FALSE)","v":10.97654939328741},{"$f":"VLOOKUP($A1078,BasinData!$1:$1048576,4,FALSE)","v":62.240602064006559},{"$f":"VLOOKUP($A1078,BasinData!$1:$1048576,5,FALSE)","v":9.6536852883699993},45.816319877440385,{"$f":"VLOOKUP($A1078,Sheet1!$1:$1048576,9,FALSE)","v":72.669190054756598},-32.13774960264476,{"$f":"VLOOKUP($A1078,Sheet1!$1:$1048576,10,FALSE)","v":68.193681588385871},-25.154111373377933,{"$f":"VLOOKUP($A1078,Sheet1!$1:$1048576,11,FALSE)","v":59.242664655644404},-9.6899003293071573,{"$f":"VLOOKUP($A1078,Sheet1!$1:$1048576,12,FALSE)","v":45.816139256532203},18.5520639826691]
[24039,{"$f":"VLOOKUP($A1079,BasinData!$1:$1048576,2,FALSE)","v":0.24865920352651516},34.118932634242704,{"$f":"VLOOKUP($A1079,BasinData!$1:$1048576,3,FALSE)","v":2.8848044884552428},{"$f":"VLOOKUP($A1079,BasinData!$1:$1048576,4,FALSE)","v":63.204913456169741},{"$f":"VLOOKUP($A1079,BasinData!$1:$1048576,5,FALSE)","v":5.8559409140499996},43.635967151673057,{"$f":"VLOOKUP($A1079,Sheet1!$1:$1048576,9,FALSE)","v":69.211118848125622},-16.570762120318392,{"$f":"VLOOKUP($A1079,Sheet1!$1:$1048576,10,FALSE)","v":64.948584091120964},-9.5862843157629527,{"$f":"VLOOKUP($A1079,Sheet1!$1:$1048576,11,FALSE)","v":56.423514577111646},5.8765351431332755,{"$f":"VLOOKUP($A1079,Sheet1!$1:$1048576,12,FALSE)","v":43.635910306097671},34.118932634242704]
[24040,{"$f":"VLOOKUP($A1080,BasinData!$1:$1048576,2,FALSE)","v":4.024594364450758E-3},4.4357972560454764,{"$f":"VLOOKUP($A1080,BasinData!$1:$1048576,3,FALSE)","v":2.1689171844271966},{"$f":"VLOOKUP($A1080,BasinData!$1:$1048576,4,FALSE)","v":19.668049792531122},{"$f":"VLOOKUP($A1080,BasinData!$1:$1048576,5,FALSE)","v":13.097646899034},156.74923681623909,{"$f":"VLOOKUP($A1080,Sheet1!$1:$1048576,9,FALSE)","v":248.62014106645432},-46.254206812852495,{"$f":"VLOOKUP($A1080,Sheet1!$1:$1048576,10,FALSE)","v":233.30826617952115},-39.268961023197143,{"$f":"VLOOKUP($A1080,Sheet1!$1:$1048576,11,FALSE)","v":202.68451640565479},-23.80633125937786,{"$f":"VLOOKUP($A1080,Sheet1!$1:$1048576,12,FALSE)","v":156.7488917448552},4.4357972560454764]
[24041,{"$f":"VLOOKUP($A1081,BasinData!$1:$1048576,2,FALSE)","v":2.9634640350378787E-3},17.177402775932563,{"$f":"VLOOKUP($A1081,BasinData!$1:$1048576,3,FALSE)","v":1.895658112961945},{"$f":"VLOOKUP($A1081,BasinData!$1:$1048576,4,FALSE)","v":12.982961363090952},{"$f":"VLOOKUP($A1081,BasinData!$1:$1048576,5,FALSE)","v":9.9891047433474096},190.17325278596232,{"$f":"VLOOKUP($A1081,Sheet1!$1:$1048576,9,FALSE)","v":301.63400676994797},-33.512588727617931,{"$f":"VLOOKUP($A1081,Sheet1!$1:$1048576,10,FALSE)","v":283.05714427805805},-26.527354701008818,{"$f":"VLOOKUP($A1081,Sheet1!$1:$1048576,11,FALSE)","v":245.90341929427819},-11.064746410236021,{"$f":"VLOOKUP($A1081,Sheet1!$1:$1048576,12,FALSE)","v":190.17283181860836},17.177402775932563]
[24042,{"$f":"VLOOKUP($A1082,BasinData!$1:$1048576,2,FALSE)","v":1.2290463470946969E-3},27.898129209726189,{"$f":"VLOOKUP($A1082,BasinData!$1:$1048576,3,FALSE)","v":10.912511970680209},{"$f":"VLOOKUP($A1082,BasinData!$1:$1048576,4,FALSE)","v":25.93320235756385},{"$f":"VLOOKUP($A1082,BasinData!$1:$1048576,5,FALSE)","v":7.3736087689713301},130.8195155154431,{"$f":"VLOOKUP($A1082,Sheet1!$1:$1048576,9,FALSE)","v":207.49310509591913},-22.791631704486853,{"$f":"VLOOKUP($A1082,Sheet1!$1:$1048576,10,FALSE)","v":194.71413855080414},-15.806696406803873,{"$f":"VLOOKUP($A1082,Sheet1!$1:$1048576,11,FALSE)","v":169.15620546057414},-0.34406673548850564,{"$f":"VLOOKUP($A1082,Sheet1!$1:$1048576,12,FALSE)","v":130.81930582522912},27.898129209726189]
[24043,{"$f":"VLOOKUP($A1083,BasinData!$1:$1048576,2,FALSE)","v":0.14330861796523639},10.947280051615106,{"$f":"VLOOKUP($A1083,BasinData!$1:$1048576,3,FALSE)","v":19.359675501672395},{"$f":"VLOOKUP($A1083,BasinData!$1:$1048576,4,FALSE)","v":30.635790851812455},{"$f":"VLOOKUP($A1083,BasinData!$1:$1048576,5,FALSE)","v":11.509113359400001},112.84075124207078,{"$f":"VLOOKUP($A1083,Sheet1!$1:$1048576,9,FALSE)","v":178.97723503287196},-39.74295071809086,{"$f":"VLOOKUP($A1083,Sheet1!$1:$1048576,10,FALSE)","v":167.95448756487798},-32.7577193524872,{"$f":"VLOOKUP($A1083,Sheet1!$1:$1048576,11,FALSE)","v":145.90899262888996},-17.295096066925574,{"$f":"VLOOKUP($A1083,Sheet1!$1:$1048576,12,FALSE)","v":112.84075022490796},10.947280051615106]
[24044,{"$f":"VLOOKUP($A1084,BasinData!$1:$1048576,2,FALSE)","v":5.3961246014226152E-2},7.95505907326823,{"$f":"VLOOKUP($A1084,BasinData!$1:$1048576,3,FALSE)","v":29.079315669357406},{"$f":"VLOOKUP($A1084,BasinData!$1:$1048576,4,FALSE)","v":28.416856492027335},{"$f":"VLOOKUP($A1084,BasinData!$1:$1048576,5,FALSE)","v":12.239002277100001},121.22087323438721,{"$f":"VLOOKUP($A1084,Sheet1!$1:$1048576,9,FALSE)","v":192.26814791488579},-42.734554424784356,{"$f":"VLOOKUP($A1084,Sheet1!$1:$1048576,10,FALSE)","v":180.42684731475384},-35.749461730855955,{"$f":"VLOOKUP($A1084,Sheet1!$1:$1048576,11,FALSE)","v":156.74424611448995},-20.286834602443545,{"$f":"VLOOKUP($A1084,Sheet1!$1:$1048576,12,FALSE)","v":121.22034431409411},7.95505907326823]
[24045,{"$f":"VLOOKUP($A1085,BasinData!$1:$1048576,2,FALSE)","v":0.1614724266871212},17.602967789159553,{"$f":"VLOOKUP($A1085,BasinData!$1:$1048576,3,FALSE)","v":1.5442137481469502},{"$f":"VLOOKUP($A1085,BasinData!$1:$1048576,4,FALSE)","v":39.21600787272429},{"$f":"VLOOKUP($A1085,BasinData!$1:$1048576,5,FALSE)","v":9.8852682892099999},87.92517551673005,{"$f":"VLOOKUP($A1085,Sheet1!$1:$1048576,9,FALSE)","v":139.45815433382339},-33.086985211070356,{"$f":"VLOOKUP($A1085,Sheet1!$1:$1048576,10,FALSE)","v":130.86928537911004},-26.101739374129611,{"$f":"VLOOKUP($A1085,Sheet1!$1:$1048576,11,FALSE)","v":113.69154746968334},-10.639132548850665,{"$f":"VLOOKUP($A1085,Sheet1!$1:$1048576,12,FALSE)","v":87.924940605543298},17.602967789159553]
[24046,{"$f":"VLOOKUP($A1086,BasinData!$1:$1048576,2,FALSE)","v":2.514166443655303E-3},-32.559749330323825,{"$f":"VLOOKUP($A1086,BasinData!$1:$1048576,3,FALSE)","v":77.589771203764897},{"$f":"VLOOKUP($A1086,BasinData!$1:$1048576,4,FALSE)","v":16.353203697800449},{"$f":"VLOOKUP($A1086,BasinData!$1:$1048576,5,FALSE)","v":22.1233930181},{"$f":"EXP(6.1523-(0.084*B1086)-(0.0091*C1086)-(0.0289*E1086)-(0.0373*F1086))","v":172.53021533298892},{"$f":"VLOOKUP($A1086,Sheet1!$1:$1048576,9,FALSE)","v":273.65060319488077},-83.249829316526586,{"$f":"VLOOKUP($A1086,Sheet1!$1:$1048576,10,FALSE)","v":256.79716653894297},-76.26460622314778,{"$f":"VLOOKUP($A1086,Sheet1!$1:$1048576,11,FALSE)","v":223.09029322706732},-60.80200046479731,{"$f":"VLOOKUP($A1086,Sheet1!$1:$1048576,12,FALSE)","v":172.52998325925387},-32.559749330323825]
[24047,{"$f":"VLOOKUP($A1087,BasinData!$1:$1048576,2,FALSE)","v":9.6567731703787877E-4},-25.196959405122307,{"$f":"VLOOKUP($A1087,BasinData!$1:$1048576,3,FALSE)","v":100},{"$f":"VLOOKUP($A1087,BasinData!$1:$1048576,4,FALSE)","v":37.345944396675264},{"$f":"VLOOKUP($A1087,BasinData!$1:$1048576,5,FALSE)","v":20.327071641},94.067597711926055,{"$f":"VLOOKUP($A1087,Sheet1!$1:$1048576,9,FALSE)","v":149.20064170518157},-75.886887495459334,{"$f":"VLOOKUP($A1087,Sheet1!$1:$1048576,10,FALSE)","v":140.01175801683533},-68.901662723349588,{"$f":"VLOOKUP($A1087,Sheet1!$1:$1048576,11,FALSE)","v":121.63399064014283},-53.439068704156057,{"$f":"VLOOKUP($A1087,Sheet1!$1:$1048576,12,FALSE)","v":94.067339575104086},-25.196959405122307]
[24048,{"$f":"VLOOKUP($A1088,BasinData!$1:$1048576,2,FALSE)","v":0.19661830244696971},4.2923481160786432,{"$f":"VLOOKUP($A1088,BasinData!$1:$1048576,3,FALSE)","v":10.412572785737892},{"$f":"VLOOKUP($A1088,BasinData!$1:$1048576,4,FALSE)","v":53.575909661229616},{"$f":"VLOOKUP($A1088,BasinData!$1:$1048576,5,FALSE)","v":13.1326456594},57.889280104238651,{"$f":"VLOOKUP($A1088,Sheet1!$1:$1048576,9,FALSE)","v":91.818258490069212},-46.397660899248685,{"$f":"VLOOKUP($A1088,Sheet1!$1:$1048576,10,FALSE)","v":86.163408161751533},-39.412887852587474,{"$f":"VLOOKUP($A1088,Sheet1!$1:$1048576,11,FALSE)","v":74.853707505116148},-23.949787640745605,{"$f":"VLOOKUP($A1088,Sheet1!$1:$1048576,12,FALSE)","v":57.889156520163056},4.2923481160786432]
[24049,{"$f":"VLOOKUP($A1089,BasinData!$1:$1048576,2,FALSE)","v":0.35981697212121211},16.048782792342198,{"$f":"VLOOKUP($A1089,BasinData!$1:$1048576,3,FALSE)","v":5.9848938749376615},{"$f":"VLOOKUP($A1089,BasinData!$1:$1048576,4,FALSE)","v":54.292929292929294},{"$f":"VLOOKUP($A1089,BasinData!$1:$1048576,5,FALSE)","v":10.2644767928},55.929994471930058,{"$f":"VLOOKUP($A1089,Sheet1!$1:$1048576,9,FALSE)","v":88.710709144869611},-34.640959890030189,{"$f":"VLOOKUP($A1089,Sheet1!$1:$1048576,10,FALSE)","v":83.247244786226645},-27.656077423852455,{"$f":"VLOOKUP($A1089,Sheet1!$1:$1048576,11,FALSE)","v":72.320316068940684},-12.193465554082563,{"$f":"VLOOKUP($A1089,Sheet1!$1:$1048576,12,FALSE)","v":55.929922993011736},16.048782792342198]
[24050,{"$f":"VLOOKUP($A1090,BasinData!$1:$1048576,2,FALSE)","v":0.4735669094431818},11.106195244422528,{"$f":"VLOOKUP($A1090,BasinData!$1:$1048576,3,FALSE)","v":7.0449447797795202},{"$f":"VLOOKUP($A1090,BasinData!$1:$1048576,4,FALSE)","v":48.503796337650734},{"$f":"VLOOKUP($A1090,BasinData!$1:$1048576,5,FALSE)","v":11.4703430693},65.486924204027702,{"$f":"VLOOKUP($A1090,Sheet1!$1:$1048576,9,FALSE)","v":103.86911159340319},-39.584034697393548,{"$f":"VLOOKUP($A1090,Sheet1!$1:$1048576,10,FALSE)","v":97.472080224532789},-32.599730819537342,{"$f":"VLOOKUP($A1090,Sheet1!$1:$1048576,11,FALSE)","v":84.678017486792015},-17.13618074814773,{"$f":"VLOOKUP($A1090,Sheet1!$1:$1048576,12,FALSE)","v":65.486923380180826},11.106195244422528]
[24051,{"$f":"VLOOKUP($A1091,BasinData!$1:$1048576,2,FALSE)","v":0},8.7201145083800977,{"$f":"VLOOKUP($A1091,BasinData!$1:$1048576,3,FALSE)","v":23.104225610807081},{"$f":"VLOOKUP($A1091,BasinData!$1:$1048576,4,FALSE)","v":44.426995786225795},{"$f":"VLOOKUP($A1091,BasinData!$1:$1048576,5,FALSE)","v":12.052336633299999},76.66571624161358,{"$f":"VLOOKUP($A1091,Sheet1!$1:$1048576,9,FALSE)","v":121.59924011643908},-41.969586895709099,{"$f":"VLOOKUP($A1091,Sheet1!$1:$1048576,10,FALSE)","v":114.11025574444733},-34.985087035444181,{"$f":"VLOOKUP($A1091,Sheet1!$1:$1048576,11,FALSE)","v":99.132287000463819},-19.521711439289543,{"$f":"VLOOKUP($A1091,Sheet1!$1:$1048576,12,FALSE)","v":76.665333884488561},8.7201145083800977]
[24052,{"$f":"VLOOKUP($A1092,BasinData!$1:$1048576,2,FALSE)","v":0.44906398751893944},39.277750425193297,{"$f":"VLOOKUP($A1092,BasinData!$1:$1048576,3,FALSE)","v":8.4091343713813451},{"$f":"VLOOKUP($A1092,BasinData!$1:$1048576,4,FALSE)","v":52.78093076049943},{"$f":"VLOOKUP($A1092,BasinData!$1:$1048576,5,FALSE)","v":4.5973301092499996},57.991809445972763,{"$f":"VLOOKUP($A1092,Sheet1!$1:$1048576,9,FALSE)","v":91.980870378685552},-11.412251892567683,{"$f":"VLOOKUP($A1092,Sheet1!$1:$1048576,10,FALSE)","v":86.316005202484092},-4.4270036291959913,{"$f":"VLOOKUP($A1092,Sheet1!$1:$1048576,11,FALSE)","v":74.986274850081173},11.035116100131638,{"$f":"VLOOKUP($A1092,Sheet1!$1:$1048576,12,FALSE)","v":57.991679321476788},39.277750425193297]
[24053,{"$f":"VLOOKUP($A1093,BasinData!$1:$1048576,2,FALSE)","v":0.40423635526893942},34.67610109508734,{"$f":"VLOOKUP($A1093,BasinData!$1:$1048576,3,FALSE)","v":9.4327053346875296},{"$f":"VLOOKUP($A1093,BasinData!$1:$1048576,4,FALSE)","v":57.270352633870267},{"$f":"VLOOKUP($A1093,BasinData!$1:$1048576,5,FALSE)","v":5.7200264302599999},51.127445615791679,{"$f":"VLOOKUP($A1093,Sheet1!$1:$1048576,9,FALSE)","v":81.093422457354691},-16.014054703415976,{"$f":"VLOOKUP($A1093,Sheet1!$1:$1048576,10,FALSE)","v":76.099087189528035},-9.0292597144900313,{"$f":"VLOOKUP($A1093,Sheet1!$1:$1048576,11,FALSE)","v":66.110416653874708},6.4331924060698027,{"$f":"VLOOKUP($A1093,Sheet1!$1:$1048576,12,FALSE)","v":51.127410850394718},34.67610109508734]
[24054,{"$f":"VLOOKUP($A1094,BasinData!$1:$1048576,2,FALSE)","v":0.15863453815261044},8.8198570935489915,{"$f":"VLOOKUP($A1094,BasinData!$1:$1048576,3,FALSE)","v":22.785648712572144},{"$f":"VLOOKUP($A1094,BasinData!$1:$1048576,4,FALSE)","v":44.519170023343655},{"$f":"VLOOKUP($A1094,BasinData!$1:$1048576,5,FALSE)","v":12.028000346900001},75.449651981341773,{"$f":"VLOOKUP($A1094,Sheet1!$1:$1048576,9,FALSE)","v":119.67043431040103},-41.869834444322741,{"$f":"VLOOKUP($A1094,Sheet1!$1:$1048576,10,FALSE)","v":112.30024012594824},-34.88534205309417,{"$f":"VLOOKUP($A1094,Sheet1!$1:$1048576,11,FALSE)","v":97.559851757042622},-19.421959526439529,{"$f":"VLOOKUP($A1094,Sheet1!$1:$1048576,12,FALSE)","v":75.449269203684224},8.8198570935489915]
[24055,{"$f":"VLOOKUP($A1095,BasinData!$1:$1048576,2,FALSE)","v":0.34516054617424247},12.105807925529922,{"$f":"VLOOKUP($A1095,BasinData!$1:$1048576,3,FALSE)","v":1.0023888276242343},{"$f":"VLOOKUP($A1095,BasinData!$1:$1048576,4,FALSE)","v":36.905207943049831},{"$f":"VLOOKUP($A1095,BasinData!$1:$1048576,5,FALSE)","v":11.226468471},92.55803734072822,{"$f":"VLOOKUP($A1095,Sheet1!$1:$1048576,9,FALSE)","v":146.80672169705494},-38.584415236034317,{"$f":"VLOOKUP($A1095,Sheet1!$1:$1048576,10,FALSE)","v":137.76527338339929},-31.59918595927018,{"$f":"VLOOKUP($A1095,Sheet1!$1:$1048576,11,FALSE)","v":119.68237675608799},-16.136564665421311,{"$f":"VLOOKUP($A1095,Sheet1!$1:$1048576,12,FALSE)","v":92.558031815121012},12.105807925529922]
[24056,{"$f":"VLOOKUP($A1096,BasinData!$1:$1048576,2,FALSE)","v":0},0.17647401208064564,{"$f":"VLOOKUP($A1096,BasinData!$1:$1048576,3,FALSE)","v":28.147726406630856},{"$f":"VLOOKUP($A1096,BasinData!$1:$1048576,4,FALSE)","v":45.074016723443791},{"$f":"VLOOKUP($A1096,BasinData!$1:$1048576,5,FALSE)","v":14.1368229584},75.245154297219557,{"$f":"VLOOKUP($A1096,Sheet1!$1:$1048576,9,FALSE)","v":119.34659410986734},-50.513670965513271,{"$f":"VLOOKUP($A1096,Sheet1!$1:$1048576,10,FALSE)","v":111.99634441025258},-43.528710766638255,{"$f":"VLOOKUP($A1096,Sheet1!$1:$1048576,11,FALSE)","v":97.295845011023047},-28.066647199878471,{"$f":"VLOOKUP($A1096,Sheet1!$1:$1048576,12,FALSE)","v":75.245095912178755},0.17647401208064564]
[24057,{"$f":"VLOOKUP($A1097,BasinData!$1:$1048576,2,FALSE)","v":3.4291113210693051E-2},30.168225682240735,{"$f":"VLOOKUP($A1097,BasinData!$1:$1048576,3,FALSE)","v":14.245012978616058},{"$f":"VLOOKUP($A1097,BasinData!$1:$1048576,4,FALSE)","v":39.753578546838199},{"$f":"VLOOKUP($A1097,BasinData!$1:$1048576,5,FALSE)","v":6.8198198842700002},87.499317304165004,{"$f":"VLOOKUP($A1097,Sheet1!$1:$1048576,9,FALSE)","v":138.78306425560791},-20.521942343054693,{"$f":"VLOOKUP($A1097,Sheet1!$1:$1048576,10,FALSE)","v":130.23577236207194},-13.536806542303854,{"$f":"VLOOKUP($A1097,Sheet1!$1:$1048576,11,FALSE)","v":113.14118857499997},1.9258523433480299,{"$f":"VLOOKUP($A1097,Sheet1!$1:$1048576,12,FALSE)","v":87.499312894392034},30.168225682240735]
[24058,{"$f":"VLOOKUP($A1098,BasinData!$1:$1048576,2,FALSE)","v":8.6956521739130432E-2},8.3681113987416396,{"$f":"VLOOKUP($A1098,BasinData!$1:$1048576,3,FALSE)","v":23.152568671657171},{"$f":"VLOOKUP($A1098,BasinData!$1:$1048576,4,FALSE)","v":43.842273622047244},{"$f":"VLOOKUP($A1098,BasinData!$1:$1048576,5,FALSE)","v":12.1382219705},77.404773457269627,{"$f":"VLOOKUP($A1098,Sheet1!$1:$1048576,9,FALSE)","v":122.77149252347419},-42.32160462179516,{"$f":"VLOOKUP($A1098,Sheet1!$1:$1048576,10,FALSE)","v":115.21031214147523},-35.337097920001689,{"$f":"VLOOKUP($A1098,Sheet1!$1:$1048576,11,FALSE)","v":100.0879513774773},-19.873746539575841,{"$f":"VLOOKUP($A1098,Sheet1!$1:$1048576,12,FALSE)","v":77.404410231480398},8.3681113987416396]
[24059,{"$f":"VLOOKUP($A1099,BasinData!$1:$1048576,2,FALSE)","v":0.38988732394366193},-32.22075790377496,{"$f":"VLOOKUP($A1099,BasinData!$1:$1048576,3,FALSE)","v":62.517270464641243},{"$f":"VLOOKUP($A1099,BasinData!$1:$1048576,4,FALSE)","v":24.791827293754821},{"$f":"VLOOKUP($A1099,BasinData!$1:$1048576,5,FALSE)","v":22.040688685799999},130.86377085087361,{"$f":"VLOOKUP($A1099,Sheet1!$1:$1048576,9,FALSE)","v":207.56334178269171},-82.910830630559332,{"$f":"VLOOKUP($A1099,Sheet1!$1:$1048576,10,FALSE)","v":194.78004954072964},-75.925609352185916,{"$f":"VLOOKUP($A1099,Sheet1!$1:$1048576,11,FALSE)","v":169.21346505680543},-60.463004076861949,{"$f":"VLOOKUP($A1099,Sheet1!$1:$1048576,12,FALSE)","v":130.86358833091916},-32.22075790377496]
[24060,{"$f":"VLOOKUP($A1100,BasinData!$1:$1048576,2,FALSE)","v":0.20987695040530302},23.659726353866319,{"$f":"VLOOKUP($A1100,BasinData!$1:$1048576,3,FALSE)","v":38.719488347383049},{"$f":"VLOOKUP($A1100,BasinData!$1:$1048576,4,FALSE)","v":66.306217743917429},{"$f":"VLOOKUP($A1100,BasinData!$1:$1048576,5,FALSE)","v":8.4075714904699996},40.025418586410424,{"$f":"VLOOKUP($A1100,Sheet1!$1:$1048576,9,FALSE)","v":63.48423085449145},-27.030036173317217,{"$f":"VLOOKUP($A1100,Sheet1!$1:$1048576,10,FALSE)","v":59.574400395995603},-20.044806856386227,{"$f":"VLOOKUP($A1100,Sheet1!$1:$1048576,11,FALSE)","v":51.754739479003916},-4.5824591326666697,{"$f":"VLOOKUP($A1100,Sheet1!$1:$1048576,12,FALSE)","v":40.025248103516375},23.659726353866319]
[24061,{"$f":"VLOOKUP($A1101,BasinData!$1:$1048576,2,FALSE)","v":0.90204909819639278},-35.605258852515462,{"$f":"VLOOKUP($A1101,BasinData!$1:$1048576,3,FALSE)","v":91.931409472286802},{"$f":"VLOOKUP($A1101,BasinData!$1:$1048576,4,FALSE)","v":24.046415441176471},{"$f":"VLOOKUP($A1101,BasinData!$1:$1048576,5,FALSE)","v":22.866409849099998},128.08283943693036,{"$f":"VLOOKUP($A1101,Sheet1!$1:$1048576,9,FALSE)","v":203.15258931760329},-86.295391634602424,{"$f":"VLOOKUP($A1101,Sheet1!$1:$1048576,10,FALSE)","v":190.64094397284336},-79.310158660422275,{"$f":"VLOOKUP($A1101,Sheet1!$1:$1048576,11,FALSE)","v":165.61765328332351},-63.847548797155241,{"$f":"VLOOKUP($A1101,Sheet1!$1:$1048576,12,FALSE)","v":128.0827172490437},-35.605258852515462]
[24062,{"$f":"VLOOKUP($A1102,BasinData!$1:$1048576,2,FALSE)","v":2.0289592159469698E-3},-23.106274522340939,{"$f":"VLOOKUP($A1102,BasinData!$1:$1048576,3,FALSE)","v":0.20335852387041031},{"$f":"VLOOKUP($A1102,BasinData!$1:$1048576,4,FALSE)","v":31.358768406961179},{"$f":"VLOOKUP($A1102,BasinData!$1:$1048576,5,FALSE)","v":19.816997392000001},111.82713661343749,{"$f":"VLOOKUP($A1102,Sheet1!$1:$1048576,9,FALSE)","v":177.36895581510157},-73.796145101911804,{"$f":"VLOOKUP($A1102,Sheet1!$1:$1048576,10,FALSE)","v":166.44525812666336},-66.810918871674531,{"$f":"VLOOKUP($A1102,Sheet1!$1:$1048576,11,FALSE)","v":144.59786274978688},-51.348328686861564,{"$f":"VLOOKUP($A1102,Sheet1!$1:$1048576,12,FALSE)","v":111.82676968447215},-23.106274522340939]
[24063,{"$f":"VLOOKUP($A1103,BasinData!$1:$1048576,2,FALSE)","v":0.57546563140151519},31.065055427800882,{"$f":"VLOOKUP($A1103,BasinData!$1:$1048576,3,FALSE)","v":4.1288368471327104},{"$f":"VLOOKUP($A1103,BasinData!$1:$1048576,4,FALSE)","v":39.91507430997877},{"$f":"VLOOKUP($A1103,BasinData!$1:$1048576,5,FALSE)","v":6.6009833074299999},83.221569052075083,{"$f":"VLOOKUP($A1103,Sheet1!$1:$1048576,9,FALSE)","v":131.99791646370318},-19.624987320159597,{"$f":"VLOOKUP($A1103,Sheet1!$1:$1048576,10,FALSE)","v":123.86850436716732},-12.639859750115493,{"$f":"VLOOKUP($A1103,Sheet1!$1:$1048576,11,FALSE)","v":107.60968017409564},2.822837462077509,{"$f":"VLOOKUP($A1103,Sheet1!$1:$1048576,12,FALSE)","v":83.22144388448811},31.065055427800882]
[24064,{"$f":"VLOOKUP($A1104,BasinData!$1:$1048576,2,FALSE)","v":6.0190703218116808E-2},5.624122940223601,{"$f":"VLOOKUP($A1104,BasinData!$1:$1048576,3,FALSE)","v":18.581399430728364},{"$f":"VLOOKUP($A1104,BasinData!$1:$1048576,4,FALSE)","v":30.067674131849852},{"$f":"VLOOKUP($A1104,BasinData!$1:$1048576,5,FALSE)","v":12.807717264800001},115.51273987027037,{"$f":"VLOOKUP($A1104,Sheet1!$1:$1048576,9,FALSE)","v":183.21477475447296},-45.065798547387374,{"$f":"VLOOKUP($A1104,Sheet1!$1:$1048576,10,FALSE)","v":171.93104811654027},-38.081115474246886,{"$f":"VLOOKUP($A1104,Sheet1!$1:$1048576,11,FALSE)","v":149.36359484067489},-22.61793909331184,{"$f":"VLOOKUP($A1104,Sheet1!$1:$1048576,12,FALSE)","v":115.5124149268768},5.624122940223601]
[24065,{"$f":"VLOOKUP($A1105,BasinData!$1:$1048576,2,FALSE)","v":0.14203066242406712},-5.4240046926886354,{"$f":"VLOOKUP($A1105,BasinData!$1:$1048576,3,FALSE)","v":25.968156100090251},{"$f":"VLOOKUP($A1105,BasinData!$1:$1048576,4,FALSE)","v":24.9535052963532},{"$f":"VLOOKUP($A1105,BasinData!$1:$1048576,5,FALSE)","v":15.503177875265401},132.99386897778723,{"$f":"VLOOKUP($A1105,Sheet1!$1:$1048576,9,FALSE)","v":210.94216997948749},-56.114225927240213,{"$f":"VLOOKUP($A1105,Sheet1!$1:$1048576,10,FALSE)","v":197.95078440127412},-49.129081226374389,{"$f":"VLOOKUP($A1105,Sheet1!$1:$1048576,11,FALSE)","v":171.96801324484741},-33.666452128140932,{"$f":"VLOOKUP($A1105,Sheet1!$1:$1048576,12,FALSE)","v":132.99385651020734},-5.4240046926886354]
[24066,{"$f":"VLOOKUP($A1106,BasinData!$1:$1048576,2,FALSE)","v":0.27907367007887229},-16.580805843953065,{"$f":"VLOOKUP($A1106,BasinData!$1:$1048576,3,FALSE)","v":40.23360620512728},{"$f":"VLOOKUP($A1106,BasinData!$1:$1048576,4,FALSE)","v":20.98138747884941},{"$f":"VLOOKUP($A1106,BasinData!$1:$1048576,5,FALSE)","v":18.224934934426301},147.465016842495,{"$f":"VLOOKUP($A1106,Sheet1!$1:$1048576,9,FALSE)","v":233.89367044208117},-67.270013531196966,{"$f":"VLOOKUP($A1106,Sheet1!$1:$1048576,10,FALSE)","v":219.48876099551521},-60.285212465282093,{"$f":"VLOOKUP($A1106,Sheet1!$1:$1048576,11,FALSE)","v":190.6789421023833},-44.822635796291436,{"$f":"VLOOKUP($A1106,Sheet1!$1:$1048576,12,FALSE)","v":147.4642137626854},-16.580805843953065]
[24067,{"$f":"VLOOKUP($A1107,BasinData!$1:$1048576,2,FALSE)","v":0.24443087263825758},31.343792258387207,{"$f":"VLOOKUP($A1107,BasinData!$1:$1048576,3,FALSE)","v":21.658642280247047},{"$f":"VLOOKUP($A1107,BasinData!$1:$1048576,4,FALSE)","v":45.650684931506852},{"$f":"VLOOKUP($A1107,BasinData!$1:$1048576,5,FALSE)","v":6.5329994202151598},72.49761206273655,{"$f":"VLOOKUP($A1107,Sheet1!$1:$1048576,9,FALSE)","v":114.98870554292621},-19.346334598967974,{"$f":"VLOOKUP($A1107,Sheet1!$1:$1048576,10,FALSE)","v":107.90684698902464},-12.361217247815912,{"$f":"VLOOKUP($A1107,Sheet1!$1:$1048576,11,FALSE)","v":93.743129881221478},3.101495092795429,{"$f":"VLOOKUP($A1107,Sheet1!$1:$1048576,12,FALSE)","v":72.497554219516758},31.343792258387207]
[24068,{"$f":"VLOOKUP($A1108,BasinData!$1:$1048576,2,FALSE)","v":0},9.0680382673323763,{"$f":"VLOOKUP($A1108,BasinData!$1:$1048576,3,FALSE)","v":22.250691753710402},{"$f":"VLOOKUP($A1108,BasinData!$1:$1048576,4,FALSE)","v":44.660600903318716},{"$f":"VLOOKUP($A1108,BasinData!$1:$1048576,5,FALSE)","v":11.967446263499999},76.149898011737008,{"$f":"VLOOKUP($A1108,Sheet1!$1:$1048576,9,FALSE)","v":120.78106573195592},-41.621625527406493,{"$f":"VLOOKUP($A1108,Sheet1!$1:$1048576,10,FALSE)","v":113.34247061546519},-34.637154537728492,{"$f":"VLOOKUP($A1108,Sheet1!$1:$1048576,11,FALSE)","v":98.465280382483741},-19.173754629632736,{"$f":"VLOOKUP($A1108,Sheet1!$1:$1048576,12,FALSE)","v":76.149495033011561},9.0680382673323763]
[24069,{"$f":"VLOOKUP($A1109,BasinData!$1:$1048576,2,FALSE)","v":0.21393006031060605},-2.8654160246290825,{"$f":"VLOOKUP($A1109,BasinData!$1:$1048576,3,FALSE)","v":7.0500268833900668},{"$f":"VLOOKUP($A1109,BasinData!$1:$1048576,4,FALSE)","v":47.605177993527512},{"$f":"VLOOKUP($A1109,BasinData!$1:$1048576,5,FALSE)","v":14.8789593233},68.691834443163742,{"$f":"VLOOKUP($A1109,Sheet1!$1:$1048576,9,FALSE)","v":108.95240435935598},-53.555614408034216,{"$f":"VLOOKUP($A1109,Sheet1!$1:$1048576,10,FALSE)","v":102.24230606633355},-46.570542104342799,{"$f":"VLOOKUP($A1109,Sheet1!$1:$1048576,11,FALSE)","v":88.822109480288674},-31.107973988200737,{"$f":"VLOOKUP($A1109,Sheet1!$1:$1048576,12,FALSE)","v":68.691814601221367},-2.8654160246290825]
[24070,{"$f":"VLOOKUP($A1110,BasinData!$1:$1048576,2,FALSE)","v":0.24026706462310604},1.2171001617342321,{"$f":"VLOOKUP($A1110,BasinData!$1:$1048576,3,FALSE)","v":57.825189258309017},{"$f":"VLOOKUP($A1110,BasinData!$1:$1048576,4,FALSE)","v":43.112767940354146},{"$f":"VLOOKUP($A1110,BasinData!$1:$1048576,5,FALSE)","v":13.882936838299999},78.042177486860965,{"$f":"VLOOKUP($A1110,Sheet1!$1:$1048576,9,FALSE)","v":123.78293058513968},-49.473022628017034,{"$f":"VLOOKUP($A1110,Sheet1!$1:$1048576,10,FALSE)","v":116.15945833495307},-42.488102057260996,{"$f":"VLOOKUP($A1110,Sheet1!$1:$1048576,11,FALSE)","v":100.91251383457987},-27.025155826397125,{"$f":"VLOOKUP($A1110,Sheet1!$1:$1048576,12,FALSE)","v":78.042097084020043},1.2171001617342321]
[24071,{"$f":"VLOOKUP($A1111,BasinData!$1:$1048576,2,FALSE)","v":1.0495283018867924E-2},8.4716499665591591,{"$f":"VLOOKUP($A1111,BasinData!$1:$1048576,3,FALSE)","v":20.206464980466318},{"$f":"VLOOKUP($A1111,BasinData!$1:$1048576,4,FALSE)","v":44.854149548069024},{"$f":"VLOOKUP($A1111,BasinData!$1:$1048576,5,FALSE)","v":12.1129596032},75.658369331763154,{"$f":"VLOOKUP($A1111,Sheet1!$1:$1048576,9,FALSE)","v":120.00151563323537},-42.218059764467363,{"$f":"VLOOKUP($A1111,Sheet1!$1:$1048576,10,FALSE)","v":112.61093100185057},-35.233557171083405,{"$f":"VLOOKUP($A1111,Sheet1!$1:$1048576,11,FALSE)","v":97.829761739080993},-19.770198710638478,{"$f":"VLOOKUP($A1111,Sheet1!$1:$1048576,12,FALSE)","v":75.658007844926601},8.4716499665591591]
[24072,{"$f":"VLOOKUP($A1112,BasinData!$1:$1048576,2,FALSE)","v":0},8.0342154598542024,{"$f":"VLOOKUP($A1112,BasinData!$1:$1048576,3,FALSE)","v":20.82311140621033},{"$f":"VLOOKUP($A1112,BasinData!$1:$1048576,4,FALSE)","v":44.706077523720687},{"$f":"VLOOKUP($A1112,BasinData!$1:$1048576,5,FALSE)","v":12.2196890102},76.049815966374226,{"$f":"VLOOKUP($A1112,Sheet1!$1:$1048576,9,FALSE)","v":120.62243054567155},-42.654779267976913,{"$f":"VLOOKUP($A1112,Sheet1!$1:$1048576,10,FALSE)","v":113.19360536219845},-35.670999820104818,{"$f":"VLOOKUP($A1112,Sheet1!$1:$1048576,11,FALSE)","v":98.335954995252251},-20.207671516406826,{"$f":"VLOOKUP($A1112,Sheet1!$1:$1048576,12,FALSE)","v":76.049479444832969},8.0342154598542024]
[24073,{"$f":"VLOOKUP($A1113,BasinData!$1:$1048576,2,FALSE)","v":0.10923798937878228},8.562169829412932,{"$f":"VLOOKUP($A1113,BasinData!$1:$1048576,3,FALSE)","v":22.74149027465306},{"$f":"VLOOKUP($A1113,BasinData!$1:$1048576,4,FALSE)","v":42.95603229478224},{"$f":"VLOOKUP($A1113,BasinData!$1:$1048576,5,FALSE)","v":12.0908736437},79.26441930040518,{"$f":"VLOOKUP($A1113,Sheet1!$1:$1048576,9,FALSE)","v":125.72105131723164},-42.12753565501427,{"$f":"VLOOKUP($A1113,Sheet1!$1:$1048576,10,FALSE)","v":117.97821519717405},-35.143035329490843,{"$f":"VLOOKUP($A1113,Sheet1!$1:$1048576,11,FALSE)","v":102.49254295705884},-19.679670650090202,{"$f":"VLOOKUP($A1113,Sheet1!$1:$1048576,12,FALSE)","v":79.264034596886063},8.562169829412932]
[24074,{"$f":"VLOOKUP($A1114,BasinData!$1:$1048576,2,FALSE)","v":0.17583664208735111},8.7301131217792225,{"$f":"VLOOKUP($A1114,BasinData!$1:$1048576,3,FALSE)","v":21.581827999737445},{"$f":"VLOOKUP($A1114,BasinData!$1:$1048576,4,FALSE)","v":44.783202703674405},{"$f":"VLOOKUP($A1114,BasinData!$1:$1048576,5,FALSE)","v":12.0498970636},74.767999109507983,{"$f":"VLOOKUP($A1114,Sheet1!$1:$1048576,9,FALSE)","v":118.5892762051963},-41.959588180565945,{"$f":"VLOOKUP($A1114,Sheet1!$1:$1048576,10,FALSE)","v":111.2856677670506},-34.975088186182823,{"$f":"VLOOKUP($A1114,Sheet1!$1:$1048576,11,FALSE)","v":96.678450890759223},-19.511711896133495,{"$f":"VLOOKUP($A1114,Sheet1!$1:$1048576,12,FALSE)","v":74.767625576322132},8.7301131217792225]
[24075,{"$f":"VLOOKUP($A1115,BasinData!$1:$1048576,2,FALSE)","v":0.55455119616856063},21.580654935668488,{"$f":"VLOOKUP($A1115,BasinData!$1:$1048576,3,FALSE)","v":7.1986178936101144},{"$f":"VLOOKUP($A1115,BasinData!$1:$1048576,4,FALSE)","v":28.819531839919456},{"$f":"VLOOKUP($A1115,BasinData!$1:$1048576,5,FALSE)","v":8.91489877335},114.88407140644556,{"$f":"VLOOKUP($A1115,Sheet1!$1:$1048576,9,FALSE)","v":182.21806478913783},-29.109523630275149,{"$f":"VLOOKUP($A1115,Sheet1!$1:$1048576,10,FALSE)","v":170.99572295382939},-22.124291014756892,{"$f":"VLOOKUP($A1115,Sheet1!$1:$1048576,11,FALSE)","v":148.55103928321245},-6.6617013563612648,{"$f":"VLOOKUP($A1115,Sheet1!$1:$1048576,12,FALSE)","v":114.88401377728702},21.580654935668488]
[24076,{"$f":"VLOOKUP($A1116,BasinData!$1:$1048576,2,FALSE)","v":0},8.7188756083148498,{"$f":"VLOOKUP($A1116,BasinData!$1:$1048576,3,FALSE)","v":21.165131611484547},{"$f":"VLOOKUP($A1116,BasinData!$1:$1048576,4,FALSE)","v":44.624926288355823},{"$f":"VLOOKUP($A1116,BasinData!$1:$1048576,5,FALSE)","v":12.052638913499999},76.2284254670965,{"$f":"VLOOKUP($A1116,Sheet1!$1:$1048576,9,FALSE)","v":120.90565478697931},-41.970825809741413,{"$f":"VLOOKUP($A1116,Sheet1!$1:$1048576,10,FALSE)","v":113.4593865511081},-34.986325964676041,{"$f":"VLOOKUP($A1116,Sheet1!$1:$1048576,11,FALSE)","v":98.566850079365651},-19.522950454476589,{"$f":"VLOOKUP($A1116,Sheet1!$1:$1048576,12,FALSE)","v":76.228045371751975},8.7188756083148498]
[24077,{"$f":"VLOOKUP($A1117,BasinData!$1:$1048576,2,FALSE)","v":0.41976760632765153},2.6508647365264388,{"$f":"VLOOKUP($A1117,BasinData!$1:$1048576,3,FALSE)","v":4.3624366948989834},{"$f":"VLOOKUP($A1117,BasinData!$1:$1048576,4,FALSE)","v":50.623347185493003},{"$f":"VLOOKUP($A1117,BasinData!$1:$1048576,5,FALSE)","v":13.5331325301},61.874990968958016,{"$f":"VLOOKUP($A1117,Sheet1!$1:$1048576,9,FALSE)","v":98.140064324706131},-48.039205373278271,{"$f":"VLOOKUP($A1117,Sheet1!$1:$1048576,10,FALSE)","v":92.095870238540712},-41.054357200414685,{"$f":"VLOOKUP($A1117,Sheet1!$1:$1048576,11,FALSE)","v":80.007482066209889},-25.591342993000406,{"$f":"VLOOKUP($A1117,Sheet1!$1:$1048576,12,FALSE)","v":61.874899807713625},2.6508647365264388]
[24078,{"$f":"VLOOKUP($A1118,BasinData!$1:$1048576,2,FALSE)","v":0.22477296539015149},8.8576931977980156,{"$f":"VLOOKUP($A1118,BasinData!$1:$1048576,3,FALSE)","v":9.1079377164031605},{"$f":"VLOOKUP($A1118,BasinData!$1:$1048576,4,FALSE)","v":48.659269533055941},{"$f":"VLOOKUP($A1118,BasinData!$1:$1048576,5,FALSE)","v":12.0187686729},66.570471063646082,{"$f":"VLOOKUP($A1118,Sheet1!$1:$1048576,9,FALSE)","v":105.58719242831782},-41.831994115662262,{"$f":"VLOOKUP($A1118,Sheet1!$1:$1048576,10,FALSE)","v":99.084348880767905},-34.8475050167714,{"$f":"VLOOKUP($A1118,Sheet1!$1:$1048576,11,FALSE)","v":86.078661785668075},-19.384119853061843,{"$f":"VLOOKUP($A1118,Sheet1!$1:$1048576,12,FALSE)","v":66.57013114301833},8.8576931977980156]
[24079,{"$f":"VLOOKUP($A1119,BasinData!$1:$1048576,2,FALSE)","v":1.7776909552647002E-2},8.0141161273752388,{"$f":"VLOOKUP($A1119,BasinData!$1:$1048576,3,FALSE)","v":20.883023773630001},{"$f":"VLOOKUP($A1119,BasinData!$1:$1048576,4,FALSE)","v":42.907675549861459},{"$f":"VLOOKUP($A1119,BasinData!$1:$1048576,5,FALSE)","v":12.224593022600001},79.987401394582903,{"$f":"VLOOKUP($A1119,Sheet1!$1:$1048576,9,FALSE)","v":126.8678273376414},-42.675620325850261,{"$f":"VLOOKUP($A1119,Sheet1!$1:$1048576,10,FALSE)","v":119.05436423268819},-35.691099991661936,{"$f":"VLOOKUP($A1119,Sheet1!$1:$1048576,11,FALSE)","v":103.42743802278173},-20.227772557066022,{"$f":"VLOOKUP($A1119,Sheet1!$1:$1048576,12,FALSE)","v":79.987048707922071},8.0141161273752388]
[24080,{"$f":"VLOOKUP($A1120,BasinData!$1:$1048576,2,FALSE)","v":6.7359249329758716E-2},6.126105256917489,{"$f":"VLOOKUP($A1120,BasinData!$1:$1048576,3,FALSE)","v":18.294679726193202},{"$f":"VLOOKUP($A1120,BasinData!$1:$1048576,4,FALSE)","v":31.66860582760016},{"$f":"VLOOKUP($A1120,BasinData!$1:$1048576,5,FALSE)","v":12.6852418861},110.22371072833062,{"$f":"VLOOKUP($A1120,Sheet1!$1:$1048576,9,FALSE)","v":174.82579366197811},-44.563782937502047,{"$f":"VLOOKUP($A1120,Sheet1!$1:$1048576,10,FALSE)","v":164.05872278799978},-37.579131571718854,{"$f":"VLOOKUP($A1120,Sheet1!$1:$1048576,11,FALSE)","v":142.5245810400431},-22.115924991891006,{"$f":"VLOOKUP($A1120,Sheet1!$1:$1048576,12,FALSE)","v":110.22336841810809},6.126105256917489]
[24081,{"$f":"VLOOKUP($A1121,BasinData!$1:$1048576,2,FALSE)","v":3.9439467422348485E-3},33.454363573670442,{"$f":"VLOOKUP($A1121,BasinData!$1:$1048576,3,FALSE)","v":11.725150491579324},{"$f":"VLOOKUP($A1121,BasinData!$1:$1048576,4,FALSE)","v":42.234848484848484},{"$f":"VLOOKUP($A1121,BasinData!$1:$1048576,5,FALSE)","v":6.0180421960199997},81.65261981600915,{"$f":"VLOOKUP($A1121,Sheet1!$1:$1048576,9,FALSE)","v":129.50927315540557},-17.235572841073004,{"$f":"VLOOKUP($A1121,Sheet1!$1:$1048576,10,FALSE)","v":121.53313019793224},-10.250641938952077,{"$f":"VLOOKUP($A1121,Sheet1!$1:$1048576,11,FALSE)","v":105.58084428298558},5.2122371503932436,{"$f":"VLOOKUP($A1121,Sheet1!$1:$1048576,12,FALSE)","v":81.652415410565595},33.454363573670442]
[24082,{"$f":"VLOOKUP($A1122,BasinData!$1:$1048576,2,FALSE)","v":0.50971946022727266},37.507887584235235,{"$f":"VLOOKUP($A1122,BasinData!$1:$1048576,3,FALSE)","v":11.836968755172109},{"$f":"VLOOKUP($A1122,BasinData!$1:$1048576,4,FALSE)","v":49.671086979221052},{"$f":"VLOOKUP($A1122,BasinData!$1:$1048576,5,FALSE)","v":5.0290555999400004},63.122898802665709,{"$f":"VLOOKUP($A1122,Sheet1!$1:$1048576,9,FALSE)","v":100.11905725147818},-13.181859501995788,{"$f":"VLOOKUP($A1122,Sheet1!$1:$1048576,10,FALSE)","v":93.952982082119433},-6.1975496520477744,{"$f":"VLOOKUP($A1122,Sheet1!$1:$1048576,11,FALSE)","v":81.620831743401922},9.2660170659936778,{"$f":"VLOOKUP($A1122,Sheet1!$1:$1048576,12,FALSE)","v":63.122606235325655},37.507887584235235]
[24083,{"$f":"VLOOKUP($A1123,BasinData!$1:$1048576,2,FALSE)","v":0.63355610561056108},7.7742644021534,{"$f":"VLOOKUP($A1123,BasinData!$1:$1048576,3,FALSE)","v":19.724687403391975},{"$f":"VLOOKUP($A1123,BasinData!$1:$1048576,4,FALSE)","v":40.67454261299865},{"$f":"VLOOKUP($A1123,BasinData!$1:$1048576,5,FALSE)","v":12.283114076894501},81.018785252811256,{"$f":"VLOOKUP($A1123,Sheet1!$1:$1048576,9,FALSE)","v":128.50372655015423},-42.915498980547667,{"$f":"VLOOKUP($A1123,Sheet1!$1:$1048576,10,FALSE)","v":120.58951262122437},-35.930955771755947,{"$f":"VLOOKUP($A1123,Sheet1!$1:$1048576,11,FALSE)","v":104.76108476336469},-20.46764432363624,{"$f":"VLOOKUP($A1123,Sheet1!$1:$1048576,12,FALSE)","v":81.018442976575159},7.7742644021534]
[24084,{"$f":"VLOOKUP($A1124,BasinData!$1:$1048576,2,FALSE)","v":0.22658855521401516},29.271395531146677,{"$f":"VLOOKUP($A1124,BasinData!$1:$1048576,3,FALSE)","v":46.225062284079215},{"$f":"VLOOKUP($A1124,BasinData!$1:$1048576,4,FALSE)","v":45.290423861852439},{"$f":"VLOOKUP($A1124,BasinData!$1:$1048576,5,FALSE)","v":7.0383328573100004},73.366967248981226,{"$f":"VLOOKUP($A1124,Sheet1!$1:$1048576,9,FALSE)","v":116.36644382513609},-21.417543159326289,{"$f":"VLOOKUP($A1124,Sheet1!$1:$1048576,10,FALSE)","v":109.19973391480922},-14.432443276976198,{"$f":"VLOOKUP($A1124,Sheet1!$1:$1048576,11,FALSE)","v":94.86631409415547},1.0301925967196677,{"$f":"VLOOKUP($A1124,Sheet1!$1:$1048576,12,FALSE)","v":73.366184363174852},29.271395531146677]
[24087,{"$f":"VLOOKUP($A1125,BasinData!$1:$1048576,2,FALSE)","v":5.6859474029285352E-2},32.235023366731063,{"$f":"VLOOKUP($A1125,BasinData!$1:$1048576,3,FALSE)","v":6.9924282600652035},{"$f":"VLOOKUP($A1125,BasinData!$1:$1048576,4,FALSE)","v":51.324122049510649},{"$f":"VLOOKUP($A1125,BasinData!$1:$1048576,5,FALSE)","v":6.3155883954899998},62.511248538321567,{"$f":"VLOOKUP($A1125,Sheet1!$1:$1048576,9,FALSE)","v":99.14937740706965},-18.455199868480957,{"$f":"VLOOKUP($A1125,Sheet1!$1:$1048576,10,FALSE)","v":93.043022324725072},-11.470135919497443,{"$f":"VLOOKUP($A1125,Sheet1!$1:$1048576,11,FALSE)","v":80.830312160035902},3.9926353901584828,{"$f":"VLOOKUP($A1125,Sheet1!$1:$1048576,12,FALSE)","v":62.511246913002161},32.235023366731063]
[24088,{"$f":"VLOOKUP($A1126,BasinData!$1:$1048576,2,FALSE)","v":2.5088889235984849E-3},31.858745568697007,{"$f":"VLOOKUP($A1126,BasinData!$1:$1048576,3,FALSE)","v":28.411148799131954},{"$f":"VLOOKUP($A1126,BasinData!$1:$1048576,4,FALSE)","v":65.044565106034213},{"$f":"VLOOKUP($A1126,BasinData!$1:$1048576,5,FALSE)","v":6.4073843114900004},42.24099953163644,{"$f":"VLOOKUP($A1126,Sheet1!$1:$1048576,9,FALSE)","v":66.998633285434721},-18.831458819446727,{"$f":"VLOOKUP($A1126,Sheet1!$1:$1048576,10,FALSE)","v":62.872359822385377},-11.84636871092817,{"$f":"VLOOKUP($A1126,Sheet1!$1:$1048576,11,FALSE)","v":54.619812896286703},3.6163757092080497,{"$f":"VLOOKUP($A1126,Sheet1!$1:$1048576,12,FALSE)","v":42.240992507138685},31.858745568697007]
[24089,{"$f":"VLOOKUP($A1127,BasinData!$1:$1048576,2,FALSE)","v":0.18046120058565154},32.136015372109021,{"$f":"VLOOKUP($A1127,BasinData!$1:$1048576,3,FALSE)","v":11.50186465597108},{"$f":"VLOOKUP($A1127,BasinData!$1:$1048576,4,FALSE)","v":54.475270874585625},{"$f":"VLOOKUP($A1127,BasinData!$1:$1048576,5,FALSE)","v":6.3397425956199998},56.480519561202378,{"$f":"VLOOKUP($A1127,Sheet1!$1:$1048576,9,FALSE)","v":89.58400868613387},-18.554204812553941,{"$f":"VLOOKUP($A1127,Sheet1!$1:$1048576,10,FALSE)","v":84.066760055398944},-11.569133500309713,{"$f":"VLOOKUP($A1127,Sheet1!$1:$1048576,11,FALSE)","v":73.032262793929107},3.8936304484436293,{"$f":"VLOOKUP($A1127,Sheet1!$1:$1048576,12,FALSE)","v":56.480516901724357},32.136015372109021]
[24090,{"$f":"VLOOKUP($A1128,BasinData!$1:$1048576,2,FALSE)","v":3.0843898059280304E-3},-8.7653218206521437,{"$f":"VLOOKUP($A1128,BasinData!$1:$1048576,3,FALSE)","v":7.5156029510538067},{"$f":"VLOOKUP($A1128,BasinData!$1:$1048576,4,FALSE)","v":41.756440281030443},{"$f":"VLOOKUP($A1128,BasinData!$1:$1048576,5,FALSE)","v":16.318036529699999},82.796140927117378,{"$f":"VLOOKUP($A1128,Sheet1!$1:$1048576,9,FALSE)","v":131.32178507025762},-59.454269371705472,{"$f":"VLOOKUP($A1128,Sheet1!$1:$1048576,10,FALSE)","v":123.23401416682526},-52.469045441142171,{"$f":"VLOOKUP($A1128,Sheet1!$1:$1048576,11,FALSE)","v":107.05847235996058},-37.006467537715302,{"$f":"VLOOKUP($A1128,Sheet1!$1:$1048576,12,FALSE)","v":82.795159649663532},-8.7653218206521437]
[24091,{"$f":"VLOOKUP($A1129,BasinData!$1:$1048576,2,FALSE)","v":0.26332804160416662},-19.075356177522011,{"$f":"VLOOKUP($A1129,BasinData!$1:$1048576,3,FALSE)","v":34.270322799120258},{"$f":"VLOOKUP($A1129,BasinData!$1:$1048576,4,FALSE)","v":30.395569620253166},{"$f":"VLOOKUP($A1129,BasinData!$1:$1048576,5,FALSE)","v":18.833549666300001},112.48758062908092,{"$f":"VLOOKUP($A1129,Sheet1!$1:$1048576,9,FALSE)","v":178.41626386835151},-69.765102367629623,{"$f":"VLOOKUP($A1129,Sheet1!$1:$1048576,10,FALSE)","v":167.42806517122327},-62.779864001705775,{"$f":"VLOOKUP($A1129,Sheet1!$1:$1048576,11,FALSE)","v":145.45166777696676},-47.317281879958344,{"$f":"VLOOKUP($A1129,Sheet1!$1:$1048576,12,FALSE)","v":112.48707168558199},-19.075356177522011]
[24092,{"$f":"VLOOKUP($A1130,BasinData!$1:$1048576,2,FALSE)","v":9.6685014658522722E-2},27.421255107082196,{"$f":"VLOOKUP($A1130,BasinData!$1:$1048576,3,FALSE)","v":27.456091670785298},{"$f":"VLOOKUP($A1130,BasinData!$1:$1048576,4,FALSE)","v":72.201455833169391},{"$f":"VLOOKUP($A1130,BasinData!$1:$1048576,5,FALSE)","v":7.4899818930000004},34.077816807854461,{"$f":"VLOOKUP($A1130,Sheet1!$1:$1048576,9,FALSE)","v":54.050958844527109},-23.268543832072694,{"$f":"VLOOKUP($A1130,Sheet1!$1:$1048576,10,FALSE)","v":50.722099341044824},-16.283698272178061,{"$f":"VLOOKUP($A1130,Sheet1!$1:$1048576,11,FALSE)","v":44.064380334080241},-0.82106782705778503,{"$f":"VLOOKUP($A1130,Sheet1!$1:$1048576,12,FALSE)","v":34.077801823633372},27.421255107082196]
[24093,{"$f":"VLOOKUP($A1131,BasinData!$1:$1048576,2,FALSE)","v":0.20925945439204549},35.525286555147481,{"$f":"VLOOKUP($A1131,BasinData!$1:$1048576,3,FALSE)","v":6.155041963844555},{"$f":"VLOOKUP($A1131,BasinData!$1:$1048576,4,FALSE)","v":70.76372315035799},{"$f":"VLOOKUP($A1131,BasinData!$1:$1048576,5,FALSE)","v":5.5128656780399998},35.18924898336823,{"$f":"VLOOKUP($A1131,Sheet1!$1:$1048576,9,FALSE)","v":55.813819804919518},-15.164929431999028,{"$f":"VLOOKUP($A1131,Sheet1!$1:$1048576,10,FALSE)","v":52.376390230031092},-8.1802585236319487,{"$f":"VLOOKUP($A1131,Sheet1!$1:$1048576,11,FALSE)","v":45.501531080254253},7.2810504379358667,{"$f":"VLOOKUP($A1131,Sheet1!$1:$1048576,12,FALSE)","v":35.189242355589002},35.525286555147481]
[24094,{"$f":"VLOOKUP($A1132,BasinData!$1:$1048576,2,FALSE)","v":0.16199618168428029},23.042519277188031,{"$f":"VLOOKUP($A1132,BasinData!$1:$1048576,3,FALSE)","v":15.594426813095803},{"$f":"VLOOKUP($A1132,BasinData!$1:$1048576,4,FALSE)","v":60.622347949080627},{"$f":"VLOOKUP($A1132,BasinData!$1:$1048576,5,FALSE)","v":8.5581964721400006},47.360986073933752,{"$f":"VLOOKUP($A1132,Sheet1!$1:$1048576,9,FALSE)","v":75.119288526983638},-27.64743371413282,{"$f":"VLOOKUP($A1132,Sheet1!$1:$1048576,10,FALSE)","v":70.492884798843349},-20.662203697627653,{"$f":"VLOOKUP($A1132,Sheet1!$1:$1048576,11,FALSE)","v":61.24007734256277},-5.1996869722160834,{"$f":"VLOOKUP($A1132,Sheet1!$1:$1048576,12,FALSE)","v":47.360866158141903},23.042519277188031]
[24095,{"$f":"VLOOKUP($A1133,BasinData!$1:$1048576,2,FALSE)","v":0.24726626875378788},-15.136461412320482,{"$f":"VLOOKUP($A1133,BasinData!$1:$1048576,3,FALSE)","v":15.391893101342717},{"$f":"VLOOKUP($A1133,BasinData!$1:$1048576,4,FALSE)","v":38.813893523433947},{"$f":"VLOOKUP($A1133,BasinData!$1:$1048576,5,FALSE)","v":17.872545495499999},88.314469569338812,{"$f":"VLOOKUP($A1133,Sheet1!$1:$1048576,9,FALSE)","v":140.0751422935966},-65.826009685331002,{"$f":"VLOOKUP($A1133,Sheet1!$1:$1048576,10,FALSE)","v":131.44827463770696},-58.840803042424049,{"$f":"VLOOKUP($A1133,Sheet1!$1:$1048576,11,FALSE)","v":114.19453932592768},-43.378229695512211,{"$f":"VLOOKUP($A1133,Sheet1!$1:$1048576,12,FALSE)","v":88.313936358258758},-15.136461412320482]
[24096,{"$f":"VLOOKUP($A1134,BasinData!$1:$1048576,2,FALSE)","v":0},9.5777350822469867,{"$f":"VLOOKUP($A1134,BasinData!$1:$1048576,3,FALSE)","v":42.377587080664412},{"$f":"VLOOKUP($A1134,BasinData!$1:$1048576,4,FALSE)","v":41.17310443490701},{"$f":"VLOOKUP($A1134,BasinData!$1:$1048576,5,FALSE)","v":11.843084017600001},84.225090073096865,{"$f":"VLOOKUP($A1134,Sheet1!$1:$1048576,9,FALSE)","v":133.58903448463522},-41.11187116284087,{"$f":"VLOOKUP($A1134,Sheet1!$1:$1048576,10,FALSE)","v":125.36162952250791},-34.127442966837158,{"$f":"VLOOKUP($A1134,Sheet1!$1:$1048576,11,FALSE)","v":108.90681959825331},-18.664006740776195,{"$f":"VLOOKUP($A1134,Sheet1!$1:$1048576,12,FALSE)","v":84.224604711871379},9.5777350822469867]
[24097,{"$f":"VLOOKUP($A1135,BasinData!$1:$1048576,2,FALSE)","v":5.9342285091287875E-3},26.77947572794125,{"$f":"VLOOKUP($A1135,BasinData!$1:$1048576,3,FALSE)","v":6.7489138117466085},{"$f":"VLOOKUP($A1135,BasinData!$1:$1048576,4,FALSE)","v":40.953307392996109},{"$f":"VLOOKUP($A1135,BasinData!$1:$1048576,5,FALSE)","v":7.6465365717299996},84.719169460421313,{"$f":"VLOOKUP($A1135,Sheet1!$1:$1048576,9,FALSE)","v":134.37331238929423},-23.910095494472472,{"$f":"VLOOKUP($A1135,Sheet1!$1:$1048576,10,FALSE)","v":126.09760576865602},-16.925400337693723,{"$f":"VLOOKUP($A1135,Sheet1!$1:$1048576,11,FALSE)","v":109.5461925273796},-1.4627690912438147,{"$f":"VLOOKUP($A1135,Sheet1!$1:$1048576,12,FALSE)","v":84.719072665464964},26.77947572794125]
[24098,{"$f":"VLOOKUP($A1136,BasinData!$1:$1048576,2,FALSE)","v":0.22312212935984851},0.80589661178414729,{"$f":"VLOOKUP($A1136,BasinData!$1:$1048576,3,FALSE)","v":35.770651104805722},{"$f":"VLOOKUP($A1136,BasinData!$1:$1048576,4,FALSE)","v":31.19826566811194},{"$f":"VLOOKUP($A1136,BasinData!$1:$1048576,5,FALSE)","v":13.9832601385},110.27956051704005,{"$f":"VLOOKUP($A1136,Sheet1!$1:$1048576,9,FALSE)","v":174.91475868340171},-49.883850682042038,{"$f":"VLOOKUP($A1136,Sheet1!$1:$1048576,10,FALSE)","v":164.14220868262575},-42.899298827200717,{"$f":"VLOOKUP($A1136,Sheet1!$1:$1048576,11,FALSE)","v":142.59710868107379},-27.436371017427032,{"$f":"VLOOKUP($A1136,Sheet1!$1:$1048576,12,FALSE)","v":110.27945867874584},0.80589661178414729]
[24099,{"$f":"VLOOKUP($A1137,BasinData!$1:$1048576,2,FALSE)","v":0.45457231853219693},10.05602713313754,{"$f":"VLOOKUP($A1137,BasinData!$1:$1048576,3,FALSE)","v":59.548317345011242},{"$f":"VLOOKUP($A1137,BasinData!$1:$1048576,4,FALSE)","v":24.35563278308717},{"$f":"VLOOKUP($A1137,BasinData!$1:$1048576,5,FALSE)","v":11.726383563600001},131.80640061512844,{"$f":"VLOOKUP($A1137,Sheet1!$1:$1048576,9,FALSE)","v":209.05743785986829},-40.633523806245002,{"$f":"VLOOKUP($A1137,Sheet1!$1:$1048576,10,FALSE)","v":196.18212808423152},-33.648288395783155,{"$f":"VLOOKUP($A1137,Sheet1!$1:$1048576,11,FALSE)","v":170.43150853295799},-18.185663782222463,{"$f":"VLOOKUP($A1137,Sheet1!$1:$1048576,12,FALSE)","v":131.80557920604764},10.05602713313754]
[24100,{"$f":"VLOOKUP($A1138,BasinData!$1:$1048576,2,FALSE)","v":2.446159534943182E-3},39.044459117332686,{"$f":"VLOOKUP($A1138,BasinData!$1:$1048576,3,FALSE)","v":12.95947083882443},{"$f":"VLOOKUP($A1138,BasinData!$1:$1048576,4,FALSE)","v":47.35721200387222},{"$f":"VLOOKUP($A1138,BasinData!$1:$1048576,5,FALSE)","v":4.6542391166400003},70.426062362540549,{"$f":"VLOOKUP($A1138,Sheet1!$1:$1048576,9,FALSE)","v":111.7028247392762},-11.645517162152593,{"$f":"VLOOKUP($A1138,Sheet1!$1:$1048576,10,FALSE)","v":104.82333513079894},-4.6602679832998284,{"$f":"VLOOKUP($A1138,Sheet1!$1:$1048576,11,FALSE)","v":91.064355913844423},10.802202701372101,{"$f":"VLOOKUP($A1138,Sheet1!$1:$1048576,12,FALSE)","v":70.425887088412651},39.044459117332686]
[24101,{"$f":"VLOOKUP($A1139,BasinData!$1:$1048576,2,FALSE)","v":1.8871375900833334E-3},37.901433601571313,{"$f":"VLOOKUP($A1139,BasinData!$1:$1048576,3,FALSE)","v":14.338009921429368},{"$f":"VLOOKUP($A1139,BasinData!$1:$1048576,4,FALSE)","v":52.990851513019003},{"$f":"VLOOKUP($A1139,BasinData!$1:$1048576,5,FALSE)","v":4.9330603428200002},59.847500904747953,{"$f":"VLOOKUP($A1139,Sheet1!$1:$1048576,9,FALSE)","v":94.924018887831096},-12.788382582546912,{"$f":"VLOOKUP($A1139,Sheet1!$1:$1048576,10,FALSE)","v":89.077892766509123},-5.8041634953089121,{"$f":"VLOOKUP($A1139,Sheet1!$1:$1048576,11,FALSE)","v":77.385640523865177},9.6594878246213476,{"$f":"VLOOKUP($A1139,Sheet1!$1:$1048576,12,FALSE)","v":59.847262159899259},37.901433601571313]
[24102,{"$f":"VLOOKUP($A1140,BasinData!$1:$1048576,2,FALSE)","v":0.61982608294128783},-48.311031835421538,{"$f":"VLOOKUP($A1140,BasinData!$1:$1048576,3,FALSE)","v":0.21683435950116892},{"$f":"VLOOKUP($A1140,BasinData!$1:$1048576,4,FALSE)","v":13.750532141336738},{"$f":"VLOOKUP($A1140,BasinData!$1:$1048576,5,FALSE)","v":25.966231793999999},176.60828022013501,{"$f":"VLOOKUP($A1140,Sheet1!$1:$1048576,9,FALSE)","v":280.11917254159073},-99.001249526097894,{"$f":"VLOOKUP($A1140,Sheet1!$1:$1048576,10,FALSE)","v":262.86735334066111},-92.016021960768569,{"$f":"VLOOKUP($A1140,Sheet1!$1:$1048576,11,FALSE)","v":228.36371493880188},-76.553399107826607,{"$f":"VLOOKUP($A1140,Sheet1!$1:$1048576,12,FALSE)","v":176.60825733601303},-48.311031835421538]
[24103,{"$f":"VLOOKUP($A1141,BasinData!$1:$1048576,2,FALSE)","v":0.24127339411553034},8.0531867262244781,{"$f":"VLOOKUP($A1141,BasinData!$1:$1048576,3,FALSE)","v":80.799575424734655},{"$f":"VLOOKUP($A1141,BasinData!$1:$1048576,4,FALSE)","v":24.407266755619421},{"$f":"VLOOKUP($A1141,BasinData!$1:$1048576,5,FALSE)","v":12.215060232300001},133.98894275379092,{"$f":"VLOOKUP($A1141,Sheet1!$1:$1048576,9,FALSE)","v":212.51953729477168},-42.636545700423156,{"$f":"VLOOKUP($A1141,Sheet1!$1:$1048576,10,FALSE)","v":199.43100572155257},-35.651325660244211,{"$f":"VLOOKUP($A1141,Sheet1!$1:$1048576,11,FALSE)","v":173.25394257511437},-20.188698631609245,{"$f":"VLOOKUP($A1141,Sheet1!$1:$1048576,12,FALSE)","v":133.98834785545705},8.0531867262244781]
[24104,{"$f":"VLOOKUP($A1142,BasinData!$1:$1048576,2,FALSE)","v":0.5059239404318181},17.906777019056744,{"$f":"VLOOKUP($A1142,BasinData!$1:$1048576,3,FALSE)","v":81.027795869505866},{"$f":"VLOOKUP($A1142,BasinData!$1:$1048576,4,FALSE)","v":28.591503621230135},{"$f":"VLOOKUP($A1142,BasinData!$1:$1048576,5,FALSE)","v":9.8111387606499996},116.11728846106303,{"$f":"VLOOKUP($A1142,Sheet1!$1:$1048576,9,FALSE)","v":184.17360772943681},-32.78314097694561,{"$f":"VLOOKUP($A1142,Sheet1!$1:$1048576,10,FALSE)","v":172.83082903527432},-25.797889789349366,{"$f":"VLOOKUP($A1142,Sheet1!$1:$1048576,11,FALSE)","v":150.1452716469494},-10.335284050780997,{"$f":"VLOOKUP($A1142,Sheet1!$1:$1048576,12,FALSE)","v":116.11693556446197},17.906777019056744]
[24105,{"$f":"VLOOKUP($A1143,BasinData!$1:$1048576,2,FALSE)","v":8.2352941176470587E-2},1.2779130792281488,{"$f":"VLOOKUP($A1143,BasinData!$1:$1048576,3,FALSE)","v":70.745159919502768},{"$f":"VLOOKUP($A1143,BasinData!$1:$1048576,4,FALSE)","v":43.553293553293557},{"$f":"VLOOKUP($A1143,BasinData!$1:$1048576,5,FALSE)","v":13.8681},78.083832894888104,{"$f":"VLOOKUP($A1143,Sheet1!$1:$1048576,9,FALSE)","v":123.84899830619817},-49.412205197862974,{"$f":"VLOOKUP($A1143,Sheet1!$1:$1048576,10,FALSE)","v":116.22145711503771},-42.427290086374306,{"$f":"VLOOKUP($A1143,Sheet1!$1:$1048576,11,FALSE)","v":100.96637473271677},-26.96434110855844,{"$f":"VLOOKUP($A1143,Sheet1!$1:$1048576,12,FALSE)","v":78.083751159235376},1.2779130792281488]
[24106,{"$f":"VLOOKUP($A1144,BasinData!$1:$1048576,2,FALSE)","v":0},-26.673872444863402,{"$f":"VLOOKUP($A1144,BasinData!$1:$1048576,3,FALSE)","v":46.021514589020093},{"$f":"VLOOKUP($A1144,BasinData!$1:$1048576,4,FALSE)","v":31.319433578469724},{"$f":"VLOOKUP($A1144,BasinData!$1:$1048576,5,FALSE)","v":20.6874},111.97331554330871,{"$f":"VLOOKUP($A1144,Sheet1!$1:$1048576,9,FALSE)","v":177.60096574101937},-77.363276589989297,{"$f":"VLOOKUP($A1144,Sheet1!$1:$1048576,10,FALSE)","v":166.6629791581137},-70.378612994229911,{"$f":"VLOOKUP($A1144,Sheet1!$1:$1048576,11,FALSE)","v":144.78700599230234},-54.91601640607157,{"$f":"VLOOKUP($A1144,Sheet1!$1:$1048576,12,FALSE)","v":111.97304624358529},-26.673872444863402]
[24107,{"$f":"VLOOKUP($A1145,BasinData!$1:$1048576,2,FALSE)","v":0.10860879041046131},34.313325613334342,{"$f":"VLOOKUP($A1145,BasinData!$1:$1048576,3,FALSE)","v":13.96295358139637},{"$f":"VLOOKUP($A1145,BasinData!$1:$1048576,4,FALSE)","v":32.741169179921506},{"$f":"VLOOKUP($A1145,BasinData!$1:$1048576,5,FALSE)","v":5.8085220176455898},106.4896649764884,{"$f":"VLOOKUP($A1145,Sheet1!$1:$1048576,9,FALSE)","v":168.9035717971544},-16.376788359346122,{"$f":"VLOOKUP($A1145,Sheet1!$1:$1048576,10,FALSE)","v":158.50123533229458},-9.3919444517207733,{"$f":"VLOOKUP($A1145,Sheet1!$1:$1048576,11,FALSE)","v":137.69656240257501},6.070778808723734,{"$f":"VLOOKUP($A1145,Sheet1!$1:$1048576,12,FALSE)","v":106.48955300799561},34.313325613334342]
[24108,{"$f":"VLOOKUP($A1146,BasinData!$1:$1048576,2,FALSE)","v":0.30896091309848484},25.758782745937076,{"$f":"VLOOKUP($A1146,BasinData!$1:$1048576,3,FALSE)","v":6.1406510979802391},{"$f":"VLOOKUP($A1146,BasinData!$1:$1048576,4,FALSE)","v":38.780458237362105},{"$f":"VLOOKUP($A1146,BasinData!$1:$1048576,5,FALSE)","v":7.89550600182785},87.94263644827798,{"$f":"VLOOKUP($A1146,Sheet1!$1:$1048576,9,FALSE)","v":139.4858188259019},-24.931129246941403,{"$f":"VLOOKUP($A1146,Sheet1!$1:$1048576,10,FALSE)","v":130.89524608629125},-17.945901288939222,{"$f":"VLOOKUP($A1146,Sheet1!$1:$1048576,11,FALSE)","v":113.71410060706992},-2.4832692270987629,{"$f":"VLOOKUP($A1146,Sheet1!$1:$1048576,12,FALSE)","v":87.942382388237945},25.758782745937076]
[24109,{"$f":"VLOOKUP($A1147,BasinData!$1:$1048576,2,FALSE)","v":0.15680084562954544},18.149088527586198,{"$f":"VLOOKUP($A1147,BasinData!$1:$1048576,3,FALSE)","v":9.990840772524674},{"$f":"VLOOKUP($A1147,BasinData!$1:$1048576,4,FALSE)","v":28.122889939230252},{"$f":"VLOOKUP($A1147,BasinData!$1:$1048576,5,FALSE)","v":9.7520140000000008},121.20343101296126,{"$f":"VLOOKUP($A1147,Sheet1!$1:$1048576,9,FALSE)","v":192.24067610680348},-32.540792358069545,{"$f":"VLOOKUP($A1147,Sheet1!$1:$1048576,10,FALSE)","v":180.40106742465721},-25.555543260248704,{"$f":"VLOOKUP($A1147,Sheet1!$1:$1048576,11,FALSE)","v":156.72185006036472},-10.092938413138194,{"$f":"VLOOKUP($A1147,Sheet1!$1:$1048576,12,FALSE)","v":121.20302401392593},18.149088527586198]
[24110,{"$f":"VLOOKUP($A1148,BasinData!$1:$1048576,2,FALSE)","v":0},29.389944201465283,{"$f":"VLOOKUP($A1148,BasinData!$1:$1048576,3,FALSE)","v":6.7690667813905758},{"$f":"VLOOKUP($A1148,BasinData!$1:$1048576,4,FALSE)","v":30.276506862940124},{"$f":"VLOOKUP($A1148,BasinData!$1:$1048576,5,FALSE)","v":7.0095937382662798},115.3997990791235,{"$f":"VLOOKUP($A1148,Sheet1!$1:$1048576,9,FALSE)","v":183.03545007781418},-21.299754504696942,{"$f":"VLOOKUP($A1148,Sheet1!$1:$1048576,10,FALSE)","v":171.76276758538538},-14.314647034679473,{"$f":"VLOOKUP($A1148,Sheet1!$1:$1048576,11,FALSE)","v":149.21740260052781},1.147991019802246,{"$f":"VLOOKUP($A1148,Sheet1!$1:$1048576,12,FALSE)","v":115.39935512324143},29.389944201465283]
[24111,{"$f":"VLOOKUP($A1149,BasinData!$1:$1048576,2,FALSE)","v":0.15346618895132574},42.64305447470656,{"$f":"VLOOKUP($A1149,BasinData!$1:$1048576,3,FALSE)","v":65.52905169898321},{"$f":"VLOOKUP($A1149,BasinData!$1:$1048576,4,FALSE)","v":51.051914635992134},{"$f":"VLOOKUP($A1149,BasinData!$1:$1048576,5,FALSE)","v":3.7763557903606002},62.495755375721245,{"$f":"VLOOKUP($A1149,Sheet1!$1:$1048576,9,FALSE)","v":99.124774578599911},-8.0471498069892728,{"$f":"VLOOKUP($A1149,Sheet1!$1:$1048576,10,FALSE)","v":93.019934721167431},-1.0620592953981449,{"$f":"VLOOKUP($A1149,Sheet1!$1:$1048576,11,FALSE)","v":80.810255006302469},14.400034704641707,{"$f":"VLOOKUP($A1149,Sheet1!$1:$1048576,12,FALSE)","v":62.495735434005013},42.64305447470656]
[24112,{"$f":"VLOOKUP($A1150,BasinData!$1:$1048576,2,FALSE)","v":0.26135601743211534},34.845707692751695,{"$f":"VLOOKUP($A1150,BasinData!$1:$1048576,3,FALSE)","v":13.945239634314149},{"$f":"VLOOKUP($A1150,BasinData!$1:$1048576,4,FALSE)","v":31.513768446675794},{"$f":"VLOOKUP($A1150,BasinData!$1:$1048576,5,FALSE)","v":5.6786515390060996},{"$f":"EXP(6.1523-(0.084*B1150)-(0.0091*C1150)-(0.0289*E1150)-(0.0373*F1150))","v":108.92815582237256},{"$f":"VLOOKUP($A1150,Sheet1!$1:$1048576,9,FALSE)","v":172.77135710194997},-15.844463870317233,{"$f":"VLOOKUP($A1150,Sheet1!$1:$1048576,10,FALSE)","v":162.13081369045057},-8.8596926294467639,{"$f":"VLOOKUP($A1150,Sheet1!$1:$1048576,11,FALSE)","v":140.84972686745175},6.6033984626492854,{"$f":"VLOOKUP($A1150,Sheet1!$1:$1048576,12,FALSE)","v":108.92809663295354},34.845707692751695]
[24113,{"$f":"VLOOKUP($A1151,BasinData!$1:$1048576,2,FALSE)","v":0},38.292550804622849,{"$f":"VLOOKUP($A1151,BasinData!$1:$1048576,3,FALSE)","v":35.613277155235508},{"$f":"VLOOKUP($A1151,BasinData!$1:$1048576,4,FALSE)","v":41.260771824653432},{"$f":"VLOOKUP($A1151,BasinData!$1:$1048576,5,FALSE)","v":4.8376556903869101},84.011771396178162,{"$f":"VLOOKUP($A1151,Sheet1!$1:$1048576,9,FALSE)","v":133.25100336476316},-12.397326612307912,{"$f":"VLOOKUP($A1151,Sheet1!$1:$1048576,10,FALSE)","v":125.04441686968831},-5.4120742672454174,{"$f":"VLOOKUP($A1151,Sheet1!$1:$1048576,11,FALSE)","v":108.63124387953863},10.050536662216837,{"$f":"VLOOKUP($A1151,Sheet1!$1:$1048576,12,FALSE)","v":84.011484394314095},38.292550804622849]
[24116,{"$f":"VLOOKUP($A1152,BasinData!$1:$1048576,2,FALSE)","v":4.8935321842992425E-3},27.644469174499093,{"$f":"VLOOKUP($A1152,BasinData!$1:$1048576,3,FALSE)","v":2.8184251662208717},{"$f":"VLOOKUP($A1152,BasinData!$1:$1048576,4,FALSE)","v":22.58064516129032},{"$f":"VLOOKUP($A1152,BasinData!$1:$1048576,5,FALSE)","v":7.4354501736905201},144.0847023149708,{"$f":"VLOOKUP($A1152,Sheet1!$1:$1048576,9,FALSE)","v":228.53267474961757},-23.045067946063114,{"$f":"VLOOKUP($A1152,Sheet1!$1:$1048576,10,FALSE)","v":214.45793523602759},-16.060178176180862,{"$f":"VLOOKUP($A1152,Sheet1!$1:$1048576,11,FALSE)","v":186.30845620884764},-0.59754807321665704,{"$f":"VLOOKUP($A1152,Sheet1!$1:$1048576,12,FALSE)","v":144.08423766807772},27.644469174499093]
[24117,{"$f":"VLOOKUP($A1153,BasinData!$1:$1048576,2,FALSE)","v":1.7733263162613637E-3},22.380116926159882,{"$f":"VLOOKUP($A1153,BasinData!$1:$1048576,3,FALSE)","v":17.514472962874219},{"$f":"VLOOKUP($A1153,BasinData!$1:$1048576,4,FALSE)","v":53.670473083197393},{"$f":"VLOOKUP($A1153,BasinData!$1:$1048576,5,FALSE)","v":8.7198337504469094},58.683905418363736,{"$f":"VLOOKUP($A1153,Sheet1!$1:$1048576,9,FALSE)","v":93.078690256609917},-28.309969854387273,{"$f":"VLOOKUP($A1153,Sheet1!$1:$1048576,10,FALSE)","v":87.346213178383707},-21.324738851598877,{"$f":"VLOOKUP($A1153,Sheet1!$1:$1048576,11,FALSE)","v":75.881259021931271},-5.8621534886841431,{"$f":"VLOOKUP($A1153,Sheet1!$1:$1048576,12,FALSE)","v":58.683827787252611},22.380116926159882]
[24120,{"$f":"VLOOKUP($A1154,BasinData!$1:$1048576,2,FALSE)","v":2.5998912349053031E-3},11.048142332510034,{"$f":"VLOOKUP($A1154,BasinData!$1:$1048576,3,FALSE)","v":70.414144351781417},{"$f":"VLOOKUP($A1154,BasinData!$1:$1048576,4,FALSE)","v":47.969647251845778},{"$f":"VLOOKUP($A1154,BasinData!$1:$1048576,5,FALSE)","v":11.48450614964},69.18946623163815,{"$f":"VLOOKUP($A1154,Sheet1!$1:$1048576,9,FALSE)","v":109.7417306813893},-39.642087914715326,{"$f":"VLOOKUP($A1154,Sheet1!$1:$1048576,10,FALSE)","v":102.98301981081745},-32.657779326456279,{"$f":"VLOOKUP($A1154,Sheet1!$1:$1048576,11,FALSE)","v":89.46559806967376},-17.194233717427032,{"$f":"VLOOKUP($A1154,Sheet1!$1:$1048576,12,FALSE)","v":69.189465457958221},11.048142332510034]
[24123,{"$f":"VLOOKUP($A1155,BasinData!$1:$1048576,2,FALSE)","v":0.68636580700189398},4.9929445814788753,{"$f":"VLOOKUP($A1155,BasinData!$1:$1048576,3,FALSE)","v":1.9625975316496769},{"$f":"VLOOKUP($A1155,BasinData!$1:$1048576,4,FALSE)","v":24.492825333993075},{"$f":"VLOOKUP($A1155,BasinData!$1:$1048576,5,FALSE)","v":12.9617135538032},128.75288007537458,{"$f":"VLOOKUP($A1155,Sheet1!$1:$1048576,9,FALSE)","v":204.21503233214887},-45.697018671376547,{"$f":"VLOOKUP($A1155,Sheet1!$1:$1048576,10,FALSE)","v":191.63795385536901},-38.712293808583993,{"$f":"VLOOKUP($A1155,Sheet1!$1:$1048576,11,FALSE)","v":166.48379690180926},-23.249154242322184,{"$f":"VLOOKUP($A1155,Sheet1!$1:$1048576,12,FALSE)","v":128.75256147146962},4.9929445814788753]
[24128,{"$f":"VLOOKUP($A1156,BasinData!$1:$1048576,2,FALSE)","v":1.1759033000568182},-5.2279385427689729,{"$f":"VLOOKUP($A1156,BasinData!$1:$1048576,3,FALSE)","v":3.9444437011321387},{"$f":"VLOOKUP($A1156,BasinData!$1:$1048576,4,FALSE)","v":15.929580464257825},{"$f":"VLOOKUP($A1156,BasinData!$1:$1048576,5,FALSE)","v":15.4553437761508},158.26156916927397,{"$f":"VLOOKUP($A1156,Sheet1!$1:$1048576,9,FALSE)","v":251.01937968965638},-55.918160003413682,{"$f":"VLOOKUP($A1156,Sheet1!$1:$1048576,10,FALSE)","v":235.55974186821283},-48.93301867312038,{"$f":"VLOOKUP($A1156,Sheet1!$1:$1048576,11,FALSE)","v":204.64046622532567},-33.47038547519616,{"$f":"VLOOKUP($A1156,Sheet1!$1:$1048576,12,FALSE)","v":158.2615527609949},-5.2279385427689729]
[24129,{"$f":"VLOOKUP($A1157,BasinData!$1:$1048576,2,FALSE)","v":0.62620414865719698},34.316275384702195,{"$f":"VLOOKUP($A1157,BasinData!$1:$1048576,3,FALSE)","v":3.7536368332547272},{"$f":"VLOOKUP($A1157,BasinData!$1:$1048576,4,FALSE)","v":46.514285714285712},{"$f":"VLOOKUP($A1157,BasinData!$1:$1048576,5,FALSE)","v":5.8078024625267703},68.478981345896557,{"$f":"VLOOKUP($A1157,Sheet1!$1:$1048576,9,FALSE)","v":108.61471472884128},-16.373120500739688,{"$f":"VLOOKUP($A1157,Sheet1!$1:$1048576,10,FALSE)","v":101.92541387142032},-9.3889952118410829,{"$f":"VLOOKUP($A1157,Sheet1!$1:$1048576,11,FALSE)","v":88.546812156578369},6.0737260829991637,{"$f":"VLOOKUP($A1157,Sheet1!$1:$1048576,12,FALSE)","v":68.478909584315431},34.316275384702195]
[24130,{"$f":"VLOOKUP($A1158,BasinData!$1:$1048576,2,FALSE)","v":0.16829350387075059},28.78482725595476,{"$f":"VLOOKUP($A1158,BasinData!$1:$1048576,3,FALSE)","v":8.9271428734575569},{"$f":"VLOOKUP($A1158,BasinData!$1:$1048576,4,FALSE)","v":53.095189770651508},{"$f":"VLOOKUP($A1158,BasinData!$1:$1048576,5,FALSE)","v":7.15720170179},58.839112350211686,{"$f":"VLOOKUP($A1158,Sheet1!$1:$1048576,9,FALSE)","v":93.324555325577279},-21.904725578184863,{"$f":"VLOOKUP($A1158,Sheet1!$1:$1048576,10,FALSE)","v":87.576936050267008},-14.919667115278333,{"$f":"VLOOKUP($A1158,Sheet1!$1:$1048576,11,FALSE)","v":76.081697499646452},0.54296239178160743,{"$f":"VLOOKUP($A1158,Sheet1!$1:$1048576,12,FALSE)","v":58.838839673715626},28.78482725595476]
[24131,{"$f":"VLOOKUP($A1159,BasinData!$1:$1048576,2,FALSE)","v":0.82563544447159098},42.643054474706616,{"$f":"VLOOKUP($A1159,BasinData!$1:$1048576,3,FALSE)","v":4.3487126498080713},{"$f":"VLOOKUP($A1159,BasinData!$1:$1048576,4,FALSE)","v":31.065805409769879},{"$f":"VLOOKUP($A1159,BasinData!$1:$1048576,5,FALSE)","v":3.7763557903606002},105.23910793162345,{"$f":"VLOOKUP($A1159,Sheet1!$1:$1048576,9,FALSE)","v":166.92018182450428},-8.0471498069893475,{"$f":"VLOOKUP($A1159,Sheet1!$1:$1048576,10,FALSE)","v":156.63999724558158},-1.0620592953981733,{"$f":"VLOOKUP($A1159,Sheet1!$1:$1048576,11,FALSE)","v":136.07962808773621},14.400034704641739,{"$f":"VLOOKUP($A1159,Sheet1!$1:$1048576,12,FALSE)","v":105.23907435096812},42.643054474706616]
[25001,{"$f":"VLOOKUP($A1160,BasinData!$1:$1048576,2,FALSE)","v":1.7219489949412878},29.428294552661193,{"$f":"VLOOKUP($A1160,BasinData!$1:$1048576,3,FALSE)","v":5.6788705566567286},{"$f":"VLOOKUP($A1160,BasinData!$1:$1048576,4,FALSE)","v":17.316982534373839},{"$f":"VLOOKUP($A1160,BasinData!$1:$1048576,5,FALSE)","v":7.0002499699110299},145.22564204056823,{"$f":"VLOOKUP($A1160,Sheet1!$1:$1048576,9,FALSE)","v":230.34228259612709},-21.261458479625922,{"$f":"VLOOKUP($A1160,Sheet1!$1:$1048576,10,FALSE)","v":216.15609399067631},-14.276348743752816,{"$f":"VLOOKUP($A1160,Sheet1!$1:$1048576,11,FALSE)","v":187.78371677977469},1.1862900742067113,{"$f":"VLOOKUP($A1160,Sheet1!$1:$1048576,12,FALSE)","v":145.22515096342229},29.428294552661193]
[25002,{"$f":"VLOOKUP($A1161,BasinData!$1:$1048576,2,FALSE)","v":2.3742259786476865},15.21265339924566,{"$f":"VLOOKUP($A1161,BasinData!$1:$1048576,3,FALSE)","v":35.877311091563115},{"$f":"VLOOKUP($A1161,BasinData!$1:$1048576,4,FALSE)","v":14.896701703515767},{"$f":"VLOOKUP($A1161,BasinData!$1:$1048576,5,FALSE)","v":10.468478231900001},147.44289592953547,{"$f":"VLOOKUP($A1161,Sheet1!$1:$1048576,9,FALSE)","v":233.85967061820685},-35.477473556022062,{"$f":"VLOOKUP($A1161,Sheet1!$1:$1048576,10,FALSE)","v":219.45685513332521},-28.492259096589521,{"$f":"VLOOKUP($A1161,Sheet1!$1:$1048576,11,FALSE)","v":190.65122416356192},-13.029644847258318,{"$f":"VLOOKUP($A1161,Sheet1!$1:$1048576,12,FALSE)","v":147.44277770891696},15.21265339924566]
[25003,{"$f":"VLOOKUP($A1162,BasinData!$1:$1048576,2,FALSE)","v":3.0924840296212123E-2},37.114218767101782,{"$f":"VLOOKUP($A1162,BasinData!$1:$1048576,3,FALSE)","v":7.7937470925450203},{"$f":"VLOOKUP($A1162,BasinData!$1:$1048576,4,FALSE)","v":23.486046604740551},{"$f":"VLOOKUP($A1162,BasinData!$1:$1048576,5,FALSE)","v":5.1250788083899996},140.05717557532137,{"$f":"VLOOKUP($A1162,Sheet1!$1:$1048576,9,FALSE)","v":222.14414328088685},-13.57545110595512,{"$f":"VLOOKUP($A1162,Sheet1!$1:$1048576,10,FALSE)","v":208.46285698528976},-6.5901930631300454,{"$f":"VLOOKUP($A1162,Sheet1!$1:$1048576,11,FALSE)","v":181.10028439409558},8.8724307808459404,{"$f":"VLOOKUP($A1162,Sheet1!$1:$1048576,12,FALSE)","v":140.05642550730425},37.114218767101782]
[25004,{"$f":"VLOOKUP($A1163,BasinData!$1:$1048576,2,FALSE)","v":0.95046153846153836},39.386954449471801,{"$f":"VLOOKUP($A1163,BasinData!$1:$1048576,3,FALSE)","v":9.3262116587370407},{"$f":"VLOOKUP($A1163,BasinData!$1:$1048576,4,FALSE)","v":22.297682201730336},{"$f":"VLOOKUP($A1163,BasinData!$1:$1048576,5,FALSE)","v":4.5706907760300002},134.1757038356225,{"$f":"VLOOKUP($A1163,Sheet1!$1:$1048576,9,FALSE)","v":212.81624925456705},-11.303059501009631,{"$f":"VLOOKUP($A1163,Sheet1!$1:$1048576,10,FALSE)","v":199.70944395506675},-4.3178116558743307,{"$f":"VLOOKUP($A1163,Sheet1!$1:$1048576,11,FALSE)","v":173.49583335606613},11.144820088182314,{"$f":"VLOOKUP($A1163,Sheet1!$1:$1048576,12,FALSE)","v":134.1754174575652},39.386954449471801]
[25005,{"$f":"VLOOKUP($A1164,BasinData!$1:$1048576,2,FALSE)","v":0.85350151995265156},45.261242331556439,{"$f":"VLOOKUP($A1164,BasinData!$1:$1048576,3,FALSE)","v":5.4888187223692126},{"$f":"VLOOKUP($A1164,BasinData!$1:$1048576,4,FALSE)","v":24.144310823311748},{"$f":"VLOOKUP($A1164,BasinData!$1:$1048576,5,FALSE)","v":3.1376103164942202},128.24277145107803,{"$f":"VLOOKUP($A1164,Sheet1!$1:$1048576,9,FALSE)","v":203.40644881946142},-5.4289908760946384,{"$f":"VLOOKUP($A1164,Sheet1!$1:$1048576,10,FALSE)","v":190.87916892106222},1.5562436324867766,{"$f":"VLOOKUP($A1164,Sheet1!$1:$1048576,11,FALSE)","v":165.82460912426376},17.018867241368632,{"$f":"VLOOKUP($A1164,Sheet1!$1:$1048576,12,FALSE)","v":128.2427694290661},45.261242331556439]
[25006,{"$f":"VLOOKUP($A1165,BasinData!$1:$1048576,2,FALSE)","v":1.836613237253788},48.13991478137347,{"$f":"VLOOKUP($A1165,BasinData!$1:$1048576,3,FALSE)","v":7.8521223833372638},{"$f":"VLOOKUP($A1165,BasinData!$1:$1048576,4,FALSE)","v":31.675242995997717},{"$f":"VLOOKUP($A1165,BasinData!$1:$1048576,5,FALSE)","v":2.43518197072},94.983619789734945,{"$f":"VLOOKUP($A1165,Sheet1!$1:$1048576,9,FALSE)","v":150.65325386453995},-2.5498036708764169,{"$f":"VLOOKUP($A1165,Sheet1!$1:$1048576,10,FALSE)","v":141.37490753029573},4.4354279663408018,{"$f":"VLOOKUP($A1165,Sheet1!$1:$1048576,11,FALSE)","v":122.81821486180728},19.897563868720397,{"$f":"VLOOKUP($A1165,Sheet1!$1:$1048576,12,FALSE)","v":94.983175859074592},48.13991478137347]
[25007,{"$f":"VLOOKUP($A1166,BasinData!$1:$1048576,2,FALSE)","v":0.98118190945833339},42.757576056664604,{"$f":"VLOOKUP($A1166,BasinData!$1:$1048576,3,FALSE)","v":3.237155553634226},{"$f":"VLOOKUP($A1166,BasinData!$1:$1048576,4,FALSE)","v":22.581653383341145},{"$f":"VLOOKUP($A1166,BasinData!$1:$1048576,5,FALSE)","v":3.7484169435900001},132.73584729374147,{"$f":"VLOOKUP($A1166,Sheet1!$1:$1048576,9,FALSE)","v":210.53287896196014},-7.9326309982859629,{"$f":"VLOOKUP($A1166,Sheet1!$1:$1048576,10,FALSE)","v":197.56670056457227},-0.94756163534388738,{"$f":"VLOOKUP($A1166,Sheet1!$1:$1048576,11,FALSE)","v":171.63434376979657},14.515238008077047,{"$f":"VLOOKUP($A1166,Sheet1!$1:$1048576,12,FALSE)","v":132.73580857763301},42.757576056664604]
[25008,{"$f":"VLOOKUP($A1167,BasinData!$1:$1048576,2,FALSE)","v":2.3276633840644587E-2},44.699129334018231,{"$f":"VLOOKUP($A1167,BasinData!$1:$1048576,3,FALSE)","v":3.3564277849877215},{"$f":"VLOOKUP($A1167,BasinData!$1:$1048576,4,FALSE)","v":35.53363347457627},{"$f":"VLOOKUP($A1167,BasinData!$1:$1048576,5,FALSE)","v":3.2747471791499998},98.939901339130131,{"$f":"VLOOKUP($A1167,Sheet1!$1:$1048576,9,FALSE)","v":156.92902828986348},-5.9911020900095098,{"$f":"VLOOKUP($A1167,Sheet1!$1:$1048576,10,FALSE)","v":147.26417315385049},0.99413333072567622,{"$f":"VLOOKUP($A1167,Sheet1!$1:$1048576,11,FALSE)","v":127.93446288182459},16.456764214684974,{"$f":"VLOOKUP($A1167,Sheet1!$1:$1048576,12,FALSE)","v":98.939897473785706},44.699129334018231]
[25009,{"$f":"VLOOKUP($A1168,BasinData!$1:$1048576,2,FALSE)","v":1.0605634368503787},33.126663492487346,{"$f":"VLOOKUP($A1168,BasinData!$1:$1048576,3,FALSE)","v":22.980410205312015},{"$f":"VLOOKUP($A1168,BasinData!$1:$1048576,4,FALSE)","v":19.482034531031264},{"$f":"VLOOKUP($A1168,BasinData!$1:$1048576,5,FALSE)","v":6.0979683012399999},144.21064135606252,{"$f":"VLOOKUP($A1168,Sheet1!$1:$1048576,9,FALSE)","v":228.7324024577056},-17.562937280022009,{"$f":"VLOOKUP($A1168,Sheet1!$1:$1048576,10,FALSE)","v":214.64536222839493},-10.578215790937971,{"$f":"VLOOKUP($A1168,Sheet1!$1:$1048576,11,FALSE)","v":186.47128176977358},4.8846311303072358,{"$f":"VLOOKUP($A1168,Sheet1!$1:$1048576,12,FALSE)","v":144.21016108184156},33.126663492487346]
[25010,{"$f":"VLOOKUP($A1169,BasinData!$1:$1048576,2,FALSE)","v":0.6335454510909091},39.930057417091149,{"$f":"VLOOKUP($A1169,BasinData!$1:$1048576,3,FALSE)","v":12.522960906909372},{"$f":"VLOOKUP($A1169,BasinData!$1:$1048576,4,FALSE)","v":16.581910642934979},{"$f":"VLOOKUP($A1169,BasinData!$1:$1048576,5,FALSE)","v":4.4382040872599999},162.54525081795703,{"$f":"VLOOKUP($A1169,Sheet1!$1:$1048576,9,FALSE)","v":257.8133473513044},-10.760007781072412,{"$f":"VLOOKUP($A1169,Sheet1!$1:$1048576,10,FALSE)","v":241.93528653977324},-3.7747619226820932,{"$f":"VLOOKUP($A1169,Sheet1!$1:$1048576,11,FALSE)","v":210.1791649167109},11.687868189069347,{"$f":"VLOOKUP($A1169,Sheet1!$1:$1048576,12,FALSE)","v":162.5449824821174},39.930057417091149]
[25011,{"$f":"VLOOKUP($A1170,BasinData!$1:$1048576,2,FALSE)","v":0.86450905101481068},36.684829268753923,{"$f":"VLOOKUP($A1170,BasinData!$1:$1048576,3,FALSE)","v":17.47956149627753},{"$f":"VLOOKUP($A1170,BasinData!$1:$1048576,4,FALSE)","v":17.812318980498166},{"$f":"VLOOKUP($A1170,BasinData!$1:$1048576,5,FALSE)","v":5.2299794238699997},153.85260632635487,{"$f":"VLOOKUP($A1170,Sheet1!$1:$1048576,9,FALSE)","v":244.02632769711485},-14.005427583030897,{"$f":"VLOOKUP($A1170,Sheet1!$1:$1048576,10,FALSE)","v":228.99737395753331},-7.0201702705171316,{"$f":"VLOOKUP($A1170,Sheet1!$1:$1048576,11,FALSE)","v":198.93946647837021},8.4424562808752484,{"$f":"VLOOKUP($A1170,Sheet1!$1:$1048576,12,FALSE)","v":153.85260525962556},36.684829268753923]
[25012,{"$f":"VLOOKUP($A1171,BasinData!$1:$1048576,2,FALSE)","v":0.65290791918939406},39.936806976505238,{"$f":"VLOOKUP($A1171,BasinData!$1:$1048576,3,FALSE)","v":9.1877911476525522},{"$f":"VLOOKUP($A1171,BasinData!$1:$1048576,4,FALSE)","v":19.548984468339306},{"$f":"VLOOKUP($A1171,BasinData!$1:$1048576,5,FALSE)","v":4.4365575579299996},148.94566027044056,{"$f":"VLOOKUP($A1171,Sheet1!$1:$1048576,9,FALSE)","v":236.24301087659325},-10.75325879777737,{"$f":"VLOOKUP($A1171,Sheet1!$1:$1048576,10,FALSE)","v":221.69341159658998},-3.7680129631336419,{"$f":"VLOOKUP($A1171,Sheet1!$1:$1048576,11,FALSE)","v":192.59421303658348},11.694617111728798,{"$f":"VLOOKUP($A1171,Sheet1!$1:$1048576,12,FALSE)","v":148.94541519657372},39.936806976505238]
[25013,{"$f":"VLOOKUP($A1172,BasinData!$1:$1048576,2,FALSE)","v":0.57542434169886358},29.836994408274439,{"$f":"VLOOKUP($A1172,BasinData!$1:$1048576,3,FALSE)","v":34.599290316849121},{"$f":"VLOOKUP($A1172,BasinData!$1:$1048576,4,FALSE)","v":42.752485609628465},{"$f":"VLOOKUP($A1172,BasinData!$1:$1048576,5,FALSE)","v":6.9006150441300003},76.66980321495808,{"$f":"VLOOKUP($A1172,Sheet1!$1:$1048576,9,FALSE)","v":121.60625652217006},-20.853094475219464,{"$f":"VLOOKUP($A1172,Sheet1!$1:$1048576,10,FALSE)","v":114.11684002779977},-13.867966325418998,{"$f":"VLOOKUP($A1172,Sheet1!$1:$1048576,11,FALSE)","v":99.138007039059204},1.5946823123054321,{"$f":"VLOOKUP($A1172,Sheet1!$1:$1048576,12,FALSE)","v":76.669757555948337},29.836994408274439]
[25014,{"$f":"VLOOKUP($A1173,BasinData!$1:$1048576,2,FALSE)","v":0.88309503784693022},35.527323627038996,{"$f":"VLOOKUP($A1173,BasinData!$1:$1048576,3,FALSE)","v":12.448984058680768},{"$f":"VLOOKUP($A1173,BasinData!$1:$1048576,4,FALSE)","v":18.081498354846875},{"$f":"VLOOKUP($A1173,BasinData!$1:$1048576,5,FALSE)","v":5.5123687401400003},152.42226301399691,{"$f":"VLOOKUP($A1173,Sheet1!$1:$1048576,9,FALSE)","v":241.75761010140215},-15.162892555527515,{"$f":"VLOOKUP($A1173,Sheet1!$1:$1048576,10,FALSE)","v":226.86838084202694},-8.1776560619305592,{"$f":"VLOOKUP($A1173,Sheet1!$1:$1048576,11,FALSE)","v":197.08992232327654},7.2849743689622466,{"$f":"VLOOKUP($A1173,Sheet1!$1:$1048576,12,FALSE)","v":152.4222345451509},35.527323627038996]
[25015,{"$f":"VLOOKUP($A1174,BasinData!$1:$1048576,2,FALSE)","v":0.41184241459090909},23.760818848584279,{"$f":"VLOOKUP($A1174,BasinData!$1:$1048576,3,FALSE)","v":69.267573121342636},{"$f":"VLOOKUP($A1174,BasinData!$1:$1048576,4,FALSE)","v":29.169801856032109},{"$f":"VLOOKUP($A1174,BasinData!$1:$1048576,5,FALSE)","v":8.3828987902899996},115.09897232356401,{"$f":"VLOOKUP($A1174,Sheet1!$1:$1048576,9,FALSE)","v":182.55817004841472},-26.928905127932008,{"$f":"VLOOKUP($A1174,Sheet1!$1:$1048576,10,FALSE)","v":171.31488200514377},-19.943675908816747,{"$f":"VLOOKUP($A1174,Sheet1!$1:$1048576,11,FALSE)","v":148.82830591860193},-4.4813633837594278,{"$f":"VLOOKUP($A1174,Sheet1!$1:$1048576,12,FALSE)","v":115.0984417887891},23.760818848584279]
[25016,{"$f":"VLOOKUP($A1175,BasinData!$1:$1048576,2,FALSE)","v":1.0712204225757578},25.558244021919744,{"$f":"VLOOKUP($A1175,BasinData!$1:$1048576,3,FALSE)","v":16.641552188843061},{"$f":"VLOOKUP($A1175,BasinData!$1:$1048576,4,FALSE)","v":22.606327257490047},{"$f":"VLOOKUP($A1175,BasinData!$1:$1048576,5,FALSE)","v":7.9444550701500001},131.64204148512815,{"$f":"VLOOKUP($A1175,Sheet1!$1:$1048576,9,FALSE)","v":208.79763419366839},-25.131766697352163,{"$f":"VLOOKUP($A1175,Sheet1!$1:$1048576,10,FALSE)","v":195.9383250574607},-18.146538656037325,{"$f":"VLOOKUP($A1175,Sheet1!$1:$1048576,11,FALSE)","v":170.21970678504539},-2.6839064881853822,{"$f":"VLOOKUP($A1175,Sheet1!$1:$1048576,12,FALSE)","v":131.64177937642245},25.558244021919744]
[25017,{"$f":"VLOOKUP($A1176,BasinData!$1:$1048576,2,FALSE)","v":1.2438705248541668},16.887018307075945,{"$f":"VLOOKUP($A1176,BasinData!$1:$1048576,3,FALSE)","v":19.89356048675797},{"$f":"VLOOKUP($A1176,BasinData!$1:$1048576,4,FALSE)","v":18.830849844440806},{"$f":"VLOOKUP($A1176,BasinData!$1:$1048576,5,FALSE)","v":10.0599566486},144.70469301302563,{"$f":"VLOOKUP($A1176,Sheet1!$1:$1048576,9,FALSE)","v":229.51633744702787},-33.802999765245879,{"$f":"VLOOKUP($A1176,Sheet1!$1:$1048576,10,FALSE)","v":215.38101667847971},-26.817769633951656,{"$f":"VLOOKUP($A1176,Sheet1!$1:$1048576,11,FALSE)","v":187.11037514138337},-11.35516038032511,{"$f":"VLOOKUP($A1176,Sheet1!$1:$1048576,12,FALSE)","v":144.70441283573882},16.887018307075945]
[25018,{"$f":"VLOOKUP($A1177,BasinData!$1:$1048576,2,FALSE)","v":0.96295734021557611},33.877991690810475,{"$f":"VLOOKUP($A1177,BasinData!$1:$1048576,3,FALSE)","v":20.073947944998835},{"$f":"VLOOKUP($A1177,BasinData!$1:$1048576,4,FALSE)","v":23.235724743777453},{"$f":"VLOOKUP($A1177,BasinData!$1:$1048576,5,FALSE)","v":5.9147128403165299},130.45008001985528,{"$f":"VLOOKUP($A1177,Sheet1!$1:$1048576,9,FALSE)","v":206.90712829688638},-16.81192932390929,{"$f":"VLOOKUP($A1177,Sheet1!$1:$1048576,10,FALSE)","v":194.16425055533713},-9.8271545871681365,{"$f":"VLOOKUP($A1177,Sheet1!$1:$1048576,11,FALSE)","v":168.6784950722386},5.6357394643735663,{"$f":"VLOOKUP($A1177,Sheet1!$1:$1048576,12,FALSE)","v":130.44986184759085},33.877991690810475]
[25019,{"$f":"VLOOKUP($A1178,BasinData!$1:$1048576,2,FALSE)","v":2.1243626489772729},26.368262966684966,{"$f":"VLOOKUP($A1178,BasinData!$1:$1048576,3,FALSE)","v":17.654338865788343},{"$f":"VLOOKUP($A1178,BasinData!$1:$1048576,4,FALSE)","v":17.220338983050848},{"$f":"VLOOKUP($A1178,BasinData!$1:$1048576,5,FALSE)","v":7.7468876163448703},140.79087590163621,{"$f":"VLOOKUP($A1178,Sheet1!$1:$1048576,9,FALSE)","v":223.30903952810698},-24.3219570393209,{"$f":"VLOOKUP($A1178,Sheet1!$1:$1048576,10,FALSE)","v":209.55601026946118},-17.336729296265698,{"$f":"VLOOKUP($A1178,Sheet1!$1:$1048576,11,FALSE)","v":182.04995175216959},-1.8740976600816068,{"$f":"VLOOKUP($A1178,Sheet1!$1:$1048576,12,FALSE)","v":140.7908639762322},26.368262966684966]
[25020,{"$f":"VLOOKUP($A1179,BasinData!$1:$1048576,2,FALSE)","v":1.0869876418465909},42.124135245285096,{"$f":"VLOOKUP($A1179,BasinData!$1:$1048576,3,FALSE)","v":4.458836505586512},{"$f":"VLOOKUP($A1179,BasinData!$1:$1048576,4,FALSE)","v":36.398176291793312},{"$f":"VLOOKUP($A1179,BasinData!$1:$1048576,5,FALSE)","v":3.9029514788999999},88.250205317710609,{"$f":"VLOOKUP($A1179,Sheet1!$1:$1048576,9,FALSE)","v":139.9739931227316},-8.5660541582984813,{"$f":"VLOOKUP($A1179,Sheet1!$1:$1048576,10,FALSE)","v":131.35335498405871},-1.5808862067163709,{"$f":"VLOOKUP($A1179,Sheet1!$1:$1048576,11,FALSE)","v":114.11207870671291},13.881810269597366,{"$f":"VLOOKUP($A1179,Sheet1!$1:$1048576,12,FALSE)","v":88.250164290694215},42.124135245285096]
[25021,{"$f":"VLOOKUP($A1180,BasinData!$1:$1048576,2,FALSE)","v":1.3035058735984848},47.19087478648224,{"$f":"VLOOKUP($A1180,BasinData!$1:$1048576,3,FALSE)","v":2.7537656689695731},{"$f":"VLOOKUP($A1180,BasinData!$1:$1048576,4,FALSE)","v":34.93217054263566},{"$f":"VLOOKUP($A1180,BasinData!$1:$1048576,5,FALSE)","v":2.6666951607099998},90.410561188799875,{"$f":"VLOOKUP($A1180,Sheet1!$1:$1048576,9,FALSE)","v":143.39982052957194},-3.4987541148738539,{"$f":"VLOOKUP($A1180,Sheet1!$1:$1048576,10,FALSE)","v":134.56819449421153},3.4862118976379466,{"$f":"VLOOKUP($A1180,Sheet1!$1:$1048576,11,FALSE)","v":116.9049424234907},18.949105912850211,{"$f":"VLOOKUP($A1180,Sheet1!$1:$1048576,12,FALSE)","v":90.410064317409422},47.19087478648224]
[25022,{"$f":"VLOOKUP($A1181,BasinData!$1:$1048576,2,FALSE)","v":0.10924669760799714},33.442777903424869,{"$f":"VLOOKUP($A1181,BasinData!$1:$1048576,3,FALSE)","v":12.907120515834579},{"$f":"VLOOKUP($A1181,BasinData!$1:$1048576,4,FALSE)","v":22.801047120418851},{"$f":"VLOOKUP($A1181,BasinData!$1:$1048576,5,FALSE)","v":6.0208680212090098},141.92026126748019,{"$f":"VLOOKUP($A1181,Sheet1!$1:$1048576,9,FALSE)","v":225.09981235675471},-17.247151901339564,{"$f":"VLOOKUP($A1181,Sheet1!$1:$1048576,10,FALSE)","v":211.23649400654313},-10.262223424110609,{"$f":"VLOOKUP($A1181,Sheet1!$1:$1048576,11,FALSE)","v":183.50985730612001},5.2006544890105042,{"$f":"VLOOKUP($A1181,Sheet1!$1:$1048576,12,FALSE)","v":141.91990225548528},33.442777903424869]
[25023,{"$f":"VLOOKUP($A1182,BasinData!$1:$1048576,2,FALSE)","v":0.57083497021022722},34.545262746630833,{"$f":"VLOOKUP($A1182,BasinData!$1:$1048576,3,FALSE)","v":13.12183562788425},{"$f":"VLOOKUP($A1182,BasinData!$1:$1048576,4,FALSE)","v":25.835475578406168},{"$f":"VLOOKUP($A1182,BasinData!$1:$1048576,5,FALSE)","v":5.75194354791872},125.06020144875407,{"$f":"VLOOKUP($A1182,Sheet1!$1:$1048576,9,FALSE)","v":198.35840427113126},-16.144879362157901,{"$f":"VLOOKUP($A1182,Sheet1!$1:$1048576,10,FALSE)","v":186.14202044984046},-9.1600664292452763,{"$f":"VLOOKUP($A1182,Sheet1!$1:$1048576,11,FALSE)","v":161.70925280725879},6.3024975875232068,{"$f":"VLOOKUP($A1182,Sheet1!$1:$1048576,12,FALSE)","v":125.06010134338632},34.545262746630833]
[25024,{"$f":"VLOOKUP($A1183,BasinData!$1:$1048576,2,FALSE)","v":1.4170496789356062},12.372362860522022,{"$f":"VLOOKUP($A1183,BasinData!$1:$1048576,3,FALSE)","v":5.906046800644134},{"$f":"VLOOKUP($A1183,BasinData!$1:$1048576,4,FALSE)","v":26.374471357170322},{"$f":"VLOOKUP($A1183,BasinData!$1:$1048576,5,FALSE)","v":11.1614370468},114.67883713413929,{"$f":"VLOOKUP($A1183,Sheet1!$1:$1048576,9,FALSE)","v":181.89261826854721},-38.317857654831485,{"$f":"VLOOKUP($A1183,Sheet1!$1:$1048576,10,FALSE)","v":170.69031984719663},-31.332628595475818,{"$f":"VLOOKUP($A1183,Sheet1!$1:$1048576,11,FALSE)","v":148.28572300449554},-15.870007805009445,{"$f":"VLOOKUP($A1183,Sheet1!$1:$1048576,12,FALSE)","v":114.67882774044391},12.372362860522022]
[25025,{"$f":"VLOOKUP($A1184,BasinData!$1:$1048576,2,FALSE)","v":1.1194016598768941},38.489044640639513,{"$f":"VLOOKUP($A1184,BasinData!$1:$1048576,3,FALSE)","v":11.612558269813471},{"$f":"VLOOKUP($A1184,BasinData!$1:$1048576,4,FALSE)","v":25.92307692307692},{"$f":"VLOOKUP($A1184,BasinData!$1:$1048576,5,FALSE)","v":4.78972458408},119.12654176182768,{"$f":"VLOOKUP($A1184,Sheet1!$1:$1048576,9,FALSE)","v":188.94656234865195},-12.200860914873292,{"$f":"VLOOKUP($A1184,Sheet1!$1:$1048576,10,FALSE)","v":177.30982965841764},-5.215609430239164,{"$f":"VLOOKUP($A1184,Sheet1!$1:$1048576,11,FALSE)","v":154.03636427794896},10.246998341142373,{"$f":"VLOOKUP($A1184,Sheet1!$1:$1048576,12,FALSE)","v":119.12616620724599},38.489044640639513]
[25026,{"$f":"VLOOKUP($A1185,BasinData!$1:$1048576,2,FALSE)","v":1.1170864817348485},39.627761392644402,{"$f":"VLOOKUP($A1185,BasinData!$1:$1048576,3,FALSE)","v":4.0410911607431057},{"$f":"VLOOKUP($A1185,BasinData!$1:$1048576,4,FALSE)","v":26.49260381393691},{"$f":"VLOOKUP($A1185,BasinData!$1:$1048576,5,FALSE)","v":4.5119476794300004},117.20449248548624,{"$f":"VLOOKUP($A1185,Sheet1!$1:$1048576,9,FALSE)","v":185.89823196483897},-11.062276501383533,{"$f":"VLOOKUP($A1185,Sheet1!$1:$1048576,10,FALSE)","v":174.44923810079453},-4.0770295559730236,{"$f":"VLOOKUP($A1185,Sheet1!$1:$1048576,11,FALSE)","v":151.55125037270568},11.385601741699105,{"$f":"VLOOKUP($A1185,Sheet1!$1:$1048576,12,FALSE)","v":117.20426878057236},39.627761392644402]
[25027,{"$f":"VLOOKUP($A1186,BasinData!$1:$1048576,2,FALSE)","v":2.3273855702094646E-2},45.203144320442362,{"$f":"VLOOKUP($A1186,BasinData!$1:$1048576,3,FALSE)","v":3.3700667957019177},{"$f":"VLOOKUP($A1186,BasinData!$1:$1048576,4,FALSE)","v":25.55979404368874},{"$f":"VLOOKUP($A1186,BasinData!$1:$1048576,5,FALSE)","v":3.1517843147},131.9940413136344,{"$f":"VLOOKUP($A1186,Sheet1!$1:$1048576,9,FALSE)","v":209.35635480794386},-5.4870887694632433,{"$f":"VLOOKUP($A1186,Sheet1!$1:$1048576,10,FALSE)","v":196.46263550647026},1.4981458319078846,{"$f":"VLOOKUP($A1186,Sheet1!$1:$1048576,11,FALSE)","v":170.6751969035231},16.960767404736824,{"$f":"VLOOKUP($A1186,Sheet1!$1:$1048576,12,FALSE)","v":131.99403899910232},45.203144320442362]
[25028,{"$f":"VLOOKUP($A1187,BasinData!$1:$1048576,2,FALSE)","v":0.24747474747474746},31.883437136946974,{"$f":"VLOOKUP($A1187,BasinData!$1:$1048576,3,FALSE)","v":12.813876698000703},{"$f":"VLOOKUP($A1187,BasinData!$1:$1048576,4,FALSE)","v":23.134463961235614},{"$f":"VLOOKUP($A1187,BasinData!$1:$1048576,5,FALSE)","v":6.4013607694200001},138.93637271605118,{"$f":"VLOOKUP($A1187,Sheet1!$1:$1048576,9,FALSE)","v":220.36758906903657},-18.806769198359085,{"$f":"VLOOKUP($A1187,Sheet1!$1:$1048576,10,FALSE)","v":206.79571617697556},-11.821680651524307,{"$f":"VLOOKUP($A1187,Sheet1!$1:$1048576,11,FALSE)","v":179.65197039285357},3.641065443128126,{"$f":"VLOOKUP($A1187,Sheet1!$1:$1048576,12,FALSE)","v":138.93635171667057},31.883437136946974]
[25029,{"$f":"VLOOKUP($A1188,BasinData!$1:$1048576,2,FALSE)","v":0.41527338454586532},43.602828872189562,{"$f":"VLOOKUP($A1188,BasinData!$1:$1048576,3,FALSE)","v":3.3621708430811181},{"$f":"VLOOKUP($A1188,BasinData!$1:$1048576,4,FALSE)","v":24.968317599896547},{"$f":"VLOOKUP($A1188,BasinData!$1:$1048576,5,FALSE)","v":3.5422065252700001},129.92048518952015,{"$f":"VLOOKUP($A1188,Sheet1!$1:$1048576,9,FALSE)","v":206.06745275547146},-7.0873932657958445,{"$f":"VLOOKUP($A1188,Sheet1!$1:$1048576,10,FALSE)","v":193.37628847036467},-0.10252904131228835,{"$f":"VLOOKUP($A1188,Sheet1!$1:$1048576,11,FALSE)","v":167.99395990015114},15.360470373151406,{"$f":"VLOOKUP($A1188,Sheet1!$1:$1048576,12,FALSE)","v":129.92046704483079},43.602828872189562]
[25030,{"$f":"VLOOKUP($A1189,BasinData!$1:$1048576,2,FALSE)","v":0.97117213579734851},29.231242596933107,{"$f":"VLOOKUP($A1189,BasinData!$1:$1048576,3,FALSE)","v":11.097369300288932},{"$f":"VLOOKUP($A1189,BasinData!$1:$1048576,4,FALSE)","v":13.480488766259361},{"$f":"VLOOKUP($A1189,BasinData!$1:$1048576,5,FALSE)","v":7.0484143014800003},172.81562144605311,{"$f":"VLOOKUP($A1189,Sheet1!$1:$1048576,9,FALSE)","v":274.10364846835176},-21.458862322132074,{"$f":"VLOOKUP($A1189,Sheet1!$1:$1048576,10,FALSE)","v":257.22230991952728},-14.473765283242301,{"$f":"VLOOKUP($A1189,Sheet1!$1:$1048576,11,FALSE)","v":223.4596328218783},0.98886988512774643,{"$f":"VLOOKUP($A1189,Sheet1!$1:$1048576,12,FALSE)","v":172.81561717540484},29.231242596933107]
[25031,{"$f":"VLOOKUP($A1190,BasinData!$1:$1048576,2,FALSE)","v":1.5661992046988638},37.751867039090278,{"$f":"VLOOKUP($A1190,BasinData!$1:$1048576,3,FALSE)","v":24.971155211462314},{"$f":"VLOOKUP($A1190,BasinData!$1:$1048576,4,FALSE)","v":32.92641573414717},{"$f":"VLOOKUP($A1190,BasinData!$1:$1048576,5,FALSE)","v":4.9695434201199999},93.715152816610811,{"$f":"VLOOKUP($A1190,Sheet1!$1:$1048576,9,FALSE)","v":148.64140847694165},-12.93792379991611,{"$f":"VLOOKUP($A1190,Sheet1!$1:$1048576,10,FALSE)","v":139.48696652443667},-5.9526689589066457,{"$f":"VLOOKUP($A1190,Sheet1!$1:$1048576,11,FALSE)","v":121.17808261942666},9.50994905606351,{"$f":"VLOOKUP($A1190,Sheet1!$1:$1048576,12,FALSE)","v":93.714756761911659},37.751867039090278]
[25032,{"$f":"VLOOKUP($A1191,BasinData!$1:$1048576,2,FALSE)","v":1.1842009603068182},31.012813417967791,{"$f":"VLOOKUP($A1191,BasinData!$1:$1048576,3,FALSE)","v":20.756208194684046},{"$f":"VLOOKUP($A1191,BasinData!$1:$1048576,4,FALSE)","v":23.823443437591347},{"$f":"VLOOKUP($A1191,BasinData!$1:$1048576,5,FALSE)","v":6.6137240842700002},125.89158417987788,{"$f":"VLOOKUP($A1191,Sheet1!$1:$1048576,9,FALSE)","v":199.67688851040268},-19.677209092397682,{"$f":"VLOOKUP($A1191,Sheet1!$1:$1048576,10,FALSE)","v":187.37930263675392},-12.692079985115882,{"$f":"VLOOKUP($A1191,Sheet1!$1:$1048576,11,FALSE)","v":162.78413088945638},2.7706145641222246,{"$f":"VLOOKUP($A1191,Sheet1!$1:$1048576,12,FALSE)","v":125.89137326851008},31.012813417967791]
[25033,{"$f":"VLOOKUP($A1192,BasinData!$1:$1048576,2,FALSE)","v":0},42.835331948501242,{"$f":"VLOOKUP($A1192,BasinData!$1:$1048576,3,FALSE)","v":8.6374080101405504},{"$f":"VLOOKUP($A1192,BasinData!$1:$1048576,4,FALSE)","v":24.367738351167905},{"$f":"VLOOKUP($A1192,BasinData!$1:$1048576,5,FALSE)","v":3.7294474751000002},136.88791470086858,{"$f":"VLOOKUP($A1192,Sheet1!$1:$1048576,9,FALSE)","v":217.11849411663977},-7.8548768634997277,{"$f":"VLOOKUP($A1192,Sheet1!$1:$1048576,10,FALSE)","v":203.74672462405988},-0.8698227286223732,{"$f":"VLOOKUP($A1192,Sheet1!$1:$1048576,11,FALSE)","v":177.00318563890005},14.592989987324074,{"$f":"VLOOKUP($A1192,Sheet1!$1:$1048576,12,FALSE)","v":136.88787716116033},42.835331948501242]
[25034,{"$f":"VLOOKUP($A1193,BasinData!$1:$1048576,2,FALSE)","v":0.49662520989015146},37.549066025019783,{"$f":"VLOOKUP($A1193,BasinData!$1:$1048576,3,FALSE)","v":3.2775779517603008},{"$f":"VLOOKUP($A1193,BasinData!$1:$1048576,4,FALSE)","v":15.194681861348528},{"$f":"VLOOKUP($A1193,BasinData!$1:$1048576,5,FALSE)","v":5.0190112876299997},171.15191513536311,{"$f":"VLOOKUP($A1193,Sheet1!$1:$1048576,9,FALSE)","v":271.46360403505042},-13.14068865993244,{"$f":"VLOOKUP($A1193,Sheet1!$1:$1048576,10,FALSE)","v":254.7448590310822},-6.1554328319704084,{"$f":"VLOOKUP($A1193,Sheet1!$1:$1048576,11,FALSE)","v":221.30736902314572},9.3071873035853798,{"$f":"VLOOKUP($A1193,Sheet1!$1:$1048576,12,FALSE)","v":171.15113401124097},37.549066025019783]
[25035,{"$f":"VLOOKUP($A1194,BasinData!$1:$1048576,2,FALSE)","v":0.27898872630871213},28.203589663000344,{"$f":"VLOOKUP($A1194,BasinData!$1:$1048576,3,FALSE)","v":7.4810992301241201},{"$f":"VLOOKUP($A1194,BasinData!$1:$1048576,4,FALSE)","v":23.424052105140731},{"$f":"VLOOKUP($A1194,BasinData!$1:$1048576,5,FALSE)","v":7.2990544293799999},137.41457413330468,{"$f":"VLOOKUP($A1194,Sheet1!$1:$1048576,9,FALSE)","v":217.95328260435116},-22.4860896379157,{"$f":"VLOOKUP($A1194,Sheet1!$1:$1048576,10,FALSE)","v":204.53010063639391},-15.501105581933555,{"$f":"VLOOKUP($A1194,Sheet1!$1:$1048576,11,FALSE)","v":177.68373670047944},-3.847649701957051E-2,{"$f":"VLOOKUP($A1194,Sheet1!$1:$1048576,12,FALSE)","v":137.4141907966077},28.203589663000344]
[25036,{"$f":"VLOOKUP($A1195,BasinData!$1:$1048576,2,FALSE)","v":0},41.761336506661145,{"$f":"VLOOKUP($A1195,BasinData!$1:$1048576,3,FALSE)","v":10.579281240634202},{"$f":"VLOOKUP($A1195,BasinData!$1:$1048576,4,FALSE)","v":23.611064279371931},{"$f":"VLOOKUP($A1195,BasinData!$1:$1048576,5,FALSE)","v":3.99145928568},139.91437785441653,{"$f":"VLOOKUP($A1195,Sheet1!$1:$1048576,9,FALSE)","v":221.91870941726393},-8.928839767785691,{"$f":"VLOOKUP($A1195,Sheet1!$1:$1048576,10,FALSE)","v":208.25130701337514},-1.9436345918791715,{"$f":"VLOOKUP($A1195,Sheet1!$1:$1048576,11,FALSE)","v":180.91650220559757},13.519031767829036,{"$f":"VLOOKUP($A1195,Sheet1!$1:$1048576,12,FALSE)","v":139.91429499393121},41.761336506661145]
[25037,{"$f":"VLOOKUP($A1196,BasinData!$1:$1048576,2,FALSE)","v":6.6727190195188385E-2},29.344183796426268,{"$f":"VLOOKUP($A1196,BasinData!$1:$1048576,3,FALSE)","v":11.908854287027046},{"$f":"VLOOKUP($A1196,BasinData!$1:$1048576,4,FALSE)","v":23.345403899721447},{"$f":"VLOOKUP($A1196,BasinData!$1:$1048576,5,FALSE)","v":7.0207412816300003},140.20519399712686,{"$f":"VLOOKUP($A1196,Sheet1!$1:$1048576,9,FALSE)","v":222.37911309219331},-21.345443327332795,{"$f":"VLOOKUP($A1196,Sheet1!$1:$1048576,10,FALSE)","v":208.68335561040229},-14.360338685994012,{"$f":"VLOOKUP($A1196,Sheet1!$1:$1048576,11,FALSE)","v":181.29184064682028},1.102298492625392,{"$f":"VLOOKUP($A1196,Sheet1!$1:$1048576,12,FALSE)","v":140.20456820144722},29.344183796426268]
[25038,{"$f":"VLOOKUP($A1197,BasinData!$1:$1048576,2,FALSE)","v":0.26355525051475631},25.411588042566773,{"$f":"VLOOKUP($A1197,BasinData!$1:$1048576,3,FALSE)","v":42.417643616948581},{"$f":"VLOOKUP($A1197,BasinData!$1:$1048576,4,FALSE)","v":25.047779651489599},{"$f":"VLOOKUP($A1197,BasinData!$1:$1048576,5,FALSE)","v":7.9802481220199999},131.28516913468511,{"$f":"VLOOKUP($A1197,Sheet1!$1:$1048576,9,FALSE)","v":208.23170493198683},-25.278478925989411,{"$f":"VLOOKUP($A1197,Sheet1!$1:$1048576,10,FALSE)","v":195.40724992309384},-18.293250819140155,{"$f":"VLOOKUP($A1197,Sheet1!$1:$1048576,11,FALSE)","v":169.75833990530788},-2.8306185832935111,{"$f":"VLOOKUP($A1197,Sheet1!$1:$1048576,12,FALSE)","v":131.28497487862893},25.411588042566773]
[25039,{"$f":"VLOOKUP($A1198,BasinData!$1:$1048576,2,FALSE)","v":9.2159860231491586E-2},44.801172892904859,{"$f":"VLOOKUP($A1198,BasinData!$1:$1048576,3,FALSE)","v":3.1875344819697289},{"$f":"VLOOKUP($A1198,BasinData!$1:$1048576,4,FALSE)","v":32.16351303106034},{"$f":"VLOOKUP($A1198,BasinData!$1:$1048576,5,FALSE)","v":3.24985197619},108.43196147540036,{"$f":"VLOOKUP($A1198,Sheet1!$1:$1048576,9,FALSE)","v":171.9844290325488},-5.8890589680737238,{"$f":"VLOOKUP($A1198,Sheet1!$1:$1048576,10,FALSE)","v":161.39235049638896},1.0961762843649236,{"$f":"VLOOKUP($A1198,Sheet1!$1:$1048576,11,FALSE)","v":140.20819342406924},16.558400976915575,{"$f":"VLOOKUP($A1198,Sheet1!$1:$1048576,12,FALSE)","v":108.43195781558967},44.801172892904859]
[25040,{"$f":"VLOOKUP($A1199,BasinData!$1:$1048576,2,FALSE)","v":0.1503656307129799},45.687419259239114,{"$f":"VLOOKUP($A1199,BasinData!$1:$1048576,3,FALSE)","v":3.9927195449301784},{"$f":"VLOOKUP($A1199,BasinData!$1:$1048576,4,FALSE)","v":16.515593179730864},{"$f":"VLOOKUP($A1199,BasinData!$1:$1048576,5,FALSE)","v":3.0336371092899999},169.60266975100339,{"$f":"VLOOKUP($A1199,Sheet1!$1:$1048576,9,FALSE)","v":269.00757601180584},-5.0028144464079292,{"$f":"VLOOKUP($A1199,Sheet1!$1:$1048576,10,FALSE)","v":252.44009145539994},1.982419388425597,{"$f":"VLOOKUP($A1199,Sheet1!$1:$1048576,11,FALSE)","v":219.30512234258813},17.445050414695721,{"$f":"VLOOKUP($A1199,Sheet1!$1:$1048576,12,FALSE)","v":169.6026686733704},45.687419259239114]
[25041,{"$f":"VLOOKUP($A1200,BasinData!$1:$1048576,2,FALSE)","v":0.75867315723295448},33.80448078906776,{"$f":"VLOOKUP($A1200,BasinData!$1:$1048576,3,FALSE)","v":14.60231127193882},{"$f":"VLOOKUP($A1200,BasinData!$1:$1048576,4,FALSE)","v":21.053197205803333},{"$f":"VLOOKUP($A1200,BasinData!$1:$1048576,5,FALSE)","v":5.9326437357800001},141.34810378550793,{"$f":"VLOOKUP($A1200,Sheet1!$1:$1048576,9,FALSE)","v":224.19247678105111},-16.885478289936977,{"$f":"VLOOKUP($A1200,Sheet1!$1:$1048576,10,FALSE)","v":210.38503889473134},-9.9006426656453232,{"$f":"VLOOKUP($A1200,Sheet1!$1:$1048576,11,FALSE)","v":182.77016312209179},5.5622645969038995,{"$f":"VLOOKUP($A1200,Sheet1!$1:$1048576,12,FALSE)","v":141.34784946313249},33.80448078906776]
[25042,{"$f":"VLOOKUP($A1201,BasinData!$1:$1048576,2,FALSE)","v":0},39.775390080075809,{"$f":"VLOOKUP($A1201,BasinData!$1:$1048576,3,FALSE)","v":10.096200933959633},{"$f":"VLOOKUP($A1201,BasinData!$1:$1048576,4,FALSE)","v":23.606949056450961},{"$f":"VLOOKUP($A1201,BasinData!$1:$1048576,5,FALSE)","v":4.4759344970699999},139.93118496465732,{"$f":"VLOOKUP($A1201,Sheet1!$1:$1048576,9,FALSE)","v":221.94510376610404},-10.914661519696004,{"$f":"VLOOKUP($A1201,Sheet1!$1:$1048576,10,FALSE)","v":208.27607580217241},-3.9294151109252371,{"$f":"VLOOKUP($A1201,Sheet1!$1:$1048576,11,FALSE)","v":180.93801987430919},11.53321571307,{"$f":"VLOOKUP($A1201,Sheet1!$1:$1048576,12,FALSE)","v":139.93093598251431},39.775390080075809]
[25043,{"$f":"VLOOKUP($A1202,BasinData!$1:$1048576,2,FALSE)","v":0.64388673167613641},54.283180172798346,{"$f":"VLOOKUP($A1202,BasinData!$1:$1048576,3,FALSE)","v":5.0615591910300655},{"$f":"VLOOKUP($A1202,BasinData!$1:$1048576,4,FALSE)","v":14.298169136878814},{"$f":"VLOOKUP($A1202,BasinData!$1:$1048576,5,FALSE)","v":0.93651271578700002},173.48437932279563,{"$f":"VLOOKUP($A1202,Sheet1!$1:$1048576,9,FALSE)","v":275.16401145414824},3.5930958482462425,{"$f":"VLOOKUP($A1202,Sheet1!$1:$1048576,10,FALSE)","v":258.21736787692339},10.578104618755363,{"$f":"VLOOKUP($A1202,Sheet1!$1:$1048576,11,FALSE)","v":224.32408072247367},26.040927100798562,{"$f":"VLOOKUP($A1202,Sheet1!$1:$1048576,12,FALSE)","v":173.48414999079907},54.283180172798346]
[25044,{"$f":"VLOOKUP($A1203,BasinData!$1:$1048576,2,FALSE)","v":0.74842922261919431},20.775226622084862,{"$f":"VLOOKUP($A1203,BasinData!$1:$1048576,3,FALSE)","v":14.371898252257015},{"$f":"VLOOKUP($A1203,BasinData!$1:$1048576,4,FALSE)","v":17.570739340200809},{"$f":"VLOOKUP($A1203,BasinData!$1:$1048576,5,FALSE)","v":9.1114072880499997},156.44860042772351,{"$f":"VLOOKUP($A1203,Sheet1!$1:$1048576,9,FALSE)","v":248.14381494497175},-29.91499476408563,{"$f":"VLOOKUP($A1203,Sheet1!$1:$1048576,10,FALSE)","v":232.86127575846186},-22.929759911044396,{"$f":"VLOOKUP($A1203,Sheet1!$1:$1048576,11,FALSE)","v":202.29619738544204},-7.4671662298283561,{"$f":"VLOOKUP($A1203,Sheet1!$1:$1048576,12,FALSE)","v":156.44857982591233},20.775226622084862]
[25045,{"$f":"VLOOKUP($A1204,BasinData!$1:$1048576,2,FALSE)","v":0.82511676180591598},37.120033730677122,{"$f":"VLOOKUP($A1204,BasinData!$1:$1048576,3,FALSE)","v":9.0873685610905284},{"$f":"VLOOKUP($A1204,BasinData!$1:$1048576,4,FALSE)","v":21.931823691994374},{"$f":"VLOOKUP($A1204,BasinData!$1:$1048576,5,FALSE)","v":5.1236604449899996},137.03764180123238,{"$f":"VLOOKUP($A1204,Sheet1!$1:$1048576,9,FALSE)","v":217.35487490368172},-13.569637344708283,{"$f":"VLOOKUP($A1204,Sheet1!$1:$1048576,10,FALSE)","v":203.96854732654222},-6.5843793324149056,{"$f":"VLOOKUP($A1204,Sheet1!$1:$1048576,11,FALSE)","v":177.19589217226323},8.8782444688443487,{"$f":"VLOOKUP($A1204,Sheet1!$1:$1048576,12,FALSE)","v":137.03690944084474},37.120033730677122]
[25046,{"$f":"VLOOKUP($A1205,BasinData!$1:$1048576,2,FALSE)","v":1.8957582478513999},35.905859651796185,{"$f":"VLOOKUP($A1205,BasinData!$1:$1048576,3,FALSE)","v":9.183017564299071},{"$f":"VLOOKUP($A1205,BasinData!$1:$1048576,4,FALSE)","v":21.423123257985644},{"$f":"VLOOKUP($A1205,BasinData!$1:$1048576,5,FALSE)","v":5.4200208174100002},127.10556297207474,{"$f":"VLOOKUP($A1205,Sheet1!$1:$1048576,9,FALSE)","v":201.6027029740531},-14.784372584982174,{"$f":"VLOOKUP($A1205,Sheet1!$1:$1048576,10,FALSE)","v":189.18651114194751},-7.7991310852477191,{"$f":"VLOOKUP($A1205,Sheet1!$1:$1048576,11,FALSE)","v":164.35412747773628},7.6634985097463062,{"$f":"VLOOKUP($A1205,Sheet1!$1:$1048576,12,FALSE)","v":127.10555198141947},35.905859651796185]
[25047,{"$f":"VLOOKUP($A1206,BasinData!$1:$1048576,2,FALSE)","v":1.0734871130852273},29.055155063044541,{"$f":"VLOOKUP($A1206,BasinData!$1:$1048576,3,FALSE)","v":4.876658365352144},{"$f":"VLOOKUP($A1206,BasinData!$1:$1048576,4,FALSE)","v":11.155454199923984},{"$f":"VLOOKUP($A1206,BasinData!$1:$1048576,5,FALSE)","v":7.09136168688},183.24512806334138,{"$f":"VLOOKUP($A1206,Sheet1!$1:$1048576,9,FALSE)","v":290.64580323836731},-21.634882663150037,{"$f":"VLOOKUP($A1206,Sheet1!$1:$1048576,10,FALSE)","v":272.74567593368312},-14.649799170962169,{"$f":"VLOOKUP($A1206,Sheet1!$1:$1048576,11,FALSE)","v":236.94542132431468},0.8128333378018745,{"$f":"VLOOKUP($A1206,Sheet1!$1:$1048576,12,FALSE)","v":183.24503941026205},29.055155063044541]
[25048,{"$f":"VLOOKUP($A1207,BasinData!$1:$1048576,2,FALSE)","v":0},40.282708722292455,{"$f":"VLOOKUP($A1207,BasinData!$1:$1048576,3,FALSE)","v":9.7064354771424561},{"$f":"VLOOKUP($A1207,BasinData!$1:$1048576,4,FALSE)","v":23.048295373631696},{"$f":"VLOOKUP($A1207,BasinData!$1:$1048576,5,FALSE)","v":4.3521756816900004},142.20866650557662,{"$f":"VLOOKUP($A1207,Sheet1!$1:$1048576,9,FALSE)","v":225.55751061066667},-10.407384716022895,{"$f":"VLOOKUP($A1207,Sheet1!$1:$1048576,10,FALSE)","v":211.66600380247334},-3.4221400687431225,{"$f":"VLOOKUP($A1207,Sheet1!$1:$1048576,11,FALSE)","v":183.88299018608672},12.04048730632997,{"$f":"VLOOKUP($A1207,Sheet1!$1:$1048576,12,FALSE)","v":142.20846976150676},40.282708722292455]
[25049,{"$f":"VLOOKUP($A1208,BasinData!$1:$1048576,2,FALSE)","v":1.4952012491344697},48.198404386194021,{"$f":"VLOOKUP($A1208,BasinData!$1:$1048576,3,FALSE)","v":4.8209276174893381},{"$f":"VLOOKUP($A1208,BasinData!$1:$1048576,4,FALSE)","v":9.0566037735849054},{"$f":"VLOOKUP($A1208,BasinData!$1:$1048576,5,FALSE)","v":2.42091366998},187.92852158737401,{"$f":"VLOOKUP($A1208,Sheet1!$1:$1048576,9,FALSE)","v":298.07291706392618},-2.4913192743138484,{"$f":"VLOOKUP($A1208,Sheet1!$1:$1048576,10,FALSE)","v":279.71537292575391},4.4939122842926871,{"$f":"VLOOKUP($A1208,Sheet1!$1:$1048576,11,FALSE)","v":243.00028464940939},19.956154143517793,{"$f":"VLOOKUP($A1208,Sheet1!$1:$1048576,12,FALSE)","v":187.92765223489261},48.198404386194021]
[25050,{"$f":"VLOOKUP($A1209,BasinData!$1:$1048576,2,FALSE)","v":0.28563443264393518},35.486288007157334,{"$f":"VLOOKUP($A1209,BasinData!$1:$1048576,3,FALSE)","v":8.939884754819218},{"$f":"VLOOKUP($A1209,BasinData!$1:$1048576,4,FALSE)","v":20.962790126489008},{"$f":"VLOOKUP($A1209,BasinData!$1:$1048576,5,FALSE)","v":5.5223797257999996},147.46223194246053,{"$f":"VLOOKUP($A1209,Sheet1!$1:$1048576,9,FALSE)","v":233.89048002033044},-15.203926144018356,{"$f":"VLOOKUP($A1209,Sheet1!$1:$1048576,10,FALSE)","v":219.48576706363241},-8.2186900994911802,{"$f":"VLOOKUP($A1209,Sheet1!$1:$1048576,11,FALSE)","v":190.67634115023637},7.243940402589093,{"$f":"VLOOKUP($A1209,Sheet1!$1:$1048576,12,FALSE)","v":147.46220228014229},35.486288007157334]
[25051,{"$f":"VLOOKUP($A1210,BasinData!$1:$1048576,2,FALSE)","v":1.0141065830721003},35.327688375250531,{"$f":"VLOOKUP($A1210,BasinData!$1:$1048576,3,FALSE)","v":18.136985903636408},{"$f":"VLOOKUP($A1210,BasinData!$1:$1048576,4,FALSE)","v":26.326286398085365},{"$f":"VLOOKUP($A1210,BasinData!$1:$1048576,5,FALSE)","v":5.5610712419699997},118.79216440625274,{"$f":"VLOOKUP($A1210,Sheet1!$1:$1048576,9,FALSE)","v":188.41675076068628},-15.36251725742969,{"$f":"VLOOKUP($A1210,Sheet1!$1:$1048576,10,FALSE)","v":176.812647803159},-8.3778163552614533,{"$f":"VLOOKUP($A1210,Sheet1!$1:$1048576,11,FALSE)","v":153.60444188810436},7.0853479582835002,{"$f":"VLOOKUP($A1210,Sheet1!$1:$1048576,12,FALSE)","v":118.7921330155224},35.327688375250531]
[25052,{"$f":"VLOOKUP($A1211,BasinData!$1:$1048576,2,FALSE)","v":1.4222222222222221E-2},27.365847167110758,{"$f":"VLOOKUP($A1211,BasinData!$1:$1048576,3,FALSE)","v":20.463716113084441},{"$f":"VLOOKUP($A1211,BasinData!$1:$1048576,4,FALSE)","v":23.993507262861069},{"$f":"VLOOKUP($A1211,BasinData!$1:$1048576,5,FALSE)","v":7.5035056876299997},138.21120719380113,{"$f":"VLOOKUP($A1211,Sheet1!$1:$1048576,9,FALSE)","v":219.21738698794815},-23.323964934541596,{"$f":"VLOOKUP($A1211,Sheet1!$1:$1048576,10,FALSE)","v":205.7163520830461},-16.339130961903852,{"$f":"VLOOKUP($A1211,Sheet1!$1:$1048576,11,FALSE)","v":178.71428227324196},-0.87650043724710114,{"$f":"VLOOKUP($A1211,Sheet1!$1:$1048576,12,FALSE)","v":138.21117755853572},27.365847167110758]
[25053,{"$f":"VLOOKUP($A1212,BasinData!$1:$1048576,2,FALSE)","v":0.28722157092614303},35.817310740647173,{"$f":"VLOOKUP($A1212,BasinData!$1:$1048576,3,FALSE)","v":8.6593282337415634},{"$f":"VLOOKUP($A1212,BasinData!$1:$1048576,4,FALSE)","v":21.299302760252871},{"$f":"VLOOKUP($A1212,BasinData!$1:$1048576,5,FALSE)","v":5.4416234009100002},146.01559888468026,{"$f":"VLOOKUP($A1212,Sheet1!$1:$1048576,9,FALSE)","v":231.5959913314536},-14.87291811615968,{"$f":"VLOOKUP($A1212,Sheet1!$1:$1048576,10,FALSE)","v":217.33259003029107},-7.8876779323112647,{"$f":"VLOOKUP($A1212,Sheet1!$1:$1048576,11,FALSE)","v":188.80578742796598},7.5749518894390144,{"$f":"VLOOKUP($A1212,Sheet1!$1:$1048576,12,FALSE)","v":146.01558352447836},35.817310740647173]
[25054,{"$f":"VLOOKUP($A1213,BasinData!$1:$1048576,2,FALSE)","v":0.64445428930303028},45.333334177755376,{"$f":"VLOOKUP($A1213,BasinData!$1:$1048576,3,FALSE)","v":4.5524391217006857},{"$f":"VLOOKUP($A1213,BasinData!$1:$1048576,4,FALSE)","v":23.163889833390002},{"$f":"VLOOKUP($A1213,BasinData!$1:$1048576,5,FALSE)","v":3.1200222794100001},134.26550919869499,{"$f":"VLOOKUP($A1213,Sheet1!$1:$1048576,9,FALSE)","v":212.9591412530531},-5.3568991577400045,{"$f":"VLOOKUP($A1213,Sheet1!$1:$1048576,10,FALSE)","v":199.84353560297066},1.6283352360751056,{"$f":"VLOOKUP($A1213,Sheet1!$1:$1048576,11,FALSE)","v":173.6123243028058},17.090960941328543,{"$f":"VLOOKUP($A1213,Sheet1!$1:$1048576,12,FALSE)","v":134.26550735255847},45.333334177755376]
[25055,{"$f":"VLOOKUP($A1214,BasinData!$1:$1048576,2,FALSE)","v":1.1443358282386364},49.799119772082136,{"$f":"VLOOKUP($A1214,BasinData!$1:$1048576,3,FALSE)","v":4.7390315430592951},{"$f":"VLOOKUP($A1214,BasinData!$1:$1048576,4,FALSE)","v":18.493570116350273},{"$f":"VLOOKUP($A1214,BasinData!$1:$1048576,5,FALSE)","v":2.03042195671659},{"$f":"EXP(6.1523-(0.084*B1214)-(0.0091*C1214)-(0.0289*E1214)-(0.0373*F1214))","v":147.34914183171566},{"$f":"VLOOKUP($A1214,Sheet1!$1:$1048576,9,FALSE)","v":233.71034641141742},-0.89073137150936044,{"$f":"VLOOKUP($A1214,Sheet1!$1:$1048576,10,FALSE)","v":219.31672742027979},6.0943387629987233,{"$f":"VLOOKUP($A1214,Sheet1!$1:$1048576,11,FALSE)","v":190.52948943800448},21.557118777137724,{"$f":"VLOOKUP($A1214,Sheet1!$1:$1048576,12,FALSE)","v":147.34863246459156},49.799119772082136]
[25056,{"$f":"VLOOKUP($A1215,BasinData!$1:$1048576,2,FALSE)","v":5.123421249066932},45.485966883554646,{"$f":"VLOOKUP($A1215,BasinData!$1:$1048576,3,FALSE)","v":4.1692520394933075},{"$f":"VLOOKUP($A1215,BasinData!$1:$1048576,4,FALSE)","v":15.174914675767917},{"$f":"VLOOKUP($A1215,BasinData!$1:$1048576,5,FALSE)","v":3.0827849079999998},116.10180148381662,{"$f":"VLOOKUP($A1215,Sheet1!$1:$1048576,9,FALSE)","v":184.14960163787632},-5.2042666606912027,{"$f":"VLOOKUP($A1215,Sheet1!$1:$1048576,10,FALSE)","v":172.80830141713489},1.7809674913335642,{"$f":"VLOOKUP($A1215,Sheet1!$1:$1048576,11,FALSE)","v":150.12570097565197},17.243596335730864,{"$f":"VLOOKUP($A1215,Sheet1!$1:$1048576,12,FALSE)","v":116.10180031342762},45.485966883554646]
[25057,{"$f":"VLOOKUP($A1216,BasinData!$1:$1048576,2,FALSE)","v":1.1443102352193261E-2},36.566603380478277,{"$f":"VLOOKUP($A1216,BasinData!$1:$1048576,3,FALSE)","v":8.1843418243939272},{"$f":"VLOOKUP($A1216,BasinData!$1:$1048576,4,FALSE)","v":21.470246397024638},{"$f":"VLOOKUP($A1216,BasinData!$1:$1048576,5,FALSE)","v":5.2588226071299999},148.70113474205851,{"$f":"VLOOKUP($A1216,Sheet1!$1:$1048576,9,FALSE)","v":235.85555374094184},-14.123650010014513,{"$f":"VLOOKUP($A1216,Sheet1!$1:$1048576,10,FALSE)","v":221.32981694914932},-7.1383956157228505,{"$f":"VLOOKUP($A1216,Sheet1!$1:$1048576,11,FALSE)","v":192.27834336556424},8.3242315372336257,{"$f":"VLOOKUP($A1216,Sheet1!$1:$1048576,12,FALSE)","v":148.70113299018658},36.566603380478277]
[25058,{"$f":"VLOOKUP($A1217,BasinData!$1:$1048576,2,FALSE)","v":2.1069681532765152},42.449806451897068,{"$f":"VLOOKUP($A1217,BasinData!$1:$1048576,3,FALSE)","v":12.192811831219432},{"$f":"VLOOKUP($A1217,BasinData!$1:$1048576,4,FALSE)","v":39.791258969341158},{"$f":"VLOOKUP($A1217,BasinData!$1:$1048576,5,FALSE)","v":3.8235007630100002},73.437703378079362,{"$f":"VLOOKUP($A1217,Sheet1!$1:$1048576,9,FALSE)","v":116.47983752850509},-8.2403928014140444,{"$f":"VLOOKUP($A1217,Sheet1!$1:$1048576,10,FALSE)","v":109.3061439917049},-1.2552699893499926,{"$f":"VLOOKUP($A1217,Sheet1!$1:$1048576,11,FALSE)","v":94.958756918104527},14.207455432470358,{"$f":"VLOOKUP($A1217,Sheet1!$1:$1048576,12,FALSE)","v":73.437676307703953},42.449806451897068]
[25059,{"$f":"VLOOKUP($A1218,BasinData!$1:$1048576,2,FALSE)","v":0.39075342465753427},26.052270050668771,{"$f":"VLOOKUP($A1218,BasinData!$1:$1048576,3,FALSE)","v":21.194684771880812},{"$f":"VLOOKUP($A1218,BasinData!$1:$1048576,4,FALSE)","v":22.794633642930854},{"$f":"VLOOKUP($A1218,BasinData!$1:$1048576,5,FALSE)","v":7.8238558309900004},138.62969592108021,{"$f":"VLOOKUP($A1218,Sheet1!$1:$1048576,9,FALSE)","v":219.8801661738519},-24.637442206693873,{"$f":"VLOOKUP($A1218,Sheet1!$1:$1048576,10,FALSE)","v":206.33831240395889},-17.652214358842418,{"$f":"VLOOKUP($A1218,Sheet1!$1:$1048576,11,FALSE)","v":179.25460486417285},-2.1895824815685585,{"$f":"VLOOKUP($A1218,Sheet1!$1:$1048576,12,FALSE)","v":138.62904355449379},26.052270050668771]
[25060,{"$f":"VLOOKUP($A1219,BasinData!$1:$1048576,2,FALSE)","v":0.4588233104981061},27.332890388792524,{"$f":"VLOOKUP($A1219,BasinData!$1:$1048576,3,FALSE)","v":17.927827161858779},{"$f":"VLOOKUP($A1219,BasinData!$1:$1048576,4,FALSE)","v":22.938908659549227},{"$f":"VLOOKUP($A1219,BasinData!$1:$1048576,5,FALSE)","v":7.5115483680299997},137.26513190571669,{"$f":"VLOOKUP($A1219,Sheet1!$1:$1048576,9,FALSE)","v":217.71683149669695},-23.356924070545237,{"$f":"VLOOKUP($A1219,Sheet1!$1:$1048576,10,FALSE)","v":204.3082119441649},-16.372097109313312,{"$f":"VLOOKUP($A1219,Sheet1!$1:$1048576,11,FALSE)","v":177.49097283910078},-0.9094665383295073,{"$f":"VLOOKUP($A1219,Sheet1!$1:$1048576,12,FALSE)","v":137.2651141815046},27.332890388792524]
[25061,{"$f":"VLOOKUP($A1220,BasinData!$1:$1048576,2,FALSE)","v":1.6146555532045457},55.457464645867041,{"$f":"VLOOKUP($A1220,BasinData!$1:$1048576,3,FALSE)","v":2.5461599271794597},{"$f":"VLOOKUP($A1220,BasinData!$1:$1048576,4,FALSE)","v":12.962367320681892},{"$f":"VLOOKUP($A1220,BasinData!$1:$1048576,5,FALSE)","v":0.65003425353639499},166.19259256583823,{"$f":"VLOOKUP($A1220,Sheet1!$1:$1048576,9,FALSE)","v":263.5985802612837},4.7673429038839696,{"$f":"VLOOKUP($A1220,Sheet1!$1:$1048576,10,FALSE)","v":247.3642218379444},11.752571662299472,{"$f":"VLOOKUP($A1220,Sheet1!$1:$1048576,11,FALSE)","v":214.89550499126588},27.21518354117142,{"$f":"VLOOKUP($A1220,Sheet1!$1:$1048576,12,FALSE)","v":166.19242972124806},55.457464645867041]
[25062,{"$f":"VLOOKUP($A1221,BasinData!$1:$1048576,2,FALSE)","v":0.2735229759299781},24.568378019682406,{"$f":"VLOOKUP($A1221,BasinData!$1:$1048576,3,FALSE)","v":23.091445677563872},{"$f":"VLOOKUP($A1221,BasinData!$1:$1048576,4,FALSE)","v":22.755257429535028},{"$f":"VLOOKUP($A1221,BasinData!$1:$1048576,5,FALSE)","v":8.1860003564399992},140.16034337082414,{"$f":"VLOOKUP($A1221,Sheet1!$1:$1048576,9,FALSE)","v":222.30893842480901},-26.121837362081145,{"$f":"VLOOKUP($A1221,Sheet1!$1:$1048576,10,FALSE)","v":208.61750282025051},-19.136608786409163,{"$f":"VLOOKUP($A1221,Sheet1!$1:$1048576,11,FALSE)","v":181.23463161113352},-3.6739762930355089,{"$f":"VLOOKUP($A1221,Sheet1!$1:$1048576,12,FALSE)","v":140.16032479745803},24.568378019682406]
[25063,{"$f":"VLOOKUP($A1222,BasinData!$1:$1048576,2,FALSE)","v":0.63381875214962125},13.404249355701786,{"$f":"VLOOKUP($A1222,BasinData!$1:$1048576,3,FALSE)","v":8.5485332396583171},{"$f":"VLOOKUP($A1222,BasinData!$1:$1048576,4,FALSE)","v":28.684003152088263},{"$f":"VLOOKUP($A1222,BasinData!$1:$1048576,5,FALSE)","v":10.9096861264},114.5694938499845,{"$f":"VLOOKUP($A1222,Sheet1!$1:$1048576,9,FALSE)","v":181.71916254983503},-37.285625026752875,{"$f":"VLOOKUP($A1222,Sheet1!$1:$1048576,10,FALSE)","v":170.52754681996697},-30.300726521344526,{"$f":"VLOOKUP($A1222,Sheet1!$1:$1048576,11,FALSE)","v":148.14431536023085},-14.838107849997964,{"$f":"VLOOKUP($A1222,Sheet1!$1:$1048576,12,FALSE)","v":114.56946817062664},13.404249355701786]
[25064,{"$f":"VLOOKUP($A1223,BasinData!$1:$1048576,2,FALSE)","v":0.20931449502878074},36.706420692186931,{"$f":"VLOOKUP($A1223,BasinData!$1:$1048576,3,FALSE)","v":8.0709229723141327},{"$f":"VLOOKUP($A1223,BasinData!$1:$1048576,4,FALSE)","v":22.099126654461585},{"$f":"VLOOKUP($A1223,BasinData!$1:$1048576,5,FALSE)","v":5.2247118300400004},143.61593846402235,{"$f":"VLOOKUP($A1223,Sheet1!$1:$1048576,9,FALSE)","v":227.78990180030235},-13.98383679286435,{"$f":"VLOOKUP($A1223,Sheet1!$1:$1048576,10,FALSE)","v":213.7609077617995},-6.9985789263075411,{"$f":"VLOOKUP($A1223,Sheet1!$1:$1048576,11,FALSE)","v":185.70291968479381},8.464047509016364,{"$f":"VLOOKUP($A1223,Sheet1!$1:$1048576,12,FALSE)","v":143.61593756928522},36.706420692186931]
[25065,{"$f":"VLOOKUP($A1224,BasinData!$1:$1048576,2,FALSE)","v":1.5986195605037878},31.576894841623936,{"$f":"VLOOKUP($A1224,BasinData!$1:$1048576,3,FALSE)","v":9.1207970839255363},{"$f":"VLOOKUP($A1224,BasinData!$1:$1048576,4,FALSE)","v":37.251031760272745},{"$f":"VLOOKUP($A1224,BasinData!$1:$1048576,5,FALSE)","v":6.4761398624700002},82.47963209120779,{"$f":"VLOOKUP($A1224,Sheet1!$1:$1048576,9,FALSE)","v":130.82126964104751},-19.113277139956775,{"$f":"VLOOKUP($A1224,Sheet1!$1:$1048576,10,FALSE)","v":122.76432419527187},-12.128170830242102,{"$f":"VLOOKUP($A1224,Sheet1!$1:$1048576,11,FALSE)","v":106.65043330372055},3.3345553625829951,{"$f":"VLOOKUP($A1224,Sheet1!$1:$1048576,12,FALSE)","v":82.479596966393586},31.576894841623936]
[25066,{"$f":"VLOOKUP($A1225,BasinData!$1:$1048576,2,FALSE)","v":1.3125034562746214},50.33313725135153,{"$f":"VLOOKUP($A1225,BasinData!$1:$1048576,3,FALSE)","v":8.3298574370344856},{"$f":"VLOOKUP($A1225,BasinData!$1:$1048576,4,FALSE)","v":34.810810810810807},{"$f":"VLOOKUP($A1225,BasinData!$1:$1048576,5,FALSE)","v":1.9001478867899999},90.659453010272586,{"$f":"VLOOKUP($A1225,Sheet1!$1:$1048576,9,FALSE)","v":143.79492835627153},-0.35675058297198387,{"$f":"VLOOKUP($A1225,Sheet1!$1:$1048576,10,FALSE)","v":134.93896864632094},6.6278999407150305,{"$f":"VLOOKUP($A1225,Sheet1!$1:$1048576,11,FALSE)","v":117.22704922641978},22.091103952674853,{"$f":"VLOOKUP($A1225,Sheet1!$1:$1048576,12,FALSE)","v":90.659170096568005},50.33313725135153]
[25068,{"$f":"VLOOKUP($A1226,BasinData!$1:$1048576,2,FALSE)","v":3.4171083505866116},50.352523573322109,{"$f":"VLOOKUP($A1226,BasinData!$1:$1048576,3,FALSE)","v":7.9851329046145176},{"$f":"VLOOKUP($A1226,BasinData!$1:$1048576,4,FALSE)","v":32.637804061593393},{"$f":"VLOOKUP($A1226,BasinData!$1:$1048576,5,FALSE)","v":1.89541856254},80.892675662263215,{"$f":"VLOOKUP($A1226,Sheet1!$1:$1048576,9,FALSE)","v":128.30384754902471},-0.33736554174000349,{"$f":"VLOOKUP($A1226,Sheet1!$1:$1048576,10,FALSE)","v":120.40194365356477},6.6471449884445519,{"$f":"VLOOKUP($A1226,Sheet1!$1:$1048576,11,FALSE)","v":104.5981358626449},22.11048912270234,{"$f":"VLOOKUP($A1226,Sheet1!$1:$1048576,12,FALSE)","v":80.892424176265081},50.352523573322109]
[25069,{"$f":"VLOOKUP($A1227,BasinData!$1:$1048576,2,FALSE)","v":0.69362685477985897},30.777120055125128,{"$f":"VLOOKUP($A1227,BasinData!$1:$1048576,3,FALSE)","v":11.424742077923117},{"$f":"VLOOKUP($A1227,BasinData!$1:$1048576,4,FALSE)","v":21.076218407091311},{"$f":"VLOOKUP($A1227,BasinData!$1:$1048576,5,FALSE)","v":6.6711999999999998},142.02812192684277,{"$f":"VLOOKUP($A1227,Sheet1!$1:$1048576,9,FALSE)","v":225.27086687344428},-19.91278998770176,{"$f":"VLOOKUP($A1227,Sheet1!$1:$1048576,10,FALSE)","v":211.39701371560545},-12.92765549588673,{"$f":"VLOOKUP($A1227,Sheet1!$1:$1048576,11,FALSE)","v":183.64930739992784},2.5350277101319993,{"$f":"VLOOKUP($A1227,Sheet1!$1:$1048576,12,FALSE)","v":142.02774792641137},30.777120055125128]
[25070,{"$f":"VLOOKUP($A1228,BasinData!$1:$1048576,2,FALSE)","v":0.21881233696486113},27.768674807623682,{"$f":"VLOOKUP($A1228,BasinData!$1:$1048576,3,FALSE)","v":15.712018251538844},{"$f":"VLOOKUP($A1228,BasinData!$1:$1048576,4,FALSE)","v":22.920280765432757},{"$f":"VLOOKUP($A1228,BasinData!$1:$1048576,5,FALSE)","v":7.4052327799700004},140.13602052745122,{"$f":"VLOOKUP($A1228,Sheet1!$1:$1048576,9,FALSE)","v":222.27037545197641},-22.921232709770049,{"$f":"VLOOKUP($A1228,Sheet1!$1:$1048576,10,FALSE)","v":208.58131484170741},-15.936320083624727,{"$f":"VLOOKUP($A1228,Sheet1!$1:$1048576,11,FALSE)","v":181.20319362116936},-0.4736901856030668,{"$f":"VLOOKUP($A1228,Sheet1!$1:$1048576,12,FALSE)","v":140.13601179036226},27.768674807623682]
[25071,{"$f":"VLOOKUP($A1229,BasinData!$1:$1048576,2,FALSE)","v":3.6784741144414171E-2},45.024224748845988,{"$f":"VLOOKUP($A1229,BasinData!$1:$1048576,3,FALSE)","v":3.3677427216005835},{"$f":"VLOOKUP($A1229,BasinData!$1:$1048576,4,FALSE)","v":25.646156881535561},{"$f":"VLOOKUP($A1229,BasinData!$1:$1048576,5,FALSE)","v":3.1954347649999999},131.51566709376428,{"$f":"VLOOKUP($A1229,Sheet1!$1:$1048576,9,FALSE)","v":208.59760194669136},-5.666007889237493,{"$f":"VLOOKUP($A1229,Sheet1!$1:$1048576,10,FALSE)","v":195.75061228197112},1.3192269998065618,{"$f":"VLOOKUP($A1229,Sheet1!$1:$1048576,11,FALSE)","v":170.05663295253061},16.781839941612926,{"$f":"VLOOKUP($A1229,Sheet1!$1:$1048576,12,FALSE)","v":131.51566395836988},45.024224748845988]
[25072,{"$f":"VLOOKUP($A1230,BasinData!$1:$1048576,2,FALSE)","v":0.11869436201780414},22.908093099560066,{"$f":"VLOOKUP($A1230,BasinData!$1:$1048576,3,FALSE)","v":23.349099180231718},{"$f":"VLOOKUP($A1230,BasinData!$1:$1048576,4,FALSE)","v":19.394869546152162},{"$f":"VLOOKUP($A1230,BasinData!$1:$1048576,5,FALSE)","v":8.5909999999999993},156.4771505586624,{"$f":"VLOOKUP($A1230,Sheet1!$1:$1048576,9,FALSE)","v":248.18857552466375},-27.781892295895812,{"$f":"VLOOKUP($A1230,Sheet1!$1:$1048576,10,FALSE)","v":232.90327964920192},-20.796662100888856,{"$f":"VLOOKUP($A1230,Sheet1!$1:$1048576,11,FALSE)","v":202.33268789827821},-5.3341187751362424,{"$f":"VLOOKUP($A1230,Sheet1!$1:$1048576,12,FALSE)","v":156.47680027189261},22.908093099560066]
[25073,{"$f":"VLOOKUP($A1231,BasinData!$1:$1048576,2,FALSE)","v":0.39544103072348863},36.49283675731121,{"$f":"VLOOKUP($A1231,BasinData!$1:$1048576,3,FALSE)","v":8.2237277472912744},{"$f":"VLOOKUP($A1231,BasinData!$1:$1048576,4,FALSE)","v":21.475481996654636},{"$f":"VLOOKUP($A1231,BasinData!$1:$1048576,5,FALSE)","v":5.2768191829999997},143.95940551662909,{"$f":"VLOOKUP($A1231,Sheet1!$1:$1048576,9,FALSE)","v":228.33467429642596},-14.197414465239431,{"$f":"VLOOKUP($A1231,Sheet1!$1:$1048576,10,FALSE)","v":214.27212912137117},-7.2121617940472076,{"$f":"VLOOKUP($A1231,Sheet1!$1:$1048576,11,FALSE)","v":186.14703877126155},8.2504657061955662,{"$f":"VLOOKUP($A1231,Sheet1!$1:$1048576,12,FALSE)","v":143.95940324609714},36.49283675731121]
[25074,{"$f":"VLOOKUP($A1232,BasinData!$1:$1048576,2,FALSE)","v":1.0155538719431818},40.264521344260096,{"$f":"VLOOKUP($A1232,BasinData!$1:$1048576,3,FALSE)","v":20.651754686202345},{"$f":"VLOOKUP($A1232,BasinData!$1:$1048576,4,FALSE)","v":25.317825263727343},{"$f":"VLOOKUP($A1232,BasinData!$1:$1048576,5,FALSE)","v":4.3566124695941602},122.29052121150316,{"$f":"VLOOKUP($A1232,Sheet1!$1:$1048576,9,FALSE)","v":193.9652895727279},-10.42557072799352,{"$f":"VLOOKUP($A1232,Sheet1!$1:$1048576,10,FALSE)","v":182.0194663839641},-3.4403260197035093,{"$f":"VLOOKUP($A1232,Sheet1!$1:$1048576,11,FALSE)","v":158.12782000643651},12.022301542405915,{"$f":"VLOOKUP($A1232,Sheet1!$1:$1048576,12,FALSE)","v":122.29035044014513},40.264521344260096]
[25075,{"$f":"VLOOKUP($A1233,BasinData!$1:$1048576,2,FALSE)","v":1.491035590045491},35.21615156193694,{"$f":"VLOOKUP($A1233,BasinData!$1:$1048576,3,FALSE)","v":21.037434312839203},{"$f":"VLOOKUP($A1233,BasinData!$1:$1048576,4,FALSE)","v":24.105248267081624},{"$f":"VLOOKUP($A1233,BasinData!$1:$1048576,5,FALSE)","v":5.5882812381515699},121.69299832911815,{"$f":"VLOOKUP($A1233,Sheet1!$1:$1048576,9,FALSE)","v":193.01776556140499},-15.474047372831045,{"$f":"VLOOKUP($A1233,Sheet1!$1:$1048576,10,FALSE)","v":181.13029793889382},-8.4893298307476819,{"$f":"VLOOKUP($A1233,Sheet1!$1:$1048576,11,FALSE)","v":157.35536269387148},6.9738170257220276,{"$f":"VLOOKUP($A1233,Sheet1!$1:$1048576,12,FALSE)","v":121.692959826338},35.21615156193694]
[26001,{"$f":"VLOOKUP($A1234,BasinData!$1:$1048576,2,FALSE)","v":1.4007816911382576E-2},49.221306986414817,{"$f":"VLOOKUP($A1234,BasinData!$1:$1048576,3,FALSE)","v":3.5641190389030326},{"$f":"VLOOKUP($A1234,BasinData!$1:$1048576,4,FALSE)","v":40.06958538706872},{"$f":"VLOOKUP($A1234,BasinData!$1:$1048576,5,FALSE)","v":2.1713791493767438},86.852040752140979,{"$f":"VLOOKUP($A1234,Sheet1!$1:$1048576,9,FALSE)","v":137.75589256854025},-1.4685012820005137,{"$f":"VLOOKUP($A1234,Sheet1!$1:$1048576,10,FALSE)","v":129.27186153670402},5.5161611730321845,{"$f":"VLOOKUP($A1234,Sheet1!$1:$1048576,11,FALSE)","v":112.30379947303157},20.979342053851173,{"$f":"VLOOKUP($A1234,Sheet1!$1:$1048576,12,FALSE)","v":86.85170637752293},49.221306986414817]
[26002,{"$f":"VLOOKUP($A1235,BasinData!$1:$1048576,2,FALSE)","v":2.1720300284280302E-2},50.511617117163567,{"$f":"VLOOKUP($A1235,BasinData!$1:$1048576,3,FALSE)","v":8.4274738074588953},{"$f":"VLOOKUP($A1235,BasinData!$1:$1048576,4,FALSE)","v":19.632606199770379},{"$f":"VLOOKUP($A1235,BasinData!$1:$1048576,5,FALSE)","v":1.8566074053531783},156.67694395808675,{"$f":"VLOOKUP($A1235,Sheet1!$1:$1048576,9,FALSE)","v":248.50527540238238},-0.17828237559733576,{"$f":"VLOOKUP($A1235,Sheet1!$1:$1048576,10,FALSE)","v":233.20047479619546},6.8069480965573401,{"$f":"VLOOKUP($A1235,Sheet1!$1:$1048576,11,FALSE)","v":202.59087358382158},22.269573299942234,{"$f":"VLOOKUP($A1235,Sheet1!$1:$1048576,12,FALSE)","v":156.67647176526071},50.511617117163567]
[26003,{"$f":"VLOOKUP($A1236,BasinData!$1:$1048576,2,FALSE)","v":1.1991348447935606E-2},50.358217828164989,{"$f":"VLOOKUP($A1236,BasinData!$1:$1048576,3,FALSE)","v":5.6943724522969239},{"$f":"VLOOKUP($A1236,BasinData!$1:$1048576,4,FALSE)","v":8.2163989856297555},{"$f":"VLOOKUP($A1236,BasinData!$1:$1048576,5,FALSE)","v":1.8940294397990631},218.09521112123363,{"$f":"VLOOKUP($A1236,Sheet1!$1:$1048576,9,FALSE)","v":345.92074728723583},-0.33167166241374618,{"$f":"VLOOKUP($A1236,Sheet1!$1:$1048576,10,FALSE)","v":324.61637837916408},6.6535588011259827,{"$f":"VLOOKUP($A1236,Sheet1!$1:$1048576,11,FALSE)","v":282.00764056302052},22.116183049060446,{"$f":"VLOOKUP($A1236,Sheet1!$1:$1048576,12,FALSE)","v":218.09453383880521},50.358217828164989]
[26004,{"$f":"VLOOKUP($A1237,BasinData!$1:$1048576,2,FALSE)","v":2.2797910460227274E-2},53.361357689643157,{"$f":"VLOOKUP($A1237,BasinData!$1:$1048576,3,FALSE)","v":5.9308494047586731},{"$f":"VLOOKUP($A1237,BasinData!$1:$1048576,4,FALSE)","v":20.026064291920072},{"$f":"VLOOKUP($A1237,BasinData!$1:$1048576,5,FALSE)","v":1.1613990657083026},154.89123754483523,{"$f":"VLOOKUP($A1237,Sheet1!$1:$1048576,9,FALSE)","v":245.67330286536802},2.6713087619158986,{"$f":"VLOOKUP($A1237,Sheet1!$1:$1048576,10,FALSE)","v":230.54291616218984},9.6565381814067166,{"$f":"VLOOKUP($A1237,Sheet1!$1:$1048576,11,FALSE)","v":200.28214275583355},25.119033702881897,{"$f":"VLOOKUP($A1237,Sheet1!$1:$1048576,12,FALSE)","v":154.89098264629905},53.361357689643157]
[26005,{"$f":"VLOOKUP($A1238,BasinData!$1:$1048576,2,FALSE)","v":2.0240495961174242E-2},54.660775343868622,{"$f":"VLOOKUP($A1238,BasinData!$1:$1048576,3,FALSE)","v":15.558981514000862},{"$f":"VLOOKUP($A1238,BasinData!$1:$1048576,4,FALSE)","v":17.884019477644976},{"$f":"VLOOKUP($A1238,BasinData!$1:$1048576,5,FALSE)","v":0.84439480942126799},164.81813492053041,{"$f":"VLOOKUP($A1238,Sheet1!$1:$1048576,9,FALSE)","v":261.41849024371766},3.9706780974342117,{"$f":"VLOOKUP($A1238,Sheet1!$1:$1048576,10,FALSE)","v":245.3183979560504},10.955823892206567,{"$f":"VLOOKUP($A1238,Sheet1!$1:$1048576,11,FALSE)","v":213.11821338071587},26.418512666244993,{"$f":"VLOOKUP($A1238,Sheet1!$1:$1048576,12,FALSE)","v":164.81793651771409},54.660775343868622]
[27001,{"$f":"VLOOKUP($A1239,BasinData!$1:$1048576,2,FALSE)","v":0.73397590361445786},50.516887850492921,{"$f":"VLOOKUP($A1239,BasinData!$1:$1048576,3,FALSE)","v":1.5858739867082703},{"$f":"VLOOKUP($A1239,BasinData!$1:$1048576,4,FALSE)","v":17.920392775732072},{"$f":"VLOOKUP($A1239,BasinData!$1:$1048576,5,FALSE)","v":1.8553215994510801},155.06424234269753,{"$f":"VLOOKUP($A1239,Sheet1!$1:$1048576,9,FALSE)","v":245.94737039742864},-0.1730119820541334,{"$f":"VLOOKUP($A1239,Sheet1!$1:$1048576,10,FALSE)","v":230.80010458001831},6.8122184598456004,{"$f":"VLOOKUP($A1239,Sheet1!$1:$1048576,11,FALSE)","v":200.50557294519763},22.274843724651173,{"$f":"VLOOKUP($A1239,Sheet1!$1:$1048576,12,FALSE)","v":155.06377549296656},50.516887850492921]
[27002,{"$f":"VLOOKUP($A1240,BasinData!$1:$1048576,2,FALSE)","v":0},44.201147173944413,{"$f":"VLOOKUP($A1240,BasinData!$1:$1048576,3,FALSE)","v":12.81497666169747},{"$f":"VLOOKUP($A1240,BasinData!$1:$1048576,4,FALSE)","v":18.173132046627174},{"$f":"VLOOKUP($A1240,BasinData!$1:$1048576,5,FALSE)","v":3.3962378698638598},163.72470217132286,{"$f":"VLOOKUP($A1240,Sheet1!$1:$1048576,9,FALSE)","v":259.68448699189264},-6.4890811750979784,{"$f":"VLOOKUP($A1240,Sheet1!$1:$1048576,10,FALSE)","v":243.69118750360033},0.49615508948125925,{"$f":"VLOOKUP($A1240,Sheet1!$1:$1048576,11,FALSE)","v":211.70458852701569},15.958785912142162,{"$f":"VLOOKUP($A1240,Sheet1!$1:$1048576,12,FALSE)","v":163.72469006213873},44.201147173944413]
[27003,{"$f":"VLOOKUP($A1241,BasinData!$1:$1048576,2,FALSE)","v":0.48030255278915851},40.213996116960693,{"$f":"VLOOKUP($A1241,BasinData!$1:$1048576,3,FALSE)","v":5.801701967044095},{"$f":"VLOOKUP($A1241,BasinData!$1:$1048576,4,FALSE)","v":17.267570900123307},{"$f":"VLOOKUP($A1241,BasinData!$1:$1048576,5,FALSE)","v":4.3689380224800001},161.42054394645791,{"$f":"VLOOKUP($A1241,Sheet1!$1:$1048576,9,FALSE)","v":256.02950333570101},-10.476092109931743,{"$f":"VLOOKUP($A1241,Sheet1!$1:$1048576,10,FALSE)","v":240.26130488796531},-3.4908472313375105,{"$f":"VLOOKUP($A1241,Sheet1!$1:$1048576,11,FALSE)","v":208.72490799249391},11.971780821313933,{"$f":"VLOOKUP($A1241,Sheet1!$1:$1048576,12,FALSE)","v":161.42031264928681},40.213996116960693]
[27004,{"$f":"VLOOKUP($A1242,BasinData!$1:$1048576,2,FALSE)","v":0.99714021469507574},52.936014230306434,{"$f":"VLOOKUP($A1242,BasinData!$1:$1048576,3,FALSE)","v":1.7234388591133754},{"$f":"VLOOKUP($A1242,BasinData!$1:$1048576,4,FALSE)","v":4.5407901487942537},{"$f":"VLOOKUP($A1242,BasinData!$1:$1048576,5,FALSE)","v":1.26516470466154},223.27473611497157,{"$f":"VLOOKUP($A1242,Sheet1!$1:$1048576,9,FALSE)","v":354.13644805715063},2.2459835717165797,{"$f":"VLOOKUP($A1242,Sheet1!$1:$1048576,10,FALSE)","v":332.32609527441042},9.2312128077158118,{"$f":"VLOOKUP($A1242,Sheet1!$1:$1048576,11,FALSE)","v":288.70538970893006},24.693844696473231,{"$f":"VLOOKUP($A1242,Sheet1!$1:$1048576,12,FALSE)","v":223.27433136070943},52.936014230306434]
[27005,{"$f":"VLOOKUP($A1243,BasinData!$1:$1048576,2,FALSE)","v":8.0902783084659085},46.558707549499246,{"$f":"VLOOKUP($A1243,BasinData!$1:$1048576,3,FALSE)","v":1.3298798788572435},{"$f":"VLOOKUP($A1243,BasinData!$1:$1048576,4,FALSE)","v":14.952589350838805},{"$f":"VLOOKUP($A1243,BasinData!$1:$1048576,5,FALSE)","v":2.8209074175980602},91.074941855747994,{"$f":"VLOOKUP($A1243,Sheet1!$1:$1048576,9,FALSE)","v":144.45350463488114},-4.1308555096046664,{"$f":"VLOOKUP($A1243,Sheet1!$1:$1048576,10,FALSE)","v":135.55698490618744},2.8543313519139364,{"$f":"VLOOKUP($A1243,Sheet1!$1:$1048576,11,FALSE)","v":117.76394544880003},18.316995022054552,{"$f":"VLOOKUP($A1243,Sheet1!$1:$1048576,12,FALSE)","v":91.074386262718917},46.558707549499246]
[27006,{"$f":"VLOOKUP($A1244,BasinData!$1:$1048576,2,FALSE)","v":0.60909090909090913},40.21937343153899,{"$f":"VLOOKUP($A1244,BasinData!$1:$1048576,3,FALSE)","v":1.3825921545236057},{"$f":"VLOOKUP($A1244,BasinData!$1:$1048576,4,FALSE)","v":10.953596068424535},{"$f":"VLOOKUP($A1244,BasinData!$1:$1048576,5,FALSE)","v":4.3676262355900004},191.64959535403227,{"$f":"VLOOKUP($A1244,Sheet1!$1:$1048576,9,FALSE)","v":303.97587385899209},-10.47071520815097,{"$f":"VLOOKUP($A1244,Sheet1!$1:$1048576,10,FALSE)","v":285.25478179778628},-3.4854703477390112,{"$f":"VLOOKUP($A1244,Sheet1!$1:$1048576,11,FALSE)","v":247.8125976753746},11.977157654689927,{"$f":"VLOOKUP($A1244,Sheet1!$1:$1048576,12,FALSE)","v":191.64932149175712},40.21937343153899]
[27007,{"$f":"VLOOKUP($A1245,BasinData!$1:$1048576,2,FALSE)","v":5.2563839571780298},38.109608363487226,{"$f":"VLOOKUP($A1245,BasinData!$1:$1048576,3,FALSE)","v":7.3922308889191992},{"$f":"VLOOKUP($A1245,BasinData!$1:$1048576,4,FALSE)","v":38.810975609756099},{"$f":"VLOOKUP($A1245,BasinData!$1:$1048576,5,FALSE)","v":4.8822807945745801},57.987069308249602,{"$f":"VLOOKUP($A1245,Sheet1!$1:$1048576,9,FALSE)","v":91.973220317181784},-12.580241299681658,{"$f":"VLOOKUP($A1245,Sheet1!$1:$1048576,10,FALSE)","v":86.308826288587753},-5.5960720327214117,{"$f":"VLOOKUP($A1245,Sheet1!$1:$1048576,11,FALSE)","v":74.980038231399703},9.867625449420645,{"$f":"VLOOKUP($A1245,Sheet1!$1:$1048576,12,FALSE)","v":57.986856145617615},38.109608363487226]
[27008,{"$f":"VLOOKUP($A1246,BasinData!$1:$1048576,2,FALSE)","v":0.41570641282565124},40.478639322651929,{"$f":"VLOOKUP($A1246,BasinData!$1:$1048576,3,FALSE)","v":4.840504989425825},{"$f":"VLOOKUP($A1246,BasinData!$1:$1048576,4,FALSE)","v":26.746532156368225},{"$f":"VLOOKUP($A1246,BasinData!$1:$1048576,5,FALSE)","v":4.3043785112100004},123.40812421116408,{"$f":"VLOOKUP($A1246,Sheet1!$1:$1048576,9,FALSE)","v":195.73795114102072},-10.211468236347311,{"$f":"VLOOKUP($A1246,Sheet1!$1:$1048576,10,FALSE)","v":183.6829542866233},-3.2262242366120666,{"$f":"VLOOKUP($A1246,Sheet1!$1:$1048576,11,FALSE)","v":159.57296057782844},12.23640073759263,{"$f":"VLOOKUP($A1246,Sheet1!$1:$1048576,12,FALSE)","v":123.40797001463619},40.478639322651929]
[27009,{"$f":"VLOOKUP($A1247,BasinData!$1:$1048576,2,FALSE)","v":1.2283754225492145},52.747459644044923,{"$f":"VLOOKUP($A1247,BasinData!$1:$1048576,3,FALSE)","v":1.6406081168391324},{"$f":"VLOOKUP($A1247,BasinData!$1:$1048576,4,FALSE)","v":26.417679294734338},{"$f":"VLOOKUP($A1247,BasinData!$1:$1048576,5,FALSE)","v":1.3111638488699999},116.36563253483411,{"$f":"VLOOKUP($A1247,Sheet1!$1:$1048576,9,FALSE)","v":184.5677180387753},2.057437581673319,{"$f":"VLOOKUP($A1247,Sheet1!$1:$1048576,10,FALSE)","v":173.20066710455072},9.0426400065923556,{"$f":"VLOOKUP($A1247,Sheet1!$1:$1048576,11,FALSE)","v":150.46656523610153},24.504698476257349,{"$f":"VLOOKUP($A1247,Sheet1!$1:$1048576,12,FALSE)","v":116.36541243342778},52.747459644044923]
[27010,{"$f":"VLOOKUP($A1248,BasinData!$1:$1048576,2,FALSE)","v":0.39803398867044326},50.747853105092958,{"$f":"VLOOKUP($A1248,BasinData!$1:$1048576,3,FALSE)","v":0.93754850933935641},{"$f":"VLOOKUP($A1248,BasinData!$1:$1048576,4,FALSE)","v":18.964640628611047},{"$f":"VLOOKUP($A1248,BasinData!$1:$1048576,5,FALSE)","v":1.7989771034499999},154.76064871465201,{"$f":"VLOOKUP($A1248,Sheet1!$1:$1048576,9,FALSE)","v":245.4658735126269},5.7938633387051373E-2,{"$f":"VLOOKUP($A1248,Sheet1!$1:$1048576,10,FALSE)","v":230.34826184965033},7.0430768379660167,{"$f":"VLOOKUP($A1248,Sheet1!$1:$1048576,11,FALSE)","v":200.11303852369721},22.505795585048986,{"$f":"VLOOKUP($A1248,Sheet1!$1:$1048576,12,FALSE)","v":154.7602035347675},50.747853105092958]
[27011,{"$f":"VLOOKUP($A1249,BasinData!$1:$1048576,2,FALSE)","v":1.5674478223219694},46.794180275758279,{"$f":"VLOOKUP($A1249,BasinData!$1:$1048576,3,FALSE)","v":2.0484491508368228},{"$f":"VLOOKUP($A1249,BasinData!$1:$1048576,4,FALSE)","v":20.829068577277379},{"$f":"VLOOKUP($A1249,BasinData!$1:$1048576,5,FALSE)","v":2.7634658329600001},132.9229962468178,{"$f":"VLOOKUP($A1249,Sheet1!$1:$1048576,9,FALSE)","v":210.82854068232797},-3.895407900698026,{"$f":"VLOOKUP($A1249,Sheet1!$1:$1048576,10,FALSE)","v":197.84415324020338},3.0897199524044305,{"$f":"VLOOKUP($A1249,Sheet1!$1:$1048576,11,FALSE)","v":171.87537835595427},18.552447233255833,{"$f":"VLOOKUP($A1249,Sheet1!$1:$1048576,12,FALSE)","v":132.92221602958057},46.794180275758279]
[27012,{"$f":"VLOOKUP($A1250,BasinData!$1:$1048576,2,FALSE)","v":0.76921381302651515},41.948163509534893,{"$f":"VLOOKUP($A1250,BasinData!$1:$1048576,3,FALSE)","v":4.6543917618038977},{"$f":"VLOOKUP($A1250,BasinData!$1:$1048576,4,FALSE)","v":47.719734660033168},{"$f":"VLOOKUP($A1250,BasinData!$1:$1048576,5,FALSE)","v":3.9458813399900001},65.344681121322239,{"$f":"VLOOKUP($A1250,Sheet1!$1:$1048576,9,FALSE)","v":103.64344619393266},-8.7420198250135925,{"$f":"VLOOKUP($A1250,Sheet1!$1:$1048576,10,FALSE)","v":97.260312976467787},-1.7568321497574459,{"$f":"VLOOKUP($A1250,Sheet1!$1:$1048576,11,FALSE)","v":84.49404654153804},13.705849034673836,{"$f":"VLOOKUP($A1250,Sheet1!$1:$1048576,12,FALSE)","v":65.344646889143405},41.948163509534893]
[27013,{"$f":"VLOOKUP($A1251,BasinData!$1:$1048576,2,FALSE)","v":1.9783014011742424},45.864590230033336,{"$f":"VLOOKUP($A1251,BasinData!$1:$1048576,3,FALSE)","v":4.7118396368004287},{"$f":"VLOOKUP($A1251,BasinData!$1:$1048576,4,FALSE)","v":21.087613293051362},{"$f":"VLOOKUP($A1251,BasinData!$1:$1048576,5,FALSE)","v":2.9902074646700001},127.45815932781058,{"$f":"VLOOKUP($A1251,Sheet1!$1:$1048576,9,FALSE)","v":202.16042327178388},-4.8248004163027494,{"$f":"VLOOKUP($A1251,Sheet1!$1:$1048576,10,FALSE)","v":189.70988288133492},2.1604331388108857,{"$f":"VLOOKUP($A1251,Sheet1!$1:$1048576,11,FALSE)","v":164.80880210043696},17.622470123955612,{"$f":"VLOOKUP($A1251,Sheet1!$1:$1048576,12,FALSE)","v":127.45718092909006},45.864590230033336]
[27014,{"$f":"VLOOKUP($A1252,BasinData!$1:$1048576,2,FALSE)","v":0.81548366396590921},50.709371775782095,{"$f":"VLOOKUP($A1252,BasinData!$1:$1048576,3,FALSE)","v":1.1177726794895524},{"$f":"VLOOKUP($A1252,BasinData!$1:$1048576,4,FALSE)","v":17.332441918769849},{"$f":"VLOOKUP($A1252,BasinData!$1:$1048576,5,FALSE)","v":1.8083647190600001},156.64537829722923,{"$f":"VLOOKUP($A1252,Sheet1!$1:$1048576,9,FALSE)","v":248.45523773353864},1.9459709338714496E-2,{"$f":"VLOOKUP($A1252,Sheet1!$1:$1048576,10,FALSE)","v":233.15351881864862},7.0046899502696256,{"$f":"VLOOKUP($A1252,Sheet1!$1:$1048576,11,FALSE)","v":202.55008098886864},22.467316470036721,{"$f":"VLOOKUP($A1252,Sheet1!$1:$1048576,12,FALSE)","v":156.64492424419865},50.709371775782095]
[27015,{"$f":"VLOOKUP($A1253,BasinData!$1:$1048576,2,FALSE)","v":2.9412774155303025},54.136801725060884,{"$f":"VLOOKUP($A1253,BasinData!$1:$1048576,3,FALSE)","v":2.2980053148013906},{"$f":"VLOOKUP($A1253,BasinData!$1:$1048576,4,FALSE)","v":7.4301295160190861},{"$f":"VLOOKUP($A1253,BasinData!$1:$1048576,5,FALSE)","v":0.97222306120199997},174.44214479259171,{"$f":"VLOOKUP($A1253,Sheet1!$1:$1048576,9,FALSE)","v":276.68311240248613},3.4467226485537066,{"$f":"VLOOKUP($A1253,Sheet1!$1:$1048576,10,FALSE)","v":259.64291130589936},10.43165794739596,{"$f":"VLOOKUP($A1253,Sheet1!$1:$1048576,11,FALSE)","v":225.56250911272596},25.894552533677995,{"$f":"VLOOKUP($A1253,Sheet1!$1:$1048576,12,FALSE)","v":174.44190582296582},54.136801725060884]
[27016,{"$f":"VLOOKUP($A1254,BasinData!$1:$1048576,2,FALSE)","v":1.6287979006685604},54.308019261046738,{"$f":"VLOOKUP($A1254,BasinData!$1:$1048576,3,FALSE)","v":0.54031954603197752},{"$f":"VLOOKUP($A1254,BasinData!$1:$1048576,4,FALSE)","v":13.432543567652241},{"$f":"VLOOKUP($A1254,BasinData!$1:$1048576,5,FALSE)","v":0.93045299239500001},163.75503061342533,{"$f":"VLOOKUP($A1254,Sheet1!$1:$1048576,9,FALSE)","v":259.73226901857214},3.6179340593652682,{"$f":"VLOOKUP($A1254,Sheet1!$1:$1048576,10,FALSE)","v":243.73602675818088},10.602954121369626,{"$f":"VLOOKUP($A1254,Sheet1!$1:$1048576,11,FALSE)","v":211.7435422373984},26.065765539331881,{"$f":"VLOOKUP($A1254,Sheet1!$1:$1048576,12,FALSE)","v":163.75481545622466},54.308019261046738]
[27017,{"$f":"VLOOKUP($A1255,BasinData!$1:$1048576,2,FALSE)","v":0.13497952917093142},34.203128231829091,{"$f":"VLOOKUP($A1255,BasinData!$1:$1048576,3,FALSE)","v":9.8314790588191503},{"$f":"VLOOKUP($A1255,BasinData!$1:$1048576,4,FALSE)","v":20.584154348213662},{"$f":"VLOOKUP($A1255,BasinData!$1:$1048576,5,FALSE)","v":5.8354029452200002},150.98351552091415,{"$f":"VLOOKUP($A1255,Sheet1!$1:$1048576,9,FALSE)","v":239.47536647110874},-16.486970451971121,{"$f":"VLOOKUP($A1255,Sheet1!$1:$1048576,10,FALSE)","v":224.72669472561256},-9.5021122144402206,{"$f":"VLOOKUP($A1255,Sheet1!$1:$1048576,11,FALSE)","v":195.2293512346202},5.960669714244891,{"$f":"VLOOKUP($A1255,Sheet1!$1:$1048576,12,FALSE)","v":150.98333599813162},34.203128231829091]
[27018,{"$f":"VLOOKUP($A1256,BasinData!$1:$1048576,2,FALSE)","v":1.9755877058712119},53.827872289798201,{"$f":"VLOOKUP($A1256,BasinData!$1:$1048576,3,FALSE)","v":1.1716200986860597},{"$f":"VLOOKUP($A1256,BasinData!$1:$1048576,4,FALSE)","v":17.255037024281037},{"$f":"VLOOKUP($A1256,BasinData!$1:$1048576,5,FALSE)","v":1.0475890782299999},142.41870593445998,{"$f":"VLOOKUP($A1256,Sheet1!$1:$1048576,9,FALSE)","v":225.89063391101271},3.1378047410056773,{"$f":"VLOOKUP($A1256,Sheet1!$1:$1048576,10,FALSE)","v":211.97861089574565},10.122543961061009,{"$f":"VLOOKUP($A1256,Sheet1!$1:$1048576,11,FALSE)","v":184.15456486521157},25.585631583187453,{"$f":"VLOOKUP($A1256,Sheet1!$1:$1048576,12,FALSE)","v":142.4184958194104},53.827872289798201]
[27019,{"$f":"VLOOKUP($A1257,BasinData!$1:$1048576,2,FALSE)","v":1.5431914893617023},49.803842579249263,{"$f":"VLOOKUP($A1257,BasinData!$1:$1048576,3,FALSE)","v":8.1719618936362544},{"$f":"VLOOKUP($A1257,BasinData!$1:$1048576,4,FALSE)","v":13.141769290261168},{"$f":"VLOOKUP($A1257,BasinData!$1:$1048576,5,FALSE)","v":2.0292698264300002},166.3290491948402,{"$f":"VLOOKUP($A1257,Sheet1!$1:$1048576,9,FALSE)","v":263.81436187763416},-0.88600890097158036,{"$f":"VLOOKUP($A1257,Sheet1!$1:$1048576,10,FALSE)","v":247.56671401966466},6.0990535657068197,{"$f":"VLOOKUP($A1257,Sheet1!$1:$1048576,11,FALSE)","v":215.07141830372566},21.561841293705093,{"$f":"VLOOKUP($A1257,Sheet1!$1:$1048576,12,FALSE)","v":166.32847472981717},49.803842579249263]
[27020,{"$f":"VLOOKUP($A1258,BasinData!$1:$1048576,2,FALSE)","v":2.1486387436174241},42.705754558741667,{"$f":"VLOOKUP($A1258,BasinData!$1:$1048576,3,FALSE)","v":1.386519201662253},{"$f":"VLOOKUP($A1258,BasinData!$1:$1048576,4,FALSE)","v":19.182389937106919},{"$f":"VLOOKUP($A1258,BasinData!$1:$1048576,5,FALSE)","v":3.7610593986500001},132.75872649887521,{"$f":"VLOOKUP($A1258,Sheet1!$1:$1048576,9,FALSE)","v":210.56916522538643},-7.9844512787686304,{"$f":"VLOOKUP($A1258,Sheet1!$1:$1048576,10,FALSE)","v":197.60075205038436},-0.99937215841740967,{"$f":"VLOOKUP($A1258,Sheet1!$1:$1048576,11,FALSE)","v":171.66392570038022},14.463418582737461,{"$f":"VLOOKUP($A1258,Sheet1!$1:$1048576,12,FALSE)","v":132.75868617537401},42.705754558741667]
[27021,{"$f":"VLOOKUP($A1259,BasinData!$1:$1048576,2,FALSE)","v":5.3044929836742423},51.335614579685029,{"$f":"VLOOKUP($A1259,BasinData!$1:$1048576,3,FALSE)","v":3.8213476136265498},{"$f":"VLOOKUP($A1259,BasinData!$1:$1048576,4,FALSE)","v":33.254081470914564},{"$f":"VLOOKUP($A1259,BasinData!$1:$1048576,5,FALSE)","v":1.6555908324199999},67.814226555541126,{"$f":"VLOOKUP($A1259,Sheet1!$1:$1048576,9,FALSE)","v":107.56018308376417},0.64566500616265321,{"$f":"VLOOKUP($A1259,Sheet1!$1:$1048576,10,FALSE)","v":100.93582811747039},7.630036327421891,{"$f":"VLOOKUP($A1259,Sheet1!$1:$1048576,11,FALSE)","v":87.687118184882863},23.093524205011857,{"$f":"VLOOKUP($A1259,Sheet1!$1:$1048576,12,FALSE)","v":67.814053286001553},51.335614579685029]
[27022,{"$f":"VLOOKUP($A1260,BasinData!$1:$1048576,2,FALSE)","v":4.6043656207366987E-2},36.651891715997429,{"$f":"VLOOKUP($A1260,BasinData!$1:$1048576,3,FALSE)","v":7.1521562403611769},{"$f":"VLOOKUP($A1260,BasinData!$1:$1048576,4,FALSE)","v":25.417441176386806},{"$f":"VLOOKUP($A1260,BasinData!$1:$1048576,5,FALSE)","v":5.2380150955699998},132.28492316789044,{"$f":"VLOOKUP($A1260,Sheet1!$1:$1048576,9,FALSE)","v":209.81772582993054},-14.038364171094283,{"$f":"VLOOKUP($A1260,Sheet1!$1:$1048576,10,FALSE)","v":196.89559187413806},-7.0531076911588562,{"$f":"VLOOKUP($A1260,Sheet1!$1:$1048576,11,FALSE)","v":171.05132396255311},8.4095190335488681,{"$f":"VLOOKUP($A1260,Sheet1!$1:$1048576,12,FALSE)","v":132.28492209517566},36.651891715997429]
[27023,{"$f":"VLOOKUP($A1261,BasinData!$1:$1048576,2,FALSE)","v":1.1728933681704545},56.167204503804655,{"$f":"VLOOKUP($A1261,BasinData!$1:$1048576,3,FALSE)","v":0.89025452046368314},{"$f":"VLOOKUP($A1261,BasinData!$1:$1048576,4,FALSE)","v":12.976070104482643},{"$f":"VLOOKUP($A1261,BasinData!$1:$1048576,5,FALSE)","v":0.47688518854099998},172.4072054891584,{"$f":"VLOOKUP($A1261,Sheet1!$1:$1048576,9,FALSE)","v":273.45564405349722},5.4770638756520951,{"$f":"VLOOKUP($A1261,Sheet1!$1:$1048576,10,FALSE)","v":256.6142144295244},12.462292796810365,{"$f":"VLOOKUP($A1261,Sheet1!$1:$1048576,11,FALSE)","v":222.93135518157877},27.924908967290492,{"$f":"VLOOKUP($A1261,Sheet1!$1:$1048576,12,FALSE)","v":172.40706630966034},56.167204503804655]
[27024,{"$f":"VLOOKUP($A1262,BasinData!$1:$1048576,2,FALSE)","v":1.7758630307973484},50.017282546762061,{"$f":"VLOOKUP($A1262,BasinData!$1:$1048576,3,FALSE)","v":2.5896658931424028},{"$f":"VLOOKUP($A1262,BasinData!$1:$1048576,4,FALSE)","v":31.955664099192184},{"$f":"VLOOKUP($A1262,BasinData!$1:$1048576,5,FALSE)","v":1.9772010232099999},94.698858248100308,{"$f":"VLOOKUP($A1262,Sheet1!$1:$1048576,9,FALSE)","v":150.20179825148008},-0.67258391860358857,{"$f":"VLOOKUP($A1262,Sheet1!$1:$1048576,10,FALSE)","v":140.95125590702736},6.3118976021691351,{"$f":"VLOOKUP($A1262,Sheet1!$1:$1048576,11,FALSE)","v":122.45017121812194},21.77526821072113,{"$f":"VLOOKUP($A1262,Sheet1!$1:$1048576,12,FALSE)","v":94.69854418476379},50.017282546762061]
[27025,{"$f":"VLOOKUP($A1263,BasinData!$1:$1048576,2,FALSE)","v":1.4256210323238638},46.068257531665139,{"$f":"VLOOKUP($A1263,BasinData!$1:$1048576,3,FALSE)","v":4.8374207424771409},{"$f":"VLOOKUP($A1263,BasinData!$1:$1048576,4,FALSE)","v":28.434504792332266},{"$f":"VLOOKUP($A1263,BasinData!$1:$1048576,5,FALSE)","v":2.9405479834100001},107.97363332807424,{"$f":"VLOOKUP($A1263,Sheet1!$1:$1048576,9,FALSE)","v":171.25634772769706},-4.6212508810741131,{"$f":"VLOOKUP($A1263,Sheet1!$1:$1048576,10,FALSE)","v":160.70910984603762},2.3639823555199695,{"$f":"VLOOKUP($A1263,Sheet1!$1:$1048576,11,FALSE)","v":139.61463408271874},17.826565108984013,{"$f":"VLOOKUP($A1263,Sheet1!$1:$1048576,12,FALSE)","v":107.9729204377404},46.068257531665139]
[27026,{"$f":"VLOOKUP($A1264,BasinData!$1:$1048576,2,FALSE)","v":1.2344435939223484},51.695699821698284,{"$f":"VLOOKUP($A1264,BasinData!$1:$1048576,3,FALSE)","v":2.3228124181934722},{"$f":"VLOOKUP($A1264,BasinData!$1:$1048576,4,FALSE)","v":16.231884057971012},{"$f":"VLOOKUP($A1264,BasinData!$1:$1048576,5,FALSE)","v":1.56774653627},156.11571180819232,{"$f":"VLOOKUP($A1264,Sheet1!$1:$1048576,9,FALSE)","v":247.61526419755504},1.0057302134680262,{"$f":"VLOOKUP($A1264,Sheet1!$1:$1048576,10,FALSE)","v":232.36527709182639},7.9909280036911072,{"$f":"VLOOKUP($A1264,Sheet1!$1:$1048576,11,FALSE)","v":201.86530288036909},23.453590273203798,{"$f":"VLOOKUP($A1264,Sheet1!$1:$1048576,12,FALSE)","v":156.11534156318311},51.695699821698284]
[27027,{"$f":"VLOOKUP($A1265,BasinData!$1:$1048576,2,FALSE)","v":0.49636180454494572},51.925931865623717,{"$f":"VLOOKUP($A1265,BasinData!$1:$1048576,3,FALSE)","v":0.41564791663861145},{"$f":"VLOOKUP($A1265,BasinData!$1:$1048576,4,FALSE)","v":13.937849124139055},{"$f":"VLOOKUP($A1265,BasinData!$1:$1048576,5,FALSE)","v":1.51158033043},177.48637447154215,{"$f":"VLOOKUP($A1265,Sheet1!$1:$1048576,9,FALSE)","v":281.51132211345765},1.2359500109028689,{"$f":"VLOOKUP($A1265,Sheet1!$1:$1048576,10,FALSE)","v":264.1737640018473},8.2211797499416281,{"$f":"VLOOKUP($A1265,Sheet1!$1:$1048576,11,FALSE)","v":229.49864777862663},23.683810456105913,{"$f":"VLOOKUP($A1265,Sheet1!$1:$1048576,12,FALSE)","v":177.48597344379564},51.925931865623717]
[27028,{"$f":"VLOOKUP($A1266,BasinData!$1:$1048576,2,FALSE)","v":2.4870427482196971},52.675932482091497,{"$f":"VLOOKUP($A1266,BasinData!$1:$1048576,3,FALSE)","v":4.8693259309358652},{"$f":"VLOOKUP($A1266,BasinData!$1:$1048576,4,FALSE)","v":17.637407711238719},{"$f":"VLOOKUP($A1266,BasinData!$1:$1048576,5,FALSE)","v":1.32861338306},134.93039616543507,{"$f":"VLOOKUP($A1266,Sheet1!$1:$1048576,9,FALSE)","v":214.01331334659994},1.9859136482643265,{"$f":"VLOOKUP($A1266,Sheet1!$1:$1048576,10,FALSE)","v":200.83278394924406},8.9710899483524127,{"$f":"VLOOKUP($A1266,Sheet1!$1:$1048576,11,FALSE)","v":174.47172515453232},24.433774714651808,{"$f":"VLOOKUP($A1266,Sheet1!$1:$1048576,12,FALSE)","v":134.93013696246467},52.675932482091497]
[27029,{"$f":"VLOOKUP($A1267,BasinData!$1:$1048576,2,FALSE)","v":0.75565753764015142},38.078610126722225,{"$f":"VLOOKUP($A1267,BasinData!$1:$1048576,3,FALSE)","v":0.48061257163373866},{"$f":"VLOOKUP($A1267,BasinData!$1:$1048576,4,FALSE)","v":25.961538461538463},{"$f":"VLOOKUP($A1267,BasinData!$1:$1048576,5,FALSE)","v":4.8898421489499997},122.68619571048647,{"$f":"VLOOKUP($A1267,Sheet1!$1:$1048576,9,FALSE)","v":194.59241741081334},-12.61123468103548,{"$f":"VLOOKUP($A1267,Sheet1!$1:$1048576,10,FALSE)","v":182.60797103185391},-5.6259813713150519,{"$f":"VLOOKUP($A1267,Sheet1!$1:$1048576,11,FALSE)","v":158.63907827393504},9.8366326286107544,{"$f":"VLOOKUP($A1267,Sheet1!$1:$1048576,12,FALSE)","v":122.68573913705673},38.078610126722225]
[27030,{"$f":"VLOOKUP($A1268,BasinData!$1:$1048576,2,FALSE)","v":3.5279188364393943},46.908835355336322,{"$f":"VLOOKUP($A1268,BasinData!$1:$1048576,3,FALSE)","v":1.3787145792878173},{"$f":"VLOOKUP($A1268,BasinData!$1:$1048576,4,FALSE)","v":19.520383693045567},{"$f":"VLOOKUP($A1268,BasinData!$1:$1048576,5,FALSE)","v":2.7354966302600001},117.08630389085768,{"$f":"VLOOKUP($A1268,Sheet1!$1:$1048576,9,FALSE)","v":185.71005766243235},-3.7807647947424923,{"$f":"VLOOKUP($A1268,Sheet1!$1:$1048576,10,FALSE)","v":174.27265296957503},3.2043246918930701,{"$f":"VLOOKUP($A1268,Sheet1!$1:$1048576,11,FALSE)","v":151.39784358386041},18.667092081879581,{"$f":"VLOOKUP($A1268,Sheet1!$1:$1048576,12,FALSE)","v":117.08562950528847},46.908835355336322]
[27031,{"$f":"VLOOKUP($A1269,BasinData!$1:$1048576,2,FALSE)","v":0.31148550321590912},53.709388893571209,{"$f":"VLOOKUP($A1269,BasinData!$1:$1048576,3,FALSE)","v":1.6207306543731503},{"$f":"VLOOKUP($A1269,BasinData!$1:$1048576,4,FALSE)","v":11.093084567024944},{"$f":"VLOOKUP($A1269,BasinData!$1:$1048576,5,FALSE)","v":1.07649409024},195.71047626644534,{"$f":"VLOOKUP($A1269,Sheet1!$1:$1048576,9,FALSE)","v":310.41681920831263},3.0193259321565171,{"$f":"VLOOKUP($A1269,Sheet1!$1:$1048576,10,FALSE)","v":291.29904589304857},10.004555416063498,{"$f":"VLOOKUP($A1269,Sheet1!$1:$1048576,11,FALSE)","v":253.06349926252051},25.467151565755646,{"$f":"VLOOKUP($A1269,Sheet1!$1:$1048576,12,FALSE)","v":195.71017931672839},53.709388893571209]
[27032,{"$f":"VLOOKUP($A1270,BasinData!$1:$1048576,2,FALSE)","v":0.88487863904734843},53.689735570611305,{"$f":"VLOOKUP($A1270,BasinData!$1:$1048576,3,FALSE)","v":0.83217316912591799},{"$f":"VLOOKUP($A1270,BasinData!$1:$1048576,4,FALSE)","v":16.012960436562075},{"$f":"VLOOKUP($A1270,BasinData!$1:$1048576,5,FALSE)","v":1.0812886799500001},161.78802265214739,{"$f":"VLOOKUP($A1270,Sheet1!$1:$1048576,9,FALSE)","v":256.61233870592451},2.9996733791795553,{"$f":"VLOOKUP($A1270,Sheet1!$1:$1048576,10,FALSE)","v":240.8082449271418},9.984902861028857,{"$f":"VLOOKUP($A1270,Sheet1!$1:$1048576,11,FALSE)","v":209.20005736957631},25.447498806865525,{"$f":"VLOOKUP($A1270,Sheet1!$1:$1048576,12,FALSE)","v":161.78777603322808},53.689735570611305]
[27033,{"$f":"VLOOKUP($A1271,BasinData!$1:$1048576,2,FALSE)","v":1.300721268189394},53.975789925174546,{"$f":"VLOOKUP($A1271,BasinData!$1:$1048576,3,FALSE)","v":2.3915922133473617},{"$f":"VLOOKUP($A1271,BasinData!$1:$1048576,4,FALSE)","v":3.5791289348857265},{"$f":"VLOOKUP($A1271,BasinData!$1:$1048576,5,FALSE)","v":1.0115033062800001},223.7868028433102,{"$f":"VLOOKUP($A1271,Sheet1!$1:$1048576,9,FALSE)","v":354.94877594302363},3.2857167794490993,{"$f":"VLOOKUP($A1271,Sheet1!$1:$1048576,10,FALSE)","v":333.08839397559109},10.270946276532092,{"$f":"VLOOKUP($A1271,Sheet1!$1:$1048576,11,FALSE)","v":289.36763004072594},25.73354511618658,{"$f":"VLOOKUP($A1271,Sheet1!$1:$1048576,12,FALSE)","v":223.78648413842828},53.975789925174546]
[27034,{"$f":"VLOOKUP($A1272,BasinData!$1:$1048576,2,FALSE)","v":2.2086714787689394},50.173309110091026,{"$f":"VLOOKUP($A1272,BasinData!$1:$1048576,3,FALSE)","v":2.5495192528563555},{"$f":"VLOOKUP($A1272,BasinData!$1:$1048576,4,FALSE)","v":22.638208537438768},{"$f":"VLOOKUP($A1272,BasinData!$1:$1048576,5,FALSE)","v":1.9391381841099999},119.53633716955677,{"$f":"VLOOKUP($A1272,Sheet1!$1:$1048576,9,FALSE)","v":189.59652616593627},-0.51656803010975016,{"$f":"VLOOKUP($A1272,Sheet1!$1:$1048576,10,FALSE)","v":177.91976387629538},6.4686492422008408,{"$f":"VLOOKUP($A1272,Sheet1!$1:$1048576,11,FALSE)","v":154.56623929701362},21.931285364263893,{"$f":"VLOOKUP($A1272,Sheet1!$1:$1048576,12,FALSE)","v":119.53595242809098},50.173309110091026]
[27035,{"$f":"VLOOKUP($A1273,BasinData!$1:$1048576,2,FALSE)","v":1.4244928625093916},49.822628733226153,{"$f":"VLOOKUP($A1273,BasinData!$1:$1048576,3,FALSE)","v":1.2094725347723927},{"$f":"VLOOKUP($A1273,BasinData!$1:$1048576,4,FALSE)","v":14.58782608695652},{"$f":"VLOOKUP($A1273,BasinData!$1:$1048576,5,FALSE)","v":2.0246869377499999},161.11971842942853,{"$f":"VLOOKUP($A1273,Sheet1!$1:$1048576,9,FALSE)","v":255.55184996225407},-0.86722408384431326,{"$f":"VLOOKUP($A1273,Sheet1!$1:$1048576,10,FALSE)","v":239.81306895697566},6.1178058662637804,{"$f":"VLOOKUP($A1273,Sheet1!$1:$1048576,11,FALSE)","v":208.33550694641877},21.580626292507262,{"$f":"VLOOKUP($A1273,Sheet1!$1:$1048576,12,FALSE)","v":161.11916393058351},49.822628733226153]
[27036,{"$f":"VLOOKUP($A1274,BasinData!$1:$1048576,2,FALSE)","v":0.24231843575418993},43.271447652070677,{"$f":"VLOOKUP($A1274,BasinData!$1:$1048576,3,FALSE)","v":1.5539866484209681},{"$f":"VLOOKUP($A1274,BasinData!$1:$1048576,4,FALSE)","v":21.773000690267232},{"$f":"VLOOKUP($A1274,BasinData!$1:$1048576,5,FALSE)","v":3.6230515343},144.57458529304958,{"$f":"VLOOKUP($A1274,Sheet1!$1:$1048576,9,FALSE)","v":229.31037382996345},-7.4187695693343363,{"$f":"VLOOKUP($A1274,Sheet1!$1:$1048576,10,FALSE)","v":215.18773783072729},-0.43381429963380486,{"$f":"VLOOKUP($A1274,Sheet1!$1:$1048576,11,FALSE)","v":186.94246583225501},15.029096468906022,{"$f":"VLOOKUP($A1274,Sheet1!$1:$1048576,12,FALSE)","v":144.57455783454657},43.271447652070677]
[27037,{"$f":"VLOOKUP($A1275,BasinData!$1:$1048576,2,FALSE)","v":1.2097251585623678},43.011521906727282,{"$f":"VLOOKUP($A1275,BasinData!$1:$1048576,3,FALSE)","v":1.5957591253576917},{"$f":"VLOOKUP($A1275,BasinData!$1:$1048576,4,FALSE)","v":22.918864885877717},{"$f":"VLOOKUP($A1275,BasinData!$1:$1048576,5,FALSE)","v":3.6864637784299998},128.94912454399858,{"$f":"VLOOKUP($A1275,Sheet1!$1:$1048576,9,FALSE)","v":204.52675335353666},-7.6786905884189816,{"$f":"VLOOKUP($A1275,Sheet1!$1:$1048576,10,FALSE)","v":191.93047678098449},-0.69367361007939554,{"$f":"VLOOKUP($A1275,Sheet1!$1:$1048576,11,FALSE)","v":166.73792363588015},14.769164882550763,{"$f":"VLOOKUP($A1275,Sheet1!$1:$1048576,12,FALSE)","v":128.94909391822364},43.011521906727282]
[27038,{"$f":"VLOOKUP($A1276,BasinData!$1:$1048576,2,FALSE)","v":1.6061357366818181},47.348767464504945,{"$f":"VLOOKUP($A1276,BasinData!$1:$1048576,3,FALSE)","v":1.8770361174134036},{"$f":"VLOOKUP($A1276,BasinData!$1:$1048576,4,FALSE)","v":13.754646840148698},{"$f":"VLOOKUP($A1276,BasinData!$1:$1048576,5,FALSE)","v":2.62817828298},162.54753312844375,{"$f":"VLOOKUP($A1276,Sheet1!$1:$1048576,9,FALSE)","v":257.8160131321236},-3.3408771028043849,{"$f":"VLOOKUP($A1276,Sheet1!$1:$1048576,10,FALSE)","v":241.93778814200979},3.6440005043116468,{"$f":"VLOOKUP($A1276,Sheet1!$1:$1048576,11,FALSE)","v":210.18133816178215},19.106984107552538,{"$f":"VLOOKUP($A1276,Sheet1!$1:$1048576,12,FALSE)","v":162.54666319144064},47.348767464504945]
[27039,{"$f":"VLOOKUP($A1277,BasinData!$1:$1048576,2,FALSE)","v":1.3841352576950758},-8.0410493633124887,{"$f":"VLOOKUP($A1277,BasinData!$1:$1048576,3,FALSE)","v":0.23936618480134497},{"$f":"VLOOKUP($A1277,BasinData!$1:$1048576,4,FALSE)","v":27.265715387581952},{"$f":"VLOOKUP($A1277,BasinData!$1:$1048576,5,FALSE)","v":16.141654660899999},112.07219860445285,{"$f":"VLOOKUP($A1277,Sheet1!$1:$1048576,9,FALSE)","v":177.75822888874421},-58.731275338174285,{"$f":"VLOOKUP($A1277,Sheet1!$1:$1048576,10,FALSE)","v":166.81055687314608},-51.74608372840229,{"$f":"VLOOKUP($A1277,Sheet1!$1:$1048576,11,FALSE)","v":144.9152128419498},-36.283497721793509,{"$f":"VLOOKUP($A1277,Sheet1!$1:$1048576,12,FALSE)","v":112.07219679515538},-8.0410493633124887]
[27040,{"$f":"VLOOKUP($A1278,BasinData!$1:$1048576,2,FALSE)","v":2.2438554216867472},40.868315694302908,{"$f":"VLOOKUP($A1278,BasinData!$1:$1048576,3,FALSE)","v":9.2239800512588559},{"$f":"VLOOKUP($A1278,BasinData!$1:$1048576,4,FALSE)","v":17.652048096592328},{"$f":"VLOOKUP($A1278,BasinData!$1:$1048576,5,FALSE)","v":4.2093163928799999},{"$f":"EXP(6.1523-(0.084*B1278)-(0.0091*C1278)-(0.0289*E1278)-(0.0373*F1278))","v":137.65668289430039},{"$f":"VLOOKUP($A1278,Sheet1!$1:$1048576,9,FALSE)","v":218.33767958797515},-9.8218168680348992,{"$f":"VLOOKUP($A1278,Sheet1!$1:$1048576,10,FALSE)","v":204.89082359869801},-2.8365741050441344,{"$f":"VLOOKUP($A1278,Sheet1!$1:$1048576,11,FALSE)","v":177.9971116201437},12.626043520363963,{"$f":"VLOOKUP($A1278,Sheet1!$1:$1048576,12,FALSE)","v":137.65654365231225},40.868315694302908]
[27041,{"$f":"VLOOKUP($A1279,BasinData!$1:$1048576,2,FALSE)","v":0.11907270811380401},37.526956174395217,{"$f":"VLOOKUP($A1279,BasinData!$1:$1048576,3,FALSE)","v":8.6676000675961298},{"$f":"VLOOKUP($A1279,BasinData!$1:$1048576,4,FALSE)","v":18.579577072899276},{"$f":"VLOOKUP($A1279,BasinData!$1:$1048576,5,FALSE)","v":5.0244043611000002},160.20312338919058,{"$f":"VLOOKUP($A1279,Sheet1!$1:$1048576,9,FALSE)","v":254.09774448565793},-13.162794441558887,{"$f":"VLOOKUP($A1279,Sheet1!$1:$1048576,10,FALSE)","v":238.44851809584443},-6.1775385042616922,{"$f":"VLOOKUP($A1279,Sheet1!$1:$1048576,11,FALSE)","v":207.15006531621745},9.2850818465515133,{"$f":"VLOOKUP($A1279,Sheet1!$1:$1048576,12,FALSE)","v":160.20238614677697},37.526956174395217]
[27042,{"$f":"VLOOKUP($A1280,BasinData!$1:$1048576,2,FALSE)","v":1.4685973570075757},19.73538615265873,{"$f":"VLOOKUP($A1280,BasinData!$1:$1048576,3,FALSE)","v":0.65747600826354624},{"$f":"VLOOKUP($A1280,BasinData!$1:$1048576,4,FALSE)","v":31.775300171526588},{"$f":"VLOOKUP($A1280,BasinData!$1:$1048576,5,FALSE)","v":9.3648567596200003},97.683286609149377,{"$f":"VLOOKUP($A1280,Sheet1!$1:$1048576,9,FALSE)","v":154.93451530513528},-30.95386310821765,{"$f":"VLOOKUP($A1280,Sheet1!$1:$1048576,10,FALSE)","v":145.39249709275819},-23.968624142695255,{"$f":"VLOOKUP($A1280,Sheet1!$1:$1048576,11,FALSE)","v":126.30846066800403},-8.5060257008593769,{"$f":"VLOOKUP($A1280,Sheet1!$1:$1048576,12,FALSE)","v":97.682406030872784},19.73538615265873]
[27043,{"$f":"VLOOKUP($A1281,BasinData!$1:$1048576,2,FALSE)","v":2.3138144708333335},45.731944596007693,{"$f":"VLOOKUP($A1281,BasinData!$1:$1048576,3,FALSE)","v":1.5756294010995899},{"$f":"VLOOKUP($A1281,BasinData!$1:$1048576,4,FALSE)","v":30.844980940279541},{"$f":"VLOOKUP($A1281,BasinData!$1:$1048576,5,FALSE)","v":3.02251433613},93.468002148716295,{"$f":"VLOOKUP($A1281,Sheet1!$1:$1048576,9,FALSE)","v":148.24859105205422},-4.9572232436423409,{"$f":"VLOOKUP($A1281,Sheet1!$1:$1048576,10,FALSE)","v":139.11834171418408},2.0280105188356359,{"$f":"VLOOKUP($A1281,Sheet1!$1:$1048576,11,FALSE)","v":120.8578430384438},17.490641823293167,{"$f":"VLOOKUP($A1281,Sheet1!$1:$1048576,12,FALSE)","v":93.467095024833355},45.731944596007693]
[27044,{"$f":"VLOOKUP($A1282,BasinData!$1:$1048576,2,FALSE)","v":0.45249755142017634},41.699651095709754,{"$f":"VLOOKUP($A1282,BasinData!$1:$1048576,3,FALSE)","v":2.4342782182183593},{"$f":"VLOOKUP($A1282,BasinData!$1:$1048576,4,FALSE)","v":28.38069154399178},{"$f":"VLOOKUP($A1282,BasinData!$1:$1048576,5,FALSE)","v":4.0065079000799999},117.35208041313132,{"$f":"VLOOKUP($A1282,Sheet1!$1:$1048576,9,FALSE)","v":186.13256199305903},-8.9905227020048066,{"$f":"VLOOKUP($A1282,Sheet1!$1:$1048576,10,FALSE)","v":174.66913634541507},-2.0053125057170935,{"$f":"VLOOKUP($A1282,Sheet1!$1:$1048576,11,FALSE)","v":151.74228505012712},13.457349400372225,{"$f":"VLOOKUP($A1282,Sheet1!$1:$1048576,12,FALSE)","v":117.3520081071952},41.699651095709754]
[27045,{"$f":"VLOOKUP($A1283,BasinData!$1:$1048576,2,FALSE)","v":0.21717567214826419},31.942874326402414,{"$f":"VLOOKUP($A1283,BasinData!$1:$1048576,3,FALSE)","v":3.872347737880693},{"$f":"VLOOKUP($A1283,BasinData!$1:$1048576,4,FALSE)","v":15.333107044774277},{"$f":"VLOOKUP($A1283,BasinData!$1:$1048576,5,FALSE)","v":6.3868608759000001},174.51669019829956,{"$f":"VLOOKUP($A1283,Sheet1!$1:$1048576,9,FALSE)","v":276.80169537587324},-18.747336212746777,{"$f":"VLOOKUP($A1283,Sheet1!$1:$1048576,10,FALSE)","v":259.75419105902273},-11.762251516507117,{"$f":"VLOOKUP($A1283,Sheet1!$1:$1048576,11,FALSE)","v":225.65918242532172},3.7004986606318231,{"$f":"VLOOKUP($A1283,Sheet1!$1:$1048576,12,FALSE)","v":174.5166694747702},31.942874326402414]
[27046,{"$f":"VLOOKUP($A1284,BasinData!$1:$1048576,2,FALSE)","v":1.6938663243788392},37.549967426376199,{"$f":"VLOOKUP($A1284,BasinData!$1:$1048576,3,FALSE)","v":2.1188054168816177},{"$f":"VLOOKUP($A1284,BasinData!$1:$1048576,4,FALSE)","v":26.595577857926926},{"$f":"VLOOKUP($A1284,BasinData!$1:$1048576,5,FALSE)","v":5.0187914161},111.32984876018153,{"$f":"VLOOKUP($A1284,Sheet1!$1:$1048576,9,FALSE)","v":176.57998161390483},-13.139787423927686,{"$f":"VLOOKUP($A1284,Sheet1!$1:$1048576,10,FALSE)","v":165.70487481679953},-6.1545316004158801,{"$f":"VLOOKUP($A1284,Sheet1!$1:$1048576,11,FALSE)","v":143.95466122258898},9.3080885262993949,{"$f":"VLOOKUP($A1284,Sheet1!$1:$1048576,12,FALSE)","v":111.32934083127311},37.549967426376199]
[27047,{"$f":"VLOOKUP($A1285,BasinData!$1:$1048576,2,FALSE)","v":0.22876213592233011},33.809273962489407,{"$f":"VLOOKUP($A1285,BasinData!$1:$1048576,3,FALSE)","v":3.0102639513462641},{"$f":"VLOOKUP($A1285,BasinData!$1:$1048576,4,FALSE)","v":19.584192373648818},{"$f":"VLOOKUP($A1285,BasinData!$1:$1048576,5,FALSE)","v":5.93147458296},154.19105123981871,{"$f":"VLOOKUP($A1285,Sheet1!$1:$1048576,9,FALSE)","v":244.56270046930044},-16.880683081240242,{"$f":"VLOOKUP($A1285,Sheet1!$1:$1048576,10,FALSE)","v":229.50071291055511},-9.895850999502418,{"$f":"VLOOKUP($A1285,Sheet1!$1:$1048576,11,FALSE)","v":199.37673779306445},5.5670555345682615,{"$f":"VLOOKUP($A1285,Sheet1!$1:$1048576,12,FALSE)","v":154.19077511682846},33.809273962489407]
[27048,{"$f":"VLOOKUP($A1286,BasinData!$1:$1048576,2,FALSE)","v":0.12803827751196173},30.736902843551775,{"$f":"VLOOKUP($A1286,BasinData!$1:$1048576,3,FALSE)","v":11.359279276082928},{"$f":"VLOOKUP($A1286,BasinData!$1:$1048576,4,FALSE)","v":19.004958185261632},{"$f":"VLOOKUP($A1286,BasinData!$1:$1048576,5,FALSE)","v":6.6810064240599996},158.12630898937155,{"$f":"VLOOKUP($A1286,Sheet1!$1:$1048576,9,FALSE)","v":250.80415906798771},-19.952984178899651,{"$f":"VLOOKUP($A1286,Sheet1!$1:$1048576,10,FALSE)","v":235.3577761309551},-12.96784902841495,{"$f":"VLOOKUP($A1286,Sheet1!$1:$1048576,11,FALSE)","v":204.46501025688994},2.4948323511844079,{"$f":"VLOOKUP($A1286,Sheet1!$1:$1048576,12,FALSE)","v":158.12586144579217},30.736902843551775]
[27049,{"$f":"VLOOKUP($A1287,BasinData!$1:$1048576,2,FALSE)","v":8.719916288803628E-3},45.180811639336909,{"$f":"VLOOKUP($A1287,BasinData!$1:$1048576,3,FALSE)","v":1.4307784135094881},{"$f":"VLOOKUP($A1287,BasinData!$1:$1048576,4,FALSE)","v":30.767267778155837},{"$f":"VLOOKUP($A1287,BasinData!$1:$1048576,5,FALSE)","v":3.15723275125},113.69089526252772,{"$f":"VLOOKUP($A1287,Sheet1!$1:$1048576,9,FALSE)","v":180.32565071210993},-5.5094214016740324,{"$f":"VLOOKUP($A1287,Sheet1!$1:$1048576,10,FALSE)","v":169.21985779137222},1.4758132354414633,{"$f":"VLOOKUP($A1287,Sheet1!$1:$1048576,11,FALSE)","v":147.00827194989677},16.938433934938054,{"$f":"VLOOKUP($A1287,Sheet1!$1:$1048576,12,FALSE)","v":113.69089318768363},45.180811639336909]
[27050,{"$f":"VLOOKUP($A1288,BasinData!$1:$1048576,2,FALSE)","v":2.8050405882575756E-2},49.845169760435617,{"$f":"VLOOKUP($A1288,BasinData!$1:$1048576,3,FALSE)","v":2.3264693241878245},{"$f":"VLOOKUP($A1288,BasinData!$1:$1048576,4,FALSE)","v":5.2856706385578978},{"$f":"VLOOKUP($A1288,BasinData!$1:$1048576,5,FALSE)","v":2.01918804533},237.05237909140379,{"$f":"VLOOKUP($A1288,Sheet1!$1:$1048576,9,FALSE)","v":375.98858472066649},-0.84468465609915289,{"$f":"VLOOKUP($A1288,Sheet1!$1:$1048576,10,FALSE)","v":352.83241505773037},6.1403019222342179,{"$f":"VLOOKUP($A1288,Sheet1!$1:$1048576,11,FALSE)","v":306.52007573185819},21.60316593526511,{"$f":"VLOOKUP($A1288,Sheet1!$1:$1048576,12,FALSE)","v":237.05156674304988},49.845169760435617]
[27051,{"$f":"VLOOKUP($A1289,BasinData!$1:$1048576,2,FALSE)","v":3.2471110764962119E-2},44.78386971249212,{"$f":"VLOOKUP($A1289,BasinData!$1:$1048576,3,FALSE)","v":1.2493903355462568},{"$f":"VLOOKUP($A1289,BasinData!$1:$1048576,4,FALSE)","v":26.583238528631021},{"$f":"VLOOKUP($A1289,BasinData!$1:$1048576,5,FALSE)","v":3.2540733719300001},128.0481905915164,{"$f":"VLOOKUP($A1289,Sheet1!$1:$1048576,9,FALSE)","v":203.09781939280913},-5.9063620764693097,{"$f":"VLOOKUP($A1289,Sheet1!$1:$1048576,10,FALSE)","v":190.58954718681591},1.0788732044105027,{"$f":"VLOOKUP($A1289,Sheet1!$1:$1048576,11,FALSE)","v":165.57300277482946},16.540966152096562,{"$f":"VLOOKUP($A1289,Sheet1!$1:$1048576,12,FALSE)","v":128.04818615684979},44.78386971249212]
[27052,{"$f":"VLOOKUP($A1290,BasinData!$1:$1048576,2,FALSE)","v":0.4712824547600315},44.162675249182499,{"$f":"VLOOKUP($A1290,BasinData!$1:$1048576,3,FALSE)","v":3.1244381203580742},{"$f":"VLOOKUP($A1290,BasinData!$1:$1048576,4,FALSE)","v":29.029166096124882},{"$f":"VLOOKUP($A1290,BasinData!$1:$1048576,5,FALSE)","v":3.4056236913000002},114.9916210379352,{"$f":"VLOOKUP($A1290,Sheet1!$1:$1048576,9,FALSE)","v":182.38872705689468},-6.527552790507734,{"$f":"VLOOKUP($A1290,Sheet1!$1:$1048576,10,FALSE)","v":171.15587457156164},0.45712437566136643,{"$f":"VLOOKUP($A1290,Sheet1!$1:$1048576,11,FALSE)","v":148.6901696008955},15.920313026166703,{"$f":"VLOOKUP($A1290,Sheet1!$1:$1048576,12,FALSE)","v":114.99161214489634},44.162675249182499]
[27053,{"$f":"VLOOKUP($A1291,BasinData!$1:$1048576,2,FALSE)","v":107.30283095572474},31.403199615049406,{"$f":"VLOOKUP($A1291,BasinData!$1:$1048576,3,FALSE)","v":7.4720337418089846},{"$f":"VLOOKUP($A1291,BasinData!$1:$1048576,4,FALSE)","v":19.711224227059361},{"$f":"VLOOKUP($A1291,BasinData!$1:$1048576,5,FALSE)","v":6.3651664100099996},1.9178181927540783E-2,{"$f":"VLOOKUP($A1291,Sheet1!$1:$1048576,9,FALSE)","v":3.0245094233658221E-2},-16.015446798349362,{"$f":"VLOOKUP($A1291,Sheet1!$1:$1048576,10,FALSE)","v":2.8382376688479559E-2},-14.253747650530933,{"$f":"VLOOKUP($A1291,Sheet1!$1:$1048576,11,FALSE)","v":2.465694159812223E-2},3.3139728087962261,{"$f":"VLOOKUP($A1291,Sheet1!$1:$1048576,12,FALSE)","v":1.9068788962586236E-2},31.403199615049406]
[27054,{"$f":"VLOOKUP($A1292,BasinData!$1:$1048576,2,FALSE)","v":3.0926692808901517E-2},47.703905674122844,{"$f":"VLOOKUP($A1292,BasinData!$1:$1048576,3,FALSE)","v":1.2046248376365258},{"$f":"VLOOKUP($A1292,BasinData!$1:$1048576,4,FALSE)","v":11.069165430767157},{"$f":"VLOOKUP($A1292,BasinData!$1:$1048576,5,FALSE)","v":2.5416794136299998},200.51580931548602,{"$f":"VLOOKUP($A1292,Sheet1!$1:$1048576,9,FALSE)","v":318.03905049733044},-2.9863264947851373,{"$f":"VLOOKUP($A1292,Sheet1!$1:$1048576,10,FALSE)","v":298.451843565964},3.9989056737376369,{"$f":"VLOOKUP($A1292,Sheet1!$1:$1048576,11,FALSE)","v":259.27742970323118},19.461536258672364,{"$f":"VLOOKUP($A1292,Sheet1!$1:$1048576,12,FALSE)","v":200.51580890913198},47.703905674122844]
[27055,{"$f":"VLOOKUP($A1293,BasinData!$1:$1048576,2,FALSE)","v":1.3841352576950759E-2},47.157902688568626,{"$f":"VLOOKUP($A1293,BasinData!$1:$1048576,3,FALSE)","v":1.9997035304893849},{"$f":"VLOOKUP($A1293,BasinData!$1:$1048576,4,FALSE)","v":21.249477643125783},{"$f":"VLOOKUP($A1293,BasinData!$1:$1048576,5,FALSE)","v":2.67473847702},149.62359337603837,{"$f":"VLOOKUP($A1293,Sheet1!$1:$1048576,9,FALSE)","v":237.31736096852075},-3.5317229026580494,{"$f":"VLOOKUP($A1293,Sheet1!$1:$1048576,10,FALSE)","v":222.70159523023381},3.4532597748939371,{"$f":"VLOOKUP($A1293,Sheet1!$1:$1048576,11,FALSE)","v":193.47006375365993},18.916136830196333,{"$f":"VLOOKUP($A1293,Sheet1!$1:$1048576,12,FALSE)","v":149.62276653879906},47.157902688568626]
[27056,{"$f":"VLOOKUP($A1294,BasinData!$1:$1048576,2,FALSE)","v":1.6061357366818182E-2},44.438632424467428,{"$f":"VLOOKUP($A1294,BasinData!$1:$1048576,3,FALSE)","v":1.1487498662961377},{"$f":"VLOOKUP($A1294,BasinData!$1:$1048576,4,FALSE)","v":35.016484469894152},{"$f":"VLOOKUP($A1294,BasinData!$1:$1048576,5,FALSE)","v":3.3382996071500002},100.49061242119132,{"$f":"VLOOKUP($A1294,Sheet1!$1:$1048576,9,FALSE)","v":159.38861560222063},-6.2515975955347711,{"$f":"VLOOKUP($A1294,Sheet1!$1:$1048576,10,FALSE)","v":149.57228081118552},0.73297118757597601,{"$f":"VLOOKUP($A1294,Sheet1!$1:$1048576,11,FALSE)","v":129.93961122911534},16.196258885593348,{"$f":"VLOOKUP($A1294,Sheet1!$1:$1048576,12,FALSE)","v":100.49060685601006},44.438632424467428]
[27057,{"$f":"VLOOKUP($A1295,BasinData!$1:$1048576,2,FALSE)","v":2.2086714787689393E-2},55.716812597631268,{"$f":"VLOOKUP($A1295,BasinData!$1:$1048576,3,FALSE)","v":0.58140840609305833},{"$f":"VLOOKUP($A1295,BasinData!$1:$1048576,4,FALSE)","v":10.481727574750831},{"$f":"VLOOKUP($A1295,BasinData!$1:$1048576,5,FALSE)","v":0.586763463057},204.10070361989315,{"$f":"VLOOKUP($A1295,Sheet1!$1:$1048576,9,FALSE)","v":323.72477267541768},5.0266836473094791,{"$f":"VLOOKUP($A1295,Sheet1!$1:$1048576,10,FALSE)","v":303.78739674221862},12.01191247443389,{"$f":"VLOOKUP($A1295,Sheet1!$1:$1048576,11,FALSE)","v":263.91264487582049},27.474526009888603,{"$f":"VLOOKUP($A1295,Sheet1!$1:$1048576,12,FALSE)","v":204.1005170762233},55.716812597631268]
[27058,{"$f":"VLOOKUP($A1296,BasinData!$1:$1048576,2,FALSE)","v":3.0936837615950528},33.20889665749965,{"$f":"VLOOKUP($A1296,BasinData!$1:$1048576,3,FALSE)","v":6.7817175528738929},{"$f":"VLOOKUP($A1296,BasinData!$1:$1048576,4,FALSE)","v":20.25099122061739},{"$f":"VLOOKUP($A1296,BasinData!$1:$1048576,5,FALSE)","v":6.0779120644700004},118.89845840793703,{"$f":"VLOOKUP($A1296,Sheet1!$1:$1048576,9,FALSE)","v":188.58480817328746},-17.48081757213885,{"$f":"VLOOKUP($A1296,Sheet1!$1:$1048576,10,FALSE)","v":176.97035499206333},-10.496015893506215,{"$f":"VLOOKUP($A1296,Sheet1!$1:$1048576,11,FALSE)","v":153.74144862961506},4.9668388857265144,{"$f":"VLOOKUP($A1296,Sheet1!$1:$1048576,12,FALSE)","v":118.89808908594269},33.20889665749965]
[27059,{"$f":"VLOOKUP($A1297,BasinData!$1:$1048576,2,FALSE)","v":1.300721268189394E-2},40.454188781766469,{"$f":"VLOOKUP($A1297,BasinData!$1:$1048576,3,FALSE)","v":0.92309753124293881},{"$f":"VLOOKUP($A1297,BasinData!$1:$1048576,4,FALSE)","v":29.181565355582041},{"$f":"VLOOKUP($A1297,BasinData!$1:$1048576,5,FALSE)","v":4.3103432228000003},118.97950307798914,{"$f":"VLOOKUP($A1297,Sheet1!$1:$1048576,9,FALSE)","v":188.71370043357746},-10.235917073690842,{"$f":"VLOOKUP($A1297,Sheet1!$1:$1048576,10,FALSE)","v":177.09130910963091},-3.2506729941080867,{"$f":"VLOOKUP($A1297,Sheet1!$1:$1048576,11,FALSE)","v":153.8465264617378},12.211952320862965,{"$f":"VLOOKUP($A1297,Sheet1!$1:$1048576,12,FALSE)","v":118.97935248989815},40.454188781766469]
[27060,{"$f":"VLOOKUP($A1298,BasinData!$1:$1048576,2,FALSE)","v":3.1875463306152707E-2},34.458161480063666,{"$f":"VLOOKUP($A1298,BasinData!$1:$1048576,3,FALSE)","v":6.3855755144060797},{"$f":"VLOOKUP($A1298,BasinData!$1:$1048576,4,FALSE)","v":19.876385015451874},{"$f":"VLOOKUP($A1298,BasinData!$1:$1048576,5,FALSE)","v":5.7731910844799996},155.44401540077033,{"$f":"VLOOKUP($A1298,Sheet1!$1:$1048576,9,FALSE)","v":246.55025151998797},-16.231970670906879,{"$f":"VLOOKUP($A1298,Sheet1!$1:$1048576,10,FALSE)","v":231.36585580521401},-9.2471459787523909,{"$f":"VLOOKUP($A1298,Sheet1!$1:$1048576,11,FALSE)","v":200.9970643756661},6.2154836221994714,{"$f":"VLOOKUP($A1298,Sheet1!$1:$1048576,12,FALSE)","v":155.44387723134423},34.458161480063666]
[27061,{"$f":"VLOOKUP($A1299,BasinData!$1:$1048576,2,FALSE)","v":817.8668273576377},5,{"$f":"VLOOKUP($A1299,BasinData!$1:$1048576,3,FALSE)","v":0.93029780892104097},{"$f":"VLOOKUP($A1299,BasinData!$1:$1048576,4,FALSE)","v":27.469167261237388},{"$f":"VLOOKUP($A1299,BasinData!$1:$1048576,5,FALSE)","v":4.0711031874100003},2.5412549226376198E-28,{"$f":"VLOOKUP($A1299,Sheet1!$1:$1048576,9,FALSE)","v":2.893251831103547E-28},5,{"$f":"VLOOKUP($A1299,Sheet1!$1:$1048576,10,FALSE)","v":2.715063894019213E-28},5,{"$f":"VLOOKUP($A1299,Sheet1!$1:$1048576,11,FALSE)","v":2.3586880198505439E-28},5,{"$f":"VLOOKUP($A1299,Sheet1!$1:$1048576,12,FALSE)","v":1.8241242085975399E-28},5]
[27062,{"$f":"VLOOKUP($A1300,BasinData!$1:$1048576,2,FALSE)","v":0},43.178662442215447,{"$f":"VLOOKUP($A1300,BasinData!$1:$1048576,3,FALSE)","v":2.0785436426598753},{"$f":"VLOOKUP($A1300,BasinData!$1:$1048576,4,FALSE)","v":25.435046539862405},{"$f":"VLOOKUP($A1300,BasinData!$1:$1048576,5,FALSE)","v":3.6456877084700001},132.73002463598763,{"$f":"VLOOKUP($A1300,Sheet1!$1:$1048576,9,FALSE)","v":210.52366164923899},-7.5115531850446633,{"$f":"VLOOKUP($A1300,Sheet1!$1:$1048576,10,FALSE)","v":197.55805092242912},-0.5265749280920472,{"$f":"VLOOKUP($A1300,Sheet1!$1:$1048576,11,FALSE)","v":171.6268294688094},14.936316190460035,{"$f":"VLOOKUP($A1300,Sheet1!$1:$1048576,12,FALSE)","v":132.72999728837982},43.178662442215447]
[27063,{"$f":"VLOOKUP($A1301,BasinData!$1:$1048576,2,FALSE)","v":7.6921381302651514E-3},45.313371319515085,{"$f":"VLOOKUP($A1301,BasinData!$1:$1048576,3,FALSE)","v":9.8202170279810641},{"$f":"VLOOKUP($A1301,BasinData!$1:$1048576,4,FALSE)","v":34.484096198603567},{"$f":"VLOOKUP($A1301,BasinData!$1:$1048576,5,FALSE)","v":3.1248925601200002},102.12048163827697,{"$f":"VLOOKUP($A1301,Sheet1!$1:$1048576,9,FALSE)","v":161.97376520666521},-5.3768619825462327,{"$f":"VLOOKUP($A1301,Sheet1!$1:$1048576,10,FALSE)","v":151.99821770206046},1.6083724430092321,{"$f":"VLOOKUP($A1301,Sheet1!$1:$1048576,11,FALSE)","v":132.04712269285096},17.070997612067025,{"$f":"VLOOKUP($A1301,Sheet1!$1:$1048576,12,FALSE)","v":102.12048017903672},45.313371319515085]
[27064,{"$f":"VLOOKUP($A1302,BasinData!$1:$1048576,2,FALSE)","v":0},38.032957442055171,{"$f":"VLOOKUP($A1302,BasinData!$1:$1048576,3,FALSE)","v":8.8454708929899102},{"$f":"VLOOKUP($A1302,BasinData!$1:$1048576,4,FALSE)","v":21.546354996490368},{"$f":"VLOOKUP($A1302,BasinData!$1:$1048576,5,FALSE)","v":4.9009781209899996},148.51767043111587,{"$f":"VLOOKUP($A1302,Sheet1!$1:$1048576,9,FALSE)","v":235.56367034009028},-12.656880132910359,{"$f":"VLOOKUP($A1302,Sheet1!$1:$1048576,10,FALSE)","v":221.05590989605557},-5.671626613503002,{"$f":"VLOOKUP($A1302,Sheet1!$1:$1048576,11,FALSE)","v":192.04038900798616},9.7909879947410303,{"$f":"VLOOKUP($A1302,Sheet1!$1:$1048576,12,FALSE)","v":148.51710767588202},38.032957442055171]
[27065,{"$f":"VLOOKUP($A1303,BasinData!$1:$1048576,2,FALSE)","v":0.33963610417409917},34.776086248825202,{"$f":"VLOOKUP($A1303,BasinData!$1:$1048576,3,FALSE)","v":10.56292320686225},{"$f":"VLOOKUP($A1303,BasinData!$1:$1048576,4,FALSE)","v":20.033555362763586},{"$f":"VLOOKUP($A1303,BasinData!$1:$1048576,5,FALSE)","v":5.6956355075899996},150.79046557847323,{"$f":"VLOOKUP($A1303,Sheet1!$1:$1048576,9,FALSE)","v":239.16931114517465},-15.914079143540851,{"$f":"VLOOKUP($A1303,Sheet1!$1:$1048576,10,FALSE)","v":224.43948855984337},-8.9292980888641384,{"$f":"VLOOKUP($A1303,Sheet1!$1:$1048576,11,FALSE)","v":194.97984338918081},6.5337829031331598,{"$f":"VLOOKUP($A1303,Sheet1!$1:$1048576,12,FALSE)","v":150.79037563318695},34.776086248825202]
[27066,{"$f":"VLOOKUP($A1304,BasinData!$1:$1048576,2,FALSE)","v":1.4290216831250001E-2},45.179617763975337,{"$f":"VLOOKUP($A1304,BasinData!$1:$1048576,3,FALSE)","v":1.0442363941367994},{"$f":"VLOOKUP($A1304,BasinData!$1:$1048576,4,FALSE)","v":6.2073097663271417},{"$f":"VLOOKUP($A1304,BasinData!$1:$1048576,5,FALSE)","v":3.1575240173900001},231.0879102638531,{"$f":"VLOOKUP($A1304,Sheet1!$1:$1048576,9,FALSE)","v":366.52959493538413},-5.5106152743638015,{"$f":"VLOOKUP($A1304,Sheet1!$1:$1048576,10,FALSE)","v":343.9559801190818},1.4746193646636756,{"$f":"VLOOKUP($A1304,Sheet1!$1:$1048576,11,FALSE)","v":298.80875048647704},16.937240015982209,{"$f":"VLOOKUP($A1304,Sheet1!$1:$1048576,12,FALSE)","v":231.08790603756987},45.179617763975337]
[27067,{"$f":"VLOOKUP($A1305,BasinData!$1:$1048576,2,FALSE)","v":0.13159956133479556},37.565547714049373,{"$f":"VLOOKUP($A1305,BasinData!$1:$1048576,3,FALSE)","v":9.4360727842583696},{"$f":"VLOOKUP($A1305,BasinData!$1:$1048576,4,FALSE)","v":20.593011682120594},{"$f":"VLOOKUP($A1305,BasinData!$1:$1048576,5,FALSE)","v":5.01499104111},150.98823942865812,{"$f":"VLOOKUP($A1305,Sheet1!$1:$1048576,9,FALSE)","v":239.48205758973879},-13.12420998763317,{"$f":"VLOOKUP($A1305,Sheet1!$1:$1048576,10,FALSE)","v":224.7329737554598},-6.1389542409505751,{"$f":"VLOOKUP($A1305,Sheet1!$1:$1048576,11,FALSE)","v":195.23480608690176},9.3236657321575453,{"$f":"VLOOKUP($A1305,Sheet1!$1:$1048576,12,FALSE)","v":150.98755458406475},37.565547714049373]
[27068,{"$f":"VLOOKUP($A1306,BasinData!$1:$1048576,2,FALSE)","v":3.1148550321590911E-3},48.954136745373276,{"$f":"VLOOKUP($A1306,BasinData!$1:$1048576,3,FALSE)","v":0.9177434353719357},{"$f":"VLOOKUP($A1306,BasinData!$1:$1048576,4,FALSE)","v":44.52565204929779},{"$f":"VLOOKUP($A1306,BasinData!$1:$1048576,5,FALSE)","v":2.2365549332899999},76.42736896570905,{"$f":"VLOOKUP($A1306,Sheet1!$1:$1048576,9,FALSE)","v":121.22131283443477},-1.7356505357852066,{"$f":"VLOOKUP($A1306,Sheet1!$1:$1048576,10,FALSE)","v":113.75560403148414},5.2493558240574325,{"$f":"VLOOKUP($A1306,Sheet1!$1:$1048576,11,FALSE)","v":98.824186425582894},20.712188796831462,{"$f":"VLOOKUP($A1306,Sheet1!$1:$1048576,12,FALSE)","v":76.427060016731019},48.954136745373276]
[27069,{"$f":"VLOOKUP($A1307,BasinData!$1:$1048576,2,FALSE)","v":3.5279188364393942E-2},55.178428392562871,{"$f":"VLOOKUP($A1307,BasinData!$1:$1048576,3,FALSE)","v":1.1729863342984113},{"$f":"VLOOKUP($A1307,BasinData!$1:$1048576,4,FALSE)","v":11.918408631153069},{"$f":"VLOOKUP($A1307,BasinData!$1:$1048576,5,FALSE)","v":0.718108121115},195.5831106391735,{"$f":"VLOOKUP($A1307,Sheet1!$1:$1048576,9,FALSE)","v":310.21494787034123},4.488314817424353,{"$f":"VLOOKUP($A1307,Sheet1!$1:$1048576,10,FALSE)","v":291.10960729144773},11.473540822127335,{"$f":"VLOOKUP($A1307,Sheet1!$1:$1048576,11,FALSE)","v":252.89892613366067},26.936153465486257,{"$f":"VLOOKUP($A1307,Sheet1!$1:$1048576,12,FALSE)","v":195.58290439698004},55.178428392562871]
[27070,{"$f":"VLOOKUP($A1308,BasinData!$1:$1048576,2,FALSE)","v":2.8248587570621469E-3},36.93106607478807,{"$f":"VLOOKUP($A1308,BasinData!$1:$1048576,3,FALSE)","v":9.3035310445645063},{"$f":"VLOOKUP($A1308,BasinData!$1:$1048576,4,FALSE)","v":20.647930103725383},{"$f":"VLOOKUP($A1308,BasinData!$1:$1048576,5,FALSE)","v":5.1697524610999999},152.38848212473559,{"$f":"VLOOKUP($A1308,Sheet1!$1:$1048576,9,FALSE)","v":241.70269324168859},-13.758564946910061,{"$f":"VLOOKUP($A1308,Sheet1!$1:$1048576,10,FALSE)","v":226.81684617042379},-6.7733059293989193,{"$f":"VLOOKUP($A1308,Sheet1!$1:$1048576,11,FALSE)","v":197.04515202789412},8.6893191733121924,{"$f":"VLOOKUP($A1308,Sheet1!$1:$1048576,12,FALSE)","v":152.38761081409967},36.93106607478807]
[27071,{"$f":"VLOOKUP($A1309,BasinData!$1:$1048576,2,FALSE)","v":0.11481481481481481},35.128314681512386,{"$f":"VLOOKUP($A1309,BasinData!$1:$1048576,3,FALSE)","v":9.6155736410245805},{"$f":"VLOOKUP($A1309,BasinData!$1:$1048576,4,FALSE)","v":19.73708707909995},{"$f":"VLOOKUP($A1309,BasinData!$1:$1048576,5,FALSE)","v":5.6097093780199998},154.98741430149857,{"$f":"VLOOKUP($A1309,Sheet1!$1:$1048576,9,FALSE)","v":245.82616447464537},-15.56187851750536,{"$f":"VLOOKUP($A1309,Sheet1!$1:$1048576,10,FALSE)","v":230.68636341820431},-8.5766456859892308,{"$f":"VLOOKUP($A1309,Sheet1!$1:$1048576,11,FALSE)","v":200.40676130532222},6.8859853035607967,{"$f":"VLOOKUP($A1309,Sheet1!$1:$1048576,12,FALSE)","v":154.98735813599905},35.128314681512386]
[27072,{"$f":"VLOOKUP($A1310,BasinData!$1:$1048576,2,FALSE)","v":0.22568790893609394},54.080140446724144,{"$f":"VLOOKUP($A1310,BasinData!$1:$1048576,3,FALSE)","v":0.93646356693127153},{"$f":"VLOOKUP($A1310,BasinData!$1:$1048576,4,FALSE)","v":28.808541180692625},{"$f":"VLOOKUP($A1310,BasinData!$1:$1048576,5,FALSE)","v":0.98604608320599996},118.13955303936021,{"$f":"VLOOKUP($A1310,Sheet1!$1:$1048576,9,FALSE)","v":187.38143040747866},3.3900634382743062,{"$f":"VLOOKUP($A1310,Sheet1!$1:$1048576,10,FALSE)","v":175.84109016703536},10.374967033427723,{"$f":"VLOOKUP($A1310,Sheet1!$1:$1048576,11,FALSE)","v":152.76040968614879},25.837892781416265,{"$f":"VLOOKUP($A1310,Sheet1!$1:$1048576,12,FALSE)","v":118.13938896481891},54.080140446724144]
[27073,{"$f":"VLOOKUP($A1311,BasinData!$1:$1048576,2,FALSE)","v":0.3062760166506564},38.20948121877197,{"$f":"VLOOKUP($A1311,BasinData!$1:$1048576,3,FALSE)","v":9.5883069274765553},{"$f":"VLOOKUP($A1311,BasinData!$1:$1048576,4,FALSE)","v":21.577583785077358},{"$f":"VLOOKUP($A1311,BasinData!$1:$1048576,5,FALSE)","v":4.8579188807099998},144.61484831150418,{"$f":"VLOOKUP($A1311,Sheet1!$1:$1048576,9,FALSE)","v":229.37346849021185},-12.480383785300335,{"$f":"VLOOKUP($A1311,Sheet1!$1:$1048576,10,FALSE)","v":215.24694665316864},-5.4951310691696094,{"$f":"VLOOKUP($A1311,Sheet1!$1:$1048576,11,FALSE)","v":186.99390297908218},9.9674810964864431,{"$f":"VLOOKUP($A1311,Sheet1!$1:$1048576,12,FALSE)","v":144.61433746795248},38.20948121877197]
[27074,{"$f":"VLOOKUP($A1312,BasinData!$1:$1048576,2,FALSE)","v":0.32854230909946169},43.178183439091086,{"$f":"VLOOKUP($A1312,BasinData!$1:$1048576,3,FALSE)","v":2.8718713398655211},{"$f":"VLOOKUP($A1312,BasinData!$1:$1048576,4,FALSE)","v":28.829479768786126},{"$f":"VLOOKUP($A1312,BasinData!$1:$1048576,5,FALSE)","v":3.6458045615199999},117.05225994600849,{"$f":"VLOOKUP($A1312,Sheet1!$1:$1048576,9,FALSE)","v":185.65709174019096},-7.5120321550584412,{"$f":"VLOOKUP($A1312,Sheet1!$1:$1048576,10,FALSE)","v":174.22294908222412},-0.52705378222621257,{"$f":"VLOOKUP($A1312,Sheet1!$1:$1048576,11,FALSE)","v":151.35466376629043},14.935113098288758,{"$f":"VLOOKUP($A1312,Sheet1!$1:$1048576,12,FALSE)","v":117.05223579238988},43.178183439091086]
[27075,{"$f":"VLOOKUP($A1313,BasinData!$1:$1048576,2,FALSE)","v":0.53545232273838639},51.48125989688431,{"$f":"VLOOKUP($A1313,BasinData!$1:$1048576,3,FALSE)","v":2.0216176142886182},{"$f":"VLOOKUP($A1313,BasinData!$1:$1048576,4,FALSE)","v":25.386819484240686},{"$f":"VLOOKUP($A1313,BasinData!$1:$1048576,5,FALSE)","v":1.62006008239},127.06963149044161,{"$f":"VLOOKUP($A1313,Sheet1!$1:$1048576,9,FALSE)","v":201.54522955424281},0.79130208848253236,{"$f":"VLOOKUP($A1313,Sheet1!$1:$1048576,10,FALSE)","v":189.13257736220692},7.7761653914414097,{"$f":"VLOOKUP($A1313,Sheet1!$1:$1048576,11,FALSE)","v":164.30727297813516},23.239161677699506,{"$f":"VLOOKUP($A1313,Sheet1!$1:$1048576,12,FALSE)","v":127.06931640202752},51.48125989688431]
[27076,{"$f":"VLOOKUP($A1314,BasinData!$1:$1048576,2,FALSE)","v":1.2344435939223485E-2},47.539513690394237,{"$f":"VLOOKUP($A1314,BasinData!$1:$1048576,3,FALSE)","v":1.7683064287857067},{"$f":"VLOOKUP($A1314,BasinData!$1:$1048576,4,FALSE)","v":14.300608166811468},{"$f":"VLOOKUP($A1314,BasinData!$1:$1048576,5,FALSE)","v":2.5816468987699999},182.92394904098933,{"$f":"VLOOKUP($A1314,Sheet1!$1:$1048576,9,FALSE)","v":290.13501687132634},-3.1501493981302984,{"$f":"VLOOKUP($A1314,Sheet1!$1:$1048576,10,FALSE)","v":272.2663475849368},3.835082950601318,{"$f":"VLOOKUP($A1314,Sheet1!$1:$1048576,11,FALSE)","v":236.52900901215762},19.29771280818505,{"$f":"VLOOKUP($A1314,Sheet1!$1:$1048576,12,FALSE)","v":182.92300115298886},47.539513690394237]
[27077,{"$f":"VLOOKUP($A1315,BasinData!$1:$1048576,2,FALSE)","v":1.4256210323238637E-2},52.131155827860759,{"$f":"VLOOKUP($A1315,BasinData!$1:$1048576,3,FALSE)","v":3.3475167467928872},{"$f":"VLOOKUP($A1315,BasinData!$1:$1048576,4,FALSE)","v":14.897039897039896},{"$f":"VLOOKUP($A1315,BasinData!$1:$1048576,5,FALSE)","v":1.4615148765999999},179.76851624195416,{"$f":"VLOOKUP($A1315,Sheet1!$1:$1048576,9,FALSE)","v":285.13105708758309},1.4411634176805481,{"$f":"VLOOKUP($A1315,Sheet1!$1:$1048576,10,FALSE)","v":267.57056881106365},8.4263932800743913,{"$f":"VLOOKUP($A1315,Sheet1!$1:$1048576,11,FALSE)","v":232.44959225802484},23.889024118123704,{"$f":"VLOOKUP($A1315,Sheet1!$1:$1048576,12,FALSE)","v":179.76812742846658},52.131155827860759]
[27078,{"$f":"VLOOKUP($A1316,BasinData!$1:$1048576,2,FALSE)","v":0.19601055060995712},50.441376977241859,{"$f":"VLOOKUP($A1316,BasinData!$1:$1048576,3,FALSE)","v":11.549810738665045},{"$f":"VLOOKUP($A1316,BasinData!$1:$1048576,4,FALSE)","v":23.32607896893813},{"$f":"VLOOKUP($A1316,BasinData!$1:$1048576,5,FALSE)","v":1.8737426214399999},138.76811480721821,{"$f":"VLOOKUP($A1316,Sheet1!$1:$1048576,9,FALSE)","v":220.10007520951683},-0.24851796280521035,{"$f":"VLOOKUP($A1316,Sheet1!$1:$1048576,10,FALSE)","v":206.54467780785626},6.7366799189864395,{"$f":"VLOOKUP($A1316,Sheet1!$1:$1048576,11,FALSE)","v":179.43388300453506},22.199337284761555,{"$f":"VLOOKUP($A1316,Sheet1!$1:$1048576,12,FALSE)","v":138.76769079955324},50.441376977241859]
[27079,{"$f":"VLOOKUP($A1317,BasinData!$1:$1048576,2,FALSE)","v":0.27427985881817146},47.147779971819915,{"$f":"VLOOKUP($A1317,BasinData!$1:$1048576,3,FALSE)","v":2.0536846167212142},{"$f":"VLOOKUP($A1317,BasinData!$1:$1048576,4,FALSE)","v":32.654714878962828},{"$f":"VLOOKUP($A1317,BasinData!$1:$1048576,5,FALSE)","v":2.6772078434200002},105.28117008601268,{"$f":"VLOOKUP($A1317,Sheet1!$1:$1048576,9,FALSE)","v":166.9860257128359},-3.5418446004732984,{"$f":"VLOOKUP($A1317,Sheet1!$1:$1048576,10,FALSE)","v":156.70178597822115},3.4431430716315248,{"$f":"VLOOKUP($A1317,Sheet1!$1:$1048576,11,FALSE)","v":136.13330650899169},18.906015038275399,{"$f":"VLOOKUP($A1317,Sheet1!$1:$1048576,12,FALSE)","v":105.28058730514746},47.147779971819915]
[27080,{"$f":"VLOOKUP($A1318,BasinData!$1:$1048576,2,FALSE)","v":2.1486387436174242E-2},49.679916458069272,{"$f":"VLOOKUP($A1318,BasinData!$1:$1048576,3,FALSE)","v":6.2477330085177218},{"$f":"VLOOKUP($A1318,BasinData!$1:$1048576,4,FALSE)","v":45.258871436881911},{"$f":"VLOOKUP($A1318,BasinData!$1:$1048576,5,FALSE)","v":2.0595016244200002},74.709488730025612,{"$f":"VLOOKUP($A1318,Sheet1!$1:$1048576,9,FALSE)","v":118.49664614745028},-1.0099261158582364,{"$f":"VLOOKUP($A1318,Sheet1!$1:$1048576,10,FALSE)","v":111.19874255626064},5.9752752558552968,{"$f":"VLOOKUP($A1318,Sheet1!$1:$1048576,11,FALSE)","v":96.602935373881365},21.437922822579807,{"$f":"VLOOKUP($A1318,Sheet1!$1:$1048576,12,FALSE)","v":74.709224600312439},49.679916458069272]
[27081,{"$f":"VLOOKUP($A1319,BasinData!$1:$1048576,2,FALSE)","v":3.8300835654596103E-3},35.562759661696944,{"$f":"VLOOKUP($A1319,BasinData!$1:$1048576,3,FALSE)","v":8.2483509093501652},{"$f":"VLOOKUP($A1319,BasinData!$1:$1048576,4,FALSE)","v":23.287315582261151},{"$f":"VLOOKUP($A1319,BasinData!$1:$1048576,5,FALSE)","v":5.5037238042999999},141.18411826146325,{"$f":"VLOOKUP($A1319,Sheet1!$1:$1048576,9,FALSE)","v":223.93274278498461},-15.127458222698616,{"$f":"VLOOKUP($A1319,Sheet1!$1:$1048576,10,FALSE)","v":210.14130124728968},-8.1422213271561521,{"$f":"VLOOKUP($A1319,Sheet1!$1:$1048576,11,FALSE)","v":182.5584181718998},7.3204090394454644,{"$f":"VLOOKUP($A1319,Sheet1!$1:$1048576,12,FALSE)","v":141.18409355881494},35.562759661696944]
[27082,{"$f":"VLOOKUP($A1320,BasinData!$1:$1048576,2,FALSE)","v":0},48.371885126330056,{"$f":"VLOOKUP($A1320,BasinData!$1:$1048576,3,FALSE)","v":2.0813447930481606},{"$f":"VLOOKUP($A1320,BasinData!$1:$1048576,4,FALSE)","v":39.791895176829811},{"$f":"VLOOKUP($A1320,BasinData!$1:$1048576,5,FALSE)","v":2.3785936891100001},87.654989072084618,{"$f":"VLOOKUP($A1320,Sheet1!$1:$1048576,9,FALSE)","v":139.02935919833038},-2.3178537337986138,{"$f":"VLOOKUP($A1320,Sheet1!$1:$1048576,10,FALSE)","v":130.46689863289166},4.6673775782541318,{"$f":"VLOOKUP($A1320,Sheet1!$1:$1048576,11,FALSE)","v":113.3419775020142},20.129855703067157,{"$f":"VLOOKUP($A1320,Sheet1!$1:$1048576,12,FALSE)","v":87.654595805698023},48.371885126330056]
[27083,{"$f":"VLOOKUP($A1321,BasinData!$1:$1048576,2,FALSE)","v":7.3661405137728259E-2},47.726532675919366,{"$f":"VLOOKUP($A1321,BasinData!$1:$1048576,3,FALSE)","v":2.8349901972038203},{"$f":"VLOOKUP($A1321,BasinData!$1:$1048576,4,FALSE)","v":38.512326609728028},{"$f":"VLOOKUP($A1321,BasinData!$1:$1048576,5,FALSE)","v":2.5360246474500001},90.396091988370728,{"$f":"VLOOKUP($A1321,Sheet1!$1:$1048576,9,FALSE)","v":143.37693933057571},-2.9631481484852094,{"$f":"VLOOKUP($A1321,Sheet1!$1:$1048576,10,FALSE)","v":134.54672248939718},4.0214565760809782,{"$f":"VLOOKUP($A1321,Sheet1!$1:$1048576,11,FALSE)","v":116.88628880704015},19.484714660315518,{"$f":"VLOOKUP($A1321,Sheet1!$1:$1048576,12,FALSE)","v":90.395638283504567},47.726532675919366]
[27084,{"$f":"VLOOKUP($A1322,BasinData!$1:$1048576,2,FALSE)","v":5.6038941283845463E-2},49.30320416625792,{"$f":"VLOOKUP($A1322,BasinData!$1:$1048576,3,FALSE)","v":1.5826307062713325},{"$f":"VLOOKUP($A1322,BasinData!$1:$1048576,4,FALSE)","v":40.3975463017577},{"$f":"VLOOKUP($A1322,BasinData!$1:$1048576,5,FALSE)","v":2.1514004169700001},85.729522026985705,{"$f":"VLOOKUP($A1322,Sheet1!$1:$1048576,9,FALSE)","v":135.97547512390827},-1.3866103861315098,{"$f":"VLOOKUP($A1322,Sheet1!$1:$1048576,10,FALSE)","v":127.60109542217658},5.5979085654243281,{"$f":"VLOOKUP($A1322,Sheet1!$1:$1048576,11,FALSE)","v":110.85233601871326},21.061234059643169,{"$f":"VLOOKUP($A1322,Sheet1!$1:$1048576,12,FALSE)","v":85.729196913518251},49.30320416625792]
[27085,{"$f":"VLOOKUP($A1323,BasinData!$1:$1048576,2,FALSE)","v":0.50108267716535426},48.644557189016943,{"$f":"VLOOKUP($A1323,BasinData!$1:$1048576,3,FALSE)","v":3.4472150873996092},{"$f":"VLOOKUP($A1323,BasinData!$1:$1048576,4,FALSE)","v":14.69392462731755},{"$f":"VLOOKUP($A1323,BasinData!$1:$1048576,5,FALSE)","v":2.3120761718199998},173.58175898940939,{"$f":"VLOOKUP($A1323,Sheet1!$1:$1048576,9,FALSE)","v":275.31765278324758},-2.0452048224967201,{"$f":"VLOOKUP($A1323,Sheet1!$1:$1048576,10,FALSE)","v":258.3615468318219},4.9399955707127994,{"$f":"VLOOKUP($A1323,Sheet1!$1:$1048576,11,FALSE)","v":224.44933492897053},20.402629076221025,{"$f":"VLOOKUP($A1323,Sheet1!$1:$1048576,12,FALSE)","v":173.58101707469348},48.644557189016943]
[27086,{"$f":"VLOOKUP($A1324,BasinData!$1:$1048576,2,FALSE)","v":1.7758630307973484E-2},49.627521239668567,{"$f":"VLOOKUP($A1324,BasinData!$1:$1048576,3,FALSE)","v":2.0390668572545434},{"$f":"VLOOKUP($A1324,BasinData!$1:$1048576,4,FALSE)","v":11.368956743002546},{"$f":"VLOOKUP($A1324,BasinData!$1:$1048576,5,FALSE)","v":2.0722834353600001},199.00676313727564,{"$f":"VLOOKUP($A1324,Sheet1!$1:$1048576,9,FALSE)","v":315.64441906054725},-1.062317522739775,{"$f":"VLOOKUP($A1324,Sheet1!$1:$1048576,10,FALSE)","v":296.20469131893219},5.9229074926622216,{"$f":"VLOOKUP($A1324,Sheet1!$1:$1048576,11,FALSE)","v":257.32523583570202},21.385530853567371,{"$f":"VLOOKUP($A1324,Sheet1!$1:$1048576,12,FALSE)","v":199.00605261085676},49.627521239668567]
[27087,{"$f":"VLOOKUP($A1325,BasinData!$1:$1048576,2,FALSE)","v":0.19673348181143283},50.218294999183044,{"$f":"VLOOKUP($A1325,BasinData!$1:$1048576,3,FALSE)","v":3.1736507480308007},{"$f":"VLOOKUP($A1325,BasinData!$1:$1048576,4,FALSE)","v":21.181098630266838},{"$f":"VLOOKUP($A1325,BasinData!$1:$1048576,5,FALSE)","v":1.92816381995},147.63361677120793,{"$f":"VLOOKUP($A1325,Sheet1!$1:$1048576,9,FALSE)","v":234.16161416914721},-0.4715851755215219,{"$f":"VLOOKUP($A1325,Sheet1!$1:$1048576,10,FALSE)","v":219.74020275774456},6.5135647224255413,{"$f":"VLOOKUP($A1325,Sheet1!$1:$1048576,11,FALSE)","v":190.89737993493924},21.97626855461839,{"$f":"VLOOKUP($A1325,Sheet1!$1:$1048576,12,FALSE)","v":147.63314570073126},50.218294999183044]
[27088,{"$f":"VLOOKUP($A1326,BasinData!$1:$1048576,2,FALSE)","v":1.634320735444331E-2},37.165480779672251,{"$f":"VLOOKUP($A1326,BasinData!$1:$1048576,3,FALSE)","v":6.9689110486153085},{"$f":"VLOOKUP($A1326,BasinData!$1:$1048576,4,FALSE)","v":26.489380949509123},{"$f":"VLOOKUP($A1326,BasinData!$1:$1048576,5,FALSE)","v":5.1125751606499996},128.57072378145148,{"$f":"VLOOKUP($A1326,Sheet1!$1:$1048576,9,FALSE)","v":203.92554665163007},-13.524199627384897,{"$f":"VLOOKUP($A1326,Sheet1!$1:$1048576,10,FALSE)","v":191.36629685318113},-6.5389418528448262,{"$f":"VLOOKUP($A1326,Sheet1!$1:$1048576,11,FALSE)","v":166.24779725628321},8.9236816085084687,{"$f":"VLOOKUP($A1326,Sheet1!$1:$1048576,12,FALSE)","v":128.57004786093637},37.165480779672251]
[27089,{"$f":"VLOOKUP($A1327,BasinData!$1:$1048576,2,FALSE)","v":7.5315223830075315E-2},35.51628330532909,{"$f":"VLOOKUP($A1327,BasinData!$1:$1048576,3,FALSE)","v":8.3773040304112794},{"$f":"VLOOKUP($A1327,BasinData!$1:$1048576,4,FALSE)","v":22.79115206392288},{"$f":"VLOOKUP($A1327,BasinData!$1:$1048576,5,FALSE)","v":5.5150621217699998},142.36571881406348,{"$f":"VLOOKUP($A1327,Sheet1!$1:$1048576,9,FALSE)","v":225.80688102732313},-15.173932337219167,{"$f":"VLOOKUP($A1327,Sheet1!$1:$1048576,10,FALSE)","v":211.90001613669946},-8.1886959661608341,{"$f":"VLOOKUP($A1327,Sheet1!$1:$1048576,11,FALSE)","v":184.08628635545213},7.2739344842250357,{"$f":"VLOOKUP($A1327,Sheet1!$1:$1048576,12,FALSE)","v":142.3656916835811},35.51628330532909]
[28001,{"$f":"VLOOKUP($A1328,BasinData!$1:$1048576,2,FALSE)","v":4.9183816155988866},36.499105155100594,{"$f":"VLOOKUP($A1328,BasinData!$1:$1048576,3,FALSE)","v":18.62148738332904},{"$f":"VLOOKUP($A1328,BasinData!$1:$1048576,4,FALSE)","v":3.8278597409275488},{"$f":"VLOOKUP($A1328,BasinData!$1:$1048576,5,FALSE)","v":5.2752899055500002},163.95969368239662,{"$f":"VLOOKUP($A1328,Sheet1!$1:$1048576,9,FALSE)","v":260.05722331408634},-14.191146252284057,{"$f":"VLOOKUP($A1328,Sheet1!$1:$1048576,10,FALSE)","v":244.04096795461334},-7.2058934375558241,{"$f":"VLOOKUP($A1328,Sheet1!$1:$1048576,11,FALSE)","v":212.00845723566732},8.2567340339870832,{"$f":"VLOOKUP($A1328,Sheet1!$1:$1048576,12,FALSE)","v":163.9596911572483},36.499105155100594]
[28002,{"$f":"VLOOKUP($A1329,BasinData!$1:$1048576,2,FALSE)","v":1.2937051260644516},46.337933215820861,{"$f":"VLOOKUP($A1329,BasinData!$1:$1048576,3,FALSE)","v":2.3783731093904099},{"$f":"VLOOKUP($A1329,BasinData!$1:$1048576,4,FALSE)","v":10.190868578155216},{"$f":"VLOOKUP($A1329,BasinData!$1:$1048576,5,FALSE)","v":2.8749327234500002},184.97163419622819,{"$f":"VLOOKUP($A1329,Sheet1!$1:$1048576,9,FALSE)","v":293.3843623390556},-4.3523001263312278,{"$f":"VLOOKUP($A1329,Sheet1!$1:$1048576,10,FALSE)","v":275.31557422459008},2.632919792697674,{"$f":"VLOOKUP($A1329,Sheet1!$1:$1048576,11,FALSE)","v":239.17799799565904},18.095544590400127,{"$f":"VLOOKUP($A1329,Sheet1!$1:$1048576,12,FALSE)","v":184.97163365226248},46.337933215820861]
[28003,{"$f":"VLOOKUP($A1330,BasinData!$1:$1048576,2,FALSE)","v":0.78197674418604646},45.288702946847366,{"$f":"VLOOKUP($A1330,BasinData!$1:$1048576,3,FALSE)","v":7.2106241699934612},{"$f":"VLOOKUP($A1330,BasinData!$1:$1048576,4,FALSE)","v":15.729754636562607},{"$f":"VLOOKUP($A1330,BasinData!$1:$1048576,5,FALSE)","v":3.13091083102},164.53344682110912,{"$f":"VLOOKUP($A1330,Sheet1!$1:$1048576,9,FALSE)","v":260.9672559138798},-5.4015303118331044,{"$f":"VLOOKUP($A1330,Sheet1!$1:$1048576,10,FALSE)","v":244.89495398773965},1.5837041529855644,{"$f":"VLOOKUP($A1330,Sheet1!$1:$1048576,11,FALSE)","v":212.75035013545943},17.04632861345236,{"$f":"VLOOKUP($A1330,Sheet1!$1:$1048576,12,FALSE)","v":164.53344435703906},45.288702946847366]
[28004,{"$f":"VLOOKUP($A1331,BasinData!$1:$1048576,2,FALSE)","v":0.2578328981723238},34.499379602087522,{"$f":"VLOOKUP($A1331,BasinData!$1:$1048576,3,FALSE)","v":22.344586783924647},{"$f":"VLOOKUP($A1331,BasinData!$1:$1048576,4,FALSE)","v":13.519221765593301},{"$f":"VLOOKUP($A1331,BasinData!$1:$1048576,5,FALSE)","v":5.7631363331000003},183.28222682502511,{"$f":"VLOOKUP($A1331,Sheet1!$1:$1048576,9,FALSE)","v":290.70454037848714},-16.190757348634079,{"$f":"VLOOKUP($A1331,Sheet1!$1:$1048576,10,FALSE)","v":272.8007956044504},-9.2055275696171268,{"$f":"VLOOKUP($A1331,Sheet1!$1:$1048576,11,FALSE)","v":236.99330605637692},6.2566611275278508,{"$f":"VLOOKUP($A1331,Sheet1!$1:$1048576,12,FALSE)","v":183.28207173426665},34.499379602087522]
[28005,{"$f":"VLOOKUP($A1332,BasinData!$1:$1048576,2,FALSE)","v":4.1466223344696971},46.392478136717131,{"$f":"VLOOKUP($A1332,BasinData!$1:$1048576,3,FALSE)","v":2.4281246411378477},{"$f":"VLOOKUP($A1332,BasinData!$1:$1048576,4,FALSE)","v":12.17889484383663},{"$f":"VLOOKUP($A1332,BasinData!$1:$1048576,5,FALSE)","v":2.86145757308},137.42931942508534,{"$f":"VLOOKUP($A1332,Sheet1!$1:$1048576,9,FALSE)","v":217.97591207378812},-4.2970667587169249,{"$f":"VLOOKUP($A1332,Sheet1!$1:$1048576,10,FALSE)","v":204.55133641502493},2.6881468329618627,{"$f":"VLOOKUP($A1332,Sheet1!$1:$1048576,11,FALSE)","v":177.70218509749856},18.150779558616211,{"$f":"VLOOKUP($A1332,Sheet1!$1:$1048576,12,FALSE)","v":137.42845812120902},46.392478136717131]
[28006,{"$f":"VLOOKUP($A1333,BasinData!$1:$1048576,2,FALSE)","v":1.1799660441426145},48.048521685465545,{"$f":"VLOOKUP($A1333,BasinData!$1:$1048576,3,FALSE)","v":2.1005450455441808},{"$f":"VLOOKUP($A1333,BasinData!$1:$1048576,4,FALSE)","v":14.617770789954532},{"$f":"VLOOKUP($A1333,BasinData!$1:$1048576,5,FALSE)","v":2.45747696389},164.3213297142469,{"$f":"VLOOKUP($A1333,Sheet1!$1:$1048576,9,FALSE)","v":260.62958250574809},-2.6411887110995558,{"$f":"VLOOKUP($A1333,Sheet1!$1:$1048576,10,FALSE)","v":244.57807701611463},4.3440430449106016,{"$f":"VLOOKUP($A1333,Sheet1!$1:$1048576,11,FALSE)","v":212.47506603684764},19.806674539168501,{"$f":"VLOOKUP($A1333,Sheet1!$1:$1048576,12,FALSE)","v":164.32054956794718},48.048521685465545]
[28007,{"$f":"VLOOKUP($A1334,BasinData!$1:$1048576,2,FALSE)","v":0.35594585884627777},34.751849339196276,{"$f":"VLOOKUP($A1334,BasinData!$1:$1048576,3,FALSE)","v":23.154716204051059},{"$f":"VLOOKUP($A1334,BasinData!$1:$1048576,4,FALSE)","v":13.130770882542409},{"$f":"VLOOKUP($A1334,BasinData!$1:$1048576,5,FALSE)","v":5.7015480151600002},183.83005182251196,{"$f":"VLOOKUP($A1334,Sheet1!$1:$1048576,9,FALSE)","v":291.57351456513425},-15.938313819167677,{"$f":"VLOOKUP($A1334,Sheet1!$1:$1048576,10,FALSE)","v":273.61625190646902},-8.9530831572157776,{"$f":"VLOOKUP($A1334,Sheet1!$1:$1048576,11,FALSE)","v":237.70172658913853},6.5095481346930741,{"$f":"VLOOKUP($A1334,Sheet1!$1:$1048576,12,FALSE)","v":183.82993861314279},34.751849339196276]
[28008,{"$f":"VLOOKUP($A1335,BasinData!$1:$1048576,2,FALSE)","v":6.1113099963825759},46.960892929029463,{"$f":"VLOOKUP($A1335,BasinData!$1:$1048576,3,FALSE)","v":0.65249947674946962},{"$f":"VLOOKUP($A1335,BasinData!$1:$1048576,4,FALSE)","v":23.566627125345988},{"$f":"VLOOKUP($A1335,BasinData!$1:$1048576,5,FALSE)","v":2.7227975820100001},83.84500878017765,{"$f":"VLOOKUP($A1335,Sheet1!$1:$1048576,9,FALSE)","v":132.98619622764849},-3.7287126026751873,{"$f":"VLOOKUP($A1335,Sheet1!$1:$1048576,10,FALSE)","v":124.79591852290446},3.2563572704029928,{"$f":"VLOOKUP($A1335,Sheet1!$1:$1048576,11,FALSE)","v":108.41536311341638},18.719144970328081,{"$f":"VLOOKUP($A1335,Sheet1!$1:$1048576,12,FALSE)","v":83.844529999184246},46.960892929029463]
[28009,{"$f":"VLOOKUP($A1336,BasinData!$1:$1048576,2,FALSE)","v":1.7050511124473842},39.960141095193805,{"$f":"VLOOKUP($A1336,BasinData!$1:$1048576,3,FALSE)","v":2.0298886849962341},{"$f":"VLOOKUP($A1336,BasinData!$1:$1048576,4,FALSE)","v":13.571821328071934},{"$f":"VLOOKUP($A1336,BasinData!$1:$1048576,5,FALSE)","v":4.4308652857600004},162.05592813409891,{"$f":"VLOOKUP($A1336,Sheet1!$1:$1048576,9,FALSE)","v":257.03723787779688},-10.729926659820762,{"$f":"VLOOKUP($A1336,Sheet1!$1:$1048576,10,FALSE)","v":241.20697565211611},-3.744680907098862,{"$f":"VLOOKUP($A1336,Sheet1!$1:$1048576,11,FALSE)","v":209.54645120075463},11.717949036175318,{"$f":"VLOOKUP($A1336,Sheet1!$1:$1048576,12,FALSE)","v":162.05566452371244},39.960141095193805]
[28010,{"$f":"VLOOKUP($A1337,BasinData!$1:$1048576,2,FALSE)","v":0.26245596376446906},38.691675697255825,{"$f":"VLOOKUP($A1337,BasinData!$1:$1048576,3,FALSE)","v":43.398899026126401},{"$f":"VLOOKUP($A1337,BasinData!$1:$1048576,4,FALSE)","v":13.452314750451826},{"$f":"VLOOKUP($A1337,BasinData!$1:$1048576,5,FALSE)","v":4.7402959825600002},183.56604367199034,{"$f":"VLOOKUP($A1337,Sheet1!$1:$1048576,9,FALSE)","v":291.15410616533484},-11.998257132906337,{"$f":"VLOOKUP($A1337,Sheet1!$1:$1048576,10,FALSE)","v":273.22267379104119},-5.0130065106896433,{"$f":"VLOOKUP($A1337,Sheet1!$1:$1048576,11,FALSE)","v":237.35980904245395},10.449597638558936,{"$f":"VLOOKUP($A1337,Sheet1!$1:$1048576,12,FALSE)","v":183.56551191957305},38.691675697255825]
[28011,{"$f":"VLOOKUP($A1338,BasinData!$1:$1048576,2,FALSE)","v":5.3524852641287879},51.011636722650046,{"$f":"VLOOKUP($A1338,BasinData!$1:$1048576,3,FALSE)","v":1.4448614235462121},{"$f":"VLOOKUP($A1338,BasinData!$1:$1048576,4,FALSE)","v":4.9151805132666375},{"$f":"VLOOKUP($A1338,BasinData!$1:$1048576,5,FALSE)","v":1.7346263482399999},153.19859159411166,{"$f":"VLOOKUP($A1338,Sheet1!$1:$1048576,9,FALSE)","v":242.98833052870202},0.32170612126090825,{"$f":"VLOOKUP($A1338,Sheet1!$1:$1048576,10,FALSE)","v":228.0233043643666},7.3069362717652568,{"$f":"VLOOKUP($A1338,Sheet1!$1:$1048576,11,FALSE)","v":198.09325203569577},22.769564233106138,{"$f":"VLOOKUP($A1338,Sheet1!$1:$1048576,12,FALSE)","v":153.19817354268949},51.011636722650046]
[28012,{"$f":"VLOOKUP($A1339,BasinData!$1:$1048576,2,FALSE)","v":5.5325054613825753},46.919303723169058,{"$f":"VLOOKUP($A1339,BasinData!$1:$1048576,3,FALSE)","v":8.6207463268850955},{"$f":"VLOOKUP($A1339,BasinData!$1:$1048576,4,FALSE)","v":32.388663967611336},{"$f":"VLOOKUP($A1339,BasinData!$1:$1048576,5,FALSE)","v":2.7329429524100002},68.212833154880059,{"$f":"VLOOKUP($A1339,Sheet1!$1:$1048576,9,FALSE)","v":108.19206759258854},-3.7702975118538022,{"$f":"VLOOKUP($A1339,Sheet1!$1:$1048576,10,FALSE)","v":101.52879648498535},3.2147881424305851,{"$f":"VLOOKUP($A1339,Sheet1!$1:$1048576,11,FALSE)","v":88.202254269778976},18.677559509372042,{"$f":"VLOOKUP($A1339,Sheet1!$1:$1048576,12,FALSE)","v":68.212440946969409},46.919303723169058]
[28013,{"$f":"VLOOKUP($A1340,BasinData!$1:$1048576,2,FALSE)","v":0.79229678638941392},49.430324207148686,{"$f":"VLOOKUP($A1340,BasinData!$1:$1048576,3,FALSE)","v":1.0148105349649086},{"$f":"VLOOKUP($A1340,BasinData!$1:$1048576,4,FALSE)","v":14.840166023447171},{"$f":"VLOOKUP($A1340,BasinData!$1:$1048576,5,FALSE)","v":2.1203895805299999},168.67263919287154,{"$f":"VLOOKUP($A1340,Sheet1!$1:$1048576,9,FALSE)","v":267.53146097922183},-1.2594999622728351,{"$f":"VLOOKUP($A1340,Sheet1!$1:$1048576,10,FALSE)","v":251.05488655021227},5.7257308729909004,{"$f":"VLOOKUP($A1340,Sheet1!$1:$1048576,11,FALSE)","v":218.10173769219315},21.188346126210952,{"$f":"VLOOKUP($A1340,Sheet1!$1:$1048576,12,FALSE)","v":168.67201440516445},49.430324207148686]
[28014,{"$f":"VLOOKUP($A1341,BasinData!$1:$1048576,2,FALSE)","v":5.2776454264204551},54.239310567312749,{"$f":"VLOOKUP($A1341,BasinData!$1:$1048576,3,FALSE)","v":1.3070382732745911},{"$f":"VLOOKUP($A1341,BasinData!$1:$1048576,4,FALSE)","v":5.0658857979502194},{"$f":"VLOOKUP($A1341,BasinData!$1:$1048576,5,FALSE)","v":0.94721510607100001},153.49451523195066,{"$f":"VLOOKUP($A1341,Sheet1!$1:$1048576,9,FALSE)","v":243.45803414889926},3.5492278013761789,{"$f":"VLOOKUP($A1341,Sheet1!$1:$1048576,10,FALSE)","v":228.46408014695766},10.534215805660102,{"$f":"VLOOKUP($A1341,Sheet1!$1:$1048576,11,FALSE)","v":198.47617214307442},25.997058649019873,{"$f":"VLOOKUP($A1341,Sheet1!$1:$1048576,12,FALSE)","v":153.49431013724956},54.239310567312749]
[28015,{"$f":"VLOOKUP($A1342,BasinData!$1:$1048576,2,FALSE)","v":5.7580066524242426},41.443488341767441,{"$f":"VLOOKUP($A1342,BasinData!$1:$1048576,3,FALSE)","v":0.50888037736216207},{"$f":"VLOOKUP($A1342,BasinData!$1:$1048576,4,FALSE)","v":6.1622731941116049},{"$f":"VLOOKUP($A1342,BasinData!$1:$1048576,5,FALSE)","v":4.0690004996700004},{"$f":"EXP(6.1523-(0.084*B1342)-(0.0091*C1342)-(0.0289*E1342)-(0.0373*F1342))","v":142.82616813163736},{"$f":"VLOOKUP($A1342,Sheet1!$1:$1048576,9,FALSE)","v":226.53708100695613},-9.2466743361239949,{"$f":"VLOOKUP($A1342,Sheet1!$1:$1048576,10,FALSE)","v":212.58524497810276},-2.2614471899468596,{"$f":"VLOOKUP($A1342,Sheet1!$1:$1048576,11,FALSE)","v":184.68157292039606},13.200954918345179,{"$f":"VLOOKUP($A1342,Sheet1!$1:$1048576,12,FALSE)","v":142.826064833836},41.443488341767441]
[28016,{"$f":"VLOOKUP($A1343,BasinData!$1:$1048576,2,FALSE)","v":0.29036348267117496},40.831979338261029,{"$f":"VLOOKUP($A1343,BasinData!$1:$1048576,3,FALSE)","v":47.116211688162153},{"$f":"VLOOKUP($A1343,BasinData!$1:$1048576,4,FALSE)","v":13.83195148165208},{"$f":"VLOOKUP($A1343,BasinData!$1:$1048576,5,FALSE)","v":4.2181807409300003},181.13759141087579,{"$f":"VLOOKUP($A1343,Sheet1!$1:$1048576,9,FALSE)","v":287.30287368741722},-9.8581510578627611,{"$f":"VLOOKUP($A1343,Sheet1!$1:$1048576,10,FALSE)","v":269.60862881373964},-2.8729081823387368,{"$f":"VLOOKUP($A1343,Sheet1!$1:$1048576,11,FALSE)","v":234.22013906638455},12.58971029931298,{"$f":"VLOOKUP($A1343,Sheet1!$1:$1048576,12,FALSE)","v":181.13740444535188},40.831979338261029]
[28017,{"$f":"VLOOKUP($A1344,BasinData!$1:$1048576,2,FALSE)","v":1.0579866350506573},52.644695441255614,{"$f":"VLOOKUP($A1344,BasinData!$1:$1048576,3,FALSE)","v":1.0341918287518468},{"$f":"VLOOKUP($A1344,BasinData!$1:$1048576,4,FALSE)","v":7.0138060337480823},{"$f":"VLOOKUP($A1344,BasinData!$1:$1048576,5,FALSE)","v":1.3362338593600001},206.8144215305513,{"$f":"VLOOKUP($A1344,Sheet1!$1:$1048576,9,FALSE)","v":328.0286745502907},1.9546780613806605,{"$f":"VLOOKUP($A1344,Sheet1!$1:$1048576,10,FALSE)","v":307.82623237285651},8.9398399651112292,{"$f":"VLOOKUP($A1344,Sheet1!$1:$1048576,11,FALSE)","v":267.42134801798812},24.402539116572886,{"$f":"VLOOKUP($A1344,Sheet1!$1:$1048576,12,FALSE)","v":206.81402148568554},52.644695441255614]
[28018,{"$f":"VLOOKUP($A1345,BasinData!$1:$1048576,2,FALSE)","v":1.9801064110037878},51.030953998448851,{"$f":"VLOOKUP($A1345,BasinData!$1:$1048576,3,FALSE)","v":1.0868068977986516},{"$f":"VLOOKUP($A1345,BasinData!$1:$1048576,4,FALSE)","v":20.126513399537476},{"$f":"VLOOKUP($A1345,BasinData!$1:$1048576,5,FALSE)","v":1.7299138384999999},131.02751727371418,{"$f":"VLOOKUP($A1345,Sheet1!$1:$1048576,9,FALSE)","v":207.82278532550308},0.34102224016655475,{"$f":"VLOOKUP($A1345,Sheet1!$1:$1048576,10,FALSE)","v":195.02351462318492},7.3262524501022446,{"$f":"VLOOKUP($A1345,Sheet1!$1:$1048576,11,FALSE)","v":169.42497321854859},22.788880426835124,{"$f":"VLOOKUP($A1345,Sheet1!$1:$1048576,12,FALSE)","v":131.02716111159413},51.030953998448851]
[28019,{"$f":"VLOOKUP($A1346,BasinData!$1:$1048576,2,FALSE)","v":0.56702702702702701},43.507818216954824,{"$f":"VLOOKUP($A1346,BasinData!$1:$1048576,3,FALSE)","v":17.898401666421456},{"$f":"VLOOKUP($A1346,BasinData!$1:$1048576,4,FALSE)","v":12.16761278757096},{"$f":"VLOOKUP($A1346,BasinData!$1:$1048576,5,FALSE)","v":3.5653857119599999},185.69688379070905,{"$f":"VLOOKUP($A1346,Sheet1!$1:$1048576,9,FALSE)","v":294.53463988112094},-7.182402630016643,{"$f":"VLOOKUP($A1346,Sheet1!$1:$1048576,10,FALSE)","v":276.39500913204904},-0.19751085004271068,{"$f":"VLOOKUP($A1346,Sheet1!$1:$1048576,11,FALSE)","v":240.1157476339053},15.265459589822516,{"$f":"VLOOKUP($A1346,Sheet1!$1:$1048576,12,FALSE)","v":185.69685538668961},43.507818216954824]
[28020,{"$f":"VLOOKUP($A1347,BasinData!$1:$1048576,2,FALSE)","v":4.4530284012121211},48.202337222800772,{"$f":"VLOOKUP($A1347,BasinData!$1:$1048576,3,FALSE)","v":1.3159532920064494},{"$f":"VLOOKUP($A1347,BasinData!$1:$1048576,4,FALSE)","v":11.012433392539965},{"$f":"VLOOKUP($A1347,BasinData!$1:$1048576,5,FALSE)","v":2.4199542701399999},138.52914355204368,{"$f":"VLOOKUP($A1347,Sheet1!$1:$1048576,9,FALSE)","v":219.72069859456266},-2.4873867863842682,{"$f":"VLOOKUP($A1347,Sheet1!$1:$1048576,10,FALSE)","v":206.18866602263103},4.4978447668596466,{"$f":"VLOOKUP($A1347,Sheet1!$1:$1048576,11,FALSE)","v":179.12460087876775},19.960093263354846,{"$f":"VLOOKUP($A1347,Sheet1!$1:$1048576,12,FALSE)","v":138.52850316297281},48.202337222800772]
[28021,{"$f":"VLOOKUP($A1348,BasinData!$1:$1048576,2,FALSE)","v":4.4590892820833332},55.261723580682954,{"$f":"VLOOKUP($A1348,BasinData!$1:$1048576,3,FALSE)","v":2.1523385255869307},{"$f":"VLOOKUP($A1348,BasinData!$1:$1048576,4,FALSE)","v":8.9269447986882859},{"$f":"VLOOKUP($A1348,BasinData!$1:$1048576,5,FALSE)","v":0.69778738349299996},147.0597021841439,{"$f":"VLOOKUP($A1348,Sheet1!$1:$1048576,9,FALSE)","v":233.2518320897249},4.5716075221939265,{"$f":"VLOOKUP($A1348,Sheet1!$1:$1048576,10,FALSE)","v":218.88645181608419},11.556836220819113,{"$f":"VLOOKUP($A1348,Sheet1!$1:$1048576,11,FALSE)","v":190.15569126880274},27.019446778897528,{"$f":"VLOOKUP($A1348,Sheet1!$1:$1048576,12,FALSE)","v":147.05955044788061},55.261723580682954]
[28022,{"$f":"VLOOKUP($A1349,BasinData!$1:$1048576,2,FALSE)","v":1.3583441138421734E-2},43.45218381633974,{"$f":"VLOOKUP($A1349,BasinData!$1:$1048576,3,FALSE)","v":2.5901557901041814},{"$f":"VLOOKUP($A1349,BasinData!$1:$1048576,4,FALSE)","v":13.787849933346031},{"$f":"VLOOKUP($A1349,BasinData!$1:$1048576,5,FALSE)","v":3.5789584962699998},185.63457732282578,{"$f":"VLOOKUP($A1349,Sheet1!$1:$1048576,9,FALSE)","v":294.43581290811983},-7.2380362316884792,{"$f":"VLOOKUP($A1349,Sheet1!$1:$1048576,10,FALSE)","v":276.30226865807236},-0.25312886273037721,{"$f":"VLOOKUP($A1349,Sheet1!$1:$1048576,11,FALSE)","v":240.03518015797738},15.20983235919133,{"$f":"VLOOKUP($A1349,Sheet1!$1:$1048576,12,FALSE)","v":185.63454740783493},43.45218381633974]
[28023,{"$f":"VLOOKUP($A1350,BasinData!$1:$1048576,2,FALSE)","v":5.9353918667045455},52.159546650922152,{"$f":"VLOOKUP($A1350,BasinData!$1:$1048576,3,FALSE)","v":3.125536788954828},{"$f":"VLOOKUP($A1350,BasinData!$1:$1048576,4,FALSE)","v":9.1137965760322253},{"$f":"VLOOKUP($A1350,BasinData!$1:$1048576,5,FALSE)","v":1.45458878104},129.2088808342358,{"$f":"VLOOKUP($A1350,Sheet1!$1:$1048576,9,FALSE)","v":204.93836201743531},1.469552806858593,{"$f":"VLOOKUP($A1350,Sheet1!$1:$1048576,10,FALSE)","v":192.31673552618003},8.4542157215225853,{"$f":"VLOOKUP($A1350,Sheet1!$1:$1048576,11,FALSE)","v":167.07348254366943},23.917413535517774,{"$f":"VLOOKUP($A1350,Sheet1!$1:$1048576,12,FALSE)","v":129.20860306990352},52.159546650922152]
[28024,{"$f":"VLOOKUP($A1351,BasinData!$1:$1048576,2,FALSE)","v":6.3315508021390368E-2},41.984492224750454,{"$f":"VLOOKUP($A1351,BasinData!$1:$1048576,3,FALSE)","v":2.7998830342295622},{"$f":"VLOOKUP($A1351,BasinData!$1:$1048576,4,FALSE)","v":15.313409151018249},{"$f":"VLOOKUP($A1351,BasinData!$1:$1048576,5,FALSE)","v":3.9370186398999998},176.8875638687436,{"$f":"VLOOKUP($A1351,Sheet1!$1:$1048576,9,FALSE)","v":280.56203847833569},-8.7056924078167803,{"$f":"VLOOKUP($A1351,Sheet1!$1:$1048576,10,FALSE)","v":263.28294430368095},-1.7205085435047067,{"$f":"VLOOKUP($A1351,Sheet1!$1:$1048576,11,FALSE)","v":228.72475595437146},13.742175715918986,{"$f":"VLOOKUP($A1351,Sheet1!$1:$1048576,12,FALSE)","v":176.88747343040725},41.984492224750454]
[28025,{"$f":"VLOOKUP($A1352,BasinData!$1:$1048576,2,FALSE)","v":11.21190902784091},46.324397121698603,{"$f":"VLOOKUP($A1352,BasinData!$1:$1048576,3,FALSE)","v":19.515741856258963},{"$f":"VLOOKUP($A1352,BasinData!$1:$1048576,4,FALSE)","v":12.806230057865989},{"$f":"VLOOKUP($A1352,BasinData!$1:$1048576,5,FALSE)","v":2.8780652924400001},74.551916150683084,{"$f":"VLOOKUP($A1352,Sheet1!$1:$1048576,9,FALSE)","v":118.24638920967072},-4.3651402300381443,{"$f":"VLOOKUP($A1352,Sheet1!$1:$1048576,10,FALSE)","v":110.96389829946673},2.6200809832754572,{"$f":"VLOOKUP($A1352,Sheet1!$1:$1048576,11,FALSE)","v":96.398916479058784},18.08270409878217,{"$f":"VLOOKUP($A1352,Sheet1!$1:$1048576,12,FALSE)","v":74.551443748446871},46.324397121698603]
[28026,{"$f":"VLOOKUP($A1353,BasinData!$1:$1048576,2,FALSE)","v":2.9974738335795457},50.97040465993652,{"$f":"VLOOKUP($A1353,BasinData!$1:$1048576,3,FALSE)","v":1.1572060058072393},{"$f":"VLOOKUP($A1353,BasinData!$1:$1048576,4,FALSE)","v":9.4966268811624293},{"$f":"VLOOKUP($A1353,BasinData!$1:$1048576,5,FALSE)","v":1.7446850359499999},163.55547785274442,{"$f":"VLOOKUP($A1353,Sheet1!$1:$1048576,9,FALSE)","v":259.41538493155105},0.28047653891520741,{"$f":"VLOOKUP($A1353,Sheet1!$1:$1048576,10,FALSE)","v":243.43865874686196},7.265706502209305,{"$f":"VLOOKUP($A1353,Sheet1!$1:$1048576,11,FALSE)","v":211.48520637748373},22.728334486637138,{"$f":"VLOOKUP($A1353,Sheet1!$1:$1048576,12,FALSE)","v":163.55502782341637},50.97040465993652]
[28027,{"$f":"VLOOKUP($A1354,BasinData!$1:$1048576,2,FALSE)","v":5.2258017155303031},55.844425421575458,{"$f":"VLOOKUP($A1354,BasinData!$1:$1048576,3,FALSE)","v":1.2272355291827897},{"$f":"VLOOKUP($A1354,BasinData!$1:$1048576,4,FALSE)","v":2.3228803716608595},{"$f":"VLOOKUP($A1354,BasinData!$1:$1048576,5,FALSE)","v":0.55563087624200003},166.88285682345261,{"$f":"VLOOKUP($A1354,Sheet1!$1:$1048576,9,FALSE)","v":264.69343621315636},5.1542930559321531,{"$f":"VLOOKUP($A1354,Sheet1!$1:$1048576,10,FALSE)","v":248.39164842837286},12.139521912788815,{"$f":"VLOOKUP($A1354,Sheet1!$1:$1048576,11,FALSE)","v":215.78807285880583},27.602136225400571,{"$f":"VLOOKUP($A1354,Sheet1!$1:$1048576,12,FALSE)","v":166.88270950445525},55.844425421575458]
[28028,{"$f":"VLOOKUP($A1355,BasinData!$1:$1048576,2,FALSE)","v":1.3219567690557452},45.894407021965108,{"$f":"VLOOKUP($A1355,BasinData!$1:$1048576,3,FALSE)","v":20.59197406170043},{"$f":"VLOOKUP($A1355,BasinData!$1:$1048576,4,FALSE)","v":13.413758007543555},{"$f":"VLOOKUP($A1355,BasinData!$1:$1048576,5,FALSE)","v":2.9831388267099999},168.12165308303423,{"$f":"VLOOKUP($A1355,Sheet1!$1:$1048576,9,FALSE)","v":266.65852937042752},-4.7958267352807731,{"$f":"VLOOKUP($A1355,Sheet1!$1:$1048576,10,FALSE)","v":250.23571655349562},2.1894067750771682,{"$f":"VLOOKUP($A1355,Sheet1!$1:$1048576,11,FALSE)","v":217.3900909196318},17.651561340680807,{"$f":"VLOOKUP($A1355,Sheet1!$1:$1048576,12,FALSE)","v":168.12165246883609},45.894407021965108]
[28029,{"$f":"VLOOKUP($A1356,BasinData!$1:$1048576,2,FALSE)","v":0.12251941328731665},37.651143016292366,{"$f":"VLOOKUP($A1356,BasinData!$1:$1048576,3,FALSE)","v":16.795369994709116},{"$f":"VLOOKUP($A1356,BasinData!$1:$1048576,4,FALSE)","v":13.487032074284119},{"$f":"VLOOKUP($A1356,BasinData!$1:$1048576,5,FALSE)","v":4.9941124083600004},185.55054933093231,{"$f":"VLOOKUP($A1356,Sheet1!$1:$1048576,9,FALSE)","v":294.30129074072511},-13.03863012763772,{"$f":"VLOOKUP($A1356,Sheet1!$1:$1048576,10,FALSE)","v":276.1760313648951},-6.0533748000110421,{"$f":"VLOOKUP($A1356,Sheet1!$1:$1048576,11,FALSE)","v":239.92551261323507},9.4092443016977914,{"$f":"VLOOKUP($A1356,Sheet1!$1:$1048576,12,FALSE)","v":185.54973448574503},37.651143016292366]
[28030,{"$f":"VLOOKUP($A1357,BasinData!$1:$1048576,2,FALSE)","v":0.4449406660712007},45.765419740058483,{"$f":"VLOOKUP($A1357,BasinData!$1:$1048576,3,FALSE)","v":26.226420502480522},{"$f":"VLOOKUP($A1357,BasinData!$1:$1048576,4,FALSE)","v":11.411690386830664},{"$f":"VLOOKUP($A1357,BasinData!$1:$1048576,5,FALSE)","v":3.0146075319999999},191.75470005050232,{"$f":"VLOOKUP($A1357,Sheet1!$1:$1048576,9,FALSE)","v":304.14301369266894},-4.9248139976060488,{"$f":"VLOOKUP($A1357,Sheet1!$1:$1048576,10,FALSE)","v":285.4116279190917},2.0604197148346435,{"$f":"VLOOKUP($A1357,Sheet1!$1:$1048576,11,FALSE)","v":247.94885637193715},17.523051181288043,{"$f":"VLOOKUP($A1357,Sheet1!$1:$1048576,12,FALSE)","v":191.75469905120542},45.765419740058483]
[28031,{"$f":"VLOOKUP($A1358,BasinData!$1:$1048576,2,FALSE)","v":3.0992076596022726},47.44927291742286,{"$f":"VLOOKUP($A1358,BasinData!$1:$1048576,3,FALSE)","v":2.1645374642937485},{"$f":"VLOOKUP($A1358,BasinData!$1:$1048576,4,FALSE)","v":22.530024019215372},{"$f":"VLOOKUP($A1358,BasinData!$1:$1048576,5,FALSE)","v":2.6036606012400001},111.26824843412372,{"$f":"VLOOKUP($A1358,Sheet1!$1:$1048576,9,FALSE)","v":176.48215406183127},-3.2403814636078292,{"$f":"VLOOKUP($A1358,Sheet1!$1:$1048576,10,FALSE)","v":165.61307221198655},3.7444322190099726,{"$f":"VLOOKUP($A1358,Sheet1!$1:$1048576,11,FALSE)","v":143.87490851229717},19.207480323086944,{"$f":"VLOOKUP($A1358,Sheet1!$1:$1048576,12,FALSE)","v":111.26766296276305},47.44927291742286]
[28032,{"$f":"VLOOKUP($A1359,BasinData!$1:$1048576,2,FALSE)","v":3.0308510011174241},38.918346635515434,{"$f":"VLOOKUP($A1359,BasinData!$1:$1048576,3,FALSE)","v":1.720240048691307},{"$f":"VLOOKUP($A1359,BasinData!$1:$1048576,4,FALSE)","v":21.64709095875444},{"$f":"VLOOKUP($A1359,BasinData!$1:$1048576,5,FALSE)","v":4.6850027380499997},114.80098117685728,{"$f":"VLOOKUP($A1359,Sheet1!$1:$1048576,9,FALSE)","v":182.085887643283},-11.771614691285309,{"$f":"VLOOKUP($A1359,Sheet1!$1:$1048576,10,FALSE)","v":170.87168625834818},-4.786365004761068,{"$f":"VLOOKUP($A1359,Sheet1!$1:$1048576,11,FALSE)","v":148.44328348847853},10.676210979038119,{"$f":"VLOOKUP($A1359,Sheet1!$1:$1048576,12,FALSE)","v":114.80067933367408},38.918346635515434]
[28033,{"$f":"VLOOKUP($A1360,BasinData!$1:$1048576,2,FALSE)","v":3.2350967741935488},51.505236524584795,{"$f":"VLOOKUP($A1360,BasinData!$1:$1048576,3,FALSE)","v":22.857122523468451},{"$f":"VLOOKUP($A1360,BasinData!$1:$1048576,4,FALSE)","v":3.7394882805510821},{"$f":"VLOOKUP($A1360,BasinData!$1:$1048576,5,FALSE)","v":1.6142108851800001},189.34541530901075,{"$f":"VLOOKUP($A1360,Sheet1!$1:$1048576,9,FALSE)","v":300.32089661079527},0.81527737773917253,{"$f":"VLOOKUP($A1360,Sheet1!$1:$1048576,10,FALSE)","v":281.82490519549413},7.8001992714539359,{"$f":"VLOOKUP($A1360,Sheet1!$1:$1048576,11,FALSE)","v":244.83292236489189},23.263137025481317,{"$f":"VLOOKUP($A1360,Sheet1!$1:$1048576,12,FALSE)","v":189.3449481189885},51.505236524584795]
[28034,{"$f":"VLOOKUP($A1361,BasinData!$1:$1048576,2,FALSE)","v":0.15425181278839814},37.123729745874826,{"$f":"VLOOKUP($A1361,BasinData!$1:$1048576,3,FALSE)","v":17.289705186418992},{"$f":"VLOOKUP($A1361,BasinData!$1:$1048576,4,FALSE)","v":13.868430999194578},{"$f":"VLOOKUP($A1361,BasinData!$1:$1048576,5,FALSE)","v":5.1227589270299996},183.02821900807035,{"$f":"VLOOKUP($A1361,Sheet1!$1:$1048576,9,FALSE)","v":290.3003540241117},-13.565942092729765,{"$f":"VLOOKUP($A1361,Sheet1!$1:$1048576,10,FALSE)","v":272.42150204782922},-6.580684099829365,{"$f":"VLOOKUP($A1361,Sheet1!$1:$1048576,11,FALSE)","v":236.66379809526421},8.8819396741882759,{"$f":"VLOOKUP($A1361,Sheet1!$1:$1048576,12,FALSE)","v":183.02724216641673},37.123729745874826]
[28035,{"$f":"VLOOKUP($A1362,BasinData!$1:$1048576,2,FALSE)","v":3.9588399704166664},48.639751358644801,{"$f":"VLOOKUP($A1362,BasinData!$1:$1048576,3,FALSE)","v":4.8090497709737674},{"$f":"VLOOKUP($A1362,BasinData!$1:$1048576,4,FALSE)","v":28.560341482343809},{"$f":"VLOOKUP($A1362,BasinData!$1:$1048576,5,FALSE)","v":2.3132485413400001},86.960819417215006,{"$f":"VLOOKUP($A1362,Sheet1!$1:$1048576,9,FALSE)","v":137.92836722878749},-2.0500102524065076,{"$f":"VLOOKUP($A1362,Sheet1!$1:$1048576,10,FALSE)","v":129.43371392633577},4.9351916743798689,{"$f":"VLOOKUP($A1362,Sheet1!$1:$1048576,11,FALSE)","v":112.44440732143232},20.39782355474064,{"$f":"VLOOKUP($A1362,Sheet1!$1:$1048576,12,FALSE)","v":86.960447414077152},48.639751358644801]
[28036,{"$f":"VLOOKUP($A1363,BasinData!$1:$1048576,2,FALSE)","v":0.21388888888888891},50.460759904414218,{"$f":"VLOOKUP($A1363,BasinData!$1:$1048576,3,FALSE)","v":1.1325063523547256},{"$f":"VLOOKUP($A1363,BasinData!$1:$1048576,4,FALSE)","v":13.743108025321627},{"$f":"VLOOKUP($A1363,BasinData!$1:$1048576,5,FALSE)","v":1.8690141205199999},182.77399134004554,{"$f":"VLOOKUP($A1363,Sheet1!$1:$1048576,9,FALSE)","v":289.89778927913926},-0.22913629653930223,{"$f":"VLOOKUP($A1363,Sheet1!$1:$1048576,10,FALSE)","v":272.04373022985965},6.7559858125505228,{"$f":"VLOOKUP($A1363,Sheet1!$1:$1048576,11,FALSE)","v":236.33561213130045},22.218719070443605,{"$f":"VLOOKUP($A1363,Sheet1!$1:$1048576,12,FALSE)","v":182.77343498346164},50.460759904414218]
[29001,{"$f":"VLOOKUP($A1364,BasinData!$1:$1048576,2,FALSE)","v":3.6870707386931816E-2},52.125447670322565,{"$f":"VLOOKUP($A1364,BasinData!$1:$1048576,3,FALSE)","v":0.28975109155008538},{"$f":"VLOOKUP($A1364,BasinData!$1:$1048576,4,FALSE)","v":14.387464387464387},{"$f":"VLOOKUP($A1364,BasinData!$1:$1048576,5,FALSE)","v":1.4629074124599999},182.08928059175139,{"$f":"VLOOKUP($A1364,Sheet1!$1:$1048576,9,FALSE)","v":288.81202341451626},1.4354555492023902,{"$f":"VLOOKUP($A1364,Sheet1!$1:$1048576,10,FALSE)","v":271.02483389159238},8.4206854095239674,{"$f":"VLOOKUP($A1364,Sheet1!$1:$1048576,11,FALSE)","v":235.45045484574467},23.883316243552873,{"$f":"VLOOKUP($A1364,Sheet1!$1:$1048576,12,FALSE)","v":182.08888627697303},52.125447670322565]
[29002,{"$f":"VLOOKUP($A1365,BasinData!$1:$1048576,2,FALSE)","v":3.6831215192045449E-2},56.35672222077438,{"$f":"VLOOKUP($A1365,BasinData!$1:$1048576,3,FALSE)","v":0.32616806880349303},{"$f":"VLOOKUP($A1365,BasinData!$1:$1048576,4,FALSE)","v":7.363770250368189},{"$f":"VLOOKUP($A1365,BasinData!$1:$1048576,5,FALSE)","v":0.43065009108399999},223.06959257039125,{"$f":"VLOOKUP($A1365,Sheet1!$1:$1048576,9,FALSE)","v":353.81144018574241},5.6665769858285593,{"$f":"VLOOKUP($A1365,Sheet1!$1:$1048576,10,FALSE)","v":332.02110380168546},12.65180593808843,{"$f":"VLOOKUP($A1365,Sheet1!$1:$1048576,11,FALSE)","v":288.44043103357154},28.114423129719782,{"$f":"VLOOKUP($A1365,Sheet1!$1:$1048576,12,FALSE)","v":223.06942188140067},56.35672222077438]
[29003,{"$f":"VLOOKUP($A1366,BasinData!$1:$1048576,2,FALSE)","v":3.7116991963260619},54.209266165290735,{"$f":"VLOOKUP($A1366,BasinData!$1:$1048576,3,FALSE)","v":0.18729109089406321},{"$f":"VLOOKUP($A1366,BasinData!$1:$1048576,4,FALSE)","v":14.501633986928105},{"$f":"VLOOKUP($A1366,BasinData!$1:$1048576,5,FALSE)","v":0.95454471018300002},133.28786736059863,{"$f":"VLOOKUP($A1366,Sheet1!$1:$1048576,9,FALSE)","v":211.40821739234352},3.5191844737871079,{"$f":"VLOOKUP($A1366,Sheet1!$1:$1048576,10,FALSE)","v":198.38812915292812},10.504157642386373,{"$f":"VLOOKUP($A1366,Sheet1!$1:$1048576,11,FALSE)","v":172.34795267409737},25.96701504171158,{"$f":"VLOOKUP($A1366,Sheet1!$1:$1048576,12,FALSE)","v":133.2876879558512},54.209266165290735]
[29004,{"$f":"VLOOKUP($A1367,BasinData!$1:$1048576,2,FALSE)","v":6.6150785819696972E-3},53.627941808918024,{"$f":"VLOOKUP($A1367,BasinData!$1:$1048576,3,FALSE)","v":2.3921168650518701E-2},{"$f":"VLOOKUP($A1367,BasinData!$1:$1048576,4,FALSE)","v":44.335414808206956},{"$f":"VLOOKUP($A1367,BasinData!$1:$1048576,5,FALSE)","v":1.0963637718899999},76.825929455425296,{"$f":"VLOOKUP($A1367,Sheet1!$1:$1048576,9,FALSE)","v":121.85377302945918},2.9378820557193173,{"$f":"VLOOKUP($A1367,Sheet1!$1:$1048576,10,FALSE)","v":114.34911263016708},9.9224626228500981,{"$f":"VLOOKUP($A1367,Sheet1!$1:$1048576,11,FALSE)","v":99.339791831582914},25.385703498311248,{"$f":"VLOOKUP($A1367,Sheet1!$1:$1048576,12,FALSE)","v":76.825810633706652},53.627941808918024]
[29005,{"$f":"VLOOKUP($A1368,BasinData!$1:$1048576,2,FALSE)","v":6.7486193835984851E-2},23.604546693904936,{"$f":"VLOOKUP($A1368,BasinData!$1:$1048576,3,FALSE)","v":10.715525545183185},{"$f":"VLOOKUP($A1368,BasinData!$1:$1048576,4,FALSE)","v":5.6331877729257647},{"$f":"VLOOKUP($A1368,BasinData!$1:$1048576,5,FALSE)","v":8.4210384442600006},233.90754353807066,{"$f":"VLOOKUP($A1368,Sheet1!$1:$1048576,9,FALSE)","v":371.00032246028576},-27.08523593463612,{"$f":"VLOOKUP($A1368,Sheet1!$1:$1048576,10,FALSE)","v":348.15136703713944},-20.100006562472238,{"$f":"VLOOKUP($A1368,Sheet1!$1:$1048576,11,FALSE)","v":302.45345619084685},-4.6376405331018624,{"$f":"VLOOKUP($A1368,Sheet1!$1:$1048576,12,FALSE)","v":233.90658992140789},23.604546693904936]
[29006,{"$f":"VLOOKUP($A1369,BasinData!$1:$1048576,2,FALSE)","v":4.2903186817613632E-2},52.681733937400004,{"$f":"VLOOKUP($A1369,BasinData!$1:$1048576,3,FALSE)","v":1.1360520165879975},{"$f":"VLOOKUP($A1369,BasinData!$1:$1048576,4,FALSE)","v":20.028663561447509},{"$f":"VLOOKUP($A1369,BasinData!$1:$1048576,5,FALSE)","v":1.3271980806599999},154.61829830033022,{"$f":"VLOOKUP($A1369,Sheet1!$1:$1048576,9,FALSE)","v":245.24032645856138},1.9917148343432898,{"$f":"VLOOKUP($A1369,Sheet1!$1:$1048576,10,FALSE)","v":230.13660565840129},8.9768936041338812,{"$f":"VLOOKUP($A1369,Sheet1!$1:$1048576,11,FALSE)","v":199.92916405808111},24.439575902701396,{"$f":"VLOOKUP($A1369,Sheet1!$1:$1048576,12,FALSE)","v":154.61800165760084},52.681733937400004]
[29007,{"$f":"VLOOKUP($A1370,BasinData!$1:$1048576,2,FALSE)","v":2.0670196143939393E-2},50.142778150278644,{"$f":"VLOOKUP($A1370,BasinData!$1:$1048576,3,FALSE)","v":0.32484227071168564},{"$f":"VLOOKUP($A1370,BasinData!$1:$1048576,4,FALSE)","v":23.515795206971678},{"$f":"VLOOKUP($A1370,BasinData!$1:$1048576,5,FALSE)","v":1.9465862474},140.05711081882694,{"$f":"VLOOKUP($A1370,Sheet1!$1:$1048576,9,FALSE)","v":222.14451104177823},-0.54709691947520955,{"$f":"VLOOKUP($A1370,Sheet1!$1:$1048576,10,FALSE)","v":208.46320209673394},6.4381333458021208,{"$f":"VLOOKUP($A1370,Sheet1!$1:$1048576,11,FALSE)","v":181.10058420664535},21.900756240405141,{"$f":"VLOOKUP($A1370,Sheet1!$1:$1048576,12,FALSE)","v":140.05665737151247},50.142778150278644]
[29008,{"$f":"VLOOKUP($A1371,BasinData!$1:$1048576,2,FALSE)","v":9.5692502437878788E-2},50.650936894620777,{"$f":"VLOOKUP($A1371,BasinData!$1:$1048576,3,FALSE)","v":0.81404676033718881},{"$f":"VLOOKUP($A1371,BasinData!$1:$1048576,4,FALSE)","v":8.9643880474826041},{"$f":"VLOOKUP($A1371,BasinData!$1:$1048576,5,FALSE)","v":1.82262004673},211.93587695769244,{"$f":"VLOOKUP($A1371,Sheet1!$1:$1048576,9,FALSE)","v":336.15148746702425},-3.8971493649868058E-2,{"$f":"VLOOKUP($A1371,Sheet1!$1:$1048576,10,FALSE)","v":315.44878213883533},6.9462587731171501,{"$f":"VLOOKUP($A1371,Sheet1!$1:$1048576,11,FALSE)","v":274.04337148245753},22.408884963995,{"$f":"VLOOKUP($A1371,Sheet1!$1:$1048576,12,FALSE)","v":211.93525549789075},50.650936894620777]
[29009,{"$f":"VLOOKUP($A1372,BasinData!$1:$1048576,2,FALSE)","v":9.9813233623627404},47.205354298496992,{"$f":"VLOOKUP($A1372,BasinData!$1:$1048576,3,FALSE)","v":0.44065657494255472},{"$f":"VLOOKUP($A1372,BasinData!$1:$1048576,4,FALSE)","v":21.133298300928356},{"$f":"VLOOKUP($A1372,BasinData!$1:$1048576,5,FALSE)","v":2.6631629823799998},64.988596322102254,{"$f":"VLOOKUP($A1372,Sheet1!$1:$1048576,9,FALSE)","v":103.07814762498356},-3.4842760522455523,{"$f":"VLOOKUP($A1372,Sheet1!$1:$1048576,10,FALSE)","v":96.72982969209049},3.5006824488924413,{"$f":"VLOOKUP($A1372,Sheet1!$1:$1048576,11,FALSE)","v":84.033193826304355},18.963584099451733,{"$f":"VLOOKUP($A1372,Sheet1!$1:$1048576,12,FALSE)","v":64.988240027625139},47.205354298496992]
[29010,{"$f":"VLOOKUP($A1373,BasinData!$1:$1048576,2,FALSE)","v":3.9911582197348486E-2},44.977626069459696,{"$f":"VLOOKUP($A1373,BasinData!$1:$1048576,3,FALSE)","v":1.0292085871350851},{"$f":"VLOOKUP($A1373,BasinData!$1:$1048576,4,FALSE)","v":29.332822085889571},{"$f":"VLOOKUP($A1373,BasinData!$1:$1048576,5,FALSE)","v":3.2068032934900002},118.19297957315881,{"$f":"VLOOKUP($A1373,Sheet1!$1:$1048576,9,FALSE)","v":187.4664258990496},-5.7126064272860537,{"$f":"VLOOKUP($A1373,Sheet1!$1:$1048576,10,FALSE)","v":175.92085100494026},1.2726285372075841,{"$f":"VLOOKUP($A1373,Sheet1!$1:$1048576,11,FALSE)","v":152.82970121672156},16.735238542219069,{"$f":"VLOOKUP($A1373,Sheet1!$1:$1048576,12,FALSE)","v":118.19297653439354},44.977626069459696]
[29011,{"$f":"VLOOKUP($A1374,BasinData!$1:$1048576,2,FALSE)","v":3.6408536322483291},47.276271764166118,{"$f":"VLOOKUP($A1374,BasinData!$1:$1048576,3,FALSE)","v":2.2190648163555271},{"$f":"VLOOKUP($A1374,BasinData!$1:$1048576,4,FALSE)","v":23.446193914999409},{"$f":"VLOOKUP($A1374,BasinData!$1:$1048576,5,FALSE)","v":2.6458631404599999},103.5410883230291,{"$f":"VLOOKUP($A1374,Sheet1!$1:$1048576,9,FALSE)","v":164.22610863106863},-3.4133656481130181,{"$f":"VLOOKUP($A1374,Sheet1!$1:$1048576,10,FALSE)","v":154.11184508934423},3.5715543400947962,{"$f":"VLOOKUP($A1374,Sheet1!$1:$1048576,11,FALSE)","v":133.88331800589538},19.034495064258387,{"$f":"VLOOKUP($A1374,Sheet1!$1:$1048576,12,FALSE)","v":103.54052738072212},47.276271764166118]

{"sheet":"BasinData","index":1,"n_rows":1380,"n_cols":10,"rows_kept":1380,"cut":false,"hidden":false,"merged":[]}
["BasinID","CHSLP","AUGgwWp","pBWet_al","IC","Reference IC","Predicted Fluvial Density - actual IC and AUGgwWp","Predicted Fluvial Density - zero August withdrawals and reference IC","Predicted Fluvial Density - 100% August GW withdrawals and reference IC","Category"]
[10001,1.4714374197405302E-3,1.5319569584165711,36.099715998737771,13.2258634418234,1,{"$f":"EXP(6.1523-(0.084*B2)-(0.0091*C2)-(0.0289*D2)-(0.0373*E2))","v":99.646516848221054},{"$f":"EXP(6.1523+(-0.084*B2)+(-0.0091*0)+(-0.0289*D2)+(-0.0373*F2))","v":159.42835030245644},{"$f":"EXP(6.1523+(-0.084*B2)+(-0.0091*100)+(-0.0289*D2)+(-0.0373*F2))","v":64.173772994458957},{"$f":"VLOOKUP(A2,Sheet1!$1:$1048576,8,FALSE)","v":4}]
[10002,5.2564487102579487E-2,1.2937919634372956,54.757204895380973,11.6,1,61.617619146005985,{"$f":"EXP(6.1523+(-0.084*B3)+(-0.0091*0)+(-0.0289*D3)+(-0.0373*F3))","v":92.582613200307037},{"$f":"EXP(6.1523+(-0.084*B3)+(-0.0091*100)+(-0.0289*D3)+(-0.0373*F3))","v":37.266744537459843},{"$f":"VLOOKUP(A3,Sheet1!$1:$1048576,8,FALSE)","v":4}]
[10003,3.949367088607595E-2,1.151067054896503,55.211982123444855,10.926,1,62.510949792577826,91.474134410267013,36.82055497264124,{"$f":"VLOOKUP(A4,Sheet1!$1:$1048576,8,FALSE)","v":4}]
[10004,3.2968072171212118E-3,100,8.5815918185860394,21.767485200613901,1,65.502470969427293,353.08720448892211,142.1261530031091,{"$f":"VLOOKUP(A5,Sheet1!$1:$1048576,8,FALSE)","v":5}]
[11001,0.48115503012499999,13.636630736444047,24.805332761594762,6.4430810910179304,1,153.02305499202637,212.23812186045384,85.43098531223545,{"$f":"VLOOKUP(A6,Sheet1!$1:$1048576,8,FALSE)","v":4}]
[11002,1.5014349114867425,1.0444611477364711,19.165023011176856,16.996600399083601,1,125.06486354574639,229.2952105573321,92.296876704219272,{"$f":"VLOOKUP(A7,Sheet1!$1:$1048576,8,FALSE)","v":5}]
[11003,0.7349214729507576,9.1013940653554464,29.244465624052335,5.4413708866216401,1,142.53901043339371,182.74679114050122,73.560010298467191,{"$f":"VLOOKUP(A8,Sheet1!$1:$1048576,8,FALSE)","v":4}]
[11004,0.88360164757765158,8.8646930466551588,32.480916030534353,8.4342407994891708,1,114.90585027333371,164.36326164246788,66.160194352271859,{"$f":"VLOOKUP(A9,Sheet1!$1:$1048576,8,FALSE)","v":4}]
[11005,0.78855592356628779,14.963513956690731,27.241895261845389,3.9261011271260999,1,150.83084548374316,192.76474919861155,77.592481092209553,{"$f":"VLOOKUP(A10,Sheet1!$1:$1048576,8,FALSE)","v":4}]
[11006,1.311279976185606,4.8390078846581348,16.279069767441861,6.5981899758407803,1,196.67249981578939,253.2525888847949,101.94030182536147,{"$f":"VLOOKUP(A11,Sheet1!$1:$1048576,8,FALSE)","v":4}]
[11007,1.4196461348371212,1.1111653327964386,37.394385391114746,7.6494315373208099,1,105.31086403075462,136.32639680105919,54.874677087647889,{"$f":"VLOOKUP(A12,Sheet1!$1:$1048576,8,FALSE)","v":4}]
[11008,0.75153188214015154,13.08049525429416,27.637308074249482,4.9628060690138103,1,146.39492642593291,191.16809481185248,76.949789024129458,{"$f":"VLOOKUP(A13,Sheet1!$1:$1048576,8,FALSE)","v":4}]
[11009,0.28544949026876737,12.63842221144008,28.899237220278984,5.4567540586917396,1,144.68916020562597,191.68133644060822,77.156381212486124,{"$f":"VLOOKUP(A14,Sheet1!$1:$1048576,8,FALSE)","v":4}]
[11010,0.48429618139772723,11.825389360343005,25.323492267240844,5.5033784875101803,1,158.67897458616986,209.02841386665372,84.139000092656488,{"$f":"VLOOKUP(A15,Sheet1!$1:$1048576,8,FALSE)","v":4}]
[11011,0.73122789217045459,1.4310107249656201,34.321223709369022,13.0039757637,1,99.576181883202764,157.85762068518284,63.541516274099259,{"$f":"VLOOKUP(A16,Sheet1!$1:$1048576,8,FALSE)","v":4}]
[11012,0.27920883164673416,12.61669552060412,26.832195891491477,4.5007525640399999,1,159.28674361920602,203.58752218653785,81.948909391066778,{"$f":"VLOOKUP(A17,Sheet1!$1:$1048576,8,FALSE)","v":4}]
[11013,0.37181503617489781,9.9164661358988706,28.454602642063325,5.9117170980399996,1,146.64029731006502,192.7568443197857,77.589299186994097,{"$f":"VLOOKUP(A18,Sheet1!$1:$1048576,8,FALSE)","v":4}]
[11014,1.2708765634393941,8.394075905564554,37.305967575025875,2.8542947016300002,1,119.64782338134073,138.39389151439497,55.706893792827017,{"$f":"VLOOKUP(A19,Sheet1!$1:$1048576,8,FALSE)","v":3}]
[11015,1.6852095289829547,2.3280125687825777,17.733230531996917,5.03118872736,1,198.22520498969442,235.32135243368793,94.722544786915989,{"$f":"VLOOKUP(A20,Sheet1!$1:$1048576,8,FALSE)","v":3}]
[11016,1.0116980752859848,3.262093536714131,34.912603495860168,2.5195884496300001,1,139.02828759317191,151.56932645504173,61.010325518616511,{"$f":"VLOOKUP(A21,Sheet1!$1:$1048576,8,FALSE)","v":2}]
[11017,1.0082043216988636,3.4807620016410095,31.137416366443642,16.464437048200001,1,92.014030225635238,169.09141806853404,68.06339184878378,{"$f":"VLOOKUP(A22,Sheet1!$1:$1048576,8,FALSE)","v":5}]
[11018,0.78414150833901519,8.2764139261231584,36.333123557793165,8.39139534217,1,104.38546373386818,148.28036539154712,59.6864390186565,{"$f":"VLOOKUP(A23,Sheet1!$1:$1048576,8,FALSE)","v":4}]
[11019,8.2881172002170378E-2,9.231575404960557,21.431783859529524,8.5777048963000002,1,167.67099550075193,241.93266121940781,97.383756725734642,{"$f":"VLOOKUP(A24,Sheet1!$1:$1048576,8,FALSE)","v":4}]
[11020,0.15872405841660261,4.3500429695859637,13.60720738198882,11.2568071906,1,197.60193672802365,301.39415276444521,121.31844746978342,{"$f":"VLOOKUP(A25,Sheet1!$1:$1048576,8,FALSE)","v":4}]
[11021,1.8159152927594697,2.0720308098876394,14.555160142348756,17.7005162958,1,134.29437906658325,255.14167708772399,102.70070558837659,{"$f":"VLOOKUP(A26,Sheet1!$1:$1048576,8,FALSE)","v":5}]
[11022,0.12024638457418318,4.5866866734098268,13.530227948463825,10.7028770352,1,202.39466003605094,303.04330496845904,121.98227118101747,{"$f":"VLOOKUP(A27,Sheet1!$1:$1048576,8,FALSE)","v":4}]
[11023,0.77181818181818185,25.75704361141705,25.845925651246869,9.0106147110299997,1,117.92336871355498,200.98293850693642,80.900501366504542,{"$f":"VLOOKUP(A28,Sheet1!$1:$1048576,8,FALSE)","v":5}]
[11024,0.95118716240340917,2.0906106186009863,10.359408033826638,11.3886745574,1,206.2710887680729,309.73385181261784,124.67537835782316,{"$f":"VLOOKUP(A29,Sheet1!$1:$1048576,8,FALSE)","v":4}]
[11025,0.20256547300908601,5.0770213994073288,13.385670125179812,10.2084722265,1,204.68285344935862,302.2149845991479,121.64885216710924,{"$f":"VLOOKUP(A30,Sheet1!$1:$1048576,8,FALSE)","v":4}]
[11026,0.47615460682007577,6.0378948563207393,37.178964533224622,15.0472991813,1,83.231163197641692,148.49197821313527,59.771618305461843,{"$f":"VLOOKUP(A31,Sheet1!$1:$1048576,8,FALSE)","v":5}]
[11027,0.83283147348674258,36.692451517560698,34.494033022723556,8.1947133935299998,1,85.276633473382319,155.73636378156598,62.68765898499489,{"$f":"VLOOKUP(A32,Sheet1!$1:$1048576,8,FALSE)","v":5}]
[11028,6.5138092756644089E-2,11.693921001000382,23.362463552612997,8.6631953870499991,1,154.79494947484008,229.14459042420049,92.23624845200662,{"$f":"VLOOKUP(A33,Sheet1!$1:$1048576,8,FALSE)","v":4}]
[11029,0.79127134724857673,2.7031989087044703,16.985657408739865,6.2960773552399996,1,207.57753080112639,259.21237534333363,104.33926024499095,{"$f":"VLOOKUP(A34,Sheet1!$1:$1048576,8,FALSE)","v":3}]
[11030,1.2445550715619166E-3,4.4617824591461792,15.367005294033481,7.0969138898999997,1,222.0209831068299,290.26346320972669,116.83807529381107,{"$f":"VLOOKUP(A35,Sheet1!$1:$1048576,8,FALSE)","v":4}]
[11031,0.99676339285714277,3.233281201055882,18.8536840532058,3.7663927626899998,1,211.40824971792929,241.38674682764105,97.164012958799944,{"$f":"VLOOKUP(A36,Sheet1!$1:$1048576,8,FALSE)","v":3}]
[11032,0.26737720111214086,12.971661888817302,23.816292365520074,8.8848003752199993,1,147.2459456783524,222.34927709381896,89.500970226629377,{"$f":"VLOOKUP(A37,Sheet1!$1:$1048576,8,FALSE)","v":4}]
[11033,7.3694984646878195E-2,12.840590355366226,23.952120782416483,8.7957717962499995,1,149.74916641120453,225.11093624608733,90.612604933941583,{"$f":"VLOOKUP(A38,Sheet1!$1:$1048576,8,FALSE)","v":4}]
[11034,0.12972474647701829,12.470311632676323,19.289159414099348,5.2039414618900004,1,195.65630261139049,256.37633259864594,103.19768433985932,{"$f":"VLOOKUP(A39,Sheet1!$1:$1048576,8,FALSE)","v":4}]
[11035,1.2381275011496213,5.1657651546204093,16.522988505747126,9.0437774653700007,1,178.83105971789681,253.02363974438759,101.84814425027585,{"$f":"VLOOKUP(A40,Sheet1!$1:$1048576,8,FALSE)","v":4}]
[11036,1.6626153941534092,3.3063611179095562,24.411452810180275,4.8611822237200002,1,163.3245519727592,194.38667018669665,78.245343579382379,{"$f":"VLOOKUP(A41,Sheet1!$1:$1048576,8,FALSE)","v":3}]
[11037,0.971929215717803,2.1234772711367262,12.680115273775217,3.4398166810299999,1,258.93415694689844,289.13757545193857,116.38487819775844,{"$f":"VLOOKUP(A42,Sheet1!$1:$1048576,8,FALSE)","v":3}]
[11038,0.1960604672469079,13.159763858218376,18.645308924485128,4.9796358330899997,1,198.63862620051603,259.74009406529848,104.55167981405788,{"$f":"VLOOKUP(A43,Sheet1!$1:$1048576,8,FALSE)","v":4}]
[11039,1.8776002370378786,5.3791979027408319,9.253162363541847,4.7083646420700003,1,245.32711560010895,295.85373325404311,119.08829440553801,{"$f":"VLOOKUP(A44,Sheet1!$1:$1048576,8,FALSE)","v":3}]
[11040,2.0935506538825757,7.3857380409894757,15.311942959001781,3.98867986582,1,203.96300276276352,243.86787764084585,98.162728214111155,{"$f":"VLOOKUP(A45,Sheet1!$1:$1048576,8,FALSE)","v":3}]
[11041,2.248663101604278,6.0829655067419104,14.390406395736177,4.3393258511099999,1,206.50357286698599,247.20786826512571,99.507155348429009,{"$f":"VLOOKUP(A46,Sheet1!$1:$1048576,8,FALSE)","v":3}]
[11042,0.23486901535682025,6.6218775450629606,14.837049742710121,3.3631220616799999,1,249.15538216094157,289.01548417741014,116.33573350221759,{"$f":"VLOOKUP(A47,Sheet1!$1:$1048576,8,FALSE)","v":3}]
[11043,0.61672399382765142,8.2540291683154265,34.135593220338983,6.8615167114500002,1,119.45387357666789,160.24061677986822,64.500729927987678,{"$f":"VLOOKUP(A48,Sheet1!$1:$1048576,8,FALSE)","v":4}]
[11044,0.10999023755287993,14.718296499130473,15.442102381604162,3.7533379382900001,1,226.52335631083659,287.00052964681339,115.52466549332608,{"$f":"VLOOKUP(A49,Sheet1!$1:$1048576,8,FALSE)","v":4}]
[11045,1.2360301893541668,100,16.368481157213552,3.71473861079,1,92.468182138928199,254.20076257456097,102.32196470408367,{"$f":"VLOOKUP(A50,Sheet1!$1:$1048576,8,FALSE)","v":5}]
[11046,7.4372553534423208E-2,7.3451883570463963,14.207546573046145,3.93243041202,1,250.11823376522466,298.31638249561814,120.07957038057,{"$f":"VLOOKUP(A51,Sheet1!$1:$1048576,8,FALSE)","v":3}]
[11047,5.7645334636052759E-2,12.200842261459124,23.520746645942413,9.1101888864300005,1,150.93820336024993,228.24239811146938,91.873094191395424,{"$f":"VLOOKUP(A52,Sheet1!$1:$1048576,8,FALSE)","v":4}]
[11048,9.0949423247559891E-2,5.7478638889554841,16.971530215259349,10.688369272599999,1,181.85347673895893,275.03078180153449,110.70655203002691,{"$f":"VLOOKUP(A53,Sheet1!$1:$1048576,8,FALSE)","v":4}]
[11049,0.1038142271724283,12.043908022594943,23.730751865405637,9.3866541323000003,1,148.1224229403341,225.98324876294743,90.963731852905525,{"$f":"VLOOKUP(A54,Sheet1!$1:$1048576,8,FALSE)","v":4}]
[11050,0.38706088062311239,40.262717675365671,35.19890051156753,10.6726598168,1,76.55869635401794,158.41824585787995,63.767181486712886,{"$f":"VLOOKUP(A55,Sheet1!$1:$1048576,8,FALSE)","v":5}]
[11051,6.1326477615041028,10.007901325947824,22.638094516340423,8.4971636277999991,1,97.01839028771461,140.55749982987058,56.577798551126563,{"$f":"VLOOKUP(A56,Sheet1!$1:$1048576,8,FALSE)","v":4}]
[11052,1.6600666740075758,3.7800439626656543,9.4419234137409429,6.5556682146199998,1,235.34628630362138,299.67028274299838,120.62454802706569,{"$f":"VLOOKUP(A57,Sheet1!$1:$1048576,8,FALSE)","v":4}]
[11053,0.50696378830083566,6.0246118483066597,14.73548211614307,4.0168266151700003,1,239.65682591757925,283.31507246796633,114.04117970220148,{"$f":"VLOOKUP(A58,Sheet1!$1:$1048576,8,FALSE)","v":3}]
[11054,1.9960304326704548,28.308526630821799,10.036641707822207,2.9799284070600001,1,205.57595500475486,286.36708399590651,115.26968827422729,{"$f":"VLOOKUP(A59,Sheet1!$1:$1048576,8,FALSE)","v":4}]
[11055,1.0970079476390837,9.0242310908416528,29.554966517857146,3.1013679196799999,1,149.63683727554019,175.6885455836368,70.718895482651476,{"$f":"VLOOKUP(A60,Sheet1!$1:$1048576,8,FALSE)","v":3}]
[11056,0.91466941354734832,5.0866901176338528,22.803154081125239,6.3844941742400003,1,169.35991137753803,216.83931954096391,87.283078838208127,{"$f":"VLOOKUP(A61,Sheet1!$1:$1048576,8,FALSE)","v":4}]
[11057,1.6601508888068182,4.8176679408927283,30.326640695235241,4.4763281800300003,1,137.7719235325674,163.87556818249615,65.963885920730462,{"$f":"VLOOKUP(A62,Sheet1!$1:$1048576,8,FALSE)","v":3}]
[11058,0.52341727465285948,13.641991512055581,27.461953853706433,6.1012159197000004,1,143.01721476586411,195.85654589528252,78.837004158406799,{"$f":"VLOOKUP(A63,Sheet1!$1:$1048576,8,FALSE)","v":4}]
[11059,1.1904605911382575,6.5279673626463968,20.883534136546185,3.7805150043700002,1,190.25199086124636,223.9599348987588,90.1492990097465,{"$f":"VLOOKUP(A64,Sheet1!$1:$1048576,8,FALSE)","v":3}]
[11060,0.76871772805507732,6.4035949804639634,14.847931356724153,8.7793682094900003,1,194.97655997806916,276.25448683426254,111.19912294877183,{"$f":"VLOOKUP(A65,Sheet1!$1:$1048576,8,FALSE)","v":4}]
[11061,0.29489648531535867,3.4724058085845542,10.414374770810413,9.6570228513099998,1,{"$f":"EXP(6.1523-(0.084*B66)-(0.0091*C66)-(0.0289*D66)-(0.0373*E66))","v":229.23494060560233},326.76892324582354,131.53240726783187,{"$f":"VLOOKUP(A66,Sheet1!$1:$1048576,8,FALSE)","v":4}]
[11062,0.75708872678977279,9.2521522941017835,10.25519099698843,7.8032930223000001,1,225.21874085698897,{"$f":"EXP(6.1523+(-0.084*B67)+(-0.0091*0)+(-0.0289*D67)+(-0.0373*F67))","v":315.77487131434191},{"$f":"EXP(6.1523+(-0.084*B67)+(-0.0091*100)+(-0.0289*D67)+(-0.0373*F67))","v":127.10703504512672},{"$f":"VLOOKUP(A67,Sheet1!$1:$1048576,8,FALSE)","v":4}]
[11063,2.6086107532575755,4.920265492387629,24.035797997016832,4.0775525485399999,1,154.72897044079423,181.49754630132844,73.05715898895113,{"$f":"VLOOKUP(A68,Sheet1!$1:$1048576,8,FALSE)","v":3}]
[11064,1.2205970600852272,28.52431856799177,25.773294908741594,2.7162369504899999,1,140.33531792086842,193.95411764181998,78.071230701902124,{"$f":"VLOOKUP(A69,Sheet1!$1:$1048576,8,FALSE)","v":4}]
[11065,2.1098654401515153,10.720757453325138,14.646637077500854,4.91067295636,1,194.62147094277302,248.26171483697112,99.931354122011598,{"$f":"VLOOKUP(A70,Sheet1!$1:$1048576,8,FALSE)","v":4}]
[11066,1.7742374953276514,3.8775854408817039,12.746563060370592,2.5680615536800002,1,245.62688440782972,269.77502689602119,108.59098336497419,{"$f":"VLOOKUP(A71,Sheet1!$1:$1048576,8,FALSE)","v":2}]
[11067,0.86764657636931808,15.158584435374012,21.020974706971003,5.8383569474500003,1,166.70031611267282,229.20378955833155,92.260077537536191,{"$f":"VLOOKUP(A72,Sheet1!$1:$1048576,8,FALSE)","v":4}]
[11068,0.2946604925473485,10.001522563079565,34.874905231235786,3.9183351277799998,1,131.95962463935189,161.15453630450341,64.868604675470635,{"$f":"VLOOKUP(A73,Sheet1!$1:$1048576,8,FALSE)","v":3}]
[11069,3.6252807186397173E-2,12.339039056589799,23.166442848763506,9.1903398109700003,1,152.11847157328791,231.00620366806109,92.985592878442347,{"$f":"VLOOKUP(A74,Sheet1!$1:$1048576,8,FALSE)","v":4}]
[11070,1.6397922929762229E-3,12.16451054464264,23.599277276454515,9.3767769260700007,1,149.85862038365593,228.79882961141954,92.097071349140734,{"$f":"VLOOKUP(A75,Sheet1!$1:$1048576,8,FALSE)","v":4}]
[11071,0.48353794081060608,21.018538210342559,30.382731725013606,5.1971266153400002,1,127.54896698501069,180.60672298471644,72.69858102468082,{"$f":"VLOOKUP(A76,Sheet1!$1:$1048576,8,FALSE)","v":4}]
[11072,0.17047614820340909,2.4518019517223339,34.368070953436806,10.664665377,1,112.68984794856274,165.24723609537153,66.516015482992458,{"$f":"VLOOKUP(A77,Sheet1!$1:$1048576,8,FALSE)","v":4}]
[11073,0.13006702840727738,21.277029710273741,35.103092783505154,8.2956315925599995,1,101.88522752490603,162.32410555534372,65.339384630618738,{"$f":"VLOOKUP(A78,Sheet1!$1:$1048576,8,FALSE)","v":4}]
[11074,0.9206056538295454,4.0524455982805581,12.666534102207198,4.05313998922,1,249.8465458956116,290.50078819512925,116.93360434940401,{"$f":"VLOOKUP(A79,Sheet1!$1:$1048576,8,FALSE)","v":3}]
[11075,8.3897634332952248E-2,10.7186878298349,16.878423024900773,4.7862799652900003,1,217.32585677821777,275.93523249239178,111.07061534254092,{"$f":"VLOOKUP(A80,Sheet1!$1:$1048576,8,FALSE)","v":4}]
[11076,1.1290205630890151,5.6315987844919748,25.3744893327281,5.0437539890499998,1,161.54115796165431,197.71755669927626,79.586106088202584,{"$f":"VLOOKUP(A81,Sheet1!$1:$1048576,8,FALSE)","v":3}]
[12001,0.11301369863013699,34.189958452812164,25.444877608932025,14.190167608299999,1,96.257607856271946,214.89507514337612,86.500473370737353,{"$f":"VLOOKUP(A82,Sheet1!$1:$1048576,8,FALSE)","v":5}]
[12002,1.8302709027481059,6.6947904004430221,19.663382594417079,27.4336894560006,1,77.17582635183382,219.85879232108474,88.498489776016939,{"$f":"VLOOKUP(A83,Sheet1!$1:$1048576,8,FALSE)","v":5}]
[12003,0.3284516233219697,5.3682422839953858,25.976275002164691,16.4951808587771,1,111.03821987685963,207.82486214166869,83.65454136847255,{"$f":"VLOOKUP(A84,Sheet1!$1:$1048576,8,FALSE)","v":5}]
[12004,1.1181332036947012E-2,3.7457531281740546,20.269328999303461,16.546382444289801,1,136.22538291831566,251.70988140430856,101.31932469386783,{"$f":"VLOOKUP(A85,Sheet1!$1:$1048576,8,FALSE)","v":5}]
[12005,0.50966568114623612,3.2872858050465661,19.743599644746496,16.856615394781599,1,131.66120547915102,245.08327556341152,98.651955319783994,{"$f":"VLOOKUP(A86,Sheet1!$1:$1048576,8,FALSE)","v":5}]
[12006,9.9145820622330683E-2,33.342420323394855,24.142562240405898,14.899059177,1,98.209285711968803,223.39727804058793,89.922815994514067,{"$f":"VLOOKUP(A87,Sheet1!$1:$1048576,8,FALSE)","v":5}]
[12007,0.12464707727700512,70.710533161563959,21.589078266768421,11.627672993399999,1,84.836614907297658,239.99192659750651,96.602564027998611,{"$f":"VLOOKUP(A88,Sheet1!$1:$1048576,8,FALSE)","v":5}]
[12008,0.60260013832007575,100,33.700209643605874,13.618688259400001,1,40.844348233833934,162.46222767623135,65.394982130150908,{"$f":"VLOOKUP(A89,Sheet1!$1:$1048576,8,FALSE)","v":5}]
[12009,0.34562211981566821,36.787953311635796,20.725388601036268,13.793436097300001,1,107.23669238684175,241.53249317864646,97.222679395644121,{"$f":"VLOOKUP(A90,Sheet1!$1:$1048576,8,FALSE)","v":5}]
[12010,0.23578067830113636,52.570665644900124,46.799707958140665,14.727722641,1,42.616681074744569,114.74162517265835,46.186283636982587,{"$f":"VLOOKUP(A91,Sheet1!$1:$1048576,8,FALSE)","v":5}]
[12011,0.14919354838709675,100,19.583124418021633,25.0526813731,1,41.652043500137779,253.7921046521046,102.15746999095172,{"$f":"VLOOKUP(A92,Sheet1!$1:$1048576,8,FALSE)","v":5}]
[12012,0.10623926731539782,29.240247141116875,24.66856455397663,15.237315116,1,99.088786655710763,219.89592933131064,88.513438322241058,{"$f":"VLOOKUP(A93,Sheet1!$1:$1048576,8,FALSE)","v":5}]
[12013,3.0064308681672025,32.44214047018211,20.964921304392554,11.945089442,1,94.926059444271871,191.82309774100239,77.213443569925289,{"$f":"VLOOKUP(A94,Sheet1!$1:$1048576,8,FALSE)","v":5}]
[12014,0.11675126903553298,42.68742492686529,20.542026708562449,14.556131174200001,1,101.23343239099137,247.52914224547996,99.636475908073308,{"$f":"VLOOKUP(A95,Sheet1!$1:$1048576,8,FALSE)","v":5}]
[12015,0.58438444558712122,1.7618827283287906,20.097670924117207,14.700922226599999,1,142.3105277274658,241.0704023740835,97.036676653104351,{"$f":"VLOOKUP(A96,Sheet1!$1:$1048576,8,FALSE)","v":5}]
[12016,0,100,21.289371115558833,24.014048734199999,1,41.733875326684597,244.62762949904757,98.468546741291902,{"$f":"VLOOKUP(A97,Sheet1!$1:$1048576,8,FALSE)","v":5}]
[12017,1.0366139753409089,8.9072080561103917,16.719419102587974,14.973846931300001,1,140.11354507659067,255.88630225478565,103.00043525594401,{"$f":"VLOOKUP(A98,Sheet1!$1:$1048576,8,FALSE)","v":5}]
[12018,1.4696002947178031,5.1683358611059811,13.883231500339443,21.614046973800001,1,118.43832683264327,267.82350091677,107.80544688449461,{"$f":"VLOOKUP(A99,Sheet1!$1:$1048576,8,FALSE)","v":5}]
[12019,0.2217649748513946,7.4117156424732862,16.082659478885894,17.124999385300001,1,142.97557246634099,279.10355649080526,112.34594250148946,{"$f":"VLOOKUP(A100,Sheet1!$1:$1048576,8,FALSE)","v":5}]
[12020,0.60318196934280299,64.90278564392014,23.655913978494624,11.9749656366,1,79.893558739198298,217.1692059461781,87.41586610748621,{"$f":"VLOOKUP(A101,Sheet1!$1:$1048576,8,FALSE)","v":5}]
[12021,0.14082826634810605,3.0609900957653222,19.992602182356205,29.357749376099999,1,84.756730662748652,250.9827527322384,101.02663778937018,{"$f":"VLOOKUP(A102,Sheet1!$1:$1048576,8,FALSE)","v":5}]
[12022,0.42073128336174237,12.326008420187595,40.834097158570124,8.48633030353,1,90.753438966040633,134.22978762352821,54.030741105360441,{"$f":"VLOOKUP(A103,Sheet1!$1:$1048576,8,FALSE)","v":4}]
[12023,0.66133090221969693,0.5322002995033065,43.909287257019436,23.015580223699999,1,52.691051344333339,120.35789982344465,48.446970232750147,{"$f":"VLOOKUP(A104,Sheet1!$1:$1048576,8,FALSE)","v":5}]
[12024,0.30181086519114686,28.281192923493155,36.84844107379319,18.8283204098,1,60.483629001449366,152.12886234816497,61.235552269814917,{"$f":"VLOOKUP(A105,Sheet1!$1:$1048576,8,FALSE)","v":5}]
[12025,0.30798283859469694,78.79254725308337,30.340167220249686,7.5212545465599998,1,70.248828667533658,183.51540389307374,73.869395550278796,{"$f":"VLOOKUP(A106,Sheet1!$1:$1048576,8,FALSE)","v":5}]
[12026,1.7724835211553029,71.53529483676887,23.119858989424209,14.2023225339,1,63.721985600787718,199.92603225755244,80.475070998594958,{"$f":"VLOOKUP(A107,Sheet1!$1:$1048576,8,FALSE)","v":5}]
[12027,1.026705845339015,3.0158250283959944,36.470588235294116,11.733471746599999,1,94.344615907688123,144.71361334406606,58.250734918423809,{"$f":"VLOOKUP(A108,Sheet1!$1:$1048576,8,FALSE)","v":4}]
[12028,0.26109720009105397,36.885000517147027,31.295434719395171,13.2807888068,1,81.03675722186712,179.22280846137141,72.141521905042481,{"$f":"VLOOKUP(A109,Sheet1!$1:$1048576,8,FALSE)","v":5}]
[12029,0.53745233038068185,100,29.225255031706642,9.6061881968199998,1,54.284205729757559,185.90655106491607,74.831890210174848,{"$f":"VLOOKUP(A110,Sheet1!$1:$1048576,8,FALSE)","v":5}]
[12030,0.20173913043478259,61.935943151280753,29.128173278472168,12.5129682236,1,71.036860754560848,191.76098088741279,77.188440031634727,{"$f":"VLOOKUP(A111,Sheet1!$1:$1048576,8,FALSE)","v":5}]
[12031,0.44340741401136363,8.6119185196764523,32.810853530031615,11.5906415651,1,105.22708417446167,168.93602791349886,68.00084354720579,{"$f":"VLOOKUP(A112,Sheet1!$1:$1048576,8,FALSE)","v":4}]
[12032,0,29.42356278989228,37.413086111606347,16.726646069099999,1,65.326873561092057,153.5094012951995,61.791252638218204,{"$f":"VLOOKUP(A113,Sheet1!$1:$1048576,8,FALSE)","v":5}]
[12033,0.12647749070814396,34.729992098824269,25.570875939816794,11.650982210700001,1,104.79992031791355,213.87197238713625,86.088649727675232,{"$f":"VLOOKUP(A114,Sheet1!$1:$1048576,8,FALSE)","v":5}]
[12034,5.3078556263269645E-3,33.472321560383406,25.051976915080477,11.774259688800001,1,108.21002284381272,219.3244208220249,88.283392303012192,{"$f":"VLOOKUP(A115,Sheet1!$1:$1048576,8,FALSE)","v":5}]
[12035,0.63832028599242419,72.427466436185895,23.684692942254813,10.619483754599999,1,78.17866477242957,216.3491353101829,87.085767811079478,{"$f":"VLOOKUP(A116,Sheet1!$1:$1048576,8,FALSE)","v":5}]
[12036,1.468103946719697,22.721856742964558,22.850678733031675,9.4915695016000008,1,122.46070638443823,206.70541280041363,83.203935891038896,{"$f":"VLOOKUP(A117,Sheet1!$1:$1048576,8,FALSE)","v":5}]
[12037,0.78382846982196985,37.972150025938213,20.028776978417266,12.8169183244,1,108.20300461615591,237.5377964734038,95.614717204116602,{"$f":"VLOOKUP(A118,Sheet1!$1:$1048576,8,FALSE)","v":5}]
[12038,0.57024402656439399,2.6334714413554123,25.070501974055276,11.1434506545,1,139.80473446161889,209.0476036559869,84.14672444771719,{"$f":"VLOOKUP(A119,Sheet1!$1:$1048576,8,FALSE)","v":4}]
[12039,0.14213220181420455,15.404296690337265,41.486810551558747,10.241933874700001,1,83.028908031928324,134.84042875705239,54.276538953795281,{"$f":"VLOOKUP(A120,Sheet1!$1:$1048576,8,FALSE)","v":4}]
[12040,0.19629352373106063,24.964843601884802,63.857677902621724,5.6912477081899997,1,47.033533984429653,70.317763806387688,28.304603311946693,{"$f":"VLOOKUP(A121,Sheet1!$1:$1048576,8,FALSE)","v":4}]
[12041,0.37596471885336274,37.987542269736949,29.085204549100212,13.505858869900001,1,83.990305514845033,189.20981888896566,76.161535527825677,{"$f":"VLOOKUP(A122,Sheet1!$1:$1048576,8,FALSE)","v":5}]
[12042,7.2835738068812425E-2,59.580457657125855,28.337170511675986,19.1503207039,1,58.600805561951923,198.33104325844539,79.833049289387205,{"$f":"VLOOKUP(A123,Sheet1!$1:$1048576,8,FALSE)","v":5}]
[12043,7.4099627432040849E-2,39.751546770447348,29.166678331942446,13.0153646478,1,86.137637289953318,193.61247843712442,77.933712646132577,{"$f":"VLOOKUP(A124,Sheet1!$1:$1048576,8,FALSE)","v":5}]
[12044,0.43376855733522729,7.4781337069093281,20.007585814526834,15.8600398109,1,131.3694666366697,244.77617245153047,98.528338877975756,{"$f":"VLOOKUP(A125,Sheet1!$1:$1048576,8,FALSE)","v":5}]
[12045,0.27332801640651699,48.944999385513192,39.169111384498912,9.9645152608699998,1,65.383976053597294,142.60137176578451,57.400506516154444,{"$f":"VLOOKUP(A126,Sheet1!$1:$1048576,8,FALSE)","v":5}]
[12046,0.75153529594696966,19.51359448688229,28.463676061929338,11.718183703899999,1,104.78481171123683,186.65664328851469,75.133820500432549,{"$f":"VLOOKUP(A127,Sheet1!$1:$1048576,8,FALSE)","v":5}]
[12047,0.69562299433522723,14.814748240663144,41.916167664670652,13.5590536582,1,69.541487194604656,127.12748768237812,51.171893332694857,{"$f":"VLOOKUP(A128,Sheet1!$1:$1048576,8,FALSE)","v":5}]
[12048,0.37229445725757576,21.111265243526155,38.461538461538467,9.6462613175899996,1,86.277663713211354,144.34247926399053,58.101344460828969,{"$f":"VLOOKUP(A129,Sheet1!$1:$1048576,8,FALSE)","v":5}]
[12049,1.4200763291026893E-3,41.497697812483523,29.184719417034604,12.7443238205,1,{"$f":"EXP(6.1523-(0.084*B130)-(0.0091*C130)-(0.0289*D130)-(0.0373*E130))","v":86.12071663692403},194.69657526839404,78.370087881916703,{"$f":"VLOOKUP(A130,Sheet1!$1:$1048576,8,FALSE)","v":5}]
[12050,0.31204392453598484,100,34.801506809620399,8.60691218909,1,48.876022504158549,{"$f":"EXP(6.1523+(-0.084*B131)+(-0.0091*0)+(-0.0289*D131)+(-0.0373*F131))","v":161.26109564997151},{"$f":"EXP(6.1523+(-0.084*B131)+(-0.0091*100)+(-0.0289*D131)+(-0.0373*F131))","v":64.911497393318712},{"$f":"VLOOKUP(A131,Sheet1!$1:$1048576,8,FALSE)","v":5}]
[12051,0.17595396729254997,20.767589589111267,38.225255972696246,11.7648872317,1,81.858701634478848,147.7482732337219,59.47225903571352,{"$f":"VLOOKUP(A132,Sheet1!$1:$1048576,8,FALSE)","v":5}]
[12052,0.633311858253788,10.753627344360442,13.887506222000995,12.377651334599999,1,170.41019978152323,287.27871418730444,115.63664150962539,{"$f":"VLOOKUP(A133,Sheet1!$1:$1048576,8,FALSE)","v":5}]
[12053,0.21762315896394108,38.36215699791898,35.953451845505818,11.112573743700001,1,76.048421848489753,157.22295544089536,63.286048139121327,{"$f":"VLOOKUP(A134,Sheet1!$1:$1048576,8,FALSE)","v":5}]
[12054,0.18310887300757578,5.3191655579035668,42.662360961607462,7.9285721771000004,1,95.56785073285937,129.88853023252832,52.283279842717917,{"$f":"VLOOKUP(A135,Sheet1!$1:$1048576,8,FALSE)","v":4}]
[12055,0.80720201498863642,29.496246370843583,40.777738137709598,5.5414183388899998,1,84.007632057710225,130.1540044023443,52.390139626924075,{"$f":"VLOOKUP(A136,Sheet1!$1:$1048576,8,FALSE)","v":4}]
[12056,0.15506538086041666,14.025994987104438,40.649267982176958,5.7609820051399998,1,101.69615348319569,137.99406311456238,55.545953176437799,{"$f":"VLOOKUP(A137,Sheet1!$1:$1048576,8,FALSE)","v":4}]
[12057,7.5570032573289897E-2,40.318683453413982,27.572189178818114,11.697306448399999,1,94.245803491207667,202.71799985741271,81.598905590255768,{"$f":"VLOOKUP(A138,Sheet1!$1:$1048576,8,FALSE)","v":5}]
[12058,9.6831771530566713E-2,51.51376845985061,36.690647482014391,9.5186015003000009,1,70.809083466195759,155.47833839057301,62.583797514704472,{"$f":"VLOOKUP(A139,Sheet1!$1:$1048576,8,FALSE)","v":5}]
[12059,8.3155650319829424E-2,36.711894969157811,30.691008844534835,11.855495294500001,1,88.41631850337707,185.12749868196101,74.518302754244317,{"$f":"VLOOKUP(A140,Sheet1!$1:$1048576,8,FALSE)","v":5}]
[12060,3.9473684210526317E-3,42.88377772002746,28.620122310868286,12.930020591,1,85.825377770574519,197.85746273352169,79.642421656074859,{"$f":"VLOOKUP(A141,Sheet1!$1:$1048576,8,FALSE)","v":5}]
[12061,7.4646758187689399E-2,87.328123037326804,37.275565964090553,10.884703994500001,1,47.850445936158906,153.15734872240364,61.649542949534506,{"$f":"VLOOKUP(A142,Sheet1!$1:$1048576,8,FALSE)","v":5}]
[12062,0,38.767263411228377,28.285711037078308,11.407046975,1,95.256952342803203,199.84517685254175,80.442524739434106,{"$f":"VLOOKUP(A143,Sheet1!$1:$1048576,8,FALSE)","v":5}]
[12063,4.9348758191084859E-3,53.548209741146152,29.01986038131384,14.6018516649,1,72.332513424722833,195.56865718318008,78.721121977959712,{"$f":"VLOOKUP(A144,Sheet1!$1:$1048576,8,FALSE)","v":5}]
[12064,0.59166315147916659,1.6689210810751458,17.13810316139767,17.806214132499999,1,138.09614492547868,262.43649105229593,105.63704491893566,{"$f":"VLOOKUP(A145,Sheet1!$1:$1048576,8,FALSE)","v":5}]
[12065,0.32193285221211165,39.214425747238963,38.147662325494238,8.7020413565000005,1,76.811378160387051,146.27526147163783,58.879336119188224,{"$f":"VLOOKUP(A146,Sheet1!$1:$1048576,8,FALSE)","v":5}]
[12066,5.7787452998218879E-2,35.55545469805439,40.267256787811725,8.8181952104299999,1,76.039186076669424,140.67076116894668,56.623388983751191,{"$f":"VLOOKUP(A147,Sheet1!$1:$1048576,8,FALSE)","v":5}]
[12067,0.23980871557196967,23.244046490657155,42.145964233929433,6.4691314031199996,1,86.601598785996785,131.2150659077634,52.817242586044863,{"$f":"VLOOKUP(A148,Sheet1!$1:$1048576,8,FALSE)","v":4}]
[12068,6.8080907745436611E-2,40.704083371420737,33.829505300353361,10.718936508900001,1,81.343831987418369,169.28920093954488,68.143004245464581,{"$f":"VLOOKUP(A149,Sheet1!$1:$1048576,8,FALSE)","v":5}]
[12069,0.15250400829953789,43.690766419357594,24.928373900695082,12.038041446199999,1,96.781391304585938,217.40449650583886,87.510576257436099,{"$f":"VLOOKUP(A150,Sheet1!$1:$1048576,8,FALSE)","v":5}]
[12070,1.2238526672443182,17.813467098729177,18.471597874948916,5.8214720346800002,1,170.10633472217901,239.45540458561541,96.386600921485183,{"$f":"VLOOKUP(A151,Sheet1!$1:$1048576,8,FALSE)","v":4}]
[12071,0.9226112547594697,14.428901027495407,20.4654128147912,6.0136158864000002,1,168.63546145052948,231.84063655941003,93.321472330540729,{"$f":"VLOOKUP(A152,Sheet1!$1:$1048576,8,FALSE)","v":4}]
[12072,0.6336136680890152,20.598312284838592,28.05903824789716,6.1988503590499997,1,130.256878123794,190.73218027149727,76.774322862028001,{"$f":"VLOOKUP(A153,Sheet1!$1:$1048576,8,FALSE)","v":4}]
[12073,0.24766355140186913,15.194227892530522,20.799213887979036,5.9318179624100003,1,176.06877689197873,243.00912165712015,97.817058128127712,{"$f":"VLOOKUP(A154,Sheet1!$1:$1048576,8,FALSE)","v":4}]
[12074,0.19970161977834611,17.474196640844209,28.155530462958417,6.6036096783199998,1,136.52399723955608,197.26149484850748,79.402530145610541,{"$f":"VLOOKUP(A155,Sheet1!$1:$1048576,8,FALSE)","v":4}]
[12075,4.2952535643385671E-2,38.258654924275163,24.394832973900797,12.933845999100001,1,100.79563977314474,222.82379764922385,89.691976244981731,{"$f":"VLOOKUP(A156,Sheet1!$1:$1048576,8,FALSE)","v":5}]
[12076,0.73825817621590906,23.181847130171732,24.38932732055618,6.0813155647699997,1,140.84315201988741,210.21582764500073,84.616962902392473,{"$f":"VLOOKUP(A157,Sheet1!$1:$1048576,8,FALSE)","v":4}]
[12077,1.8907563025210083E-2,52.254401516329757,27.217672824223961,15.3159694211,1,74.987415556696391,205.78275400059621,82.832543373594589,{"$f":"VLOOKUP(A158,Sheet1!$1:$1048576,8,FALSE)","v":5}]
[12078,0.26956521739130435,41.938976511131862,50.834297042788698,8.7623385460800005,1,52.042746199222478,101.82394954491869,40.986606278608512,{"$f":"VLOOKUP(A159,Sheet1!$1:$1048576,8,FALSE)","v":5}]
[12079,0.52049821462500001,100,64.377682403433482,9.0047025003099996,1,20.129526660673232,67.407961124173667,27.133337245197502,{"$f":"VLOOKUP(A160,Sheet1!$1:$1048576,8,FALSE)","v":5}]
[12080,0.51517602522348482,3.3756471968245472,41.311018131101811,8.7363218296399996,1,95.445327453539193,131.34622686268006,52.870038047646197,{"$f":"VLOOKUP(A161,Sheet1!$1:$1048576,8,FALSE)","v":4}]
[12081,9.7564054019941948E-2,29.795151258846985,24.547063595466948,12.914257514999999,1,107.9703659141108,220.83028858405814,88.889540555421888,{"$f":"VLOOKUP(A162,Sheet1!$1:$1048576,8,FALSE)","v":5}]
[12082,0.51332465381818182,100,23.048403707518023,16.150344152500001,1,50.941301813419081,222.69026547657583,89.638226310803077,{"$f":"VLOOKUP(A163,Sheet1!$1:$1048576,8,FALSE)","v":5}]
[12083,1.3108766436041666,5.353177375733555,18.150606546120393,5.62827516682,1,192.28627071589119,239.92678942746713,96.576344739172768,{"$f":"VLOOKUP(A164,Sheet1!$1:$1048576,8,FALSE)","v":3}]
[12084,0.9124039386742423,7.9477290980743467,18.151166057881426,7.6337778737599997,1,180.19239129143571,248.08945085866492,99.862013697814945,{"$f":"VLOOKUP(A165,Sheet1!$1:$1048576,8,FALSE)","v":4}]
[12085,0.74046403618181822,10.967079503671565,18.185053380782918,12.915172439399999,1,145.91388556312182,251.45221670197807,101.2156084095014,{"$f":"VLOOKUP(A166,Sheet1!$1:$1048576,8,FALSE)","v":5}]
[12086,5.2756787013713967E-2,31.455386679461807,24.693932357076285,13.213207986600001,1,105.12152985946942,220.72416168444357,88.846821907505444,{"$f":"VLOOKUP(A167,Sheet1!$1:$1048576,8,FALSE)","v":5}]
[12087,0.72775292121401514,11.386289360141356,25.356494684988334,9.1478500306200008,1,136.11988692104441,204.60188329117432,82.357214307600486,{"$f":"VLOOKUP(A168,Sheet1!$1:$1048576,8,FALSE)","v":4}]
[12088,0.20477815699658702,30.144788687813449,24.381961423526217,13.2751991366,1,105.73938607648344,219.89715277778774,88.513930789084895,{"$f":"VLOOKUP(A169,Sheet1!$1:$1048576,8,FALSE)","v":5}]
[12089,6.1001712328767124E-2,99.487170335814497,28.6402477490394,11.923337527999999,1,52.952694393263748,196.7969912656811,79.215556201372522,{"$f":"VLOOKUP(A170,Sheet1!$1:$1048576,8,FALSE)","v":5}]
[12090,8.805031446540882E-3,45.484095550225327,24.976372942574553,16.523332680300001,1,81.411587937885741,219.73959788613351,88.450511128579066,{"$f":"VLOOKUP(A171,Sheet1!$1:$1048576,8,FALSE)","v":5}]
[12091,0.43937863886742423,3.7013695493087253,34.156034302447189,10.362089576000001,1,110.84074029353556,162.54953774820046,65.430126549120601,{"$f":"VLOOKUP(A172,Sheet1!$1:$1048576,8,FALSE)","v":4}]
[12092,4.1671476393858944E-2,48.08786205260634,24.490496796287029,16.853425318399999,1,79.423312185820123,222.23252387529573,89.453974227939881,{"$f":"VLOOKUP(A173,Sheet1!$1:$1048576,8,FALSE)","v":5}]
[12093,0.32439862542955328,8.1058627731641515,28.122200322522843,9.9724202548500003,1,129.8765390255202,195.3941745356461,78.650888485653766,{"$f":"VLOOKUP(A174,Sheet1!$1:$1048576,8,FALSE)","v":4}]
[13001,1.0178722647670453,22.11068168789695,23.024136299100807,13.735202971303115,1,108.62166884174377,213.59916346490257,85.978837527943668,{"$f":"VLOOKUP(A175,Sheet1!$1:$1048576,8,FALSE)","v":5}]
[13002,0.86874298345075762,11.448536596122389,38.7920298879203,6.1028307920158902,1,102.14758242399618,137.13089746633145,55.198508093671151,{"$f":"VLOOKUP(A176,Sheet1!$1:$1048576,8,FALSE)","v":4}]
[13003,4.4091710758377423E-2,70.147392268473538,30.336039461514748,22.475000000000001,1,44.488289009674361,187.65116911521292,75.534141237105672,{"$f":"VLOOKUP(A177,Sheet1!$1:$1048576,8,FALSE)","v":5}]
[13003,4.4091710758377423E-2,70.147392268473538,30.336039461514748,22.475000000000001,1,44.488289009674361,187.65116911521292,75.534141237105672,{"$f":"VLOOKUP(A178,Sheet1!$1:$1048576,8,FALSE)","v":5}]
[13005,0.27722435270643941,100,29.982311320754718,7.6167630336210683,1,58.46446279427235,185.90287449640937,74.830410302289593,{"$f":"VLOOKUP(A179,Sheet1!$1:$1048576,8,FALSE)","v":5}]
[13006,0.278664114018294,15.405200983913485,39.517228362309417,7.8453220803599999,1,95.014211219848193,141.11064722818864,56.80045377841077,{"$f":"VLOOKUP(A180,Sheet1!$1:$1048576,8,FALSE)","v":4}]
[13007,0.40188894032765149,32.278967345629347,27.235503896446968,12.751002545358563,1,95.782909237512243,199.16532653197316,80.168868516688221,{"$f":"VLOOKUP(A181,Sheet1!$1:$1048576,8,FALSE)","v":5}]
[13009,6.9711538461538464E-2,13.28269182380553,37.150946050502917,9.9994145526900002,1,97.410229567865514,153.77367674341082,61.897629907940605,{"$f":"VLOOKUP(A182,Sheet1!$1:$1048576,8,FALSE)","v":4}]
[13010,0.28261443195833336,25.363969333118437,37.38446411012783,6.12248619764528,1,98.392887390542853,150.03211556302304,60.391560897130645,{"$f":"VLOOKUP(A183,Sheet1!$1:$1048576,8,FALSE)","v":4}]
[13012,0.62689969604863227,7.0817776477937056,26.660526046464028,10.294695537699999,1,131.7248006399779,198.7109433524061,79.985968279919049,{"$f":"VLOOKUP(A184,Sheet1!$1:$1048576,8,FALSE)","v":4}]
[13013,0.14342261512072832,28.664253199332229,26.035408155090924,16.316222876800001,1,91.68780544145848,210.71978225318222,84.819816839998893,{"$f":"VLOOKUP(A185,Sheet1!$1:$1048576,8,FALSE)","v":5}]
[13014,0.35192263153219699,23.931758106484253,34.49856733524355,8.9488634289769795,1,96.946404831442734,162.13509426960985,65.263303009495118,{"$f":"VLOOKUP(A186,Sheet1!$1:$1048576,8,FALSE)","v":5}]
[13014,0.35192263153219699,23.931758106484253,34.49856733524355,8.9488634289769795,1,96.946404831442734,162.13509426960985,65.263303009495118,{"$f":"VLOOKUP(A187,Sheet1!$1:$1048576,8,FALSE)","v":5}]
[13015,0.49678854528598487,5.3867394804291813,33.10366426558096,9.7356270124829098,1,114.63069901085645,166.76303704544847,67.126162084211629,{"$f":"VLOOKUP(A188,Sheet1!$1:$1048576,8,FALSE)","v":4}]
[13016,1.2342445649696969,5.8725299032663694,11.713764813126708,26.238850128057901,1,107.54899611504172,290.84650490168349,117.07276369844524,{"$f":"VLOOKUP(A189,Sheet1!$1:$1048576,8,FALSE)","v":5}]
[13019,4.7890805957196969E-3,7.7863961248771085,36.247334754797436,18.868061366384048,1,75.922634075831439,158.70541418791575,63.882773695927575,{"$f":"VLOOKUP(A190,Sheet1!$1:$1048576,8,FALSE)","v":5}]
[13020,0.3690466225852273,12.793867593112163,27.756833176248826,14.338379205852823,1,106.47198143654064,196.72909005130859,79.188224317746275,{"$f":"VLOOKUP(A191,Sheet1!$1:$1048576,8,FALSE)","v":5}]
[13021,0.3056971943882576,3.2009124127230453,13.026017111925963,13.2233229363441,1,186.3844158227748,302.73854376425305,121.8595974137789,{"$f":"VLOOKUP(A192,Sheet1!$1:$1048576,8,FALSE)","v":4}]
[13022,0.28370786516853935,22.866630253738936,24.559178924128055,15.738174900100001,1,101.85884775390568,217.32811634405667,87.479831392083156,{"$f":"VLOOKUP(A193,Sheet1!$1:$1048576,8,FALSE)","v":5}]
[13023,0.48250177852840914,69.595748208706581,28.26603325415677,10.77232031372148,1,{"$f":"EXP(6.1523-(0.084*B194)-(0.0091*C194)-(0.0289*D194)-(0.0373*E194))","v":70.792469578513334},192.01653527787323,77.291306864353189,{"$f":"VLOOKUP(A194,Sheet1!$1:$1048576,8,FALSE)","v":5}]
[13024,0.70887238674999997,19.81073398795445,40.006596306068602,10.302981164681443,1,79.200705731711679,{"$f":"EXP(6.1523+(-0.084*B195)+(-0.0091*0)+(-0.0289*D195)+(-0.0373*F195))","v":134.19099034662051},{"$f":"EXP(6.1523+(-0.084*B195)+(-0.0091*100)+(-0.0289*D195)+(-0.0373*F195))","v":54.015124261578549},{"$f":"VLOOKUP(A195,Sheet1!$1:$1048576,8,FALSE)","v":5}]
[13025,0.21060021060021061,22.651665324945615,29.621743486973951,13.3083847499,1,97.12592086785304,188.90442428410768,76.03860680148118,{"$f":"VLOOKUP(A196,Sheet1!$1:$1048576,8,FALSE)","v":5}]
[13029,0.34687960593371209,5.638135303488685,27.715902866532772,11.768811127878401,1,125.44768686316856,197.32902639146243,79.429713227536283,{"$f":"VLOOKUP(A197,Sheet1!$1:$1048576,8,FALSE)","v":4}]
[13030,0.39765266168371216,20.386200275638611,24.226877583012683,9.8793053795645704,1,129.63566009233659,217.33510265358368,87.48264355090437,{"$f":"VLOOKUP(A198,Sheet1!$1:$1048576,8,FALSE)","v":5}]
[13031,0.80831473212121219,15.073742869707392,24.96615741636047,11.023695654139299,1,123.2882001363088,205.52745236581427,82.729778281159454,{"$f":"VLOOKUP(A199,Sheet1!$1:$1048576,8,FALSE)","v":5}]
[13032,0.2798494576022727,0.88203125854609221,32.387706855791961,24.052008674830901,1,72.793124670614191,173.38038143443043,69.789803499549919,{"$f":"VLOOKUP(A200,Sheet1!$1:$1048576,8,FALSE)","v":5}]
[13033,0.24297212177767408,27.499214490277637,24.792153453241319,15.962515805900001,1,96.520209911304107,216.60969792004505,87.19065057342641,{"$f":"VLOOKUP(A201,Sheet1!$1:$1048576,8,FALSE)","v":5}]
[13034,0.42761825203219694,11.041949575383473,12.976140644621182,20.141048254104799,1,132.90395987648347,300.08615063058016,120.79194492581507,{"$f":"VLOOKUP(A202,Sheet1!$1:$1048576,8,FALSE)","v":5}]
[13035,0.19879047990635973,100,30.723209108639505,11.8538521683,1,49.183203383748825,183.16746733985116,73.729342659179935,{"$f":"VLOOKUP(A203,Sheet1!$1:$1048576,8,FALSE)","v":5}]
[13036,0.87307360706439396,2.6899091695442285,16.05769230769231,14.390197121045199,1,156.59486355721842,264.43474479614343,106.44139045660017,{"$f":"VLOOKUP(A204,Sheet1!$1:$1048576,8,FALSE)","v":5}]
[13037,0.68330811646401513,2.1317515797638054,34.479756203744017,18.553019543517799,1,80.399712119860169,157.76982450613039,63.506176185253054,{"$f":"VLOOKUP(A205,Sheet1!$1:$1048576,8,FALSE)","v":5}]
[13038,0.18967112635606059,9.3621885218078891,49.854227405247812,3.6210910726528129,1,87.822509552289162,105.45459207309862,42.448027845007658,{"$f":"VLOOKUP(A206,Sheet1!$1:$1048576,8,FALSE)","v":3}]
[13039,3.7639342806394311,29.882627469016008,28.287720997820298,5.5689105728300001,1,93.593609750325001,145.66571650966787,58.633979506357647,{"$f":"VLOOKUP(A207,Sheet1!$1:$1048576,8,FALSE)","v":4}]
[13040,8.6184245312689398E-3,12.332010591516935,33.906882591093115,13.772993599122934,1,94.227605232275394,169.75685447668923,68.331246122620186,{"$f":"VLOOKUP(A208,Sheet1!$1:$1048576,8,FALSE)","v":5}]
[13041,0.95441814595660757,29.381266061757902,30.357362908194702,6.3379658953,1,108.96485931411065,173.72977724128009,69.930443775582688,{"$f":"VLOOKUP(A209,Sheet1!$1:$1048576,8,FALSE)","v":4}]
[13042,0.27310000000000001,5.6471691660562486,17.179951690821259,9.9277993621884999,1,183.30709122026607,269.2281055068342,108.3708342571843,{"$f":"VLOOKUP(A210,Sheet1!$1:$1048576,8,FALSE)","v":4}]
[13043,0.2311,8.5947391931443704,30.490956072351423,8.9390455745031971,1,126.47699613835793,183.90125749388281,74.024710971535058,{"$f":"VLOOKUP(A211,Sheet1!$1:$1048576,8,FALSE)","v":4}]
[13044,0.49058387711742424,73.379070792673119,28.714596949891067,13.5581569285164,1,60.810976354424696,189.41475894846118,76.244028866247533,{"$f":"VLOOKUP(A212,Sheet1!$1:$1048576,8,FALSE)","v":5}]
[13045,0.26067235859124865,88.93190250082688,32.770397292893847,11.0031741082,1,52.648636095214961,171.74984697274945,69.133473880601684,{"$f":"VLOOKUP(A213,Sheet1!$1:$1048576,8,FALSE)","v":5}]
[13046,8.7591240875912399E-2,32.709630017942217,27.468771206675548,20.490121583099999,1,72.904887428376682,203.11957558060988,81.76054954662645,{"$f":"VLOOKUP(A214,Sheet1!$1:$1048576,8,FALSE)","v":5}]
[13047,0.46512223935416669,3.2087883152332748,53.261557948068393,19.281733191799599,1,45.858569559141422,93.37939468033214,37.587468384431325,{"$f":"VLOOKUP(A215,Sheet1!$1:$1048576,8,FALSE)","v":5}]
[13048,0.25012743552651512,59.215094922168788,21.569865319865318,5.5292759339466002,1,117.07571140536865,237.60750832215399,95.642777911940726,{"$f":"VLOOKUP(A216,Sheet1!$1:$1048576,8,FALSE)","v":5}]
[13049,0.14706604468450774,100,35.520684736091297,12.0914330648,1,42.622752632795475,160.14804415096816,64.463467202372925,{"$f":"VLOOKUP(A217,Sheet1!$1:$1048576,8,FALSE)","v":5}]
[13050,8.2172131147540975E-2,14.721230670287468,28.193832599118945,16.858260103399999,1,96.333822560356182,198.99819988291262,80.101595991959783,{"$f":"VLOOKUP(A218,Sheet1!$1:$1048576,8,FALSE)","v":5}]
[13051,0,38.244844535522276,27.333333333333332,21.288845267700001,1,68.051491931674477,205.42205481195407,82.687353212576838,{"$f":"VLOOKUP(A219,Sheet1!$1:$1048576,8,FALSE)","v":5}]
[13052,3.8121438396541564E-2,48.609506089875225,26.794943150194801,22.005214767399998,1,61.043268102915732,207.97626074080711,83.715482972110522,{"$f":"VLOOKUP(A220,Sheet1!$1:$1048576,8,FALSE)","v":5}]
[13053,0.23724873118371212,1.1271314605153808,25.8931394245969,17.686450303441699,1,111.50817254709791,209.92690048903634,84.500662723135662,{"$f":"VLOOKUP(A221,Sheet1!$1:$1048576,8,FALSE)","v":5}]
[13054,0.15891484662708333,100,41.733149931224212,10.7967256596698,1,37.342991600927853,133.69527188512308,53.815585572525144,{"$f":"VLOOKUP(A222,Sheet1!$1:$1048576,8,FALSE)","v":5}]
[13055,0.29571727873484849,100,33.43520782396088,13.569759504722599,1,42.310285517968566,167.986268757034,67.61854247973092,{"$f":"VLOOKUP(A223,Sheet1!$1:$1048576,8,FALSE)","v":5}]
[13056,0.26440308113825761,100,22.80380673499268,25.4951259928004,1,36.969451149787012,229.00873033086069,92.181561473357888,{"$f":"VLOOKUP(A224,Sheet1!$1:$1048576,8,FALSE)","v":5}]
[13057,9.1140159767610751E-2,13.852370018058856,35.527426160337555,20.608670136400001,1,68.247557596557883,160.87080839687391,64.754397319615393,{"$f":"VLOOKUP(A225,Sheet1!$1:$1048576,8,FALSE)","v":5}]
[13058,0.38036078022348485,1.0088871209966692,48.98607378451014,15.948762222691199,1,60.375443541054224,106.41559780647027,42.834855932124952,{"$f":"VLOOKUP(A226,Sheet1!$1:$1048576,8,FALSE)","v":5}]
[13059,0.52412332999242428,3.737396271325292,24.925224327018945,27.446462981201599,1,75.957295569658498,210.74200436998063,84.828761780319567,{"$f":"VLOOKUP(A227,Sheet1!$1:$1048576,8,FALSE)","v":5}]
[13060,0.9609315258950295,31.152770759322504,24.889129259058951,5.4444087935500001,1,129.76423854488857,203.36164901161715,81.857989966601821,{"$f":"VLOOKUP(A228,Sheet1!$1:$1048576,8,FALSE)","v":4}]
[13061,0.79713982088446977,11.001145932654962,37.246680642907059,6.1573562417769496,1,107.67650075446775,144.2591282957388,58.067793677010989,{"$f":"VLOOKUP(A229,Sheet1!$1:$1048576,8,FALSE)","v":4}]
[13062,0.76420854127083326,4.5331289277653166,14.285714285714285,12.3773303588444,1,176.32404096287576,280.88612544612971,113.06346968701787,{"$f":"VLOOKUP(A230,Sheet1!$1:$1048576,8,FALSE)","v":4}]
[13063,0.48414218713257573,43.122258351532153,28.980044345898005,5.7600725190245701,1,106.36169670558914,188.06897327797358,75.702317533518922,{"$f":"VLOOKUP(A231,Sheet1!$1:$1048576,8,FALSE)","v":5}]
[13064,0.78002359308712121,2.5016110720206632,19.027484143763214,11.852532788900399,1,159.4961194791407,244.59009467664831,98.453438066031396,{"$f":"VLOOKUP(A232,Sheet1!$1:$1048576,8,FALSE)","v":4}]
[13065,6.8284228769497399E-2,26.451663117895645,28.69902645113887,20.551704432400001,1,74.431076583570288,196.34282929570327,79.0327450068216,{"$f":"VLOOKUP(A233,Sheet1!$1:$1048576,8,FALSE)","v":5}]
[13066,5.5288496560984843E-3,4.4812221766344589,23.368490441661173,3.2475699778500222,1,203.27763828061723,230.25472655822159,92.683105137925168,{"$f":"VLOOKUP(A234,Sheet1!$1:$1048576,8,FALSE)","v":3}]
[13067,0.85344010800189396,16.506505613293438,12.668573763792399,16.90762896305311,1,138.88211610837024,292.12717817836131,117.58826571538057,{"$f":"VLOOKUP(A235,Sheet1!$1:$1048576,8,FALSE)","v":5}]
[13068,0.32646065760606058,35.039087158754477,10.770328102710414,12.391545692323501,1,153.32417566758434,322.56827607641293,129.84154502552576,{"$f":"VLOOKUP(A236,Sheet1!$1:$1048576,8,FALSE)","v":5}]
[13069,0.73242306864015161,1.1823841264807102,7.1294559099437143,29.749099146683601,1,117.25301165044316,346.34493015480638,139.41222425854727,{"$f":"VLOOKUP(A237,Sheet1!$1:$1048576,8,FALSE)","v":5}]
[13070,0.3182889847310606,4.6285371520638181,21.544451654769631,13.3582040337797,1,142.95764161759871,236.42453650299524,95.166603098380193,{"$f":"VLOOKUP(A238,Sheet1!$1:$1048576,8,FALSE)","v":5}]
[13071,9.3350213219616202E-2,20.881811121283118,25.11206836170064,21.288754579700001,1,84.320480171461341,217.33062389421082,87.480840741763188,{"$f":"VLOOKUP(A239,Sheet1!$1:$1048576,8,FALSE)","v":5}]
[14002,1.1281677059838131,3.8407989864228673,10.942924593806417,1.3008637868399999,1,286.52044701868823,300.0602812396146,120.78153186929043,{"$f":"VLOOKUP(A240,Sheet1!$1:$1048576,8,FALSE)","v":2}]
[14003,1.2584380659943182,20.263345678185718,9.2832915499188911,1.99446372662,1,249.51377747044327,311.37690035279383,125.33674519650711,{"$f":"VLOOKUP(A241,Sheet1!$1:$1048576,8,FALSE)","v":3}]
[14004,1.6509398661875001,1.0058072761920283,25.677852348993291,2.2531009898600001,1,177.38767739797686,187.58482035650746,75.507434254492154,{"$f":"VLOOKUP(A242,Sheet1!$1:$1048576,8,FALSE)","v":2}]
[14005,2.0269823139772729,1.5116634454855995,7.7498408656906426,3.1620766818699999,1,277.65004423857863,305.13768000571878,122.82530786772585,{"$f":"VLOOKUP(A243,Sheet1!$1:$1048576,8,FALSE)","v":3}]
[14006,1.9153938577083331,5.8003436739730692,12.377727614747931,3.9762822822400001,1,228.74140537658874,269.45208649598004,108.46099203103851,{"$f":"VLOOKUP(A244,Sheet1!$1:$1048576,8,FALSE)","v":3}]
[14007,2.3099390639204542,3.0104989218989413,12.339228295819936,1.71636063181,1,247.21184203925688,260.95850783727792,105.04212087217579,{"$f":"VLOOKUP(A245,Sheet1!$1:$1048576,8,FALSE)","v":2}]
[14008,1.087228870605834,38.318073596417072,13.872439568973885,2.30080108682,1,185.9624777917314,276.65168811837304,111.35900608744356,{"$f":"VLOOKUP(A246,Sheet1!$1:$1048576,8,FALSE)","v":4}]
[14009,3.2319815333522723,1.8079465330918154,12.734082397003746,3.5461283377499999,1,213.59371221899994,238.76948054189702,96.110499878041423,{"$f":"VLOOKUP(A247,Sheet1!$1:$1048576,8,FALSE)","v":3}]
[14010,0.64366039860037882,100,29.292429490351314,5.5723116065999996,1,62.416776369735658,183.8980106975456,74.023404057358817,{"$f":"VLOOKUP(A248,Sheet1!$1:$1048576,8,FALSE)","v":5}]
[14011,3.4788104025378788,3.466112484615409,4.7417930504895374,1.42507794297,1,280.99730432686152,294.63641569404496,118.59829459929725,{"$f":"VLOOKUP(A249,Sheet1!$1:$1048576,8,FALSE)","v":2}]
[14012,1.6679794657727274,2.1662697099530157,41.373192584050386,5.12991270798,1,100.02755127863946,119.00963535411924,47.904261123442836,{"$f":"VLOOKUP(A250,Sheet1!$1:$1048576,8,FALSE)","v":3}]
[14013,3.2457786119696972,3.1149432795252365,5.1455301455301461,0.52873272377900005,1,293.79465206847573,296.97524209801531,119.53972888270478,{"$f":"VLOOKUP(A251,Sheet1!$1:$1048576,8,FALSE)","v":1}]
[14014,2.2694639756628785,3.1170270163383957,12.097130242825607,0.65146296205599996,1,259.6652879677327,263.685725953938,106.13989222835487,{"$f":"VLOOKUP(A252,Sheet1!$1:$1048576,8,FALSE)","v":1}]
[14015,1.5714006901515154,3.4744356688506444,19.257540603248259,3.2858941079399999,1,202.26489582457955,227.34289276868543,91.511021501277199,{"$f":"VLOOKUP(A253,Sheet1!$1:$1048576,8,FALSE)","v":3}]
[14016,3.4676982734469703,3.1354572444448161,10.819949281487743,3.2051009264800001,1,221.45820596940587,247.40256081034471,99.585523814118432,{"$f":"VLOOKUP(A254,Sheet1!$1:$1048576,8,FALSE)","v":3}]
[14017,0.34300910746780305,23.409155369789222,56.958525345622121,7.4077593477599999,1,53.949753084554693,84.782220125602933,34.126897367907233,{"$f":"VLOOKUP(A255,Sheet1!$1:$1048576,8,FALSE)","v":4}]
[14018,0.15271311857026518,8.8964880435993656,63.521192361434565,7.7386062143299998,1,51.116205796339734,71.265307543890657,28.686012619622993,{"$f":"VLOOKUP(A256,Sheet1!$1:$1048576,8,FALSE)","v":4}]
[14019,1.0774007078371213,0.68143492832523467,9.8337292161520189,22.6157216967,1,138.08039514756749,311.15885395512174,125.24897623948083,{"$f":"VLOOKUP(A257,Sheet1!$1:$1048576,8,FALSE)","v":5}]
[14020,0.54397110114598901,6.2645107393553934,15.177700966055127,4.4636508453800001,1,{"$f":"EXP(6.1523-(0.084*B258)-(0.0091*C258)-(0.0289*D258)-(0.0373*E258))","v":231.47448357749593},278.84912629437798,112.24352818410185,{"$f":"VLOOKUP(A258,Sheet1!$1:$1048576,8,FALSE)","v":3}]
[14021,1.1412666596382575,3.6585748585976785,21.207012811867834,4.1656652442600004,1,191.49823378115698,{"$f":"EXP(6.1523+(-0.084*B259)+(-0.0091*0)+(-0.0289*D259)+(-0.0373*F259))","v":222.79474694463676},{"$f":"EXP(6.1523+(-0.084*B259)+(-0.0091*100)+(-0.0289*D259)+(-0.0373*F259))","v":89.680282632660195},{"$f":"VLOOKUP(A259,Sheet1!$1:$1048576,8,FALSE)","v":3}]
[14022,2.4980754710984843,61.822637685464166,44.868677042801558,4.3763635474200004,1,50.397044406735652,100.32921150493711,40.384938008931343,{"$f":"VLOOKUP(A260,Sheet1!$1:$1048576,8,FALSE)","v":5}]
[14023,1.2006834971117426,2.2053552841070436,12.485089463220676,1.6758312586399999,1,272.61110662097514,285.23788055927577,114.8151565371214,{"$f":"VLOOKUP(A261,Sheet1!$1:$1048576,8,FALSE)","v":2}]
[14024,1.6168292085757576,2.4478756178068566,8.3943387018057596,30.736917213400002,1,99.995709274803801,310.00547480900377,124.78471319367311,{"$f":"VLOOKUP(A262,Sheet1!$1:$1048576,8,FALSE)","v":5}]
[14025,1.0429791880606061,0.34925180515211707,1.950947603121516,34.362935124000003,1,112.54933860950723,391.9002575830657,157.74934708220556,{"$f":"VLOOKUP(A263,Sheet1!$1:$1048576,8,FALSE)","v":5}]
[14026,4.6100934797159088,2.4773797070452752,12.837162837162838,1.80897585847,1,201.14764423732638,212.03643894326024,85.349803052491239,{"$f":"VLOOKUP(A264,Sheet1!$1:$1048576,8,FALSE)","v":2}]
[14027,4.0936239384659086,6.1909685691497067,12.537165510406343,4.3975034218499998,1,186.00002614986303,223.36596074135596,89.910210022941882,{"$f":"VLOOKUP(A265,Sheet1!$1:$1048576,8,FALSE)","v":3}]
[14028,0.78293697014962127,6.4133085416770221,46.265141318977122,3.81396835423,1,94.523509661591589,111.29348381032055,44.798323210749302,{"$f":"VLOOKUP(A266,Sheet1!$1:$1048576,8,FALSE)","v":3}]
[14029,1.7199371352670454,5.8066976562030641,10.129349608307523,1.92919378947,1,267.81252441022787,292.30187214080934,117.65858426705834,{"$f":"VLOOKUP(A267,Sheet1!$1:$1048576,8,FALSE)","v":2}]
[14030,2.6841591648295453,2.2982653983765609,18.305335968379445,4.7864253644100003,1,180.97493471712232,212.83270204158703,85.670318238271861,{"$f":"VLOOKUP(A268,Sheet1!$1:$1048576,8,FALSE)","v":3}]
[14031,2.7917630590151519,2.9387118659194087,5.7677518584978209,2.1126918243800001,1,283.03149785840793,303.02153461851066,121.97350808779754,{"$f":"VLOOKUP(A269,Sheet1!$1:$1048576,8,FALSE)","v":2}]
[14032,1.022428899121212,100,22.151088348271447,3.11177479927,1,81.465557144387105,218.97323751227108,88.142032513759972,{"$f":"VLOOKUP(A270,Sheet1!$1:$1048576,8,FALSE)","v":5}]
[14033,3.8665696282196973,1.9658335511879006,18.215811965811966,1.2248681505300001,1,188.19798456489468,193.20874513300299,77.771200211174559,{"$f":"VLOOKUP(A271,Sheet1!$1:$1048576,8,FALSE)","v":1}]
[14034,1.5673589891363637,7.2522613464886385,35.467844327905048,3.2868139922399999,1,122.36732767333901,142.35460226584479,57.301175814676043,{"$f":"VLOOKUP(A272,Sheet1!$1:$1048576,8,FALSE)","v":3}]
[14035,0.68022108172127904,5.0085859911220219,16.83251016850668,5.4187540670000001,1,212.93867768094611,262.80225973627921,105.78427567463183,{"$f":"VLOOKUP(A273,Sheet1!$1:$1048576,8,FALSE)","v":3}]
[14036,0.46085740913327122,30.763543532759122,18.189233278955953,2.6385885896799999,1,183.01196538616762,257.39687021751234,103.60847545299065,{"$f":"VLOOKUP(A274,Sheet1!$1:$1048576,8,FALSE)","v":4}]
[14037,1.490401500217803,3.5670673319788944,18.451429586219145,1.8872809079299999,1,219.42359126859247,234.29006903623491,94.307428237597449,{"$f":"VLOOKUP(A275,Sheet1!$1:$1048576,8,FALSE)","v":2}]
[14038,2.9222188813636363,2.8342048573361032,8.2411701748127015,2.3933866343600001,1,258.1650761225244,279.04241515543754,112.32133163291418,{"$f":"VLOOKUP(A276,Sheet1!$1:$1048576,8,FALSE)","v":2}]
[14039,0.11064425770308124,4.8846176751638923,35.09281599290955,4.32783832405,1,137.40669567043554,162.63745158741972,65.465513999034158,{"$f":"VLOOKUP(A277,Sheet1!$1:$1048576,8,FALSE)","v":3}]
[14040,2.1445302989015156,2.2581201039485337,9.2183622828784113,1.5913854865399999,1,277.50562779500683,289.58497721750138,116.56496824627288,{"$f":"VLOOKUP(A278,Sheet1!$1:$1048576,8,FALSE)","v":2}]
[14041,0.84501079634659082,29.600123693979388,58.716875871687591,7.2883218919899999,1,46.67393389920705,77.254207507807493,31.096689930413699,{"$f":"VLOOKUP(A279,Sheet1!$1:$1048576,8,FALSE)","v":5}]
[14042,0.7510894642399385,3.4988156227761,12.935271899415326,3.2122200575500002,1,260.7922456822119,292.38725141427466,117.69295149285853,{"$f":"VLOOKUP(A280,Sheet1!$1:$1048576,8,FALSE)","v":3}]
[14043,1.8990292223863638,2.3471175098703507,9.4609460946094615,1.4579347231499999,1,282.48359233565867,293.55358740110682,118.16242998092063,{"$f":"VLOOKUP(A281,Sheet1!$1:$1048576,8,FALSE)","v":2}]
[14044,3.0905131200946969,2.6474787790753469,16.89381033503691,1.7163711377399999,1,203.6398676071739,214.25476106317754,86.242731442467601,{"$f":"VLOOKUP(A282,Sheet1!$1:$1048576,8,FALSE)","v":2}]
[14045,2.0941125913192953,2.096063395409081,10.824929590260743,2.33294435582,1,259.16400255459507,277.62022349076432,111.7488650366645,{"$f":"VLOOKUP(A283,Sheet1!$1:$1048576,8,FALSE)","v":2}]
[14046,1.5297258864128787,2.2295838552601306,39.280245022970902,8.8651583318899991,1,93.470354842760401,127.90706485299611,51.485692028372206,{"$f":"VLOOKUP(A284,Sheet1!$1:$1048576,8,FALSE)","v":4}]
[14047,2.745941288693182,2.6369743060027684,7.668553782810088,2.1930470156099999,1,268.86855244722148,287.93067156553644,115.89907014740123,{"$f":"VLOOKUP(A285,Sheet1!$1:$1048576,8,FALSE)","v":2}]
[14048,1.5689280119022125E-2,20.529683627296968,26.916625899783352,7.7419101575599996,1,133.9542390608641,207.6370517420734,83.578943133110002,{"$f":"VLOOKUP(A286,Sheet1!$1:$1048576,8,FALSE)","v":4}]
[14049,3.5672209977960327,2.2830354884089235,16.603332358959371,3.7158757482100002,1,183.72486555808968,207.58006714675719,83.556005453098479,{"$f":"VLOOKUP(A287,Sheet1!$1:$1048576,8,FALSE)","v":3}]
[14050,2.9708033011363635,1.7437697352652479,9.0318505819723907,2.5093833116800002,1,252.71534551543516,271.62760823969114,109.33669223279412,{"$f":"VLOOKUP(A288,Sheet1!$1:$1048576,8,FALSE)","v":2}]
[14051,0.5369410825530303,11.202694805692788,23.121387283236995,3.1630286695900001,1,184.76104923840595,221.78065581661144,89.272086388252404,{"$f":"VLOOKUP(A289,Sheet1!$1:$1048576,8,FALSE)","v":3}]
[14052,0.2603114675435606,4.7658603851800967,29.57978843852101,4.2203930893799999,1,159.93827493010292,188.34548280244553,75.813619315294915,{"$f":"VLOOKUP(A290,Sheet1!$1:$1048576,8,FALSE)","v":3}]
[14053,0.89848812095032393,5.0518269479132067,11.543287327478042,2.5576870772700002,1,270.92787481636248,300.64374551998526,121.01639037599797,{"$f":"VLOOKUP(A291,Sheet1!$1:$1048576,8,FALSE)","v":3}]
[14054,0.81232381682575761,3.9555380321757561,24.502536090518923,2.5654693507399999,1,189.47443419005904,208.22963941904877,83.817474027956408,{"$f":"VLOOKUP(A292,Sheet1!$1:$1048576,8,FALSE)","v":3}]
[14055,0.12888626524990163,2.277064193584299,15.963526346751827,4.8703010829500002,1,239.30625366742959,282.25972065080907,113.61637503091775,{"$f":"VLOOKUP(A293,Sheet1!$1:$1048576,8,FALSE)","v":3}]
[14056,1.0975609756097562E-2,88.157357117439943,40.672007848266837,4.62304774398,1,54.668375146434812,139.58266717268444,56.185404792230067,{"$f":"VLOOKUP(A294,Sheet1!$1:$1048576,8,FALSE)","v":5}]
[14057,2.0538244166666666,2.2742637802091261,22.404896195847833,1.59160539318,1,190.98875794248036,199.33309087587094,80.236397729036185,{"$f":"VLOOKUP(A295,Sheet1!$1:$1048576,8,FALSE)","v":2}]
[14058,0.964329643296433,4.6945947831632342,13.763269109181058,2.61396057875,1,252.98148154988624,280.4057980442164,112.87012627228063,{"$f":"VLOOKUP(A296,Sheet1!$1:$1048576,8,FALSE)","v":3}]
[14059,9.5183605534172475E-2,5.1631282232387807,30.616292329813078,4.4499260879899998,1,155.48154126626557,185.34032483550649,74.603970436554278,{"$f":"VLOOKUP(A297,Sheet1!$1:$1048576,8,FALSE)","v":3}]
[14060,1.5494664258655304,0.55260912499979853,61.856474258970366,3.5427217208999999,1,60.178819262776891,66.499385973837548,26.76761373783221,{"$f":"VLOOKUP(A298,Sheet1!$1:$1048576,8,FALSE)","v":3}]
[14061,2.4078857581249999,100,30.174081237911025,3.8891490487899998,1,55.865185640971795,154.57920961332593,62.221876401336779,{"$f":"VLOOKUP(A299,Sheet1!$1:$1048576,8,FALSE)","v":5}]
[14062,0.14629649119526517,0.88099128256710879,68.797399783315271,4.3498877522999999,1,53.597284644160148,61.219529066013664,24.64234343300177,{"$f":"VLOOKUP(A300,Sheet1!$1:$1048576,8,FALSE)","v":3}]
[14063,0.10878138621590909,0.20828542432400832,47.394296951819079,23.915463284600001,1,48.401219213813661,113.99643564688408,45.886326801362301,{"$f":"VLOOKUP(A301,Sheet1!$1:$1048576,8,FALSE)","v":5}]
[14064,0.11406652832798843,25.904044536353947,30.677482754634088,5.3664330912500002,1,123.99539160356956,184.71962963035858,74.354125580740714,{"$f":"VLOOKUP(A302,Sheet1!$1:$1048576,8,FALSE)","v":4}]
[14065,1.6644474034620508E-3,12.46830522090459,21.073128130179835,5.0181565842299998,1,189.14387433928306,246.12678355044358,99.071992562536963,{"$f":"VLOOKUP(A303,Sheet1!$1:$1048576,8,FALSE)","v":4}]
[14066,6.5072492684224521,5.4549173047870223,16.879900949236486,4.2212249729437197,1,135.74396282148808,160.86442412000972,64.751827493524615,{"$f":"VLOOKUP(A304,Sheet1!$1:$1048576,8,FALSE)","v":3}]
[14067,0.19180131657690005,19.301226787934109,23.948140145084118,5.4989894971900002,1,158.11679474571619,222.91431037694875,89.728409810474375,{"$f":"VLOOKUP(A305,Sheet1!$1:$1048576,8,FALSE)","v":4}]
[14068,0.16063416093329344,5.651897022642089,23.19423929098966,4.3549832982999996,1,191.44873588204425,228.42163899922244,91.945242990653313,{"$f":"VLOOKUP(A306,Sheet1!$1:$1048576,8,FALSE)","v":3}]
[14069,0.73316822236363632,100,24.897480960749853,11.2781009229,1,56.854962365125381,207.23981920580877,83.419047414689175,{"$f":"VLOOKUP(A307,Sheet1!$1:$1048576,8,FALSE)","v":5}]
[14070,0.80572085489772727,1.4426840345762462,31.528993029808689,6.0814503271199998,1,138.859832866229,170.05663857105228,68.451916482581296,{"$f":"VLOOKUP(A308,Sheet1!$1:$1048576,8,FALSE)","v":3}]
[14071,8.5723192019950115E-2,6.4158540735455647,21.421561143704608,3.8270662931700001,1,205.38418327226955,241.94638083684967,97.389279204099466,{"$f":"VLOOKUP(A309,Sheet1!$1:$1048576,8,FALSE)","v":3}]
[14072,1.0788123110946968,2.4972115577018861,5.64621409921671,2.5097566531300002,1,324.46109280959445,351.14673284384304,141.34506615991438,{"$f":"VLOOKUP(A310,Sheet1!$1:$1048576,8,FALSE)","v":2}]
[14073,0.30069037535534027,9.067807218651156,36.271801426627633,5.0227785731800001,1,122.59917089200285,154.69987464069931,62.270446997848232,{"$f":"VLOOKUP(A311,Sheet1!$1:$1048576,8,FALSE)","v":3}]
[14074,0.18659217877094972,7.9638186309098575,32.905463386727689,4.6850302597700004,1,139.55181791486768,172.1486529870001,69.294002962027875,{"$f":"VLOOKUP(A312,Sheet1!$1:$1048576,8,FALSE)","v":3}]
[14075,0.42618508924621207,10.649320378848685,50.544323483670297,5.9853421608000001,1,76.371334720957705,101.33881471174192,40.791327756332301,{"$f":"VLOOKUP(A313,Sheet1!$1:$1048576,8,FALSE)","v":4}]
[14076,1.0447125340170453,12.553570585706863,47.152428810720274,7.2641958581499999,1,74.936939760808158,106.11664933970818,42.714521932515474,{"$f":"VLOOKUP(A314,Sheet1!$1:$1048576,8,FALSE)","v":4}]
[14077,1.9797288850378787,9.8358630639609395,42.48147846617276,5.79446997334,1,85.853981364888767,112.27913482875398,45.195071622112202,{"$f":"VLOOKUP(A315,Sheet1!$1:$1048576,8,FALSE)","v":4}]
[14078,0,10.789334238762036,48.812872735456288,6.5202999878099996,1,81.468614411141886,110.42184414969287,44.447467132718181,{"$f":"VLOOKUP(A316,Sheet1!$1:$1048576,8,FALSE)","v":4}]
[14079,0.98711162255466045,3.4431008202914928,17.218078663861796,3.2894438846899998,1,225.37184351738125,253.2760879147217,101.94976075414831,{"$f":"VLOOKUP(A317,Sheet1!$1:$1048576,8,FALSE)","v":3}]
[14080,0.12447937659545882,9.283984886737958,21.932760879056907,3.6431607285399998,1,197.87050178174761,237.62337040960966,95.649162786385375,{"$f":"VLOOKUP(A318,Sheet1!$1:$1048576,8,FALSE)","v":3}]
[14081,0.40613144673433815,8.1843777801010873,52.057961208840773,9.4361024285700008,1,65.842493064671601,97.164933463583083,39.111239445708641,{"$f":"VLOOKUP(A319,Sheet1!$1:$1048576,8,FALSE)","v":4}]
[14082,0.69989028213825755,4.8051801602660769,32.816270251637363,9.0008021356899999,1,117.40880996953588,165.30942256708622,66.541047044264801,{"$f":"VLOOKUP(A320,Sheet1!$1:$1048576,8,FALSE)","v":4}]
[14083,4.0506157617045453,1.7740842846844521E-2,9.9601593625498008,2.38953654639,1,229.27187251404132,241.50729276929079,97.212535620422912,{"$f":"VLOOKUP(A321,Sheet1!$1:$1048576,8,FALSE)","v":2}]
[14084,1.2390284380719698,17.449029915302013,9.5189355168884333,18.523326763899998,1,{"$f":"EXP(6.1523-(0.084*B322)-(0.0091*C322)-(0.0289*D322)-(0.0373*E322))","v":137.47170501769256},309.76823064184083,124.68921666937933,{"$f":"VLOOKUP(A322,Sheet1!$1:$1048576,8,FALSE)","v":5}]
[14085,0.80189393939393938,4.4972325524914449,0.50377799999999995,53.896434196000001,1,55.652105581561194,{"$f":"EXP(6.1523+(-0.084*B323)+(-0.0091*0)+(-0.0289*D323)+(-0.0373*F323))","v":416.99812479362527},{"$f":"EXP(6.1523+(-0.084*B323)+(-0.0091*100)+(-0.0289*D323)+(-0.0373*F323))","v":167.85184660603528},{"$f":"VLOOKUP(A323,Sheet1!$1:$1048576,8,FALSE)","v":5}]
[15001,0.412443642921551,4.7440103167543084,16.255783964196311,4.0056480952599998,1,233.99070903566664,273.29794602028227,110.00904365180064,{"$f":"VLOOKUP(A324,Sheet1!$1:$1048576,8,FALSE)","v":3}]
[15004,0.68831448572967147,5.6194681088651999,20.698083691826358,3.1045543238,1,206.30794442748751,234.86408015675968,94.538481618473355,{"$f":"VLOOKUP(A325,Sheet1!$1:$1048576,8,FALSE)","v":3}]
[15005,0.69721115537848599,3.5349362514232108,21.110698259353473,4.6570529565000003,1,195.93032044472068,231.90668785854217,93.348059578470298,{"$f":"VLOOKUP(A326,Sheet1!$1:$1048576,8,FALSE)","v":3}]
[15006,0.20577032946105506,2.8449147860074371,25.119841858166541,3.2054221890000001,1,193.17584545198849,215.23960783373158,86.639156124576914,{"$f":"VLOOKUP(A327,Sheet1!$1:$1048576,8,FALSE)","v":3}]
[15007,1.1382098878882558,2.7635172136435751,12.064777327935222,1.1915017939699999,1,281.02040464172751,290.24294238481895,116.82981516468854,{"$f":"VLOOKUP(A328,Sheet1!$1:$1048576,8,FALSE)","v":2}]
[15008,0.59632886009563468,1.5767100351353083,16.185721417873189,1.23045679978,1,263.53783047038041,269.65436971155117,108.54241592542132,{"$f":"VLOOKUP(A329,Sheet1!$1:$1048576,8,FALSE)","v":1}]
[15009,0.49067269322727269,3.7860830142467061,20.646437994722955,2.5858834285099999,1,217.78201436334248,239.15250286016743,96.26467563949079,{"$f":"VLOOKUP(A330,Sheet1!$1:$1048576,8,FALSE)","v":2}]
[15010,0.62276646425946969,3.6729387346758009,18.633103642244411,2.5879025803100002,1,228.50050331201325,250.68343343327103,100.90615452081504,{"$f":"VLOOKUP(A331,Sheet1!$1:$1048576,8,FALSE)","v":2}]
[15011,0.12447844228094576,1.6072921933134778,17.905990563220449,1.2330700456599999,1,260.79660489029004,266.94981543754341,107.45376731491947,{"$f":"VLOOKUP(A332,Sheet1!$1:$1048576,8,FALSE)","v":1}]
[15012,0.88825387276282153,1.9571199193372151,25.321752025846088,1.8897287892600001,1,192.0184317341558,202.06471980117087,81.335944542540375,{"$f":"VLOOKUP(A333,Sheet1!$1:$1048576,8,FALSE)","v":2}]
[15013,2.8384004036836132E-2,3.7993694468464909,21.299763585221488,4.1482962837799997,1,209.56770527656926,243.97178321582828,98.204552725053716,{"$f":"VLOOKUP(A334,Sheet1!$1:$1048576,8,FALSE)","v":3}]
[15014,0.14033335893693832,2.5612081196535685,25.477597383971084,2.0155665197300001,1,201.48638449871575,214.19984479906535,86.220626315869012,{"$f":"VLOOKUP(A335,Sheet1!$1:$1048576,8,FALSE)","v":2}]
[15015,1.001669449081803E-2,3.4117217701190623,22.374555876953149,3.75452796675,1,207.21219639246382,236.8753214353612,95.348054953486852,{"$f":"VLOOKUP(A336,Sheet1!$1:$1048576,8,FALSE)","v":3}]
[15016,1.394566834030303,4.5425182722585866,16.893644617380026,5.2304080975799998,1,202.45120978483175,247.05971202468584,99.447518872710219,{"$f":"VLOOKUP(A337,Sheet1!$1:$1048576,8,FALSE)","v":3}]
[15017,0.1,3.3950236484906018,22.169691746096127,3.83428430777,1,206.28988506593404,236.48763151671486,95.192000369818061,{"$f":"VLOOKUP(A338,Sheet1!$1:$1048576,8,FALSE)","v":3}]
[15018,0,20.001307641341519,30.065445026178011,8.4241454283100001,1,119.96213061054391,189.82614723821914,76.409622618358867,{"$f":"VLOOKUP(A339,Sheet1!$1:$1048576,8,FALSE)","v":4}]
[15019,8.809135399673736E-3,21.776648601956662,30.796460176991154,8.8810353046700001,1,113.53511977269271,185.72040307963388,74.756961136843714,{"$f":"VLOOKUP(A340,Sheet1!$1:$1048576,8,FALSE)","v":5}]
[15020,1.0931771329053031,4.7152853507257664,23.334218210777806,3.9398953425799998,1,180.59320606266328,210.35870961855383,84.674476357925329,{"$f":"VLOOKUP(A341,Sheet1!$1:$1048576,8,FALSE)","v":3}]
[15021,0.45416164053076002,1.8179232183204024,16.042066605458643,1.7941976464,1,261.66577561100161,274.02920746582555,110.30339409773367,{"$f":"VLOOKUP(A342,Sheet1!$1:$1048576,8,FALSE)","v":2}]
[15022,0.30023339698705709,24.686750929039189,31.312043317516231,9.2855282506899997,1,104.7066578433828,178.54886955646469,71.87024517029883,{"$f":"VLOOKUP(A343,Sheet1!$1:$1048576,8,FALSE)","v":5}]
[15023,0.45507406261174244,15.566677988378771,25.22880331548955,7.33581808913,1,143.98060147238093,210.11633697576269,84.576915497958836,{"$f":"VLOOKUP(A344,Sheet1!$1:$1048576,8,FALSE)","v":4}]
[15024,0.86303161521401517,1.2747523445736921,17.731481481481481,1.53647719245,1,244.31409789204841,252.16043443112716,101.50068320137399,{"$f":"VLOOKUP(A345,Sheet1!$1:$1048576,8,FALSE)","v":2}]
[15025,0.41825534373194684,7.1367783850958766,23.03774050320671,5.4838828530699999,1,178.01758487764215,224.54493669038538,90.384776401979281,{"$f":"VLOOKUP(A346,Sheet1!$1:$1048576,8,FALSE)","v":3}]
[15026,1.0200522023295455,1.5082273964315032,11.505296871150529,1.52921651312,1,288.11159570827658,297.91628833894492,119.91852279061476,{"$f":"VLOOKUP(A347,Sheet1!$1:$1048576,8,FALSE)","v":2}]
[15027,0.13756927949327,7.325893425502314,23.455554040696683,5.5647933200399997,1,179.22576134904645,227.14274870203636,91.430458666154337,{"$f":"VLOOKUP(A348,Sheet1!$1:$1048576,8,FALSE)","v":4}]
[15028,0,6.8228012759340286,22.605297384617241,5.3375115826000004,1,188.26117584240566,235.49905614805638,94.794074836650054,{"$f":"VLOOKUP(A349,Sheet1!$1:$1048576,8,FALSE)","v":3}]
[15029,1.9042151504166667,1.5644634208721799,19.139993533785969,1.87989206537,1,211.63085841492079,221.82751362804106,89.290947792438018,{"$f":"VLOOKUP(A350,Sheet1!$1:$1048576,8,FALSE)","v":2}]
[15030,0.1001934235976789,9.2963776063214869,20.575825266815588,2.22514061064,1,217.38014066172778,247.63166050577968,99.677741991249732,{"$f":"VLOOKUP(A351,Sheet1!$1:$1048576,8,FALSE)","v":3}]
[15031,0.65657275346026833,7.1314355869518984,25.158301696213996,6.1127971698100003,1,160.31963984426253,207.01121482342737,83.327028613060406,{"$f":"VLOOKUP(A352,Sheet1!$1:$1048576,8,FALSE)","v":4}]
[15032,24.058512820512821,6.915576650637596,22.861208208699317,5.3828755126000001,1,24.704440423437749,30.981678258599299,12.470876000302452,{"$f":"VLOOKUP(A353,Sheet1!$1:$1048576,8,FALSE)","v":3}]
[15033,1.9395979732386364,1.7917487703225723,8.1745120551090711,0.75491788220599998,1,301.46894856796132,303.63622963648191,122.22093772292378,{"$f":"VLOOKUP(A354,Sheet1!$1:$1048576,8,FALSE)","v":1}]
[15034,1.1348758466761362,1.1638440571415209,21.361815754339119,3.26903188018,1,201.76185848276626,221.91933357796634,89.327907546532501,{"$f":"VLOOKUP(A355,Sheet1!$1:$1048576,8,FALSE)","v":3}]
[15035,0,7.0650003372050447,23.673703018920179,5.4289338484099998,1,181.5151728424448,228.33868396735008,91.911851580819217,{"$f":"VLOOKUP(A356,Sheet1!$1:$1048576,8,FALSE)","v":3}]
[15036,5.9223300970873791E-2,7.1916133575900769,23.54876124199038,5.4281769999199998,1,181.06414471481068,228.02745601547969,91.786574790995004,{"$f":"VLOOKUP(A357,Sheet1!$1:$1048576,8,FALSE)","v":3}]
[15037,0.13544018058690743,11.395732698371059,25.850827541735327,3.87281083903,1,171.68769455090171,211.98894113938746,85.330684035844058,{"$f":"VLOOKUP(A358,Sheet1!$1:$1048576,8,FALSE)","v":3}]
[15038,1.1345502639886362,2.6698199685848647,21.900500131613583,2.95093864053,1,198.28550787118516,218.4972271402149,87.950426808116106,{"$f":"VLOOKUP(A359,Sheet1!$1:$1048576,8,FALSE)","v":3}]
[15039,0,7.3626522607365015,23.639545748935813,5.46519160212,1,180.95806973823477,228.56419867050525,92.002626711714925,{"$f":"VLOOKUP(A360,Sheet1!$1:$1048576,8,FALSE)","v":3}]
[15040,0.6558773712803031,4.3371855857437245,26.831091180866967,7.5946090250499996,1,148.27081907403695,197.25311775013432,79.399158160588229,{"$f":"VLOOKUP(A361,Sheet1!$1:$1048576,8,FALSE)","v":4}]
[15041,9.496919917864477E-2,26.815225401462072,32.10801731377996,10.917042843700001,1,96.079563788730837,177.5231258487494,71.457358480293351,{"$f":"VLOOKUP(A362,Sheet1!$1:$1048576,8,FALSE)","v":5}]
[15042,0.89267910593749999,1.631098736755876,21.071012805587895,12.148321127099999,1,148.47065190982414,228.3918250794398,91.933242165727407,{"$f":"VLOOKUP(A363,Sheet1!$1:$1048576,8,FALSE)","v":4}]
[15043,0.38240816100378788,3.5563478010833567,32.632842990093067,7.4964507109799996,1,129.68496659597579,170.67967464022772,68.702703592871103,{"$f":"VLOOKUP(A364,Sheet1!$1:$1048576,8,FALSE)","v":4}]
[15044,1.0667082469147726,3.7355279383172477,35.825864276568502,4.7410477028600004,1,123.53130998851955,146.9406890729544,59.14718684805873,{"$f":"VLOOKUP(A365,Sheet1!$1:$1048576,8,FALSE)","v":3}]
[15045,8.1017273918741814,3.1076182988871861,31.434751261715931,10.017705578399999,1,64.158131653776039,92.387398328348837,37.18816582260505,{"$f":"VLOOKUP(A366,Sheet1!$1:$1048576,8,FALSE)","v":4}]
[15046,7.06233421750663E-2,1.4309382612860875,21.570043325768516,1.9734380276100001,1,229.60549808800454,241.21614219637073,97.095340461981309,{"$f":"VLOOKUP(A367,Sheet1!$1:$1048576,8,FALSE)","v":2}]
[15047,0.90724398963446984,4.9428614436075291,29.335347432024168,6.0267686919300001,1,142.38312001618863,179.64810479693497,72.31271398249956,{"$f":"VLOOKUP(A368,Sheet1!$1:$1048576,8,FALSE)","v":3}]
[15048,0.17746774677467747,19.67456978038701,31.580936673195204,9.4883675918399994,1,109.04372441750583,179.00319223835919,72.053121055289282,{"$f":"VLOOKUP(A369,Sheet1!$1:$1048576,8,FALSE)","v":5}]
[15049,0.84558210541666667,3.2111059728025459,38.834365091348332,3.70838580726,1,120.47160681102073,137.22994534452567,55.238377263983459,{"$f":"VLOOKUP(A370,Sheet1!$1:$1048576,8,FALSE)","v":3}]
[15050,3.105353400647742E-2,8.6949745033135919,25.169042326644181,6.2516690279000002,1,165.66946972964212,218.11145201101721,87.795142973584319,{"$f":"VLOOKUP(A371,Sheet1!$1:$1048576,8,FALSE)","v":4}]
[15051,1.7866109459393942,1.5310164939168032,4.3885469628043881,1.1179953003500001,1,336.89193070349484,343.12529544868005,138.11624329679199,{"$f":"VLOOKUP(A372,Sheet1!$1:$1048576,8,FALSE)","v":1}]
[15052,2.4417178801325758,2.0401277846380728,20.985507246376812,1.3770789540099999,1,194.5685086929181,201.0220369564293,80.916239439547581,{"$f":"VLOOKUP(A373,Sheet1!$1:$1048576,8,FALSE)","v":2}]
[15053,0.69317714473484848,1.2242438837796425,25.959261013737567,2.3948469131699999,1,189.30927765496003,201.65341905028401,81.170386026945181,{"$f":"VLOOKUP(A374,Sheet1!$1:$1048576,8,FALSE)","v":2}]
[15054,1.5757314427045457,2.2073011395002564,17.882792301062914,2.3844013674000002,1,220.10423947633629,236.47106679437252,95.185332667810883,{"$f":"VLOOKUP(A375,Sheet1!$1:$1048576,8,FALSE)","v":2}]
[15055,1.4912162212405302,3.0964749180603506,26.862123613312207,4.6800496953400001,1,155.70741317189569,183.72176473708657,73.952460788885986,{"$f":"VLOOKUP(A376,Sheet1!$1:$1048576,8,FALSE)","v":3}]
[15056,3.9554117224020136E-2,1.8041991345499573,23.486163586235065,2.34231004902,1,214.09951912391162,228.81809124602415,92.104824623663575,{"$f":"VLOOKUP(A377,Sheet1!$1:$1048576,8,FALSE)","v":2}]
[15058,0.51817116060961321,6.4385668257188335,21.722959932758314,5.2342290271799996,1,186.26164515443554,231.29179158961054,93.100548934957416,{"$f":"VLOOKUP(A378,Sheet1!$1:$1048576,8,FALSE)","v":3}]
[15059,0.63222107893576351,2.317800732057179,22.138503217067392,1.7714852651199999,1,215.34088827026221,226.35185891021803,91.11210636640655,{"$f":"VLOOKUP(A379,Sheet1!$1:$1048576,8,FALSE)","v":2}]
[15060,0.80418132868371217,1.7110479269773282,36.054648450516495,1.6603163035999999,1,143.34711892065923,149.22711813198185,60.06752993085172,{"$f":"VLOOKUP(A380,Sheet1!$1:$1048576,8,FALSE)","v":2}]
[15061,1.3745056804621212,2.7451693620905537,14.496604664895187,1.93159087806,1,249.8498823928432,265.2279508249926,106.76067509786151,{"$f":"VLOOKUP(A381,Sheet1!$1:$1048576,8,FALSE)","v":2}]
[15062,0.25136298421807746,6.7143498970720232,22.354499767173419,5.3038926324500002,1,186.08520994640728,232.25605910074358,93.488689966637097,{"$f":"VLOOKUP(A382,Sheet1!$1:$1048576,8,FALSE)","v":3}]
[15063,0.40813148788927339,6.5638807966196726,22.044957945463796,5.2416643706599997,1,185.98616219016307,231.27735710575837,93.094738705545495,{"$f":"VLOOKUP(A383,Sheet1!$1:$1048576,8,FALSE)","v":3}]
[15064,3.1000070750757578,2.0212914710542758,10.527912621359222,1.61809362553,1,246.87795033733667,257.32573428404186,103.57984151656953,{"$f":"VLOOKUP(A384,Sheet1!$1:$1048576,8,FALSE)","v":2}]
[15065,4.1628394528409096,2.0463001818383804,13.60759493670886,1.6319755354400001,1,206.41072060285623,215.30637037345312,86.666029664072838,{"$f":"VLOOKUP(A385,Sheet1!$1:$1048576,8,FALSE)","v":2}]
[15066,0.83594306049822065,6.4571280735200896,21.809643241971013,5.1978749358199998,1,{"$f":"EXP(6.1523-(0.084*B386)-(0.0091*C386)-(0.0289*D386)-(0.0373*E386))","v":181.11668510603181},224.63617494974793,90.421502011531373,{"$f":"VLOOKUP(A386,Sheet1!$1:$1048576,8,FALSE)","v":3}]
[16003,4.5697891458333331,1.2952814698507895,5.0454086781029268,1.22523469816,1,261.16100259970403,{"$f":"EXP(6.1523+(-0.084*B387)+(-0.0091*0)+(-0.0289*D387)+(-0.0373*F387))","v":266.48698375083234},{"$f":"EXP(6.1523+(-0.084*B387)+(-0.0091*100)+(-0.0289*D387)+(-0.0373*F387))","v":107.26746634936792},{"$f":"VLOOKUP(A387,Sheet1!$1:$1048576,8,FALSE)","v":1}]
[16004,0.69860769860769856,1.1619900000000001,11.068422531425988,2.1072579335300001,1,294.2897164543715,309.95884858225571,124.76594500793173,{"$f":"VLOOKUP(A388,Sheet1!$1:$1048576,8,FALSE)","v":2}]
[16005,3.8902684114772725,1.8901495630902638,1.7107126002831523,1.2680162288200001,1,302.3485506008854,310.68447871322951,125.05802871333738,{"$f":"VLOOKUP(A389,Sheet1!$1:$1048576,8,FALSE)","v":1}]
[16006,0.54088471849865949,2.8020102461998917,14.756801319043694,2.3919168011499998,1,261.30213302043074,282.33494815525444,113.64665592377062,{"$f":"VLOOKUP(A390,Sheet1!$1:$1048576,8,FALSE)","v":2}]
[16007,0.86278849193803342,1.6232979455562122,10.99182892906815,1.8782569572600001,1,292.16856550011465,306.39095298744576,123.32978060219783,{"$f":"VLOOKUP(A391,Sheet1!$1:$1048576,8,FALSE)","v":2}]
[16008,2.6604609269507575,1.913491506437903,2.5617566331198534,2.13245971513,1,316.66137819685503,336.12614311263127,135.29891493383076,{"$f":"VLOOKUP(A392,Sheet1!$1:$1048576,8,FALSE)","v":2}]
[16009,3.544845501363636,1.6044513194800063,6.9341258048538883,1.19639147788,1,269.05365831320671,275.01805281864398,110.70142830606616,{"$f":"VLOOKUP(A393,Sheet1!$1:$1048576,8,FALSE)","v":1}]
[16010,2.4199406570454545,1.436598036144132,7.4185652419506685,1.7494456072,1,286.08846639201261,298.07002714406519,119.98040638384964,{"$f":"VLOOKUP(A394,Sheet1!$1:$1048576,8,FALSE)","v":2}]
[16011,0.58842808521366452,0.96737669660157211,10.269715209578221,2.0916681740700001,1,304.67782914712495,320.14604147230904,128.8665369210814,{"$f":"VLOOKUP(A395,Sheet1!$1:$1048576,8,FALSE)","v":2}]
[16012,0.59077809798270897,1.1120684433321315,10.101295327477064,2.0793952941599998,1,305.84117690844658,321.64459856029225,129.46974245009196,{"$f":"VLOOKUP(A396,Sheet1!$1:$1048576,8,FALSE)","v":2}]
[16013,2.0202526132404182,1.5164138633366031,4.69934510815638,1.2850689775499999,1,325.4000237731297,333.44825865654519,134.22100157109298,{"$f":"VLOOKUP(A397,Sheet1!$1:$1048576,8,FALSE)","v":1}]
[16014,1.3322180673095847,1.6696424373913341,4.5382918373778756,1.60968296252,1,341.72356732941591,354.93584266159007,142.87027464908124,{"$f":"VLOOKUP(A398,Sheet1!$1:$1048576,8,FALSE)","v":2}]
[16015,3.8058840034469696,1.3426603733730407,4.2672330565746286,0.87085848181799996,1,288.46722585501527,290.61015875129044,116.97762864765494,{"$f":"VLOOKUP(A399,Sheet1!$1:$1048576,8,FALSE)","v":1}]
[16016,2.5800711743772239E-2,2.343984677173732,12.319095726298393,3.2154602312599998,1,285.10112632301588,316.33787710890471,127.33365851570954,{"$f":"VLOOKUP(A400,Sheet1!$1:$1048576,8,FALSE)","v":3}]
[16017,0.51677852348993292,1.0969125417590582,9.565418274718704,2.0850330882399999,1,312.52872269167648,328.70149072930758,132.31031249451391,{"$f":"VLOOKUP(A401,Sheet1!$1:$1048576,8,FALSE)","v":2}]
[16018,1.21802406940946,1.1878348761937052,8.7057826731624655,1.0227221423799999,1,314.01225871225245,317.69406466958844,127.87955686121784,{"$f":"VLOOKUP(A402,Sheet1!$1:$1048576,8,FALSE)","v":1}]
[16019,3.1329948424810605,1.5119951772049149,5.7192562792214847,1.4876928645800001,1,285.59988471337425,294.87216598009365,118.6931898002547,{"$f":"VLOOKUP(A403,Sheet1!$1:$1048576,8,FALSE)","v":2}]
[16020,0.157390342793955,1.0620300376264122,9.5687700755575484,2.0611877023899998,1,322.46512194519283,338.74301634365037,136.35226980054111,{"$f":"VLOOKUP(A404,Sheet1!$1:$1048576,8,FALSE)","v":2}]
[16021,0.5106079515065074,3.7593890359192135,13.294024756762262,2.2330305989800001,1,272.51921763128661,295.27632611403999,118.85587404455677,{"$f":"VLOOKUP(A405,Sheet1!$1:$1048576,8,FALSE)","v":2}]
[16022,0.47456663824950268,1.0280687632952914,9.9367362886842585,2.1523631814200002,1,309.70683337421707,326.34813934128692,131.36303155317242,{"$f":"VLOOKUP(A406,Sheet1!$1:$1048576,8,FALSE)","v":2}]
[16023,1.888745974215909,2.1562145622893025,16.934438973827419,2.3483171447900002,1,220.74899124559536,236.73468744746327,95.291446366635483,{"$f":"VLOOKUP(A407,Sheet1!$1:$1048576,8,FALSE)","v":2}]
[16024,0.71930416020497612,1.6684115250495137,10.072403650350706,1.55553599103,1,307.22548220034349,318.45653091289847,128.18646799415805,{"$f":"VLOOKUP(A408,Sheet1!$1:$1048576,8,FALSE)","v":2}]
[16025,0.11622753016498398,1.0325249763277757,9.4215879566336778,2.1058916827399998,1,324.5070489708595,341.36524218277322,137.40777922167499,{"$f":"VLOOKUP(A409,Sheet1!$1:$1048576,8,FALSE)","v":2}]
[16026,0.4261057173678533,1.7347964203710169,17.776184435497214,1.72037195662,1,250.33971817941622,261.24936941542114,105.1591997032191,{"$f":"VLOOKUP(A410,Sheet1!$1:$1048576,8,FALSE)","v":2}]
[16027,0.33288680509042196,1.6060089501072665,11.659557841956175,1.91567583392,1,299.25824512457649,314.21462978113129,126.47900003266605,{"$f":"VLOOKUP(A411,Sheet1!$1:$1048576,8,FALSE)","v":2}]
[16028,2.819965155151515,2.8303638825636659,24.082121984115091,2.6599615871700002,1,163.11846616169331,178.06516906438239,71.675544005058711,{"$f":"VLOOKUP(A412,Sheet1!$1:$1048576,8,FALSE)","v":2}]
[16029,3.169526168996212,2.4428538591283111,8.6284086284086285,1.44603396765,1,259.96103524226351,270.26387388957011,108.78775612172365,{"$f":"VLOOKUP(A413,Sheet1!$1:$1048576,8,FALSE)","v":2}]
[16030,2.1692721227983309,1.7304981932383772,18.107049608355091,1.7588600913200001,1,213.8841242788728,223.51698529317417,89.971001063472542,{"$f":"VLOOKUP(A414,Sheet1!$1:$1048576,8,FALSE)","v":2}]
[16031,1.6900438321853475,1.2536311583603468,6.1680754624525296,1.1134815648700001,1,323.48024037587817,328.57953925012305,132.26122406998539,{"$f":"VLOOKUP(A415,Sheet1!$1:$1048576,8,FALSE)","v":1}]
[16032,3.6939643451893942,1.5233095113975605,14.238003164000704,0.73159120278900003,1,219.06713495540396,219.91227208265045,88.520016675542692,{"$f":"VLOOKUP(A416,Sheet1!$1:$1048576,8,FALSE)","v":1}]
[16033,1.3330089947727273,82.300168060108348,18.392282958199356,6.9386491139400004,1,90.111439915530113,237.81433565588037,95.726030923957879,{"$f":"VLOOKUP(A417,Sheet1!$1:$1048576,8,FALSE)","v":5}]
[16034,0.18530539982295663,1.7186268346562183,13.453104508341207,2.4906851135300001,1,281.29320716465384,302.06421466823855,121.58816361766235,{"$f":"VLOOKUP(A418,Sheet1!$1:$1048576,8,FALSE)","v":2}]
[16035,3.8300694677272729,1.0214589259006428,7.2643237115200137,1.1583515897600001,1,261.94470160927398,265.95715102879393,107.05419584406179,{"$f":"VLOOKUP(A419,Sheet1!$1:$1048576,8,FALSE)","v":1}]
[16036,2.786111111111111,1.3640439307595866,14.15327564894932,1.02598950707,1,234.75790509052052,237.92059901198252,95.768804498916111,{"$f":"VLOOKUP(A420,Sheet1!$1:$1048576,8,FALSE)","v":1}]
[16037,2.6901453032575762,1.3816756898047717,20.72072072072072,1.5921226958500001,1,191.62484730811147,198.38289287357472,79.853920015483581,{"$f":"VLOOKUP(A421,Sheet1!$1:$1048576,8,FALSE)","v":2}]
[16038,3.7493131971590912,1.2029038673334909,9.42684766214178,0.33802170219900002,1,255.02642297956029,251.54497334302809,101.25294520446401,{"$f":"VLOOKUP(A422,Sheet1!$1:$1048576,8,FALSE)","v":1}]
[16039,0.26007567034051654,9.7680708236849689,14.068153333175681,6.3477398859100003,1,221.01351867513617,294.88457611342062,118.69818517954228,{"$f":"VLOOKUP(A423,Sheet1!$1:$1048576,8,FALSE)","v":4}]
[16040,0.17256768818803928,0.97628556570623237,11.911018578867488,2.47269150266,1,296.62249970201299,316.16868272754175,127.26555367864057,{"$f":"VLOOKUP(A424,Sheet1!$1:$1048576,8,FALSE)","v":2}]
[16041,4.9616048470643932,2.0457794919346983,18.260217472815899,1.9362255124700001,1,166.82862749905505,176.0036806990413,70.845745000445419,{"$f":"VLOOKUP(A425,Sheet1!$1:$1048576,8,FALSE)","v":2}]
[16042,0.60778008298755193,1.3856522508051716,10.666610849760074,2.3087664018999998,1,297.15532954747999,315.98078964330961,127.18992216070875,{"$f":"VLOOKUP(A426,Sheet1!$1:$1048576,8,FALSE)","v":2}]
[16043,2.9047041707080505,2.3703527057836888,10.809818110398902,2.3007110936199999,1,241.89757018460381,259.45962589193471,104.43878458020849,{"$f":"VLOOKUP(A427,Sheet1!$1:$1048576,8,FALSE)","v":2}]
[16044,2.8082879190530305,2.5207678998624794,12.765283496990815,1.4251764495699999,1,237.7902665748656,247.19737874291317,99.502933061639936,{"$f":"VLOOKUP(A428,Sheet1!$1:$1048576,8,FALSE)","v":2}]
[16045,2.0652192464583332,2.3550829005097231,21.897518014411528,1.5122744055999999,1,194.05550433398156,202.08397173527936,81.343693912378541,{"$f":"VLOOKUP(A429,Sheet1!$1:$1048576,8,FALSE)","v":2}]
[16046,0.32575757575757575,1.39735535468248,11.078960739610469,2.3206321546800002,1,300.50935506796617,319.72280891361459,128.69617556380717,{"$f":"VLOOKUP(A430,Sheet1!$1:$1048576,8,FALSE)","v":2}]
[16047,1.2155058304443744,3.051782029845115,17.986767485822305,2.21469762635,1,225.87923362735245,243.00449227605517,97.815194690106779,{"$f":"VLOOKUP(A431,Sheet1!$1:$1048576,8,FALSE)","v":2}]
[16048,1.459115917283248,1.6434370622825278,9.5049504950495045,1.7812685478000001,1,291.09352274482933,304.21697903668075,122.45470342459681,{"$f":"VLOOKUP(A432,Sheet1!$1:$1048576,8,FALSE)","v":2}]
[16049,4.0991792006818182,2.1334384846256342,9.0998234948029033,2.6918003989599999,1,227.04894319997422,246.57939925849843,99.254181349207187,{"$f":"VLOOKUP(A433,Sheet1!$1:$1048576,8,FALSE)","v":2}]
[16050,3.9703023790530305,2.3316698495492911,1.7768301350390905,1.01405544069,1,301.38898689327328,308.01368359922265,123.98296898251894,{"$f":"VLOOKUP(A434,Sheet1!$1:$1048576,8,FALSE)","v":1}]
[16051,1.9622022440909093,1.7035429292619715,9.9700667741192728,1.88539581616,1,274.10536523561836,287.73504720721968,115.82032660436771,{"$f":"VLOOKUP(A435,Sheet1!$1:$1048576,8,FALSE)","v":2}]
[16052,4.217169879956348,1.6974006748403316,8.8581393370573061,1.3830358968100001,1,238.65617507674435,245.85882848075565,98.964134156034945,{"$f":"VLOOKUP(A436,Sheet1!$1:$1048576,8,FALSE)","v":1}]
[16053,0,2.78032060501108,4.5400710619818394,0.79800843584199999,1,389.95264713375349,396.94270338678416,159.77905366657899,{"$f":"VLOOKUP(A437,Sheet1!$1:$1048576,8,FALSE)","v":1}]
[16054,0.18301886792452829,1.0381938731627163,9.3814235413041924,2.0879692760499999,1,323.26565823950887,339.84963668627091,136.79771129525429,{"$f":"VLOOKUP(A438,Sheet1!$1:$1048576,8,FALSE)","v":2}]
[16055,5.1176485075757574,1.8022980744628259,8.4750911300121512,1.34491086832,1,223.83771525958215,230.48537046091749,92.775944895885928,{"$f":"VLOOKUP(A439,Sheet1!$1:$1048576,8,FALSE)","v":1}]
[16056,2.717416333087121,2.9848314196605452,11.805555555555555,1.3190287190000001,1,246.28631353879246,256.09704955539115,103.08526614958743,{"$f":"VLOOKUP(A440,Sheet1!$1:$1048576,8,FALSE)","v":2}]
[16057,4.030453231818182,3.256525349493947,9.4253823894171145,1.10596060286,1,237.56984544071801,245.68454545139508,98.893981014879358,{"$f":"VLOOKUP(A441,Sheet1!$1:$1048576,8,FALSE)","v":2}]
[16058,0.55403241945167103,2.8652554159348305,14.686805664654262,2.40103755743,1,261.30284697146743,282.59438276112104,113.75108463718455,{"$f":"VLOOKUP(A442,Sheet1!$1:$1048576,8,FALSE)","v":2}]
[16059,1.436259487221591,4.3668446108208334,26.082084325535789,2.9207040013899999,1,168.88219837846918,188.77993395884064,75.988496429903364,{"$f":"VLOOKUP(A443,Sheet1!$1:$1048576,8,FALSE)","v":3}]
[16060,1.1003311258278146,1.2876266347134531,13.247529175275002,2.2551450065399998,1,265.38571104884113,281.38352383270689,113.26368458661044,{"$f":"VLOOKUP(A444,Sheet1!$1:$1048576,8,FALSE)","v":2}]
[17001,0,9.6147260200478879,27.811629329286248,4.94394081062,1,160.23490797538997,202.60209095807832,81.55224945049261,{"$f":"VLOOKUP(A445,Sheet1!$1:$1048576,8,FALSE)","v":3}]
[17002,0.20964749536178107,3.8186259469297648,27.242783778997698,3.2439719999999999,1,179.76015811380938,202.36503270576583,81.456827761429736,{"$f":"VLOOKUP(A446,Sheet1!$1:$1048576,8,FALSE)","v":3}]
[17003,0.27258347978910369,2.8911227894543603,21.051381051381053,2.83484648074,1,218.97752176303169,240.74013538287673,96.903736188744915,{"$f":"VLOOKUP(A447,Sheet1!$1:$1048576,8,FALSE)","v":3}]
[17004,2.917372482589874E-2,2.7189490986772107,27.244389027431421,3.8028401523499999,1,180.5302203898357,205.44668589068169,82.697267818428784,{"$f":"VLOOKUP(A448,Sheet1!$1:$1048576,8,FALSE)","v":3}]
[17005,6.6007310255858945E-2,13.215143476949395,29.155507945009816,5.7647826571378502,1,143.8652370506156,193.8066875469938,78.011886517383005,{"$f":"VLOOKUP(A449,Sheet1!$1:$1048576,8,FALSE)","v":4}]
[17006,0.16762177650429796,14.12154510159842,28.20932858123215,6.0395543425999998,1,{"$f":"EXP(6.1523-(0.084*B450)-(0.0091*C450)-(0.0289*D450)-(0.0373*E450))","v":143.91009112246238},197.48648957300998,79.493095972502573,{"$f":"VLOOKUP(A450,Sheet1!$1:$1048576,8,FALSE)","v":4}]
[17007,2.5732959821969699,1.0456105380124321,20.085470085470085,1.0894046775336601,1,201.44637192221893,{"$f":"EXP(6.1523+(-0.084*B451)+(-0.0091*0)+(-0.0289*D451)+(-0.0373*F451))","v":204.05163040142736},{"$f":"EXP(6.1523+(-0.084*B451)+(-0.0091*100)+(-0.0289*D451)+(-0.0373*F451))","v":82.135724190132819},{"$f":"VLOOKUP(A451,Sheet1!$1:$1048576,8,FALSE)","v":1}]
[17008,4.0140212169507574,4.4985538076566529,3.1674208144796379,1.0666725318553101,1,282.26886286715495,294.79604850443411,118.66255067242943,{"$f":"VLOOKUP(A452,Sheet1!$1:$1048576,8,FALSE)","v":2}]
[17009,3.7226875414393943,4.1073472713657253,2.1960784313725492,1.52123192417266,1,293.53848907375487,310.6999265049871,125.06424682372766,{"$f":"VLOOKUP(A453,Sheet1!$1:$1048576,8,FALSE)","v":2}]
[17010,2.8612737844128788,4.1245986132782289,16.767301439851369,0.80538142680532299,1,212.68313221689249,219.22048200174402,88.241554410031654,{"$f":"VLOOKUP(A454,Sheet1!$1:$1048576,8,FALSE)","v":1}]
[17011,7.7097657032240844E-3,1.0668205787945662,13.716658042056734,1.16749729470936,1,299.46131558943205,304.27775811471957,122.47916847582187,{"$f":"VLOOKUP(A455,Sheet1!$1:$1048576,8,FALSE)","v":1}]
[17012,0.75257360647927585,1.2012330436831018,11.67278284962363,1.12519143965921,1,298.52077586691456,303.21447479010999,122.05117118065547,{"$f":"VLOOKUP(A456,Sheet1!$1:$1048576,8,FALSE)","v":1}]
[17013,2.4288885123674242,1.0875350681600338,24.341838801134063,0.52535525810443695,1,184.06738315361068,182.63583976147152,73.51534968071779,{"$f":"VLOOKUP(A457,Sheet1!$1:$1048576,8,FALSE)","v":1}]
[17014,2.6306046398674243,1.4249214977281894,12.537612838515546,1.2015130550414199,1,247.45010769960973,252.57094996816016,101.66592564937194,{"$f":"VLOOKUP(A458,Sheet1!$1:$1048576,8,FALSE)","v":1}]
[17015,9.7798742138364786E-2,1.5060682232443694,20.301186388822789,1.6536409501638101,1,240.32558081789415,249.65516333386253,100.49225089695365,{"$f":"VLOOKUP(A459,Sheet1!$1:$1048576,8,FALSE)","v":2}]
[17016,1.3705978051666667,1.8183653726881313,18.923010380622838,1.3759981979435401,1,226.42707461276962,233.45627123968828,93.971804426541553,{"$f":"VLOOKUP(A460,Sheet1!$1:$1048576,8,FALSE)","v":2}]
[17017,2.6830497067045456,1.3795900068630782,7.367036271377561,2.3331418684636298,1,274.35860159249268,291.98910104811944,117.53268632567318,{"$f":"VLOOKUP(A461,Sheet1!$1:$1048576,8,FALSE)","v":2}]
[17018,1.2206625978844694,1.8057512625038055,28.880866425992778,1.3995629430793599,1,171.82409805740878,177.29363309160186,71.364982086301197,{"$f":"VLOOKUP(A462,Sheet1!$1:$1048576,8,FALSE)","v":2}]
[17019,0.16562377786468518,1.6366298808097461,19.727403156384504,2.5191292566163899,1,234.9584754346391,252.38751175201071,101.59208732375828,{"$f":"VLOOKUP(A463,Sheet1!$1:$1048576,8,FALSE)","v":2}]
[17020,3.0865134669886363,3.6747829814952784,31.292517006802722,1.8375324625,1,132.5153703438379,141.369796483529,56.904767631325548,{"$f":"VLOOKUP(A464,Sheet1!$1:$1048576,8,FALSE)","v":2}]
[17021,0.34509137271568208,8.0056184799348866,33.156768746856081,4.5937214597100002,1,137.12388253148342,168.64260425254034,67.882733415765358,{"$f":"VLOOKUP(A465,Sheet1!$1:$1048576,8,FALSE)","v":3}]
[17022,0.13962508080155139,7.0643951578925561,33.199821984868713,4.5521007678799998,1,140.75450635952521,171.36514621522718,68.978622506694876,{"$f":"VLOOKUP(A466,Sheet1!$1:$1048576,8,FALSE)","v":3}]
[17023,1.6617508184318182,81.98913930882334,17.830045523520486,6.8684934332700003,1,89.579692030900546,235.12672300249915,94.644201726152616,{"$f":"VLOOKUP(A467,Sheet1!$1:$1048576,8,FALSE)","v":5}]
[17024,1.6792545787291664,2.846610209275235,46.670997076973045,5.4489941747600001,1,84.208777717341675,102.01815624668792,41.064779180540285,{"$f":"VLOOKUP(A468,Sheet1!$1:$1048576,8,FALSE)","v":3}]
[17025,0,8.6696433795219612,29.937371107077347,4.8987317146700002,1,152.24537482253319,190.53005954491582,76.69296437339969,{"$f":"VLOOKUP(A469,Sheet1!$1:$1048576,8,FALSE)","v":3}]
[17026,1.1969131841515153,100,16.869565217391305,7.6052170961199996,1,79.087454571392641,251.37072908852099,101.18280767112621,{"$f":"VLOOKUP(A470,Sheet1!$1:$1048576,8,FALSE)","v":5}]
[17027,0.30401396160558464,15.32855950837388,34.35504469987228,5.0926307590900004,1,122.05320015872985,163.46551250533915,65.79882857747225,{"$f":"VLOOKUP(A471,Sheet1!$1:$1048576,8,FALSE)","v":4}]
[17028,0,8.9028955753345986,29.665641232538203,5.0160586788100003,1,152.45167032608535,192.03218119620828,77.297604725490316,{"$f":"VLOOKUP(A472,Sheet1!$1:$1048576,8,FALSE)","v":3}]
[17029,0.79809597538446975,6.9743764583748309,28.024151571934208,2.6507635453499998,1,166.17171004979866,188.3048058493514,75.797245856314632,{"$f":"VLOOKUP(A473,Sheet1!$1:$1048576,8,FALSE)","v":3}]
[17030,0.6928794745814395,11.363234739204689,26.334716459197789,3.4760624679999998,1,164.01571596391989,199.48216193335062,80.29640244077406,{"$f":"VLOOKUP(A474,Sheet1!$1:$1048576,8,FALSE)","v":3}]
[17031,0.46738280741666666,13.933401878669297,62.341236240474174,6.4904138913600002,1,51.546881892578924,71.813904753730057,28.906836285820628,{"$f":"VLOOKUP(A475,Sheet1!$1:$1048576,8,FALSE)","v":4}]
[17032,8.0751919512840886E-2,2.0626243600954033,42.766576595302432,5.5932450596300001,1,108.00363162924815,130.61613771280793,52.576159479118544,{"$f":"VLOOKUP(A476,Sheet1!$1:$1048576,8,FALSE)","v":3}]
[17033,7.4287652645861596E-2,10.737480197916483,28.268823667773045,5.1761215972199999,1,154.20924713816171,198.69894363836741,79.981138104336992,{"$f":"VLOOKUP(A477,Sheet1!$1:$1048576,8,FALSE)","v":4}]
[17034,1.1479174469791666,3.3701564801904706,30.299137456414023,2.9455345778500002,1,154.42259973804784,171.21667539344713,68.918859404366231,{"$f":"VLOOKUP(A478,Sheet1!$1:$1048576,8,FALSE)","v":3}]
[17035,0.16229116945107397,8.4264329262169593,14.643733607104936,1.67935251034,1,264.051260341008,292.41196310216242,117.7028985458501,{"$f":"VLOOKUP(A479,Sheet1!$1:$1048576,8,FALSE)","v":3}]
[17036,0.19240313036839091,8.4936850099995702,29.717901607915188,3.5076728664200001,1,159.04100293541822,188.66836298482656,75.943586410163661,{"$f":"VLOOKUP(A480,Sheet1!$1:$1048576,8,FALSE)","v":3}]
[17037,2.7397260273972603E-3,8.1081680233741764,22.990821049089426,2.6068524102100001,1,203.69325510534412,232.83618431721331,93.722204419238906,{"$f":"VLOOKUP(A481,Sheet1!$1:$1048576,8,FALSE)","v":3}]
[17038,6.4206074586697429E-2,7.7249235669685259,30.659346993947128,4.8014931266799996,1,150.12361632300531,185.59215694312044,74.705338960258331,{"$f":"VLOOKUP(A482,Sheet1!$1:$1048576,8,FALSE)","v":3}]
[17039,0.4959716403480503,11.14365174951647,39.119010819165382,4.6953802810900003,1,110.33862586590197,140.16201023802398,56.418604410055131,{"$f":"VLOOKUP(A483,Sheet1!$1:$1048576,8,FALSE)","v":4}]
[17040,0.47516896855715551,7.6735518000134162,12.413847240756731,1.2860931503899999,1,280.29006839656648,303.7866425787962,122.28148257581344,{"$f":"VLOOKUP(A484,Sheet1!$1:$1048576,8,FALSE)","v":2}]
[17041,0.66980486308712128,2.3347585019114541,31.579557306756289,3.90734959075,1,150.86671173080765,171.75811610627076,69.136802407155784,{"$f":"VLOOKUP(A485,Sheet1!$1:$1048576,8,FALSE)","v":3}]
[17042,1.7935954853181817,2.1411390009274629,6.5040650406504072,0.87503373009899998,1,317.83976639118214,322.58623619923907,129.84877441002988,{"$f":"VLOOKUP(A486,Sheet1!$1:$1048576,8,FALSE)","v":1}]
[17043,1.2962230051193182,2.0510426468395959,2.8511966701352756,1.69329859114,1,357.5206627147416,373.79879964849158,150.46307177321361,{"$f":"VLOOKUP(A487,Sheet1!$1:$1048576,8,FALSE)","v":2}]
[17044,1.3599335968579545,3.3015993653229097,29.386292369717783,2.33107449319,1,159.46239008162047,172.69063010940116,69.512161882666348,{"$f":"VLOOKUP(A488,Sheet1!$1:$1048576,8,FALSE)","v":2}]
[17045,0.94012612943560614,2.4745031419200783,31.533058852022283,3.1389367952199998,1,151.77872190774374,168.12773271719283,67.67548515052259,{"$f":"VLOOKUP(A489,Sheet1!$1:$1048576,8,FALSE)","v":3}]
[17046,1.0736013397897726,2.2169994452778927,30.296850215273057,1.12694350422,1,168.06130584417369,172.30023651678317,69.355019004730082,{"$f":"VLOOKUP(A490,Sheet1!$1:$1048576,8,FALSE)","v":1}]
[17047,0.61765673942803023,1.7860486858712814,26.509396241503396,1.7110158439900001,1,191.37241540401629,199.73575790572912,80.398480962773775,{"$f":"VLOOKUP(A491,Sheet1!$1:$1048576,8,FALSE)","v":2}]
[17048,2.4364275509090909,1.8860107665226797,14.651437573847973,2.63787287759,1,223.33171636410481,241.51064235383816,97.213883909343679,{"$f":"VLOOKUP(A492,Sheet1!$1:$1048576,8,FALSE)","v":2}]
[17049,0.73025877132954542,2.9055364090192222,38.934092758340114,4.4428867375600003,1,118.34486252608428,138.1669839785321,55.615558013026437,{"$f":"VLOOKUP(A493,Sheet1!$1:$1048576,8,FALSE)","v":3}]
[17050,9.0976606015595998E-2,5.5950661446615015,29.053225961692707,3.2356410115899998,1,169.59533602940328,193.97314755181594,78.078890701656675,{"$f":"VLOOKUP(A494,Sheet1!$1:$1048576,8,FALSE)","v":3}]
[17051,0.75515338216098482,4.2712369938117858,37.02429149797571,3.3366144979799999,1,128.45017862690031,145.70224065095681,58.648681357988472,{"$f":"VLOOKUP(A495,Sheet1!$1:$1048576,8,FALSE)","v":3}]
[17052,0.11248930710008555,5.4259989085402012,29.291202529318777,3.3255341925600002,1,167.82405344135088,192.29586415444641,77.403743503645998,{"$f":"VLOOKUP(A496,Sheet1!$1:$1048576,8,FALSE)","v":3}]
[17053,1.2802250372102273,3.0911815228792632,13.847259289673577,2.82869436484,1,247.38238371301111,272.40101581620252,109.64800751739109,{"$f":"VLOOKUP(A497,Sheet1!$1:$1048576,8,FALSE)","v":3}]
[17054,0.4759974548655303,2.1242223814886376,23.342002600780233,24.021839137800001,1,92.055100395982507,221.50215944582411,89.159984852705037,{"$f":"VLOOKUP(A498,Sheet1!$1:$1048576,8,FALSE)","v":5}]
[17055,0.10542005420054201,7.409940614104169,26.641532566023074,4.0808067176499998,1,173.09834031654174,207.72278457027403,83.613452673255665,{"$f":"VLOOKUP(A499,Sheet1!$1:$1048576,8,FALSE)","v":3}]
[17056,1.1995965638124999,5.1536293829192381,9.3674698795180724,2.34421589455,1,283.29159235697296,312.15941696272955,125.65172708771492,{"$f":"VLOOKUP(A500,Sheet1!$1:$1048576,8,FALSE)","v":3}]
[17057,0.27581444183143944,3.7080324129964675,37.029813318473117,3.8640400441399998,1,131.7752992134414,151.66436919181731,61.048582522487138,{"$f":"VLOOKUP(A501,Sheet1!$1:$1048576,8,FALSE)","v":3}]
[17058,1.4985620410568179,3.7014612306547026,22.261202360070165,4.1091697298399996,1,180.56967461232634,209.71973420961132,84.417273277264158,{"$f":"VLOOKUP(A502,Sheet1!$1:$1048576,8,FALSE)","v":3}]
[17059,1.3893887623314396,2.1153285787946987,19.795657726692209,1.9760597721499999,1,214.97899293921412,227.28320424257805,91.486995423622119,{"$f":"VLOOKUP(A503,Sheet1!$1:$1048576,8,FALSE)","v":2}]
[17060,1.2283501161890009,9.2686686163829677,25.289647439890373,5.13008127293,1,154.86454991238355,196.55607886649582,79.11858312483038,{"$f":"VLOOKUP(A504,Sheet1!$1:$1048576,8,FALSE)","v":4}]
[17061,1.5297857719659091,4.9083082865339307,53.438276719138358,2.8635023414499998,1,75.789332854207018,84.955857492016705,34.196790614086176,{"$f":"VLOOKUP(A505,Sheet1!$1:$1048576,8,FALSE)","v":3}]
[17062,1.5294741935321972,4.3357637152223658,22.549347607895616,2.9495672538400002,1,185.42930670802167,207.44121988452414,83.500116066608925,{"$f":"VLOOKUP(A506,Sheet1!$1:$1048576,8,FALSE)","v":3}]
[17063,0.74409478526325756,3.4867279330608363,29.68324250681199,2.2797315052,1,166.53193956722484,180.30508442021758,72.577164195567292,{"$f":"VLOOKUP(A507,Sheet1!$1:$1048576,8,FALSE)","v":2}]
[17064,1.7805010414829545,1.0041430820925574,21.714966256450975,1.63212865781,1,201.37307591607524,208.07017189866383,83.753284488054902,{"$f":"VLOOKUP(A508,Sheet1!$1:$1048576,8,FALSE)","v":2}]
[17065,0.82666302417702497,1.7141478551880953,21.863155794933174,1.8294063971500001,1,214.25770069512623,224.46394736749548,90.352176237628015,{"$f":"VLOOKUP(A509,Sheet1!$1:$1048576,8,FALSE)","v":2}]
[17066,0.2287894464562856,3.4173016435935084,32.343262902667128,2.5837312687899998,1,159.31617780205252,174.34940991149398,70.179860935346426,{"$f":"VLOOKUP(A510,Sheet1!$1:$1048576,8,FALSE)","v":2}]
[17067,0.18544078361531613,2.390701784475564,37.50922007841919,2.8935121778899999,1,137.41741568083756,150.71739303105733,60.667401678198871,{"$f":"VLOOKUP(A511,Sheet1!$1:$1048576,8,FALSE)","v":2}]
[17068,0.7126710291493159,3.7403718425036652,22.047649710238247,2.9062530945099998,1,202.92124188131791,225.41847348609446,90.736396122836908,{"$f":"VLOOKUP(A512,Sheet1!$1:$1048576,8,FALSE)","v":3}]
[17069,0.38806451612903226,2.7286017209443112,26.356880820242683,2.51301170697,1,188.56129239121779,204.52469475492515,82.326144051942492,{"$f":"VLOOKUP(A513,Sheet1!$1:$1048576,8,FALSE)","v":2}]
[17070,1.1656165616561658,2.5708471787889269,35.513675258543756,2.78376340796,1,{"$f":"EXP(6.1523-(0.084*B514)-(0.0091*C514)-(0.0289*D514)-(0.0373*E514))","v":134.39912389173026},147.0456369219693,59.18943089954746,{"$f":"VLOOKUP(A514,Sheet1!$1:$1048576,8,FALSE)","v":2}]
[17071,0.30059523809523808,3.0205783357535565,24.847053772673608,2.6677881758400002,1,196.75796791815438,{"$f":"EXP(6.1523+(-0.084*B515)+(-0.0091*0)+(-0.0289*D515)+(-0.0373*F515))","v":215.22201989168167},{"$f":"EXP(6.1523+(-0.084*B515)+(-0.0091*100)+(-0.0289*D515)+(-0.0373*F515))","v":86.632076551850915},{"$f":"VLOOKUP(A515,Sheet1!$1:$1048576,8,FALSE)","v":2}]
[17072,0.28227662690939526,2.6699370073262201,36.99077359829667,2.74910606116,1,138.75604559052181,151.75318320348649,61.084332313617587,{"$f":"VLOOKUP(A516,Sheet1!$1:$1048576,8,FALSE)","v":2}]
[17073,3.0668677727501256E-2,2.564290745594576,32.026333789329684,2.6870340423600001,1,164.12057465411206,178.90640366918291,72.014161311586278,{"$f":"VLOOKUP(A517,Sheet1!$1:$1048576,8,FALSE)","v":2}]
[17074,1.4378295283522726,2.5650283979278701,10.172026925953627,2.03012257975,1,281.03674075725701,298.942348810905,120.33153698590205,{"$f":"VLOOKUP(A518,Sheet1!$1:$1048576,8,FALSE)","v":2}]
[17075,1.1844214124204546,11.068891889061891,19.662977365639644,4.0251778962799998,1,187.48193681216821,232.11862496402398,93.433369397398309,{"$f":"VLOOKUP(A519,Sheet1!$1:$1048576,8,FALSE)","v":3}]
[17076,0.36056838365896976,2.4733970971567532,29.278430091884751,2.77860931791,1,172.38245518372133,188.39967293315794,75.835432155610206,{"$f":"VLOOKUP(A520,Sheet1!$1:$1048576,8,FALSE)","v":2}]
[17077,6.993006993006993E-3,3.2459826197865023,28.11466232378238,2.9706526090500001,1,181.06481518278562,200.71758017383044,80.793688209380207,{"$f":"VLOOKUP(A521,Sheet1!$1:$1048576,8,FALSE)","v":3}]
[17078,0.98423194303153616,14.68329424494118,22.712215320910971,3.71175159512,1,170.91650832948926,216.14327414291455,87.002903704466121,{"$f":"VLOOKUP(A522,Sheet1!$1:$1048576,8,FALSE)","v":4}]
[17079,1.6372557717481064,2.6175654389632563,20.761978064267847,3.3216505942099999,1,193.83977901263046,216.46943272033894,87.134190432755787,{"$f":"VLOOKUP(A523,Sheet1!$1:$1048576,8,FALSE)","v":3}]
[17080,1.6221350484166668,2.8435634808892174,21.215189873417721,3.85826967691,1,187.37871484806226,213.92418329732899,86.109665883786647,{"$f":"VLOOKUP(A524,Sheet1!$1:$1048576,8,FALSE)","v":3}]
[17081,2.4394370494886362,2.2971330418866032,43.811713783308534,2.3433363998400001,1,96.826275746459487,103.95194858193999,41.843177439729828,{"$f":"VLOOKUP(A525,Sheet1!$1:$1048576,8,FALSE)","v":2}]
[17082,4.1757218255200249E-2,3.7303902843346513,27.331176242683171,3.0581901233100002,1,183.25971549439345,204.71553887255999,82.40296343230483,{"$f":"VLOOKUP(A526,Sheet1!$1:$1048576,8,FALSE)","v":3}]
[17083,0.1855273287143957,3.6176765797262735,28.782096267171681,3.0605092363700002,1,173.78784451302468,193.95246868515818,78.070566956901359,{"$f":"VLOOKUP(A527,Sheet1!$1:$1048576,8,FALSE)","v":3}]
[17084,1.101287680348485,2.266888925903447,35.376295628661559,1.4844308456699999,1,142.79627032800826,148.43050830619387,59.746875178868834,{"$f":"VLOOKUP(A528,Sheet1!$1:$1048576,8,FALSE)","v":2}]
[17085,2.020096804943182,1.6829719351177077,35.317582080392754,2.1514102102199999,1,129.8488524819106,137.63892164054045,55.403000130184957,{"$f":"VLOOKUP(A529,Sheet1!$1:$1048576,8,FALSE)","v":2}]
[17086,1.2665111578143939,1.4907028831160583,30.637177461822013,2.4230242451500001,1,157.04846210040364,167.87147117927631,67.572333673823081,{"$f":"VLOOKUP(A530,Sheet1!$1:$1048576,8,FALSE)","v":2}]
[17087,1.2055300638579547,1.8947265445371526,30.898621003182303,3.2722908627499998,1,151.22470857687017,167.4634850241643,67.40810936332015,{"$f":"VLOOKUP(A531,Sheet1!$1:$1048576,8,FALSE)","v":3}]
[17088,0.10929494998780191,3.6122624181500376,29.619920265335519,2.96269928211,1,171.35257180876727,190.52883130205961,76.692469975897069,{"$f":"VLOOKUP(A532,Sheet1!$1:$1048576,8,FALSE)","v":3}]
[17089,1.1506437588882577,4.3119673768133246,31.800667865399433,4.1826156502299998,1,139.95992841905451,163.90821769202867,65.977028139220124,{"$f":"VLOOKUP(A533,Sheet1!$1:$1048576,8,FALSE)","v":3}]
[17089,1.1506437588882577,4.3119673768133246,31.800667865399433,4.1826156502299998,1,139.95992841905451,163.90821769202867,65.977028139220124,{"$f":"VLOOKUP(A534,Sheet1!$1:$1048576,8,FALSE)","v":3}]
[17090,0.95362104441477269,3.5699543236037821,39.797671311318958,6.0070815285499997,1,106.21787466720335,132.25648842795982,53.236440377878075,{"$f":"VLOOKUP(A535,Sheet1!$1:$1048576,8,FALSE)","v":3}]
[17091,1.7132346783636363,1.9423568916841685,29.813142977115266,2.9566262013200002,1,151.23438470408198,165.58562870101107,66.652226703996234,{"$f":"VLOOKUP(A536,Sheet1!$1:$1048576,8,FALSE)","v":2}]
[17092,0.5319383259911894,6.6635813747708399,30.061061531235321,4.5852970083100004,1,149.48294909405814,181.55388602923492,73.079837094208955,{"$f":"VLOOKUP(A537,Sheet1!$1:$1048576,8,FALSE)","v":3}]
[17093,0.82312912532386362,4.6807956232612709,26.512942034269049,3.4103124722699998,1,171.93787733621889,196.29784609043807,79.014638177027678,{"$f":"VLOOKUP(A538,Sheet1!$1:$1048576,8,FALSE)","v":3}]
[17094,1.2327804329491143,8.0223696112650202,29.652538726333905,4.5856541973000002,1,140.85621374847744,173.20711490992574,69.72005952622267,{"$f":"VLOOKUP(A539,Sheet1!$1:$1048576,8,FALSE)","v":3}]
[17095,0.6721847966761364,1.7949586929774748,44.579011788958326,2.66211306176,1,109.05715417866539,117.9431862871937,47.474989540307227,{"$f":"VLOOKUP(A540,Sheet1!$1:$1048576,8,FALSE)","v":2}]
[17096,0.62250586890530302,2.1543124134140195,38.579982891360139,2.0780379225100001,1,132.67903540678495,140.85739582332201,56.698513953181397,{"$f":"VLOOKUP(A541,Sheet1!$1:$1048576,8,FALSE)","v":2}]
[17097,0.27967323402210476,22.179340395453238,29.981549815498155,3.4320730943700002,1,138.72483053969972,185.86872754836978,74.816665328526824,{"$f":"VLOOKUP(A542,Sheet1!$1:$1048576,8,FALSE)","v":4}]
[17098,0.44624217118997911,4.0612054090702117,29.114544644183628,3.13842203413,1,167.23252450883933,187.9367213115971,75.649082913376304,{"$f":"VLOOKUP(A543,Sheet1!$1:$1048576,8,FALSE)","v":3}]
[17099,0,1.9692836129092957,40.936134610021377,3.2313471634400002,1,125.31066571357462,138.64902081675444,55.809589517287513,{"$f":"VLOOKUP(A544,Sheet1!$1:$1048576,8,FALSE)","v":3}]
[17100,0,7.6807657563754477,32.127781038683274,4.8857969461500002,1,144.26789216577106,178.84278574375065,71.988553555517029,{"$f":"VLOOKUP(A545,Sheet1!$1:$1048576,8,FALSE)","v":3}]
[17101,1.879409047214015,3.3768756018537927,37.646370023419202,7.0667683396100003,1,100.69836057589413,130.2101321132908,52.412732390219603,{"$f":"VLOOKUP(A546,Sheet1!$1:$1048576,8,FALSE)","v":4}]
[17102,1.4746868844109848,1.3244406072672597,46.726726726726724,4.6880524718699998,1,89.220169775121718,103.61933040147879,41.709290564740186,{"$f":"VLOOKUP(A547,Sheet1!$1:$1048576,8,FALSE)","v":3}]
[17103,0.57061006985227269,40.155973654269943,20.75372249308209,5.2504008472499999,1,140.23602027148729,236.81664077464038,95.324434566064426,{"$f":"VLOOKUP(A548,Sheet1!$1:$1048576,8,FALSE)","v":5}]
[17104,1.138090564979672,7.3715121865339652,33.248026172588695,4.6344411693599996,1,128.49461792928219,157.35941180092095,63.340975129555076,{"$f":"VLOOKUP(A549,Sheet1!$1:$1048576,8,FALSE)","v":3}]
[17105,2.0950946339015153,2.6361719703061768,33.058419243986251,1.5329467212700001,1,139.73610184547783,146.00249850371739,58.769542417180936,{"$f":"VLOOKUP(A550,Sheet1!$1:$1048576,8,FALSE)","v":2}]
[17106,0.60031283258143942,2.2895336202448568,41.338067650906375,5.29719608087,1,108.72082924848038,130.30835025914914,52.452267573167241,{"$f":"VLOOKUP(A551,Sheet1!$1:$1048576,8,FALSE)","v":3}]
[17107,5.2284250635055045,8.2312431787692333,31.165004733633573,4.8186406459000004,1,95.373813469899204,118.52734078226935,47.710125875153317,{"$f":"VLOOKUP(A552,Sheet1!$1:$1048576,8,FALSE)","v":3}]
[17108,0.13212731852530341,7.6922247503682559,26.443830474495734,3.3657739173999999,1,177.93743365518287,208.44487223562476,83.904110450435226,{"$f":"VLOOKUP(A553,Sheet1!$1:$1048576,8,FALSE)","v":3}]
[17109,0.65431243505368897,7.6037330304622408,33.02657499872263,4.5587275037100001,1,134.77884251550913,164.93801522083419,66.391546590414322,{"$f":"VLOOKUP(A554,Sheet1!$1:$1048576,8,FALSE)","v":3}]
[17110,1.2131029984223485,2.7811556200064134,27.423987322967218,3.7732208682300001,1,162.6818511353051,185.03520689242589,74.481153073277014,{"$f":"VLOOKUP(A555,Sheet1!$1:$1048576,8,FALSE)","v":3}]
[17111,0.95629996556060604,5.4241433170887143,22.881739918441323,1.96584312925,1,197.94770236636919,215.59216959657854,86.781070774590816,{"$f":"VLOOKUP(A556,Sheet1!$1:$1048576,8,FALSE)","v":2}]
[17112,0.26743398781313477,7.2247295564307699,32.542720183461888,4.5171295744700002,1,141.89920188064298,172.78549842930067,69.550348679519274,{"$f":"VLOOKUP(A557,Sheet1!$1:$1048576,8,FALSE)","v":3}]
[17113,0.28380785719696966,6.5341306614239496,46.226942425936279,12.5210082285,1,71.236641079165707,116.18706295041386,46.768107356862551,{"$f":"VLOOKUP(A558,Sheet1!$1:$1048576,8,FALSE)","v":4}]
[17114,0.20831673703497169,7.529728001637614,26.421088554680171,3.6950537723600001,1,175.01748869580013,207.25127269370273,83.42365772101617,{"$f":"VLOOKUP(A559,Sheet1!$1:$1048576,8,FALSE)","v":3}]
[17115,0.56975381008206338,7.6922315956532064,26.465065018644669,3.3801146212800002,1,171.31821233188316,200.79817535810781,80.826129723392299,{"$f":"VLOOKUP(A560,Sheet1!$1:$1048576,8,FALSE)","v":3}]
[17116,1.6235379838503787,6.3217854137444727,30.798342043611459,4.2677388582800004,1,135.52224785006024,162.15468483135203,65.271188685158776,{"$f":"VLOOKUP(A561,Sheet1!$1:$1048576,8,FALSE)","v":3}]
[17117,0.32032494424976105,7.2202819129560893,26.539209029841931,4.7030125745999998,1,166.88127463892144,204.61078479177831,82.360797377223832,{"$f":"VLOOKUP(A562,Sheet1!$1:$1048576,8,FALSE)","v":3}]
[17118,0.23553564762971257,7.3444211880344525,31.622253479761202,4.4708028037599998,1,146.20894118220016,177.91962084786456,71.616957322145396,{"$f":"VLOOKUP(A563,Sheet1!$1:$1048576,8,FALSE)","v":3}]
[17119,0.386254148378118,14.402048722915824,21.289422774103567,4.8854706517000004,1,179.70266692739722,236.8176257639532,95.324831048123244,{"$f":"VLOOKUP(A564,Sheet1!$1:$1048576,8,FALSE)","v":4}]
[17120,0.16347905282331512,7.0718164920965831,32.365408520442926,4.4371716166499997,1,144.50981396266809,175.19636898604705,70.520782479619143,{"$f":"VLOOKUP(A565,Sheet1!$1:$1048576,8,FALSE)","v":3}]
[17121,2.4262144091856062,6.8014537978706775,31.553798727128086,4.3223238139399998,1,123.15913487023973,148.30829869540221,59.697682850115477,{"$f":"VLOOKUP(A566,Sheet1!$1:$1048576,8,FALSE)","v":3}]
[17122,1.3601104266647726,3.0091868290997867,20.041872858774269,4.3003615481399997,1,194.62089004937286,226.22737974215127,91.062000485872133,{"$f":"VLOOKUP(A567,Sheet1!$1:$1048576,8,FALSE)","v":3}]
[17123,0.79959616355376084,2.0964800189510693,4.6515725486741255,1.6662902768338299,1,354.06229778934153,369.96317572020791,148.91914022779639,{"$f":"VLOOKUP(A568,Sheet1!$1:$1048576,8,FALSE)","v":2}]
[18009,0.49343219810606065,0.80919532379828474,13.51116894382997,30.076306154200001,1,98.60963904269444,293.8527856594115,118.28286452767694,{"$f":"VLOOKUP(A569,Sheet1!$1:$1048576,8,FALSE)","v":5}]
[18010,0.6478575871022727,0.68224771865165401,7.4488491048593355,17.361362418700001,1,186.57269545443853,345.60905021543113,139.11601475696833,{"$f":"VLOOKUP(A570,Sheet1!$1:$1048576,8,FALSE)","v":5}]
[18011,0.76410256410256405,5.8720619985050586,31.806982297865886,21.156257977500001,1,75.66603717154625,169.28667781079551,68.141988625022591,{"$f":"VLOOKUP(A571,Sheet1!$1:$1048576,8,FALSE)","v":5}]
[18012,0.21064162572727274,1.2749781926311956,17.867981790591806,31.422198896299999,1,84.315954803956942,265.31596319578529,106.79610220912018,{"$f":"VLOOKUP(A572,Sheet1!$1:$1048576,8,FALSE)","v":5}]
[18013,0.19461176212901105,8.1560815855363256,38.882093282986759,13.835409353899999,1,83.260896132799203,144.74305211605181,58.262584737273876,{"$f":"VLOOKUP(A573,Sheet1!$1:$1048576,8,FALSE)","v":5}]
[18014,1.0174541466912879,18.957697984072698,36.478095895136256,9.2577394495800007,1,89.549195726170979,144.79470046865714,58.283374450328949,{"$f":"VLOOKUP(A574,Sheet1!$1:$1048576,8,FALSE)","v":4}]
[18015,6.1768820464015155E-2,7.205230215224538,50.265988887575361,8.7685077658499999,1,73.831938250047259,105.33274508109878,42.398981479102069,{"$f":"VLOOKUP(A575,Sheet1!$1:$1048576,8,FALSE)","v":4}]
[18016,1.9143786999621215,6.0363462242818899,29.099912612875034,4.04206289623,1,140.44346423695512,166.20213273691564,66.900384512662328,{"$f":"VLOOKUP(A576,Sheet1!$1:$1048576,8,FALSE)","v":3}]
[18017,0.19593147751605997,3.8223895739361251,19.8456715698095,1.5995459036099999,1,236.95139606140461,250.88680153909016,100.98801510980307,{"$f":"VLOOKUP(A577,Sheet1!$1:$1048576,8,FALSE)","v":2}]
[18018,2.1003505289015152,3.7156259617356464,16.783405172413794,2.6864633444999999,1,{"$f":"EXP(6.1523-(0.084*B578)-(0.0091*C578)-(0.0289*D578)-(0.0373*E578))","v":212.04804303504986},233.58128825310035,94.022126802856249,{"$f":"VLOOKUP(A578,Sheet1!$1:$1048576,8,FALSE)","v":3}]
[18019,2.8853291946212121,3.7087798927242943,13.529256023298913,1.16968844258,1,230.80139357749468,{"$f":"EXP(6.1523+(-0.084*B579)+(-0.0091*0)+(-0.0289*D579)+(-0.0373*F579))","v":240.23962159909215},{"$f":"EXP(6.1523+(-0.084*B579)+(-0.0091*100)+(-0.0289*D579)+(-0.0373*F579))","v":96.70226726630888},{"$f":"VLOOKUP(A579,Sheet1!$1:$1048576,8,FALSE)","v":2}]
[18020,0.56399743509659095,0.33199566967843053,13.420486513321197,22.667948373000002,1,130.1303343722318,292.88269052663202,117.89237773711609,{"$f":"VLOOKUP(A580,Sheet1!$1:$1048576,8,FALSE)","v":5}]
[18021,0.43299532480303032,9.7637600481530296,34.637745974955273,10.582233220399999,1,102.65050042164124,160.38826534197818,64.560162050880677,{"$f":"VLOOKUP(A581,Sheet1!$1:$1048576,8,FALSE)","v":4}]
[18022,0.37580993520518358,3.5815064830824364,22.091503267973856,16.4221418813,1,126.1094171035236,231.59438962731465,93.222351975278372,{"$f":"VLOOKUP(A582,Sheet1!$1:$1048576,8,FALSE)","v":5}]
[18023,0.44484207238446966,15.158596243010084,62.974573319400903,7.6841887153300004,1,47.961789034241754,70.645053815350252,28.436345468838315,{"$f":"VLOOKUP(A583,Sheet1!$1:$1048576,8,FALSE)","v":4}]
[18024,0.336293702375,4.9111700574526944,46.690933156849766,9.9130581822200003,1,78.275499070110541,114.13516007113364,45.942166742587915,{"$f":"VLOOKUP(A584,Sheet1!$1:$1048576,8,FALSE)","v":4}]
[18025,1.2875612026496213E-3,8.3708771817038521,46.806419914837868,6.0494715810299997,1,89.807279634456208,117.00144782807969,47.095916997809709,{"$f":"VLOOKUP(A585,Sheet1!$1:$1048576,8,FALSE)","v":4}]
[18026,0.36593287515151518,1.7650463009374846,40.158067402326274,9.0136190205499993,1,100.35597145550695,137.50956668263461,55.350931626129011,{"$f":"VLOOKUP(A586,Sheet1!$1:$1048576,8,FALSE)","v":4}]
[18027,1.6522915545992469,13.921719787584419,58.5386697051702,9.0760975396599992,1,47.300168915224639,72.561897405489191,29.207921447552835,{"$f":"VLOOKUP(A587,Sheet1!$1:$1048576,8,FALSE)","v":4}]
[18028,0.31484728245824484,8.0848716818966047,29.24622314346076,3.2077885310999998,1,161.97048623692072,189.30074228692746,76.198134398036771,{"$f":"VLOOKUP(A588,Sheet1!$1:$1048576,8,FALSE)","v":3}]
[18030,2.2797788079166664E-3,6.3187965749986104,23.033252230332522,17.0812171615,1,120.52016220857827,232.5598262481877,93.610963601948953,{"$f":"VLOOKUP(A589,Sheet1!$1:$1048576,8,FALSE)","v":5}]
[18031,3.0987642431060608E-3,6.0683064781489069,55.034979860080554,12.4570331165,1,56.920744998253781,92.22477334484563,37.122705327311934,{"$f":"VLOOKUP(A590,Sheet1!$1:$1048576,8,FALSE)","v":4}]
[18032,0.22986859185984851,2.6043434303082926,44.597672064777328,10.380466439599999,1,84.202734098424727,122.34174480072234,49.245515892831875,{"$f":"VLOOKUP(A591,Sheet1!$1:$1048576,8,FALSE)","v":4}]
[19001,1.8483030781373324,1.085010954759889,11.577391946804582,1.39721833986,1,270.55247454818561,277.31551857260922,111.62621392592489,{"$f":"VLOOKUP(A592,Sheet1!$1:$1048576,8,FALSE)","v":1}]
[19002,7.9665803718521999E-2,0.7112520907983374,12.398921832884097,1.2185590030915801,1,309.62273939469651,314.18413509015909,126.46672518084533,{"$f":"VLOOKUP(A593,Sheet1!$1:$1048576,8,FALSE)","v":1}]
[19003,1.3055606632291665,1.100509724091278,19.312045081004932,0.843227094427483,1,231.14559476264762,232.11079015443929,93.430215696749769,{"$f":"VLOOKUP(A594,Sheet1!$1:$1048576,8,FALSE)","v":1}]
[19004,1.9807623797648735,1.145378619603534,16.541158140742667,0.68872566651799205,1,237.87946053501133,237.59712561427312,95.638598620507608,{"$f":"VLOOKUP(A595,Sheet1!$1:$1048576,8,FALSE)","v":1}]
[19005,1.47865066099377,1.2287803012883736,7.7700004697702827,1.6937429133299999,1,307.71739697691032,319.33487942051613,128.54002454561794,{"$f":"VLOOKUP(A596,Sheet1!$1:$1048576,8,FALSE)","v":2}]
[19006,2.2847995124810607,2.8753873830264625,5.0457162207924142,4.3601787582,1,277.48169007677626,322.87189742982582,129.96375997520832,{"$f":"VLOOKUP(A597,Sheet1!$1:$1048576,8,FALSE)","v":3}]
[19007,1.7663707468939391,1.2526012910158322,2.1857923497267762,6.3308772978599999,1,296.84646830118072,366.30102145426247,147.44503442360522,{"$f":"VLOOKUP(A598,Sheet1!$1:$1048576,8,FALSE)","v":3}]
[19008,2.1061384770643938,1.6531506819903181,16.079007508978126,3.16137823632,1,216.53191966043792,238.26918189434633,95.909117553151006,{"$f":"VLOOKUP(A599,Sheet1!$1:$1048576,8,FALSE)","v":3}]
[19009,0.82019495353977279,5.4563322368815346,33.257760725497036,4.7160818032299998,1,133.8462648813092,161.57256149405924,65.036869940523118,{"$f":"VLOOKUP(A600,Sheet1!$1:$1048576,8,FALSE)","v":3}]
[19010,0.13738939912367423,5.4731983217942259,37.657748611812217,7.1699144079900003,1,113.88696750952263,150.67879046159686,60.651863208881103,{"$f":"VLOOKUP(A601,Sheet1!$1:$1048576,8,FALSE)","v":4}]
[19011,1.5683252569886361,1.5891157819435902,22.339276066990816,1.01150652866,1,204.94987825806973,208.0244456745296,83.734878575167272,{"$f":"VLOOKUP(A602,Sheet1!$1:$1048576,8,FALSE)","v":1}]
[19012,2.12397507280303,2.198015336909994,25.218733916623776,1.8330182913799999,1,173.58912597295802,182.68524214674116,73.535235337513868,{"$f":"VLOOKUP(A603,Sheet1!$1:$1048576,8,FALSE)","v":2}]
[19013,2.4762990924053025,1.6735515047119205,9.3410679756061281,1.9983662746099999,1,266.28459184503265,280.62914016031652,112.96002688425786,{"$f":"VLOOKUP(A604,Sheet1!$1:$1048576,8,FALSE)","v":2}]
[19014,1.3654861078087119,1.0529538466346451,11.702744491689215,1.35321833729,1,281.27502494679345,287.74936796710136,115.82609105712666,{"$f":"VLOOKUP(A605,Sheet1!$1:$1048576,8,FALSE)","v":1}]
[19015,0.37043282743114109,1.4091174539737612,22.992100065832783,1.30352864151,1,220.36105570965543,225.74633346512522,90.868367706487945,{"$f":"VLOOKUP(A606,Sheet1!$1:$1048576,8,FALSE)","v":1}]
[19016,2.4560723161174245,1.9067298353638287,19.976993865030675,1.4051641806599999,1,200.11474705628919,206.7178464337853,83.208940729663738,{"$f":"VLOOKUP(A607,Sheet1!$1:$1048576,8,FALSE)","v":2}]
[19017,1.0026845637583892,1.134779099296128,11.46189000367705,1.5421203297399999,1,289.7383566925684,298.7257342078679,120.2443443609002,{"$f":"VLOOKUP(A608,Sheet1!$1:$1048576,8,FALSE)","v":2}]
[19018,1.8589515546458335,0.93261216835856142,13.511282333516785,2.1377044250699999,1,248.99899596411367,262.00720672613932,105.46424757865967,{"$f":"VLOOKUP(A609,Sheet1!$1:$1048576,8,FALSE)","v":2}]
[19019,1.6957848385056817,2.7629280613228411,6.8624216430221052,1.60711829784,1,306.8754393427966,321.89650733230025,129.57114183307175,{"$f":"VLOOKUP(A610,Sheet1!$1:$1048576,8,FALSE)","v":2}]
[19020,0.71899140067045619,1.0180807266368472,11.398822172302834,1.83010274427,1,294.40353509862695,306.48804862959673,123.36886395021169,{"$f":"VLOOKUP(A611,Sheet1!$1:$1048576,8,FALSE)","v":2}]
[19021,0.78520784095648544,1.3738717722887031,23.862270307401683,1.42495815302,1,206.65893083776285,212.60222456617393,85.577545471323972,{"$f":"VLOOKUP(A612,Sheet1!$1:$1048576,8,FALSE)","v":1}]
[19022,1.5284210153087123,1.8384310581640244,20.978160565979699,1.94024295236,1,206.13741501984245,217.0968992855332,87.386760925017654,{"$f":"VLOOKUP(A613,Sheet1!$1:$1048576,8,FALSE)","v":2}]
[19023,1.5946447577727274,2.2589243694821728,15.106488360574541,1.78125959376,1,243.41678338917558,255.81955348071105,102.97356725745445,{"$f":"VLOOKUP(A614,Sheet1!$1:$1048576,8,FALSE)","v":2}]
[19024,2.0802039870190079,1.4740012834997409,22.254865956665444,1.6748721254600001,1,192.19511826792498,199.7561232895556,80.406678523095678,{"$f":"VLOOKUP(A615,Sheet1!$1:$1048576,8,FALSE)","v":2}]
[19025,2.9854368932038837,1.470028352365613,20.511598347632663,1.69281825313,1,187.20770640246721,194.69575487487245,78.369757653651021,{"$f":"VLOOKUP(A616,Sheet1!$1:$1048576,8,FALSE)","v":2}]
[19026,0.52373865158505728,1.2989966166472735,11.499321573948439,1.95515266069,1,296.25705198195311,310.65269746954999,125.04523599288646,{"$f":"VLOOKUP(A617,Sheet1!$1:$1048576,8,FALSE)","v":2}]
[19027,0.74155715698742397,1.31187010789273,14.707060457167273,1.83564506227,1,266.28510891411179,278.01502294496009,111.90778138061354,{"$f":"VLOOKUP(A618,Sheet1!$1:$1048576,8,FALSE)","v":2}]
[19028,2.1718595226704545,1.2820324964504957,9.5221280602636522,2.07744219876,1,271.92307381050347,286.39566510175899,115.2811928616826,{"$f":"VLOOKUP(A619,Sheet1!$1:$1048576,8,FALSE)","v":2}]
[19029,1.370552321403409,1.7012247431759486,24.762267021681247,2.22277127086,1,185.51830835514514,197.20505743770974,79.379812720622709,{"$f":"VLOOKUP(A620,Sheet1!$1:$1048576,8,FALSE)","v":2}]
[19030,0.66046663827651508,2.4057134398453117,16.342335186656076,2.6021025837399998,1,246.06036618240788,266.99430150388486,107.47167403425387,{"$f":"VLOOKUP(A621,Sheet1!$1:$1048576,8,FALSE)","v":2}]
[19031,1.1176103571985652,1.1372505355221798,9.0805219796740637,1.0290650883500001,1,313.33112450345504,316.93402994241296,127.57362447242292,{"$f":"VLOOKUP(A622,Sheet1!$1:$1048576,8,FALSE)","v":1}]
[19032,2.8510635132765154,1.1878698001463466,9.7108843537414966,1.3297937263499999,1,262.89512434167301,269.04162490686241,108.29577129838333,{"$f":"VLOOKUP(A623,Sheet1!$1:$1048576,8,FALSE)","v":1}]
[19033,0.48336218503558376,1.2928044189369881,14.204392347076258,1.8034679442099999,1,276.48505340370178,288.26800998370533,116.0348570324114,{"$f":"VLOOKUP(A624,Sheet1!$1:$1048576,8,FALSE)","v":2}]
[19034,1.6764676062050086,1.7943808675456445,16.029082013997417,2.29288786529,1,231.9177232504187,247.38263088232762,99.577501535308301,{"$f":"VLOOKUP(A625,Sheet1!$1:$1048576,8,FALSE)","v":2}]
[19035,2.1602884331439394,0.6978918337143426,8.1671521398162668,1.87379292202,1,286.73595736122434,298.12267854919861,120.00159984984525,{"$f":"VLOOKUP(A626,Sheet1!$1:$1048576,8,FALSE)","v":2}]
[19036,2.0268209455681818,1.5256953558601778,8.0993269900208862,2.0071018973900001,1,286.92698107561324,302.0753503006606,121.59264597946216,{"$f":"VLOOKUP(A627,Sheet1!$1:$1048576,8,FALSE)","v":2}]
[19037,1.8377951096121417,3.508590486459009,19.821649302489845,2.0756360360500001,1,203.5130536201923,218.71719449108173,88.038968995336489,{"$f":"VLOOKUP(A628,Sheet1!$1:$1048576,8,FALSE)","v":2}]
[19038,0.3194719471947195,1.3103636315962273,14.485119831445878,1.8415603222900001,1,277.61350712461757,289.90242281436804,116.69274778882453,{"$f":"VLOOKUP(A629,Sheet1!$1:$1048576,8,FALSE)","v":2}]
[19039,0.76344463971880483,1.0445954682972987,10.139292589936206,1.04879798203,1,313.09889870114125,316.66520952454857,127.46541774231765,{"$f":"VLOOKUP(A630,Sheet1!$1:$1048576,8,FALSE)","v":1}]
[19040,2.8747623944886365,1.0178640375020578,14.23788893265065,1.3441958484500001,1,230.42925620592712,235.57868315358169,94.826126635261247,{"$f":"VLOOKUP(A631,Sheet1!$1:$1048576,8,FALSE)","v":1}]
[19041,0.91078066914498135,1.1129807328259234,9.7952716766597288,1.6988428195,1,304.66600484432695,315.89537668832747,127.15554137728213,{"$f":"VLOOKUP(A632,Sheet1!$1:$1048576,8,FALSE)","v":2}]
[19042,2.6745797510586424,1.5818485097705355,4.2439876841141713,3.0652100452500002,1,291.85494078904395,319.79624443166642,128.72573513872749,{"$f":"VLOOKUP(A633,Sheet1!$1:$1048576,8,FALSE)","v":2}]
[19043,0.51775347644120429,1.4295696741407073,15.032733024074874,1.91612573646,1,267.70406881720288,280.63719765502702,112.96327022106387,{"$f":"VLOOKUP(A634,Sheet1!$1:$1048576,8,FALSE)","v":2}]
[19044,0.74280308149749963,1.0010254643121572,10.947160168164208,1.17392415881,1,305.09857144056679,309.89440558092087,124.74000513882501,{"$f":"VLOOKUP(A635,Sheet1!$1:$1048576,8,FALSE)","v":1}]
[19045,0.56323930846223835,1.1096357705803266,9.0626965820926824,2.0458092703399999,1,316.2931886348029,332.21287953985359,133.72373155075931,{"$f":"VLOOKUP(A636,Sheet1!$1:$1048576,8,FALSE)","v":2}]
[19046,5.8229352901893936,0.88694760439541398,1.3723696248856359,1.04879473825,1,264.09811624086353,266.72334321276719,107.36260675837627,{"$f":"VLOOKUP(A637,Sheet1!$1:$1048576,8,FALSE)","v":1}]
[19047,0.55046197583511025,1.0697292138286414,8.478812294837363,1.9816638073699999,1,322.90976628533974,338.22911426820673,136.14541176639389,{"$f":"VLOOKUP(A638,Sheet1!$1:$1048576,8,FALSE)","v":2}]
[19048,4.0663474909090906,1.0585487934658646,8.4841001413718438,1.9408449511000001,1,240.69004995467245,251.69960093920878,101.31518655763084,{"$f":"VLOOKUP(A639,Sheet1!$1:$1048576,8,FALSE)","v":2}]
[19049,0.3596417576266443,1.2756581973312242,14.190271585927702,1.78125054778,1,279.76280201830019,291.39835352615694,117.29489613779543,{"$f":"VLOOKUP(A640,Sheet1!$1:$1048576,8,FALSE)","v":2}]
[19050,0.51594512738286125,1.6668065018118439,8.7418262034192082,1.97408205251,1,319.74398614642371,336.64259951440289,135.50680114620107,{"$f":"VLOOKUP(A641,Sheet1!$1:$1048576,8,FALSE)","v":2}]
[19051,2.630976594185606,2.0093178827885225,5.4027504911591357,2.2033568426699999,1,{"$f":"EXP(6.1523-(0.084*B642)-(0.0091*C642)-(0.0289*D642)-(0.0373*E642))","v":291.39754647123755},310.39897213843824,124.94310540086302,{"$f":"VLOOKUP(A642,Sheet1!$1:$1048576,8,FALSE)","v":2}]
[19052,0.35864485981308408,1.3369070800944174,12.673652015808168,1.8458593644700001,1,291.45595010099851,{"$f":"EXP(6.1523+(-0.084*B643)+(-0.0091*0)+(-0.0289*D643)+(-0.0373*F643))","v":304.47996497597364},{"$f":"EXP(6.1523+(-0.084*B643)+(-0.0091*100)+(-0.0289*D643)+(-0.0373*F643))","v":122.56056163574245},{"$f":"VLOOKUP(A643,Sheet1!$1:$1048576,8,FALSE)","v":2}]
[19053,3.2524053363636369,1.4078537442775982,4.8413249942089411,0.93731643949099996,1,296.31121000175779,299.43089590973744,120.52818902776347,{"$f":"VLOOKUP(A644,Sheet1!$1:$1048576,8,FALSE)","v":1}]
[19054,3.7924980390530307,0.86305634048637114,4.1428873388290004,2.35873497568,1,275.38389151036216,291.98450057222999,117.53083452268561,{"$f":"VLOOKUP(A645,Sheet1!$1:$1048576,8,FALSE)","v":2}]
[19055,0.44704019006137397,1.326507463316309,12.554034427342495,1.87466817184,1,290.01733247764764,303.27410365012423,122.07517324126272,{"$f":"VLOOKUP(A646,Sheet1!$1:$1048576,8,FALSE)","v":2}]
[19056,2.0047885075818037,11.81889073277094,4.1437549096622153,2.3041014304999998,1,290.22264199644292,339.28594535987838,136.57081188150366,{"$f":"VLOOKUP(A647,Sheet1!$1:$1048576,8,FALSE)","v":3}]
[19057,2.0187645852651515,0.65806937971847923,16.239048811013767,0.58028230911699996,1,241.2375910210244,238.91677372621899,96.169788952766069,{"$f":"VLOOKUP(A648,Sheet1!$1:$1048576,8,FALSE)","v":1}]
[19058,1.2969440993030303,0.68973235654450959,19.988172678888233,0.81936429482200002,1,227.88922430992631,227.78415802346808,91.68864145555159,{"$f":"VLOOKUP(A649,Sheet1!$1:$1048576,8,FALSE)","v":1}]
[19059,1.4578698660018941,0.82730418931787497,11.907270811380402,1.92833222606,1,272.12555108018955,283.84230072716292,114.25340184812319,{"$f":"VLOOKUP(A650,Sheet1!$1:$1048576,8,FALSE)","v":2}]
[19060,0.27918440510867132,1.5532379723812646,12.247435467478097,1.8985246921200001,1,295.878290314536,310.3180145259405,124.91051800071276,{"$f":"VLOOKUP(A651,Sheet1!$1:$1048576,8,FALSE)","v":2}]
[19061,2.5991332823863638,1.1447404177295526,9.0568496497800943,4.4309689713999996,1,243.84616836879064,280.03927169865199,112.72259053944443,{"$f":"VLOOKUP(A652,Sheet1!$1:$1048576,8,FALSE)","v":3}]
[19062,2.5806397127083334,2.2048839918569478,24.510035419126329,3.4228202676900001,1,160.68575095547229,179.44813784375648,72.23222243983902,{"$f":"VLOOKUP(A653,Sheet1!$1:$1048576,8,FALSE)","v":3}]
[19063,0.33141792203758347,1.5125386523037512,12.224747032007462,2.01878286087,1,293.56556454141213,309.16209088247763,124.44523073308574,{"$f":"VLOOKUP(A654,Sheet1!$1:$1048576,8,FALSE)","v":2}]
[19064,0.29683437184090911,100,27.287319422150887,10.8123551682,1,56.006151543392548,200.62999313305593,80.758432303757033,{"$f":"VLOOKUP(A655,Sheet1!$1:$1048576,8,FALSE)","v":5}]
[19065,1.7419532878106061,2.223355101974537,20.2729044834308,18.149148470499998,1,112.49324944099156,217.62839196546261,87.600699603585809,{"$f":"VLOOKUP(A656,Sheet1!$1:$1048576,8,FALSE)","v":5}]
[19066,1.1328725894549103,1.9551508960741739,19.640076137740092,2.9379481355000001,1,213.18560334700263,233.28024571040899,93.900949886958301,{"$f":"VLOOKUP(A657,Sheet1!$1:$1048576,8,FALSE)","v":2}]
[19067,9.5921796242553842E-2,1.4781477473964213,12.717952811864622,2.2488544753199999,1,292.7620949069975,310.87588000417611,125.13507236945469,{"$f":"VLOOKUP(A658,Sheet1!$1:$1048576,8,FALSE)","v":2}]
[19068,0.1107849196538937,1.2230180797046986,14.591836734693878,2.96553586326,1,270.30367059326448,294.12062876699611,118.3906778667202,{"$f":"VLOOKUP(A659,Sheet1!$1:$1048576,8,FALSE)","v":2}]
[19069,0.22102526002971767,1.2259454964950931,13.757827089970339,2.06812958664,1,283.67673637446632,298.51872920132598,120.16101983127082,{"$f":"VLOOKUP(A660,Sheet1!$1:$1048576,8,FALSE)","v":2}]
[19070,1.2485146948143939,4.4242315801116652,23.51555136663525,6.4515053406399998,1,161.8910656123017,206.54645094319866,83.139949892812481,{"$f":"VLOOKUP(A661,Sheet1!$1:$1048576,8,FALSE)","v":4}]
[19071,1.8123214285714286,53.20633631829098,22.750342382985579,14.8295260301,1,74.088559206818957,201.39740696092997,81.06733495933473,{"$f":"VLOOKUP(A662,Sheet1!$1:$1048576,8,FALSE)","v":5}]
[19072,1.6569799999999999,1.3647307823464556,13.156835170478084,2.4271746261199998,1,252.12587831052829,269.23406828561667,108.3732344200868,{"$f":"VLOOKUP(A663,Sheet1!$1:$1048576,8,FALSE)","v":2}]
[19073,0.82988379410416668,1.3403830165705271,5.0199537912203311,7.4731888709899996,1,283.31678872903092,365.115264444491,146.96773850335452,{"$f":"VLOOKUP(A664,Sheet1!$1:$1048576,8,FALSE)","v":4}]
[19074,3.0476190476190477E-3,6.7079086684752527,14.6838373752287,3.28409274905,1,255.73518396250029,296.00640714676439,119.14974934573584,{"$f":"VLOOKUP(A665,Sheet1!$1:$1048576,8,FALSE)","v":3}]
[19075,0.70872947277441656,3.0722370550440439,13.507980032341981,2.95459877482,1,260.92218206291125,288.61283000178321,116.17365544261946,{"$f":"VLOOKUP(A666,Sheet1!$1:$1048576,8,FALSE)","v":3}]
[19076,0.28249258160237389,96.39854916948066,33.400133600534403,8.5170949373900005,1,52.89941728954296,168.34353825890469,67.762352108742306,{"$f":"VLOOKUP(A667,Sheet1!$1:$1048576,8,FALSE)","v":5}]
[19077,1.0638096169545455,3.2816240865055022,19.093590775006707,10.708201749400001,1,161.07281250579189,238.37265317571891,95.950767250395273,{"$f":"VLOOKUP(A668,Sheet1!$1:$1048576,8,FALSE)","v":4}]
[19078,0.2529416744264793,100,37.490426346693901,7.6578575572099998,1,47.084388467888161,149.94665206379423,60.35715976842036,{"$f":"VLOOKUP(A669,Sheet1!$1:$1048576,8,FALSE)","v":5}]
[19079,3.5646315734280307,1.3949870569737177,2.3843930635838149,1.0236156749500001,1,308.92135854025946,313.14363664466765,126.04789935146569,{"$f":"VLOOKUP(A670,Sheet1!$1:$1048576,8,FALSE)","v":1}]
[19080,0.20378036397719285,6.4131749572692849,14.397860165592588,3.8664434108700001,1,248.76434912601388,293.47260345645776,118.12983198144161,{"$f":"VLOOKUP(A671,Sheet1!$1:$1048576,8,FALSE)","v":3}]
[19081,2.3494547423484851,1.0948346077763613,14.047909053999188,1.0667459313200001,1,244.49836256409858,247.56204314858786,99.64971931856681,{"$f":"VLOOKUP(A672,Sheet1!$1:$1048576,8,FALSE)","v":1}]
[19082,3.2616168723863637,1.6743901441805744,9.0979182729375481,1.58695786788,1,254.92359322509736,264.56695165880876,106.49460692140646,{"$f":"VLOOKUP(A673,Sheet1!$1:$1048576,8,FALSE)","v":2}]
[19083,1.9351288703409093,14.459657432180125,30.774343635759386,3.0173410932700002,1,128.54010263447088,158.07516437804802,63.629082880263226,{"$f":"VLOOKUP(A674,Sheet1!$1:$1048576,8,FALSE)","v":3}]
[19084,2.1552502574431815,2.2803233701886056,12.850524262375028,2.0893889256599998,1,244.98418993777599,260.49373921790084,104.85504024430585,{"$f":"VLOOKUP(A675,Sheet1!$1:$1048576,8,FALSE)","v":2}]
[19085,1.6353238037708333,1.3092154485280223,14.290071679121549,1.23741147491,1,255.66817706331383,261.0337551290466,105.0724097299056,{"$f":"VLOOKUP(A676,Sheet1!$1:$1048576,8,FALSE)","v":1}]
[20001,5.0011639196206819,1.0380493409996761,12.106672054144148,1.13757427813,1,206.52916531279681,209.56195181888319,84.353762042870144,{"$f":"VLOOKUP(A677,Sheet1!$1:$1048576,8,FALSE)","v":1}]
[20002,1.3695652173913042,1.0714297900541574,13.61947231512449,1.2569083219299999,1,266.93924357013623,272.15010530895933,109.54700996016116,{"$f":"VLOOKUP(A678,Sheet1!$1:$1048576,8,FALSE)","v":1}]
[20003,2.3069451235984846,3.1910000526060558,4.5884923525127457,1.22693729048,1,314.53844779734118,326.55852446436728,131.44771666158854,{"$f":"VLOOKUP(A679,Sheet1!$1:$1048576,8,FALSE)","v":2}]
[20004,1.0931547802272727,2.3482918466172316,3.2957028404952662,0.38331871161800002,1,375.98977265075473,375.37637390020257,151.09808362473902,{"$f":"VLOOKUP(A680,Sheet1!$1:$1048576,8,FALSE)","v":1}]
[20005,1.2239682836496211,1.0607097970836861,27.110389610389614,1.0993052290700001,1,184.07436990878568,186.54945989488004,75.090676588080484,{"$f":"VLOOKUP(A681,Sheet1!$1:$1048576,8,FALSE)","v":1}]
[20006,1.7155213374147726E-2,1.5133816376953295,8.2756916996047423,0.71946818326899997,1,354.63302975485516,355.80807558684762,143.2213695304971,{"$f":"VLOOKUP(A682,Sheet1!$1:$1048576,8,FALSE)","v":1}]
[20007,0.95323376610795452,0.77033353696145546,13.223547973572625,1.3084535206700001,1,279.84964469314338,285.07942544379387,114.75137451471788,{"$f":"VLOOKUP(A683,Sheet1!$1:$1048576,8,FALSE)","v":1}]
[20009,0.8981615588295454,2.1929286530635146,25,2.5639534883700001,1,188.43692079635082,203.78274055624001,82.027489513848266,{"$f":"VLOOKUP(A684,Sheet1!$1:$1048576,8,FALSE)","v":2}]
[20010,2.0620349996780303,1.7970510394625443,15.207373271889402,3.2801020408200001,1,221.60466406752161,245.25438364355509,98.720830466969659,{"$f":"VLOOKUP(A685,Sheet1!$1:$1048576,8,FALSE)","v":3}]
[20011,0.44683409030189691,1.845980077608296,18.937547866044699,2.84965726174,1,231.45377290635082,252.18698165981286,101.51136910400095,{"$f":"VLOOKUP(A686,Sheet1!$1:$1048576,8,FALSE)","v":2}]
[20012,1.5811532277367399,3.3893353030022744,22.517942583732058,2.2309122917900002,1,191.45611319868985,206.73020552342552,83.21391556263093,{"$f":"VLOOKUP(A687,Sheet1!$1:$1048576,8,FALSE)","v":2}]
[20013,0.39902912621359221,1.7395830460409374,18.589407446250654,2.6348684796400001,1,236.85233270500365,255.76209045007121,102.95043699563553,{"$f":"VLOOKUP(A688,Sheet1!$1:$1048576,8,FALSE)","v":2}]
[20014,1.4001418659071971,1.1669890980686717,17.696538337107732,1.2238993783800001,1,236.74582036934166,241.28000977227245,97.121048708412062,{"$f":"VLOOKUP(A689,Sheet1!$1:$1048576,8,FALSE)","v":1}]
[20015,1.9106267867613638,1.2709011249785755,8.1704628949301981,1.2563296288600001,1,298.04803859568898,304.41167282566147,122.53307239093043,{"$f":"VLOOKUP(A690,Sheet1!$1:$1048576,8,FALSE)","v":1}]
[20016,1.0128529880851862,1.3976647659605179,17.744195823795955,2.4355298110099999,1,232.95587975769237,248.9154024880979,100.19447923654177,{"$f":"VLOOKUP(A691,Sheet1!$1:$1048576,8,FALSE)","v":2}]
[20017,0.89434810533076425,0.89958374449687484,11.439178105844773,1.2755942600800001,1,296.1353560982929,301.65455706294182,121.42326650797081,{"$f":"VLOOKUP(A692,Sheet1!$1:$1048576,8,FALSE)","v":1}]
[20018,2.5195866748920421,1.5115744640779074,12.823061630218687,1.00192481478,1,249.37084228937871,252.84287242830911,101.77538102664072,{"$f":"VLOOKUP(A693,Sheet1!$1:$1048576,8,FALSE)","v":1}]
[20019,2.5852539595849264,1.5733646309832285,11.449917997934762,1.16068075201,1,256.37084949414066,261.63124152822485,105.31291247910549,{"$f":"VLOOKUP(A694,Sheet1!$1:$1048576,8,FALSE)","v":1}]
[20020,1.7704666532481059,1.9475043557464047,9.3923504009870449,1.11560334996,1,290.8499737045621,297.32977446098107,119.68243674700237,{"$f":"VLOOKUP(A695,Sheet1!$1:$1048576,8,FALSE)","v":1}]
[20021,2.8865642782007579,6.2169556315765675,16.472642607683351,2.4542875124700001,1,197.48250710665573,220.6260593514676,88.807333342048395,{"$f":"VLOOKUP(A696,Sheet1!$1:$1048576,8,FALSE)","v":3}]
[20023,1.9283551367992424,11.283419503827165,27.028587929540858,2.47685124275,1,150.52456726461148,176.24797942038046,70.944081153684877,{"$f":"VLOOKUP(A697,Sheet1!$1:$1048576,8,FALSE)","v":3}]
[20024,0.11325636978087121,7.7231954802523859,63.415637860082306,4.56367575275,1,58.531691718853779,71.720350141128989,28.869178287978617,{"$f":"VLOOKUP(A698,Sheet1!$1:$1048576,8,FALSE)","v":3}]
[20025,1.0638140784488637,16.108967740977807,29.21043713995256,5.14090333559,1,131.68473349076484,177.94205864408352,71.625989078657454,{"$f":"VLOOKUP(A699,Sheet1!$1:$1048576,8,FALSE)","v":4}]
[20048,0.65281191589204557,2.6495385043803794,30.315602311453549,2.7623365439283001,1,163.072834558333,178.40261752508053,71.811375184852579,{"$f":"VLOOKUP(A700,Sheet1!$1:$1048576,8,FALSE)","v":2}]
[20049,1.9550342130987292E-3,2.3878004117646294,21.640869812933243,2.91196872640475,1,220.60399630909373,242.11544056229167,97.457329838898346,{"$f":"VLOOKUP(A701,Sheet1!$1:$1048576,8,FALSE)","v":2}]
[20050,5.1710875331564985,2.4886146983044006,20.798489344483411,2.9074232745600002,1,146.31458906661729,160.70209432286885,64.686485817892944,{"$f":"VLOOKUP(A702,Sheet1!$1:$1048576,8,FALSE)","v":2}]
[20051,0.68974076116933269,1.1039821252562694,15.008310561455898,1.97051490472235,1,264.29744580114698,276.80730127541,111.42164415272929,{"$f":"VLOOKUP(A703,Sheet1!$1:$1048576,8,FALSE)","v":2}]
[20052,2.4938149430303027,0.78695157137141758,10.933821606068532,1.12682748,1,264.44682094787396,267.61037561938286,107.71965878954194,{"$f":"VLOOKUP(A704,Sheet1!$1:$1048576,8,FALSE)","v":1}]
[20053,0.50210716435881997,0.9749726241317902,14.025858429094725,2.0138010626299998,1,276.10705172304023,289.30332049189849,116.45159459135573,{"$f":"VLOOKUP(A705,Sheet1!$1:$1048576,8,FALSE)","v":2}]
[21001,1.1931965065502184,35.953841626936338,34.162760971452919,7.49999074235226,1,{"$f":"EXP(6.1523-(0.084*B706)-(0.0091*C706)-(0.0289*D706)-(0.0373*E706))","v":86.300732672034584},152.54623056842911,61.403553088813034,{"$f":"VLOOKUP(A706,Sheet1!$1:$1048576,8,FALSE)","v":5}]
[21002,0.10903377110694183,50.320471962886124,38.316650414917113,11.843458921384499,1,62.559159034654023,{"$f":"EXP(6.1523+(-0.084*B707)+(-0.0091*0)+(-0.0289*D707)+(-0.0373*F707))","v":148.18921934214887},{"$f":"EXP(6.1523+(-0.084*B707)+(-0.0091*100)+(-0.0289*D707)+(-0.0373*F707))","v":59.649750525848745},{"$f":"VLOOKUP(A707,Sheet1!$1:$1048576,8,FALSE)","v":5}]
[21003,0.21693580985227273,100,42.330762639245926,7.4648009844691501,1,41.358636994449526,130.76716190069135,52.63695037315663,{"$f":"VLOOKUP(A708,Sheet1!$1:$1048576,8,FALSE)","v":5}]
[21004,0.18517132978068182,100,57.337723424270933,7.21557788944724,1,27.127401596484795,84.97740531555722,34.205464135036436,{"$f":"VLOOKUP(A709,Sheet1!$1:$1048576,8,FALSE)","v":5}]
[21005,0.28960259529602594,51.256114436441884,36.051655342095536,12.9637622312659,1,62.558465658097191,155.8323177003638,62.726282761701974,{"$f":"VLOOKUP(A710,Sheet1!$1:$1048576,8,FALSE)","v":5}]
[21006,0.52309475237878789,2.2148475100324978,56.79431747992588,6.4671748238512698,1,67.062400208959033,83.906599175502308,33.774438724420385,{"$f":"VLOOKUP(A711,Sheet1!$1:$1048576,8,FALSE)","v":3}]
[21007,0.16087312734082396,49.158442274449179,38.668075094828829,11.6286548042661,1,62.814669575741675,146.05441928121482,58.790441787854306,{"$f":"VLOOKUP(A712,Sheet1!$1:$1048576,8,FALSE)","v":5}]
[21008,9.2646653671969698E-2,7.3869598030451389,44.665718349928881,6.7138644533900003,1,93.319579622923612,123.51695335527853,49.718565804332293,{"$f":"VLOOKUP(A713,Sheet1!$1:$1048576,8,FALSE)","v":4}]
[21009,0.29688337203071979,47.33631752176742,31.165471010231684,7.6180138775300001,1,91.082644662616929,179.35726033815425,72.195642042414363,{"$f":"VLOOKUP(A714,Sheet1!$1:$1048576,8,FALSE)","v":5}]
[21010,0.96892206889772725,2.8664878933625455,7.9985256173977142,12.6200785263,1,209.12646967339086,331.11083089407049,133.28013027476817,{"$f":"VLOOKUP(A715,Sheet1!$1:$1048576,8,FALSE)","v":4}]
[21011,0.22972550517234847,4.0185800582843791,63.152835629605896,3.7437739563900001,1,62.282112187303682,71.563567299768295,28.806069396418113,{"$f":"VLOOKUP(A716,Sheet1!$1:$1048576,8,FALSE)","v":3}]
[21012,0.29348907254734846,1.0565858400259405,20.640569395017792,21.744899877000002,1,111.10045208771639,243.18791625108213,97.889027283323671,{"$f":"VLOOKUP(A717,Sheet1!$1:$1048576,8,FALSE)","v":5}]
[21013,0.16798783100522752,100,40.158013544018054,16.5346911008,1,31.528076071509037,139.81532305582306,56.279054421057303,{"$f":"VLOOKUP(A718,Sheet1!$1:$1048576,8,FALSE)","v":5}]
[21014,6.0802745449119663E-2,48.822187771006,34.543927138986078,14.0983471083,1,65.282422491351142,165.93117186665688,66.791316198617935,{"$f":"VLOOKUP(A719,Sheet1!$1:$1048576,8,FALSE)","v":5}]
[21015,0.3775484171420454,100,14.846996599924442,26.1015795066,1,45.056570191365232,285.49020812494763,114.91672449469577,{"$f":"VLOOKUP(A720,Sheet1!$1:$1048576,8,FALSE)","v":5}]
[21016,0.29301804437310608,100,38.704156479217602,10.836122599399999,1,40.243519676071436,144.29161587150622,58.080870713237502,{"$f":"VLOOKUP(A721,Sheet1!$1:$1048576,8,FALSE)","v":5}]
[21017,0,58.584958327807506,29.522352453065036,17.847263421400001,1,60.357062579977359,192.82904402352298,77.618361316716417,{"$f":"VLOOKUP(A722,Sheet1!$1:$1048576,8,FALSE)","v":5}]
[21018,0.21570130437310606,7.4357796179852098,22.388059701492537,6.6291724184799996,1,176.30799537267092,232.72701681684765,93.678261855864534,{"$f":"VLOOKUP(A723,Sheet1!$1:$1048576,8,FALSE)","v":4}]
[21019,0.33808653401203148,88.173432305950001,38.67357166722352,17.009943938199999,1,35.494770191556562,143.8735098825702,57.912572924477217,{"$f":"VLOOKUP(A724,Sheet1!$1:$1048576,8,FALSE)","v":5}]
[21020,0.21405208114962121,11.700479384886286,41.023936170212764,7.2783107347699998,1,96.618720559536044,135.83322817819936,54.676164770413514,{"$f":"VLOOKUP(A725,Sheet1!$1:$1048576,8,FALSE)","v":4}]
[21021,0.40849599525363395,82.05904611842675,37.421145596770124,16.347058556699999,1,39.647687549723976,148.29673439701412,59.693027939880317,{"$f":"VLOOKUP(A726,Sheet1!$1:$1048576,8,FALSE)","v":5}]
[21022,0.47945179892045453,2.8137743361881555,12.323491655969192,32.945030620526801,1,90.145240366017603,304.47139444666635,122.55711179008347,{"$f":"VLOOKUP(A727,Sheet1!$1:$1048576,8,FALSE)","v":5}]
[21023,0.41955741343750003,12.629365244769945,12.078479460453709,34.462111632300001,1,78.856136333373414,308.1815695679515,124.05054715180766,{"$f":"VLOOKUP(A728,Sheet1!$1:$1048576,8,FALSE)","v":5}]
[21024,0.3566132154147727,100,9.267319550235765,27.915889464599999,1,49.563579407604401,336.0362210520754,135.26271912618199,{"$f":"VLOOKUP(A729,Sheet1!$1:$1048576,8,FALSE)","v":5}]
[21025,3.1539641261585656E-2,47.300231170282117,32.430753735101561,17.752612044700001,1,61.546768810897412,176.81462850428423,71.172171136482618,{"$f":"VLOOKUP(A730,Sheet1!$1:$1048576,8,FALSE)","v":5}]
[21026,0.13757878722016953,18.596440071015405,35.15853983479883,24.7265597749,1,56.437469818395947,161.9619742208381,65.193617996198611,{"$f":"VLOOKUP(A731,Sheet1!$1:$1048576,8,FALSE)","v":5}]
[21027,0.18113175833238637,3.6011733469786784,3.6492374727668841,51.310251100599999,1,59.440685074777555,401.14460342048852,161.47042021711275,{"$f":"VLOOKUP(A732,Sheet1!$1:$1048576,8,FALSE)","v":5}]
[21028,0.30393392757765153,29.210620391028627,43.625967036663305,12.793168315500001,1,61.742794410906669,125.04567902196035,50.33391491707367,{"$f":"VLOOKUP(A733,Sheet1!$1:$1048576,8,FALSE)","v":5}]
[21029,0.16396532227666791,88.9632593061542,20.102169442048694,17.397752433499999,1,60.284341331419974,249.70350051086226,100.51170778161745,{"$f":"VLOOKUP(A734,Sheet1!$1:$1048576,8,FALSE)","v":5}]
[21029,0.16396532227666791,88.9632593061542,20.102169442048694,17.397752433499999,1,60.284341331419974,249.70350051086226,100.51170778161745,{"$f":"VLOOKUP(A735,Sheet1!$1:$1048576,8,FALSE)","v":5}]
[21030,0.15008262753446969,0.46949240197490405,29.56171735241503,28.102982918799999,1,68.913065095656677,190.19681944342531,76.558827160130335,{"$f":"VLOOKUP(A736,Sheet1!$1:$1048576,8,FALSE)","v":5}]
[21031,0.26607541899441339,13.140271347558942,46.995108315863035,10.0920148046,1,71.936401272391649,113.80552088871197,45.809478986472527,{"$f":"VLOOKUP(A737,Sheet1!$1:$1048576,8,FALSE)","v":4}]
[21032,8.3294916557007576E-2,1.0995157593529457,26.234807344194465,11.482812840799999,1,141.0060479033763,210.56982214245136,84.759454262790953,{"$f":"VLOOKUP(A738,Sheet1!$1:$1048576,8,FALSE)","v":4}]
[21033,0.71123519823106063,100,36.464088397790057,14.6626337832,1,35.939172210114883,148.62763568583995,59.826223724396662,{"$f":"VLOOKUP(A739,Sheet1!$1:$1048576,8,FALSE)","v":5}]
[21034,0.14516834280717097,75.700334194426162,29.904882688649337,11.743459552199999,1,63.367471821931503,188.39762379360329,75.834607327301029,{"$f":"VLOOKUP(A740,Sheet1!$1:$1048576,8,FALSE)","v":5}]
[21035,7.1563310539966993E-2,51.637384259686343,35.666670439240804,12.360803349299999,1,65.664848017970286,160.48843858233357,64.60048420672365,{"$f":"VLOOKUP(A741,Sheet1!$1:$1048576,8,FALSE)","v":5}]
[21036,0.55176685446969698,23.670605683143194,28.018757327080891,12.3077809964,1,101.66943881390556,192.27170415187115,77.394018517356741,{"$f":"VLOOKUP(A742,Sheet1!$1:$1048576,8,FALSE)","v":5}]
[21037,0.336574739717803,100,31.110126301794814,10.420589274799999,1,50.716793667289025,179.04641461289646,72.070519108060793,{"$f":"VLOOKUP(A743,Sheet1!$1:$1048576,8,FALSE)","v":5}]
[21038,0.21201037618181817,100,20.494357872111767,17.591652180699999,1,53.305289135321082,245.89489435127737,98.978651542580806,{"$f":"VLOOKUP(A744,Sheet1!$1:$1048576,8,FALSE)","v":5}]
[21039,0.50884126060227275,7.2168567432965555E-2,27.996965098634298,13.715582231999999,1,120.08467170918306,193.0878067619287,77.722519587201987,{"$f":"VLOOKUP(A745,Sheet1!$1:$1048576,8,FALSE)","v":4}]
[21040,5.3268765133171914E-2,56.670887939483563,30.111144002798785,17.869817129600001,1,60.061203633040989,188.72923371960971,75.968088355448614,{"$f":"VLOOKUP(A746,Sheet1!$1:$1048576,8,FALSE)","v":5}]
[21041,0.41344196887310602,11.065142303278348,37.128338198724187,9.1515717984599991,1,99.734881226318691,149.49484351112767,60.175295881346493,{"$f":"VLOOKUP(A747,Sheet1!$1:$1048576,8,FALSE)","v":4}]
[21042,0.24268713815530302,2.1888067902114057,45.640942847917337,16.260498093399999,1,65.78924080866831,118.58037872270388,47.731474930971054,{"$f":"VLOOKUP(A748,Sheet1!$1:$1048576,8,FALSE)","v":5}]
[21043,0.12732649156375023,50.77647566968205,33.886624970768089,14.4843813524,1,64.068175591970231,168.17096538581563,67.692887346912883,{"$f":"VLOOKUP(A749,Sheet1!$1:$1048576,8,FALSE)","v":5}]
[21045,0.40294038136174243,5.9430818229832933,52.670623145400597,4.6214212717900001,1,79.028689205044486,95.485270411626445,38.435134379081831,{"$f":"VLOOKUP(A750,Sheet1!$1:$1048576,8,FALSE)","v":3}]
[21046,4.54014598540146E-2,32.303958420709819,40.843575059519985,8.0836812268700005,1,79.250967965731149,138.49122388274,55.746072428868466,{"$f":"VLOOKUP(A751,Sheet1!$1:$1048576,8,FALSE)","v":5}]
[21047,2.1201413427561835E-3,41.524778877880856,35.388853570671749,7.9266950304100003,1,86.128711910564945,162.72864190376683,65.502220310361153,{"$f":"VLOOKUP(A752,Sheet1!$1:$1048576,8,FALSE)","v":5}]
[21048,1.1185682326621924E-3,27.851098332199932,45.383839456360157,7.49153016029,1,74.271998520931433,121.91365886690554,49.073200934502552,{"$f":"VLOOKUP(A753,Sheet1!$1:$1048576,8,FALSE)","v":5}]
[21049,1.2558059521761568E-2,27.513757790293436,46.502384737678852,8.4877359927300002,1,69.432735935803905,117.92233196655349,47.466595171073784,{"$f":"VLOOKUP(A754,Sheet1!$1:$1048576,8,FALSE)","v":5}]
[21050,0.15684936054886364,5.9088867139795616,45.553145336225597,4.9955490841700003,1,97.761799596030485,119.74191920807299,48.1990231135279,{"$f":"VLOOKUP(A755,Sheet1!$1:$1048576,8,FALSE)","v":3}]
[21051,0.12151192288178589,48.352089993024002,33.267412397256038,8.5988815386000006,1,83.089843973249515,171.29115684301055,68.948839992056648,{"$f":"VLOOKUP(A756,Sheet1!$1:$1048576,8,FALSE)","v":5}]
[21052,0.34325306678782369,40.950460907847436,39.054024734215666,7.3231181759100004,1,77.401327015215671,142.2385286493695,57.254453372273552,{"$f":"VLOOKUP(A757,Sheet1!$1:$1048576,8,FALSE)","v":5}]
[21053,0.3826315100776515,0.41749210575016898,26.938775510204081,12.823064179199999,1,128.9634291053728,201.20581530385721,80.990214676240186,{"$f":"VLOOKUP(A758,Sheet1!$1:$1048576,8,FALSE)","v":4}]
[21054,0.16758703481392559,36.525753166465257,40.892123926838373,9.05645387673,1,72.693372943434483,136.8848836925896,55.099481590294133,{"$f":"VLOOKUP(A759,Sheet1!$1:$1048576,8,FALSE)","v":5}]
[21055,0.2910845438939394,1.3522204574900205,37.081659973226238,10.284594865000001,1,105.66443133837716,151.24316791588765,60.879038805731582,{"$f":"VLOOKUP(A760,Sheet1!$1:$1048576,8,FALSE)","v":4}]
[21056,0.1970138186060606,91.076645611694545,31.944055944055943,8.2960468056599996,1,58.810922916363218,176.84393535199038,71.183967852614401,{"$f":"VLOOKUP(A761,Sheet1!$1:$1048576,8,FALSE)","v":5}]
[21057,0.13875054542556819,8.6986926182947535,27.981458069953646,9.7015048268000008,1,133.08081604190144,199.27401073133137,80.212616539699596,{"$f":"VLOOKUP(A762,Sheet1!$1:$1048576,8,FALSE)","v":4}]
[21058,0.16354244569053031,29.305081853256006,37.872189138743224,7.6402725141800003,1,89.335394006064931,149.41925826671547,60.144870989491089,{"$f":"VLOOKUP(A763,Sheet1!$1:$1048576,8,FALSE)","v":5}]
[21059,0.22372217033712122,100,46.939586645468999,15.364526960899999,1,26.946581087658554,114.39453234742203,46.046570366836718,{"$f":"VLOOKUP(A764,Sheet1!$1:$1048576,8,FALSE)","v":5}]
[21061,0.25156975514583335,52.722386100711006,34.520365012241264,3.35329809558,1,92.636002244829598,163.40464214361114,65.774326782351039,{"$f":"VLOOKUP(A765,Sheet1!$1:$1048576,8,FALSE)","v":5}]
[21062,0.1780219519414773,95.382296451031536,34.538031150763651,15.6368852172,1,39.963332231242397,164.333361336601,66.148158754854421,{"$f":"VLOOKUP(A766,Sheet1!$1:$1048576,8,FALSE)","v":5}]
[21063,0.19999418231818181,15.03548629377917,42.696809363476028,5.8130179017300003,1,94.435230225736277,129.5753672167242,52.15722414278531,{"$f":"VLOOKUP(A767,Sheet1!$1:$1048576,8,FALSE)","v":4}]
[21064,0.51558666994318181,83.008772767504098,56.598984771573605,12.0826152763,1,26.238260706712072,84.434835541229987,33.987066657641279,{"$f":"VLOOKUP(A768,Sheet1!$1:$1048576,8,FALSE)","v":5}]
[21065,0.26584046037499998,20.123444548521615,26.785121222185321,7.0753192405499998,1,135.48306418495923,204.09373997989789,82.152674315531058,{"$f":"VLOOKUP(A769,Sheet1!$1:$1048576,8,FALSE)","v":4}]
[21066,0.10188728136471605,46.974020788445436,39.828007142076302,11.361360533199999,1,{"$f":"EXP(6.1523-(0.084*B770)-(0.0091*C770)-(0.0289*D770)-(0.0373*E770))","v":62.895192182589639},141.94108284487689,57.134724230628095,{"$f":"VLOOKUP(A770,Sheet1!$1:$1048576,8,FALSE)","v":5}]
[21067,0.14503194420473484,1.4460726852501635,62.750642673521853,4.0998197358599997,1,64.106207867147901,{"$f":"EXP(6.1523+(-0.084*B771)+(-0.0091*0)+(-0.0289*D771)+(-0.0373*F771))","v":72.917141126198246},{"$f":"EXP(6.1523+(-0.084*B771)+(-0.0091*100)+(-0.0289*D771)+(-0.0373*F771))","v":29.350915650574066},{"$f":"VLOOKUP(A771,Sheet1!$1:$1048576,8,FALSE)","v":3}]
[21068,0.11683153477218225,6.830287947328884,40.593550282817894,11.105540143200001,1,89.383873521605167,138.66106136196726,55.81443612840625,{"$f":"VLOOKUP(A772,Sheet1!$1:$1048576,8,FALSE)","v":4}]
[21069,0.57919553072625707,10.366504490424992,33.889302029108684,6.4289734989099996,1,120.31470413597859,161.89480084212826,65.166579084057702,{"$f":"VLOOKUP(A773,Sheet1!$1:$1048576,8,FALSE)","v":4}]
[21070,0.34312012480499215,14.491023863840171,31.417021053184229,8.4411940756299995,1,117.77795858182431,177.36788130350249,71.394868790182372,{"$f":"VLOOKUP(A774,Sheet1!$1:$1048576,8,FALSE)","v":4}]
[21071,0.24803412969283276,62.391474648500719,37.656330611446158,14.050369634700001,1,52.005837492883984,149.29096372522466,60.093229328729741,{"$f":"VLOOKUP(A775,Sheet1!$1:$1048576,8,FALSE)","v":5}]
[21072,0.41111516409090909,8.9603094776967147,32.40256831417053,7.3677250156099996,1,124.58362069393807,171.40550130380271,68.99486640740956,{"$f":"VLOOKUP(A776,Sheet1!$1:$1048576,8,FALSE)","v":4}]
[21073,0.15789145772386362,100,31.580315369953215,14.9204982298,1,42.941186317077857,179.30100816163329,72.172999178710057,{"$f":"VLOOKUP(A777,Sheet1!$1:$1048576,8,FALSE)","v":5}]
[21074,0.38971382289416845,100,46.977879707035584,17.676841295199999,1,24.350615709806707,112.68578878344215,45.358759689673249,{"$f":"VLOOKUP(A778,Sheet1!$1:$1048576,8,FALSE)","v":5}]
[21075,0.52051464775378786,50.478281105536652,20.295602018745491,9.3005984231193803,1,111.69469280435855,240.98480247846393,97.002220621542719,{"$f":"VLOOKUP(A779,Sheet1!$1:$1048576,8,FALSE)","v":5}]
[21076,9.4944148616287888E-2,63.026865732496681,33.849918433931485,17.886695054,1,50.670497865996907,168.80801255456481,67.949314264186469,{"$f":"VLOOKUP(A780,Sheet1!$1:$1048576,8,FALSE)","v":5}]
[21077,0.27452912905871213,71.907006860986073,35.771197526459744,19.287489501900001,1,41.333562603835816,157.29954927010331,63.316879010789023,{"$f":"VLOOKUP(A781,Sheet1!$1:$1048576,8,FALSE)","v":5}]
[21078,0.44698418942992429,1.155248532182676,7.71478667445938,16.4652414251,1,193.85873551979407,348.79905864629205,140.40007042526136,{"$f":"VLOOKUP(A782,Sheet1!$1:$1048576,8,FALSE)","v":5}]
[21079,0.25726591895643941,0.42965108884633008,10.197910940076966,33.485952658099997,1,97.810719520530398,329.86056558484967,132.77686820133789,{"$f":"VLOOKUP(A783,Sheet1!$1:$1048576,8,FALSE)","v":5}]
[21080,1.2687073646344698,9.9589883216167241E-2,4.7708489857250189,25.0210036631,1,144.55518548456536,354.44424143310846,142.67239324605268,{"$f":"VLOOKUP(A784,Sheet1!$1:$1048576,8,FALSE)","v":5}]
[21081,0.2064798825378788,53.071867481384658,9.0185374729898786,38.010671924699999,1,53.173911994222848,342.75638838998151,137.96774926924883,{"$f":"VLOOKUP(A785,Sheet1!$1:$1048576,8,FALSE)","v":5}]
[21082,0.25605700712589069,100,9.4113541181945095,31.035746618200001,1,44.308198538923975,337.47892954489618,135.84344424276142,{"$f":"VLOOKUP(A786,Sheet1!$1:$1048576,8,FALSE)","v":5}]
[21083,9.2758089368258856E-2,91.527757085832221,9.9352569738629999,33.663312156018499,1,43.329567798233136,336.99880823398081,135.65018378464322,{"$f":"VLOOKUP(A787,Sheet1!$1:$1048576,8,FALSE)","v":5}]
[21084,0.66667811799242427,3.3430072803117179,17.32899022801303,32.190651819778097,1,78.598965782921866,259.3532988756034,104.39598538046592,{"$f":"VLOOKUP(A788,Sheet1!$1:$1048576,8,FALSE)","v":5}]
[21085,0.85374916326704553,9.6572046893597836,1.593625498007968,14.6243218807,1,221.66373460842618,402.31255776415503,161.94055013300382,{"$f":"VLOOKUP(A789,Sheet1!$1:$1048576,8,FALSE)","v":5}]
[21086,0,68.609231171292691,8.8966783508596237,36.320127145900003,1,50.20432856924225,349.98349480103025,140.87683466936477,{"$f":"VLOOKUP(A790,Sheet1!$1:$1048576,8,FALSE)","v":5}]
[21087,0,90.091264192464536,9.7889431406520711,33.816294938399999,1,44.177748639680551,341.07402752364538,137.29055826698234,{"$f":"VLOOKUP(A791,Sheet1!$1:$1048576,8,FALSE)","v":5}]
[21088,0.28872407131439393,1.014797788549525,3.6843356310910389,45.392354685500003,1,75.128530640238679,397.1324603337917,159.85543543442819,{"$f":"VLOOKUP(A792,Sheet1!$1:$1048576,8,FALSE)","v":5}]
[21089,0.23847876574053031,3.5923058544164901,33.079695634761713,9.7828282828299997,1,118.94665337211282,170.53909725218725,68.646117788833436,{"$f":"VLOOKUP(A793,Sheet1!$1:$1048576,8,FALSE)","v":4}]
[21090,0.51513072655871206,26.196021755107143,39.738895080401207,9.1323837827599998,1,79.962137235012676,137.45202555155316,55.327769926990435,{"$f":"VLOOKUP(A794,Sheet1!$1:$1048576,8,FALSE)","v":5}]
[21091,1.0001328715359847,1.8190863145350884,10.818809602104571,32.986576611700002,1,90.80117701209258,304.39470814411789,122.52624369565613,{"$f":"VLOOKUP(A795,Sheet1!$1:$1048576,8,FALSE)","v":5}]
[21092,0.57448630671401524,12.649078458583897,30.122377622377623,25.576917483500001,1,64.352822890463614,180.58587690378488,72.690189972129701,{"$f":"VLOOKUP(A796,Sheet1!$1:$1048576,8,FALSE)","v":5}]
[21093,null,4.0920223027208822,29.156715046849165,9.1300000000000008,1,138.64053886477384,194.87745695430053,78.442897142178111,{"$f":"VLOOKUP(A797,Sheet1!$1:$1048576,8,FALSE)","v":4}]
[21094,0.49598517603458925,19.182619372529139,38.142981691368789,9.4900380205699992,1,88.21392407425023,144.17171786912738,58.032608862866773,{"$f":"VLOOKUP(A798,Sheet1!$1:$1048576,8,FALSE)","v":4}]
[21095,7.4198610177090341E-2,45.373473599091916,33.231729055258469,14.8276553654,1,68.013090375203674,172.1507156744201,69.29483324368104,{"$f":"VLOOKUP(A799,Sheet1!$1:$1048576,8,FALSE)","v":5}]
[21096,0.34639999999999999,7.5707334406285014,22.765393952769809,28.968307575899999,1,74.878812091000128,227.68942168973746,91.650507786328888,{"$f":"VLOOKUP(A800,Sheet1!$1:$1048576,8,FALSE)","v":5}]
[21097,1.390403489640131E-2,11.785339110347786,34.903381642512073,13.510903514900001,1,92.871892598649467,164.86456713285929,66.361981955795457,{"$f":"VLOOKUP(A801,Sheet1!$1:$1048576,8,FALSE)","v":5}]
[21098,1.1450873938825756,1.0531365793072505,28.231939163498097,14.3390938814,1,109.48394006651927,181.80044274633104,73.179082145438358,{"$f":"VLOOKUP(A802,Sheet1!$1:$1048576,8,FALSE)","v":5}]
[21099,0,46.019474550653364,33.353366732298475,14.4695669144,1,68.710061019696312,172.61914633494155,69.483387931820985,{"$f":"VLOOKUP(A803,Sheet1!$1:$1048576,8,FALSE)","v":5}]
[21100,0.56982061202954615,12.013490944960649,31.721910409827387,14.3711860278,1,93.906898625841023,172.49562222533243,69.433666485451141,{"$f":"VLOOKUP(A804,Sheet1!$1:$1048576,8,FALSE)","v":5}]
[21101,0.28374804963636363,44.901445371926108,25.63739376770538,20.778756683200001,1,66.946494230858306,210.65979450874113,84.795670319716208,{"$f":"VLOOKUP(A805,Sheet1!$1:$1048576,8,FALSE)","v":5}]
[21102,0.42114045262689392,6.0864293926074104,18.745405537858367,13.812880229399999,1,149.09371111479052,254.13915769473491,102.297167247635,{"$f":"VLOOKUP(A806,Sheet1!$1:$1048576,8,FALSE)","v":5}]
[21103,0.30007605158333334,100,17.300049677098858,16.829556158700001,1,59.702848407531853,267.6880141273308,107.7509101697088,{"$f":"VLOOKUP(A807,Sheet1!$1:$1048576,8,FALSE)","v":5}]
[21104,0.17661274334715907,0.1109261247722815,37.284539909838237,24.438046805500001,1,63.268827581391662,151.8117590660429,61.107910517240207,{"$f":"VLOOKUP(A808,Sheet1!$1:$1048576,8,FALSE)","v":5}]
[21105,3.7615486141662997E-2,46.146152001665421,37.483983067334847,12.0006742118,1,66.572931247493969,152.71190744426619,61.470242044699681,{"$f":"VLOOKUP(A809,Sheet1!$1:$1048576,8,FALSE)","v":5}]
[21106,0,90.066322351181938,23.638968481375358,19.461527251500002,1,50.5829878371974,228.56801184626707,92.00416160732955,{"$f":"VLOOKUP(A810,Sheet1!$1:$1048576,8,FALSE)","v":5}]
[21107,5.9479553903345729E-2,66.446909385974109,29.928383409613694,19.2817744936,1,52.378508963293747,189.62974054499171,76.330564166572501,{"$f":"VLOOKUP(A811,Sheet1!$1:$1048576,8,FALSE)","v":5}]
[21108,0.39313137232954543,3.3137730240008687,18.07168096920747,14.7669740701,1,150.81318981732431,259.74629981874165,104.55417778014711,{"$f":"VLOOKUP(A812,Sheet1!$1:$1048576,8,FALSE)","v":5}]
[21109,0,54.773842412612368,36.368786290893638,12.6812822837,1,62.164760084062905,158.21297623214559,63.684555489896489,{"$f":"VLOOKUP(A813,Sheet1!$1:$1048576,8,FALSE)","v":5}]
[21110,0.34945447826325754,49.203557369299233,37.705553515322151,11.9961003877,1,62.680375656369854,147.814088778116,59.498751386650113,{"$f":"VLOOKUP(A814,Sheet1!$1:$1048576,8,FALSE)","v":5}]
[21111,0.82369132010037871,21.049183307958867,30.798192771084338,8.3839837467200002,1,108.71958972729146,173.42446737030403,69.807549156678249,{"$f":"VLOOKUP(A815,Sheet1!$1:$1048576,8,FALSE)","v":4}]
[21112,1.2016888600194868E-2,49.952879070191635,37.73475555064924,11.881575658799999,1,64.264165509595472,151.93550870003921,61.157722742639024,{"$f":"VLOOKUP(A816,Sheet1!$1:$1048576,8,FALSE)","v":5}]
[21113,4.8832271762208074E-3,53.765072496614941,35.301505488590585,12.556598211100001,1,64.978277861958432,163.10208617161251,65.65254067449554,{"$f":"VLOOKUP(A817,Sheet1!$1:$1048576,8,FALSE)","v":5}]
[21114,0.58344377521590907,2.0547766359818529,19.427580225498701,26.272358693099999,1,93.988854653549168,245.80379941723984,98.941983624943958,{"$f":"VLOOKUP(A818,Sheet1!$1:$1048576,8,FALSE)","v":5}]
[21115,0.25259654444318186,8.3069153699052052,56.01866251944012,8.1106683553199996,1,62.428486394366502,87.780777663570049,35.333889414097655,{"$f":"VLOOKUP(A819,Sheet1!$1:$1048576,8,FALSE)","v":4}]
[21116,8.2495732979328655E-3,51.576225512784568,37.446391547615661,12.0240439181,1,63.533404951540959,153.25547806521786,61.689042387105722,{"$f":"VLOOKUP(A820,Sheet1!$1:$1048576,8,FALSE)","v":5}]
[21117,0.51767396714393943,41.700670721370166,10.007251631617114,13.5028066688,1,139.27842988250313,324.50658042764894,130.62175948044805,{"$f":"VLOOKUP(A821,Sheet1!$1:$1048576,8,FALSE)","v":5}]
[21118,0.53174197452651517,38.521388927477005,22.581585081585082,11.660991857899999,1,106.64720418822149,225.36602659321292,90.715284977976793,{"$f":"VLOOKUP(A822,Sheet1!$1:$1048576,8,FALSE)","v":5}]
[21119,0.2049988474469697,6.2649032123128414,19.57882754695504,10.5654733553,1,167.02595263167098,252.63657174901928,101.69234000579196,{"$f":"VLOOKUP(A823,Sheet1!$1:$1048576,8,FALSE)","v":4}]
[21120,0.39191403040151512,1.3352348298661612,19.502995340581318,25.7215941388,1,97.922520396337902,249.24657215350641,100.32778304913381,{"$f":"VLOOKUP(A824,Sheet1!$1:$1048576,8,FALSE)","v":5}]
[21121,0.23263601452462121,50.560095548744108,25.307083964327781,17.203653024200001,1,73.669636087299267,213.59545915252818,85.97734645247958,{"$f":"VLOOKUP(A825,Sheet1!$1:$1048576,8,FALSE)","v":5}]
[21122,0.33591369807575755,17.326971533808241,29.724277067921989,24.9133796317,1,65.242241888847019,186.37329822021434,75.019767246681198,{"$f":"VLOOKUP(A826,Sheet1!$1:$1048576,8,FALSE)","v":5}]
[21123,8.7438102684388841E-2,49.765493783858751,38.56505344726191,10.0508530233,1,66.864109512682148,147.39634083944759,59.330597721795961,{"$f":"VLOOKUP(A827,Sheet1!$1:$1048576,8,FALSE)","v":5}]
[21124,0,52.842517861432668,36.584620088671457,12.9360702656,1,62.27886645363521,157.22917894004152,63.288553248285901,{"$f":"VLOOKUP(A828,Sheet1!$1:$1048576,8,FALSE)","v":5}]
[21125,0.70063878272159086,4.4828311092873427,31.148633636969564,10.9806094183,1,114.76428575007267,173.46065999689498,69.822117565612501,{"$f":"VLOOKUP(A829,Sheet1!$1:$1048576,8,FALSE)","v":4}]
[21126,0.47883897027651523,1.7119637505859253,36.488748372698531,22.9141935484,1,65.843084852145822,151.44957004201729,60.962120661390799,{"$f":"VLOOKUP(A830,Sheet1!$1:$1048576,8,FALSE)","v":5}]
[21127,0,55.313155393717146,36.467517810538197,13.048763165,1,60.84442248325746,157.76218411099492,63.503100741129842,{"$f":"VLOOKUP(A831,Sheet1!$1:$1048576,8,FALSE)","v":5}]
[21128,0.10133652503490924,4.0502067205728469,23.535801575088257,20.231640613300002,1,106.92268362656291,227.30734998219171,91.496714668723826,{"$f":"VLOOKUP(A832,Sheet1!$1:$1048576,8,FALSE)","v":5}]
[21129,4.1536863966770508E-3,47.419680138171699,29.273548732277142,17.474829790800001,1,68.211644553310009,194.15281049733798,78.15120938939053,{"$f":"VLOOKUP(A833,Sheet1!$1:$1048576,8,FALSE)","v":5}]
[21130,0.21883562740530302,0.795927311379792,26.938957705613216,20.059260391399999,1,99.477210573924253,203.99223504313395,82.111816119624564,{"$f":"VLOOKUP(A834,Sheet1!$1:$1048576,8,FALSE)","v":5}]
[21131,0.10806560323522803,47.216205428210579,30.997591441214361,9.9000333807699992,1,{"$f":"EXP(6.1523-(0.084*B835)-(0.0091*C835)-(0.0289*D835)-(0.0373*E835))","v":85.494614202729622},183.11092132459021,73.706581518264827,{"$f":"VLOOKUP(A835,Sheet1!$1:$1048576,8,FALSE)","v":5}]
[21132,0.66166387851515152,37.342331685481533,50.903258483876414,12.6164843433,1,45.386104035283516,{"$f":"EXP(6.1523+(-0.084*B836)+(-0.0091*0)+(-0.0289*D836)+(-0.0373*F836))","v":98.328711416274984},{"$f":"EXP(6.1523+(-0.084*B836)+(-0.0091*100)+(-0.0289*D836)+(-0.0373*F836))","v":39.579688263063403},{"$f":"VLOOKUP(A836,Sheet1!$1:$1048576,8,FALSE)","v":5}]
[21133,0.32661839564683165,60.184819150455709,34.796144554307489,13.579244662800001,1,58.268858839817725,161.08875351236011,64.842125508108396,{"$f":"VLOOKUP(A837,Sheet1!$1:$1048576,8,FALSE)","v":5}]
[21134,8.2522104135036176E-2,46.677235415557952,41.899010664268275,10.345435398699999,1,61.796031822007571,133.91251787285097,53.903032345159737,{"$f":"VLOOKUP(A838,Sheet1!$1:$1048576,8,FALSE)","v":5}]
[21135,0.62668952267992428,3.0495196017569404,20.192043895747599,16.990653873199999,1,128.33011837229643,239.56098318297319,96.429098864461182,{"$f":"VLOOKUP(A839,Sheet1!$1:$1048576,8,FALSE)","v":5}]
[21136,0.36150234741784032,93.082946337884536,32.346784996651039,15.5038341559,1,43.024249161196636,172.39902735368165,69.394784709694278,{"$f":"VLOOKUP(A840,Sheet1!$1:$1048576,8,FALSE)","v":5}]
[21137,0.38544536271808993,41.045379066094135,25.776820140621453,16.8708029059,1,79.2160230484631,208.02795869430253,83.736292650725389,{"$f":"VLOOKUP(A841,Sheet1!$1:$1048576,8,FALSE)","v":5}]
[21138,0.9385496977518939,71.207005632963472,27.777777777777779,6.5771502221900002,1,79.628541732763338,187.42599002306127,75.443501197768725,{"$f":"VLOOKUP(A842,Sheet1!$1:$1048576,8,FALSE)","v":5}]
[21139,0.2590598139469697,4.6574825070756285,54.311747478034491,8.2466154492099992,1,67.420398900875099,92.169518459801282,37.100463897585378,{"$f":"VLOOKUP(A843,Sheet1!$1:$1048576,8,FALSE)","v":4}]
[21140,0.12409369771332962,64.988489021795644,29.85533729252322,18.237842050699999,1,55.003131669047448,189.00186479253927,76.077828966527036,{"$f":"VLOOKUP(A844,Sheet1!$1:$1048576,8,FALSE)","v":5}]
[21141,1.1325663500757577,1.1582373486301014,18.619128466327108,17.7862101033,1,127.11675784100422,240.27199975464828,96.715300258249755,{"$f":"VLOOKUP(A845,Sheet1!$1:$1048576,8,FALSE)","v":5}]
[21142,0.7782657666856061,8.4347395597752826,19.102486355366889,9.2225885569500008,1,166.35185220038963,244.09654418588738,98.254772037716435,{"$f":"VLOOKUP(A846,Sheet1!$1:$1048576,8,FALSE)","v":4}]
[21143,0.98810992451893942,6.4096596703141833,15.580584607133281,14.7336769759,1,150.07359648346542,265.52788706547688,106.881406700322,{"$f":"VLOOKUP(A847,Sheet1!$1:$1048576,8,FALSE)","v":5}]
[21144,0.31194759049999998,0.82250021741735746,34.98175922172679,15.9526543077,1,91.158960677720231,160.42452149360918,64.574756030182385,{"$f":"VLOOKUP(A848,Sheet1!$1:$1048576,8,FALSE)","v":5}]
[21145,0,57.347773069658281,23.006209965282871,16.220742431200001,1,78.298003484206532,232.78622240650822,93.702093539901099,{"$f":"VLOOKUP(A849,Sheet1!$1:$1048576,8,FALSE)","v":5}]
[21146,0.56386219826576056,57.347064548996485,23.775327006924851,11.015017605400001,1,88.686721845808165,217.13702911992928,87.402914155468537,{"$f":"VLOOKUP(A850,Sheet1!$1:$1048576,8,FALSE)","v":5}]
[21147,0.24735322425409045,62.593689909559444,22.019297036526535,21.625935392799999,1,61.492466813878174,234.59594346973776,94.430550106594907,{"$f":"VLOOKUP(A851,Sheet1!$1:$1048576,8,FALSE)","v":5}]
[21148,5.3956834532374098E-2,100,36.366148913824553,14.365881251099999,1,38.510793460392868,157.50952337169772,63.401398673100466,{"$f":"VLOOKUP(A852,Sheet1!$1:$1048576,8,FALSE)","v":5}]
[21149,0.92079933470833342,0.6096352263469591,17.133620689655171,17.8179447242,1,135.58980647345734,255.31324880691079,102.76976736150839,{"$f":"VLOOKUP(A853,Sheet1!$1:$1048576,8,FALSE)","v":5}]
[21150,0.34952961001325755,100,34.418226200162735,16.885055288499998,1,36.177602551894019,162.54465687820274,65.428161880712153,{"$f":"VLOOKUP(A854,Sheet1!$1:$1048576,8,FALSE)","v":5}]
[21151,0.40788106819696973,1.8703172386379259,27.627535341118627,17.957137452000001,1,102.79956331278368,196.82248259336808,79.225817078269301,{"$f":"VLOOKUP(A855,Sheet1!$1:$1048576,8,FALSE)","v":5}]
[21152,0.56027294010984852,93.279144331110274,18.246491059411653,23.076835650900001,1,47.861302563131233,254.83428761275752,102.57697387848962,{"$f":"VLOOKUP(A856,Sheet1!$1:$1048576,8,FALSE)","v":5}]
[21153,0.23882883933901514,7.6996589038361796,35.226808336738863,10.597147231799999,1,104.46406417731548,160.27380221978731,64.514087871440324,{"$f":"VLOOKUP(A857,Sheet1!$1:$1048576,8,FALSE)","v":4}]
[21154,0.73520207895643941,100,33.177257525083611,10.3531063012,1,46.318869092164874,163.10925998250516,65.655428307158473,{"$f":"VLOOKUP(A858,Sheet1!$1:$1048576,8,FALSE)","v":5}]
[21155,0.79075425790754261,55.681655567357041,33.51681957186544,15.490448135299999,1,56.415490531054452,160.76449927363458,64.711605322275787,{"$f":"VLOOKUP(A859,Sheet1!$1:$1048576,8,FALSE)","v":5}]
[21156,4.7900650502661152E-2,53.980931843211096,31.637699980658173,14.960765562200001,1,65.672730646274275,180.66542063919979,72.722208252504331,{"$f":"VLOOKUP(A860,Sheet1!$1:$1048576,8,FALSE)","v":5}]
[21157,0.16202232912771172,69.139838878425223,39.054648241206031,16.764892222,1,42.755924753629984,144.41784370409562,58.131680473602003,{"$f":"VLOOKUP(A861,Sheet1!$1:$1048576,8,FALSE)","v":5}]
[21158,0.25655370843989772,30.299068443408743,37.165455715993744,8.6167887948399997,1,86.447740337791757,151.31561458811331,60.908200346253025,{"$f":"VLOOKUP(A862,Sheet1!$1:$1048576,8,FALSE)","v":5}]
[21159,0.20953870211102427,68.311760876580635,29.081098494000162,17.692362579699999,1,55.295573180935271,191.89627708638378,77.242900029140216,{"$f":"VLOOKUP(A863,Sheet1!$1:$1048576,8,FALSE)","v":5}]
[21160,2.4462957467853608,49.405877343108052,33.940582959641254,14.9005169234,1,52.48595157130881,138.18982863358991,55.624753540076902,{"$f":"VLOOKUP(A864,Sheet1!$1:$1048576,8,FALSE)","v":5}]
[21161,0.7518059704393939,4.177208229134842,22.84654877353109,10.743550834600001,1,146.95640790142417,219.55066785462122,88.374462214247941,{"$f":"VLOOKUP(A865,Sheet1!$1:$1048576,8,FALSE)","v":4}]
[21162,0.17081652524690497,56.265095736189259,33.404727907345709,14.525674116099999,1,61.481404278056765,169.9076026308712,68.391925906406783,{"$f":"VLOOKUP(A866,Sheet1!$1:$1048576,8,FALSE)","v":5}]
[21163,0.17268041237113399,91.89185957991738,35.483591652956967,11.7413510649,1,46.439515766266517,159.97523893321454,64.393908916187684,{"$f":"VLOOKUP(A867,Sheet1!$1:$1048576,8,FALSE)","v":5}]
[21164,0.30931710925189393,51.414658625266469,38.23146944083225,23.325704242400001,1,39.785627709679964,146.0761258835787,58.799179221127233,{"$f":"VLOOKUP(A868,Sheet1!$1:$1048576,8,FALSE)","v":5}]
[21165,7.77262180974478E-2,75.266577889746017,28.210586064992192,16.706983573500001,1,55.834318896191313,198.97616832685324,80.092727756952726,{"$f":"VLOOKUP(A869,Sheet1!$1:$1048576,8,FALSE)","v":5}]
[21166,0.17413105402424242,100,31.353230947551435,8.6220737237199998,1,54.596035333943334,180.23555190358954,72.54917567326649,{"$f":"VLOOKUP(A870,Sheet1!$1:$1048576,8,FALSE)","v":5}]
[21167,0.44479142090719698,22.745374400381436,43.38296112489661,10.8547599072,1,70.05667046240994,124.44575823394901,50.092432267397783,{"$f":"VLOOKUP(A871,Sheet1!$1:$1048576,8,FALSE)","v":5}]
[21168,0,100,8.9602326752055479,35.2088510398533,1,39.254226968703009,349.34126310614027,140.61832085472935,{"$f":"VLOOKUP(A872,Sheet1!$1:$1048576,8,FALSE)","v":5}]
[21169,0.1650185414091471,52.850798375005233,32.792050930142075,15.596424094283901,1,62.057370430211492,173.02708979344754,69.647595055905711,{"$f":"VLOOKUP(A873,Sheet1!$1:$1048576,8,FALSE)","v":5}]
[21173,0.31393154102840909,0.24691462639738671,16.079873883342092,9.3455157653666294,1,202.42849927115245,276.97337857046449,111.48849428705071,{"$f":"VLOOKUP(A874,Sheet1!$1:$1048576,8,FALSE)","v":4}]
[21174,0.89425892524242423,6.523079658883578,14.333814333814335,5.8614217327959697,1,218.09788166947695,277.44841278536347,111.67970706579234,{"$f":"VLOOKUP(A875,Sheet1!$1:$1048576,8,FALSE)","v":4}]
[21188,6.9886363636363635E-2,2.3093641299928223,85.52215189873418,3.5163127413127402,1,33.874606969196989,37.998221484101485,15.295204617546183,{"$f":"VLOOKUP(A876,Sheet1!$1:$1048576,8,FALSE)","v":3}]
[21193,3.3027247019128785E-3,4.2239346422850828,23.948908994145825,12.9661333499346,1,139.46651296252782,226.46696880416718,91.158440887147037,{"$f":"VLOOKUP(A877,Sheet1!$1:$1048576,8,FALSE)","v":4}]
[21194,0.95730865261363629,1.521445835309128,21.50197628458498,21.472030349665399,1,103.10285368141919,224.34363441346167,90.303747359164362,{"$f":"VLOOKUP(A878,Sheet1!$1:$1048576,8,FALSE)","v":5}]
[21195,0.62675479632196973,2.7912942967923091,11.344350156319786,22.1271260317166,1,137.14767959576704,309.35852444673606,124.52430000111303,{"$f":"VLOOKUP(A879,Sheet1!$1:$1048576,8,FALSE)","v":5}]
[21197,0.14302191464821221,11.801879271204809,17.814113597246127,26.321402927000001,1,93.342250001110244,267.24297844698083,107.57177252780866,{"$f":"VLOOKUP(A880,Sheet1!$1:$1048576,8,FALSE)","v":5}]
[21198,0.71407837445573297,26.423435832143944,22.859159347553327,21.303644521999999,1,81.175096327946264,220.16729989050287,88.622671546005478,{"$f":"VLOOKUP(A881,Sheet1!$1:$1048576,8,FALSE)","v":5}]
[21205,0.1456378171706639,100,8.5162023877202948,32.380442721199998,1,43.648008669837651,349.5505457858925,140.7025622030003,{"$f":"VLOOKUP(A882,Sheet1!$1:$1048576,8,FALSE)","v":5}]
[21206,0.21450670333447922,40.043915457087429,35.734643734643733,6.0692592334000004,1,90.991603490388698,158.26173814868409,63.704183342513538,{"$f":"VLOOKUP(A883,Sheet1!$1:$1048576,8,FALSE)","v":5}]
[21207,2.5490196078431372E-2,34.343597880658272,50.246397024639698,7.8921229514400002,1,59.807736333512594,105.71406502266929,42.552471992691288,{"$f":"VLOOKUP(A884,Sheet1!$1:$1048576,8,FALSE)","v":5}]
[21209,0.15857423519506034,100,23.566117896972916,14.452060534799999,1,55.083879157303862,226.01897524777996,90.978112628490194,{"$f":"VLOOKUP(A885,Sheet1!$1:$1048576,8,FALSE)","v":5}]
[21216,0.5441400632386364,32.265721853977446,4.486743711760707,41.136802011298997,1,63.364550046187347,379.79261031843879,152.87572576213864,{"$f":"VLOOKUP(A886,Sheet1!$1:$1048576,8,FALSE)","v":5}]
[21217,9.8513011152416355E-2,41.138121652752446,40.924322274588107,11.303468308499999,1,64.414303879682279,137.55337083569032,55.36856385884721,{"$f":"VLOOKUP(A887,Sheet1!$1:$1048576,8,FALSE)","v":5}]
[21218,0.10847880299251871,63.109321253010215,8.1434386048308038,35.569711879499998,1,54.970535767095129,354.44117875949428,142.67116044573268,{"$f":"VLOOKUP(A888,Sheet1!$1:$1048576,8,FALSE)","v":5}]
[21219,0,43.07318116911695,32.121445967082799,21.419006380700001,1,56.435326844511032,178.87553191685151,72.001734683434535,{"$f":"VLOOKUP(A889,Sheet1!$1:$1048576,8,FALSE)","v":5}]
[21220,0.55555555555555547,61.791069724944954,29.079597316919543,18.996303852899999,1,54.291740280097351,186.40709612637161,75.033371722631102,{"$f":"VLOOKUP(A890,Sheet1!$1:$1048576,8,FALSE)","v":5}]
[21221,0.36178153769594423,2.3576611894600004,23.399636734151418,22.284651694299999,1,98.789233307487947,223.26532205270132,89.869700512883426,{"$f":"VLOOKUP(A891,Sheet1!$1:$1048576,8,FALSE)","v":5}]
[21225,0.54155923082007573,0.22315829373929222,2.2099447513812152,34.078476103570203,1,117.8937413994277,405.71121819979294,163.30859328761281,{"$f":"VLOOKUP(A892,Sheet1!$1:$1048576,8,FALSE)","v":5}]
[21226,0.51787505527083333,0.75074091214943584,12.96133567662566,17.6990669762145,1,158.73068384289371,297.94708222264586,119.93091807475645,{"$f":"VLOOKUP(A893,Sheet1!$1:$1048576,8,FALSE)","v":5}]
[21227,0.62543204974431821,40.79120366184808,18.453652285348142,28.740225563909799,1,61.759189973611662,251.93047504687698,101.40811897866942,{"$f":"VLOOKUP(A894,Sheet1!$1:$1048576,8,FALSE)","v":5}]
[21228,0.45449078627840905,0,6.2732589048378529,41.9970878380838,1,78.754405204208837,363.40778979533025,146.28043859514398,{"$f":"VLOOKUP(A895,Sheet1!$1:$1048576,8,FALSE)","v":5}]
[21229,0.28942790103977273,1.5440220838388301,13.384113166485308,30.770105807307701,1,97.45703734000945,300.03141498823084,120.76991250385142,{"$f":"VLOOKUP(A896,Sheet1!$1:$1048576,8,FALSE)","v":5}]
[21230,0.52320545374431815,1.4884344168212769,6.1855670103092786,30.439181868919601,1,119.18317774644254,362.23307393337024,145.80758700434853,{"$f":"VLOOKUP(A897,Sheet1!$1:$1048576,8,FALSE)","v":5}]
[22001,0.1240530303030303,2.4920337161659245,18.573926559160675,13.308560075400001,1,161.74261415966086,261.85556363038825,105.4032075592124,{"$f":"VLOOKUP(A898,Sheet1!$1:$1048576,8,FALSE)","v":4}]
[22002,0.16240817630150112,3.0068755820067818,16.839937230286388,15.630266043900001,1,{"$f":"EXP(6.1523-(0.084*B899)-(0.0091*C899)-(0.0289*D899)-(0.0373*E899))","v":154.71922706671319},274.42651693284148,110.46332078264547,{"$f":"VLOOKUP(A899,Sheet1!$1:$1048576,8,FALSE)","v":5}]
[22003,0.11101694915254237,54.903149618408115,26.900557620817843,13.5112543367,1,78.410669820309224,{"$f":"EXP(6.1523+(-0.084*B900)+(-0.0091*0)+(-0.0289*D900)+(-0.0373*F900))","v":206.07670647916129},{"$f":"EXP(6.1523+(-0.084*B900)+(-0.0091*100)+(-0.0289*D900)+(-0.0373*F900))","v":82.950866366931749},{"$f":"VLOOKUP(A900,Sheet1!$1:$1048576,8,FALSE)","v":5}]
[22004,0.50723794775946962,4.078270344310698,30.165082541270639,7.6989759530599997,1,136.13364183097252,181.38486992358489,73.011804017432993,{"$f":"VLOOKUP(A901,Sheet1!$1:$1048576,8,FALSE)","v":4}]
[22005,0.13325656861718832,9.0836095457650075,37.428397318708107,11.666451438299999,1,93.841414729856481,151.73351110140075,61.076413815990421,{"$f":"VLOOKUP(A902,Sheet1!$1:$1048576,8,FALSE)","v":4}]
[22006,8.0392392214772724E-3,100,30.102389078498291,9.3334943583700003,1,55.897872475784681,189.49557238693828,76.276558232862016,{"$f":"VLOOKUP(A903,Sheet1!$1:$1048576,8,FALSE)","v":5}]
[22011,0.62160325877272726,18.19500060300189,47.836411609498683,7.9596445365799999,1,70.466948483076322,107.80381319854327,43.393646255610683,{"$f":"VLOOKUP(A904,Sheet1!$1:$1048576,8,FALSE)","v":4}]
[22011,0.62160325877272726,18.19500060300189,47.836411609498683,7.9596445365799999,1,70.466948483076322,107.80381319854327,43.393646255610683,{"$f":"VLOOKUP(A905,Sheet1!$1:$1048576,8,FALSE)","v":4}]
[22012,0.20004985311363635,28.653468366709699,54.666234607906674,10.443871218,1,49.666897931304248,91.683426989427559,36.904800305663862,{"$f":"VLOOKUP(A906,Sheet1!$1:$1048576,8,FALSE)","v":5}]
[22013,2.9039808511553029E-3,17.999097784606704,36.38653949973007,15.9848727129,1,76.742643524917824,158.09325399335134,63.636364388626262,{"$f":"VLOOKUP(A907,Sheet1!$1:$1048576,8,FALSE)","v":5}]
[22014,3.7553859472159094E-3,1.0461720030733241,44.475560081466398,19.876847383899999,1,61.29598164922615,125.12845644952219,50.367234836870523,{"$f":"VLOOKUP(A908,Sheet1!$1:$1048576,8,FALSE)","v":5}]
[22015,3.4827951649999997E-3,65.814997722313109,44.189417733752109,11.5472331204,1,46.772947832895937,126.17038718617641,50.78663719813904,{"$f":"VLOOKUP(A909,Sheet1!$1:$1048576,8,FALSE)","v":5}]
[22016,0.13993642720915447,20.650923707661505,38.355841523486298,15.0265354378,1,72.504479235879316,147.63773255105343,59.427763733198248,{"$f":"VLOOKUP(A910,Sheet1!$1:$1048576,8,FALSE)","v":5}]
[22017,2.9931767250946967E-3,0.59762901120680234,32.836941559254164,19.088867195900001,1,88.730864308618678,175.17070613430599,70.51045256013559,{"$f":"VLOOKUP(A911,Sheet1!$1:$1048576,8,FALSE)","v":5}]
[22018,1.5664556962025316,10.679335107860059,40.242424242424242,17.6005902283,1,60.583810015192135,124.01613286756081,49.919497650167209,{"$f":"VLOOKUP(A912,Sheet1!$1:$1048576,8,FALSE)","v":5}]
[22019,5.699456029011786E-2,41.569555812491416,44.830157415078709,12.3181620974,1,55.377341035796434,123.30006133801172,49.63126151338286,{"$f":"VLOOKUP(A913,Sheet1!$1:$1048576,8,FALSE)","v":5}]
[22020,0.34619735755573905,5.3631543532554007,35.560882539993152,17.9050625032,1,79.745983804249462,157.30866849055101,63.320549717923527,{"$f":"VLOOKUP(A914,Sheet1!$1:$1048576,8,FALSE)","v":5}]
[22021,1.2371857535454546E-3,2.184444132804491,41.883899233296823,11.2551807834,1,90.202279983231875,134.88888811613742,54.296045019708146,{"$f":"VLOOKUP(A915,Sheet1!$1:$1048576,8,FALSE)","v":4}]
[22022,3.3719707195454546E-3,0.69009680512464577,50.969267139479904,14.4321069156,1,62.452574784048721,103.72103445223533,41.750228908852044,{"$f":"VLOOKUP(A916,Sheet1!$1:$1048576,8,FALSE)","v":5}]
[22023,2.0366265835227272E-3,81.770760786787847,36.047666335650447,11.9941217735,1,50.342854925186643,159.66076829359716,64.267326865994335,{"$f":"VLOOKUP(A917,Sheet1!$1:$1048576,8,FALSE)","v":5}]
[22049,0.25487503081628787,3.5220606755253909,58.632902426066934,5.7756446324999997,1,65.951348110604712,81.377564717522617,32.756441091667782,{"$f":"VLOOKUP(A918,Sheet1!$1:$1048576,8,FALSE)","v":3}]
[22050,0.15485866501098483,3.0813704283803225,64.853001224989796,8.3515897492400004,1,50.67766941920253,68.562115962041887,27.597912525725075,{"$f":"VLOOKUP(A919,Sheet1!$1:$1048576,8,FALSE)","v":4}]
[22051,0.3812063413882576,8.2687142573120891,62.312138728323696,6.6182253283700003,1,54.453806417064023,72.396492933605046,29.141342140855961,{"$f":"VLOOKUP(A920,Sheet1!$1:$1048576,8,FALSE)","v":4}]
[22052,0.54179060987310612,7.457232882404238,45.484186501467235,8.46658929054,1,82.156995750542876,116.16325807834443,46.75852531920458,{"$f":"VLOOKUP(A921,Sheet1!$1:$1048576,8,FALSE)","v":4}]
[22053,0.27198280869318181,6.6074920895291962,56.616373979718027,9.0054449388499993,1,60.172110354738315,86.137101991626437,34.672270139685587,{"$f":"VLOOKUP(A922,Sheet1!$1:$1048576,8,FALSE)","v":4}]
[22053,0.27198280869318181,6.6074920895291962,56.616373979718027,9.0054449388499993,1,60.172110354738315,86.137101991626437,34.672270139685587,{"$f":"VLOOKUP(A923,Sheet1!$1:$1048576,8,FALSE)","v":4}]
[22054,0.18211610108882578,3.6531983541008275,50.600144613159792,3.8959962958899998,1,89.666147533630451,103.27115151906182,41.569140130270412,{"$f":"VLOOKUP(A924,Sheet1!$1:$1048576,8,FALSE)","v":3}]
[22055,0.15849432297253788,5.838160923846381,48.467650397275825,3.0134500119899998,1,96.80923867006527,110.05402486804202,44.299410961787103,{"$f":"VLOOKUP(A925,Sheet1!$1:$1048576,8,FALSE)","v":3}]
[22056,0.11129647283126788,3.1895424983118481,61.681228941808008,7.1877816007200002,1,58.162131963501686,75.419327862497497,30.358106424990179,{"$f":"VLOOKUP(A926,Sheet1!$1:$1048576,8,FALSE)","v":4}]
[22057,0.34086179716237519,10.607761701514555,66.97218710493047,5.15762257035,1,49.365976315309673,63.489300885206887,25.555981573255934,{"$f":"VLOOKUP(A927,Sheet1!$1:$1048576,8,FALSE)","v":4}]
[22058,0.20417494047537879,28.589114471962379,46.896239238785682,7.2422033738099998,1,70.074072662340583,114.72615077992458,46.180054819055059,{"$f":"VLOOKUP(A928,Sheet1!$1:$1048576,8,FALSE)","v":5}]
[22059,0.24697655070265154,4.2855989547872664,83.216336949585184,2.7231316726000001,1,36.090514335490084,40.016898679923429,16.107771089368807,{"$f":"VLOOKUP(A929,Sheet1!$1:$1048576,8,FALSE)","v":3}]
[22060,8.9643760949970813E-2,69.852731025267275,57.900418297125889,4.0280705367599996,1,39.86668257720784,84.28027360343539,33.924851733565347,{"$f":"VLOOKUP(A930,Sheet1!$1:$1048576,8,FALSE)","v":5}]
[22061,0.28717275689583333,4.4666683302643717,53.494236311239199,4.7175768548599999,1,78.695168370547748,94.150452290415728,37.897837750615452,{"$f":"VLOOKUP(A931,Sheet1!$1:$1048576,8,FALSE)","v":3}]
[22062,0.40642286620643941,3.2869265979697242,29.220367631523349,2.30216137665,1,173.80086734511559,187.99057990525839,75.670762301997371,{"$f":"VLOOKUP(A932,Sheet1!$1:$1048576,8,FALSE)","v":2}]
[22063,0.33479134392803034,7.3569264498842015,45.558698727015553,4.9792551158,1,95.093145233132873,117.94650024490247,47.476323488562414,{"$f":"VLOOKUP(A933,Sheet1!$1:$1048576,8,FALSE)","v":3}]
[22064,1.8048697428911971E-2,5.0134687502885598,41.020010978591749,5.71812303801822,1,110.6527630415568,138.10380218279246,55.59012580972329,{"$f":"VLOOKUP(A934,Sheet1!$1:$1048576,8,FALSE)","v":3}]
[22065,0.26406644391098483,2.494085149451136,62.679917751884851,11.896633518839501,1,47.097889474946825,72.339390115464496,29.11835687329382,{"$f":"VLOOKUP(A935,Sheet1!$1:$1048576,8,FALSE)","v":4}]
[22066,0.59099901088031648,20.993208745557819,52.636904009105855,9.5421219868399998,1,56.514102429482833,94.080383195448505,37.869633242535045,{"$f":"VLOOKUP(A936,Sheet1!$1:$1048576,8,FALSE)","v":5}]
[22067,0.67520693732755221,5.4132176033963866,40.097507129058961,6.1063093616500002,1,105.60851915708457,134.21790839954318,54.025959429943747,{"$f":"VLOOKUP(A937,Sheet1!$1:$1048576,8,FALSE)","v":4}]
[22068,0.66543648320643944,10.504442028914667,39.241151005856892,3.4549352076600002,1,114.19123758867671,137.69403298334387,55.425183780682367,{"$f":"VLOOKUP(A938,Sheet1!$1:$1048576,8,FALSE)","v":3}]
[22070,6.9350481425946965E-3,2.2027726922159543,23.747108712413262,7.1558292075500001,1,177.4108719996037,227.7220973300773,91.66366052310147,{"$f":"VLOOKUP(A939,Sheet1!$1:$1048576,8,FALSE)","v":4}]
[22071,1.1528762805358549E-2,28.508941438636541,40.433333920984431,13.970562831700001,1,66.838206651161173,140.54226100376178,56.571664554471944,{"$f":"VLOOKUP(A940,Sheet1!$1:$1048576,8,FALSE)","v":5}]
[22072,0.47877573021590913,6.9081079753185497,70.671046457062417,3.1665615941772298,1,48.847981927319381,56.395512856255728,22.700560051443286,{"$f":"VLOOKUP(A941,Sheet1!$1:$1048576,8,FALSE)","v":3}]
[22080,5.8329501416477273E-3,4.5109217817460996,6.1574896388395501,28.312466077233999,1,131.20411085178711,378.62966176504614,152.40761079809323,{"$f":"VLOOKUP(A942,Sheet1!$1:$1048576,8,FALSE)","v":5}]
[22084,0.70837048316666662,13.222328691118067,19.725628767408026,3.8203812310168201,1,192.46278243387746,241.15170289178405,97.069402080905292,{"$f":"VLOOKUP(A943,Sheet1!$1:$1048576,8,FALSE)","v":3}]
[22090,3.0318537859007833E-2,26.153964080675934,39.818144699027904,12.981146191400001,1,72.010434702911894,142.83767719647142,57.495625176276626,{"$f":"VLOOKUP(A944,Sheet1!$1:$1048576,8,FALSE)","v":5}]
[22094,5.7312977099236641E-2,5.6915913098133704,63.911264544175935,6.7267670818400003,1,54.475348134187833,71.033398269231824,28.592663518794758,{"$f":"VLOOKUP(A945,Sheet1!$1:$1048576,8,FALSE)","v":4}]
[22101,0.77396676579734847,24.319159572643663,20.156314273961332,7.4948629999999996,1,148.99407903630134,236.86001417895915,95.34189341198153,{"$f":"VLOOKUP(A946,Sheet1!$1:$1048576,8,FALSE)","v":4}]
[22104,3.3648068669527902E-2,53.310507361656512,57.146576412392605,4.3065171473200001,1,47.09556321495576,86.542662800340196,34.835518189511546,{"$f":"VLOOKUP(A947,Sheet1!$1:$1048576,8,FALSE)","v":5}]
[22127,0.66548676012461061,3.0024480945128542,46.603121203625832,6.52198510886,1,88.144418368894506,111.30441325306003,44.80272257620711,{"$f":"VLOOKUP(A948,Sheet1!$1:$1048576,8,FALSE)","v":3}]
[22130,7.1917808219178078E-2,8.3018123708769949,43.503807773109244,7.1805298988599997,1,94.218693026194813,127.95758725830464,51.506028520365334,{"$f":"VLOOKUP(A949,Sheet1!$1:$1048576,8,FALSE)","v":4}]
[22131,2.849091977026515E-3,2.4234484405066046,36.271676300578036,5.9541518829613302,1,128.98111330366194,158.61965524488849,63.848253643931585,{"$f":"VLOOKUP(A950,Sheet1!$1:$1048576,8,FALSE)","v":3}]
[22132,3.0627909078787879E-3,100,31.391170431211503,10.6343289625297,1,51.324972638360876,182.64381682871883,73.518560643521567,{"$f":"VLOOKUP(A951,Sheet1!$1:$1048576,8,FALSE)","v":5}]
[22133,6.9656793120643932E-3,100,30.934767989240079,12.6233626473978,1,48.271854164913812,185.00818883075803,74.470277648969258,{"$f":"VLOOKUP(A952,Sheet1!$1:$1048576,8,FALSE)","v":5}]
[23001,0.87309733566287884,0.24683960240984942,30.06076111288775,14.666587858249899,1,105.73054825405704,176.42640624604974,71.01590227323419,{"$f":"VLOOKUP(A953,Sheet1!$1:$1048576,8,FALSE)","v":5}]
[23002,0,100,14.582685006535135,21.597473712799999,1,55.438518604339393,296.94899893847668,119.5291653752753,{"$f":"VLOOKUP(A954,Sheet1!$1:$1048576,8,FALSE)","v":5}]
[23003,0.35961128310973517,19.512197715427227,24.209207045231594,12.834652929200001,1,117.46647986522848,218.1420745454765,87.807469285505491,{"$f":"VLOOKUP(A955,Sheet1!$1:$1048576,8,FALSE)","v":5}]
[23004,0,17.68636866843276,27.341061043636504,6.7367467223700004,1,141.16320851923078,205.37618285691391,82.668888639469401,{"$f":"VLOOKUP(A956,Sheet1!$1:$1048576,8,FALSE)","v":4}]
[23005,0.95640206565340924,23.977973692662331,25.525269733106189,4.7958825386799999,1,139.37887602915629,199.733091189459,80.39740754487643,{"$f":"VLOOKUP(A957,Sheet1!$1:$1048576,8,FALSE)","v":4}]
[23006,0,15.484602453471473,29.55306104315375,6.67381997739,1,135.41893131184423,192.6579883556166,77.54950726672584,{"$f":"VLOOKUP(A958,Sheet1!$1:$1048576,8,FALSE)","v":4}]
[23007,1.0051454475265151,0.80309455646412065,16.700434153400867,24.405235301099999,1,106.44216629639061,256.70440180032068,103.32974014069278,{"$f":"VLOOKUP(A959,Sheet1!$1:$1048576,8,FALSE)","v":5}]
[23008,0.91008274476325757,100,13.737864077669904,12.2484782913,1,74.58657545499662,281.89334145268674,113.46889852849151,{"$f":"VLOOKUP(A960,Sheet1!$1:$1048576,8,FALSE)","v":5}]
[23009,1.4597608987499999,45.796798634082791,2.9912325941206808,37.630719759000002,1,61.735352935951141,367.20984248307292,147.81085690301259,{"$f":"VLOOKUP(A961,Sheet1!$1:$1048576,8,FALSE)","v":5}]
[23010,1.9565666973674241,1.8116392920657692E-3,3.166666666666667,21.093225718700001,1,165.61038072590407,350.41975319771399,141.05243924196805,{"$f":"VLOOKUP(A962,Sheet1!$1:$1048576,8,FALSE)","v":5}]
[23011,0.95343895804166667,1.6952043405504083,9.4139650872817953,3.0667704041100001,1,{"$f":"EXP(6.1523-(0.084*B963)-(0.0091*C963)-(0.0289*D963)-(0.0373*E963))","v":290.13044753537577},318.25327769416873,128.10465365000653,{"$f":"VLOOKUP(A963,Sheet1!$1:$1048576,8,FALSE)","v":2}]
[23012,0.91278726911742414,4.612532851980844,38.302425106990015,9.4866506413200007,1,96.820588804518081,{"$f":"EXP(6.1523+(-0.084*B964)+(-0.0091*0)+(-0.0289*D964)+(-0.0373*F964))","v":138.57140935988841},{"$f":"EXP(6.1523+(-0.084*B964)+(-0.0091*100)+(-0.0289*D964)+(-0.0373*F964))","v":55.778349025836398},{"$f":"VLOOKUP(A964,Sheet1!$1:$1048576,8,FALSE)","v":4}]
[23013,0.6628501118568233,23.192735766325637,32.306835066864785,9.6853326910700002,1,98.557117412097696,168.28400485070503,67.738388469802658,{"$f":"VLOOKUP(A965,Sheet1!$1:$1048576,8,FALSE)","v":5}]
[23014,2.1556612074621211,13.595815884318913,18.121827411167512,5.6211816107099999,1,166.35293532141412,223.6771340836886,90.035464831104292,{"$f":"VLOOKUP(A966,Sheet1!$1:$1048576,8,FALSE)","v":4}]
[23015,1.0106095021685606,10.076097516256745,7.1407230355542275,10.627218861599999,1,215.49854443406582,338.23533347306557,136.1479151470038,{"$f":"VLOOKUP(A967,Sheet1!$1:$1048576,8,FALSE)","v":4}]
[23016,0.82533783395454552,6.9288071556985651,26.084344587288239,4.8695600569700002,1,161.49066322341153,198.707533618334,79.98459577935752,{"$f":"VLOOKUP(A968,Sheet1!$1:$1048576,8,FALSE)","v":3}]
[23017,1.4301579595037881,47.65170242886645,21.378955492667867,9.9903893475000007,1,100.2876847116304,216.37541201457194,87.096344821123836,{"$f":"VLOOKUP(A969,Sheet1!$1:$1048576,8,FALSE)","v":5}]
[23018,0.10122038765254845,6.2634983070681924,31.834997414376069,3.7657381326700001,1,152.36915004252009,178.83544156884116,71.98559734721043,{"$f":"VLOOKUP(A970,Sheet1!$1:$1048576,8,FALSE)","v":3}]
[23019,1.1419160968371211,31.360532724429824,22.714570858283434,7.9359180793500004,1,123.78390675625292,213.28471218165112,85.852263269156481,{"$f":"VLOOKUP(A971,Sheet1!$1:$1048576,8,FALSE)","v":5}]
[23020,6.4707347135227267E-3,22.601151733813246,24.351108978795043,12.3924239094,1,119.11644167940116,223.7902901819281,90.081012901742824,{"$f":"VLOOKUP(A972,Sheet1!$1:$1048576,8,FALSE)","v":5}]
[23021,0.20064320171520456,29.938032183044914,23.52096869011536,13.641147930500001,1,107.17243348466089,225.51574427607949,90.775549972096769,{"$f":"VLOOKUP(A973,Sheet1!$1:$1048576,8,FALSE)","v":5}]
[23023,1.3237831269147726,3.5452450852376689,27.59629449049244,21.119602947400001,1,83.391500053771807,182.41226296789074,73.425354605369762,{"$f":"VLOOKUP(A974,Sheet1!$1:$1048576,8,FALSE)","v":5}]
[23024,0.75336801387221553,1.8292672234414544,8.2338410868670238,18.059330814500001,1,174.30379207442431,334.87558655400267,134.7955356254586,{"$f":"VLOOKUP(A975,Sheet1!$1:$1048576,8,FALSE)","v":5}]
[23025,7.1229050279329603E-2,38.861956644766309,17.986405027574708,12.2057292438,1,123.66696028620814,267.52409966393458,107.68493062752235,{"$f":"VLOOKUP(A976,Sheet1!$1:$1048576,8,FALSE)","v":5}]
[23026,0.28625637376971425,12.557052082884933,2.4571096248909567,44.924724851400001,1,71.327545522903392,411.55554650715476,165.66107700453145,{"$f":"VLOOKUP(A977,Sheet1!$1:$1048576,8,FALSE)","v":5}]
[23027,0.13596986817325801,25.272733298544665,15.857933018619446,15.000144713899999,1,133.36596900012307,282.95397922366561,113.89583092423554,{"$f":"VLOOKUP(A978,Sheet1!$1:$1048576,8,FALSE)","v":5}]
[23028,1.4828054742973484,6.7913679830258351,14.553111839026672,7.8091305504499999,1,191.34486767188193,262.39720570185398,105.62123161373312,{"$f":"VLOOKUP(A979,Sheet1!$1:$1048576,8,FALSE)","v":4}]
[23029,1.0569985471155303,31.69122476476462,20.587838748820278,4.6226123936799999,1,149.56184624716616,228.42857563685359,91.948035155333201,{"$f":"VLOOKUP(A980,Sheet1!$1:$1048576,8,FALSE)","v":4}]
[23030,0.99169782686742425,60.840354946749464,12.91916696081892,18.943258349600001,1,84.386099563250781,286.67049564043214,115.39181881100276,{"$f":"VLOOKUP(A981,Sheet1!$1:$1048576,8,FALSE)","v":5}]
[23031,0.28127641589180052,99.013068403514936,17.693064206434695,21.034674406699999,1,50.995171290185056,265.08306388633036,106.70235459530386,{"$f":"VLOOKUP(A982,Sheet1!$1:$1048576,8,FALSE)","v":5}]
[23032,1.5303891560996941,16.984587533053361,16.787601268052128,7.7179831049300001,1,163.39083930938347,245.00671889769527,98.621139407321948,{"$f":"VLOOKUP(A983,Sheet1!$1:$1048576,8,FALSE)","v":4}]
[23033,0,10.535764781326634,12.644415917843387,8.3980844992300003,1,216.53503712469151,314.05759101751084,126.41578812619653,{"$f":"VLOOKUP(A984,Sheet1!$1:$1048576,8,FALSE)","v":4}]
[23034,0.61142274349821513,13.026862366708944,15.672270771414629,8.4076627748800004,1,184.17043300345759,273.33874884794909,110.0254677783456,{"$f":"VLOOKUP(A985,Sheet1!$1:$1048576,8,FALSE)","v":4}]
[23035,0.28250701590271282,97.784573673145218,24.117343554212429,13.9884865127,1,55.699324233032222,220.14318640695106,88.612965284750047,{"$f":"VLOOKUP(A986,Sheet1!$1:$1048576,8,FALSE)","v":5}]
[23036,0.15074946466809422,98.955945109573648,17.424706943192064,20.4862889015,1,53.060105540528802,270.09210063885217,108.71861322726866,{"$f":"VLOOKUP(A987,Sheet1!$1:$1048576,8,FALSE)","v":5}]
[23037,0.72098999910795458,100,23.561832586978987,13.3346216199,1,54.78511274937793,215.61617907501673,86.790735171268594,{"$f":"VLOOKUP(A988,Sheet1!$1:$1048576,8,FALSE)","v":5}]
[23038,0.26313052522100883,21.058146222198221,14.053708009029952,21.735606688299999,1,112.35658566617879,294.93201566867214,118.71728074970841,{"$f":"VLOOKUP(A989,Sheet1!$1:$1048576,8,FALSE)","v":5}]
[23039,0.91337683912689394,14.897294489068681,7.3049645390070914,15.336246927099999,1,173.61765217709851,339.39440589779048,136.61446987536499,{"$f":"VLOOKUP(A990,Sheet1!$1:$1048576,8,FALSE)","v":5}]
[23040,0.58695652173913038,24.916063209350025,13.931801055011302,20.4140933131,1,111.29504588224108,288.03056462761856,115.93927952470217,{"$f":"VLOOKUP(A991,Sheet1!$1:$1048576,8,FALSE)","v":5}]
[23041,0.59393180932954548,15.933667187472995,31.009933774834437,4.2679209884900002,1,134.56304397301179,175.72541626870358,70.73373682654757,{"$f":"VLOOKUP(A992,Sheet1!$1:$1048576,8,FALSE)","v":4}]
[23042,1.1602595139943181,95.087959289105058,21.762711864406782,8.2212387762199999,1,70.382397195294587,218.89580228564009,88.110862959247456,{"$f":"VLOOKUP(A993,Sheet1!$1:$1048576,8,FALSE)","v":5}]
[23043,0.183402489626556,26.372012360151611,13.519212390588736,21.362361205900001,1,110.98416875656987,301.53586152234021,121.37548867759389,{"$f":"VLOOKUP(A994,Sheet1!$1:$1048576,8,FALSE)","v":5}]
[23044,0.96999626878977274,15.509525961773305,18.898056960340696,8.2465750681000003,1,160.12144058229021,241.62005392388676,97.257924716677778,{"$f":"VLOOKUP(A995,Sheet1!$1:$1048576,8,FALSE)","v":4}]
[23045,0.53913444343939398,59.926213437767522,49.562023170387114,7.7668209710399996,1,46.508694454132808,103.2724082270188,41.569645985665616,{"$f":"VLOOKUP(A996,Sheet1!$1:$1048576,8,FALSE)","v":5}]
[23046,0.34269449715370021,26.166553151597682,16.062735423045577,19.528673492799999,1,109.15462484418065,276.44188236650274,111.27455418997417,{"$f":"VLOOKUP(A997,Sheet1!$1:$1048576,8,FALSE)","v":5}]
[23047,6.1741098991562049E-2,89.995470385543697,18.959806642198551,19.322117337400002,1,57.945422637615557,260.31054853925832,104.78130155853508,{"$f":"VLOOKUP(A998,Sheet1!$1:$1048576,8,FALSE)","v":5}]
[23048,1.1870845204178538E-2,26.561748744070098,17.546694648478489,19.079388103799999,1,108.94359637177251,272.29972061547119,109.6072337453184,{"$f":"VLOOKUP(A999,Sheet1!$1:$1048576,8,FALSE)","v":5}]
[23049,0.37441609773625584,27.23450759750807,14.590149976281122,20.317751153700002,1,109.23566104057824,287.69293501429337,115.80337542658768,{"$f":"VLOOKUP(A1000,Sheet1!$1:$1048576,8,FALSE)","v":5}]
[23050,1.0852114273087121,24.373864349394808,30.24068844964367,11.328582538499999,1,93.956137370183455,172.41189354177513,69.399963662072878,{"$f":"VLOOKUP(A1001,Sheet1!$1:$1048576,8,FALSE)","v":5}]
[23051,1.0945720400094698,7.1732217191514103,19.403988348644411,3.6484337851899999,1,199.98008518826114,235.63421951770115,94.848481367134085,{"$f":"VLOOKUP(A1002,Sheet1!$1:$1048576,8,FALSE)","v":3}]
[23052,0.66826532392613636,8.7745671071403528,34.677527039658166,6.1462093319599997,1,119.68736035014675,157.06899718808089,63.224076212873598,{"$f":"VLOOKUP(A1003,Sheet1!$1:$1048576,8,FALSE)","v":4}]
[23053,0.17011173184357542,41.457819826596563,18.085370160266283,18.938136701000001,1,92.91496848309805,264.55347820544586,106.4891835300465,{"$f":"VLOOKUP(A1004,Sheet1!$1:$1048576,8,FALSE)","v":5}]
[23054,0.27715626127751714,11.735107778186693,29.095095842668655,6.1814758494399999,1,141.28965503470295,190.73224849321934,76.774350322923738,{"$f":"VLOOKUP(A1005,Sheet1!$1:$1048576,8,FALSE)","v":4}]
[23055,0.34931195068939397,34.963107400822814,21.31943621935331,7.8548056202899996,1,133.71057318817381,237.34768452092882,95.538192537967092,{"$f":"VLOOKUP(A1006,Sheet1!$1:$1048576,8,FALSE)","v":5}]
[23056,1.8440057401022729,20.323564139055733,17.776886035313002,4.8107255520500001,1,167.21276018825105,231.91049768953897,93.349593127735986,{"$f":"VLOOKUP(A1007,Sheet1!$1:$1048576,8,FALSE)","v":4}]
[23057,1.8740413976893939,100,13.553370786516854,4.37481811385,1,92.759246683312824,261.3572138051116,105.20260968249563,{"$f":"VLOOKUP(A1008,Sheet1!$1:$1048576,8,FALSE)","v":5}]
[23058,0.78953611634659093,9.0060387517077949,25.704708212707605,6.8290112727199999,1,149.37140056607197,201.5047388305417,81.110538636864263,{"$f":"VLOOKUP(A1009,Sheet1!$1:$1048576,8,FALSE)","v":4}]
[23059,1.3292717197708332,5.1973224155933639,24.745912505523641,8.9413973851699993,1,140.42514172574113,197.98362081765225,79.693203340995069,{"$f":"VLOOKUP(A1010,Sheet1!$1:$1048576,8,FALSE)","v":4}]
[23060,0.25421096643172858,9.9774824008469842,30.257177377596228,5.9133248572700001,1,140.49216830002231,184.78885567629138,74.381990741162724,{"$f":"VLOOKUP(A1011,Sheet1!$1:$1048576,8,FALSE)","v":4}]
[23061,1.2693945432424243,21.352494377155587,24.682448036951502,3.2957813205800002,1,150.67237355285604,199.34721635033299,80.242083574683122,{"$f":"VLOOKUP(A1012,Sheet1!$1:$1048576,8,FALSE)","v":4}]
[23062,0.25566152742803028,28.417860497507469,26.30021948659223,12.138123070500001,1,105.57204042124944,207.15101918260348,83.383303254254301,{"$f":"VLOOKUP(A1013,Sheet1!$1:$1048576,8,FALSE)","v":5}]
[23063,4.3028242677824267,23.461024216507532,27.983907018328118,8.4683891669599998,1,85.863739248561629,140.44667068995523,56.533187137581827,{"$f":"VLOOKUP(A1014,Sheet1!$1:$1048576,8,FALSE)","v":5}]
[23064,4.3880762821699684E-2,16.114058345147139,28.300006643194049,6.5402447232399998,1,139.79188275108038,199.02766276533202,80.113455515843441,{"$f":"VLOOKUP(A1015,Sheet1!$1:$1048576,8,FALSE)","v":4}]
[23065,0.73141059855303026,18.253529244404415,41.586964222458377,7.0857128790899999,1,86.365996315246619,127.95750846534371,51.505996804289872,{"$f":"VLOOKUP(A1016,Sheet1!$1:$1048576,8,FALSE)","v":4}]
[23066,1.5831232442291665,7.8708295640482469,9.7868507955568891,10.849654624999999,1,192.51248195450157,298.6217312230051,120.20248064012111,{"$f":"VLOOKUP(A1017,Sheet1!$1:$1048576,8,FALSE)","v":4}]
[23067,0.34274796477820235,23.46493124718986,27.65812431842966,6.9574479175299997,1,127.88682543072572,197.72741260584323,79.5900733293456,{"$f":"VLOOKUP(A1018,Sheet1!$1:$1048576,8,FALSE)","v":4}]
[23068,0.68981723237597914,9.4866353810510979,26.810775931601871,4.5332024736300003,1,158.2390863167694,196.80707379591712,79.219614664032051,{"$f":"VLOOKUP(A1019,Sheet1!$1:$1048576,8,FALSE)","v":3}]
[23069,1.1190140845070422,4.6415561237655041,35.156039212159371,2.7048362521399998,1,134.1776583921401,149.15608137356014,60.038935914790152,{"$f":"VLOOKUP(A1020,Sheet1!$1:$1048576,8,FALSE)","v":3}]
[23070,1.0636122679450757,28.212302926363449,27.178691492112751,8.5888963812100005,1,109.99056547681602,188.70640326499517,75.958898544420563,{"$f":"VLOOKUP(A1021,Sheet1!$1:$1048576,8,FALSE)","v":5}]
[23071,8.4258486812552144E-2,40.524335127956412,19.449304023731649,18.4148386665,1,92.52625748110728,256.16900458532876,103.11422979217838,{"$f":"VLOOKUP(A1022,Sheet1!$1:$1048576,8,FALSE)","v":5}]
[23072,0.11575967285309846,21.750868960967672,26.55438347664214,7.5309733235899996,1,133.79600543340672,208.06582687734084,83.751535511718444,{"$f":"VLOOKUP(A1023,Sheet1!$1:$1048576,8,FALSE)","v":4}]
[23073,1.3526310736590907,5.198943390968684,35.593220338983052,0.84420214124799997,1,138.55062707604128,144.42132881352089,58.133083314569085,{"$f":"VLOOKUP(A1024,Sheet1!$1:$1048576,8,FALSE)","v":2}]
[23074,1.2988350590492423,4.7354325074265313,45.166352793471439,1.2739636077100001,1,104.30079465603357,110.01208895101001,44.282530739324642,{"$f":"VLOOKUP(A1025,Sheet1!$1:$1048576,8,FALSE)","v":2}]
[23075,0.37302325581395346,20.929171643037776,29.654561558901683,6.52773333806,1,125.21212537229883,186.16794891600853,74.937109177349896,{"$f":"VLOOKUP(A1026,Sheet1!$1:$1048576,8,FALSE)","v":4}]
[23076,0.18567518248175183,34.975924800984373,21.68214069986843,15.4008162528,1,{"$f":"EXP(6.1523-(0.084*B1027)-(0.0091*C1027)-(0.0289*D1027)-(0.0373*E1027))","v":101.22624452941749},238.12349328415755,95.850474358384233,{"$f":"VLOOKUP(A1027,Sheet1!$1:$1048576,8,FALSE)","v":5}]
[23077,4.4617784711388456E-2,31.933556166691037,23.123144917225499,14.0199756543,1,106.35183171456949,{"$f":"EXP(6.1523+(-0.084*B1028)+(-0.0091*0)+(-0.0289*D1028)+(-0.0373*F1028))","v":231.13298048398002},{"$f":"EXP(6.1523+(-0.084*B1028)+(-0.0091*100)+(-0.0289*D1028)+(-0.0373*F1028))","v":93.036623617895572},{"$f":"VLOOKUP(A1028,Sheet1!$1:$1048576,8,FALSE)","v":5}]
[23078,0.91395359534280296,6.9886307006704795,23.079004329004331,5.5197304331800003,1,170.55574413282932,215.13046819231417,86.595224775104057,{"$f":"VLOOKUP(A1029,Sheet1!$1:$1048576,8,FALSE)","v":3}]
[23079,1.8518518518518517E-2,30.18194916878452,23.490307717368538,13.6915379418,1,108.47551168461578,229.19531670612966,92.256667009278274,{"$f":"VLOOKUP(A1030,Sheet1!$1:$1048576,8,FALSE)","v":5}]
[23080,0.16187050359712229,30.812598602976152,23.339477556445107,13.7811371763,1,106.67223536965972,227.44125296446003,91.550613862757174,{"$f":"VLOOKUP(A1031,Sheet1!$1:$1048576,8,FALSE)","v":5}]
[23081,1.048410335844697,9.0789930888811146,31.308314327182252,6.1653186875400001,1,127.33711565312205,167.69104152154165,67.499706365850784,{"$f":"VLOOKUP(A1032,Sheet1!$1:$1048576,8,FALSE)","v":4}]
[23082,0.42589464338825755,75.353769278022156,36.213572447523944,10.3463578075,1,54.50618380650748,153.3392222754764,61.722751460357358,{"$f":"VLOOKUP(A1033,Sheet1!$1:$1048576,8,FALSE)","v":5}]
[23083,0.64707347135227267,34.733685094729211,40.865533230293664,8.3423696099499995,1,72.943487480236215,131.58222193036033,52.96503177913997,{"$f":"VLOOKUP(A1034,Sheet1!$1:$1048576,8,FALSE)","v":5}]
[23084,0.89129968191098474,14.62759100262468,17.88424019076523,7.1309379918399998,1,174.42262263162905,250.45425403024353,100.81390425944691,{"$f":"VLOOKUP(A1035,Sheet1!$1:$1048576,8,FALSE)","v":4}]
[23085,2.6706283566058002,22.928940926953082,23.50134838816199,12.092235539400001,1,98.404299929337938,183.36491706618105,73.808820957056525,{"$f":"VLOOKUP(A1036,Sheet1!$1:$1048576,8,FALSE)","v":5}]
[23086,1.4997744759883258,46.071042916995445,34.564670357322598,12.802600480700001,1,62.216266336250534,146.95111356566628,59.151382958898523,{"$f":"VLOOKUP(A1037,Sheet1!$1:$1048576,8,FALSE)","v":5}]
[23087,1.1960482155518788,30.39077895714702,32.04534089014836,10.5756109155,1,86.029926863941739,162.13374777657785,65.26276101343224,{"$f":"VLOOKUP(A1038,Sheet1!$1:$1048576,8,FALSE)","v":5}]
[23088,0.9318049261083744,22.406867946717981,23.472312942526628,12.3169318745,1,113.56262932249392,212.38030140824853,85.488216024384954,{"$f":"VLOOKUP(A1039,Sheet1!$1:$1048576,8,FALSE)","v":5}]
[23089,0.52007182606250002,6.2271874613409448,28.819226750261233,4.0216518426999999,1,159.02529758891663,188.37568880980723,75.825777964969333,{"$f":"VLOOKUP(A1040,Sheet1!$1:$1048576,8,FALSE)","v":3}]
[23090,0.75720153368560605,5.3309844250947434,19.218955682316803,2.9532121010300001,1,215.85361774391842,243.70713839930153,98.098026775636754,{"$f":"VLOOKUP(A1041,Sheet1!$1:$1048576,8,FALSE)","v":3}]
[23091,0.48107152235037876,11.808769309638269,33.788095500055007,5.1444901206300004,1,125.97264118897512,163.71285877886743,65.898391444291832,{"$f":"VLOOKUP(A1042,Sheet1!$1:$1048576,8,FALSE)","v":4}]
[23092,0.42990030811742425,6.0592718394965095,33.577757409104798,9.5036864446999996,1,113.99610793245225,165.42057743777076,66.585789572334662,{"$f":"VLOOKUP(A1043,Sheet1!$1:$1048576,8,FALSE)","v":4}]
[23093,2.3204299123106056,19.963958029360001,28.935698447893571,3.5551595443799999,1,122.34717904045016,161.39297059976928,64.964580255155553,{"$f":"VLOOKUP(A1044,Sheet1!$1:$1048576,8,FALSE)","v":4}]
[23094,0.91531629107575752,5.2007162174254153,20.688762299326775,4.70667928668,1,191.4492089693004,230.49016677143169,92.77787552705388,{"$f":"VLOOKUP(A1045,Sheet1!$1:$1048576,8,FALSE)","v":3}]
[23095,0.34914155446320438,26.7114791065841,25.988785609453203,11.5297255216,1,109.81125007061313,207.38898932599869,83.479092001567622,{"$f":"VLOOKUP(A1046,Sheet1!$1:$1048576,8,FALSE)","v":5}]
[23096,0.40424817632954541,100,15.937445088736602,20.403127715030401,1,53.877574097432223,276.01383468296842,111.10225462831012,{"$f":"VLOOKUP(A1047,Sheet1!$1:$1048576,8,FALSE)","v":5}]
[24001,5.1585205739772726E-3,100,27.566693613581243,8.4863769999999992,1,62.093876484302612,203.95293140985984,82.095995455139203,{"$f":"VLOOKUP(A1048,Sheet1!$1:$1048576,8,FALSE)","v":5}]
[24002,0.17915106117353308,3.0436254020993792,34.94142705005325,21.882147641154599,1,72.496839727186213,162.41325910253713,65.375271093022604,{"$f":"VLOOKUP(A1049,Sheet1!$1:$1048576,8,FALSE)","v":5}]
[24004,5.203057612973485E-3,2.6463520272845842,24.543738200125865,15.948492423730601,1,124.41071851921971,222.57161370675223,89.590466099224599,{"$f":"VLOOKUP(A1050,Sheet1!$1:$1048576,8,FALSE)","v":5}]
[24005,0.47235150994704456,45.17409245922029,25.37268238144042,21.974,1,63.347631020033852,208.94100770572911,84.103816995554553,{"$f":"VLOOKUP(A1051,Sheet1!$1:$1048576,8,FALSE)","v":5}]
[24006,0.37840784465909089,58.882041090669169,11.676325391714961,36.322503255100003,1,49.029001574258615,312.86379535723034,125.9352564543874,{"$f":"VLOOKUP(A1052,Sheet1!$1:$1048576,8,FALSE)","v":5}]
[24007,0.35982759104545459,5.1311966623106207,9.0097148229395163,33.046068583299999,1,97.746899157178419,338.45587317875442,136.23668772090483,{"$f":"VLOOKUP(A1053,Sheet1!$1:$1048576,8,FALSE)","v":5}]
[24008,0.43891545558901507,15.429755834816508,24.87274728298253,19.821146552399998,1,91.548525107548983,212.57794162905168,85.567771000901573,{"$f":"VLOOKUP(A1054,Sheet1!$1:$1048576,8,FALSE)","v":5}]
[24009,0.31272412165340907,100,23.514414591096294,11.980710247199999,1,59.715051041864818,223.44484210038488,89.941961680775719,{"$f":"VLOOKUP(A1055,Sheet1!$1:$1048576,8,FALSE)","v":5}]
[24010,0.2111877364810606,1.0602485278951903,34.146341463414636,14.9374758303,1,97.603646243051358,165.74176786221264,66.715076498700157,{"$f":"VLOOKUP(A1056,Sheet1!$1:$1048576,8,FALSE)","v":5}]
[24011,0.13879408418657566,37.542319075401515,14.419800707168113,33.344784763699998,1,62.709533230141325,294.89196133312964,118.70115790937498,{"$f":"VLOOKUP(A1057,Sheet1!$1:$1048576,8,FALSE)","v":5}]
[24012,0.11105651105651104,24.962694218209247,21.074005270661424,27.393152348899999,1,72.603084035001388,243.86931821909266,98.163308081752106,{"$f":"VLOOKUP(A1058,Sheet1!$1:$1048576,8,FALSE)","v":5}]
[24013,0.32307077156818176,1.1859354009531446,29.064486830154408,16.375616262699999,1,106.01662135438164,190.1661922323824,76.546498965770965,{"$f":"VLOOKUP(A1059,Sheet1!$1:$1048576,8,FALSE)","v":5}]
[24014,0.45936465260984849,50.026769468692329,24.970847909378644,8.5299671200699994,1,101.35654903892819,211.61230799059913,85.179080069882687,{"$f":"VLOOKUP(A1060,Sheet1!$1:$1048576,8,FALSE)","v":5}]
[24015,0,38.0974205728347,27.426390403489641,12.78052787,1,93.342647164947635,204.87034534924902,82.465276789209469,{"$f":"VLOOKUP(A1061,Sheet1!$1:$1048576,8,FALSE)","v":5}]
[24016,0.57305213372727271,2.0713448685110016,26.287078077054211,12.150011639100001,1,130.63698789906974,201.77779442747664,81.220450129138541,{"$f":"VLOOKUP(A1062,Sheet1!$1:$1048576,8,FALSE)","v":4}]
[24017,0.43538283552083329,1.8770740498131671,28.248375812093951,5.1744949926499997,1,162.2696964281879,192.87644081314929,77.637439672682419,{"$f":"VLOOKUP(A1063,Sheet1!$1:$1048576,8,FALSE)","v":3}]
[24018,0.37417742251704544,0.14914948884333762,55.612244897959187,11.5297760473,1,59.279130431433991,87.915420266445864,35.388086323342094,{"$f":"VLOOKUP(A1064,Sheet1!$1:$1048576,8,FALSE)","v":4}]
[24019,5.4694473748275581E-2,72.754016551382392,42.793277589204401,14.3427565998,1,41.014824318050273,130.80137378052271,52.650721483538476,{"$f":"VLOOKUP(A1065,Sheet1!$1:$1048576,8,FALSE)","v":5}]
[24020,0.12939049586776857,20.584986621244973,24.190388735843282,24.593784117399998,1,76.528057481040122,222.52266551053521,89.570763264524501,{"$f":"VLOOKUP(A1066,Sheet1!$1:$1048576,8,FALSE)","v":5}]
[24021,6.1385603884090909E-2,1.4841276488100947,40.723822909346453,5.8887530210600003,1,114.09929498237265,138.78488260529866,55.864277178297094,{"$f":"VLOOKUP(A1067,Sheet1!$1:$1048576,8,FALSE)","v":3}]
[24022,3.8167418771780301E-2,30.466415912826239,43.65948428117273,9.2097108055400003,1,71.276611435146378,127.74484053891099,51.4203928122257,{"$f":"VLOOKUP(A1068,Sheet1!$1:$1048576,8,FALSE)","v":5}]
[24023,8.7390959555908004E-2,32.118842224717127,41.634023503077785,12.895855877100001,1,64.614509555947919,134.88679622205638,54.295202981666414,{"$f":"VLOOKUP(A1069,Sheet1!$1:$1048576,8,FALSE)","v":5}]
[24024,0.38819535314204545,100,34.592923394022677,14.06822294,1,39.853546144292537,161.20165620572524,64.887571577146502,{"$f":"VLOOKUP(A1070,Sheet1!$1:$1048576,8,FALSE)","v":5}]
[24025,0,38.443796675777286,41.321151176316086,12.9476925367,1,61.888306334299457,137.11482740393876,55.192039504276366,{"$f":"VLOOKUP(A1071,Sheet1!$1:$1048576,8,FALSE)","v":5}]
[24026,6.583715873399372E-2,69.10712237822338,31.15808823529412,15.1274369718,1,57.579852065213124,182.91122551546593,73.626199117654309,{"$f":"VLOOKUP(A1072,Sheet1!$1:$1048576,8,FALSE)","v":5}]
[24027,0.2919108421647727,1.8436554558375198,59.921773142112123,8.4607872710599992,1,58.187794461799243,78.158611712258434,31.460734531023071,{"$f":"VLOOKUP(A1073,Sheet1!$1:$1048576,8,FALSE)","v":4}]
[24028,0.55048280387121207,5.3331556135300593,24.416552265150031,20.0495583031,1,99.887129470268263,213.38991605205959,85.894610375458001,{"$f":"VLOOKUP(A1074,Sheet1!$1:$1048576,8,FALSE)","v":5}]
[24029,0.22817243472981175,39.69539771823186,27.279366327734394,11.5130103675,1,95.020857740739615,201.8368764045162,81.244232056100756,{"$f":"VLOOKUP(A1075,Sheet1!$1:$1048576,8,FALSE)","v":5}]
[24030,0.11905094207955338,13.009828626616704,32.018158755591159,7.2913099383200004,1,124.78841606398761,177.62506153134782,71.498390061832623,{"$f":"VLOOKUP(A1076,Sheet1!$1:$1048576,8,FALSE)","v":4}]
[24031,0.11442725215583145,77.281902298137823,34.959087427949534,11.700032226699999,1,54.200708004948169,163.21534831425251,65.698131430574094,{"$f":"VLOOKUP(A1077,Sheet1!$1:$1048576,8,FALSE)","v":5}]
[24032,0.16566501175855763,14.882646310354119,47.695277934196767,8.1969231830599991,1,75.099454159528662,112.47045969935276,45.27208451718829,{"$f":"VLOOKUP(A1078,Sheet1!$1:$1048576,8,FALSE)","v":4}]
[24033,0.48861131520940482,9.9106808404499365,62.840385421030589,9.12613694727,1,47.683117626120428,70.65928414176966,28.442073519938042,{"$f":"VLOOKUP(A1079,Sheet1!$1:$1048576,8,FALSE)","v":4}]
[24034,8.7824351297405179E-2,39.136019590321219,36.957818412272367,16.843726740000001,1,59.885416819193047,154.39925344471243,62.149439684205561,{"$f":"VLOOKUP(A1080,Sheet1!$1:$1048576,8,FALSE)","v":5}]
[24035,0,11.096264070559718,59.649673530889004,8.4014976677799993,1,55.371917943271349,80.731144884680589,32.496241450053091,{"$f":"VLOOKUP(A1081,Sheet1!$1:$1048576,8,FALSE)","v":4}]
[24036,0,16.853406301808253,71.700942587832046,6.5930397599699999,1,39.680360946858983,56.988116247470401,22.939097271651672,{"$f":"VLOOKUP(A1082,Sheet1!$1:$1048576,8,FALSE)","v":4}]
[24037,5.4185857491194797E-2,8.7088436730279568,56.637738946874641,11.653825938300001,1,54.43348771599014,87.673328613032211,35.290638568406756,{"$f":"VLOOKUP(A1083,Sheet1!$1:$1048576,8,FALSE)","v":4}]
[24038,0,10.97654939328741,62.240602064006559,9.6536852883699993,1,49.086180531546013,74.906944287941968,30.151859624234639,{"$f":"VLOOKUP(A1084,Sheet1!$1:$1048576,8,FALSE)","v":4}]
[24039,0.24865920352651516,2.8848044884552428,63.204913456169741,5.8559409140499996,1,57.980822602184752,71.342386226627951,28.717038656581369,{"$f":"VLOOKUP(A1085,Sheet1!$1:$1048576,8,FALSE)","v":3}]
[24040,4.024594364450758E-3,2.1689171844271966,19.668049792531122,13.097646899034,1,160.01633749375321,256.27607850992092,103.15732964058907,{"$f":"VLOOKUP(A1086,Sheet1!$1:$1048576,8,FALSE)","v":4}]
[24041,2.9634640350378787E-3,1.895658112961945,12.982961363090952,9.9891047433474096,1,218.54662748559468,310.92243801589296,125.15381309699359,{"$f":"VLOOKUP(A1087,Sheet1!$1:$1048576,8,FALSE)","v":4}]
[24042,1.2290463470946969E-3,10.912511970680209,25.93320235756385,7.3736087689713301,1,152.68664448509199,213.88258836847663,86.092922917326618,{"$f":"VLOOKUP(A1088,Sheet1!$1:$1048576,8,FALSE)","v":4}]
[24043,0.14330861796523639,19.359675501672395,30.635790851812455,11.509113359400001,1,104.52483985319684,184.48860876686896,74.261134086928962,{"$f":"VLOOKUP(A1089,Sheet1!$1:$1048576,8,FALSE)","v":5}]
[24044,5.3961246014226152E-2,29.079315669357406,28.416856492027335,12.239002277100001,1,100.02133819628355,198.18879821495176,79.7757922136323,{"$f":"VLOOKUP(A1090,Sheet1!$1:$1048576,8,FALSE)","v":5}]
[24045,0.1614724266871212,1.5442137481469502,39.21600787272429,9.8852682892099999,1,{"$f":"EXP(6.1523-(0.084*B1091)-(0.0091*C1091)-(0.0289*D1091)-(0.0373*E1091))","v":101.76038025229566},143.75258881118006,57.863899264046587,{"$f":"VLOOKUP(A1091,Sheet1!$1:$1048576,8,FALSE)","v":4}]
[24046,2.514166443655303E-3,77.589771203764897,16.353203697800449,22.1233930181,1,63.32066553532897,{"$f":"EXP(6.1523+(-0.084*B1092)+(-0.0091*0)+(-0.0289*D1092)+(-0.0373*F1092))","v":282.07732152284967},{"$f":"EXP(6.1523+(-0.084*B1092)+(-0.0091*100)+(-0.0289*D1092)+(-0.0373*F1092))","v":113.54295496347149},{"$f":"VLOOKUP(A1092,Sheet1!$1:$1048576,8,FALSE)","v":5}]
[24047,9.6567731703787877E-4,100,37.345944396675264,20.327071641,1,30.105904575988209,153.7950835493547,61.906246665892205,{"$f":"VLOOKUP(A1093,Sheet1!$1:$1048576,8,FALSE)","v":5}]
[24048,0.19661830244696971,10.412572785737892,53.575909661229616,13.1326456594,1,54.753329407253808,94.645683654228066,38.097180371051131,{"$f":"VLOOKUP(A1094,Sheet1!$1:$1048576,8,FALSE)","v":5}]
[24049,0.35981697212121211,5.9848938749376615,54.292929292929294,10.2644767928,1,61.2940147273154,91.442441324191108,36.807797737761312,{"$f":"VLOOKUP(A1095,Sheet1!$1:$1048576,8,FALSE)","v":4}]
[24050,0.4735669094431818,7.0449447797795202,48.503796337650734,11.4703430693,1,67.952427956035578,107.06762727783838,43.097313589134451,{"$f":"VLOOKUP(A1096,Sheet1!$1:$1048576,8,FALSE)","v":4}]
[24051,0,23.104225610807081,44.426995786225795,12.052336633299999,1,67.259563214004089,125.34373230243496,50.453888582517415,{"$f":"VLOOKUP(A1097,Sheet1!$1:$1048576,8,FALSE)","v":5}]
[24052,0.44906398751893944,8.4091343713813451,52.78093076049943,4.5973301092499996,1,76.800119044835,94.813302966786281,38.16465120477168,{"$f":"VLOOKUP(A1098,Sheet1!$1:$1048576,8,FALSE)","v":3}]
[24053,0.40423635526893942,9.4327053346875296,57.270352633870267,5.7200264302599999,1,64.330660365075346,83.590590091268027,33.647237413001399,{"$f":"VLOOKUP(A1099,Sheet1!$1:$1048576,8,FALSE)","v":4}]
[24054,0.15863453815261044,22.785648712572144,44.519170023343655,12.028000346900001,1,66.445154891003881,123.35553140262743,49.653589558099412,{"$f":"VLOOKUP(A1100,Sheet1!$1:$1048576,8,FALSE)","v":5}]
[24055,0.34516054617424247,1.0023888276242343,36.905207943049831,11.226468471,1,102.39900464224027,151.32744585388278,60.912962717326216,{"$f":"VLOOKUP(A1101,Sheet1!$1:$1048576,8,FALSE)","v":4}]
[24056,0,28.147726406630856,45.074016723443791,14.1368229584,1,58.335633157992,123.02171895967471,49.519221963527102,{"$f":"VLOOKUP(A1102,Sheet1!$1:$1048576,8,FALSE)","v":5}]
[24057,3.4291113210693051E-2,14.245012978616058,39.753578546838199,6.8198198842700002,1,101.14268338560539,143.05671020237591,57.583791267016089,{"$f":"VLOOKUP(A1103,Sheet1!$1:$1048576,8,FALSE)","v":4}]
[24058,8.6956521739130432E-2,23.152568671657171,43.842273622047244,12.1382219705,1,67.660996418054907,126.55208271447367,50.940278894484024,{"$f":"VLOOKUP(A1104,Sheet1!$1:$1048576,8,FALSE)","v":5}]
[24059,0.38988732394366193,62.517270464641243,24.791827293754821,22.040688685799999,1,55.25952958994452,213.95498790367276,86.122065484051831,{"$f":"VLOOKUP(A1105,Sheet1!$1:$1048576,8,FALSE)","v":5}]
[24060,0.20987695040530302,38.719488347383049,66.306217743917429,8.4075714904699996,1,34.899443475169527,65.439146083739374,26.340841498780922,{"$f":"VLOOKUP(A1106,Sheet1!$1:$1048576,8,FALSE)","v":5}]
[24061,0.90204909819639278,91.931409472286802,24.046415441176471,22.866409849099998,1,40.12877090327521,209.40841198998325,84.291958542383952,{"$f":"VLOOKUP(A1107,Sheet1!$1:$1048576,8,FALSE)","v":5}]
[24062,2.0289592159469698E-3,0.20335852387041031,31.358768406961179,19.816997392000001,1,90.453562292757738,182.83080465932071,73.593827774938333,{"$f":"VLOOKUP(A1108,Sheet1!$1:$1048576,8,FALSE)","v":5}]
[24063,0.57546563140151519,4.1288368471327104,39.91507430997877,6.6009833074299999,1,106.33836648676268,136.06262251197109,54.768501546612676,{"$f":"VLOOKUP(A1109,Sheet1!$1:$1048576,8,FALSE)","v":4}]
[24064,6.0190703218116808E-2,18.581399430728364,30.067674131849852,12.807717264800001,1,102.66483053257336,188.85663807343931,76.01937169411238,{"$f":"VLOOKUP(A1110,Sheet1!$1:$1048576,8,FALSE)","v":5}]
[24065,0.14203066242406712,25.968156100090251,24.9535052963532,15.503177875265401,1,99.946432357133475,217.43786276859416,87.524006986460577,{"$f":"VLOOKUP(A1111,Sheet1!$1:$1048576,8,FALSE)","v":5}]
[24066,0.27907367007887229,40.23360620512728,20.98138747884941,18.224934934426301,1,87.933410049815393,241.09612516536416,97.047030699704564,{"$f":"VLOOKUP(A1112,Sheet1!$1:$1048576,8,FALSE)","v":5}]
[24067,0.24443087263825758,21.658642280247047,45.650684931506852,6.5329994202151598,1,79.177208746398222,118.529634819877,47.711049280861225,{"$f":"VLOOKUP(A1113,Sheet1!$1:$1048576,8,FALSE)","v":4}]
[24068,0,22.250691753710402,44.660600903318716,11.967446263499999,1,67.541457417439574,124.50036329020128,50.114412125294038,{"$f":"VLOOKUP(A1114,Sheet1!$1:$1048576,8,FALSE)","v":5}]
[24069,0.21393006031060605,7.0500268833900668,47.605177993527512,14.8789593233,1,62.765138726673591,112.3074535058672,45.20647057564284,{"$f":"VLOOKUP(A1115,Sheet1!$1:$1048576,8,FALSE)","v":5}]
[24070,0.24026706462310604,57.825189258309017,43.112767940354146,13.882936838299999,1,46.624017566221426,127.59466671023299,51.359944208366926,{"$f":"VLOOKUP(A1116,Sheet1!$1:$1048576,8,FALSE)","v":5}]
[24071,1.0495283018867924E-2,20.206464980466318,44.854149548069024,12.1129596032,1,67.995481182238294,123.69680794892777,49.790961635079817,{"$f":"VLOOKUP(A1117,Sheet1!$1:$1048576,8,FALSE)","v":5}]
[24072,0,20.82311140621033,44.706077523720687,12.2196890102,1,67.694818830850437,124.3368431374081,50.048591302677124,{"$f":"VLOOKUP(A1118,Sheet1!$1:$1048576,8,FALSE)","v":5}]
[24073,0.10923798937878228,22.74149027465306,42.95603229478224,12.0908736437,1,69.669144326786238,129.59246937726044,52.164108176684465,{"$f":"VLOOKUP(A1119,Sheet1!$1:$1048576,8,FALSE)","v":5}]
[24074,0.17583664208735111,21.581827999737445,44.783202703674405,12.0498970636,1,66.515790370694049,122.24108042426914,49.204996042812219,{"$f":"VLOOKUP(A1120,Sheet1!$1:$1048576,8,FALSE)","v":5}]
[24075,0.55455119616856063,7.1986178936101144,28.819531839919456,8.91489877335,1,130.94797177262143,187.82923570679208,75.60581735370738,{"$f":"VLOOKUP(A1121,Sheet1!$1:$1048576,8,FALSE)","v":4}]
[24076,0,21.165131611484547,44.624926288355823,12.052638913499999,1,68.065705848874003,124.62878890491493,50.166106546202698,{"$f":"VLOOKUP(A1122,Sheet1!$1:$1048576,8,FALSE)","v":5}]
[24077,0.41976760632765153,4.3624366948989834,50.623347185493003,13.5331325301,1,60.918735440910034,101.16216136778884,40.720220506134666,{"$f":"VLOOKUP(A1123,Sheet1!$1:$1048576,8,FALSE)","v":5}]
[24078,0.22477296539015149,9.1079377164031605,48.659269533055941,12.0187686729,1,66.419047592838623,108.83861420209277,43.810178726593655,{"$f":"VLOOKUP(A1124,Sheet1!$1:$1048576,8,FALSE)","v":5}]
[24079,1.7776909552647002E-2,20.883023773630001,42.907675549861459,12.224593022600001,1,71.147990438444936,130.77455889011802,52.639927840585777,{"$f":"VLOOKUP(A1125,Sheet1!$1:$1048576,8,FALSE)","v":5}]
[24080,6.7359249329758716E-2,18.294679726193202,31.66860582760016,12.6852418861,1,98.669709704376359,180.20932909896729,72.538620359183923,{"$f":"VLOOKUP(A1126,Sheet1!$1:$1048576,8,FALSE)","v":5}]
[24081,3.9439467422348485E-3,11.725150491579324,42.234848484848484,6.0180421960199997,1,99.505184056393333,133.49734463414222,53.735915059408967,{"$f":"VLOOKUP(A1127,Sheet1!$1:$1048576,8,FALSE)","v":4}]
[24082,0.50971946022727266,11.836968755172109,49.671086979221052,5.0290555999400004,1,79.7334313004027,103.20209483615756,41.541343142570021,{"$f":"VLOOKUP(A1128,Sheet1!$1:$1048576,8,FALSE)","v":4}]
[24083,0.63355610561056108,19.724687403391975,40.67454261299865,12.283114076894501,1,72.67025801859775,132.46083351461914,53.318694225320705,{"$f":"VLOOKUP(A1129,Sheet1!$1:$1048576,8,FALSE)","v":5}]
[24084,0.22658855521401516,46.225062284079215,45.290423861852439,7.0383328573100004,1,62.877942679961585,119.94979878029952,48.282699677030806,{"$f":"VLOOKUP(A1130,Sheet1!$1:$1048576,8,FALSE)","v":5}]
[24087,5.6859474029285352E-2,6.9924282600652035,51.324122049510649,6.3155883954899998,1,78.653657556062484,102.20255494824194,41.139004124796124,{"$f":"VLOOKUP(A1131,Sheet1!$1:$1048576,8,FALSE)","v":4}]
[24088,2.5088889235984849E-3,28.411148799131954,65.044565106034213,6.4073843114900004,1,43.587239385606374,69.061770016959386,27.799035386465999,{"$f":"VLOOKUP(A1132,Sheet1!$1:$1048576,8,FALSE)","v":4}]
[24089,0.18046120058565154,11.50186465597108,54.475270874585625,6.3397425956199998,1,68.146960955775583,92.342633001501326,37.170146694152145,{"$f":"VLOOKUP(A1133,Sheet1!$1:$1048576,8,FALSE)","v":4}]
[24090,3.0843898059280304E-3,7.5156029510538067,41.756440281030443,16.318036529699999,1,71.394800011452304,135.36567052197378,54.487961487650317,{"$f":"VLOOKUP(A1134,Sheet1!$1:$1048576,8,FALSE)","v":5}]
[24091,0.26332804160416662,34.270322799120258,30.395569620253166,18.833549666300001,1,69.227427998550127,183.91036321691564,74.028376245633112,{"$f":"VLOOKUP(A1135,Sheet1!$1:$1048576,8,FALSE)","v":5}]
[24092,9.6685014658522722E-2,27.456091670785298,72.201455833169391,7.4899818930000004,1,34.067015418305502,55.715388596268255,22.426793561445358,{"$f":"VLOOKUP(A1136,Sheet1!$1:$1048576,8,FALSE)","v":5}]
[24093,0.20925945439204549,6.155041963844555,70.76372315035799,5.5128656780399998,1,45.97095734927192,57.532534592363724,23.158238843479527,{"$f":"VLOOKUP(A1137,Sheet1!$1:$1048576,8,FALSE)","v":3}]
[24094,0.16199618168428029,15.594426813095803,60.622347949080627,8.5581964721400006,1,50.682285574954086,77.432490391053776,31.168453109650891,{"$f":"VLOOKUP(A1138,Sheet1!$1:$1048576,8,FALSE)","v":4}]
[24095,0.24726626875378788,15.391893101342717,38.813893523433947,17.872545495499999,1,66.893107598490445,144.3885761215414,58.119899562645024,{"$f":"VLOOKUP(A1139,Sheet1!$1:$1048576,8,FALSE)","v":5}]
[24096,0,42.377587080664412,41.17310443490701,11.843084017600001,1,62.490478775197559,137.70273696569888,55.428687344425818,{"$f":"VLOOKUP(A1140,Sheet1!$1:$1048576,8,FALSE)","v":5}]
[24097,5.9342285091287875E-3,6.7489138117466085,40.953307392996109,7.6465365717299996,1,101.65858686633382,138.51116569961334,55.754099493231223,{"$f":"VLOOKUP(A1141,Sheet1!$1:$1048576,8,FALSE)","v":4}]
[24098,0.22312212935984851,35.770651104805722,31.19826566811194,13.9832601385,1,80.225332782785728,180.30103368378971,72.575533676029906,{"$f":"VLOOKUP(A1142,Sheet1!$1:$1048576,8,FALSE)","v":5}]
[24099,0.45457231853219693,59.548317345011242,24.35563278308717,11.726383563600001,1,84.011554507987583,215.49509274768667,86.741994991318975,{"$f":"VLOOKUP(A1143,Sheet1!$1:$1048576,8,FALSE)","v":5}]
[24100,2.446159534943182E-3,12.95947083882443,47.35721200387222,4.6542391166400003,1,89.294222844862318,115.14256954351482,46.347673458742264,{"$f":"VLOOKUP(A1144,Sheet1!$1:$1048576,8,FALSE)","v":4}]
[24101,1.8871375900833334E-3,14.338009921429368,52.990851513019003,4.9330603428200002,1,74.160141600229991,97.847081948492075,39.385820735272361,{"$f":"VLOOKUP(A1145,Sheet1!$1:$1048576,8,FALSE)","v":4}]
[24102,0.61982608294128783,0.21683435950116892,13.750532141336738,25.966231793999999,1,113.55991596061962,288.74508214205554,116.22689013275937,{"$f":"VLOOKUP(A1146,Sheet1!$1:$1048576,8,FALSE)","v":5}]
[24103,0.24127339411553034,80.799575424734655,24.407266755619421,12.215060232300001,1,69.114540988814156,219.06380308138122,88.178487349190192,{"$f":"VLOOKUP(A1147,Sheet1!$1:$1048576,8,FALSE)","v":5}]
[24104,0.5059239404318181,81.027795869505866,28.591503621230135,9.8111387606499996,1,65.378896059479075,189.84499707651804,76.41721013489331,{"$f":"VLOOKUP(A1148,Sheet1!$1:$1048576,8,FALSE)","v":5}]
[24105,8.2352941176470587E-2,70.745159919502768,43.553293553293557,13.8681,1,41.497412835641846,127.66276890177841,51.387356990173743,{"$f":"VLOOKUP(A1149,Sheet1!$1:$1048576,8,FALSE)","v":5}]
[24106,0,46.021514589020093,31.319433578469724,20.6874,1,57.785193025032356,183.06995903247221,73.690093203415401,{"$f":"VLOOKUP(A1150,Sheet1!$1:$1048576,8,FALSE)","v":5}]
[24107,0.10860879041046131,13.96295358139637,32.741169179921506,5.8085220176455898,1,128.15446875130391,174.10474002958429,70.08137538098633,{"$f":"VLOOKUP(A1151,Sheet1!$1:$1048576,8,FALSE)","v":4}]
[24108,0.30896091309848484,6.1406510979802391,38.780458237362105,7.89550600182785,1,105.13126806388509,143.78110519570723,57.875377799600628,{"$f":"VLOOKUP(A1152,Sheet1!$1:$1048576,8,FALSE)","v":4}]
[24109,0.15680084562954544,9.990840772524674,28.122889939230252,9.7520140000000008,1,130.54401329028647,198.16048044787661,79.764393626414019,{"$f":"VLOOKUP(A1153,Sheet1!$1:$1048576,8,FALSE)","v":4}]
[24110,0,6.7690667813905758,30.276506862940124,7.0095937382662798,1,141.77660257878387,188.67179132402856,75.944966399740679,{"$f":"VLOOKUP(A1154,Sheet1!$1:$1048576,8,FALSE)","v":4}]
[24111,0.15346618895132574,65.52905169898321,51.051914635992134,3.7763557903606002,1,{"$f":"EXP(6.1523-(0.084*B1155)-(0.0091*C1155)-(0.0289*D1155)-(0.0373*E1155))","v":50.746165869920063},102.17719450731616,41.128795932991324,{"$f":"VLOOKUP(A1155,Sheet1!$1:$1048576,8,FALSE)","v":5}]
[24112,0.26135601743211534,13.945239634314149,31.513768446675794,5.6786515390060996,1,131.74691918455017,{"$f":"EXP(6.1523+(-0.084*B1156)+(-0.0091*0)+(-0.0289*D1156)+(-0.0373*F1156))","v":178.09162880769966},{"$f":"EXP(6.1523+(-0.084*B1156)+(-0.0091*100)+(-0.0289*D1156)+(-0.0373*F1156))","v":71.686194692705627},{"$f":"VLOOKUP(A1156,Sheet1!$1:$1048576,8,FALSE)","v":4}]
[24113,0,35.613277155235508,41.260771824653432,4.8376556903869101,1,86.085269848920817,137.35429661230057,55.28843166155216,{"$f":"VLOOKUP(A1157,Sheet1!$1:$1048576,8,FALSE)","v":4}]
[24116,4.8935321842992425E-3,2.8184251662208717,22.58064516129032,7.4354501736905201,1,180.60608571952434,235.57004450641256,94.822649370512792,{"$f":"VLOOKUP(A1158,Sheet1!$1:$1048576,8,FALSE)","v":4}]
[24117,1.7733263162613637E-3,17.514472962874219,53.670473083197393,8.7198337504469094,1,61.340656767528337,95.94492879572303,38.620158013460845,{"$f":"VLOOKUP(A1159,Sheet1!$1:$1048576,8,FALSE)","v":4}]
[24120,2.5998912349053031E-3,70.414144351781417,47.969647251845778,11.48450614964,1,40.310743059059554,113.12108611667522,45.533977410956773,{"$f":"VLOOKUP(A1160,Sheet1!$1:$1048576,8,FALSE)","v":5}]
[24123,0.68636580700189398,1.9625975316496769,24.492825333993075,12.9617135538032,1,132.35279768244368,210.50357157053881,84.73278680274008,{"$f":"VLOOKUP(A1161,Sheet1!$1:$1048576,8,FALSE)","v":4}]
[24128,1.1759033000568182,3.9444437011321387,15.929580464257825,15.4553437761508,1,145.58796681522776,258.74919860037818,104.15282038594239,{"$f":"VLOOKUP(A1162,Sheet1!$1:$1048576,8,FALSE)","v":5}]
[24129,0.62620414865719698,3.7536368332547272,46.514285714285712,5.8078024625267703,1,90.436402361602063,111.95936515755177,45.066356583342021,{"$f":"VLOOKUP(A1163,Sheet1!$1:$1048576,8,FALSE)","v":3}]
[24130,0.16829350387075059,8.9271428734575569,53.095189770651508,7.15720170179,1,70.492881823474804,96.198364963232422,38.722172210129656,{"$f":"VLOOKUP(A1164,Sheet1!$1:$1048576,8,FALSE)","v":4}]
[24131,0.82563544447159098,4.3487126498080713,31.065805409769879,3.7763557903606002,1,149.11435431795701,172.06027411396562,69.258428324738702,{"$f":"VLOOKUP(A1165,Sheet1!$1:$1048576,8,FALSE)","v":3}]
[25001,1.7219489949412878,5.6788705566567286,17.316982534373839,7.0002499699110299,1,180.26147635527568,237.4353768988525,95.573490844344491,{"$f":"VLOOKUP(A1166,Sheet1!$1:$1048576,8,FALSE)","v":4}]
[25002,2.3742259786476865,35.877311091563115,14.896701703515767,10.468478231900001,1,122.16744082954932,241.06107836064768,97.032923511831214,{"$f":"VLOOKUP(A1167,Sheet1!$1:$1048576,8,FALSE)","v":5}]
[25003,3.0924840296212123E-2,7.7937470925450203,23.486046604740551,5.1250788083899996,1,182.88673530117796,228.9847864286854,92.17192347271444,{"$f":"VLOOKUP(A1168,Sheet1!$1:$1048576,8,FALSE)","v":3}]
[25004,0.95046153846153836,9.3262116587370407,22.297682201730336,4.5706907760300002,1,176.39096493979736,219.36965190431721,88.301598909314109,{"$f":"VLOOKUP(A1169,Sheet1!$1:$1048576,8,FALSE)","v":3}]
[25005,0.85350151995265156,5.4888187223692126,24.144310823311748,3.1376103164942202,1,184.16906630539677,209.67008876866103,84.397289784668843,{"$f":"VLOOKUP(A1170,Sheet1!$1:$1048576,8,FALSE)","v":3}]
[25006,1.836613237253788,7.8521223833372638,31.675242995997717,2.43518197072,1,137.04692210280149,155.29242703166207,62.508963689219804,{"$f":"VLOOKUP(A1171,Sheet1!$1:$1048576,8,FALSE)","v":3}]
[25007,0.98118190945833339,3.237155553634226,22.581653383341145,3.7484169435900001,1,190.18492138608445,217.01596816065407,87.354184186775512,{"$f":"VLOOKUP(A1172,Sheet1!$1:$1048576,8,FALSE)","v":3}]
[25008,2.3276633840644587E-2,3.3564277849877215,35.53363347457627,3.2747471791499998,1,144.13223729279218,161.76145585786995,65.112904497740345,{"$f":"VLOOKUP(A1173,Sheet1!$1:$1048576,8,FALSE)","v":3}]
[25009,1.0605634368503787,22.980410205312015,19.482034531031264,6.0979683012399999,1,158.1598013497117,235.77592257236094,94.905520279254205,{"$f":"VLOOKUP(A1174,Sheet1!$1:$1048576,8,FALSE)","v":4}]
[25010,0.6335454510909091,12.522960906909372,16.581910642934979,4.4382040872599999,1,208.5879985970692,265.75237775707001,106.9717696417583,{"$f":"VLOOKUP(A1175,Sheet1!$1:$1048576,8,FALSE)","v":4}]
[25011,0.86450905101481068,17.47956149627753,17.812318980498166,5.2299794238699997,1,183.23380843111656,251.54080456690562,101.25126717109015,{"$f":"VLOOKUP(A1176,Sheet1!$1:$1048576,8,FALSE)","v":4}]
[25012,0.65290791918939406,9.1877911476525522,19.548984468339306,4.4365575579299996,1,197.0381938384333,243.51781051659486,98.021817716562325,{"$f":"VLOOKUP(A1177,Sheet1!$1:$1048576,8,FALSE)","v":3}]
[25013,0.57542434169886358,34.599290316849121,42.752485609628465,6.9006150441300003,1,73.418139566716434,125.3509647693552,50.45679982565234,{"$f":"VLOOKUP(A1178,Sheet1!$1:$1048576,8,FALSE)","v":5}]
[25014,0.88309503784693022,12.448984058680768,18.081498354846875,5.5123687401400003,1,188.04242559411855,249.20222473108976,100.30993213733767,{"$f":"VLOOKUP(A1179,Sheet1!$1:$1048576,8,FALSE)","v":4}]
[25015,0.41184241459090909,69.267573121342636,29.169801856032109,8.3828987902899996,1,76.072050436959032,188.17981407005018,75.746933637340831,{"$f":"VLOOKUP(A1180,Sheet1!$1:$1048576,8,FALSE)","v":5}]
[25016,1.0712204225757578,16.641552188843061,22.606327257490047,7.9444550701500001,1,142.76905542623672,215.2272887617722,86.634197399695651,{"$f":"VLOOKUP(A1181,Sheet1!$1:$1048576,8,FALSE)","v":4}]
[25017,1.2438705248541668,19.89356048675797,18.830849844440806,10.0599566486,1,140.79930842894453,236.58399783130196,95.230790145820222,{"$f":"VLOOKUP(A1182,Sheet1!$1:$1048576,8,FALSE)","v":5}]
[25018,0.96295734021557611,20.073947944998835,23.235724743777453,5.9147128403165299,1,147.91050916628231,213.27856716766101,85.849789752168448,{"$f":"VLOOKUP(A1183,Sheet1!$1:$1048576,8,FALSE)","v":4}]
[25019,2.1243626489772729,17.654338865788343,17.220338983050848,7.7468876163448703,1,152.40970908153938,230.18555415742986,92.65526157097193,{"$f":"VLOOKUP(A1184,Sheet1!$1:$1048576,8,FALSE)","v":4}]
[25020,1.0869876418465909,4.458836505586512,36.398176291793312,3.9029514788999999,1,124.3288710792025,144.28431219206806,58.077930805339072,{"$f":"VLOOKUP(A1185,Sheet1!$1:$1048576,8,FALSE)","v":3}]
[25021,1.3035058735984848,2.7537656689695731,34.93217054263566,2.6666951607099998,1,135.4684512156748,147.81563354725216,59.499373193647962,{"$f":"VLOOKUP(A1186,Sheet1!$1:$1048576,8,FALSE)","v":2}]
[25022,0.10924669760799714,12.907120515834579,22.801047120418851,6.0208680212090098,1,171.08146417338975,232.03147153186049,93.398288029744819,{"$f":"VLOOKUP(A1187,Sheet1!$1:$1048576,8,FALSE)","v":4}]
[25023,0.57083497021022722,13.12183562788425,25.835475578406168,5.75194354791872,1,151.97992195732493,204.46659618177668,82.302757968868434,{"$f":"VLOOKUP(A1188,Sheet1!$1:$1048576,8,FALSE)","v":4}]
[25024,1.4170496789356062,5.906046800644134,26.374471357170322,11.1614370468,1,121.6294316712068,187.49376747922247,75.470783265716989,{"$f":"VLOOKUP(A1189,Sheet1!$1:$1048576,8,FALSE)","v":4}]
[25025,1.1194016598768941,11.612558269813471,25.92307692307692,4.78972458408,1,152.13409414370901,194.76492869376912,78.397601791425842,{"$f":"VLOOKUP(A1190,Sheet1!$1:$1048576,8,FALSE)","v":4}]
[25026,1.1170864817348485,4.0410911607431057,26.49260381393691,4.5119476794300004,1,162.02633881684511,191.62272889686119,77.13279025641684,{"$f":"VLOOKUP(A1191,Sheet1!$1:$1048576,8,FALSE)","v":3}]
[25027,2.3273855702094646E-2,3.3700667957019177,25.55979404368874,3.1517843147,1,193.14434008620142,215.80321445868066,86.866021443944746,{"$f":"VLOOKUP(A1192,Sheet1!$1:$1048576,8,FALSE)","v":3}]
[25028,0.24747474747474746,12.813876698000703,23.134463961235614,6.4013607694200001,1,165.26480695583268,227.15352551506706,91.434796594457083,{"$f":"VLOOKUP(A1193,Sheet1!$1:$1048576,8,FALSE)","v":4}]
[25029,0.41527338454586532,3.3621708430811181,24.968317599896547,3.5422065252700001,1,187.37512040229799,212.41303489802485,85.501392046957079,{"$f":"VLOOKUP(A1194,Sheet1!$1:$1048576,8,FALSE)","v":3}]
[25030,0.97117213579734851,11.097369300288932,13.480488766259361,7.0484143014800003,1,203.82127383205031,282.54431774276401,113.73093225451916,{"$f":"VLOOKUP(A1195,Sheet1!$1:$1048576,8,FALSE)","v":4}]
[25031,1.5661992046988638,24.971155211462314,32.92641573414717,4.9695434201199999,1,105.27377840079538,153.21862945319415,61.674209928144165,{"$f":"VLOOKUP(A1196,Sheet1!$1:$1048576,8,FALSE)","v":4}]
[25032,1.1842009603068182,20.756208194684046,23.823443437591347,6.6137240842700002,1,138.20750304564854,205.82568144722705,82.849822710739403,{"$f":"VLOOKUP(A1197,Sheet1!$1:$1048576,8,FALSE)","v":4}]
[25033,0,8.6374080101405504,24.367738351167905,3.7294474751000002,1,186.86072587270749,223.80437886292972,90.086683937130658,{"$f":"VLOOKUP(A1198,Sheet1!$1:$1048576,8,FALSE)","v":3}]
[25034,0.49662520989015146,3.2775779517603008,15.194681861348528,5.0190112876299997,1,233.78972404918923,279.82297653703455,112.63552649735215,{"$f":"VLOOKUP(A1199,Sheet1!$1:$1048576,8,FALSE)","v":3}]
[25035,0.27898872630871213,7.4810992301241201,23.424052105140731,7.2990544293799999,1,165.93184104783398,224.66487358832978,90.433053908757344,{"$f":"VLOOKUP(A1200,Sheet1!$1:$1048576,8,FALSE)","v":4}]
[25036,0,10.579281240634202,23.611064279371931,3.99145928568,1,185.82165166234324,228.75241061920832,92.078386580320483,{"$f":"VLOOKUP(A1201,Sheet1!$1:$1048576,8,FALSE)","v":3}]
[25037,6.6727190195188385E-2,11.908854287027046,23.345403899721447,7.0207412816300003,1,164.31223989595185,229.22699183308882,92.269417015178675,{"$f":"VLOOKUP(A1202,Sheet1!$1:$1048576,8,FALSE)","v":4}]
[25038,0.26355525051475631,42.417643616948581,25.047779651489599,7.9802481220199999,1,112.46214938969402,214.64393243643332,86.39938234750349,{"$f":"VLOOKUP(A1203,Sheet1!$1:$1048576,8,FALSE)","v":5}]
[25039,9.2159860231491586E-2,3.1875344819697289,32.16351303106034,3.24985197619,1,158.34987801677946,177.28046830062874,71.359682939030165,{"$f":"VLOOKUP(A1204,Sheet1!$1:$1048576,8,FALSE)","v":3}]
[25040,0.1503656307129799,3.9927195449301784,16.515593179730864,3.0336371092899999,1,247.86400581030335,277.2913182900088,111.61647272594975,{"$f":"VLOOKUP(A1205,Sheet1!$1:$1048576,8,FALSE)","v":3}]
[25041,0.75867315723295448,14.60231127193882,21.053197205803333,5.9326437357800001,1,168.33657731932578,231.09619572421099,93.021816861013278,{"$f":"VLOOKUP(A1206,Sheet1!$1:$1048576,8,FALSE)","v":4}]
[25042,0,10.096200933959633,23.606949056450961,4.4759344970699999,1,183.31965671307134,228.77961774806985,92.089338108753651,{"$f":"VLOOKUP(A1207,Sheet1!$1:$1048576,8,FALSE)","v":3}]
[25043,0.64388673167613641,5.0615591910300655,14.298169136878814,0.93651271578700002,1,271.51145052920538,283.63733324276069,114.17089747051205,{"$f":"VLOOKUP(A1208,Sheet1!$1:$1048576,8,FALSE)","v":2}]
[25044,0.74842922261919431,14.371898252257015,17.570739340200809,9.1114072880499997,1,165.83574531343277,255.7850845382267,102.95969267312768,{"$f":"VLOOKUP(A1209,Sheet1!$1:$1048576,8,FALSE)","v":4}]
[25045,0.82511676180591598,9.0873685610905284,21.931823691994374,5.1236604449899996,1,176.8590166006525,224.04803869225145,90.184762920856556,{"$f":"VLOOKUP(A1210,Sheet1!$1:$1048576,8,FALSE)","v":4}]
[25046,1.8957582478513999,9.183017564299071,21.423123257985644,5.4200208174100002,1,162.09714381644463,207.8107988901059,83.648880569049851,{"$f":"VLOOKUP(A1211,Sheet1!$1:$1048576,8,FALSE)","v":4}]
[25047,1.0734871130852273,4.876658365352144,11.155454199923984,7.09136168688,1,228.34304329687475,299.59586689070943,120.59459384386729,{"$f":"VLOOKUP(A1212,Sheet1!$1:$1048576,8,FALSE)","v":4}]
[25048,0,9.7064354771424561,23.048295373631696,4.3521756816900004,1,187.83042252550305,232.50326401476332,93.588195932830189,{"$f":"VLOOKUP(A1213,Sheet1!$1:$1048576,8,FALSE)","v":3}]
[25049,1.4952012491344697,4.8209276174893381,9.0566037735849054,2.42091366998,1,278.88422312157172,307.25168913301229,123.67624775128971,{"$f":"VLOOKUP(A1214,Sheet1!$1:$1048576,8,FALSE)","v":3}]
[25050,0.28563443264393518,8.939884754819218,20.962790126489008,5.5223797257999996,1,187.7562084914037,241.09283649867945,97.0457069316992,{"$f":"VLOOKUP(A1215,Sheet1!$1:$1048576,8,FALSE)","v":4}]
[25051,1.0141065830721003,18.136985903636408,26.326286398085365,5.5610712419699997,1,138.90786075516078,194.21880223944996,78.177772664176786,{"$f":"VLOOKUP(A1216,Sheet1!$1:$1048576,8,FALSE)","v":4}]
[25052,1.4222222222222221E-2,20.463716113084441,23.993507262861069,7.5035056876299997,1,147.17059066547256,225.9679044403992,90.957555391378477,{"$f":"VLOOKUP(A1217,Sheet1!$1:$1048576,8,FALSE)","v":4}]
[25053,0.28722157092614303,8.6593282337415634,21.299302760252871,5.4416234009100002,1,186.95185026579097,238.72769198203488,96.093678970409442,{"$f":"VLOOKUP(A1218,Sheet1!$1:$1048576,8,FALSE)","v":4}]
[25054,0.64445428930303028,4.5524391217006857,23.163889833390002,3.1200222794100001,1,{"$f":"EXP(6.1523-(0.084*B1219)-(0.0091*C1219)-(0.0289*D1219)-(0.0373*E1219))","v":194.59595756407367},219.51694407809433,88.360887577269963,{"$f":"VLOOKUP(A1219,Sheet1!$1:$1048576,8,FALSE)","v":3}]
[25055,1.1443358282386364,4.7390315430592951,18.493570116350273,2.03042195671659,1,222.03869934147309,{"$f":"EXP(6.1523+(-0.084*B1220)+(-0.0091*0)+(-0.0289*D1220)+(-0.0373*F1220))","v":240.90715590698625},{"$f":"EXP(6.1523+(-0.084*B1220)+(-0.0091*100)+(-0.0289*D1220)+(-0.0373*F1220))","v":96.970965995609788},{"$f":"VLOOKUP(A1220,Sheet1!$1:$1048576,8,FALSE)","v":2}]
[25056,5.123421249066932,4.1692520394933075,15.174914675767917,3.0827849079999998,1,169.09311006217499,189.82025174824705,76.407249540832552,{"$f":"VLOOKUP(A1221,Sheet1!$1:$1048576,8,FALSE)","v":3}]
[25057,1.1443102352193261E-2,8.1843418243939272,21.470246397024638,5.2588226071299999,1,192.52327676556121,243.11842213683812,97.861054218912699,{"$f":"VLOOKUP(A1222,Sheet1!$1:$1048576,8,FALSE)","v":3}]
[25058,2.1069681532765152,12.192811831219432,39.791258969341158,3.8235007630100002,1,96.715736529347424,120.06668429690518,48.3297489289033,{"$f":"VLOOKUP(A1223,Sheet1!$1:$1048576,8,FALSE)","v":3}]
[25059,0.39075342465753427,21.194684771880812,22.794633642930854,7.8238558309900004,1,144.89514546784261,226.65109305879841,91.232555359868229,{"$f":"VLOOKUP(A1224,Sheet1!$1:$1048576,8,FALSE)","v":4}]
[25060,0.4588233104981061,17.927827161858779,22.938908659549227,7.5115483680299997,1,149.53050223637581,224.42114127296298,90.334945747642408,{"$f":"VLOOKUP(A1225,Sheet1!$1:$1048576,8,FALSE)","v":4}]
[25061,1.6146555532045457,2.5461599271794597,12.962367320681892,0.65003425353639499,1,268.98084932545214,271.71575947295332,109.37217523956059,{"$f":"VLOOKUP(A1226,Sheet1!$1:$1048576,8,FALSE)","v":1}]
[25062,0.2735229759299781,23.091445677563872,22.755257429535028,8.1860003564399992,1,142.05682609934374,229.15465622708825,92.240300181503287,{"$f":"VLOOKUP(A1227,Sheet1!$1:$1048576,8,FALSE)","v":4}]
[25063,0.63381875214962125,8.5485332396583171,28.684003152088263,10.9096861264,1,119.74549178924624,187.31497041476908,75.398813116088391,{"$f":"VLOOKUP(A1228,Sheet1!$1:$1048576,8,FALSE)","v":4}]
[25064,0.20931449502878074,8.0709229723141327,22.099126654461585,5.2247118300400004,1,186.3684581119266,234.80439881955377,94.514458434525267,{"$f":"VLOOKUP(A1229,Sheet1!$1:$1048576,8,FALSE)","v":3}]
[25065,1.5986195605037878,9.1207970839255363,37.251031760272745,6.4761398624700002,1,101.18007688146575,134.84974236393535,54.280287906178792,{"$f":"VLOOKUP(A1230,Sheet1!$1:$1048576,8,FALSE)","v":4}]
[25066,1.3125034562746214,8.3298574370344856,34.810810810810807,1.9001478867899999,1,132.86586140086288,148.22290821124682,59.66331111174096,{"$f":"VLOOKUP(A1231,Sheet1!$1:$1048576,8,FALSE)","v":3}]
[25068,3.4171083505866116,7.9851329046145176,32.637804061593393,1.89541856254,1,118.94563492519369,132.25479949675469,53.23576054215529,{"$f":"VLOOKUP(A1232,Sheet1!$1:$1048576,8,FALSE)","v":3}]
[25069,0.69362685477985897,11.424742077923117,21.076218407091311,6.6711999999999998,1,169.37779940071005,232.20779345236369,93.469261873975498,{"$f":"VLOOKUP(A1233,Sheet1!$1:$1048576,8,FALSE)","v":4}]
[25070,0.21881233696486113,15.712018251538844,22.920280765432757,7.4052327799700004,1,156.3862800491012,229.11490575711093,92.224299654420705,{"$f":"VLOOKUP(A1234,Sheet1!$1:$1048576,8,FALSE)","v":4}]
[25071,3.6784741144414171E-2,3.3677427216005835,25.646156881535561,3.1954347649999999,1,192.13533093653285,215.02109677905148,86.551200131849029,{"$f":"VLOOKUP(A1235,Sheet1!$1:$1048576,8,FALSE)","v":3}]
[25072,0.11869436201780414,23.349099180231718,19.394869546152162,8.5909999999999993,1,155.85044182809057,255.83122346239469,102.97826470777613,{"$f":"VLOOKUP(A1236,Sheet1!$1:$1048576,8,FALSE)","v":5}]
[25073,0.39544103072348863,8.2237277472912744,21.475481996654636,5.2768191829999997,1,186.19234377106378,235.36594688395337,94.740495133405304,{"$f":"VLOOKUP(A1237,Sheet1!$1:$1048576,8,FALSE)","v":3}]
[25074,1.0155538719431818,20.651754686202345,25.317825263727343,4.3566124695941602,1,146.18540478710804,199.93820116710978,80.47996927947186,{"$f":"VLOOKUP(A1238,Sheet1!$1:$1048576,8,FALSE)","v":4}]
[25075,1.491035590045491,21.037434312839203,24.105248267081624,5.5882812381515699,1,138.45256736731662,198.96149937266057,80.086823147548927,{"$f":"VLOOKUP(A1239,Sheet1!$1:$1048576,8,FALSE)","v":4}]
[26001,1.4007816911382576E-2,3.5641190389030326,40.06958538706872,2.1713791493767438,1,131.58939100359171,141.99790808445835,57.157597766096153,{"$f":"VLOOKUP(A1240,Sheet1!$1:$1048576,8,FALSE)","v":2}]
[26002,2.1720300284280302E-2,8.4274738074588953,19.632606199770379,1.8566074053531783,1,229.78675064723001,256.15767570547587,103.10966964360641,{"$f":"VLOOKUP(A1241,Sheet1!$1:$1048576,8,FALSE)","v":3}]
[26003,1.1991348447935606E-2,5.6943724522969239,8.2163989856297555,1.8940294397990631,1,327.46222621618949,356.5729317412717,143.52924266055402,{"$f":"VLOOKUP(A1242,Sheet1!$1:$1048576,8,FALSE)","v":2}]
[26004,2.2797910460227274E-2,5.9308494047586731,20.026064291920072,1.1613990657083026,1,238.49320103961364,253.23849621695709,101.9346291851755,{"$f":"VLOOKUP(A1243,Sheet1!$1:$1048576,8,FALSE)","v":2}]
[26005,2.0240495961174242E-2,15.558981514000862,17.884019477644976,0.84439480942126799,1,235.25475181592853,269.4685363875513,108.46761351087866,{"$f":"VLOOKUP(A1244,Sheet1!$1:$1048576,8,FALSE)","v":3}]
[27001,0.73397590361445786,1.5858739867082703,17.920392775732072,1.8553215994510801,1,242.04211112687341,253.52100330613382,102.04834513203036,{"$f":"VLOOKUP(A1245,Sheet1!$1:$1048576,8,FALSE)","v":2}]
[27002,0,12.81497666169747,18.173132046627174,3.3962378698638598,1,217.84864304307865,267.68113673603881,107.74814185311561,{"$f":"VLOOKUP(A1246,Sheet1!$1:$1048576,8,FALSE)","v":3}]
[27003,0.48030255278915851,5.801701967044095,17.267570900123307,4.3689380224800001,1,220.77959814176211,263.91360255956886,106.23161808221185,{"$f":"VLOOKUP(A1247,Sheet1!$1:$1048576,8,FALSE)","v":3}]
[27004,0.99714021469507574,1.7234388591133754,4.5407901487942537,1.26516470466154,1,355.82443516632139,365.04162444852074,146.93809662111875,{"$f":"VLOOKUP(A1248,Sheet1!$1:$1048576,8,FALSE)","v":1}]
[27005,8.0902783084659085,1.3298798788572435,14.952589350838805,2.8209074175980602,1,137.45066273936385,148.90176449922799,59.936567212290946,{"$f":"VLOOKUP(A1249,Sheet1!$1:$1048576,8,FALSE)","v":2}]
[27006,0.60909090909090913,1.3825921545236057,10.953596068424535,4.3676262355900004,1,272.89398599183659,313.33641988959499,126.12549927753675,{"$f":"VLOOKUP(A1250,Sheet1!$1:$1048576,8,FALSE)","v":3}]
[27007,5.2563839571780298,7.3922308889191992,38.810975609756099,4.8822807945745801,1,76.688225104995837,94.805417331478793,38.161477045538518,{"$f":"VLOOKUP(A1251,Sheet1!$1:$1048576,8,FALSE)","v":3}]
[27008,0.41570641282565124,4.840504989425825,26.746532156368225,4.3043785112100004,1,170.68230587027034,201.76544956821942,81.215481024245221,{"$f":"VLOOKUP(A1252,Sheet1!$1:$1048576,8,FALSE)","v":3}]
[27009,1.2283754225492145,1.6406081168391324,26.417679294734338,1.3111638488699999,1,185.26914162755818,190.2512435058876,76.580734163641722,{"$f":"VLOOKUP(A1253,Sheet1!$1:$1048576,8,FALSE)","v":1}]
[27010,0.39803398867044326,0.93754850933935641,18.964640628611047,1.7989771034499999,1,243.50890029913703,253.02467934411519,101.84856271434951,{"$f":"VLOOKUP(A1254,Sheet1!$1:$1048576,8,FALSE)","v":2}]
[27011,1.5674478223219694,2.0484491508368228,20.829068577277379,2.7634658329600001,1,199.72793954053017,217.32073440339025,87.476859982144546,{"$f":"VLOOKUP(A1255,Sheet1!$1:$1048576,8,FALSE)","v":2}]
[27012,0.76921381302651515,4.6543917618038977,47.719734660033168,3.9458813399900001,1,91.748337696090729,106.8350128026651,43.003680628016326,{"$f":"VLOOKUP(A1256,Sheet1!$1:$1048576,8,FALSE)","v":3}]
[27013,1.9783014011742424,4.7118396368004287,21.087613293051362,2.9902074646700001,1,185.35597752422555,208.38569346700837,83.880289562518655,{"$f":"VLOOKUP(A1257,Sheet1!$1:$1048576,8,FALSE)","v":3}]
[27014,0.81548366396590921,1.1177726794895524,17.332441918769849,1.8083647190600001,1,245.98438673718525,256.10609719098363,103.08890804208365,{"$f":"VLOOKUP(A1258,Sheet1!$1:$1048576,8,FALSE)","v":2}]
[27015,2.9412774155303025,2.2980053148013906,7.4301295160190861,0.97222306120199997,1,279.5905427389655,285.20321295077946,114.80120198491231,{"$f":"VLOOKUP(A1259,Sheet1!$1:$1048576,8,FALSE)","v":1}]
[27016,1.6287979006685604,0.54031954603197752,13.432543567652241,0.93045299239500001,1,267.10922649784305,267.73039014876775,107.76796754485534,{"$f":"VLOOKUP(A1260,Sheet1!$1:$1048576,8,FALSE)","v":1}]
[27017,0.13497952917093142,9.8314790588191503,20.584154348213662,5.8354029452200002,1,188.47260591086621,246.84970234385685,99.362984888894971,{"$f":"VLOOKUP(A1261,Sheet1!$1:$1048576,8,FALSE)","v":4}]
[27018,1.9755877058712119,1.1716200986860597,17.255037024281037,1.0475890782299999,1,229.96870793002708,232.84664541864623,93.726415265975746,{"$f":"VLOOKUP(A1262,Sheet1!$1:$1048576,8,FALSE)","v":1}]
[27019,1.5431914893617023,8.1719618936362544,13.141769290261168,2.0292698264300002,1,242.94089046783839,271.93818580661889,109.46170722692398,{"$f":"VLOOKUP(A1263,Sheet1!$1:$1048576,8,FALSE)","v":3}]
[27020,2.1486387436174241,1.386519201662253,19.182389937106919,3.7610593986500001,1,193.35704154768143,217.05337181288746,87.369240062866794,{"$f":"VLOOKUP(A1264,Sheet1!$1:$1048576,8,FALSE)","v":3}]
[27021,5.3044929836742423,3.8213476136265498,33.254081470914564,1.6555908324199999,1,104.49631770681565,110.87236056691106,44.628810903973346,{"$f":"VLOOKUP(A1265,Sheet1!$1:$1048576,8,FALSE)","v":2}]
[27022,4.6043656207366987E-2,7.1521562403611769,25.417441176386806,5.2380150955699998,1,173.01974103713303,216.27879280782679,87.057453249901997,{"$f":"VLOOKUP(A1266,Sheet1!$1:$1048576,8,FALSE)","v":3}]
[27023,1.1728933681704545,0.89025452046368314,12.976070104482643,0.47688518854099998,1,285.1112335794669,281.87635886548361,113.46206262575548,{"$f":"VLOOKUP(A1267,Sheet1!$1:$1048576,8,FALSE)","v":1}]
[27024,1.7758630307973484,2.5896658931424028,31.955664099192184,1.9772010232099999,1,145.80837434783308,154.82706942370643,62.321645979179308,{"$f":"VLOOKUP(A1268,Sheet1!$1:$1048576,8,FALSE)","v":2}]
[27025,1.4256210323238638,4.8374207424771409,28.434504792332266,2.9405479834100001,1,157.1322293835803,176.52996666852678,71.057587851932354,{"$f":"VLOOKUP(A1269,Sheet1!$1:$1048576,8,FALSE)","v":3}]
[27026,1.2344435939223484,2.3228124181934722,16.231884057971012,1.56774653627,1,244.66520113737502,255.24025775041937,102.74038669313279,{"$f":"VLOOKUP(A1270,Sheet1!$1:$1048576,8,FALSE)","v":2}]
[27027,0.49636180454494572,0.41564791663861145,13.937849124139055,1.51158033043,1,283.62059909993849,290.1801011692628,116.80452005315948,{"$f":"VLOOKUP(A1271,Sheet1!$1:$1048576,8,FALSE)","v":1}]
[27028,2.4870427482196971,4.8693259309358652,17.637407711238719,1.32861338306,1,208.47084120748877,220.60357804527789,88.798284071719124,{"$f":"VLOOKUP(A1272,Sheet1!$1:$1048576,8,FALSE)","v":2}]
[27029,0.75565753764015142,0.48061257163373866,25.961538461538463,4.8898421489499997,1,172.73724393627239,200.58464060029306,80.740176810698713,{"$f":"VLOOKUP(A1273,Sheet1!$1:$1048576,8,FALSE)","v":3}]
[27030,3.5279188364393943,1.3787145792878173,19.520383693045567,2.7354966302600001,1,177.19226784449484,191.42876000886099,77.054713080287883,{"$f":"VLOOKUP(A1274,Sheet1!$1:$1048576,8,FALSE)","v":2}]
[27031,0.31148550321590912,1.6207306543731503,11.093084567024944,1.07649409024,1,314.39281122150589,319.97570586594463,128.79797271330429,{"$f":"VLOOKUP(A1275,Sheet1!$1:$1048576,8,FALSE)","v":1}]
[27032,0.88487863904734843,0.83217316912591799,16.012960436562075,1.0812886799500001,1,261.72407346812463,264.5143855953159,106.4734478074885,{"$f":"VLOOKUP(A1276,Sheet1!$1:$1048576,8,FALSE)","v":1}]
[27033,1.300721268189394,2.3915922133473617,3.5791289348857265,1.0115033062800001,1,357.84861176068495,365.87896692673991,147.27514725241431,{"$f":"VLOOKUP(A1277,Sheet1!$1:$1048576,8,FALSE)","v":1}]
[27034,2.2086714787689394,2.5495192528563555,22.638208537438768,1.9391381841099999,1,184.37963939228766,195.4349073107567,78.667284414347904,{"$f":"VLOOKUP(A1278,Sheet1!$1:$1048576,8,FALSE)","v":2}]
[27035,1.4244928625093916,1.2094725347723927,14.58782608695652,2.0246869377499999,1,250.7677978509692,263.42124046489329,106.033430412109,{"$f":"VLOOKUP(A1279,Sheet1!$1:$1048576,8,FALSE)","v":2}]
[27036,0.24231843575418993,1.5539866484209681,21.773000690267232,3.6230515343,1,211.33074767499511,236.37169182958152,95.145331837220027,{"$f":"VLOOKUP(A1280,Sheet1!$1:$1048576,8,FALSE)","v":3}]
[27037,1.2097251585623678,1.5957591253576917,22.918864885877717,3.6864637784299998,1,187.97357313204327,210.82489163981276,84.862125914291013,{"$f":"VLOOKUP(A1281,Sheet1!$1:$1048576,8,FALSE)","v":3}]
[27038,1.6061357366818181,1.8770361174134036,13.754646840148698,2.62817828298,1,245.86023542965432,265.75512562718052,106.97287572604226,{"$f":"VLOOKUP(A1282,Sheet1!$1:$1048576,8,FALSE)","v":2}]
[27039,1.3841352576950758,0.23936618480134497,27.265715387581952,16.141654660899999,1,{"$f":"EXP(6.1523-(0.084*B1283)-(0.0091*C1283)-(0.0289*D1283)-(0.0373*E1283))","v":103.93768246931035},183.23206489654328,73.755344740561895,{"$f":"VLOOKUP(A1283,Sheet1!$1:$1048576,8,FALSE)","v":5}]
[27040,2.2438554216867472,9.2239800512588559,17.652048096592328,4.2093163928799999,1,183.59389659109092,{"$f":"EXP(6.1523+(-0.084*B1284)+(-0.0091*0)+(-0.0289*D1284)+(-0.0373*F1284))","v":225.06110758261372},{"$f":"EXP(6.1523+(-0.084*B1284)+(-0.0091*100)+(-0.0289*D1284)+(-0.0373*F1284))","v":90.592547689842235},{"$f":"VLOOKUP(A1284,Sheet1!$1:$1048576,8,FALSE)","v":3}]
[27041,0.11907270811380401,8.6676000675961298,18.579577072899276,5.0244043611000002,1,208.31735702078103,261.92235768056469,105.43009378242974,{"$f":"VLOOKUP(A1285,Sheet1!$1:$1048576,8,FALSE)","v":3}]
[27042,1.4685973570075757,0.65747600826354624,31.775300171526588,9.3648567596200003,1,116.20309256789747,159.70552441132381,64.285342287553007,{"$f":"VLOOKUP(A1286,Sheet1!$1:$1048576,8,FALSE)","v":4}]
[27043,2.3138144708333335,1.5756294010995899,30.844980940279541,3.02251433613,1,139.69222685079521,152.81371572098931,61.511222342287851,{"$f":"VLOOKUP(A1287,Sheet1!$1:$1048576,8,FALSE)","v":2}]
[27044,0.45249755142017634,2.4342782182183593,28.38069154399178,4.0065079000799999,1,167.75314831940133,191.86427481688102,77.230018340441305,{"$f":"VLOOKUP(A1288,Sheet1!$1:$1048576,8,FALSE)","v":3}]
[27045,0.21717567214826419,3.872347737880693,15.333107044774277,6.3868608759000001,1,225.30660756497451,285.32544753429852,114.85040436579341,{"$f":"VLOOKUP(A1289,Sheet1!$1:$1048576,8,FALSE)","v":4}]
[27046,1.6938663243788392,2.1188054168816177,26.595577857926926,5.0187914161,1,153.68744767979317,182.01753501245747,73.26646704140461,{"$f":"VLOOKUP(A1290,Sheet1!$1:$1048576,8,FALSE)","v":3}]
[27047,0.22876213592233011,3.0102639513462641,19.584192373648818,5.93147458296,1,204.07007037180088,252.0936942486731,101.47381866121981,{"$f":"VLOOKUP(A1291,Sheet1!$1:$1048576,8,FALSE)","v":3}]
[27048,0.12803827751196173,11.359279276082928,19.004958185261632,6.6810064240599996,1,188.61926494729335,258.527350536504,104.06352116617806,{"$f":"VLOOKUP(A1292,Sheet1!$1:$1048576,8,FALSE)","v":4}]
[27049,8.719916288803628E-3,1.4307784135094881,30.767267778155837,3.15723275125,1,169.28922167566256,185.87854717247879,74.820617965101619,{"$f":"VLOOKUP(A1293,Sheet1!$1:$1048576,8,FALSE)","v":2}]
[27050,2.8050405882575756E-2,2.3264693241878245,5.2856706385578978,2.01918804533,1,365.29355825043649,387.56666955213456,156.00497292277353,{"$f":"VLOOKUP(A1294,Sheet1!$1:$1048576,8,FALSE)","v":2}]
[27051,3.2471110764962119E-2,1.2493903355462568,26.583238528631021,3.2540733719300001,1,190.29403801147305,209.35195549580575,84.269233435873488,{"$f":"VLOOKUP(A1295,Sheet1!$1:$1048576,8,FALSE)","v":3}]
[27052,0.4712824547600315,3.1244381203580742,29.029166096124882,3.4056236913000002,1,167.05234777706198,188.00515329956121,75.676628446230637,{"$f":"VLOOKUP(A1296,Sheet1!$1:$1048576,8,FALSE)","v":3}]
[27053,107.30283095572474,7.4720337418089846,19.711224227059361,6.3651664100099996,1,2.3844340281051649E-2,3.1176453006247554E-2,1.2549277554460912E-2,{"$f":"VLOOKUP(A1297,Sheet1!$1:$1048576,8,FALSE)","v":4}]
[27054,3.0926692808901517E-2,1.2046248376365258,11.069165430767157,2.5416794136299998,1,306.13817389272344,327.83265396301363,131.96058464934953,{"$f":"VLOOKUP(A1298,Sheet1!$1:$1048576,8,FALSE)","v":2}]
[27055,1.3841352576950759E-2,1.9997035304893849,21.249477643125783,2.67473847702,1,225.66743188845152,244.62524383766421,98.467586454794755,{"$f":"VLOOKUP(A1299,Sheet1!$1:$1048576,8,FALSE)","v":2}]
[27056,1.6061357366818182E-2,1.1487498662961377,35.016484469894152,3.3382996071500002,1,149.00833525227736,164.29678299773818,66.133435087387227,{"$f":"VLOOKUP(A1300,Sheet1!$1:$1048576,8,FALSE)","v":3}]
[27057,2.2086714787689393E-2,0.58140840609305833,10.481727574750831,0.586763463057,1,337.08856344951425,333.69346064201721,134.3197013100266,{"$f":"VLOOKUP(A1301,Sheet1!$1:$1048576,8,FALSE)","v":1}]
[27058,3.0936837615950528,6.7817175528738929,20.25099122061739,6.0779120644700004,1,151.22324187159299,194.39203476389952,78.247502951658234,{"$f":"VLOOKUP(A1302,Sheet1!$1:$1048576,8,FALSE)","v":4}]
[27059,1.300721268189394E-2,0.92309753124293881,29.181565355582041,4.3103432228000003,1,170.49128236863129,194.52489609555073,78.300982856085213,{"$f":"VLOOKUP(A1303,Sheet1!$1:$1048576,8,FALSE)","v":3}]
[27060,3.1875463306152707E-2,6.3855755144060797,19.876385015451874,5.7731910844799996,1,200.68693760493338,254.14244937737493,102.29849222963544,{"$f":"VLOOKUP(A1304,Sheet1!$1:$1048576,8,FALSE)","v":4}]
[27061,817.8668273576377,0.93029780892104097,27.469167261237388,4.0711031874100003,1,2.6371329229678954E-28,2.9823457996457145E-28,1.200466428802369E-28,{"$f":"VLOOKUP(A1305,Sheet1!$1:$1048576,8,FALSE)","v":3}]
[27062,0,2.0785436426598753,25.435046539862405,3.6456877084700001,1,192.93015965136951,217.00646701264392,87.350359744545301,{"$f":"VLOOKUP(A1306,Sheet1!$1:$1048576,8,FALSE)","v":3}]
[27063,7.6921381302651514E-3,9.8202170279810641,34.484096198603567,3.1248925601200002,1,141.05374850466205,166.96153895896759,67.206063912920101,{"$f":"VLOOKUP(A1307,Sheet1!$1:$1048576,8,FALSE)","v":3}]
[27064,0,8.8454708929899102,21.546354996490368,4.9009781209899996,1,193.69990337265193,242.81755056210764,97.739946121760539,{"$f":"VLOOKUP(A1308,Sheet1!$1:$1048576,8,FALSE)","v":3}]
[27065,0.33963610417409917,10.56292320686225,20.033555362763586,5.6956355075899996,1,187.96034536090457,246.5342224378403,99.235996584527456,{"$f":"VLOOKUP(A1309,Sheet1!$1:$1048576,8,FALSE)","v":4}]
[27066,1.4290216831250001E-2,1.0442363941367994,6.2073097663271417,3.1575240173900001,1,345.30572101511387,377.81640234353534,152.08025418051156,{"$f":"VLOOKUP(A1310,Sheet1!$1:$1048576,8,FALSE)","v":2}]
[27067,0.13159956133479556,9.4360727842583696,20.593011682120594,5.01499104111,1,195.03522261836164,246.8565995068783,99.365761164088227,{"$f":"VLOOKUP(A1311,Sheet1!$1:$1048576,8,FALSE)","v":4}]
[27068,3.1148550321590911E-3,0.9177434353719357,44.52565204929779,2.2365549332899999,1,118.32937430604527,124.95416723591008,50.297079206403851,{"$f":"VLOOKUP(A1312,Sheet1!$1:$1048576,8,FALSE)","v":2}]
[27069,3.5279188364393942E-2,1.1729863342984113,11.918408631153069,0.718108121115,1,319.71658458361941,319.76761815978801,128.71421237085266,{"$f":"VLOOKUP(A1313,Sheet1!$1:$1048576,8,FALSE)","v":1}]
[27070,2.8248587570621469E-3,9.3035310445645063,20.647930103725383,5.1697524610999999,1,195.94688597098971,249.14561677732101,100.28714606467277,{"$f":"VLOOKUP(A1314,Sheet1!$1:$1048576,8,FALSE)","v":4}]
[27071,0.11481481481481481,9.6155736410245805,19.73708707909995,5.6097093780199998,1,195.49012351337132,253.3960650028659,101.99805443845537,{"$f":"VLOOKUP(A1315,Sheet1!$1:$1048576,8,FALSE)","v":4}]
[27072,0.22568790893609394,0.93646356693127153,28.808541180692625,0.98604608320599996,1,191.61229587003672,193.15160052770031,77.748198123267386,{"$f":"VLOOKUP(A1316,Sheet1!$1:$1048576,8,FALSE)","v":1}]
[27073,0.3062760166506564,9.5883069274765553,21.577583785077358,4.8579188807099998,1,187.64027066373362,236.43672940873347,95.17151103830119,{"$f":"VLOOKUP(A1317,Sheet1!$1:$1048576,8,FALSE)","v":3}]
[27074,0.32854230909946169,2.8718713398655211,28.829479768786126,3.6458045615199999,1,168.91707962049225,191.37416306917439,77.032736489505922,{"$f":"VLOOKUP(A1318,Sheet1!$1:$1048576,8,FALSE)","v":3}]
[27075,0.53545232273838639,2.0216176142886182,25.386819484240686,1.62006008239,1,199.30134193396768,207.75155565026074,83.625033729901944,{"$f":"VLOOKUP(A1319,Sheet1!$1:$1048576,8,FALSE)","v":2}]
[27076,1.2344435939223485E-2,1.7683064287857067,14.300608166811468,2.5816468987699999,1,277.43549994360581,299.06935151452114,120.38265865062532,{"$f":"VLOOKUP(A1320,Sheet1!$1:$1048576,8,FALSE)","v":2}]
[27077,1.4256210323238637E-2,3.3475167467928872,14.897039897039896,1.4615148765999999,1,280.22731637975539,293.91130122584281,118.3064184606486,{"$f":"VLOOKUP(A1321,Sheet1!$1:$1048576,8,FALSE)","v":2}]
[27078,0.19601055060995712,11.549810738665045,23.32607896893813,1.8737426214399999,1,197.69344118756496,226.87777391034714,91.323799893741167,{"$f":"VLOOKUP(A1322,Sheet1!$1:$1048576,8,FALSE)","v":3}]
[27079,0.27427985881817146,2.0536846167212142,32.654714878962828,2.6772078434200002,1,158.69606774094322,172.12814558014327,69.285748233995889,{"$f":"VLOOKUP(A1323,Sheet1!$1:$1048576,8,FALSE)","v":2}]
[27080,2.1486387436174242E-2,6.2477330085177218,45.258871436881911,2.0595016244200002,1,110.92341164258967,122.1455979430451,49.166562031148707,{"$f":"VLOOKUP(A1324,Sheet1!$1:$1048576,8,FALSE)","v":3}]
[27081,3.8300835654596103E-3,8.2483509093501652,23.287315582261151,5.5037238042999999,1,181.02333787279133,230.82846355383208,92.914048176882659,{"$f":"VLOOKUP(A1325,Sheet1!$1:$1048576,8,FALSE)","v":4}]
[27082,0,2.0813447930481606,39.791895176829811,2.3785936891100001,1,133.57357467222377,143.31058948104973,57.685983826662486,{"$f":"VLOOKUP(A1326,Sheet1!$1:$1048576,8,FALSE)","v":2}]
[27083,7.3661405137728259E-2,2.8349901972038203,38.512326609728028,2.5360246474500001,1,136.00804967930077,147.79204775116497,59.48987933937974,{"$f":"VLOOKUP(A1327,Sheet1!$1:$1048576,8,FALSE)","v":2}]
[27084,5.6038941283845463E-2,1.5826307062713325,40.3975463017577,2.1514004169700001,1,132.35060049425007,140.16266497477409,56.418867957457415,{"$f":"VLOOKUP(A1328,Sheet1!$1:$1048576,8,FALSE)","v":2}]
[27085,0.50108267716535426,3.4472150873996092,14.69392462731755,2.3120761718199998,1,261.89522910825281,283.79570575896042,114.23464624470361,{"$f":"VLOOKUP(A1329,Sheet1!$1:$1048576,8,FALSE)","v":2}]
[27086,1.7758630307973484E-2,2.0390668572545434,11.368956743002546,2.0722834353600001,1,306.86065273007307,325.36428293135481,130.96700551520397,{"$f":"VLOOKUP(A1330,Sheet1!$1:$1048576,8,FALSE)","v":2}]
[27087,0.19673348181143283,3.1736507480308007,21.181098630266838,1.92816381995,1,226.52150943833442,241.37231987484853,97.158205760821971,{"$f":"VLOOKUP(A1331,Sheet1!$1:$1048576,8,FALSE)","v":2}]
[27088,1.634320735444331E-2,6.9689110486153085,26.489380949509123,5.1125751606499996,1,169.23155365475458,210.20517155085454,84.612673566365046,{"$f":"VLOOKUP(A1332,Sheet1!$1:$1048576,8,FALSE)","v":3}]
[27089,7.5315223830075315E-2,8.3773040304112794,22.79115206392288,5.5150621217699998,1,182.2471882401446,232.76031347263498,93.691664566398245,{"$f":"VLOOKUP(A1333,Sheet1!$1:$1048576,8,FALSE)","v":4}]
[28001,4.9183816155988866,18.62148738332904,3.8278597409275488,5.2752899055500002,1,192.92604889130064,268.06535099382285,107.9027973990928,{"$f":"VLOOKUP(A1334,Sheet1!$1:$1048576,8,FALSE)","v":4}]
[28002,1.2937051260644516,2.3783731093904099,10.190868578155216,2.8749327234500002,1,275.95408180980735,302.41875639628836,121.73087525163315,{"$f":"VLOOKUP(A1335,Sheet1!$1:$1048576,8,FALSE)","v":2}]
[28003,0.78197674418604646,7.2106241699934612,15.729754636562607,3.13091083102,1,232.67075615744497,269.00340687694984,108.28038761554868,{"$f":"VLOOKUP(A1336,Sheet1!$1:$1048576,8,FALSE)","v":3}]
[28004,0.2578328981723238,22.344586783924647,13.519221765593301,5.7631363331000003,1,204.71848727177829,299.65641276550554,120.61896502513802,{"$f":"VLOOKUP(A1337,Sheet1!$1:$1048576,8,FALSE)","v":4}]
[28005,4.1466223344696971,2.4281246411378477,12.17889484383663,2.86145757308,1,205.03595647711776,224.6881999031697,90.442443315537858,{"$f":"VLOOKUP(A1338,Sheet1!$1:$1048576,8,FALSE)","v":2}]
[28006,1.1799660441426145,2.1005450455441808,14.617770789954532,2.45747696389,1,249.6226620378782,268.65533525056486,108.14028035422994,{"$f":"VLOOKUP(A1339,Sheet1!$1:$1048576,8,FALSE)","v":2}]
[28007,0.35594585884627777,23.154716204051059,13.130770882542409,5.7015480151600002,1,204.29103328703934,300.55214589446689,120.97951930781443,{"$f":"VLOOKUP(A1340,Sheet1!$1:$1048576,8,FALSE)","v":4}]
[28008,6.1113099963825759,0.65249947674946962,23.566627125345988,2.7227975820100001,1,127.78847288199499,137.08133508002052,55.178558032580092,{"$f":"VLOOKUP(A1341,Sheet1!$1:$1048576,8,FALSE)","v":2}]
[28009,1.7050511124473842,2.0298886849962341,13.571821328071934,4.4308652857600004,1,228.85916353911409,264.95236899063724,106.64974673382983,{"$f":"VLOOKUP(A1342,Sheet1!$1:$1048576,8,FALSE)","v":3}]
[28010,0.26245596376446906,43.398899026126401,13.452314750451826,4.7402959825600002,1,175.86889126980927,300.11982235248166,120.80549860954534,{"$f":"VLOOKUP(A1343,Sheet1!$1:$1048576,8,FALSE)","v":5}]
[28011,5.3524852641287879,1.4448614235462121,4.9151805132666375,1.7346263482399999,1,240.51746807486887,250.47084361086974,100.82058196751552,{"$f":"VLOOKUP(A1344,Sheet1!$1:$1048576,8,FALSE)","v":2}]
[28012,5.5325054613825753,8.6207463268850955,32.388663967611336,2.7329429524100002,1,96.655159626511221,111.52370314639013,44.890992070358244,{"$f":"VLOOKUP(A1345,Sheet1!$1:$1048576,8,FALSE)","v":3}]
[28013,0.79229678638941392,1.0148105349649086,14.840166023447171,2.1203895805299999,1,262.05147780776878,275.76974819372663,111.00400390363097,{"$f":"VLOOKUP(A1346,Sheet1!$1:$1048576,8,FALSE)","v":2}]
[28014,5.2776454264204551,1.3070382732745911,5.0658857979502194,0.94721510607100001,1,{"$f":"EXP(6.1523-(0.084*B1347)-(0.0091*C1347)-(0.0289*D1347)-(0.0373*E1347))","v":248.47655943961044},250.95501114987007,101.0154711304539,{"$f":"VLOOKUP(A1347,Sheet1!$1:$1048576,8,FALSE)","v":1}]
[28015,5.7580066524242426,0.50888037736216207,6.1622731941116049,4.0690004996700004,1,207.29299262658532,{"$f":"EXP(6.1523+(-0.084*B1348)+(-0.0091*0)+(-0.0289*D1348)+(-0.0373*F1348))","v":233.5129990213828},{"$f":"EXP(6.1523+(-0.084*B1348)+(-0.0091*100)+(-0.0289*D1348)+(-0.0373*F1348))","v":93.994638732849282},{"$f":"VLOOKUP(A1348,Sheet1!$1:$1048576,8,FALSE)","v":3}]
[28016,0.29036348267117496,47.116211688162153,13.83195148165208,4.2181807409300003,1,171.06958467208986,296.14999612425601,119.20754738748043,{"$f":"VLOOKUP(A1349,Sheet1!$1:$1048576,8,FALSE)","v":5}]
[28017,1.0579866350506573,1.0341918287518468,7.0138060337480823,1.3362338593600001,1,330.78792487421089,338.12989563900777,136.1054738646659,{"$f":"VLOOKUP(A1350,Sheet1!$1:$1048576,8,FALSE)","v":1}]
[28018,1.9801064110037878,1.0868068977986516,20.126513399537476,1.7299138384999999,1,206.41714464187024,214.22242067666215,86.229713653480559,{"$f":"VLOOKUP(A1351,Sheet1!$1:$1048576,8,FALSE)","v":2}]
[28019,0.56702702702702701,17.898401666421456,12.16761278757096,3.5653857119599999,1,234.43101791765596,303.60445525565689,122.20814776493802,{"$f":"VLOOKUP(A1352,Sheet1!$1:$1048576,8,FALSE)","v":4}]
[28020,4.4530284012121211,1.3159532920064494,11.012433392539965,2.4199542701399999,1,212.24617843682515,226.4867148805285,91.166389161212081,{"$f":"VLOOKUP(A1353,Sheet1!$1:$1048576,8,FALSE)","v":2}]
[28021,4.4590892820833332,2.1523385255869307,8.9269447986882859,0.69778738349299996,1,238.44389597071824,240.43452222654525,96.780719490138111,{"$f":"VLOOKUP(A1354,Sheet1!$1:$1048576,8,FALSE)","v":1}]
[28022,1.3583441138421734E-2,2.5901557901041814,13.787849933346031,3.5789584962699998,1,269.24575725475916,303.50258503314359,122.16714253266873,{"$f":"VLOOKUP(A1355,Sheet1!$1:$1048576,8,FALSE)","v":3}]
[28023,5.9353918667045455,3.125536788954828,9.1137965760322253,1.45458878104,1,201.873207733501,211.24917526306297,85.032910350509979,{"$f":"VLOOKUP(A1356,Sheet1!$1:$1048576,8,FALSE)","v":2}]
[28024,6.3315508021390368E-2,2.7998830342295622,15.313409151018249,3.9370186398999998,1,252.67251470630239,289.20158556566304,116.41064381911568,{"$f":"VLOOKUP(A1357,Sheet1!$1:$1048576,8,FALSE)","v":3}]
[28025,11.21190902784091,19.515741856258963,12.806230057865989,2.8780652924400001,1,95.149991716898768,121.8876346647727,49.062725562732957,{"$f":"VLOOKUP(A1358,Sheet1!$1:$1048576,8,FALSE)","v":4}]
[28026,2.9974738335795457,1.1572060058072393,9.4966268811624293,1.7446850359499999,1,257.35394482515989,267.40374802389562,107.63648617700447,{"$f":"VLOOKUP(A1359,Sheet1!$1:$1048576,8,FALSE)","v":2}]
[28027,5.2258017155303031,1.2272355291827897,2.3228803716608595,0.55563087624200003,1,274.32362927771754,272.84433010554812,109.82645225771296,{"$f":"VLOOKUP(A1360,Sheet1!$1:$1048576,8,FALSE)","v":1}]
[28028,1.3219567690557452,20.59197406170043,13.413758007543555,2.9831388267099999,1,211.65127325141714,274.86993577889348,110.64180760957443,{"$f":"VLOOKUP(A1361,Sheet1!$1:$1048576,8,FALSE)","v":4}]
[28029,0.12251941328731665,16.795369994709116,13.487032074284119,4.9941124083600004,1,224.32925983070294,303.36392042864009,122.11132667034002,{"$f":"VLOOKUP(A1362,Sheet1!$1:$1048576,8,FALSE)","v":4}]
[28030,0.4449406660712007,26.226420502480522,11.411690386830664,3.0146075319999999,1,229.06867383834071,313.50870657945757,126.19484884368499,{"$f":"VLOOKUP(A1363,Sheet1!$1:$1048576,8,FALSE)","v":4}]
[28031,3.0992076596022726,2.1645374642937485,22.530024019215372,2.6036606012400001,1,168.01193710689893,181.91669498675361,73.225876488306611,{"$f":"VLOOKUP(A1364,Sheet1!$1:$1048576,8,FALSE)","v":2}]
[28032,3.0308510011174241,1.720240048691307,21.64709095875444,4.6850027380499997,1,161.04805530860349,187.69298833575041,75.550974486402211,{"$f":"VLOOKUP(A1365,Sheet1!$1:$1048576,8,FALSE)","v":3}]
[28033,3.2350967741935488,22.857122523468451,3.7394882805510821,1.6142108851800001,1,245.73919206709073,309.56889231844582,124.60897816543459,{"$f":"VLOOKUP(A1366,Sheet1!$1:$1048576,8,FALSE)","v":3}]
[28034,0.15425181278839814,17.289705186418992,13.868430999194578,5.1227589270299996,1,219.23187654039577,299.23978001225294,120.45126024942803,{"$f":"VLOOKUP(A1367,Sheet1!$1:$1048576,8,FALSE)","v":4}]
[28035,3.9588399704166664,4.8090497709737674,28.560341482343809,2.3132485413400001,1,129.58241009581349,142.17569388001334,57.229160855496126,{"$f":"VLOOKUP(A1368,Sheet1!$1:$1048576,8,FALSE)","v":2}]
[28036,0.21388888888888891,1.1325063523547256,13.743108025321627,1.8690141205199999,1,286.32784826529928,298.82481880377907,120.28422831098302,{"$f":"VLOOKUP(A1369,Sheet1!$1:$1048576,8,FALSE)","v":2}]
[29001,3.6870707386931816E-2,0.28975109155008538,14.387464387464387,1.4629074124599999,1,291.83890603337466,297.7056181759782,119.83372294673951,{"$f":"VLOOKUP(A1370,Sheet1!$1:$1048576,8,FALSE)","v":1}]
[29002,3.6831215192045449E-2,0.32616806880349303,7.363770250368189,0.43065009108399999,1,371.43052697187647,364.70660837777086,146.80324453720135,{"$f":"VLOOKUP(A1371,Sheet1!$1:$1048576,8,FALSE)","v":1}]
[29003,3.7116991963260619,0.18729109089406321,14.501633986928105,0.95454471018300002,1,217.91632932286325,217.9182615120512,87.717379117897352,{"$f":"VLOOKUP(A1372,Sheet1!$1:$1048576,8,FALSE)","v":1}]
[29004,6.6150785819696972E-3,2.3921168650518701E-2,44.335414808206956,1.0963637718899999,1,125.12819779546373,125.60610322910522,50.559499236184351,{"$f":"VLOOKUP(A1373,Sheet1!$1:$1048576,8,FALSE)","v":1}]
[29005,6.7486193835984851E-2,10.715525545183185,5.6331877729257647,8.4210384442600006,1,263.01630242095683,382.42480017185892,153.93524594039579,{"$f":"VLOOKUP(A1374,Sheet1!$1:$1048576,8,FALSE)","v":4}]
[29006,4.2903186817613632E-2,1.1360520165879975,20.028663561447509,1.3271980806599999,1,247.15735377811211,252.79218685864143,101.75497885704054,{"$f":"VLOOKUP(A1375,Sheet1!$1:$1048576,8,FALSE)","v":1}]
[29007,2.0670196143939393E-2,0.32484227071168564,23.515795206971678,1.9465862474,1,220.38885092310792,228.98516551430038,92.172076063857446,{"$f":"VLOOKUP(A1376,Sheet1!$1:$1048576,8,FALSE)","v":2}]
[29008,9.5692502437878788E-2,0.81404676033718881,8.9643880474826041,1.82262004673,1,333.55222905717221,346.50284013111872,139.47578684922956,{"$f":"VLOOKUP(A1377,Sheet1!$1:$1048576,8,FALSE)","v":2}]
[29009,9.9813233623627404,0.44065657494255472,21.133298300928356,2.6631629823799998,1,99.461492836515049,106.2523065914301,42.769127262499396,{"$f":"VLOOKUP(A1378,Sheet1!$1:$1048576,8,FALSE)","v":2}]
[29010,3.9911582197348486E-2,1.0292085871350851,29.332822085889571,3.2068032934900002,1,176.31096944856705,193.23921334610426,77.783464405010847,{"$f":"VLOOKUP(A1379,Sheet1!$1:$1048576,8,FALSE)","v":2}]
[29011,3.6408536322483291,2.2190648163555271,23.446193914999409,2.6458631404599999,1,156.02076475254819,169.28324040193084,68.140604984686661,{"$f":"VLOOKUP(A1380,Sheet1!$1:$1048576,8,FALSE)","v":2}]

{"sheet":"Sheet1","index":2,"n_rows":1381,"n_cols":12,"rows_kept":1381,"cut":false,"hidden":false,"merged":[]}
[null,"Fluvial Density","Fluvial Density",null,null,null,null,null,0.05,0.15,0.35,0.65]
["UniqueID","Reference IC and 0%Aug PA","Reference IC and 100% Aug Dep","Range of Fluv Density(B-C) under reference IC conditions","Predicted Fluvial Density(existing Aug Dep&IC)","Difference between max fluvial density at reference IC and actual fluvial density (B - E)","% of range 'taken up' by actual IC and AugPA (F/D*100)","Category (5,15,35,65)","5% Reduction in Range ","15% reduction in range","35% reduction in range","65% reduction in range"]
[10001,{"$f":"VLOOKUP($A3,BasinData!$A:$K,8,FALSE)","v":159.42835030245644},{"$f":"VLOOKUP($A3,BasinData!$A:$K,9,FALSE)","v":64.173772994458957},{"$f":"B3-C3","v":95.254577307997479},{"$f":"VLOOKUP($A3,BasinData!$A:$K,7,FALSE)","v":99.646516848221054},{"$f":"B3-E3","v":59.781833454235382},{"$f":"F3/D3*100","v":62.760063761488297},{"$f":"IF($G3<($I$1*100),1,IF($G3<($J$1*100),2,IF($G3<($K$1*100),3,IF($G3<($L$1*100),4,5))))","v":4},{"$f":"B3-(D3*$I$1)","v":154.66562143705656},{"$f":"B3-(D3*$J$1)","v":145.14016370625683},{"$f":"B3-(D3*$K$1)","v":126.08924824465731},{"$f":"B3-(D3*$L$1)","v":97.512875052258067}]
[10002,{"$f":"VLOOKUP($A4,BasinData!$A:$K,8,FALSE)","v":92.582613200307037},{"$f":"VLOOKUP($A4,BasinData!$A:$K,9,FALSE)","v":37.266744537459843},55.315868662847194,{"$f":"VLOOKUP($A4,BasinData!$A:$K,7,FALSE)","v":61.617619146005985},30.964994054301052,55.978500930780172,{"$f":"IF($G4<($I$1*100),1,IF($G4<($J$1*100),2,IF($G4<($K$1*100),3,IF($G4<($L$1*100),4,5))))","v":4},89.816819767164674,84.285232900879961,73.222059168310523,56.627298569456357]
[10003,{"$f":"VLOOKUP($A5,BasinData!$A:$K,8,FALSE)","v":91.474134410267013},{"$f":"VLOOKUP($A5,BasinData!$A:$K,9,FALSE)","v":36.82055497264124},54.653579437625773,{"$f":"VLOOKUP($A5,BasinData!$A:$K,7,FALSE)","v":62.510949792577826},28.963184617689187,52.994122097243171,4,88.741455438385728,83.276097494623144,72.345381607097991,55.949307775810261]
[10004,{"$f":"VLOOKUP($A6,BasinData!$A:$K,8,FALSE)","v":353.08720448892211},{"$f":"VLOOKUP($A6,BasinData!$A:$K,9,FALSE)","v":142.1261530031091},210.96105148581302,{"$f":"VLOOKUP($A6,BasinData!$A:$K,7,FALSE)","v":65.502470969427293},287.58473351949482,136.32124579111453,5,342.53915191463147,321.44304676605014,279.25083646888754,215.96252102314364]
[11001,{"$f":"VLOOKUP($A7,BasinData!$A:$K,8,FALSE)","v":212.23812186045384},{"$f":"VLOOKUP($A7,BasinData!$A:$K,9,FALSE)","v":85.43098531223545},126.80713654821839,{"$f":"VLOOKUP($A7,BasinData!$A:$K,7,FALSE)","v":153.02305499202637},59.215066868427471,46.69695135487185,4,205.89776503304293,193.21705137822107,167.85562406857741,129.81348310411187]
[11002,{"$f":"VLOOKUP($A8,BasinData!$A:$K,8,FALSE)","v":229.2952105573321},{"$f":"VLOOKUP($A8,BasinData!$A:$K,9,FALSE)","v":92.296876704219272},136.99833385311283,{"$f":"VLOOKUP($A8,BasinData!$A:$K,7,FALSE)","v":125.06486354574639},104.23034701158571,76.081470540612287,5,222.44529386467644,208.74546047936516,181.3457937087426,140.24629355280877]
[11003,{"$f":"VLOOKUP($A9,BasinData!$A:$K,8,FALSE)","v":182.74679114050122},{"$f":"VLOOKUP($A9,BasinData!$A:$K,9,FALSE)","v":73.560010298467191},109.18678084203403,{"$f":"VLOOKUP($A9,BasinData!$A:$K,7,FALSE)","v":142.53901043339371},40.207780707107503,36.824769809156763,4,177.28745209839951,166.36877401419611,144.53141784578929,111.7753835931791]
[11004,{"$f":"VLOOKUP($A10,BasinData!$A:$K,8,FALSE)","v":164.36326164246788},{"$f":"VLOOKUP($A10,BasinData!$A:$K,9,FALSE)","v":66.160194352271859},98.203067290196017,{"$f":"VLOOKUP($A10,BasinData!$A:$K,7,FALSE)","v":114.90585027333371},49.457411369134164,50.362389621685153,4,159.45310827795808,149.63280154893846,129.99218809089928,100.53126790384047]
[11005,{"$f":"VLOOKUP($A11,BasinData!$A:$K,8,FALSE)","v":192.76474919861155},{"$f":"VLOOKUP($A11,BasinData!$A:$K,9,FALSE)","v":77.592481092209553},115.172268106402,{"$f":"VLOOKUP($A11,BasinData!$A:$K,7,FALSE)","v":150.83084548374316},41.933903714868393,36.409722934454777,4,187.00613579329146,175.48890898265125,152.45445536137086,117.90277492945025]
[11006,{"$f":"VLOOKUP($A12,BasinData!$A:$K,8,FALSE)","v":253.2525888847949},{"$f":"VLOOKUP($A12,BasinData!$A:$K,9,FALSE)","v":101.94030182536147},151.31228705943343,{"$f":"VLOOKUP($A12,BasinData!$A:$K,7,FALSE)","v":196.67249981578939},56.58008906900551,37.392924374199445,4,245.68697453182324,230.55574582587988,200.2932884139932,154.89960229616315]
[11007,{"$f":"VLOOKUP($A13,BasinData!$A:$K,8,FALSE)","v":136.32639680105919},{"$f":"VLOOKUP($A13,BasinData!$A:$K,9,FALSE)","v":54.874677087647889},81.451719713411308,{"$f":"VLOOKUP($A13,BasinData!$A:$K,7,FALSE)","v":105.31086403075462},31.015532770304574,38.07842594291813,4,132.25381081538862,124.10863884404749,107.81829490136523,83.382778987341837]
[11008,{"$f":"VLOOKUP($A14,BasinData!$A:$K,8,FALSE)","v":191.16809481185248},{"$f":"VLOOKUP($A14,BasinData!$A:$K,9,FALSE)","v":76.949789024129458},114.21830578772303,{"$f":"VLOOKUP($A14,BasinData!$A:$K,7,FALSE)","v":146.39492642593291},44.773168385919575,39.199643242066109,4,185.45717952246633,174.03534894369403,151.19168778614943,116.92619604983251]
[11009,{"$f":"VLOOKUP($A15,BasinData!$A:$K,8,FALSE)","v":191.68133644060822},{"$f":"VLOOKUP($A15,BasinData!$A:$K,9,FALSE)","v":77.156381212486124},114.5249552281221,{"$f":"VLOOKUP($A15,BasinData!$A:$K,7,FALSE)","v":144.68916020562597},46.992176234982253,41.032258987902338,4,185.95508867920211,174.50259315638991,151.59760211076548,117.24011554232885]
[11010,{"$f":"VLOOKUP($A16,BasinData!$A:$K,8,FALSE)","v":209.02841386665372},{"$f":"VLOOKUP($A16,BasinData!$A:$K,9,FALSE)","v":84.139000092656488},124.88941377399723,{"$f":"VLOOKUP($A16,BasinData!$A:$K,7,FALSE)","v":158.67897458616986},50.349439280483864,40.315217886759697,4,202.78394317795386,190.29500180055413,165.31711904575468,127.85029491355552]
[11011,{"$f":"VLOOKUP($A17,BasinData!$A:$K,8,FALSE)","v":157.85762068518284},{"$f":"VLOOKUP($A17,BasinData!$A:$K,9,FALSE)","v":63.541516274099259},94.316104411083586,{"$f":"VLOOKUP($A17,BasinData!$A:$K,7,FALSE)","v":99.576181883202764},58.281438801980073,61.793729889390036,4,153.14181546462865,143.7102050235203,124.84698414130358,96.552152817978509]
[11012,{"$f":"VLOOKUP($A18,BasinData!$A:$K,8,FALSE)","v":203.58752218653785},{"$f":"VLOOKUP($A18,BasinData!$A:$K,9,FALSE)","v":81.948909391066778},121.63861279547108,{"$f":"VLOOKUP($A18,BasinData!$A:$K,7,FALSE)","v":159.28674361920602},44.300778567331832,36.419996536643559,4,197.50559154676429,185.3417302672172,161.01400770812299,124.52242386948166]
[11013,{"$f":"VLOOKUP($A19,BasinData!$A:$K,8,FALSE)","v":192.7568443197857},{"$f":"VLOOKUP($A19,BasinData!$A:$K,9,FALSE)","v":77.589299186994097},115.1675451327916,{"$f":"VLOOKUP($A19,BasinData!$A:$K,7,FALSE)","v":146.64029731006502},46.116547009720676,40.043006001861833,4,186.99846706314611,175.48171254986696,152.44820352330865,117.89793998347116]
[11014,{"$f":"VLOOKUP($A20,BasinData!$A:$K,8,FALSE)","v":138.39389151439497},{"$f":"VLOOKUP($A20,BasinData!$A:$K,9,FALSE)","v":55.706893792827017},82.686997721567948,{"$f":"VLOOKUP($A20,BasinData!$A:$K,7,FALSE)","v":119.64782338134073},18.746068133054237,22.671119583006146,3,134.25954162831655,125.99084185615978,109.45344231184619,84.647342995375794]
[11015,{"$f":"VLOOKUP($A21,BasinData!$A:$K,8,FALSE)","v":235.32135243368793},{"$f":"VLOOKUP($A21,BasinData!$A:$K,9,FALSE)","v":94.722544786915989},140.59880764677195,{"$f":"VLOOKUP($A21,BasinData!$A:$K,7,FALSE)","v":198.22520498969442},37.096147443993516,26.384396898436442,3,228.29141205134934,214.23153128667215,186.11176975731775,143.93212746328618]
[11016,{"$f":"VLOOKUP($A22,BasinData!$A:$K,8,FALSE)","v":151.56932645504173},{"$f":"VLOOKUP($A22,BasinData!$A:$K,9,FALSE)","v":61.010325518616511},90.559000936425221,{"$f":"VLOOKUP($A22,BasinData!$A:$K,7,FALSE)","v":139.02828759317191},12.541038861869822,13.848473075220827,2,147.04137640822046,137.98547631457794,119.87367612729291,92.705975846365334]
[11017,{"$f":"VLOOKUP($A23,BasinData!$A:$K,8,FALSE)","v":169.09141806853404},{"$f":"VLOOKUP($A23,BasinData!$A:$K,9,FALSE)","v":68.06339184878378},101.02802621975026,{"$f":"VLOOKUP($A23,BasinData!$A:$K,7,FALSE)","v":92.014030225635238},77.077387842898801,76.293075027759699,5,164.04001675754654,153.93721413557151,133.73160889162145,103.42320102569637]
[11018,{"$f":"VLOOKUP($A24,BasinData!$A:$K,8,FALSE)","v":148.28036539154712},{"$f":"VLOOKUP($A24,BasinData!$A:$K,9,FALSE)","v":59.6864390186565},88.593926372890621,{"$f":"VLOOKUP($A24,BasinData!$A:$K,7,FALSE)","v":104.38546373386818},43.894901657678943,49.546174839261447,4,143.85066907290258,134.99127643561354,117.2724911610354,90.694313249168218]
[11019,{"$f":"VLOOKUP($A25,BasinData!$A:$K,8,FALSE)","v":241.93266121940781},{"$f":"VLOOKUP($A25,BasinData!$A:$K,9,FALSE)","v":97.383756725734642},144.54890449367315,{"$f":"VLOOKUP($A25,BasinData!$A:$K,7,FALSE)","v":167.67099550075193},74.261665718655877,51.374768960567451,4,234.70521599472414,220.25032554535684,191.34054464662222,147.97587329852024]
[11020,{"$f":"VLOOKUP($A26,BasinData!$A:$K,8,FALSE)","v":301.39415276444521},{"$f":"VLOOKUP($A26,BasinData!$A:$K,9,FALSE)","v":121.31844746978342},180.07570529466179,{"$f":"VLOOKUP($A26,BasinData!$A:$K,7,FALSE)","v":197.60193672802365},103.79221603642156,57.638100523657045,4,292.39036749971211,274.38279697024592,238.36765591131359,184.34494432291504]
[11021,{"$f":"VLOOKUP($A27,BasinData!$A:$K,8,FALSE)","v":255.14167708772399},{"$f":"VLOOKUP($A27,BasinData!$A:$K,9,FALSE)","v":102.70070558837659},152.4409714993474,{"$f":"VLOOKUP($A27,BasinData!$A:$K,7,FALSE)","v":134.29437906658325},120.84729802114074,79.274814921825723,5,247.51962851275661,232.27553136282188,201.78733706295242,156.0550456131482]
[11022,{"$f":"VLOOKUP($A28,BasinData!$A:$K,8,FALSE)","v":303.04330496845904},{"$f":"VLOOKUP($A28,BasinData!$A:$K,9,FALSE)","v":121.98227118101747},181.06103378744157,{"$f":"VLOOKUP($A28,BasinData!$A:$K,7,FALSE)","v":202.39466003605094},100.6486449324081,55.588241615015633,4,293.99025327908697,275.88414990034278,239.6719431428545,185.35363300662203]
[11023,{"$f":"VLOOKUP($A29,BasinData!$A:$K,8,FALSE)","v":200.98293850693642},{"$f":"VLOOKUP($A29,BasinData!$A:$K,9,FALSE)","v":80.900501366504542},120.08243714043188,{"$f":"VLOOKUP($A29,BasinData!$A:$K,7,FALSE)","v":117.92336871355498},83.059569793381442,69.16879085011108,5,194.97881664991482,182.97057293587164,158.95408550778527,122.9293543656557]
[11024,{"$f":"VLOOKUP($A30,BasinData!$A:$K,8,FALSE)","v":309.73385181261784},{"$f":"VLOOKUP($A30,BasinData!$A:$K,9,FALSE)","v":124.67537835782316},185.05847345479469,{"$f":"VLOOKUP($A30,BasinData!$A:$K,7,FALSE)","v":206.2710887680729},103.46276304454494,55.908146821398262,4,300.48092813987813,281.97508079439865,244.96338610343969,189.4458440670013]
[11025,{"$f":"VLOOKUP($A31,BasinData!$A:$K,8,FALSE)","v":302.2149845991479},{"$f":"VLOOKUP($A31,BasinData!$A:$K,9,FALSE)","v":121.64885216710924},180.56613243203867,{"$f":"VLOOKUP($A31,BasinData!$A:$K,7,FALSE)","v":204.68285344935862},97.532131149789279,54.014631556944018,4,293.18667797754597,275.13006473434211,239.01683824793437,184.84699851832278]
[11026,{"$f":"VLOOKUP($A32,BasinData!$A:$K,8,FALSE)","v":148.49197821313527},{"$f":"VLOOKUP($A32,BasinData!$A:$K,9,FALSE)","v":59.771618305461843},88.720359907673426,{"$f":"VLOOKUP($A32,BasinData!$A:$K,7,FALSE)","v":83.231163197641692},65.260815015493577,73.557879029579055,5,144.05596021775159,135.18392422698426,117.43985224544957,90.82374427314754]
[11027,{"$f":"VLOOKUP($A33,BasinData!$A:$K,8,FALSE)","v":155.73636378156598},{"$f":"VLOOKUP($A33,BasinData!$A:$K,9,FALSE)","v":62.68765898499489},93.048704796571087,{"$f":"VLOOKUP($A33,BasinData!$A:$K,7,FALSE)","v":85.276633473382319},70.459730308183666,75.723493908085175,5,151.08392854173744,141.77905806208031,123.16931710276612,95.254705663794766]
[11028,{"$f":"VLOOKUP($A34,BasinData!$A:$K,8,FALSE)","v":229.14459042420049},{"$f":"VLOOKUP($A34,BasinData!$A:$K,9,FALSE)","v":92.23624845200662},136.90834197219385,{"$f":"VLOOKUP($A34,BasinData!$A:$K,7,FALSE)","v":154.79494947484008},74.349640949360406,54.306143715085561,4,222.2991733255908,208.6083391283714,181.22667073393265,140.1541681422745]
[11029,{"$f":"VLOOKUP($A35,BasinData!$A:$K,8,FALSE)","v":259.21237534333363},{"$f":"VLOOKUP($A35,BasinData!$A:$K,9,FALSE)","v":104.33926024499095},154.87311509834268,{"$f":"VLOOKUP($A35,BasinData!$A:$K,7,FALSE)","v":207.57753080112639},51.634844542207247,33.340095541708259,3,251.46871958841649,235.98140807858223,205.00678505891369,158.54485052941089]
[11030,{"$f":"VLOOKUP($A36,BasinData!$A:$K,8,FALSE)","v":290.26346320972669},{"$f":"VLOOKUP($A36,BasinData!$A:$K,9,FALSE)","v":116.83807529381107},173.42538791591562,{"$f":"VLOOKUP($A36,BasinData!$A:$K,7,FALSE)","v":222.0209831068299},68.242480102896792,39.349763562866471,4,281.59219381393092,264.24965502233937,229.56457743915624,177.53696106438156]
[11031,{"$f":"VLOOKUP($A37,BasinData!$A:$K,8,FALSE)","v":241.38674682764105},{"$f":"VLOOKUP($A37,BasinData!$A:$K,9,FALSE)","v":97.164012958799944},144.22273386884109,{"$f":"VLOOKUP($A37,BasinData!$A:$K,7,FALSE)","v":211.40824971792929},29.978497109711753,20.78624936965539,3,234.17561013419899,219.75333674731488,190.90878997354667,147.64196981289433]
[11032,{"$f":"VLOOKUP($A38,BasinData!$A:$K,8,FALSE)","v":222.34927709381896},{"$f":"VLOOKUP($A38,BasinData!$A:$K,9,FALSE)","v":89.500970226629377},132.84830686718959,{"$f":"VLOOKUP($A38,BasinData!$A:$K,7,FALSE)","v":147.2459456783524},75.103331415466556,56.533149113107228,4,215.70686175045947,202.42203106374052,175.8523696903026,135.99787763014572]
[11033,{"$f":"VLOOKUP($A39,BasinData!$A:$K,8,FALSE)","v":225.11093624608733},{"$f":"VLOOKUP($A39,BasinData!$A:$K,9,FALSE)","v":90.612604933941583},134.49833131214575,{"$f":"VLOOKUP($A39,BasinData!$A:$K,7,FALSE)","v":149.74916641120453},75.361769834882807,56.031750802901847,4,218.38601968048005,204.93618654926547,178.03652028683632,137.6870208931926]
[11034,{"$f":"VLOOKUP($A40,BasinData!$A:$K,8,FALSE)","v":256.37633259864594},{"$f":"VLOOKUP($A40,BasinData!$A:$K,9,FALSE)","v":103.19768433985932},153.17864825878661,{"$f":"VLOOKUP($A40,BasinData!$A:$K,7,FALSE)","v":195.65630261139049},60.720029987255458,39.640009020495093,4,248.71740018570662,233.39953535982795,202.76380570807063,156.81021123043465]
[11035,{"$f":"VLOOKUP($A41,BasinData!$A:$K,8,FALSE)","v":253.02363974438759},{"$f":"VLOOKUP($A41,BasinData!$A:$K,9,FALSE)","v":101.84814425027585},151.17549549411174,{"$f":"VLOOKUP($A41,BasinData!$A:$K,7,FALSE)","v":178.83105971789681},74.192580026490788,49.077120457912159,4,245.464864969682,230.34731542027083,200.1122163214485,154.75956767321497]
[11036,{"$f":"VLOOKUP($A42,BasinData!$A:$K,8,FALSE)","v":194.38667018669665},{"$f":"VLOOKUP($A42,BasinData!$A:$K,9,FALSE)","v":78.245343579382379},116.14132660731427,{"$f":"VLOOKUP($A42,BasinData!$A:$K,7,FALSE)","v":163.3245519727592},31.062118213937453,26.745103677833519,3,188.57960385633095,176.96547119559952,153.73720587413666,118.89480789194236]
[11037,{"$f":"VLOOKUP($A43,BasinData!$A:$K,8,FALSE)","v":289.13757545193857},{"$f":"VLOOKUP($A43,BasinData!$A:$K,9,FALSE)","v":116.38487819775844},172.75269725418013,{"$f":"VLOOKUP($A43,BasinData!$A:$K,7,FALSE)","v":258.93415694689844},30.203418505040133,17.483616166409405,3,280.4999405892296,263.22467086381153,228.67413141297553,176.84832223672149]
[11038,{"$f":"VLOOKUP($A44,BasinData!$A:$K,8,FALSE)","v":259.74009406529848},{"$f":"VLOOKUP($A44,BasinData!$A:$K,9,FALSE)","v":104.55167981405788},155.1884142512406,{"$f":"VLOOKUP($A44,BasinData!$A:$K,7,FALSE)","v":198.63862620051603},61.10146786478245,39.372441660408292,4,251.98067335273646,236.46183192761239,205.42414907736426,158.86762480199206]
[11039,{"$f":"VLOOKUP($A45,BasinData!$A:$K,8,FALSE)","v":295.85373325404311},{"$f":"VLOOKUP($A45,BasinData!$A:$K,9,FALSE)","v":119.08829440553801},176.76543884850508,{"$f":"VLOOKUP($A45,BasinData!$A:$K,7,FALSE)","v":245.32711560010895},50.526617653934153,28.583991295514188,3,287.01546131161786,269.33891742676735,233.98582965706635,180.95619800251478]
[11040,{"$f":"VLOOKUP($A46,BasinData!$A:$K,8,FALSE)","v":243.86787764084585},{"$f":"VLOOKUP($A46,BasinData!$A:$K,9,FALSE)","v":98.162728214111155},145.70514942673469,{"$f":"VLOOKUP($A46,BasinData!$A:$K,7,FALSE)","v":203.96300276276352},39.904874878082325,27.387415637048434,3,236.58262016950911,222.01210522683564,192.87107534148871,149.1595305134683]
[11041,{"$f":"VLOOKUP($A47,BasinData!$A:$K,8,FALSE)","v":247.20786826512571},{"$f":"VLOOKUP($A47,BasinData!$A:$K,9,FALSE)","v":99.507155348429009},147.70071291669672,{"$f":"VLOOKUP($A47,BasinData!$A:$K,7,FALSE)","v":206.50357286698599},40.70429539813972,27.558631637138379,3,239.82283261929086,225.0527613276212,195.51261874428187,151.20240486927284]
[11042,{"$f":"VLOOKUP($A48,BasinData!$A:$K,8,FALSE)","v":289.01548417741014},{"$f":"VLOOKUP($A48,BasinData!$A:$K,9,FALSE)","v":116.33573350221759},172.67975067519257,{"$f":"VLOOKUP($A48,BasinData!$A:$K,7,FALSE)","v":249.15538216094157},39.860102016468574,23.083252008768934,3,280.38149664365051,263.11352157613123,228.57757144109274,176.77364623853498]
[11043,{"$f":"VLOOKUP($A49,BasinData!$A:$K,8,FALSE)","v":160.24061677986822},{"$f":"VLOOKUP($A49,BasinData!$A:$K,9,FALSE)","v":64.500729927987678},95.739886851880541,{"$f":"VLOOKUP($A49,BasinData!$A:$K,7,FALSE)","v":119.45387357666789},40.786743203200331,42.60162043673774,4,155.45362243727419,145.87963375208614,126.73165638171002,98.009690326145858]
[11044,{"$f":"VLOOKUP($A50,BasinData!$A:$K,8,FALSE)","v":287.00052964681339},{"$f":"VLOOKUP($A50,BasinData!$A:$K,9,FALSE)","v":115.52466549332608},171.47586415348729,{"$f":"VLOOKUP($A50,BasinData!$A:$K,7,FALSE)","v":226.52335631083659},60.477173335976801,35.268621408925483,4,278.42673643913901,261.27915002379029,226.98397719309284,175.54121794704665]
[11045,{"$f":"VLOOKUP($A51,BasinData!$A:$K,8,FALSE)","v":254.20076257456097},{"$f":"VLOOKUP($A51,BasinData!$A:$K,9,FALSE)","v":102.32196470408367},151.87879787047729,{"$f":"VLOOKUP($A51,BasinData!$A:$K,7,FALSE)","v":92.468182138928199},161.73258043563277,106.48792504504732,5,246.6068226810371,231.41894289398937,201.04318331989393,155.47954395875072]
[11046,{"$f":"VLOOKUP($A52,BasinData!$A:$K,8,FALSE)","v":298.31638249561814},{"$f":"VLOOKUP($A52,BasinData!$A:$K,9,FALSE)","v":120.07957038057},178.23681211504814,{"$f":"VLOOKUP($A52,BasinData!$A:$K,7,FALSE)","v":250.11823376522466},48.198148730393484,27.041635315651057,3,289.40454188986575,271.58086067836092,235.93349825535131,182.46245462083687]
[11047,{"$f":"VLOOKUP($A53,BasinData!$A:$K,8,FALSE)","v":228.24239811146938},{"$f":"VLOOKUP($A53,BasinData!$A:$K,9,FALSE)","v":91.873094191395424},136.36930392007395,{"$f":"VLOOKUP($A53,BasinData!$A:$K,7,FALSE)","v":150.93820336024993},77.304194751219455,56.687386771826183,4,221.42393291546568,207.78700252345828,180.51314173944351,139.60235056342131]
[11048,{"$f":"VLOOKUP($A54,BasinData!$A:$K,8,FALSE)","v":275.03078180153449},{"$f":"VLOOKUP($A54,BasinData!$A:$K,9,FALSE)","v":110.70655203002691},164.32422977150759,{"$f":"VLOOKUP($A54,BasinData!$A:$K,7,FALSE)","v":181.85347673895893},93.177305062575556,56.703326826566204,4,266.81457031295912,250.38214733580836,217.51730138150683,168.22003245005453]
[11049,{"$f":"VLOOKUP($A55,BasinData!$A:$K,8,FALSE)","v":225.98324876294743},{"$f":"VLOOKUP($A55,BasinData!$A:$K,9,FALSE)","v":90.963731852905525},135.01951691004189,{"$f":"VLOOKUP($A55,BasinData!$A:$K,7,FALSE)","v":148.1224229403341},77.860825822613322,57.666348987523698,4,219.23227291744533,205.73032122644113,178.72641784443277,138.22056277142019]
[11050,{"$f":"VLOOKUP($A56,BasinData!$A:$K,8,FALSE)","v":158.41824585787995},{"$f":"VLOOKUP($A56,BasinData!$A:$K,9,FALSE)","v":63.767181486712886},94.651064371167067,{"$f":"VLOOKUP($A56,BasinData!$A:$K,7,FALSE)","v":76.55869635401794},81.859549503862013,86.485609060724258,5,153.68569263932159,144.22058620220488,125.29037332797148,96.895054016621359]
[11051,{"$f":"VLOOKUP($A57,BasinData!$A:$K,8,FALSE)","v":140.55749982987058},{"$f":"VLOOKUP($A57,BasinData!$A:$K,9,FALSE)","v":56.577798551126563},83.979701278744017,{"$f":"VLOOKUP($A57,BasinData!$A:$K,7,FALSE)","v":97.01839028771461},43.53910954215597,51.844801635625835,4,136.35851476593336,127.96054463805898,111.16460438231017,85.970693998686968]
[11052,{"$f":"VLOOKUP($A58,BasinData!$A:$K,8,FALSE)","v":299.67028274299838},{"$f":"VLOOKUP($A58,BasinData!$A:$K,9,FALSE)","v":120.62454802706569},179.0457347159327,{"$f":"VLOOKUP($A58,BasinData!$A:$K,7,FALSE)","v":235.34628630362138},64.323996439376998,35.926014401533251,4,290.71799600720175,272.81342253560848,237.00427559242195,183.29055517764212]
[11053,{"$f":"VLOOKUP($A59,BasinData!$A:$K,8,FALSE)","v":283.31507246796633},{"$f":"VLOOKUP($A59,BasinData!$A:$K,9,FALSE)","v":114.04117970220148},169.27389276576486,{"$f":"VLOOKUP($A59,BasinData!$A:$K,7,FALSE)","v":239.65682591757925},43.658246550387076,25.791482571266787,3,274.85137782967809,257.92398855310159,224.06920999994864,173.28704217021917]
[11054,{"$f":"VLOOKUP($A60,BasinData!$A:$K,8,FALSE)","v":286.36708399590651},{"$f":"VLOOKUP($A60,BasinData!$A:$K,9,FALSE)","v":115.26968827422729},171.09739572167922,{"$f":"VLOOKUP($A60,BasinData!$A:$K,7,FALSE)","v":205.57595500475486},80.791128991151652,47.219379728358341,4,277.81221420982257,260.70247463765463,226.48299549331878,175.15377677681502]
[11055,{"$f":"VLOOKUP($A61,BasinData!$A:$K,8,FALSE)","v":175.6885455836368},{"$f":"VLOOKUP($A61,BasinData!$A:$K,9,FALSE)","v":70.718895482651476},104.96965010098532,{"$f":"VLOOKUP($A61,BasinData!$A:$K,7,FALSE)","v":149.63683727554019},26.051708308096607,24.818324423329738,3,170.44006307858754,159.94309806848901,138.94916804829194,107.45827301799633]
[11056,{"$f":"VLOOKUP($A62,BasinData!$A:$K,8,FALSE)","v":216.83931954096391},{"$f":"VLOOKUP($A62,BasinData!$A:$K,9,FALSE)","v":87.283078838208127},129.55624070275579,{"$f":"VLOOKUP($A62,BasinData!$A:$K,7,FALSE)","v":169.35991137753803},47.479408163425887,36.647719867357928,4,210.36150750582613,197.40588343555055,171.4946352949994,132.62776308417264]
[11057,{"$f":"VLOOKUP($A63,BasinData!$A:$K,8,FALSE)","v":163.87556818249615},{"$f":"VLOOKUP($A63,BasinData!$A:$K,9,FALSE)","v":65.963885920730462},97.911682261765691,{"$f":"VLOOKUP($A63,BasinData!$A:$K,7,FALSE)","v":137.7719235325674},26.103644649928754,26.66039848048058,3,158.97998406940786,149.18881584323131,129.60647939087818,100.23297471234845]
[11058,{"$f":"VLOOKUP($A64,BasinData!$A:$K,8,FALSE)","v":195.85654589528252},{"$f":"VLOOKUP($A64,BasinData!$A:$K,9,FALSE)","v":78.837004158406799},117.01954173687572,{"$f":"VLOOKUP($A64,BasinData!$A:$K,7,FALSE)","v":143.01721476586411},52.839331129418412,45.154279657179217,4,190.00556880843874,178.30361463475117,154.89970628737603,119.7938437663133]
[11059,{"$f":"VLOOKUP($A65,BasinData!$A:$K,8,FALSE)","v":223.9599348987588},{"$f":"VLOOKUP($A65,BasinData!$A:$K,9,FALSE)","v":90.1492990097465},133.8106358890123,{"$f":"VLOOKUP($A65,BasinData!$A:$K,7,FALSE)","v":190.25199086124636},33.707944037512448,25.190780847548705,3,217.2694031043082,203.88833951540695,177.1262123376045,136.9830215709008]
[11060,{"$f":"VLOOKUP($A66,BasinData!$A:$K,8,FALSE)","v":276.25448683426254},{"$f":"VLOOKUP($A66,BasinData!$A:$K,9,FALSE)","v":111.19912294877183},165.05536388549069,{"$f":"VLOOKUP($A66,BasinData!$A:$K,7,FALSE)","v":194.97655997806916},81.277926856193375,49.242826735749709,4,268.00171863998798,251.49618225143894,218.48510947434079,168.96850030869359]
[11061,{"$f":"VLOOKUP($A67,BasinData!$A:$K,8,FALSE)","v":326.76892324582354},{"$f":"VLOOKUP($A67,BasinData!$A:$K,9,FALSE)","v":131.53240726783187},{"$f":"B67-C67","v":195.23651597799167},{"$f":"VLOOKUP($A67,BasinData!$A:$K,7,FALSE)","v":229.23494060560233},{"$f":"B67-E67","v":97.533982640221211},{"$f":"F67/D67*100","v":49.956834228293587},{"$f":"IF($G67<($I$1*100),1,IF($G67<($J$1*100),2,IF($G67<($K$1*100),3,IF($G67<($L$1*100),4,5))))","v":4},{"$f":"B67-(D67*$I$1)","v":317.00709744692398},{"$f":"B67-(D67*$J$1)","v":297.48344584912479},{"$f":"B67-(D67*$K$1)","v":258.43614265352647},{"$f":"B67-(D67*$L$1)","v":199.86518786012897}]
[11062,{"$f":"VLOOKUP($A68,BasinData!$A:$K,8,FALSE)","v":315.77487131434191},{"$f":"VLOOKUP($A68,BasinData!$A:$K,9,FALSE)","v":127.10703504512672},188.66783626921517,{"$f":"VLOOKUP($A68,BasinData!$A:$K,7,FALSE)","v":225.21874085698897},90.556130457352936,47.997651453497333,4,306.34147950088118,287.4746958739596,249.7411286201166,193.14077773935205]
[11063,{"$f":"VLOOKUP($A69,BasinData!$A:$K,8,FALSE)","v":181.49754630132844},{"$f":"VLOOKUP($A69,BasinData!$A:$K,9,FALSE)","v":73.05715898895113},108.44038731237731,{"$f":"VLOOKUP($A69,BasinData!$A:$K,7,FALSE)","v":154.72897044079423},26.768575860534213,24.685061095755483,3,176.07552693570958,165.23148820447184,143.54341074199638,111.01129454828319]
[11064,{"$f":"VLOOKUP($A70,BasinData!$A:$K,8,FALSE)","v":193.95411764181998},{"$f":"VLOOKUP($A70,BasinData!$A:$K,9,FALSE)","v":78.071230701902124},115.88288693991785,{"$f":"VLOOKUP($A70,BasinData!$A:$K,7,FALSE)","v":140.33531792086842},53.618799720951557,46.269816999598447,4,188.15997329482408,176.5716846008323,153.39510721284873,118.63024113087337]
[11065,{"$f":"VLOOKUP($A71,BasinData!$A:$K,8,FALSE)","v":248.26171483697112},{"$f":"VLOOKUP($A71,BasinData!$A:$K,9,FALSE)","v":99.931354122011598},148.33036071495951,{"$f":"VLOOKUP($A71,BasinData!$A:$K,7,FALSE)","v":194.62147094277302},53.640243894198107,36.162686880588396,4,240.84519680122315,226.01216072972719,196.34608858673531,151.84698037224746]
[11066,{"$f":"VLOOKUP($A72,BasinData!$A:$K,8,FALSE)","v":269.77502689602119},{"$f":"VLOOKUP($A72,BasinData!$A:$K,9,FALSE)","v":108.59098336497419},161.184043531047,{"$f":"VLOOKUP($A72,BasinData!$A:$K,7,FALSE)","v":245.62688440782972},24.148142488191468,14.981720249213188,2,261.71582471946886,245.59742036636413,213.36061166015475,165.00539860084064]
[11067,{"$f":"VLOOKUP($A73,BasinData!$A:$K,8,FALSE)","v":229.20378955833155},{"$f":"VLOOKUP($A73,BasinData!$A:$K,9,FALSE)","v":92.260077537536191},136.94371202079537,{"$f":"VLOOKUP($A73,BasinData!$A:$K,7,FALSE)","v":166.70031611267282},62.503473445658727,45.641725730471919,4,222.35660395729178,208.66223275521224,181.27349035105317,140.19037674481456]
[11068,{"$f":"VLOOKUP($A74,BasinData!$A:$K,8,FALSE)","v":161.15453630450341},{"$f":"VLOOKUP($A74,BasinData!$A:$K,9,FALSE)","v":64.868604675470635},96.285931629032774,{"$f":"VLOOKUP($A74,BasinData!$A:$K,7,FALSE)","v":131.95962463935189},29.194911665151523,30.321056431829213,3,156.34023972305178,146.71164656014849,127.45446023434195,98.568680745632093]
[11069,{"$f":"VLOOKUP($A75,BasinData!$A:$K,8,FALSE)","v":231.00620366806109},{"$f":"VLOOKUP($A75,BasinData!$A:$K,9,FALSE)","v":92.985592878442347},138.02061078961873,{"$f":"VLOOKUP($A75,BasinData!$A:$K,7,FALSE)","v":152.11847157328791},78.887732094773185,57.156486732999412,4,224.10517312858016,210.30311204961828,182.69898989169454,141.29280665480891]
[11070,{"$f":"VLOOKUP($A76,BasinData!$A:$K,8,FALSE)","v":228.79882961141954},{"$f":"VLOOKUP($A76,BasinData!$A:$K,9,FALSE)","v":92.097071349140734},136.70175826227882,{"$f":"VLOOKUP($A76,BasinData!$A:$K,7,FALSE)","v":149.85862038365593},78.940209227763603,57.746301314067438,4,221.9637416983056,208.29356587207772,180.95321421962194,139.94268674093831]
[11071,{"$f":"VLOOKUP($A77,BasinData!$A:$K,8,FALSE)","v":180.60672298471644},{"$f":"VLOOKUP($A77,BasinData!$A:$K,9,FALSE)","v":72.69858102468082},107.90814196003562,{"$f":"VLOOKUP($A77,BasinData!$A:$K,7,FALSE)","v":127.54896698501069},53.057755999705748,49.169372241953702,4,175.21131588671466,164.42050169071109,142.83887329870396,110.46643071069329]
[11072,{"$f":"VLOOKUP($A78,BasinData!$A:$K,8,FALSE)","v":165.24723609537153},{"$f":"VLOOKUP($A78,BasinData!$A:$K,9,FALSE)","v":66.516015482992458},98.731220612379076,{"$f":"VLOOKUP($A78,BasinData!$A:$K,7,FALSE)","v":112.68984794856274},52.55738814680879,53.232794875645503,4,160.31067506475259,150.43755300351467,130.69130888103885,101.07194269732513]
[11073,{"$f":"VLOOKUP($A79,BasinData!$A:$K,8,FALSE)","v":162.32410555534372},{"$f":"VLOOKUP($A79,BasinData!$A:$K,9,FALSE)","v":65.339384630618738},96.984720924724982,{"$f":"VLOOKUP($A79,BasinData!$A:$K,7,FALSE)","v":101.88522752490603},60.438878030437692,62.317937768102183,4,157.47486950910746,147.77639741663498,128.37945323168998,99.28403695427248]
[11074,{"$f":"VLOOKUP($A80,BasinData!$A:$K,8,FALSE)","v":290.50078819512925},{"$f":"VLOOKUP($A80,BasinData!$A:$K,9,FALSE)","v":116.93360434940401},173.56718384572525,{"$f":"VLOOKUP($A80,BasinData!$A:$K,7,FALSE)","v":249.8465458956116},40.654242299517648,23.422770018353852,3,281.82242900284297,264.46571061827046,229.7522738491254,177.68211869540784]
[11075,{"$f":"VLOOKUP($A81,BasinData!$A:$K,8,FALSE)","v":275.93523249239178},{"$f":"VLOOKUP($A81,BasinData!$A:$K,9,FALSE)","v":111.07061534254092},164.86461714985086,{"$f":"VLOOKUP($A81,BasinData!$A:$K,7,FALSE)","v":217.32585677821777},58.609375714174007,35.550002618755983,4,267.69200163489921,251.20553991991414,218.23261648994398,168.77323134498872]
[11076,{"$f":"VLOOKUP($A82,BasinData!$A:$K,8,FALSE)","v":197.71755669927626},{"$f":"VLOOKUP($A82,BasinData!$A:$K,9,FALSE)","v":79.586106088202584},118.13145061107367,{"$f":"VLOOKUP($A82,BasinData!$A:$K,7,FALSE)","v":161.54115796165431},36.176398737621952,30.623850422971756,3,191.81098416872257,179.99783910761522,156.37154898540047,120.93211380207836]
[12001,{"$f":"VLOOKUP($A83,BasinData!$A:$K,8,FALSE)","v":214.89507514337612},{"$f":"VLOOKUP($A83,BasinData!$A:$K,9,FALSE)","v":86.500473370737353},128.39460177263877,{"$f":"VLOOKUP($A83,BasinData!$A:$K,7,FALSE)","v":96.257607856271946},118.63746728710417,92.400666109925297,5,208.47534505474417,195.63588487748029,169.95696452295255,131.4385839911609]
[12002,{"$f":"VLOOKUP($A84,BasinData!$A:$K,8,FALSE)","v":219.85879232108474},{"$f":"VLOOKUP($A84,BasinData!$A:$K,9,FALSE)","v":88.498489776016939},131.36030254506778,{"$f":"VLOOKUP($A84,BasinData!$A:$K,7,FALSE)","v":77.17582635183382},142.68296596925092,108.61954730981111,5,213.29077719383133,200.15474693932458,173.88268643031103,134.47459566679066]
[12003,{"$f":"VLOOKUP($A85,BasinData!$A:$K,8,FALSE)","v":207.82486214166869},{"$f":"VLOOKUP($A85,BasinData!$A:$K,9,FALSE)","v":83.65454136847255},124.17032077319614,{"$f":"VLOOKUP($A85,BasinData!$A:$K,7,FALSE)","v":111.03821987685963},96.786642264809061,77.946679739673968,5,201.61634610300888,189.19931402568926,164.36524987105003,127.1141536390912]
[12004,{"$f":"VLOOKUP($A86,BasinData!$A:$K,8,FALSE)","v":251.70988140430856},{"$f":"VLOOKUP($A86,BasinData!$A:$K,9,FALSE)","v":101.31932469386783},150.39055671044073,{"$f":"VLOOKUP($A86,BasinData!$A:$K,7,FALSE)","v":136.22538291831566},115.4844984859929,76.789727368550587,5,244.19035356878652,229.15129789774244,199.0731865556543,153.95601954252209]
[12005,{"$f":"VLOOKUP($A87,BasinData!$A:$K,8,FALSE)","v":245.08327556341152},{"$f":"VLOOKUP($A87,BasinData!$A:$K,9,FALSE)","v":98.651955319783994},146.43132024362751,{"$f":"VLOOKUP($A87,BasinData!$A:$K,7,FALSE)","v":131.66120547915102},113.4220700842605,77.457520628478022,5,237.76170955123015,223.1185775268674,193.83231347814188,149.90291740505364]
[12006,{"$f":"VLOOKUP($A88,BasinData!$A:$K,8,FALSE)","v":223.39727804058793},{"$f":"VLOOKUP($A88,BasinData!$A:$K,9,FALSE)","v":89.922815994514067},133.47446204607388,{"$f":"VLOOKUP($A88,BasinData!$A:$K,7,FALSE)","v":98.209285711968803},125.18799232861913,93.791718962242868,5,216.72355493828425,203.37610873367686,176.68121632446207,136.63887771063992]
[12007,{"$f":"VLOOKUP($A89,BasinData!$A:$K,8,FALSE)","v":239.99192659750651},{"$f":"VLOOKUP($A89,BasinData!$A:$K,9,FALSE)","v":96.602564027998611},143.38936256950791,{"$f":"VLOOKUP($A89,BasinData!$A:$K,7,FALSE)","v":84.836614907297658},155.15531169020886,108.20559413185021,5,232.82245846903112,218.48352221208032,189.80564969817874,146.78884092732636]
[12008,{"$f":"VLOOKUP($A90,BasinData!$A:$K,8,FALSE)","v":162.46222767623135},{"$f":"VLOOKUP($A90,BasinData!$A:$K,9,FALSE)","v":65.394982130150908},97.067245546080443,{"$f":"VLOOKUP($A90,BasinData!$A:$K,7,FALSE)","v":40.844348233833934},121.61787944239742,125.29239781988264,5,157.60886539892732,147.90214084431929,128.4886917351032,99.368518071279055]
[12009,{"$f":"VLOOKUP($A91,BasinData!$A:$K,8,FALSE)","v":241.53249317864646},{"$f":"VLOOKUP($A91,BasinData!$A:$K,9,FALSE)","v":97.222679395644121},144.30981378300234,{"$f":"VLOOKUP($A91,BasinData!$A:$K,7,FALSE)","v":107.23669238684175},134.29580079180471,93.060753992617833,5,234.31700248949633,219.8860211111961,191.02405835459564,147.73111421969492]
[12010,{"$f":"VLOOKUP($A92,BasinData!$A:$K,8,FALSE)","v":114.74162517265835},{"$f":"VLOOKUP($A92,BasinData!$A:$K,9,FALSE)","v":46.186283636982587},68.555341535675751,{"$f":"VLOOKUP($A92,BasinData!$A:$K,7,FALSE)","v":42.616681074744569},72.124944097913783,105.20689195367868,5,111.31385809587456,104.45832394230698,90.747255635171825,70.180653174469114]
[12011,{"$f":"VLOOKUP($A93,BasinData!$A:$K,8,FALSE)","v":253.7921046521046},{"$f":"VLOOKUP($A93,BasinData!$A:$K,9,FALSE)","v":102.15746999095172},151.63463466115286,{"$f":"VLOOKUP($A93,BasinData!$A:$K,7,FALSE)","v":41.652043500137779},212.14006115196682,139.90211512430594,5,246.21037291904696,231.04690945293166,200.71998252070111,155.22959212235526]
[12012,{"$f":"VLOOKUP($A94,BasinData!$A:$K,8,FALSE)","v":219.89592933131064},{"$f":"VLOOKUP($A94,BasinData!$A:$K,9,FALSE)","v":88.513438322241058},131.38249100906958,{"$f":"VLOOKUP($A94,BasinData!$A:$K,7,FALSE)","v":99.088786655710763},120.80714267559988,91.9507171372328,5,213.32680478085717,200.18855567995021,173.91205747813629,134.49731017541541]
[12013,{"$f":"VLOOKUP($A95,BasinData!$A:$K,8,FALSE)","v":191.82309774100239},{"$f":"VLOOKUP($A95,BasinData!$A:$K,9,FALSE)","v":77.213443569925289},114.6096541710771,{"$f":"VLOOKUP($A95,BasinData!$A:$K,7,FALSE)","v":94.926059444271871},96.897038296730514,84.545267148344166,5,186.09261503244852,174.63164961534082,151.70971878112539,117.32682252980227]
[12014,{"$f":"VLOOKUP($A96,BasinData!$A:$K,8,FALSE)","v":247.52914224547996},{"$f":"VLOOKUP($A96,BasinData!$A:$K,9,FALSE)","v":99.636475908073308},147.89266633740664,{"$f":"VLOOKUP($A96,BasinData!$A:$K,7,FALSE)","v":101.23343239099137},146.29570985448859,98.920192243153764,5,240.13450892860962,225.34524229486897,195.76670902738763,151.39890912616565]
[12015,{"$f":"VLOOKUP($A97,BasinData!$A:$K,8,FALSE)","v":241.0704023740835},{"$f":"VLOOKUP($A97,BasinData!$A:$K,9,FALSE)","v":97.036676653104351},144.03372572097913,{"$f":"VLOOKUP($A97,BasinData!$A:$K,7,FALSE)","v":142.3105277274658},98.759874646617703,68.567187408547952,5,233.86871608803455,219.46534351593664,190.65859837174082,147.44848065544704]
[12016,{"$f":"VLOOKUP($A98,BasinData!$A:$K,8,FALSE)","v":244.62762949904757},{"$f":"VLOOKUP($A98,BasinData!$A:$K,9,FALSE)","v":98.468546741291902},146.15908275775567,{"$f":"VLOOKUP($A98,BasinData!$A:$K,7,FALSE)","v":41.733875326684597},202.89375417236297,138.81706859685173,5,237.3196753611598,222.70376708538421,193.47195053383308,149.62422570650637]
[12017,{"$f":"VLOOKUP($A99,BasinData!$A:$K,8,FALSE)","v":255.88630225478565},{"$f":"VLOOKUP($A99,BasinData!$A:$K,9,FALSE)","v":103.00043525594401},152.88586699884164,{"$f":"VLOOKUP($A99,BasinData!$A:$K,7,FALSE)","v":140.11354507659067},115.77275717819498,75.724957087807311,5,248.24200890484357,232.9534222049594,202.37624880519107,156.51048870553859]
[12018,{"$f":"VLOOKUP($A100,BasinData!$A:$K,8,FALSE)","v":267.82350091677},{"$f":"VLOOKUP($A100,BasinData!$A:$K,9,FALSE)","v":107.80544688449461},160.01805403227539,{"$f":"VLOOKUP($A100,BasinData!$A:$K,7,FALSE)","v":118.43832683264327},149.38517408412673,93.355199816388208,5,259.82259821515623,243.8207928119287,211.81718200547363,163.81176579579099]
[12019,{"$f":"VLOOKUP($A101,BasinData!$A:$K,8,FALSE)","v":279.10355649080526},{"$f":"VLOOKUP($A101,BasinData!$A:$K,9,FALSE)","v":112.34594250148946},166.75761398931581,{"$f":"VLOOKUP($A101,BasinData!$A:$K,7,FALSE)","v":142.97557246634099},136.12798402446427,81.632245009925612,5,270.76567579133945,254.08991439240788,220.73839159454474,170.71110739774997]
[12020,{"$f":"VLOOKUP($A102,BasinData!$A:$K,8,FALSE)","v":217.1692059461781},{"$f":"VLOOKUP($A102,BasinData!$A:$K,9,FALSE)","v":87.41586610748621},129.75333983869189,{"$f":"VLOOKUP($A102,BasinData!$A:$K,7,FALSE)","v":79.893558739198298},137.27564720697978,105.79739016940879,5,210.68153895424351,197.7062049703743,171.75553700263595,132.82953505102836]
[12021,{"$f":"VLOOKUP($A103,BasinData!$A:$K,8,FALSE)","v":250.9827527322384},{"$f":"VLOOKUP($A103,BasinData!$A:$K,9,FALSE)","v":101.02663778937018},149.95611494286823,{"$f":"VLOOKUP($A103,BasinData!$A:$K,7,FALSE)","v":84.756730662748652},166.22602206948974,110.84977903890095,5,243.48494698509498,228.48933549080817,198.49811250223451,153.51127801937406]
[12022,{"$f":"VLOOKUP($A104,BasinData!$A:$K,8,FALSE)","v":134.22978762352821},{"$f":"VLOOKUP($A104,BasinData!$A:$K,9,FALSE)","v":54.030741105360441},80.199046518167762,{"$f":"VLOOKUP($A104,BasinData!$A:$K,7,FALSE)","v":90.753438966040633},43.476348657487577,54.210555542750413,4,130.21983529761982,122.19993064580305,106.1601213421695,82.100407386719155]
[12023,{"$f":"VLOOKUP($A105,BasinData!$A:$K,8,FALSE)","v":120.35789982344465},{"$f":"VLOOKUP($A105,BasinData!$A:$K,9,FALSE)","v":48.446970232750147},71.910929590694508,{"$f":"VLOOKUP($A105,BasinData!$A:$K,7,FALSE)","v":52.691051344333339},67.666848479111309,94.098141776584129,5,116.76235334390992,109.57126038484049,95.189074466701584,73.615795589493217]
[12024,{"$f":"VLOOKUP($A106,BasinData!$A:$K,8,FALSE)","v":152.12886234816497},{"$f":"VLOOKUP($A106,BasinData!$A:$K,9,FALSE)","v":61.235552269814917},90.893310078350055,{"$f":"VLOOKUP($A106,BasinData!$A:$K,7,FALSE)","v":60.483629001449366},91.6452333467156,100.82725919841337,5,147.58419684424746,138.49486583641246,120.31620382074246,93.048210797237431]
[12025,{"$f":"VLOOKUP($A107,BasinData!$A:$K,8,FALSE)","v":183.51540389307374},{"$f":"VLOOKUP($A107,BasinData!$A:$K,9,FALSE)","v":73.869395550278796},109.64600834279494,{"$f":"VLOOKUP($A107,BasinData!$A:$K,7,FALSE)","v":70.248828667533658},113.26657522554008,103.30205078822922,5,178.03310347593398,167.0685026416545,145.13930097309552,112.24549847025702]
[12026,{"$f":"VLOOKUP($A108,BasinData!$A:$K,8,FALSE)","v":199.92603225755244},{"$f":"VLOOKUP($A108,BasinData!$A:$K,9,FALSE)","v":80.475070998594958},119.45096125895748,{"$f":"VLOOKUP($A108,BasinData!$A:$K,7,FALSE)","v":63.721985600787718},136.20404665676472,114.02507373840906,5,193.95348419460456,182.00838806870883,158.11819581691731,122.28290743923007]
[12027,{"$f":"VLOOKUP($A109,BasinData!$A:$K,8,FALSE)","v":144.71361334406606},{"$f":"VLOOKUP($A109,BasinData!$A:$K,9,FALSE)","v":58.250734918423809},86.462878425642259,{"$f":"VLOOKUP($A109,BasinData!$A:$K,7,FALSE)","v":94.344615907688123},50.368997436377938,58.255055063538144,4,140.39046942278395,131.74418158021973,114.45160589509128,88.512742367398602]
[12028,{"$f":"VLOOKUP($A110,BasinData!$A:$K,8,FALSE)","v":179.22280846137141},{"$f":"VLOOKUP($A110,BasinData!$A:$K,9,FALSE)","v":72.141521905042481},107.08128655632893,{"$f":"VLOOKUP($A110,BasinData!$A:$K,7,FALSE)","v":81.03675722186712},98.186051239504295,91.693006684090037,5,173.86874413355497,163.16061547792208,141.7443581666563,109.61997219975761]
[12029,{"$f":"VLOOKUP($A111,BasinData!$A:$K,8,FALSE)","v":185.90655106491607},{"$f":"VLOOKUP($A111,BasinData!$A:$K,9,FALSE)","v":74.831890210174848},111.07466085474123,{"$f":"VLOOKUP($A111,BasinData!$A:$K,7,FALSE)","v":54.284205729757559},131.62234533515851,118.49898466697881,5,180.35281802217901,169.24535193670488,147.03041976575665,113.70802150933427]
[12030,{"$f":"VLOOKUP($A112,BasinData!$A:$K,8,FALSE)","v":191.76098088741279},{"$f":"VLOOKUP($A112,BasinData!$A:$K,9,FALSE)","v":77.188440031634727},114.57254085577806,{"$f":"VLOOKUP($A112,BasinData!$A:$K,7,FALSE)","v":71.036860754560848},120.72412013285194,105.36915672038502,5,186.03235384462388,174.57509975904608,151.66059158789045,117.28882933115705]
[12031,{"$f":"VLOOKUP($A113,BasinData!$A:$K,8,FALSE)","v":168.93602791349886},{"$f":"VLOOKUP($A113,BasinData!$A:$K,9,FALSE)","v":68.00084354720579},100.93518436629307,{"$f":"VLOOKUP($A113,BasinData!$A:$K,7,FALSE)","v":105.22708417446167},63.708943739037196,63.118667825322326,4,163.8892686951842,153.7957502585549,133.60871338529628,103.32815807540837]
[12032,{"$f":"VLOOKUP($A114,BasinData!$A:$K,8,FALSE)","v":153.5094012951995},{"$f":"VLOOKUP($A114,BasinData!$A:$K,9,FALSE)","v":61.791252638218204},91.718148656981299,{"$f":"VLOOKUP($A114,BasinData!$A:$K,7,FALSE)","v":65.326873561092057},88.182527734107438,96.145123975303065,5,148.92349386235043,139.75167899665229,121.40804926525604,93.892604668161653]
[12033,{"$f":"VLOOKUP($A115,BasinData!$A:$K,8,FALSE)","v":213.87197238713625},{"$f":"VLOOKUP($A115,BasinData!$A:$K,9,FALSE)","v":86.088649727675232},127.78332265946102,{"$f":"VLOOKUP($A115,BasinData!$A:$K,7,FALSE)","v":104.79992031791355},109.07205206922271,85.357032356950583,5,207.48280625416319,194.7044739882171,169.14780945632489,130.81281265848659]
[12034,{"$f":"VLOOKUP($A116,BasinData!$A:$K,8,FALSE)","v":219.3244208220249},{"$f":"VLOOKUP($A116,BasinData!$A:$K,9,FALSE)","v":88.283392303012192},131.04102851901271,{"$f":"VLOOKUP($A116,BasinData!$A:$K,7,FALSE)","v":108.21002284381272},111.11439797821218,84.793594215486962,5,212.77236939607428,199.66826654417301,173.46006084037046,134.14775228466664]
[12035,{"$f":"VLOOKUP($A117,BasinData!$A:$K,8,FALSE)","v":216.3491353101829},{"$f":"VLOOKUP($A117,BasinData!$A:$K,9,FALSE)","v":87.085767811079478},129.26336749910342,{"$f":"VLOOKUP($A117,BasinData!$A:$K,7,FALSE)","v":78.17866477242957},138.17047053775332,106.8906630014197,5,209.88596693522774,196.95963018531739,171.1069566854967,132.32794643576568]
[12036,{"$f":"VLOOKUP($A118,BasinData!$A:$K,8,FALSE)","v":206.70541280041363},{"$f":"VLOOKUP($A118,BasinData!$A:$K,9,FALSE)","v":83.203935891038896},123.50147690937473,{"$f":"VLOOKUP($A118,BasinData!$A:$K,7,FALSE)","v":122.46070638443823},84.244706415975401,68.213521428406949,5,200.53033895494488,188.18019126400742,163.47989588213247,126.42945280932005]
[12037,{"$f":"VLOOKUP($A119,BasinData!$A:$K,8,FALSE)","v":237.5377964734038},{"$f":"VLOOKUP($A119,BasinData!$A:$K,9,FALSE)","v":95.614717204116602},141.9230792692872,{"$f":"VLOOKUP($A119,BasinData!$A:$K,7,FALSE)","v":108.20300461615591},129.33479185724789,91.130204138148613,5,230.44164250993944,216.24933458301072,187.86471872915328,145.28779494836712]
[12038,{"$f":"VLOOKUP($A120,BasinData!$A:$K,8,FALSE)","v":209.0476036559869},{"$f":"VLOOKUP($A120,BasinData!$A:$K,9,FALSE)","v":84.14672444771719},124.90087920826971,{"$f":"VLOOKUP($A120,BasinData!$A:$K,7,FALSE)","v":139.80473446161889},69.242869194368012,55.438256026130063,4,202.80255969557342,190.31247177474646,165.3322959330925,127.86203217061158]
[12039,{"$f":"VLOOKUP($A121,BasinData!$A:$K,8,FALSE)","v":134.84042875705239},{"$f":"VLOOKUP($A121,BasinData!$A:$K,9,FALSE)","v":54.276538953795281},80.563889803257112,{"$f":"VLOOKUP($A121,BasinData!$A:$K,7,FALSE)","v":83.028908031928324},51.811520725124069,64.311096263663018,4,130.81223426688953,122.75584528656383,106.6430673259124,82.473900384935263]
[12040,{"$f":"VLOOKUP($A122,BasinData!$A:$K,8,FALSE)","v":70.317763806387688},{"$f":"VLOOKUP($A122,BasinData!$A:$K,9,FALSE)","v":28.304603311946693},42.013160494440996,{"$f":"VLOOKUP($A122,BasinData!$A:$K,7,FALSE)","v":47.033533984429653},23.284229821958036,55.421276447504844,4,68.217105781665637,64.015789732221535,55.613157633333344,43.009209485001037]
[12041,{"$f":"VLOOKUP($A123,BasinData!$A:$K,8,FALSE)","v":189.20981888896566},{"$f":"VLOOKUP($A123,BasinData!$A:$K,9,FALSE)","v":76.161535527825677},113.04828336113998,{"$f":"VLOOKUP($A123,BasinData!$A:$K,7,FALSE)","v":83.990305514845033},105.21951337412062,93.074843992093321,5,183.55740472090866,172.25257638479465,149.64291971256665,115.72843470422467]
[12042,{"$f":"VLOOKUP($A124,BasinData!$A:$K,8,FALSE)","v":198.33104325844539},{"$f":"VLOOKUP($A124,BasinData!$A:$K,9,FALSE)","v":79.833049289387205},118.49799396905819,{"$f":"VLOOKUP($A124,BasinData!$A:$K,7,FALSE)","v":58.600805561951923},139.73023769649348,117.91780857740038,5,192.40614355999247,180.55634416308666,156.85674536927502,121.30734717855756]
[12043,{"$f":"VLOOKUP($A125,BasinData!$A:$K,8,FALSE)","v":193.61247843712442},{"$f":"VLOOKUP($A125,BasinData!$A:$K,9,FALSE)","v":77.933712646132577},115.67876579099185,{"$f":"VLOOKUP($A125,BasinData!$A:$K,7,FALSE)","v":86.137637289953318},107.47484114717111,92.908011606344786,5,187.82854014757484,176.26066356847565,153.12491041027727,118.42128067297972]
[12044,{"$f":"VLOOKUP($A126,BasinData!$A:$K,8,FALSE)","v":244.77617245153047},{"$f":"VLOOKUP($A126,BasinData!$A:$K,9,FALSE)","v":98.528338877975756},146.24783357355471,{"$f":"VLOOKUP($A126,BasinData!$A:$K,7,FALSE)","v":131.3694666366697},113.40670581486077,77.544195386541134,5,237.46378077285274,222.83899741549726,193.58943070078632,149.7150806287199]
[12045,{"$f":"VLOOKUP($A127,BasinData!$A:$K,8,FALSE)","v":142.60137176578451},{"$f":"VLOOKUP($A127,BasinData!$A:$K,9,FALSE)","v":57.400506516154444},85.200865249630056,{"$f":"VLOOKUP($A127,BasinData!$A:$K,7,FALSE)","v":65.383976053597294},77.217395712187212,90.629825748773712,5,138.341328503303,129.82124197834,112.78106892841399,87.22080935352497]
[12046,{"$f":"VLOOKUP($A128,BasinData!$A:$K,8,FALSE)","v":186.65664328851469},{"$f":"VLOOKUP($A128,BasinData!$A:$K,9,FALSE)","v":75.133820500432549},111.52282278808214,{"$f":"VLOOKUP($A128,BasinData!$A:$K,7,FALSE)","v":104.78481171123683},81.87183157727786,73.41262490535442,5,181.08050214911057,169.92821987030237,147.62365531268594,114.16680847626129]
[12047,{"$f":"VLOOKUP($A129,BasinData!$A:$K,8,FALSE)","v":127.12748768237812},{"$f":"VLOOKUP($A129,BasinData!$A:$K,9,FALSE)","v":51.171893332694857},75.955594349683253,{"$f":"VLOOKUP($A129,BasinData!$A:$K,7,FALSE)","v":69.541487194604656},57.586000487773461,75.815351036106534,5,123.32970796489396,115.73414852992563,100.54302965998897,77.756351355084007]
[12048,{"$f":"VLOOKUP($A130,BasinData!$A:$K,8,FALSE)","v":144.34247926399053},{"$f":"VLOOKUP($A130,BasinData!$A:$K,9,FALSE)","v":58.101344460828969},86.241134803161557,{"$f":"VLOOKUP($A130,BasinData!$A:$K,7,FALSE)","v":86.277663713211354},58.064815550779173,67.328445623202242,5,140.03042252383244,131.4063090435163,114.15808208288398,88.285741641935516]
[12049,{"$f":"VLOOKUP($A131,BasinData!$A:$K,8,FALSE)","v":194.69657526839404},{"$f":"VLOOKUP($A131,BasinData!$A:$K,9,FALSE)","v":78.370087881916703},{"$f":"B131-C131","v":116.32648738647734},{"$f":"VLOOKUP($A131,BasinData!$A:$K,7,FALSE)","v":86.12071663692403},{"$f":"B131-E131","v":108.57585863147001},{"$f":"F131/D131*100","v":93.33717631371691},{"$f":"IF($G131<($I$1*100),1,IF($G131<($J$1*100),2,IF($G131<($K$1*100),3,IF($G131<($L$1*100),4,5))))","v":5},{"$f":"B131-(D131*$I$1)","v":188.88025089907018},{"$f":"B131-(D131*$J$1)","v":177.24760216042245},{"$f":"B131-(D131*$K$1)","v":153.98230468312698},{"$f":"B131-(D131*$L$1)","v":119.08435846718378}]
[12050,{"$f":"VLOOKUP($A132,BasinData!$A:$K,8,FALSE)","v":161.26109564997151},{"$f":"VLOOKUP($A132,BasinData!$A:$K,9,FALSE)","v":64.911497393318712},96.349598256652797,{"$f":"VLOOKUP($A132,BasinData!$A:$K,7,FALSE)","v":48.876022504158549},112.38507314581295,116.64301167758417,5,156.44361573713886,146.80865591147358,127.53873626014303,98.633856783147195]
[12051,{"$f":"VLOOKUP($A133,BasinData!$A:$K,8,FALSE)","v":147.7482732337219},{"$f":"VLOOKUP($A133,BasinData!$A:$K,9,FALSE)","v":59.47225903571352},88.276014198008383,{"$f":"VLOOKUP($A133,BasinData!$A:$K,7,FALSE)","v":81.858701634478848},65.889571599243055,74.640401696715486,5,143.33447252382149,134.50687110402066,116.85166826441898,90.368864005016462]
[12052,{"$f":"VLOOKUP($A134,BasinData!$A:$K,8,FALSE)","v":287.27871418730444},{"$f":"VLOOKUP($A134,BasinData!$A:$K,9,FALSE)","v":115.63664150962539},171.64207267767904,{"$f":"VLOOKUP($A134,BasinData!$A:$K,7,FALSE)","v":170.41019978152323},116.86851440578121,68.08850101993626,5,278.6966105534205,261.53240328565261,227.20398875011679,175.71136694681309]
[12053,{"$f":"VLOOKUP($A135,BasinData!$A:$K,8,FALSE)","v":157.22295544089536},{"$f":"VLOOKUP($A135,BasinData!$A:$K,9,FALSE)","v":63.286048139121327},93.936907301774028,{"$f":"VLOOKUP($A135,BasinData!$A:$K,7,FALSE)","v":76.048421848489753},81.174533592405609,86.413887708300791,5,152.52611007580666,143.13241934562924,124.34503788527445,96.163965694742245]
[12054,{"$f":"VLOOKUP($A136,BasinData!$A:$K,8,FALSE)","v":129.88853023252832},{"$f":"VLOOKUP($A136,BasinData!$A:$K,9,FALSE)","v":52.283279842717917},77.605250389810408,{"$f":"VLOOKUP($A136,BasinData!$A:$K,7,FALSE)","v":95.56785073285937},34.320679499668955,44.224687540181264,4,126.00826771303781,118.24774267405677,102.72669259609468,79.445117479151548]
[12055,{"$f":"VLOOKUP($A137,BasinData!$A:$K,8,FALSE)","v":130.1540044023443},{"$f":"VLOOKUP($A137,BasinData!$A:$K,9,FALSE)","v":52.390139626924075},77.763864775420217,{"$f":"VLOOKUP($A137,BasinData!$A:$K,7,FALSE)","v":84.007632057710225},46.146372344634074,59.341665281044683,4,126.26581116357329,118.48942468603127,102.93665173094723,79.607492298321148]
[12056,{"$f":"VLOOKUP($A138,BasinData!$A:$K,8,FALSE)","v":137.99406311456238},{"$f":"VLOOKUP($A138,BasinData!$A:$K,9,FALSE)","v":55.545953176437799},82.448109938124588,{"$f":"VLOOKUP($A138,BasinData!$A:$K,7,FALSE)","v":101.69615348319569},36.297909631366693,44.025156742352785,4,133.87165761765615,125.62684662384369,109.13722463621878,84.402791654781396]
[12057,{"$f":"VLOOKUP($A139,BasinData!$A:$K,8,FALSE)","v":202.71799985741271},{"$f":"VLOOKUP($A139,BasinData!$A:$K,9,FALSE)","v":81.598905590255768},121.11909426715694,{"$f":"VLOOKUP($A139,BasinData!$A:$K,7,FALSE)","v":94.245803491207667},108.47219636620504,89.558295512798196,5,196.66204514405487,184.55013571733917,160.32631686390778,123.9905885837607]
[12058,{"$f":"VLOOKUP($A140,BasinData!$A:$K,8,FALSE)","v":155.47833839057301},{"$f":"VLOOKUP($A140,BasinData!$A:$K,9,FALSE)","v":62.583797514704472},92.894540875868543,{"$f":"VLOOKUP($A140,BasinData!$A:$K,7,FALSE)","v":70.809083466195759},84.669254924377256,91.145565849254339,5,150.83361134677958,141.54415725919273,122.96524908401904,95.096886821258465]
[12059,{"$f":"VLOOKUP($A141,BasinData!$A:$K,8,FALSE)","v":185.12749868196101},{"$f":"VLOOKUP($A141,BasinData!$A:$K,9,FALSE)","v":74.518302754244317},110.6091959277167,{"$f":"VLOOKUP($A141,BasinData!$A:$K,7,FALSE)","v":88.41631850337707},96.711180178583945,87.43502686863836,5,179.59703888557519,168.53611929280351,146.41428010726017,113.23152132894516]
[12060,{"$f":"VLOOKUP($A142,BasinData!$A:$K,8,FALSE)","v":197.85746273352169},{"$f":"VLOOKUP($A142,BasinData!$A:$K,9,FALSE)","v":79.642421656074859},118.21504107744683,{"$f":"VLOOKUP($A142,BasinData!$A:$K,7,FALSE)","v":85.825377770574519},112.03208496294717,94.769738217619036,5,191.94671067964936,180.12520657190467,156.4821983564153,121.01768603318125]
[12061,{"$f":"VLOOKUP($A143,BasinData!$A:$K,8,FALSE)","v":153.15734872240364},{"$f":"VLOOKUP($A143,BasinData!$A:$K,9,FALSE)","v":61.649542949534506},91.507805772869133,{"$f":"VLOOKUP($A143,BasinData!$A:$K,7,FALSE)","v":47.850445936158906},105.30690278624473,115.07969390898329,5,148.58195843376018,139.43117785647328,121.12961670189944,93.677274970038695]
[12062,{"$f":"VLOOKUP($A144,BasinData!$A:$K,8,FALSE)","v":199.84517685254175},{"$f":"VLOOKUP($A144,BasinData!$A:$K,9,FALSE)","v":80.442524739434106},119.40265211310765,{"$f":"VLOOKUP($A144,BasinData!$A:$K,7,FALSE)","v":95.256952342803203},104.58822450973855,87.592882284276484,5,193.87504424688638,181.93477903557562,158.0542486129541,122.23345297902178]
[12063,{"$f":"VLOOKUP($A145,BasinData!$A:$K,8,FALSE)","v":195.56865718318008},{"$f":"VLOOKUP($A145,BasinData!$A:$K,9,FALSE)","v":78.721121977959712},116.84753520522037,{"$f":"VLOOKUP($A145,BasinData!$A:$K,7,FALSE)","v":72.332513424722833},123.23614375845725,105.4674739540004,5,189.72628042291905,178.04152690239704,154.67201986135296,119.61775929978684]
[12064,{"$f":"VLOOKUP($A146,BasinData!$A:$K,8,FALSE)","v":262.43649105229593},{"$f":"VLOOKUP($A146,BasinData!$A:$K,9,FALSE)","v":105.63704491893566},156.79944613336028,{"$f":"VLOOKUP($A146,BasinData!$A:$K,7,FALSE)","v":138.09614492547868},124.34034612681725,79.298970240662669,5,254.59651874562792,238.91657413229188,207.55668490561985,160.51685106561175]
[12065,{"$f":"VLOOKUP($A147,BasinData!$A:$K,8,FALSE)","v":146.27526147163783},{"$f":"VLOOKUP($A147,BasinData!$A:$K,9,FALSE)","v":58.879336119188224},87.395925352449609,{"$f":"VLOOKUP($A147,BasinData!$A:$K,7,FALSE)","v":76.811378160387051},69.463883311250783,79.481832855613547,5,141.90546520401534,133.16587266877039,115.68668759828047,89.467909992545586]
[12066,{"$f":"VLOOKUP($A148,BasinData!$A:$K,8,FALSE)","v":140.67076116894668},{"$f":"VLOOKUP($A148,BasinData!$A:$K,9,FALSE)","v":56.623388983751191},84.047372185195485,{"$f":"VLOOKUP($A148,BasinData!$A:$K,7,FALSE)","v":76.039186076669424},64.631575092277259,76.898983765802711,5,136.46839255968692,128.06365534116736,111.25418090412826,86.039969248569619]
[12067,{"$f":"VLOOKUP($A149,BasinData!$A:$K,8,FALSE)","v":131.2150659077634},{"$f":"VLOOKUP($A149,BasinData!$A:$K,9,FALSE)","v":52.817242586044863},78.397823321718533,{"$f":"VLOOKUP($A149,BasinData!$A:$K,7,FALSE)","v":86.601598785996785},44.613467121766618,56.906512491664238,4,127.29517474167747,119.45539240950562,103.77582774516192,80.256480748646354]
[12068,{"$f":"VLOOKUP($A150,BasinData!$A:$K,8,FALSE)","v":169.28920093954488},{"$f":"VLOOKUP($A150,BasinData!$A:$K,9,FALSE)","v":68.143004245464581},101.1461966940803,{"$f":"VLOOKUP($A150,BasinData!$A:$K,7,FALSE)","v":81.343831987418369},87.945368952126515,86.948765081221907,5,164.23189110484086,154.11727143543283,133.88803209661677,103.54417308839268]
[12069,{"$f":"VLOOKUP($A151,BasinData!$A:$K,8,FALSE)","v":217.40449650583886},{"$f":"VLOOKUP($A151,BasinData!$A:$K,9,FALSE)","v":87.510576257436099},129.89392024840276,{"$f":"VLOOKUP($A151,BasinData!$A:$K,7,FALSE)","v":96.781391304585938},120.62310520125293,92.862779851881612,5,210.90980049341871,197.92040846857844,171.9416244188979,132.97344834437706]
[12070,{"$f":"VLOOKUP($A152,BasinData!$A:$K,8,FALSE)","v":239.45540458561541},{"$f":"VLOOKUP($A152,BasinData!$A:$K,9,FALSE)","v":96.386600921485183},143.06880366413023,{"$f":"VLOOKUP($A152,BasinData!$A:$K,7,FALSE)","v":170.10633472217901},69.349069863436398,48.472530759564449,4,232.30196440240891,217.99508403599589,189.38132330316984,146.46068220393076]
[12071,{"$f":"VLOOKUP($A153,BasinData!$A:$K,8,FALSE)","v":231.84063655941003},{"$f":"VLOOKUP($A153,BasinData!$A:$K,9,FALSE)","v":93.321472330540729},138.5191642288693,{"$f":"VLOOKUP($A153,BasinData!$A:$K,7,FALSE)","v":168.63546145052948},63.205175108880553,45.629191787823196,4,224.91467834796657,211.06276192507963,183.35892907930577,141.80317981064496]
[12072,{"$f":"VLOOKUP($A154,BasinData!$A:$K,8,FALSE)","v":190.73218027149727},{"$f":"VLOOKUP($A154,BasinData!$A:$K,9,FALSE)","v":76.774322862028001},113.95785740946927,{"$f":"VLOOKUP($A154,BasinData!$A:$K,7,FALSE)","v":130.256878123794},60.475302147703275,53.068128448927922,4,185.03428740102382,173.63850166007688,150.84693017818302,116.65957295534224]
[12073,{"$f":"VLOOKUP($A155,BasinData!$A:$K,8,FALSE)","v":243.00912165712015},{"$f":"VLOOKUP($A155,BasinData!$A:$K,9,FALSE)","v":97.817058128127712},145.19206352899243,{"$f":"VLOOKUP($A155,BasinData!$A:$K,7,FALSE)","v":176.06877689197873},66.940344765141418,46.104685847222321,4,235.74951848067053,221.23031212777127,192.19189942197281,148.63428036327508]
[12074,{"$f":"VLOOKUP($A156,BasinData!$A:$K,8,FALSE)","v":197.26149484850748},{"$f":"VLOOKUP($A156,BasinData!$A:$K,9,FALSE)","v":79.402530145610541},117.85896470289694,{"$f":"VLOOKUP($A156,BasinData!$A:$K,7,FALSE)","v":136.52399723955608},60.737497608951401,51.534049838347585,4,191.36854661336264,179.58265014307295,156.01085720249355,120.65316779162447]
[12075,{"$f":"VLOOKUP($A157,BasinData!$A:$K,8,FALSE)","v":222.82379764922385},{"$f":"VLOOKUP($A157,BasinData!$A:$K,9,FALSE)","v":89.691976244981731},133.13182140424212,{"$f":"VLOOKUP($A157,BasinData!$A:$K,7,FALSE)","v":100.79563977314474},122.02815787607911,91.659647249587465,5,216.16720657901175,202.85402443858754,176.22766015773911,136.28811373646647]
[12076,{"$f":"VLOOKUP($A158,BasinData!$A:$K,8,FALSE)","v":210.21582764500073},{"$f":"VLOOKUP($A158,BasinData!$A:$K,9,FALSE)","v":84.616962902392473},125.59886474260826,{"$f":"VLOOKUP($A158,BasinData!$A:$K,7,FALSE)","v":140.84315201988741},69.372675625113317,55.23352123228171,4,203.9358844078703,191.37599793360948,166.25622498508784,128.57656556230535]
[12077,{"$f":"VLOOKUP($A159,BasinData!$A:$K,8,FALSE)","v":205.78275400059621},{"$f":"VLOOKUP($A159,BasinData!$A:$K,9,FALSE)","v":82.832543373594589},122.95021062700162,{"$f":"VLOOKUP($A159,BasinData!$A:$K,7,FALSE)","v":74.987415556696391},130.79533844389982,106.38073556514533,5,199.63524346924612,187.34022240654596,162.75018028114565,125.86511709304516]
[12078,{"$f":"VLOOKUP($A160,BasinData!$A:$K,8,FALSE)","v":101.82394954491869},{"$f":"VLOOKUP($A160,BasinData!$A:$K,9,FALSE)","v":40.986606278608512},60.837343266310178,{"$f":"VLOOKUP($A160,BasinData!$A:$K,7,FALSE)","v":52.042746199222478},49.781203345696213,81.826721340843775,5,98.782082381603175,92.698348054972172,80.530879401710138,62.279676421817072]
[12079,{"$f":"VLOOKUP($A161,BasinData!$A:$K,8,FALSE)","v":67.407961124173667},{"$f":"VLOOKUP($A161,BasinData!$A:$K,9,FALSE)","v":27.133337245197502},40.274623878976165,{"$f":"VLOOKUP($A161,BasinData!$A:$K,7,FALSE)","v":20.129526660673232},47.278434463500432,117.39013281805057,5,65.394229930224853,61.366767542327246,53.31184276653201,41.22945560283916]
[12080,{"$f":"VLOOKUP($A162,BasinData!$A:$K,8,FALSE)","v":131.34622686268006},{"$f":"VLOOKUP($A162,BasinData!$A:$K,9,FALSE)","v":52.870038047646197},78.476188815033851,{"$f":"VLOOKUP($A162,BasinData!$A:$K,7,FALSE)","v":95.445327453539193},35.900899409140862,45.747506283413259,4,127.42241742192836,119.57479854042498,103.87956077741821,80.336704132908054]
[12081,{"$f":"VLOOKUP($A163,BasinData!$A:$K,8,FALSE)","v":220.83028858405814},{"$f":"VLOOKUP($A163,BasinData!$A:$K,9,FALSE)","v":88.889540555421888},131.94074802863625,{"$f":"VLOOKUP($A163,BasinData!$A:$K,7,FALSE)","v":107.9703659141108},112.85992266994734,85.538337743433416,5,214.23325118262633,201.03917637976269,174.65102677403544,135.06880236544458]
[12082,{"$f":"VLOOKUP($A164,BasinData!$A:$K,8,FALSE)","v":222.69026547657583},{"$f":"VLOOKUP($A164,BasinData!$A:$K,9,FALSE)","v":89.638226310803077},133.05203916577275,{"$f":"VLOOKUP($A164,BasinData!$A:$K,7,FALSE)","v":50.941301813419081},171.74896366315676,129.08405217989224,5,216.03766351828719,202.73245960170993,176.12205176855537,136.20644001882354]
[12083,{"$f":"VLOOKUP($A165,BasinData!$A:$K,8,FALSE)","v":239.92678942746713},{"$f":"VLOOKUP($A165,BasinData!$A:$K,9,FALSE)","v":96.576344739172768},143.35044468829437,{"$f":"VLOOKUP($A165,BasinData!$A:$K,7,FALSE)","v":192.28627071589119},47.640518711575936,33.233603715124119,3,232.75926719305241,218.42422272422297,189.7541337865641,146.74900038007578]
[12084,{"$f":"VLOOKUP($A166,BasinData!$A:$K,8,FALSE)","v":248.08945085866492},{"$f":"VLOOKUP($A166,BasinData!$A:$K,9,FALSE)","v":99.862013697814945},148.22743716084997,{"$f":"VLOOKUP($A166,BasinData!$A:$K,7,FALSE)","v":180.19239129143571},67.897059567229206,45.805999798505766,4,240.67807900062243,225.85533528453743,196.20984785236743,151.74161670411243]
[12085,{"$f":"VLOOKUP($A167,BasinData!$A:$K,8,FALSE)","v":251.45221670197807},{"$f":"VLOOKUP($A167,BasinData!$A:$K,9,FALSE)","v":101.2156084095014},150.23660829247666,{"$f":"VLOOKUP($A167,BasinData!$A:$K,7,FALSE)","v":145.91388556312182},105.53833113885625,70.248078905906226,5,243.94038628735424,228.91672545810658,198.86940379961123,153.79842131186825]
[12086,{"$f":"VLOOKUP($A168,BasinData!$A:$K,8,FALSE)","v":220.72416168444357},{"$f":"VLOOKUP($A168,BasinData!$A:$K,9,FALSE)","v":88.846821907505444},131.87733977693813,{"$f":"VLOOKUP($A168,BasinData!$A:$K,7,FALSE)","v":105.12152985946942},115.60263182497415,87.659208185809959,5,214.13029469559666,200.94256071790286,174.56709276251524,135.00389082943377]
[12087,{"$f":"VLOOKUP($A169,BasinData!$A:$K,8,FALSE)","v":204.60188329117432},{"$f":"VLOOKUP($A169,BasinData!$A:$K,9,FALSE)","v":82.357214307600486},122.24466898357383,{"$f":"VLOOKUP($A169,BasinData!$A:$K,7,FALSE)","v":136.11988692104441},68.481996370129906,56.020435851752296,4,198.48964984199563,186.26518294363825,161.8162491469235,125.14284845185132]
[12088,{"$f":"VLOOKUP($A170,BasinData!$A:$K,8,FALSE)","v":219.89715277778774},{"$f":"VLOOKUP($A170,BasinData!$A:$K,9,FALSE)","v":88.513930789084895},131.38322198870284,{"$f":"VLOOKUP($A170,BasinData!$A:$K,7,FALSE)","v":105.73938607648344},114.1577667013043,86.889151425377818,5,213.32799167835259,200.18966947948232,173.91302508174175,134.49805848513088]
[12089,{"$f":"VLOOKUP($A171,BasinData!$A:$K,8,FALSE)","v":196.7969912656811},{"$f":"VLOOKUP($A171,BasinData!$A:$K,9,FALSE)","v":79.215556201372522},117.58143506430858,{"$f":"VLOOKUP($A171,BasinData!$A:$K,7,FALSE)","v":52.952694393263748},143.84429687241735,122.33589154082433,5,190.91791951246566,179.1597760060348,155.64348899317309,120.36905847388053]
[12090,{"$f":"VLOOKUP($A172,BasinData!$A:$K,8,FALSE)","v":219.73959788613351},{"$f":"VLOOKUP($A172,BasinData!$A:$K,9,FALSE)","v":88.450511128579066},131.28908675755446,{"$f":"VLOOKUP($A172,BasinData!$A:$K,7,FALSE)","v":81.411587937885741},138.32800994824777,105.36139245426529,5,213.17514354825579,200.04623487250035,173.78841752098947,134.40169149372309]
[12091,{"$f":"VLOOKUP($A173,BasinData!$A:$K,8,FALSE)","v":162.54953774820046},{"$f":"VLOOKUP($A173,BasinData!$A:$K,9,FALSE)","v":65.430126549120601},97.119411199079863,{"$f":"VLOOKUP($A173,BasinData!$A:$K,7,FALSE)","v":110.84074029353556},51.708797454664904,53.242494797121267,4,157.69356718824648,147.98162606833847,128.55774382852252,99.421920468798561]
[12092,{"$f":"VLOOKUP($A174,BasinData!$A:$K,8,FALSE)","v":222.23252387529573},{"$f":"VLOOKUP($A174,BasinData!$A:$K,9,FALSE)","v":89.453974227939881},132.77854964735585,{"$f":"VLOOKUP($A174,BasinData!$A:$K,7,FALSE)","v":79.423312185820123},142.8092116894756,107.55442958878525,5,215.59359639292794,202.31574142819235,175.76003149872119,135.92646660451442]
[12093,{"$f":"VLOOKUP($A175,BasinData!$A:$K,8,FALSE)","v":195.3941745356461},{"$f":"VLOOKUP($A175,BasinData!$A:$K,9,FALSE)","v":78.650888485653766},116.74328604999234,{"$f":"VLOOKUP($A175,BasinData!$A:$K,7,FALSE)","v":129.8765390255202},65.517635510125899,56.121116448674954,4,189.55701023314649,177.88268162814725,154.53402441814879,119.51103860315108]
[13001,{"$f":"VLOOKUP($A176,BasinData!$A:$K,8,FALSE)","v":213.59916346490257},{"$f":"VLOOKUP($A176,BasinData!$A:$K,9,FALSE)","v":85.978837527943668},127.62032593695891,{"$f":"VLOOKUP($A176,BasinData!$A:$K,7,FALSE)","v":108.62166884174377},104.9774946231588,82.257660644915546,5,207.21814716805463,194.45611457435874,168.93204938696695,130.64595160587928]
[13002,{"$f":"VLOOKUP($A177,BasinData!$A:$K,8,FALSE)","v":137.13089746633145},{"$f":"VLOOKUP($A177,BasinData!$A:$K,9,FALSE)","v":55.198508093671151},81.932389372660296,{"$f":"VLOOKUP($A177,BasinData!$A:$K,7,FALSE)","v":102.14758242399618},34.983315042335263,42.697784490596966,4,133.03427799769844,124.84103906043241,108.45456118590035,83.874844374102253]
[13003,{"$f":"VLOOKUP($A178,BasinData!$A:$K,8,FALSE)","v":187.65116911521292},{"$f":"VLOOKUP($A178,BasinData!$A:$K,9,FALSE)","v":75.534141237105672},112.11702787810725,{"$f":"VLOOKUP($A178,BasinData!$A:$K,7,FALSE)","v":44.488289009674361},143.16288010553856,127.69057726109554,5,182.04531772130755,170.83361493349685,148.41020935787537,114.77510099444321]
[13003,{"$f":"VLOOKUP($A179,BasinData!$A:$K,8,FALSE)","v":187.65116911521292},{"$f":"VLOOKUP($A179,BasinData!$A:$K,9,FALSE)","v":75.534141237105672},112.11702787810725,{"$f":"VLOOKUP($A179,BasinData!$A:$K,7,FALSE)","v":44.488289009674361},143.16288010553856,127.69057726109554,5,182.04531772130755,170.83361493349685,148.41020935787537,114.77510099444321]
[13005,{"$f":"VLOOKUP($A180,BasinData!$A:$K,8,FALSE)","v":185.90287449640937},{"$f":"VLOOKUP($A180,BasinData!$A:$K,9,FALSE)","v":74.830410302289593},111.07246419411977,{"$f":"VLOOKUP($A180,BasinData!$A:$K,7,FALSE)","v":58.46446279427235},127.43841170213702,114.73447773645744,5,180.34925128670338,169.2420048672914,147.02751202846744,113.7057727702315]
[13006,{"$f":"VLOOKUP($A181,BasinData!$A:$K,8,FALSE)","v":141.11064722818864},{"$f":"VLOOKUP($A181,BasinData!$A:$K,9,FALSE)","v":56.80045377841077},84.31019344977787,{"$f":"VLOOKUP($A181,BasinData!$A:$K,7,FALSE)","v":95.014211219848193},46.096436008340447,54.674807543644533,4,136.89513755569973,128.46411821072195,111.60207952076638,86.309021485833028]
[13007,{"$f":"VLOOKUP($A182,BasinData!$A:$K,8,FALSE)","v":199.16532653197316},{"$f":"VLOOKUP($A182,BasinData!$A:$K,9,FALSE)","v":80.168868516688221},118.99645801528494,{"$f":"VLOOKUP($A182,BasinData!$A:$K,7,FALSE)","v":95.782909237512243},103.38241729446092,86.878566823544929,5,193.21550363120892,181.31585782968043,157.51656622662344,121.81762882203795]
[13009,{"$f":"VLOOKUP($A183,BasinData!$A:$K,8,FALSE)","v":153.77367674341082},{"$f":"VLOOKUP($A183,BasinData!$A:$K,9,FALSE)","v":61.897629907940605},91.87604683547022,{"$f":"VLOOKUP($A183,BasinData!$A:$K,7,FALSE)","v":97.410229567865514},56.363447175545303,61.347270716250812,4,149.17987440163731,139.99226971809028,121.61706035099624,94.054246300355175]
[13010,{"$f":"VLOOKUP($A184,BasinData!$A:$K,8,FALSE)","v":150.03211556302304},{"$f":"VLOOKUP($A184,BasinData!$A:$K,9,FALSE)","v":60.391560897130645},89.640554665892395,{"$f":"VLOOKUP($A184,BasinData!$A:$K,7,FALSE)","v":98.392887390542853},51.639228172480188,57.606993134914809,4,145.55008782972843,136.58603236313917,118.65792142996071,91.765755030192992]
[13012,{"$f":"VLOOKUP($A185,BasinData!$A:$K,8,FALSE)","v":198.7109433524061},{"$f":"VLOOKUP($A185,BasinData!$A:$K,9,FALSE)","v":79.985968279919049},118.72497507248706,{"$f":"VLOOKUP($A185,BasinData!$A:$K,7,FALSE)","v":131.7248006399779},66.986142712428205,56.421273343313047,4,192.77469459878176,180.90219709153305,157.15720207703563,121.53970955528952]
[13013,{"$f":"VLOOKUP($A186,BasinData!$A:$K,8,FALSE)","v":210.71978225318222},{"$f":"VLOOKUP($A186,BasinData!$A:$K,9,FALSE)","v":84.819816839998893},125.89996541318332,{"$f":"VLOOKUP($A186,BasinData!$A:$K,7,FALSE)","v":91.68780544145848},119.03197681172374,94.54488444145322,5,204.42478398252305,191.83478744120472,166.65479435856804,128.88480473461306]
[13014,{"$f":"VLOOKUP($A187,BasinData!$A:$K,8,FALSE)","v":162.13509426960985},{"$f":"VLOOKUP($A187,BasinData!$A:$K,9,FALSE)","v":65.263303009495118},96.871791260114733,{"$f":"VLOOKUP($A187,BasinData!$A:$K,7,FALSE)","v":96.946404831442734},65.188689438167117,67.293779324391849,5,157.29150470660412,147.60432558059264,128.2299673285697,99.16842995053527]
[13014,{"$f":"VLOOKUP($A188,BasinData!$A:$K,8,FALSE)","v":162.13509426960985},{"$f":"VLOOKUP($A188,BasinData!$A:$K,9,FALSE)","v":65.263303009495118},96.871791260114733,{"$f":"VLOOKUP($A188,BasinData!$A:$K,7,FALSE)","v":96.946404831442734},65.188689438167117,67.293779324391849,5,157.29150470660412,147.60432558059264,128.2299673285697,99.16842995053527]
[13015,{"$f":"VLOOKUP($A189,BasinData!$A:$K,8,FALSE)","v":166.76303704544847},{"$f":"VLOOKUP($A189,BasinData!$A:$K,9,FALSE)","v":67.126162084211629},99.636874961236842,{"$f":"VLOOKUP($A189,BasinData!$A:$K,7,FALSE)","v":114.63069901085645},52.132338034592024,52.322333528499179,4,161.78119329738664,151.81750580126294,131.89013080901557,101.99906832064453]
[13016,{"$f":"VLOOKUP($A190,BasinData!$A:$K,8,FALSE)","v":290.84650490168349},{"$f":"VLOOKUP($A190,BasinData!$A:$K,9,FALSE)","v":117.07276369844524},173.77374120323825,{"$f":"VLOOKUP($A190,BasinData!$A:$K,7,FALSE)","v":107.54899611504172},183.29750878664177,105.48055622066911,5,282.15781784152159,264.78044372119774,230.0256954805501,177.8935731195786]
[13019,{"$f":"VLOOKUP($A191,BasinData!$A:$K,8,FALSE)","v":158.70541418791575},{"$f":"VLOOKUP($A191,BasinData!$A:$K,9,FALSE)","v":63.882773695927575},94.822640491988182,{"$f":"VLOOKUP($A191,BasinData!$A:$K,7,FALSE)","v":75.922634075831439},82.782780112084311,87.302757740730556,5,153.96428216331634,144.48201811411752,125.51749001571989,97.070697868123432]
[13020,{"$f":"VLOOKUP($A192,BasinData!$A:$K,8,FALSE)","v":196.72909005130859},{"$f":"VLOOKUP($A192,BasinData!$A:$K,9,FALSE)","v":79.188224317746275},117.54086573356231,{"$f":"VLOOKUP($A192,BasinData!$A:$K,7,FALSE)","v":106.47198143654064},90.257108614767944,76.78785420839057,5,190.85204676463047,179.09796019127424,155.58978704456177,120.32752732449308]
[13021,{"$f":"VLOOKUP($A193,BasinData!$A:$K,8,FALSE)","v":302.73854376425305},{"$f":"VLOOKUP($A193,BasinData!$A:$K,9,FALSE)","v":121.8595974137789},180.87894635047417,{"$f":"VLOOKUP($A193,BasinData!$A:$K,7,FALSE)","v":186.3844158227748},116.35412794147825,64.32707083334536,4,293.69459644672935,275.60670181168194,239.43091254158711,185.16722863644486]
[13022,{"$f":"VLOOKUP($A194,BasinData!$A:$K,8,FALSE)","v":217.32811634405667},{"$f":"VLOOKUP($A194,BasinData!$A:$K,9,FALSE)","v":87.479831392083156},129.84828495197351,{"$f":"VLOOKUP($A194,BasinData!$A:$K,7,FALSE)","v":101.85884775390568},115.46926859015099,88.926294739171311,5,210.83570209645799,197.85087360126064,171.88121661086595,132.92673112527388]
[13023,{"$f":"VLOOKUP($A195,BasinData!$A:$K,8,FALSE)","v":192.01653527787323},{"$f":"VLOOKUP($A195,BasinData!$A:$K,9,FALSE)","v":77.291306864353189},{"$f":"B195-C195","v":114.72522841352004},{"$f":"VLOOKUP($A195,BasinData!$A:$K,7,FALSE)","v":70.792469578513334},{"$f":"B195-E195","v":121.2240656993599},{"$f":"F195/D195*100","v":105.66469762205676},{"$f":"IF($G195<($I$1*100),1,IF($G195<($J$1*100),2,IF($G195<($K$1*100),3,IF($G195<($L$1*100),4,5))))","v":5},{"$f":"B195-(D195*$I$1)","v":186.28027385719722},{"$f":"B195-(D195*$J$1)","v":174.80775101584521},{"$f":"B195-(D195*$K$1)","v":151.86270533314121},{"$f":"B195-(D195*$L$1)","v":117.4451368090852}]
[13024,{"$f":"VLOOKUP($A196,BasinData!$A:$K,8,FALSE)","v":134.19099034662051},{"$f":"VLOOKUP($A196,BasinData!$A:$K,9,FALSE)","v":54.015124261578549},80.17586608504196,{"$f":"VLOOKUP($A196,BasinData!$A:$K,7,FALSE)","v":79.200705731711679},54.99028461490883,68.587079005272017,5,130.18219704236841,122.16461043386421,106.12943721685582,82.076677391343225]
[13025,{"$f":"VLOOKUP($A197,BasinData!$A:$K,8,FALSE)","v":188.90442428410768},{"$f":"VLOOKUP($A197,BasinData!$A:$K,9,FALSE)","v":76.03860680148118},112.8658174826265,{"$f":"VLOOKUP($A197,BasinData!$A:$K,7,FALSE)","v":97.12592086785304},91.778503416254637,81.316474255265248,5,183.26113340997634,171.97455166171369,149.40138816518839,115.54164292040045]
[13029,{"$f":"VLOOKUP($A198,BasinData!$A:$K,8,FALSE)","v":197.32902639146243},{"$f":"VLOOKUP($A198,BasinData!$A:$K,9,FALSE)","v":79.429713227536283},117.89931316392615,{"$f":"VLOOKUP($A198,BasinData!$A:$K,7,FALSE)","v":125.44768686316856},71.881339528293879,60.968412452370025,4,191.43406073326614,179.64412941687351,156.06426678408829,120.69447283491043]
[13030,{"$f":"VLOOKUP($A199,BasinData!$A:$K,8,FALSE)","v":217.33510265358368},{"$f":"VLOOKUP($A199,BasinData!$A:$K,9,FALSE)","v":87.48264355090437},129.85245910267929,{"$f":"VLOOKUP($A199,BasinData!$A:$K,7,FALSE)","v":129.63566009233659},87.699442561247082,67.537760291393326,5,210.84247969844972,197.85723378818179,171.88674196764592,132.93100423684211]
[13031,{"$f":"VLOOKUP($A200,BasinData!$A:$K,8,FALSE)","v":205.52745236581427},{"$f":"VLOOKUP($A200,BasinData!$A:$K,9,FALSE)","v":82.729778281159454},122.79767408465482,{"$f":"VLOOKUP($A200,BasinData!$A:$K,7,FALSE)","v":123.2882001363088},82.239252229505468,66.971343588161929,5,199.38756866158153,187.10780125311604,162.54826643618509,125.70896421078864]
[13032,{"$f":"VLOOKUP($A201,BasinData!$A:$K,8,FALSE)","v":173.38038143443043},{"$f":"VLOOKUP($A201,BasinData!$A:$K,9,FALSE)","v":69.789803499549919},103.59057793488051,{"$f":"VLOOKUP($A201,BasinData!$A:$K,7,FALSE)","v":72.793124670614191},100.58725676381624,97.100777666331552,5,168.20085253768642,157.84179474419835,137.12367915722226,106.0465057767581]
[13033,{"$f":"VLOOKUP($A202,BasinData!$A:$K,8,FALSE)","v":216.60969792004505},{"$f":"VLOOKUP($A202,BasinData!$A:$K,9,FALSE)","v":87.19065057342641},129.41904734661864,{"$f":"VLOOKUP($A202,BasinData!$A:$K,7,FALSE)","v":96.520209911304107},120.08948800874094,92.791200731921123,5,210.13874555271411,197.19684081805227,171.31303134872854,132.48731714474292]
[13034,{"$f":"VLOOKUP($A203,BasinData!$A:$K,8,FALSE)","v":300.08615063058016},{"$f":"VLOOKUP($A203,BasinData!$A:$K,9,FALSE)","v":120.79194492581507},179.29420570476509,{"$f":"VLOOKUP($A203,BasinData!$A:$K,7,FALSE)","v":132.90395987648347},167.18219075409669,93.244614401754475,5,291.12144034534191,273.1920197748654,237.33317863391238,183.54491692248286]
[13035,{"$f":"VLOOKUP($A204,BasinData!$A:$K,8,FALSE)","v":183.16746733985116},{"$f":"VLOOKUP($A204,BasinData!$A:$K,9,FALSE)","v":73.729342659179935},109.43812468067122,{"$f":"VLOOKUP($A204,BasinData!$A:$K,7,FALSE)","v":49.183203383748825},133.98426395610232,122.42923967041112,5,177.6955611058176,166.75174863775047,144.86412370161622,112.03268629741486]
[13036,{"$f":"VLOOKUP($A205,BasinData!$A:$K,8,FALSE)","v":264.43474479614343},{"$f":"VLOOKUP($A205,BasinData!$A:$K,9,FALSE)","v":106.44139045660017},157.99335433954326,{"$f":"VLOOKUP($A205,BasinData!$A:$K,7,FALSE)","v":156.59486355721842},107.83988123892502,68.255960315372818,5,256.53507707916629,240.73574164521193,209.13707077730328,161.73906447544033]
[13037,{"$f":"VLOOKUP($A206,BasinData!$A:$K,8,FALSE)","v":157.76982450613039},{"$f":"VLOOKUP($A206,BasinData!$A:$K,9,FALSE)","v":63.506176185253054},94.263648320877337,{"$f":"VLOOKUP($A206,BasinData!$A:$K,7,FALSE)","v":80.399712119860169},77.370112386270222,82.078419162071029,5,153.05664209008651,143.63027725799878,124.77754759382333,96.498453097560116]
[13038,{"$f":"VLOOKUP($A207,BasinData!$A:$K,8,FALSE)","v":105.45459207309862},{"$f":"VLOOKUP($A207,BasinData!$A:$K,9,FALSE)","v":42.448027845007658},63.006564228090966,{"$f":"VLOOKUP($A207,BasinData!$A:$K,7,FALSE)","v":87.822509552289162},17.632082520809462,27.984516751269449,3,102.30426386169408,96.003607438884984,83.402294593266788,64.500325324839494]
[13039,{"$f":"VLOOKUP($A208,BasinData!$A:$K,8,FALSE)","v":145.66571650966787},{"$f":"VLOOKUP($A208,BasinData!$A:$K,9,FALSE)","v":58.633979506357647},87.031737003310226,{"$f":"VLOOKUP($A208,BasinData!$A:$K,7,FALSE)","v":93.593609750325001},52.072106759342873,59.831170274542863,4,141.31412965950236,132.61095595917135,115.20460855850929,89.095087457516229]
[13040,{"$f":"VLOOKUP($A209,BasinData!$A:$K,8,FALSE)","v":169.75685447668923},{"$f":"VLOOKUP($A209,BasinData!$A:$K,9,FALSE)","v":68.331246122620186},101.42560835406904,{"$f":"VLOOKUP($A209,BasinData!$A:$K,7,FALSE)","v":94.227605232275394},75.529249244413833,74.467632455057114,5,164.68557405898576,154.54301322357887,134.25789155276507,103.83020904654435]
[13041,{"$f":"VLOOKUP($A210,BasinData!$A:$K,8,FALSE)","v":173.72977724128009},{"$f":"VLOOKUP($A210,BasinData!$A:$K,9,FALSE)","v":69.930443775582688},103.7993334656974,{"$f":"VLOOKUP($A210,BasinData!$A:$K,7,FALSE)","v":108.96485931411065},64.764917927169435,62.39434856156597,4,168.53981056799523,158.15987722142549,137.400010528286,106.26021048857677]
[13042,{"$f":"VLOOKUP($A211,BasinData!$A:$K,8,FALSE)","v":269.2281055068342},{"$f":"VLOOKUP($A211,BasinData!$A:$K,9,FALSE)","v":108.3708342571843},160.8572712496499,{"$f":"VLOOKUP($A211,BasinData!$A:$K,7,FALSE)","v":183.30709122026607},85.921014286568123,53.414442268648841,4,261.18524194435167,245.09951481938671,212.92806056945673,164.67087919456176]
[13043,{"$f":"VLOOKUP($A212,BasinData!$A:$K,8,FALSE)","v":183.90125749388281},{"$f":"VLOOKUP($A212,BasinData!$A:$K,9,FALSE)","v":74.024710971535058},109.87654652234775,{"$f":"VLOOKUP($A212,BasinData!$A:$K,7,FALSE)","v":126.47699613835793},57.424261355524877,52.262528422155476,4,178.40743016776543,167.41977551553066,145.4444662110611,112.48150225435677]
[13044,{"$f":"VLOOKUP($A213,BasinData!$A:$K,8,FALSE)","v":189.41475894846118},{"$f":"VLOOKUP($A213,BasinData!$A:$K,9,FALSE)","v":76.244028866247533},113.17073008221365,{"$f":"VLOOKUP($A213,BasinData!$A:$K,7,FALSE)","v":60.810976354424696},128.60378259403649,113.63696469980479,5,183.7562224443505,172.43914943612913,149.80500341968641,115.8537843950223]
[13045,{"$f":"VLOOKUP($A214,BasinData!$A:$K,8,FALSE)","v":171.74984697274945},{"$f":"VLOOKUP($A214,BasinData!$A:$K,9,FALSE)","v":69.133473880601684},102.61637309214777,{"$f":"VLOOKUP($A214,BasinData!$A:$K,7,FALSE)","v":52.648636095214961},119.1012108775345,116.06452975158616,5,166.61902831814206,156.35739100892729,135.83411639049774,105.0492044628534]
[13046,{"$f":"VLOOKUP($A215,BasinData!$A:$K,8,FALSE)","v":203.11957558060988},{"$f":"VLOOKUP($A215,BasinData!$A:$K,9,FALSE)","v":81.76054954662645},121.35902603398343,{"$f":"VLOOKUP($A215,BasinData!$A:$K,7,FALSE)","v":72.904887428376682},130.21468815223318,107.29707744669108,5,197.05162427891071,184.91572167551237,160.64391646871567,124.23620865852065]
[13047,{"$f":"VLOOKUP($A216,BasinData!$A:$K,8,FALSE)","v":93.37939468033214},{"$f":"VLOOKUP($A216,BasinData!$A:$K,9,FALSE)","v":37.587468384431325},55.791926295900815,{"$f":"VLOOKUP($A216,BasinData!$A:$K,7,FALSE)","v":45.858569559141422},47.520825121190718,85.175093021805566,5,90.589798365537092,85.010605735947024,73.85222047676686,57.114642587996606]
[13048,{"$f":"VLOOKUP($A217,BasinData!$A:$K,8,FALSE)","v":237.60750832215399},{"$f":"VLOOKUP($A217,BasinData!$A:$K,9,FALSE)","v":95.642777911940726},141.96473041021326,{"$f":"VLOOKUP($A217,BasinData!$A:$K,7,FALSE)","v":117.07571140536865},120.53179691678534,84.902635019630196,5,230.50927180164334,216.312798760622,187.91985267857936,145.33043355551536]
[13049,{"$f":"VLOOKUP($A218,BasinData!$A:$K,8,FALSE)","v":160.14804415096816},{"$f":"VLOOKUP($A218,BasinData!$A:$K,9,FALSE)","v":64.463467202372925},95.684576948595236,{"$f":"VLOOKUP($A218,BasinData!$A:$K,7,FALSE)","v":42.622752632795475},117.52529151817268,122.8257418970572,5,155.36381530353839,145.79535760867887,126.65844221895983,97.953069134381252]
[13050,{"$f":"VLOOKUP($A219,BasinData!$A:$K,8,FALSE)","v":198.99819988291262},{"$f":"VLOOKUP($A219,BasinData!$A:$K,9,FALSE)","v":80.101595991959783},118.89660389095283,{"$f":"VLOOKUP($A219,BasinData!$A:$K,7,FALSE)","v":96.333822560356182},102.66437732255643,86.347611254494751,5,193.05336968836497,181.1637092992697,157.38438852107913,121.71540735379327]
[13051,{"$f":"VLOOKUP($A220,BasinData!$A:$K,8,FALSE)","v":205.42205481195407},{"$f":"VLOOKUP($A220,BasinData!$A:$K,9,FALSE)","v":82.687353212576838},122.73470159937723,{"$f":"VLOOKUP($A220,BasinData!$A:$K,7,FALSE)","v":68.051491931674477},137.37056288027958,111.92479477293699,5,199.2853197319852,187.01184957204748,162.46490925217205,125.64449877235887]
[13052,{"$f":"VLOOKUP($A221,BasinData!$A:$K,8,FALSE)","v":207.97626074080711},{"$f":"VLOOKUP($A221,BasinData!$A:$K,9,FALSE)","v":83.715482972110522},124.26077776869658,{"$f":"VLOOKUP($A221,BasinData!$A:$K,7,FALSE)","v":61.043268102915732},146.93299263789137,118.24567275073528,5,201.76322185237228,189.33714407550261,164.48498852176331,127.20675519115433]
[13053,{"$f":"VLOOKUP($A222,BasinData!$A:$K,8,FALSE)","v":209.92690048903634},{"$f":"VLOOKUP($A222,BasinData!$A:$K,9,FALSE)","v":84.500662723135662},125.42623776590068,{"$f":"VLOOKUP($A222,BasinData!$A:$K,7,FALSE)","v":111.50817254709791},98.418727941938428,78.467416144323892,5,203.65558860074131,191.11296482415125,166.0277172709711,128.39984594120091]
[13054,{"$f":"VLOOKUP($A223,BasinData!$A:$K,8,FALSE)","v":133.69527188512308},{"$f":"VLOOKUP($A223,BasinData!$A:$K,9,FALSE)","v":53.815585572525144},79.879686312597926,{"$f":"VLOOKUP($A223,BasinData!$A:$K,7,FALSE)","v":37.342991600927853},96.352280284195217,120.62175595824714,5,129.70128756949319,121.71331893823339,105.73738167571381,81.773475781934422]
[13055,{"$f":"VLOOKUP($A224,BasinData!$A:$K,8,FALSE)","v":167.986268757034},{"$f":"VLOOKUP($A224,BasinData!$A:$K,9,FALSE)","v":67.61854247973092},100.36772627730308,{"$f":"VLOOKUP($A224,BasinData!$A:$K,7,FALSE)","v":42.310285517968566},125.67598323906543,125.21553282161528,5,162.96788244316883,152.93110981543853,132.85756455997793,102.747246676787]
[13056,{"$f":"VLOOKUP($A225,BasinData!$A:$K,8,FALSE)","v":229.00873033086069},{"$f":"VLOOKUP($A225,BasinData!$A:$K,9,FALSE)","v":92.181561473357888},136.82716885750278,{"$f":"VLOOKUP($A225,BasinData!$A:$K,7,FALSE)","v":36.969451149787012},192.03927918107368,140.3517158065815,5,222.16737188798555,208.48465500223526,181.11922123073472,140.07107057348389]
[13057,{"$f":"VLOOKUP($A226,BasinData!$A:$K,8,FALSE)","v":160.87080839687391},{"$f":"VLOOKUP($A226,BasinData!$A:$K,9,FALSE)","v":64.754397319615393},96.116411077258519,{"$f":"VLOOKUP($A226,BasinData!$A:$K,7,FALSE)","v":68.247557596557883},92.623250800316029,96.365698388244354,5,156.06498784301098,146.45334673528512,127.23006451983343,98.395141196655871]
[13058,{"$f":"VLOOKUP($A227,BasinData!$A:$K,8,FALSE)","v":106.41559780647027},{"$f":"VLOOKUP($A227,BasinData!$A:$K,9,FALSE)","v":42.834855932124952},63.580741874345321,{"$f":"VLOOKUP($A227,BasinData!$A:$K,7,FALSE)","v":60.375443541054224},46.040154265416049,72.412106100311391,5,103.236560712753,96.878486525318479,84.162338150449415,65.088115588145811]
[13059,{"$f":"VLOOKUP($A228,BasinData!$A:$K,8,FALSE)","v":210.74200436998063},{"$f":"VLOOKUP($A228,BasinData!$A:$K,9,FALSE)","v":84.828761780319567},125.91324258966107,{"$f":"VLOOKUP($A228,BasinData!$A:$K,7,FALSE)","v":75.957295569658498},134.78470880032214,107.04569752013479,5,204.44634224049759,191.85501798153149,166.67236946359927,128.89839668670095]
[13060,{"$f":"VLOOKUP($A229,BasinData!$A:$K,8,FALSE)","v":203.36164901161715},{"$f":"VLOOKUP($A229,BasinData!$A:$K,9,FALSE)","v":81.857989966601821},121.50365904501533,{"$f":"VLOOKUP($A229,BasinData!$A:$K,7,FALSE)","v":129.76423854488857},73.597410466728576,60.572176216900445,4,197.28646605936638,185.13610015486483,160.83536834586178,124.38427063235719]
[13061,{"$f":"VLOOKUP($A230,BasinData!$A:$K,8,FALSE)","v":144.2591282957388},{"$f":"VLOOKUP($A230,BasinData!$A:$K,9,FALSE)","v":58.067793677010989},86.191334618727808,{"$f":"VLOOKUP($A230,BasinData!$A:$K,7,FALSE)","v":107.67650075446775},36.582627541271052,42.443509783316799,4,139.94956156480242,131.33042810292963,114.09216117918407,88.234760793565727]
[13062,{"$f":"VLOOKUP($A231,BasinData!$A:$K,8,FALSE)","v":280.88612544612971},{"$f":"VLOOKUP($A231,BasinData!$A:$K,9,FALSE)","v":113.06346968701787},167.82265575911185,{"$f":"VLOOKUP($A231,BasinData!$A:$K,7,FALSE)","v":176.32404096287576},104.56208448325395,62.305106548510089,4,272.49499265817411,255.71272708226294,222.14819593044058,171.80139920270699]
[13063,{"$f":"VLOOKUP($A232,BasinData!$A:$K,8,FALSE)","v":188.06897327797358},{"$f":"VLOOKUP($A232,BasinData!$A:$K,9,FALSE)","v":75.702317533518922},112.36665574445466,{"$f":"VLOOKUP($A232,BasinData!$A:$K,7,FALSE)","v":106.36169670558914},81.707276572384444,72.714877942264238,5,182.45064049075086,171.21397491630538,148.74064376741444,115.03064704407805]
[13064,{"$f":"VLOOKUP($A233,BasinData!$A:$K,8,FALSE)","v":244.59009467664831},{"$f":"VLOOKUP($A233,BasinData!$A:$K,9,FALSE)","v":98.453438066031396},146.13665661061691,{"$f":"VLOOKUP($A233,BasinData!$A:$K,7,FALSE)","v":159.4961194791407},85.093975197507604,58.229042028956258,4,237.28326184611745,222.66959618505578,193.4422648629324,149.6012678797473]
[13065,{"$f":"VLOOKUP($A234,BasinData!$A:$K,8,FALSE)","v":196.34282929570327},{"$f":"VLOOKUP($A234,BasinData!$A:$K,9,FALSE)","v":79.0327450068216},117.31008428888167,{"$f":"VLOOKUP($A234,BasinData!$A:$K,7,FALSE)","v":74.431076583570288},121.91175271213298,103.92265375235728,5,190.47732508125918,178.74631665237101,155.28429979459469,120.09127450793018]
[13066,{"$f":"VLOOKUP($A235,BasinData!$A:$K,8,FALSE)","v":230.25472655822159},{"$f":"VLOOKUP($A235,BasinData!$A:$K,9,FALSE)","v":92.683105137925168},137.57162142029642,{"$f":"VLOOKUP($A235,BasinData!$A:$K,7,FALSE)","v":203.27763828061723},26.977088277604366,19.609486316357643,3,223.37614548720677,209.61898334517713,182.10465906111784,140.83317263502892]
[13067,{"$f":"VLOOKUP($A236,BasinData!$A:$K,8,FALSE)","v":292.12717817836131},{"$f":"VLOOKUP($A236,BasinData!$A:$K,9,FALSE)","v":117.58826571538057},174.53891246298073,{"$f":"VLOOKUP($A236,BasinData!$A:$K,7,FALSE)","v":138.88211610837024},153.24506206999106,87.799940945830031,5,283.40023255521226,265.94634130891421,231.03855881631804,178.67688507742383]
[13068,{"$f":"VLOOKUP($A237,BasinData!$A:$K,8,FALSE)","v":322.56827607641293},{"$f":"VLOOKUP($A237,BasinData!$A:$K,9,FALSE)","v":129.84154502552576},192.72673105088717,{"$f":"VLOOKUP($A237,BasinData!$A:$K,7,FALSE)","v":153.32417566758434},169.24410040882859,87.815581930947459,5,312.93193952386855,293.65926641877985,255.11392020860242,197.29590089333627]
[13069,{"$f":"VLOOKUP($A238,BasinData!$A:$K,8,FALSE)","v":346.34493015480638},{"$f":"VLOOKUP($A238,BasinData!$A:$K,9,FALSE)","v":139.41222425854727},206.93270589625911,{"$f":"VLOOKUP($A238,BasinData!$A:$K,7,FALSE)","v":117.25301165044316},229.09191850436321,110.7084148501944,5,335.99829485999339,315.30502427036754,273.91848309111572,211.83867132223796]
[13070,{"$f":"VLOOKUP($A239,BasinData!$A:$K,8,FALSE)","v":236.42453650299524},{"$f":"VLOOKUP($A239,BasinData!$A:$K,9,FALSE)","v":95.166603098380193},141.25793340461504,{"$f":"VLOOKUP($A239,BasinData!$A:$K,7,FALSE)","v":142.95764161759871},93.466894885396528,66.167536670434444,5,229.3616398327645,215.23584649230298,186.98425981137999,144.60687978999545]
[13071,{"$f":"VLOOKUP($A240,BasinData!$A:$K,8,FALSE)","v":217.33062389421082},{"$f":"VLOOKUP($A240,BasinData!$A:$K,9,FALSE)","v":87.480840741763188},129.84978315244763,{"$f":"VLOOKUP($A240,BasinData!$A:$K,7,FALSE)","v":84.320480171461341},133.01014372274949,102.43385895114781,5,210.83813473658844,197.85315642134367,171.88319979085415,132.92826484511986]
[14002,{"$f":"VLOOKUP($A241,BasinData!$A:$K,8,FALSE)","v":300.0602812396146},{"$f":"VLOOKUP($A241,BasinData!$A:$K,9,FALSE)","v":120.78153186929043},179.27874937032416,{"$f":"VLOOKUP($A241,BasinData!$A:$K,7,FALSE)","v":286.52044701868823},13.539834220926366,7.5523921649843908,2,291.09634377109836,273.16846883406595,237.31271896000115,183.52909414890388]
[14003,{"$f":"VLOOKUP($A242,BasinData!$A:$K,8,FALSE)","v":311.37690035279383},{"$f":"VLOOKUP($A242,BasinData!$A:$K,9,FALSE)","v":125.33674519650711},186.04015515628672,{"$f":"VLOOKUP($A242,BasinData!$A:$K,7,FALSE)","v":249.51377747044327},61.863122882350552,33.252564657549982,3,302.07489259497947,283.47087707935083,246.26284604809348,190.45079950120746]
[14004,{"$f":"VLOOKUP($A243,BasinData!$A:$K,8,FALSE)","v":187.58482035650746},{"$f":"VLOOKUP($A243,BasinData!$A:$K,9,FALSE)","v":75.507434254492154},112.07738610201531,{"$f":"VLOOKUP($A243,BasinData!$A:$K,7,FALSE)","v":177.38767739797686},10.197142958530605,9.0983054772966785,2,181.98095105140669,170.77321244120517,148.35773522080211,114.73451939019751]
[14005,{"$f":"VLOOKUP($A244,BasinData!$A:$K,8,FALSE)","v":305.13768000571878},{"$f":"VLOOKUP($A244,BasinData!$A:$K,9,FALSE)","v":122.82530786772585},182.31237213799292,{"$f":"VLOOKUP($A244,BasinData!$A:$K,7,FALSE)","v":277.65004423857863},27.487635767140148,15.077219085457708,3,296.02206139881912,277.79082418501986,241.32834975742125,186.63463811602338]
[14006,{"$f":"VLOOKUP($A245,BasinData!$A:$K,8,FALSE)","v":269.45208649598004},{"$f":"VLOOKUP($A245,BasinData!$A:$K,9,FALSE)","v":108.46099203103851},160.99109446494151,{"$f":"VLOOKUP($A245,BasinData!$A:$K,7,FALSE)","v":228.74140537658874},40.710681119391296,25.287536093033225,3,261.40253177273297,245.3034223262388,213.10520343325052,164.80787509376808]
[14007,{"$f":"VLOOKUP($A246,BasinData!$A:$K,8,FALSE)","v":260.95850783727792},{"$f":"VLOOKUP($A246,BasinData!$A:$K,9,FALSE)","v":105.04212087217579},155.91638696510213,{"$f":"VLOOKUP($A246,BasinData!$A:$K,7,FALSE)","v":247.21184203925688},13.746665798021041,8.8166908338492203,2,253.16268848902283,237.57104979251261,206.38777239949218,159.61285630996153]
[14008,{"$f":"VLOOKUP($A247,BasinData!$A:$K,8,FALSE)","v":276.65168811837304},{"$f":"VLOOKUP($A247,BasinData!$A:$K,9,FALSE)","v":111.35900608744356},165.29268203092948,{"$f":"VLOOKUP($A247,BasinData!$A:$K,7,FALSE)","v":185.9624777917314},90.689210326641643,54.865835082567003,4,268.3870540168266,251.85778581373361,218.79924940754773,169.21144479826887]
[14009,{"$f":"VLOOKUP($A248,BasinData!$A:$K,8,FALSE)","v":238.76948054189702},{"$f":"VLOOKUP($A248,BasinData!$A:$K,9,FALSE)","v":96.110499878041423},142.6589806638556,{"$f":"VLOOKUP($A248,BasinData!$A:$K,7,FALSE)","v":213.59371221899994},25.175768322897085,17.647517321197061,3,231.63653150870425,217.37063344231868,188.83883730954756,146.04114311039086]
[14010,{"$f":"VLOOKUP($A249,BasinData!$A:$K,8,FALSE)","v":183.8980106975456},{"$f":"VLOOKUP($A249,BasinData!$A:$K,9,FALSE)","v":74.023404057358817},109.87460664018678,{"$f":"VLOOKUP($A249,BasinData!$A:$K,7,FALSE)","v":62.416776369735658},121.48123432780994,110.5635214928524,5,178.40428036553627,167.4168197015176,145.44189837348023,112.47951638142419]
[14011,{"$f":"VLOOKUP($A250,BasinData!$A:$K,8,FALSE)","v":294.63641569404496},{"$f":"VLOOKUP($A250,BasinData!$A:$K,9,FALSE)","v":118.59829459929725},176.03812109474771,{"$f":"VLOOKUP($A250,BasinData!$A:$K,7,FALSE)","v":280.99730432686152},13.639111367183432,7.7478169400834229,2,285.83450963930756,268.23069752983281,233.02307331088326,180.21163698245894]
[14012,{"$f":"VLOOKUP($A251,BasinData!$A:$K,8,FALSE)","v":119.00963535411924},{"$f":"VLOOKUP($A251,BasinData!$A:$K,9,FALSE)","v":47.904261123442836},71.105374230676404,{"$f":"VLOOKUP($A251,BasinData!$A:$K,7,FALSE)","v":100.02755127863946},18.982084075479776,26.695709404325857,3,115.45436664258543,108.34382921951777,94.122754373382492,72.791142104179585]
[14013,{"$f":"VLOOKUP($A252,BasinData!$A:$K,8,FALSE)","v":296.97524209801531},{"$f":"VLOOKUP($A252,BasinData!$A:$K,9,FALSE)","v":119.53972888270478},177.43551321531055,{"$f":"VLOOKUP($A252,BasinData!$A:$K,7,FALSE)","v":293.79465206847573},3.1805900295395872,1.792532944450683,1,288.10346643724978,270.35991511571871,234.87281247265662,181.64215850806346]
[14014,{"$f":"VLOOKUP($A253,BasinData!$A:$K,8,FALSE)","v":263.685725953938},{"$f":"VLOOKUP($A253,BasinData!$A:$K,9,FALSE)","v":106.13989222835487},157.54583372558312,{"$f":"VLOOKUP($A253,BasinData!$A:$K,7,FALSE)","v":259.6652879677327},4.0204379862053088,2.5519164113271304,1,255.80843426765884,240.05385089510054,208.54468414998391,161.28093403230898]
[14015,{"$f":"VLOOKUP($A254,BasinData!$A:$K,8,FALSE)","v":227.34289276868543},{"$f":"VLOOKUP($A254,BasinData!$A:$K,9,FALSE)","v":91.511021501277199},135.83187126740825,{"$f":"VLOOKUP($A254,BasinData!$A:$K,7,FALSE)","v":202.26489582457955},25.077996944105877,18.462527763263715,3,220.55129920531502,206.96811207857419,179.80173782509254,139.05217644487007]
[14016,{"$f":"VLOOKUP($A255,BasinData!$A:$K,8,FALSE)","v":247.40256081034471},{"$f":"VLOOKUP($A255,BasinData!$A:$K,9,FALSE)","v":99.585523814118432},147.81703699622628,{"$f":"VLOOKUP($A255,BasinData!$A:$K,7,FALSE)","v":221.45820596940587},25.944354840938843,17.551667499329724,3,240.01170896053338,225.23000526091076,195.66659786166551,151.32148676279763]
[14017,{"$f":"VLOOKUP($A256,BasinData!$A:$K,8,FALSE)","v":84.782220125602933},{"$f":"VLOOKUP($A256,BasinData!$A:$K,9,FALSE)","v":34.126897367907233},50.6553227576957,{"$f":"VLOOKUP($A256,BasinData!$A:$K,7,FALSE)","v":53.949753084554693},30.83246704104824,60.867181102629701,4,82.249453987718141,77.183921711948585,67.052857160409445,51.856260333100728]
[14018,{"$f":"VLOOKUP($A257,BasinData!$A:$K,8,FALSE)","v":71.265307543890657},{"$f":"VLOOKUP($A257,BasinData!$A:$K,9,FALSE)","v":28.686012619622993},42.579294924267664,{"$f":"VLOOKUP($A257,BasinData!$A:$K,7,FALSE)","v":51.116205796339734},20.149101747550922,47.321360730346747,4,69.136342797677273,64.878413305250504,56.362554320396974,43.588765843116676]
[14019,{"$f":"VLOOKUP($A258,BasinData!$A:$K,8,FALSE)","v":311.15885395512174},{"$f":"VLOOKUP($A258,BasinData!$A:$K,9,FALSE)","v":125.24897623948083},185.9098777156409,{"$f":"VLOOKUP($A258,BasinData!$A:$K,7,FALSE)","v":138.08039514756749},173.07845880755426,93.09804348980694,5,301.86336006933971,283.27237229777563,246.09039675464743,190.31743343995515]
[14020,{"$f":"VLOOKUP($A259,BasinData!$A:$K,8,FALSE)","v":278.84912629437798},{"$f":"VLOOKUP($A259,BasinData!$A:$K,9,FALSE)","v":112.24352818410185},{"$f":"B259-C259","v":166.60559811027613},{"$f":"VLOOKUP($A259,BasinData!$A:$K,7,FALSE)","v":231.47448357749593},{"$f":"B259-E259","v":47.37464271688205},{"$f":"F259/D259*100","v":28.435204611506997},{"$f":"IF($G259<($I$1*100),1,IF($G259<($J$1*100),2,IF($G259<($K$1*100),3,IF($G259<($L$1*100),4,5))))","v":3},{"$f":"B259-(D259*$I$1)","v":270.51884638886418},{"$f":"B259-(D259*$J$1)","v":253.85828657783657},{"$f":"B259-(D259*$K$1)","v":220.53716695578134},{"$f":"B259-(D259*$L$1)","v":170.55548752269848}]
[14021,{"$f":"VLOOKUP($A260,BasinData!$A:$K,8,FALSE)","v":222.79474694463676},{"$f":"VLOOKUP($A260,BasinData!$A:$K,9,FALSE)","v":89.680282632660195},133.11446431197658,{"$f":"VLOOKUP($A260,BasinData!$A:$K,7,FALSE)","v":191.49823378115698},31.296513163479773,23.510978559122641,3,216.13902372903792,202.82757729784026,176.20468443544496,136.27034514185198]
[14022,{"$f":"VLOOKUP($A261,BasinData!$A:$K,8,FALSE)","v":100.32921150493711},{"$f":"VLOOKUP($A261,BasinData!$A:$K,9,FALSE)","v":40.384938008931343},59.944273496005763,{"$f":"VLOOKUP($A261,BasinData!$A:$K,7,FALSE)","v":50.397044406735652},49.932167098201454,83.297643271176781,5,97.331997830136814,91.337570480536243,79.348715781335088,61.365433732533361]
[14023,{"$f":"VLOOKUP($A262,BasinData!$A:$K,8,FALSE)","v":285.23788055927577},{"$f":"VLOOKUP($A262,BasinData!$A:$K,9,FALSE)","v":114.8151565371214},170.42272402215437,{"$f":"VLOOKUP($A262,BasinData!$A:$K,7,FALSE)","v":272.61110662097514},12.62677393830063,7.4090905486636824,2,276.71674435816806,259.67447195595264,225.58992715152175,174.46310994487544]
[14024,{"$f":"VLOOKUP($A263,BasinData!$A:$K,8,FALSE)","v":310.00547480900377},{"$f":"VLOOKUP($A263,BasinData!$A:$K,9,FALSE)","v":124.78471319367311},185.22076161533067,{"$f":"VLOOKUP($A263,BasinData!$A:$K,7,FALSE)","v":99.995709274803801},210.00976553419997,113.38349097729738,5,300.74443672823725,282.2223605667042,245.17820824363804,189.61197975903883]
[14025,{"$f":"VLOOKUP($A264,BasinData!$A:$K,8,FALSE)","v":391.9002575830657},{"$f":"VLOOKUP($A264,BasinData!$A:$K,9,FALSE)","v":157.74934708220556},234.15091050086014,{"$f":"VLOOKUP($A264,BasinData!$A:$K,7,FALSE)","v":112.54933860950723},279.35091897355846,119.30379359875786,5,380.19271205802266,356.77762100793666,309.94743890776465,239.70216575750661]
[14026,{"$f":"VLOOKUP($A265,BasinData!$A:$K,8,FALSE)","v":212.03643894326024},{"$f":"VLOOKUP($A265,BasinData!$A:$K,9,FALSE)","v":85.349803052491239},126.686635890769,{"$f":"VLOOKUP($A265,BasinData!$A:$K,7,FALSE)","v":201.14764423732638},10.888794705933861,8.5950618463989628,2,205.70210714872178,193.03344355964489,167.69611638149109,129.69012561426038]
[14027,{"$f":"VLOOKUP($A266,BasinData!$A:$K,8,FALSE)","v":223.36596074135596},{"$f":"VLOOKUP($A266,BasinData!$A:$K,9,FALSE)","v":89.910210022941882},133.45575071841409,{"$f":"VLOOKUP($A266,BasinData!$A:$K,7,FALSE)","v":186.00002614986303},37.36593459149293,27.998744445515467,3,216.69317320543524,203.34759813359386,176.65644798991104,136.61972277438679]
[14028,{"$f":"VLOOKUP($A267,BasinData!$A:$K,8,FALSE)","v":111.29348381032055},{"$f":"VLOOKUP($A267,BasinData!$A:$K,9,FALSE)","v":44.798323210749302},66.49516059957125,{"$f":"VLOOKUP($A267,BasinData!$A:$K,7,FALSE)","v":94.523509661591589},16.769974148728963,25.219841560676059,3,107.96872578034198,101.31920972038486,88.020177600470618,68.071629420599237]
[14029,{"$f":"VLOOKUP($A268,BasinData!$A:$K,8,FALSE)","v":292.30187214080934},{"$f":"VLOOKUP($A268,BasinData!$A:$K,9,FALSE)","v":117.65858426705834},174.64328787375098,{"$f":"VLOOKUP($A268,BasinData!$A:$K,7,FALSE)","v":267.81252441022787},24.489347730581471,14.022495813457619,2,283.56970774712181,266.1053789597467,231.17672138499648,178.78373502287121]
[14030,{"$f":"VLOOKUP($A269,BasinData!$A:$K,8,FALSE)","v":212.83270204158703},{"$f":"VLOOKUP($A269,BasinData!$A:$K,9,FALSE)","v":85.670318238271861},127.16238380331517,{"$f":"VLOOKUP($A269,BasinData!$A:$K,7,FALSE)","v":180.97493471712232},31.857767324464703,25.052823304838174,3,206.47458285142127,193.75834447108974,168.32586771042673,130.17715256943217]
[14031,{"$f":"VLOOKUP($A270,BasinData!$A:$K,8,FALSE)","v":303.02153461851066},{"$f":"VLOOKUP($A270,BasinData!$A:$K,9,FALSE)","v":121.97350808779754},181.04802653071312,{"$f":"VLOOKUP($A270,BasinData!$A:$K,7,FALSE)","v":283.03149785840793},19.990036760102726,11.041289509284766,2,293.96913329197503,275.86433063890371,239.65472533276107,185.34031737354712]
[14032,{"$f":"VLOOKUP($A271,BasinData!$A:$K,8,FALSE)","v":218.97323751227108},{"$f":"VLOOKUP($A271,BasinData!$A:$K,9,FALSE)","v":88.142032513759972},130.83120499851111,{"$f":"VLOOKUP($A271,BasinData!$A:$K,7,FALSE)","v":81.465557144387105},137.50768036788398,105.10312151405228,5,212.43167726234552,199.34855676249441,173.1823157627922,133.93295426323886]
[14033,{"$f":"VLOOKUP($A272,BasinData!$A:$K,8,FALSE)","v":193.20874513300299},{"$f":"VLOOKUP($A272,BasinData!$A:$K,9,FALSE)","v":77.771200211174559},115.43754492182843,{"$f":"VLOOKUP($A272,BasinData!$A:$K,7,FALSE)","v":188.19798456489468},5.0107605681083101,4.340667996275803,1,187.43686788691156,175.89311339472874,152.80560441036306,118.17434093381451]
[14034,{"$f":"VLOOKUP($A273,BasinData!$A:$K,8,FALSE)","v":142.35460226584479},{"$f":"VLOOKUP($A273,BasinData!$A:$K,9,FALSE)","v":57.301175814676043},85.053426451168747,{"$f":"VLOOKUP($A273,BasinData!$A:$K,7,FALSE)","v":122.36732767333901},19.987274592505784,23.499670062065007,3,138.10193094328636,129.59658829816948,112.58590300793573,87.069875072585106]
[14035,{"$f":"VLOOKUP($A274,BasinData!$A:$K,8,FALSE)","v":262.80225973627921},{"$f":"VLOOKUP($A274,BasinData!$A:$K,9,FALSE)","v":105.78427567463183},157.01798406164738,{"$f":"VLOOKUP($A274,BasinData!$A:$K,7,FALSE)","v":212.93867768094611},49.863582055333097,31.756605686490012,3,254.95136053319683,239.24956212703211,207.84596531470262,160.74057009620842]
[14036,{"$f":"VLOOKUP($A275,BasinData!$A:$K,8,FALSE)","v":257.39687021751234},{"$f":"VLOOKUP($A275,BasinData!$A:$K,9,FALSE)","v":103.60847545299065},153.78839476452168,{"$f":"VLOOKUP($A275,BasinData!$A:$K,7,FALSE)","v":183.01196538616762},74.384904831344727,48.368347263941274,4,249.70745047928625,234.32861100283409,203.57093204992975,157.43441362057325]
[14037,{"$f":"VLOOKUP($A276,BasinData!$A:$K,8,FALSE)","v":234.29006903623491},{"$f":"VLOOKUP($A276,BasinData!$A:$K,9,FALSE)","v":94.307428237597449},139.98264079863748,{"$f":"VLOOKUP($A276,BasinData!$A:$K,7,FALSE)","v":219.42359126859247},14.866477767642436,10.620229539052344,2,227.29093699630303,213.2926729164393,185.29614475671178,143.30135251712056]
[14038,{"$f":"VLOOKUP($A277,BasinData!$A:$K,8,FALSE)","v":279.04241515543754},{"$f":"VLOOKUP($A277,BasinData!$A:$K,9,FALSE)","v":112.32133163291418},166.72108352252337,{"$f":"VLOOKUP($A277,BasinData!$A:$K,7,FALSE)","v":258.1650761225244},20.877339032913142,12.522314869728335,2,270.7063609793114,254.03425262705903,220.69003592255436,170.67371086579735]
[14039,{"$f":"VLOOKUP($A278,BasinData!$A:$K,8,FALSE)","v":162.63745158741972},{"$f":"VLOOKUP($A278,BasinData!$A:$K,9,FALSE)","v":65.465513999034158},97.171937588385561,{"$f":"VLOOKUP($A278,BasinData!$A:$K,7,FALSE)","v":137.40669567043554},25.23075591698418,25.965064135964987,3,157.77885470800044,148.06166094916188,128.62727343148478,99.475692154969096]
[14040,{"$f":"VLOOKUP($A279,BasinData!$A:$K,8,FALSE)","v":289.58497721750138},{"$f":"VLOOKUP($A279,BasinData!$A:$K,9,FALSE)","v":116.56496824627288},173.02000897122849,{"$f":"VLOOKUP($A279,BasinData!$A:$K,7,FALSE)","v":277.50562779500683},12.079349422494545,6.9814754341523706,2,280.93397676893994,263.63197587181708,229.0279740775714,177.12197138620286]
[14041,{"$f":"VLOOKUP($A280,BasinData!$A:$K,8,FALSE)","v":77.254207507807493},{"$f":"VLOOKUP($A280,BasinData!$A:$K,9,FALSE)","v":31.096689930413699},46.15751757739379,{"$f":"VLOOKUP($A280,BasinData!$A:$K,7,FALSE)","v":46.67393389920705},30.580273608600443,66.251989304506068,5,74.946331628937799,70.330579871198424,61.099076355719667,47.251821082501529]
[14042,{"$f":"VLOOKUP($A281,BasinData!$A:$K,8,FALSE)","v":292.38725141427466},{"$f":"VLOOKUP($A281,BasinData!$A:$K,9,FALSE)","v":117.69295149285853},174.69429992141613,{"$f":"VLOOKUP($A281,BasinData!$A:$K,7,FALSE)","v":260.7922456822119},31.595005732062759,18.085882450815706,3,283.65253641820385,266.18310642606224,231.24424644177901,178.83595646535417]
[14043,{"$f":"VLOOKUP($A282,BasinData!$A:$K,8,FALSE)","v":293.55358740110682},{"$f":"VLOOKUP($A282,BasinData!$A:$K,9,FALSE)","v":118.16242998092063},175.39115742018618,{"$f":"VLOOKUP($A282,BasinData!$A:$K,7,FALSE)","v":282.48359233565867},11.069995065448154,6.3116038620622508,2,284.78402953009754,267.24491378807892,232.16668230404167,179.5493350779858]
[14044,{"$f":"VLOOKUP($A283,BasinData!$A:$K,8,FALSE)","v":214.25476106317754},{"$f":"VLOOKUP($A283,BasinData!$A:$K,9,FALSE)","v":86.242731442467601},128.01202962070994,{"$f":"VLOOKUP($A283,BasinData!$A:$K,7,FALSE)","v":203.6398676071739},10.614893456003642,8.2921062086545891,2,207.85415958214205,195.05295662007106,169.45055069592905,131.04694180971609]
[14045,{"$f":"VLOOKUP($A284,BasinData!$A:$K,8,FALSE)","v":277.62022349076432},{"$f":"VLOOKUP($A284,BasinData!$A:$K,9,FALSE)","v":111.7488650366645},165.87135845409983,{"$f":"VLOOKUP($A284,BasinData!$A:$K,7,FALSE)","v":259.16400255459507},18.456220936169245,11.12682810834788,2,269.32665556805932,252.73951972264933,219.56524803182938,169.80384049559942]
[14046,{"$f":"VLOOKUP($A285,BasinData!$A:$K,8,FALSE)","v":127.90706485299611},{"$f":"VLOOKUP($A285,BasinData!$A:$K,9,FALSE)","v":51.485692028372206},76.421372824623916,{"$f":"VLOOKUP($A285,BasinData!$A:$K,7,FALSE)","v":93.470354842760401},34.436710010235714,45.061621817842799,4,124.08599621176492,116.44385892930252,101.15958436437775,78.233172516990578]
[14047,{"$f":"VLOOKUP($A286,BasinData!$A:$K,8,FALSE)","v":287.93067156553644},{"$f":"VLOOKUP($A286,BasinData!$A:$K,9,FALSE)","v":115.89907014740123},172.03160141813521,{"$f":"VLOOKUP($A286,BasinData!$A:$K,7,FALSE)","v":268.86855244722148},19.062119118314968,11.080591566419889,2,279.32909149462967,262.12593135281617,227.71961106918911,176.11013064374856]
[14048,{"$f":"VLOOKUP($A287,BasinData!$A:$K,8,FALSE)","v":207.6370517420734},{"$f":"VLOOKUP($A287,BasinData!$A:$K,9,FALSE)","v":83.578943133110002},124.05810860896339,{"$f":"VLOOKUP($A287,BasinData!$A:$K,7,FALSE)","v":133.9542390608641},73.682812681209299,59.393790141892907,4,201.43414631162523,189.02833545072889,164.21671372893621,126.99928114624718]
[14049,{"$f":"VLOOKUP($A288,BasinData!$A:$K,8,FALSE)","v":207.58006714675719},{"$f":"VLOOKUP($A288,BasinData!$A:$K,9,FALSE)","v":83.556005453098479},124.02406169365871,{"$f":"VLOOKUP($A288,BasinData!$A:$K,7,FALSE)","v":183.72486555808968},23.855201588667512,19.234333453447299,3,201.37886406207426,188.97645789270837,164.17164555397665,126.96442704587902]
[14050,{"$f":"VLOOKUP($A289,BasinData!$A:$K,8,FALSE)","v":271.62760823969114},{"$f":"VLOOKUP($A289,BasinData!$A:$K,9,FALSE)","v":109.33669223279412},162.29091600689702,{"$f":"VLOOKUP($A289,BasinData!$A:$K,7,FALSE)","v":252.71534551543516},18.912262724255982,11.653309494816241,2,263.5130624393463,247.28397083865659,214.82578763727719,166.13851283520808]
[14051,{"$f":"VLOOKUP($A290,BasinData!$A:$K,8,FALSE)","v":221.78065581661144},{"$f":"VLOOKUP($A290,BasinData!$A:$K,9,FALSE)","v":89.272086388252404},132.50856942835904,{"$f":"VLOOKUP($A290,BasinData!$A:$K,7,FALSE)","v":184.76104923840595},37.019606578205497,27.93751886229532,3,215.15522734519348,201.90437040235759,175.40265651668579,135.65008568817808]
[14052,{"$f":"VLOOKUP($A291,BasinData!$A:$K,8,FALSE)","v":188.34548280244553},{"$f":"VLOOKUP($A291,BasinData!$A:$K,9,FALSE)","v":75.813619315294915},112.53186348715062,{"$f":"VLOOKUP($A291,BasinData!$A:$K,7,FALSE)","v":159.93827493010292},28.40720787234261,25.243701643300586,3,182.71888962808799,171.46570327937295,148.95933058194282,115.19977153579762]
[14053,{"$f":"VLOOKUP($A292,BasinData!$A:$K,8,FALSE)","v":300.64374551998526},{"$f":"VLOOKUP($A292,BasinData!$A:$K,9,FALSE)","v":121.01639037599797},179.6273551439873,{"$f":"VLOOKUP($A292,BasinData!$A:$K,7,FALSE)","v":270.92787481636248},29.715870703622784,16.543065325324683,3,291.66237776278592,273.69964224838714,237.7741712195897,183.88596467639351]
[14054,{"$f":"VLOOKUP($A293,BasinData!$A:$K,8,FALSE)","v":208.22963941904877},{"$f":"VLOOKUP($A293,BasinData!$A:$K,9,FALSE)","v":83.817474027956408},124.41216539109236,{"$f":"VLOOKUP($A293,BasinData!$A:$K,7,FALSE)","v":189.47443419005904},18.755205228989723,15.075057306520087,3,202.00903114949415,189.56781461038491,164.68538153216645,127.36173191483873]
[14055,{"$f":"VLOOKUP($A294,BasinData!$A:$K,8,FALSE)","v":282.25972065080907},{"$f":"VLOOKUP($A294,BasinData!$A:$K,9,FALSE)","v":113.61637503091775},168.64334561989131,{"$f":"VLOOKUP($A294,BasinData!$A:$K,7,FALSE)","v":239.30625366742959},42.953466983379485,25.470004064194256,3,273.8275533698145,256.9632188078254,223.23454968384712,172.64154599787972]
[14056,{"$f":"VLOOKUP($A295,BasinData!$A:$K,8,FALSE)","v":139.58266717268444},{"$f":"VLOOKUP($A295,BasinData!$A:$K,9,FALSE)","v":56.185404792230067},83.397262380454379,{"$f":"VLOOKUP($A295,BasinData!$A:$K,7,FALSE)","v":54.668375146434812},84.914292026249626,101.81904010095036,5,135.41280405366172,127.07307781561629,110.39362533952541,85.374446625389083]
[14057,{"$f":"VLOOKUP($A296,BasinData!$A:$K,8,FALSE)","v":199.33309087587094},{"$f":"VLOOKUP($A296,BasinData!$A:$K,9,FALSE)","v":80.236397729036185},119.09669314683475,{"$f":"VLOOKUP($A296,BasinData!$A:$K,7,FALSE)","v":190.98875794248036},8.3443329333905751,7.0063514887880363,2,193.3782562185292,181.46858690384573,157.64924827447879,121.92024033042834]
[14058,{"$f":"VLOOKUP($A297,BasinData!$A:$K,8,FALSE)","v":280.4057980442164},{"$f":"VLOOKUP($A297,BasinData!$A:$K,9,FALSE)","v":112.87012627228063},167.53567177193577,{"$f":"VLOOKUP($A297,BasinData!$A:$K,7,FALSE)","v":252.98148154988624},27.424316494330157,16.369240176899481,3,272.02901445561963,255.27544727842604,221.76831292403887,171.50761139245816]
[14059,{"$f":"VLOOKUP($A298,BasinData!$A:$K,8,FALSE)","v":185.34032483550649},{"$f":"VLOOKUP($A298,BasinData!$A:$K,9,FALSE)","v":74.603970436554278},110.73635439895222,{"$f":"VLOOKUP($A298,BasinData!$A:$K,7,FALSE)","v":155.48154126626557},29.858783569240927,26.963849163453634,3,179.80350711555889,168.72987167566367,146.58260079587322,113.36169447618755]
[14060,{"$f":"VLOOKUP($A299,BasinData!$A:$K,8,FALSE)","v":66.499385973837548},{"$f":"VLOOKUP($A299,BasinData!$A:$K,9,FALSE)","v":26.76761373783221},39.731772236005341,{"$f":"VLOOKUP($A299,BasinData!$A:$K,7,FALSE)","v":60.178819262776891},6.3205667110606569,15.908091573455902,3,64.512797362037276,60.539620138436746,52.593265691235679,40.673734020434075]
[14061,{"$f":"VLOOKUP($A300,BasinData!$A:$K,8,FALSE)","v":154.57920961332593},{"$f":"VLOOKUP($A300,BasinData!$A:$K,9,FALSE)","v":62.221876401336779},92.357333211989157,{"$f":"VLOOKUP($A300,BasinData!$A:$K,7,FALSE)","v":55.865185640971795},98.714023972354141,106.88271362900265,5,149.96134295272648,140.72560963152756,122.25414298912972,94.546943025532983]
[14062,{"$f":"VLOOKUP($A301,BasinData!$A:$K,8,FALSE)","v":61.219529066013664},{"$f":"VLOOKUP($A301,BasinData!$A:$K,9,FALSE)","v":24.64234343300177},36.577185633011894,{"$f":"VLOOKUP($A301,BasinData!$A:$K,7,FALSE)","v":53.597284644160148},7.6222444218535159,20.838794155267745,3,59.39066978436307,55.732951221061882,48.417514094459506,37.444358404555928]
[14063,{"$f":"VLOOKUP($A302,BasinData!$A:$K,8,FALSE)","v":113.99643564688408},{"$f":"VLOOKUP($A302,BasinData!$A:$K,9,FALSE)","v":45.886326801362301},68.110108845521779,{"$f":"VLOOKUP($A302,BasinData!$A:$K,7,FALSE)","v":48.401219213813661},65.595216433070419,96.307607703057258,5,110.59093020460799,103.77991932005581,90.157897550951461,69.724864897294921]
[14064,{"$f":"VLOOKUP($A303,BasinData!$A:$K,8,FALSE)","v":184.71962963035858},{"$f":"VLOOKUP($A303,BasinData!$A:$K,9,FALSE)","v":74.354125580740714},110.36550404961787,{"$f":"VLOOKUP($A303,BasinData!$A:$K,7,FALSE)","v":123.99539160356956},60.724238026789024,55.021030846276716,4,179.20135442787767,168.16480402291592,146.09170321299234,112.98205199810697]
[14065,{"$f":"VLOOKUP($A304,BasinData!$A:$K,8,FALSE)","v":246.12678355044358},{"$f":"VLOOKUP($A304,BasinData!$A:$K,9,FALSE)","v":99.071992562536963},147.05479098790661,{"$f":"VLOOKUP($A304,BasinData!$A:$K,7,FALSE)","v":189.14387433928306},56.982909211160518,38.749440822942404,4,238.77404400104825,224.06856490225758,194.65760670467625,150.54116940830426]
[14066,{"$f":"VLOOKUP($A305,BasinData!$A:$K,8,FALSE)","v":160.86442412000972},{"$f":"VLOOKUP($A305,BasinData!$A:$K,9,FALSE)","v":64.751827493524615},96.1125966264851,{"$f":"VLOOKUP($A305,BasinData!$A:$K,7,FALSE)","v":135.74396282148808},25.120461298521633,26.136492177133995,3,156.05879428868545,146.44753462603694,127.22501530073993,98.391236312794405]
[14067,{"$f":"VLOOKUP($A306,BasinData!$A:$K,8,FALSE)","v":222.91431037694875},{"$f":"VLOOKUP($A306,BasinData!$A:$K,9,FALSE)","v":89.728409810474375},133.18590056647437,{"$f":"VLOOKUP($A306,BasinData!$A:$K,7,FALSE)","v":158.11679474571619},64.797515631232557,48.651933392072152,4,216.25501534862502,202.9364252919776,176.29924517868272,136.3434750087404]
[14068,{"$f":"VLOOKUP($A307,BasinData!$A:$K,8,FALSE)","v":228.42163899922244},{"$f":"VLOOKUP($A307,BasinData!$A:$K,9,FALSE)","v":91.945242990653313},136.47639600856911,{"$f":"VLOOKUP($A307,BasinData!$A:$K,7,FALSE)","v":191.44873588204425},36.972903117178191,27.091060577872184,3,221.59781919879399,207.95017959793708,180.65490039622324,139.71198159365252]
[14069,{"$f":"VLOOKUP($A308,BasinData!$A:$K,8,FALSE)","v":207.23981920580877},{"$f":"VLOOKUP($A308,BasinData!$A:$K,9,FALSE)","v":83.419047414689175},123.8207717911196,{"$f":"VLOOKUP($A308,BasinData!$A:$K,7,FALSE)","v":56.854962365125381},150.3848568406834,121.45365811026949,5,201.0487806162528,188.66670343714082,163.90254907891691,126.75631754158103]
[14070,{"$f":"VLOOKUP($A309,BasinData!$A:$K,8,FALSE)","v":170.05663857105228},{"$f":"VLOOKUP($A309,BasinData!$A:$K,9,FALSE)","v":68.451916482581296},101.60472208847098,{"$f":"VLOOKUP($A309,BasinData!$A:$K,7,FALSE)","v":138.859832866229},31.196805704823277,30.704090384361336,3,164.97640246662871,154.81593025778162,134.49498584008745,104.01356921354613]
[14071,{"$f":"VLOOKUP($A310,BasinData!$A:$K,8,FALSE)","v":241.94638083684967},{"$f":"VLOOKUP($A310,BasinData!$A:$K,9,FALSE)","v":97.389279204099466},144.5571016327502,{"$f":"VLOOKUP($A310,BasinData!$A:$K,7,FALSE)","v":205.38418327226955},36.562197564580117,25.292564081332376,3,234.71852575521217,220.26281559193714,191.35139526538711,147.98426477556205]
[14072,{"$f":"VLOOKUP($A311,BasinData!$A:$K,8,FALSE)","v":351.14673284384304},{"$f":"VLOOKUP($A311,BasinData!$A:$K,9,FALSE)","v":141.34506615991438},209.80166668392866,{"$f":"VLOOKUP($A311,BasinData!$A:$K,7,FALSE)","v":324.46109280959445},26.685640034248593,12.719460458076895,2,340.65664950964663,319.67648284125374,277.71614950446804,214.77564949928941]
[14073,{"$f":"VLOOKUP($A312,BasinData!$A:$K,8,FALSE)","v":154.69987464069931},{"$f":"VLOOKUP($A312,BasinData!$A:$K,9,FALSE)","v":62.270446997848232},92.429427642851067,{"$f":"VLOOKUP($A312,BasinData!$A:$K,7,FALSE)","v":122.59917089200285},32.100703748696461,34.729960541067229,3,150.07840325855676,140.83546049427164,122.34957496570144,94.62074667284611]
[14074,{"$f":"VLOOKUP($A313,BasinData!$A:$K,8,FALSE)","v":172.1486529870001},{"$f":"VLOOKUP($A313,BasinData!$A:$K,9,FALSE)","v":69.294002962027875},102.85465002497223,{"$f":"VLOOKUP($A313,BasinData!$A:$K,7,FALSE)","v":139.55181791486768},32.596835072132421,31.692135517663218,3,167.00592048575149,156.72045548325428,136.14952547825982,105.29313047076815]
[14075,{"$f":"VLOOKUP($A314,BasinData!$A:$K,8,FALSE)","v":101.33881471174192},{"$f":"VLOOKUP($A314,BasinData!$A:$K,9,FALSE)","v":40.791327756332301},60.547486955409617,{"$f":"VLOOKUP($A314,BasinData!$A:$K,7,FALSE)","v":76.371334720957705},24.967479990784213,41.236195334038541,4,98.311440363971442,92.256691668430477,80.147194277348547,61.982948190725665]
[14076,{"$f":"VLOOKUP($A315,BasinData!$A:$K,8,FALSE)","v":106.11664933970818},{"$f":"VLOOKUP($A315,BasinData!$A:$K,9,FALSE)","v":42.714521932515474},63.402127407192701,{"$f":"VLOOKUP($A315,BasinData!$A:$K,7,FALSE)","v":74.936939760808158},31.179709578900017,49.177702474637805,4,102.94654296934854,96.606330228629275,83.925904747190728,64.905266525032914]
[14077,{"$f":"VLOOKUP($A316,BasinData!$A:$K,8,FALSE)","v":112.27913482875398},{"$f":"VLOOKUP($A316,BasinData!$A:$K,9,FALSE)","v":45.195071622112202},67.084063206641787,{"$f":"VLOOKUP($A316,BasinData!$A:$K,7,FALSE)","v":85.853981364888767},26.425153463865215,39.391104534718977,4,108.92493166842189,102.21652534775771,88.799712706429361,68.674493744436816]
[14078,{"$f":"VLOOKUP($A317,BasinData!$A:$K,8,FALSE)","v":110.42184414969287},{"$f":"VLOOKUP($A317,BasinData!$A:$K,9,FALSE)","v":44.447467132718181},65.974377016974699,{"$f":"VLOOKUP($A317,BasinData!$A:$K,7,FALSE)","v":81.468614411141886},28.953229738550988,43.885567469779282,4,107.12312529884414,100.52568759714667,87.330812193751726,67.538499088659307]
[14079,{"$f":"VLOOKUP($A318,BasinData!$A:$K,8,FALSE)","v":253.2760879147217},{"$f":"VLOOKUP($A318,BasinData!$A:$K,9,FALSE)","v":101.94976075414831},151.32632716057338,{"$f":"VLOOKUP($A318,BasinData!$A:$K,7,FALSE)","v":225.37184351738125},27.904244397340449,18.439781709451701,3,245.70977155669303,230.57713884063568,200.31187340852102,154.91397526034899]
[14080,{"$f":"VLOOKUP($A319,BasinData!$A:$K,8,FALSE)","v":237.62337040960966},{"$f":"VLOOKUP($A319,BasinData!$A:$K,9,FALSE)","v":95.649162786385375},141.97420762322429,{"$f":"VLOOKUP($A319,BasinData!$A:$K,7,FALSE)","v":197.87050178174761},39.752868627862057,28.000063739295168,3,230.52466002844844,216.32723926612601,187.93239774148117,145.34013545451387]
[14081,{"$f":"VLOOKUP($A320,BasinData!$A:$K,8,FALSE)","v":97.164933463583083},{"$f":"VLOOKUP($A320,BasinData!$A:$K,9,FALSE)","v":39.111239445708641},58.053694017874442,{"$f":"VLOOKUP($A320,BasinData!$A:$K,7,FALSE)","v":65.842493064671601},31.322440398911482,53.954258947359079,4,94.262248762689353,88.456879360901922,76.846140557327033,59.430032351964691]
[14082,{"$f":"VLOOKUP($A321,BasinData!$A:$K,8,FALSE)","v":165.30942256708622},{"$f":"VLOOKUP($A321,BasinData!$A:$K,9,FALSE)","v":66.541047044264801},98.768375522821415,{"$f":"VLOOKUP($A321,BasinData!$A:$K,7,FALSE)","v":117.40880996953588},47.900612597550335,48.497924911686354,4,160.37100379094514,150.49416623866301,130.74049113409873,101.1099784772523]
[14083,{"$f":"VLOOKUP($A322,BasinData!$A:$K,8,FALSE)","v":241.50729276929079},{"$f":"VLOOKUP($A322,BasinData!$A:$K,9,FALSE)","v":97.212535620422912},144.29475714886786,{"$f":"VLOOKUP($A322,BasinData!$A:$K,7,FALSE)","v":229.27187251404132},12.235420255249466,8.4794628003193981,2,234.29255491184739,219.8630791969606,191.00412776718704,147.71570062252667]
[14084,{"$f":"VLOOKUP($A323,BasinData!$A:$K,8,FALSE)","v":309.76823064184083},{"$f":"VLOOKUP($A323,BasinData!$A:$K,9,FALSE)","v":124.68921666937933},{"$f":"B323-C323","v":185.0790139724615},{"$f":"VLOOKUP($A323,BasinData!$A:$K,7,FALSE)","v":137.47170501769256},{"$f":"B323-E323","v":172.29652562414827},{"$f":"F323/D323*100","v":93.093496623979661},{"$f":"IF($G323<($I$1*100),1,IF($G323<($J$1*100),2,IF($G323<($K$1*100),3,IF($G323<($L$1*100),4,5))))","v":5},{"$f":"B323-(D323*$I$1)","v":300.51427994321773},{"$f":"B323-(D323*$J$1)","v":282.00637854597159},{"$f":"B323-(D323*$K$1)","v":244.9905757514793},{"$f":"B323-(D323*$L$1)","v":189.46687155974087}]
[14085,{"$f":"VLOOKUP($A324,BasinData!$A:$K,8,FALSE)","v":416.99812479362527},{"$f":"VLOOKUP($A324,BasinData!$A:$K,9,FALSE)","v":167.85184660603528},249.14627818758999,{"$f":"VLOOKUP($A324,BasinData!$A:$K,7,FALSE)","v":55.652105581561194},361.34601921206405,145.03368135404992,5,404.54081088424579,379.62618306548677,329.7969274279688,255.05304397169178]
[15001,{"$f":"VLOOKUP($A325,BasinData!$A:$K,8,FALSE)","v":273.29794602028227},{"$f":"VLOOKUP($A325,BasinData!$A:$K,9,FALSE)","v":110.00904365180064},163.28890236848162,{"$f":"VLOOKUP($A325,BasinData!$A:$K,7,FALSE)","v":233.99070903566664},39.307236984615628,24.072203569544477,3,265.13350090185821,248.80461066501002,216.14683019131371,167.16015948076921]
[15004,{"$f":"VLOOKUP($A326,BasinData!$A:$K,8,FALSE)","v":234.86408015675968},{"$f":"VLOOKUP($A326,BasinData!$A:$K,9,FALSE)","v":94.538481618473355},140.32559853828633,{"$f":"VLOOKUP($A326,BasinData!$A:$K,7,FALSE)","v":206.30794442748751},28.556135729272171,20.349911938184921,3,227.84780022984538,213.81524037601673,185.75012066835947,143.65244110687357]
[15005,{"$f":"VLOOKUP($A327,BasinData!$A:$K,8,FALSE)","v":231.90668785854217},{"$f":"VLOOKUP($A327,BasinData!$A:$K,9,FALSE)","v":93.348059578470298},138.55862828007187,{"$f":"VLOOKUP($A327,BasinData!$A:$K,7,FALSE)","v":195.93032044472068},35.976367413821492,25.964725445391679,3,224.97875644453859,211.1228936165314,183.41116796051702,141.84357947649545]
[15006,{"$f":"VLOOKUP($A328,BasinData!$A:$K,8,FALSE)","v":215.23960783373158},{"$f":"VLOOKUP($A328,BasinData!$A:$K,9,FALSE)","v":86.639156124576914},128.60045170915467,{"$f":"VLOOKUP($A328,BasinData!$A:$K,7,FALSE)","v":193.17584545198849},22.063762381743089,17.156831168558359,3,208.80958524827386,195.94954007735839,170.22944973552745,131.64931422278104]
[15007,{"$f":"VLOOKUP($A329,BasinData!$A:$K,8,FALSE)","v":290.24294238481895},{"$f":"VLOOKUP($A329,BasinData!$A:$K,9,FALSE)","v":116.82981516468854},173.41312722013041,{"$f":"VLOOKUP($A329,BasinData!$A:$K,7,FALSE)","v":281.02040464172751},9.2225377430914364,5.3182466004343256,2,281.57228602381241,264.23097330179939,229.54834785777331,177.52440969173418]
[15008,{"$f":"VLOOKUP($A330,BasinData!$A:$K,8,FALSE)","v":269.65436971155117},{"$f":"VLOOKUP($A330,BasinData!$A:$K,9,FALSE)","v":108.54241592542132},161.11195378612985,{"$f":"VLOOKUP($A330,BasinData!$A:$K,7,FALSE)","v":263.53783047038041},6.1165392411707558,3.7964527754968671,1,261.5987720222447,245.48757664363168,213.26518588640573,164.93159975056676]
[15009,{"$f":"VLOOKUP($A331,BasinData!$A:$K,8,FALSE)","v":239.15250286016743},{"$f":"VLOOKUP($A331,BasinData!$A:$K,9,FALSE)","v":96.26467563949079},142.88782722067663,{"$f":"VLOOKUP($A331,BasinData!$A:$K,7,FALSE)","v":217.78201436334248},21.370488496824947,14.956129512572311,2,232.00811149913361,217.71932877706593,189.14176333293062,146.27541516672761]
[15010,{"$f":"VLOOKUP($A332,BasinData!$A:$K,8,FALSE)","v":250.68343343327103},{"$f":"VLOOKUP($A332,BasinData!$A:$K,9,FALSE)","v":100.90615452081504},149.77727891245598,{"$f":"VLOOKUP($A332,BasinData!$A:$K,7,FALSE)","v":228.50050331201325},22.182930121257783,14.810610983407962,2,243.19456948764824,228.21684159640265,198.26138581391143,153.32820214017465]
[15011,{"$f":"VLOOKUP($A333,BasinData!$A:$K,8,FALSE)","v":266.94981543754341},{"$f":"VLOOKUP($A333,BasinData!$A:$K,9,FALSE)","v":107.45376731491947},159.49604812262393,{"$f":"VLOOKUP($A333,BasinData!$A:$K,7,FALSE)","v":260.79660489029004},6.1532105472533658,3.8579078414047272,1,258.97501303141223,243.02540821914982,211.12619859462504,163.27738415783784]
[15012,{"$f":"VLOOKUP($A334,BasinData!$A:$K,8,FALSE)","v":202.06471980117087},{"$f":"VLOOKUP($A334,BasinData!$A:$K,9,FALSE)","v":81.335944542540375},120.72877525863049,{"$f":"VLOOKUP($A334,BasinData!$A:$K,7,FALSE)","v":192.0184317341558},10.04628806701507,8.3213699844908291,2,196.02828103823936,183.95540351237628,159.80964846065018,123.59101588306105]
[15013,{"$f":"VLOOKUP($A335,BasinData!$A:$K,8,FALSE)","v":243.97178321582828},{"$f":"VLOOKUP($A335,BasinData!$A:$K,9,FALSE)","v":98.204552725053716},145.76723049077458,{"$f":"VLOOKUP($A335,BasinData!$A:$K,7,FALSE)","v":209.56770527656926},34.404077939259025,23.602065994823448,3,236.68342169128954,222.10669864221211,192.95325254405719,149.22308339682479]
[15014,{"$f":"VLOOKUP($A336,BasinData!$A:$K,8,FALSE)","v":214.19984479906535},{"$f":"VLOOKUP($A336,BasinData!$A:$K,9,FALSE)","v":86.220626315869012},127.97921848319633,{"$f":"VLOOKUP($A336,BasinData!$A:$K,7,FALSE)","v":201.48638449871575},12.713460300349595,9.9340037007796482,2,207.80088387490554,195.00296202658589,169.40711832994663,131.01335278498772]
[15015,{"$f":"VLOOKUP($A337,BasinData!$A:$K,8,FALSE)","v":236.8753214353612},{"$f":"VLOOKUP($A337,BasinData!$A:$K,9,FALSE)","v":95.348054953486852},141.52726648187434,{"$f":"VLOOKUP($A337,BasinData!$A:$K,7,FALSE)","v":207.21219639246382},29.663125042897377,20.959300479880596,3,229.7989581112675,215.64623146308006,187.34077816670518,144.88259822214286]
[15016,{"$f":"VLOOKUP($A338,BasinData!$A:$K,8,FALSE)","v":247.05971202468584},{"$f":"VLOOKUP($A338,BasinData!$A:$K,9,FALSE)","v":99.447518872710219},147.61219315197562,{"$f":"VLOOKUP($A338,BasinData!$A:$K,7,FALSE)","v":202.45120978483175},44.60850223985409,30.220066030674687,3,239.67910236708707,224.9178830518895,195.39544442149437,151.11178647590168]
[15017,{"$f":"VLOOKUP($A339,BasinData!$A:$K,8,FALSE)","v":236.48763151671486},{"$f":"VLOOKUP($A339,BasinData!$A:$K,9,FALSE)","v":95.192000369818061},141.2956311468968,{"$f":"VLOOKUP($A339,BasinData!$A:$K,7,FALSE)","v":206.28988506593404},30.197746450780812,21.372031255082462,3,229.42284995937001,215.29328684468032,187.03416061530098,144.64547127123194]
[15018,{"$f":"VLOOKUP($A340,BasinData!$A:$K,8,FALSE)","v":189.82614723821914},{"$f":"VLOOKUP($A340,BasinData!$A:$K,9,FALSE)","v":76.409622618358867},113.41652461986027,{"$f":"VLOOKUP($A340,BasinData!$A:$K,7,FALSE)","v":119.96213061054391},69.864016627675227,61.599504006880309,4,184.15532100722612,172.81366854524009,150.13036362126803,116.10540623530996]
[15019,{"$f":"VLOOKUP($A341,BasinData!$A:$K,8,FALSE)","v":185.72040307963388},{"$f":"VLOOKUP($A341,BasinData!$A:$K,9,FALSE)","v":74.756961136843714},110.96344194279017,{"$f":"VLOOKUP($A341,BasinData!$A:$K,7,FALSE)","v":113.53511977269271},72.185283306941173,65.05321215987334,5,180.17223098249437,169.07588678821537,146.88319839965732,113.59416581682027]
[15020,{"$f":"VLOOKUP($A342,BasinData!$A:$K,8,FALSE)","v":210.35870961855383},{"$f":"VLOOKUP($A342,BasinData!$A:$K,9,FALSE)","v":84.674476357925329},125.6842332606285,{"$f":"VLOOKUP($A342,BasinData!$A:$K,7,FALSE)","v":180.59320606266328},29.765503555890547,23.682766552083354,3,204.07449795552242,191.50607462945956,166.36922797733385,128.66395799914528]
[15021,{"$f":"VLOOKUP($A343,BasinData!$A:$K,8,FALSE)","v":274.02920746582555},{"$f":"VLOOKUP($A343,BasinData!$A:$K,9,FALSE)","v":110.30339409773367},163.72581336809188,{"$f":"VLOOKUP($A343,BasinData!$A:$K,7,FALSE)","v":261.66577561100161},12.363431854823943,7.5513027545804343,2,265.84291679742097,249.47033546061178,216.7251727869934,167.60742877656583]
[15022,{"$f":"VLOOKUP($A344,BasinData!$A:$K,8,FALSE)","v":178.54886955646469},{"$f":"VLOOKUP($A344,BasinData!$A:$K,9,FALSE)","v":71.87024517029883},106.67862438616586,{"$f":"VLOOKUP($A344,BasinData!$A:$K,7,FALSE)","v":104.7066578433828},73.842211713081895,69.219313745348401,5,173.21493833715641,162.54707589853982,141.21135102130665,109.20776370545688]
[15023,{"$f":"VLOOKUP($A345,BasinData!$A:$K,8,FALSE)","v":210.11633697576269},{"$f":"VLOOKUP($A345,BasinData!$A:$K,9,FALSE)","v":84.576915497958836},125.53942147780386,{"$f":"VLOOKUP($A345,BasinData!$A:$K,7,FALSE)","v":143.98060147238093},66.135735503381767,52.681249224232708,4,203.8393659018725,191.28542375409211,166.17753945853133,128.51571301519019]
[15024,{"$f":"VLOOKUP($A346,BasinData!$A:$K,8,FALSE)","v":252.16043443112716},{"$f":"VLOOKUP($A346,BasinData!$A:$K,9,FALSE)","v":101.50068320137399},150.65975122975317,{"$f":"VLOOKUP($A346,BasinData!$A:$K,7,FALSE)","v":244.31409789204841},7.8463365390787487,5.2079845313916913,2,244.6274468696395,229.56147174666418,199.42952150071355,154.2315961317876]
[15025,{"$f":"VLOOKUP($A347,BasinData!$A:$K,8,FALSE)","v":224.54493669038538},{"$f":"VLOOKUP($A347,BasinData!$A:$K,9,FALSE)","v":90.384776401979281},134.1601602884061,{"$f":"VLOOKUP($A347,BasinData!$A:$K,7,FALSE)","v":178.01758487764215},46.527351812743234,34.680453357183453,3,217.83692867596508,204.42091264712448,177.58888058944325,137.34083250292142]
[15026,{"$f":"VLOOKUP($A348,BasinData!$A:$K,8,FALSE)","v":297.91628833894492},{"$f":"VLOOKUP($A348,BasinData!$A:$K,9,FALSE)","v":119.91852279061476},177.99776554833016,{"$f":"VLOOKUP($A348,BasinData!$A:$K,7,FALSE)","v":288.11159570827658},9.8046926306683417,5.5083234334231905,2,289.01640006152843,271.21662350669538,235.61707039702938,182.21774073253033]
[15027,{"$f":"VLOOKUP($A349,BasinData!$A:$K,8,FALSE)","v":227.14274870203636},{"$f":"VLOOKUP($A349,BasinData!$A:$K,9,FALSE)","v":91.430458666154337},135.71229003588201,{"$f":"VLOOKUP($A349,BasinData!$A:$K,7,FALSE)","v":179.22576134904645},47.916987352989906,35.307773039804111,4,220.35713420024226,206.78590519665406,179.64344718947766,138.92976017871305]
[15028,{"$f":"VLOOKUP($A350,BasinData!$A:$K,8,FALSE)","v":235.49905614805638},{"$f":"VLOOKUP($A350,BasinData!$A:$K,9,FALSE)","v":94.794074836650054},140.70498131140633,{"$f":"VLOOKUP($A350,BasinData!$A:$K,7,FALSE)","v":188.26117584240566},47.237880305650719,33.572287111217832,3,228.46380708248606,214.39330895134543,186.25231268906418,144.04081829564228]
[15029,{"$f":"VLOOKUP($A351,BasinData!$A:$K,8,FALSE)","v":221.82751362804106},{"$f":"VLOOKUP($A351,BasinData!$A:$K,9,FALSE)","v":89.290947792438018},132.53656583560303,{"$f":"VLOOKUP($A351,BasinData!$A:$K,7,FALSE)","v":211.63085841492079},10.196655213120266,7.6934656853627024,2,215.2006853362609,201.94702875270062,175.43971558558002,135.67874583489908]
[15030,{"$f":"VLOOKUP($A352,BasinData!$A:$K,8,FALSE)","v":247.63166050577968},{"$f":"VLOOKUP($A352,BasinData!$A:$K,9,FALSE)","v":99.677741991249732},147.95391851452996,{"$f":"VLOOKUP($A352,BasinData!$A:$K,7,FALSE)","v":217.38014066172778},30.251519844051899,20.446582387124149,3,240.23396458005317,225.43857272860018,195.8477890256942,151.4616134713352]
[15031,{"$f":"VLOOKUP($A353,BasinData!$A:$K,8,FALSE)","v":207.01121482342737},{"$f":"VLOOKUP($A353,BasinData!$A:$K,9,FALSE)","v":83.327028613060406},123.68418621036696,{"$f":"VLOOKUP($A353,BasinData!$A:$K,7,FALSE)","v":160.31963984426253},46.691574979164841,37.750642511201846,4,200.82700551290901,188.45858689187233,163.72174964979894,126.61649378668884]
[15032,{"$f":"VLOOKUP($A354,BasinData!$A:$K,8,FALSE)","v":30.981678258599299},{"$f":"VLOOKUP($A354,BasinData!$A:$K,9,FALSE)","v":12.470876000302452},18.510802258296849,{"$f":"VLOOKUP($A354,BasinData!$A:$K,7,FALSE)","v":24.704440423437749},6.2772378351615501,33.911214368615425,3,30.056138145684457,28.20505791985477,24.502897468195403,18.949656790706349]
[15033,{"$f":"VLOOKUP($A355,BasinData!$A:$K,8,FALSE)","v":303.63622963648191},{"$f":"VLOOKUP($A355,BasinData!$A:$K,9,FALSE)","v":122.22093772292378},181.41529191355812,{"$f":"VLOOKUP($A355,BasinData!$A:$K,7,FALSE)","v":301.46894856796132},2.1672810685205945,1.1946518100322403,1,294.56546504080399,276.42393584944818,240.14087746673658,185.71628989266912]
[15034,{"$f":"VLOOKUP($A356,BasinData!$A:$K,8,FALSE)","v":221.91933357796634},{"$f":"VLOOKUP($A356,BasinData!$A:$K,9,FALSE)","v":89.327907546532501},132.59142603143385,{"$f":"VLOOKUP($A356,BasinData!$A:$K,7,FALSE)","v":201.76185848276626},20.157475095200084,15.202698770598705,3,215.28976227639464,202.03061967325127,175.51233446696449,135.73490665753434]
[15035,{"$f":"VLOOKUP($A357,BasinData!$A:$K,8,FALSE)","v":228.33868396735008},{"$f":"VLOOKUP($A357,BasinData!$A:$K,9,FALSE)","v":91.911851580819217},136.42683238653086,{"$f":"VLOOKUP($A357,BasinData!$A:$K,7,FALSE)","v":181.5151728424448},46.823511124905281,34.321335697542786,3,221.51734234802353,207.87465910937044,180.58929263206429,139.66124291610501]
[15036,{"$f":"VLOOKUP($A358,BasinData!$A:$K,8,FALSE)","v":228.02745601547969},{"$f":"VLOOKUP($A358,BasinData!$A:$K,9,FALSE)","v":91.786574790995004},136.24088122448467,{"$f":"VLOOKUP($A358,BasinData!$A:$K,7,FALSE)","v":181.06414471481068},46.963311300669005,34.470792377867376,3,221.21541195425544,207.59132383180699,180.34314758691005,139.47088321956466]
[15037,{"$f":"VLOOKUP($A359,BasinData!$A:$K,8,FALSE)","v":211.98894113938746},{"$f":"VLOOKUP($A359,BasinData!$A:$K,9,FALSE)","v":85.330684035844058},126.65825710354341,{"$f":"VLOOKUP($A359,BasinData!$A:$K,7,FALSE)","v":171.68769455090171},40.301246588485753,31.81888611931506,3,205.65602828421029,192.99020257385595,167.65855115314727,129.66107402208425]
[15038,{"$f":"VLOOKUP($A360,BasinData!$A:$K,8,FALSE)","v":218.4972271402149},{"$f":"VLOOKUP($A360,BasinData!$A:$K,9,FALSE)","v":87.950426808116106},130.5468003320988,{"$f":"VLOOKUP($A360,BasinData!$A:$K,7,FALSE)","v":198.28550787118516},20.211719269029743,15.482355153564106,3,211.96988712360996,198.91520709040009,172.80584702398033,133.64180692435067]
[15039,{"$f":"VLOOKUP($A361,BasinData!$A:$K,8,FALSE)","v":228.56419867050525},{"$f":"VLOOKUP($A361,BasinData!$A:$K,9,FALSE)","v":92.002626711714925},136.56157195879032,{"$f":"VLOOKUP($A361,BasinData!$A:$K,7,FALSE)","v":180.95806973823477},47.606128932270479,34.860560148382305,3,221.73612007256574,208.07996287668669,180.76764848492863,139.79917689729155]
[15040,{"$f":"VLOOKUP($A362,BasinData!$A:$K,8,FALSE)","v":197.25311775013432},{"$f":"VLOOKUP($A362,BasinData!$A:$K,9,FALSE)","v":79.399158160588229},117.85395958954609,{"$f":"VLOOKUP($A362,BasinData!$A:$K,7,FALSE)","v":148.27081907403695},48.982298676097372,41.561860837505712,4,191.36041977065702,179.57502381170241,156.00423189379319,120.64804401692936]
[15041,{"$f":"VLOOKUP($A363,BasinData!$A:$K,8,FALSE)","v":177.5231258487494},{"$f":"VLOOKUP($A363,BasinData!$A:$K,9,FALSE)","v":71.457358480293351},106.06576736845605,{"$f":"VLOOKUP($A363,BasinData!$A:$K,7,FALSE)","v":96.079563788730837},81.443562060018564,76.785907537062599,5,172.21983748032659,161.61326074348099,140.40010726978977,108.58037705925297]
[15042,{"$f":"VLOOKUP($A364,BasinData!$A:$K,8,FALSE)","v":228.3918250794398},{"$f":"VLOOKUP($A364,BasinData!$A:$K,9,FALSE)","v":91.933242165727407},136.45858291371241,{"$f":"VLOOKUP($A364,BasinData!$A:$K,7,FALSE)","v":148.47065190982414},79.921173169615656,58.568080851427752,4,221.56889593375416,207.92303764238295,180.63132105964047,139.69374618552672]
[15043,{"$f":"VLOOKUP($A365,BasinData!$A:$K,8,FALSE)","v":170.67967464022772},{"$f":"VLOOKUP($A365,BasinData!$A:$K,9,FALSE)","v":68.702703592871103},101.97697104735661,{"$f":"VLOOKUP($A365,BasinData!$A:$K,7,FALSE)","v":129.68496659597579},40.994708044251922,40.199966348495074,4,165.58082608785989,155.38312898312424,134.9877347736529,104.39464345944592]
[15044,{"$f":"VLOOKUP($A366,BasinData!$A:$K,8,FALSE)","v":146.9406890729544},{"$f":"VLOOKUP($A366,BasinData!$A:$K,9,FALSE)","v":59.14718684805873},87.793502224895661,{"$f":"VLOOKUP($A366,BasinData!$A:$K,7,FALSE)","v":123.53130998851955},23.409379084434846,26.664136287066391,3,142.55101396170963,133.77166373922006,116.21296329424092,89.874912626772215]
[15045,{"$f":"VLOOKUP($A367,BasinData!$A:$K,8,FALSE)","v":92.387398328348837},{"$f":"VLOOKUP($A367,BasinData!$A:$K,9,FALSE)","v":37.18816582260505},55.199232505743787,{"$f":"VLOOKUP($A367,BasinData!$A:$K,7,FALSE)","v":64.158131653776039},28.229266674572798,51.140686913781607,4,89.627436703061647,84.107513452487268,73.067666951338509,56.507897199615371]
[15046,{"$f":"VLOOKUP($A368,BasinData!$A:$K,8,FALSE)","v":241.21614219637073},{"$f":"VLOOKUP($A368,BasinData!$A:$K,9,FALSE)","v":97.095340461981309},144.12080173438943,{"$f":"VLOOKUP($A368,BasinData!$A:$K,7,FALSE)","v":229.60549808800454},11.610644108366188,8.0561889530452913,2,234.01010210965126,219.59802193621232,190.77386158933444,147.53762106901758]
[15047,{"$f":"VLOOKUP($A369,BasinData!$A:$K,8,FALSE)","v":179.64810479693497},{"$f":"VLOOKUP($A369,BasinData!$A:$K,9,FALSE)","v":72.31271398249956},107.33539081443541,{"$f":"VLOOKUP($A369,BasinData!$A:$K,7,FALSE)","v":142.38312001618863},37.264984780746346,34.718264402811137,3,174.2813352562132,163.54779617476967,142.0807180118826,109.88010076755195]
[15048,{"$f":"VLOOKUP($A370,BasinData!$A:$K,8,FALSE)","v":179.00319223835919},{"$f":"VLOOKUP($A370,BasinData!$A:$K,9,FALSE)","v":72.053121055289282},106.95007118306991,{"$f":"VLOOKUP($A370,BasinData!$A:$K,7,FALSE)","v":109.04372441750583},69.959467820853362,65.413203607037786,5,173.6556886792057,162.96068156089871,141.57066732428473,109.48564596936374]
[15049,{"$f":"VLOOKUP($A371,BasinData!$A:$K,8,FALSE)","v":137.22994534452567},{"$f":"VLOOKUP($A371,BasinData!$A:$K,9,FALSE)","v":55.238377263983459},81.991568080542208,{"$f":"VLOOKUP($A371,BasinData!$A:$K,7,FALSE)","v":120.47160681102073},16.75833853350494,20.439099929205938,3,133.13036694049856,124.93121013244435,108.53289651633591,83.93542609217323]
[15050,{"$f":"VLOOKUP($A372,BasinData!$A:$K,8,FALSE)","v":218.11145201101721},{"$f":"VLOOKUP($A372,BasinData!$A:$K,9,FALSE)","v":87.795142973584319},130.31630903743289,{"$f":"VLOOKUP($A372,BasinData!$A:$K,7,FALSE)","v":165.66946972964212},52.44198228137509,40.242071517166224,4,211.59563655914556,198.56400565540227,172.50074384791571,133.40585113668584]
[15051,{"$f":"VLOOKUP($A373,BasinData!$A:$K,8,FALSE)","v":343.12529544868005},{"$f":"VLOOKUP($A373,BasinData!$A:$K,9,FALSE)","v":138.11624329679199},205.00905215188806,{"$f":"VLOOKUP($A373,BasinData!$A:$K,7,FALSE)","v":336.89193070349484},6.233364745185213,3.0405314691016714,1,332.87484284108564,312.37393762589682,271.37212719551923,209.86941154995282]
[15052,{"$f":"VLOOKUP($A374,BasinData!$A:$K,8,FALSE)","v":201.0220369564293},{"$f":"VLOOKUP($A374,BasinData!$A:$K,9,FALSE)","v":80.916239439547581},120.10579751688172,{"$f":"VLOOKUP($A374,BasinData!$A:$K,7,FALSE)","v":194.5685086929181},6.4535282635112026,5.3732029568382105,2,195.01674708058522,183.00616732889705,158.98500782552071,122.95326857045619]
[15053,{"$f":"VLOOKUP($A375,BasinData!$A:$K,8,FALSE)","v":201.65341905028401},{"$f":"VLOOKUP($A375,BasinData!$A:$K,9,FALSE)","v":81.170386026945181},120.48303302333883,{"$f":"VLOOKUP($A375,BasinData!$A:$K,7,FALSE)","v":189.30927765496003},12.344141395323987,10.245543364543948,2,195.62926739911708,183.58096409678319,159.48435749211544,123.33944758511377]
[15054,{"$f":"VLOOKUP($A376,BasinData!$A:$K,8,FALSE)","v":236.47106679437252},{"$f":"VLOOKUP($A376,BasinData!$A:$K,9,FALSE)","v":95.185332667810883},141.28573412656164,{"$f":"VLOOKUP($A376,BasinData!$A:$K,7,FALSE)","v":220.10423947633629},16.366827318036229,11.584203755047959,2,229.40678008804443,215.27820667538828,187.02105985007594,144.63533961210746]
[15055,{"$f":"VLOOKUP($A377,BasinData!$A:$K,8,FALSE)","v":183.72176473708657},{"$f":"VLOOKUP($A377,BasinData!$A:$K,9,FALSE)","v":73.952460788885986},109.76930394820059,{"$f":"VLOOKUP($A377,BasinData!$A:$K,7,FALSE)","v":155.70741317189569},28.014351565190879,25.52111615685444,3,178.23329953967655,167.25636914485648,145.30250835521636,112.37171717075618]
[15056,{"$f":"VLOOKUP($A378,BasinData!$A:$K,8,FALSE)","v":228.81809124602415},{"$f":"VLOOKUP($A378,BasinData!$A:$K,9,FALSE)","v":92.104824623663575},136.71326662236058,{"$f":"VLOOKUP($A378,BasinData!$A:$K,7,FALSE)","v":214.09951912391162},14.718572122112533,10.766015973248049,2,221.98242791490611,208.31110125267006,180.96844792819795,139.95446794148978]
[15058,{"$f":"VLOOKUP($A379,BasinData!$A:$K,8,FALSE)","v":231.29179158961054},{"$f":"VLOOKUP($A379,BasinData!$A:$K,9,FALSE)","v":93.100548934957416},138.19124265465314,{"$f":"VLOOKUP($A379,BasinData!$A:$K,7,FALSE)","v":186.26164515443554},45.030146435174998,32.585383538165004,3,224.38222945687789,210.56310519141257,182.92485666048194,141.46748386408598]
[15059,{"$f":"VLOOKUP($A380,BasinData!$A:$K,8,FALSE)","v":226.35185891021803},{"$f":"VLOOKUP($A380,BasinData!$A:$K,9,FALSE)","v":91.11210636640655},135.23975254381148,{"$f":"VLOOKUP($A380,BasinData!$A:$K,7,FALSE)","v":215.34088827026221},11.010970639955815,8.141815134118028,2,219.58987128302746,206.06589602864631,179.01794551988402,138.44601975674055]
[15060,{"$f":"VLOOKUP($A381,BasinData!$A:$K,8,FALSE)","v":149.22711813198185},{"$f":"VLOOKUP($A381,BasinData!$A:$K,9,FALSE)","v":60.06752993085172},89.159588201130134,{"$f":"VLOOKUP($A381,BasinData!$A:$K,7,FALSE)","v":143.34711892065923},5.8799992113226267,6.5949151739667808,2,144.76913872192534,135.85317990181233,118.02126226158632,91.273385801247258]
[15061,{"$f":"VLOOKUP($A382,BasinData!$A:$K,8,FALSE)","v":265.2279508249926},{"$f":"VLOOKUP($A382,BasinData!$A:$K,9,FALSE)","v":106.76067509786151},158.4672757271311,{"$f":"VLOOKUP($A382,BasinData!$A:$K,7,FALSE)","v":249.8498823928432},15.378068432149405,9.7042549394420714,2,257.30458703863604,241.45785946592295,209.76440432049674,162.22422160235737]
[15062,{"$f":"VLOOKUP($A383,BasinData!$A:$K,8,FALSE)","v":232.25605910074358},{"$f":"VLOOKUP($A383,BasinData!$A:$K,9,FALSE)","v":93.488689966637097},138.7673691341065,{"$f":"VLOOKUP($A383,BasinData!$A:$K,7,FALSE)","v":186.08520994640728},46.17084915433631,33.272122576393464,3,225.31769064403827,211.4409537306276,183.68747990380632,142.05726916357435]
[15063,{"$f":"VLOOKUP($A384,BasinData!$A:$K,8,FALSE)","v":231.27735710575837},{"$f":"VLOOKUP($A384,BasinData!$A:$K,9,FALSE)","v":93.094738705545495},138.18261840021287,{"$f":"VLOOKUP($A384,BasinData!$A:$K,7,FALSE)","v":185.98616219016307},45.291194915595298,32.77633282676711,3,224.36822618574772,210.54996434572644,182.91344066568388,141.45865514562001]
[15064,{"$f":"VLOOKUP($A385,BasinData!$A:$K,8,FALSE)","v":257.32573428404186},{"$f":"VLOOKUP($A385,BasinData!$A:$K,9,FALSE)","v":103.57984151656953},153.74589276747233,{"$f":"VLOOKUP($A385,BasinData!$A:$K,7,FALSE)","v":246.87795033733667},10.447783946705187,6.7954881646865042,2,249.63843964566823,234.263850368921,203.51467181542654,157.39090398518482]
[15065,{"$f":"VLOOKUP($A386,BasinData!$A:$K,8,FALSE)","v":215.30637037345312},{"$f":"VLOOKUP($A386,BasinData!$A:$K,9,FALSE)","v":86.666029664072838},128.64034070938027,{"$f":"VLOOKUP($A386,BasinData!$A:$K,7,FALSE)","v":206.41072060285623},8.89564977059689,6.9151323150594175,2,208.8743533379841,196.01031926704607,170.28225112517003,131.69014891235594]
[15066,{"$f":"VLOOKUP($A387,BasinData!$A:$K,8,FALSE)","v":224.63617494974793},{"$f":"VLOOKUP($A387,BasinData!$A:$K,9,FALSE)","v":90.421502011531373},{"$f":"B387-C387","v":134.21467293821655},{"$f":"VLOOKUP($A387,BasinData!$A:$K,7,FALSE)","v":181.11668510603181},{"$f":"B387-E387","v":43.519489843716116},{"$f":"F387/D387*100","v":32.425284725575104},{"$f":"IF($G387<($I$1*100),1,IF($G387<($J$1*100),2,IF($G387<($K$1*100),3,IF($G387<($L$1*100),4,5))))","v":3},{"$f":"B387-(D387*$I$1)","v":217.9254413028371},{"$f":"B387-(D387*$J$1)","v":204.50397400901545},{"$f":"B387-(D387*$K$1)","v":177.66103942137215},{"$f":"B387-(D387*$L$1)","v":137.39663753990715}]
[16003,{"$f":"VLOOKUP($A388,BasinData!$A:$K,8,FALSE)","v":266.48698375083234},{"$f":"VLOOKUP($A388,BasinData!$A:$K,9,FALSE)","v":107.26746634936792},159.21951740146443,{"$f":"VLOOKUP($A388,BasinData!$A:$K,7,FALSE)","v":261.16100259970403},5.3259811511283033,3.3450554542877402,1,258.5260078807591,242.60405614061267,210.76015266031979,162.99429743988046]
[16004,{"$f":"VLOOKUP($A389,BasinData!$A:$K,8,FALSE)","v":309.95884858225571},{"$f":"VLOOKUP($A389,BasinData!$A:$K,9,FALSE)","v":124.76594500793173},185.19290357432396,{"$f":"VLOOKUP($A389,BasinData!$A:$K,7,FALSE)","v":294.2897164543715},15.669132127884211,8.4609787013764688,2,300.69920340353951,282.17991304610712,245.14133233124232,189.58346125894514]
[16005,{"$f":"VLOOKUP($A390,BasinData!$A:$K,8,FALSE)","v":310.68447871322951},{"$f":"VLOOKUP($A390,BasinData!$A:$K,9,FALSE)","v":125.05802871333738},185.62644999989215,{"$f":"VLOOKUP($A390,BasinData!$A:$K,7,FALSE)","v":302.3485506008854},8.3359281123441065,4.4907006045469,1,301.40315621323492,282.84051121324569,245.71522121326726,190.02728621329962]
[16006,{"$f":"VLOOKUP($A391,BasinData!$A:$K,8,FALSE)","v":282.33494815525444},{"$f":"VLOOKUP($A391,BasinData!$A:$K,9,FALSE)","v":113.64665592377062},168.68829223148381,{"$f":"VLOOKUP($A391,BasinData!$A:$K,7,FALSE)","v":261.30213302043074},21.032815134823693,12.468449858963092,2,273.90053354368024,257.03170432053184,223.29404587423511,172.68755820478995]
[16007,{"$f":"VLOOKUP($A392,BasinData!$A:$K,8,FALSE)","v":306.39095298744576},{"$f":"VLOOKUP($A392,BasinData!$A:$K,9,FALSE)","v":123.32978060219783},183.06117238524791,{"$f":"VLOOKUP($A392,BasinData!$A:$K,7,FALSE)","v":292.16856550011465},14.222387487331105,7.769199389480816,2,297.23789436818333,278.9317771296586,242.31954265260899,187.40119093703461]
[16008,{"$f":"VLOOKUP($A393,BasinData!$A:$K,8,FALSE)","v":336.12614311263127},{"$f":"VLOOKUP($A393,BasinData!$A:$K,9,FALSE)","v":135.29891493383076},200.82722817880051,{"$f":"VLOOKUP($A393,BasinData!$A:$K,7,FALSE)","v":316.66137819685503},19.464764915776243,9.6922937652888237,2,326.08478170369125,306.00205888581121,265.83661325005107,205.58844479641093]
[16009,{"$f":"VLOOKUP($A394,BasinData!$A:$K,8,FALSE)","v":275.01805281864398},{"$f":"VLOOKUP($A394,BasinData!$A:$K,9,FALSE)","v":110.70142830606616},164.31662451257782,{"$f":"VLOOKUP($A394,BasinData!$A:$K,7,FALSE)","v":269.05365831320671},5.9643945054372693,3.6298180559208832,1,266.80222159301508,250.3705591417573,217.50723423924174,168.2122468854684]
[16010,{"$f":"VLOOKUP($A395,BasinData!$A:$K,8,FALSE)","v":298.07002714406519},{"$f":"VLOOKUP($A395,BasinData!$A:$K,9,FALSE)","v":119.98040638384964},178.08962076021555,{"$f":"VLOOKUP($A395,BasinData!$A:$K,7,FALSE)","v":286.08846639201261},11.981560752052587,6.7278265296464799,2,289.16554610605442,271.35658403003288,235.73865987798976,182.3117736499251]
[16011,{"$f":"VLOOKUP($A396,BasinData!$A:$K,8,FALSE)","v":320.14604147230904},{"$f":"VLOOKUP($A396,BasinData!$A:$K,9,FALSE)","v":128.8665369210814},191.27950455122763,{"$f":"VLOOKUP($A396,BasinData!$A:$K,7,FALSE)","v":304.67782914712495},15.468212325184084,8.0867066032374915,2,310.58206624474764,291.45411578962489,253.19821487937935,195.81436351401106]
[16012,{"$f":"VLOOKUP($A397,BasinData!$A:$K,8,FALSE)","v":321.64459856029225},{"$f":"VLOOKUP($A397,BasinData!$A:$K,9,FALSE)","v":129.46974245009196},192.1748561102003,{"$f":"VLOOKUP($A397,BasinData!$A:$K,7,FALSE)","v":305.84117690844658},15.803421651845667,8.2234595990972874,2,312.03585575478223,292.81837014376219,254.38339892172215,196.73094208866206]
[16013,{"$f":"VLOOKUP($A398,BasinData!$A:$K,8,FALSE)","v":333.44825865654519},{"$f":"VLOOKUP($A398,BasinData!$A:$K,9,FALSE)","v":134.22100157109298},199.22725708545221,{"$f":"VLOOKUP($A398,BasinData!$A:$K,7,FALSE)","v":325.4000237731297},8.0482348834154891,4.0397257891089939,1,323.48689580227256,303.56417009372734,263.71871867663691,203.95054155100127]
[16014,{"$f":"VLOOKUP($A399,BasinData!$A:$K,8,FALSE)","v":354.93584266159007},{"$f":"VLOOKUP($A399,BasinData!$A:$K,9,FALSE)","v":142.87027464908124},212.06556801250883,{"$f":"VLOOKUP($A399,BasinData!$A:$K,7,FALSE)","v":341.72356732941591},13.212275332174158,6.2302784256776764,2,344.33256426096466,323.12600745971372,280.71289385721195,217.09322345345933]
[16015,{"$f":"VLOOKUP($A400,BasinData!$A:$K,8,FALSE)","v":290.61015875129044},{"$f":"VLOOKUP($A400,BasinData!$A:$K,9,FALSE)","v":116.97762864765494},173.6325301036355,{"$f":"VLOOKUP($A400,BasinData!$A:$K,7,FALSE)","v":288.46722585501527},2.1429328962751697,1.2341770836352635,1,281.92853224610866,264.56527923574509,229.83877321501802,177.74901418392736]
[16016,{"$f":"VLOOKUP($A401,BasinData!$A:$K,8,FALSE)","v":316.33787710890471},{"$f":"VLOOKUP($A401,BasinData!$A:$K,9,FALSE)","v":127.33365851570954},189.00421859319516,{"$f":"VLOOKUP($A401,BasinData!$A:$K,7,FALSE)","v":285.10112632301588},31.23675078588883,16.527012475378402,3,306.88766617924495,287.98724431992542,250.18640060128641,193.48513502332784]
[16017,{"$f":"VLOOKUP($A402,BasinData!$A:$K,8,FALSE)","v":328.70149072930758},{"$f":"VLOOKUP($A402,BasinData!$A:$K,9,FALSE)","v":132.31031249451391},196.39117823479367,{"$f":"VLOOKUP($A402,BasinData!$A:$K,7,FALSE)","v":312.52872269167648},16.172768037631101,8.2349768370430052,2,318.88193181756787,299.24281399408852,259.96457834712982,201.0472248766917]
[16018,{"$f":"VLOOKUP($A403,BasinData!$A:$K,8,FALSE)","v":317.69406466958844},{"$f":"VLOOKUP($A403,BasinData!$A:$K,9,FALSE)","v":127.87955686121784},189.81450780837059,{"$f":"VLOOKUP($A403,BasinData!$A:$K,7,FALSE)","v":314.01225871225245},3.681805957335996,1.9396862757471656,1,308.20333927916994,289.22188849833287,251.25898693665874,194.31463459414755]
[16019,{"$f":"VLOOKUP($A404,BasinData!$A:$K,8,FALSE)","v":294.87216598009365},{"$f":"VLOOKUP($A404,BasinData!$A:$K,9,FALSE)","v":118.6931898002547},176.17897617983897,{"$f":"VLOOKUP($A404,BasinData!$A:$K,7,FALSE)","v":285.59988471337425},9.2722812667194034,5.2629896414283266,2,286.06321717110171,268.44531955311783,233.20952431715003,180.35583146319834]
[16020,{"$f":"VLOOKUP($A405,BasinData!$A:$K,8,FALSE)","v":338.74301634365037},{"$f":"VLOOKUP($A405,BasinData!$A:$K,9,FALSE)","v":136.35226980054111},202.39074654310926,{"$f":"VLOOKUP($A405,BasinData!$A:$K,7,FALSE)","v":322.46512194519283},16.277894398457533,8.0428056502031531,2,328.62347901649491,308.384404362184,267.90625505356212,207.18903109062936]
[16021,{"$f":"VLOOKUP($A406,BasinData!$A:$K,8,FALSE)","v":295.27632611403999},{"$f":"VLOOKUP($A406,BasinData!$A:$K,9,FALSE)","v":118.85587404455677},176.42045206948322,{"$f":"VLOOKUP($A406,BasinData!$A:$K,7,FALSE)","v":272.51921763128661},22.757108482753381,12.899359578667497,2,286.45530351056584,268.81325830361749,233.52916788972087,180.60303226887589]
[16022,{"$f":"VLOOKUP($A407,BasinData!$A:$K,8,FALSE)","v":326.34813934128692},{"$f":"VLOOKUP($A407,BasinData!$A:$K,9,FALSE)","v":131.36303155317242},194.9851077881145,{"$f":"VLOOKUP($A407,BasinData!$A:$K,7,FALSE)","v":309.70683337421707},16.641305967069854,8.5346548543356189,2,316.59888395188119,297.10037317306973,258.10335161544685,199.60781927901249]
[16023,{"$f":"VLOOKUP($A408,BasinData!$A:$K,8,FALSE)","v":236.73468744746327},{"$f":"VLOOKUP($A408,BasinData!$A:$K,9,FALSE)","v":95.291446366635483},141.44324108082779,{"$f":"VLOOKUP($A408,BasinData!$A:$K,7,FALSE)","v":220.74899124559536},15.98569620186791,11.301845234678183,2,229.66252539342187,215.5182012853391,187.22955306917356,144.79658074492522]
[16024,{"$f":"VLOOKUP($A409,BasinData!$A:$K,8,FALSE)","v":318.45653091289847},{"$f":"VLOOKUP($A409,BasinData!$A:$K,9,FALSE)","v":128.18646799415805},190.27006291874042,{"$f":"VLOOKUP($A409,BasinData!$A:$K,7,FALSE)","v":307.22548220034349},11.23104871255498,5.9026882843632,2,308.94302776696145,289.9160214750874,251.86200889133931,194.78099001571718]
[16025,{"$f":"VLOOKUP($A410,BasinData!$A:$K,8,FALSE)","v":341.36524218277322},{"$f":"VLOOKUP($A410,BasinData!$A:$K,9,FALSE)","v":137.40777922167499},203.95746296109823,{"$f":"VLOOKUP($A410,BasinData!$A:$K,7,FALSE)","v":324.5070489708595},16.858193211913715,8.2655436909063518,2,331.16736903471832,310.77162273860847,269.98013014638883,208.79289125805937]
[16026,{"$f":"VLOOKUP($A411,BasinData!$A:$K,8,FALSE)","v":261.24936941542114},{"$f":"VLOOKUP($A411,BasinData!$A:$K,9,FALSE)","v":105.1591997032191},156.09016971220206,{"$f":"VLOOKUP($A411,BasinData!$A:$K,7,FALSE)","v":250.33971817941622},10.909651236004919,6.9893262696299558,2,253.44486092981103,237.83584395859083,206.61781001615043,159.7907591024898]
[16027,{"$f":"VLOOKUP($A412,BasinData!$A:$K,8,FALSE)","v":314.21462978113129},{"$f":"VLOOKUP($A412,BasinData!$A:$K,9,FALSE)","v":126.47900003266605},187.73562974846524,{"$f":"VLOOKUP($A412,BasinData!$A:$K,7,FALSE)","v":299.25824512457649},14.956384656554803,7.9667267617733986,2,304.82784829370803,286.0542853188615,248.50715936916845,192.18647044462887]
[16028,{"$f":"VLOOKUP($A413,BasinData!$A:$K,8,FALSE)","v":178.06516906438239},{"$f":"VLOOKUP($A413,BasinData!$A:$K,9,FALSE)","v":71.675544005058711},106.38962505932368,{"$f":"VLOOKUP($A413,BasinData!$A:$K,7,FALSE)","v":163.11846616169331},14.946702902689083,14.049023007980981,2,172.74568781141619,162.10672530548385,140.82880029361911,108.91191277582199]
[16029,{"$f":"VLOOKUP($A414,BasinData!$A:$K,8,FALSE)","v":270.26387388957011},{"$f":"VLOOKUP($A414,BasinData!$A:$K,9,FALSE)","v":108.78775612172365},161.47611776784646,{"$f":"VLOOKUP($A414,BasinData!$A:$K,7,FALSE)","v":259.96103524226351},10.302838647306601,6.3804101744128801,2,262.19006800117779,246.04245622439313,213.74723267082385,165.3043973404699]
[16030,{"$f":"VLOOKUP($A415,BasinData!$A:$K,8,FALSE)","v":223.51698529317417},{"$f":"VLOOKUP($A415,BasinData!$A:$K,9,FALSE)","v":89.971001063472542},133.54598422970162,{"$f":"VLOOKUP($A415,BasinData!$A:$K,7,FALSE)","v":213.8841242788728},9.6328610143013691,7.2131416529400578,2,216.83968608168908,203.48508765871892,176.77589081277861,136.71209554386812]
[16031,{"$f":"VLOOKUP($A416,BasinData!$A:$K,8,FALSE)","v":328.57953925012305},{"$f":"VLOOKUP($A416,BasinData!$A:$K,9,FALSE)","v":132.26122406998539},196.31831518013766,{"$f":"VLOOKUP($A416,BasinData!$A:$K,7,FALSE)","v":323.48024037587817},5.0992988742448802,2.5974646683198497,1,318.76362349111616,299.13179197310239,259.86812893707486,200.97263438303355]
[16032,{"$f":"VLOOKUP($A417,BasinData!$A:$K,8,FALSE)","v":219.91227208265045},{"$f":"VLOOKUP($A417,BasinData!$A:$K,9,FALSE)","v":88.520016675542692},131.39225540710777,{"$f":"VLOOKUP($A417,BasinData!$A:$K,7,FALSE)","v":219.06713495540396},0.84513712724648826,0.64321685066437329,1,213.34265931229507,200.20343377158429,173.92498269016272,134.5073060680304]
[16033,{"$f":"VLOOKUP($A418,BasinData!$A:$K,8,FALSE)","v":237.81433565588037},{"$f":"VLOOKUP($A418,BasinData!$A:$K,9,FALSE)","v":95.726030923957879},142.08830473192251,{"$f":"VLOOKUP($A418,BasinData!$A:$K,7,FALSE)","v":90.111439915530113},147.70289574035024,103.95148004546945,5,230.70992041928423,216.50108994609201,188.08342899970751,145.45693758013073]
[16034,{"$f":"VLOOKUP($A419,BasinData!$A:$K,8,FALSE)","v":302.06421466823855},{"$f":"VLOOKUP($A419,BasinData!$A:$K,9,FALSE)","v":121.58816361766235},180.47605105057619,{"$f":"VLOOKUP($A419,BasinData!$A:$K,7,FALSE)","v":281.29320716465384},20.771007503584713,11.509010410341865,2,293.04041211570973,274.99280701065214,238.89759680053689,184.75478148536402]
[16035,{"$f":"VLOOKUP($A420,BasinData!$A:$K,8,FALSE)","v":265.95715102879393},{"$f":"VLOOKUP($A420,BasinData!$A:$K,9,FALSE)","v":107.05419584406179},158.90295518473215,{"$f":"VLOOKUP($A420,BasinData!$A:$K,7,FALSE)","v":261.94470160927398},4.0124494195199532,2.525094272070203,1,258.01200326955734,242.1217077510841,210.34111671413768,162.67023015871803]
[16036,{"$f":"VLOOKUP($A421,BasinData!$A:$K,8,FALSE)","v":237.92059901198252},{"$f":"VLOOKUP($A421,BasinData!$A:$K,9,FALSE)","v":95.768804498916111},142.15179451306642,{"$f":"VLOOKUP($A421,BasinData!$A:$K,7,FALSE)","v":234.75790509052052},3.1626939214619938,2.2248709080990765,1,230.81300928632919,216.59782983502257,188.16747093240929,145.52193257848933]
[16037,{"$f":"VLOOKUP($A422,BasinData!$A:$K,8,FALSE)","v":198.38289287357472},{"$f":"VLOOKUP($A422,BasinData!$A:$K,9,FALSE)","v":79.853920015483581},118.52897285809114,{"$f":"VLOOKUP($A422,BasinData!$A:$K,7,FALSE)","v":191.62484730811147},6.7580455654632487,5.7015980165071722,2,192.45644423067017,180.60354694486105,156.89775237324284,121.33906051581548]
[16038,{"$f":"VLOOKUP($A423,BasinData!$A:$K,8,FALSE)","v":251.54497334302809},{"$f":"VLOOKUP($A423,BasinData!$A:$K,9,FALSE)","v":101.25294520446401},150.29202813856409,{"$f":"VLOOKUP($A423,BasinData!$A:$K,7,FALSE)","v":255.02642297956029},-3.4814496365322043,-2.3164566209209894,1,244.0303719360999,229.00116912224348,198.94276349453065,153.85515505296144]
[16039,{"$f":"VLOOKUP($A424,BasinData!$A:$K,8,FALSE)","v":294.88457611342062},{"$f":"VLOOKUP($A424,BasinData!$A:$K,9,FALSE)","v":118.69818517954228},176.18639093387833,{"$f":"VLOOKUP($A424,BasinData!$A:$K,7,FALSE)","v":221.01351867513617},73.871057438284453,41.927788546396755,4,286.07525656672669,268.45661747333889,233.21933928656321,180.3634220063997]
[16040,{"$f":"VLOOKUP($A425,BasinData!$A:$K,8,FALSE)","v":316.16868272754175},{"$f":"VLOOKUP($A425,BasinData!$A:$K,9,FALSE)","v":127.26555367864057},188.90312904890118,{"$f":"VLOOKUP($A425,BasinData!$A:$K,7,FALSE)","v":296.62249970201299},19.546183025528762,10.347199182957345,2,306.72352627509667,287.83321337020658,250.05258756042633,193.38164884575599]
[16041,{"$f":"VLOOKUP($A426,BasinData!$A:$K,8,FALSE)","v":176.0036806990413},{"$f":"VLOOKUP($A426,BasinData!$A:$K,9,FALSE)","v":70.845745000445419},105.15793569859588,{"$f":"VLOOKUP($A426,BasinData!$A:$K,7,FALSE)","v":166.82862749905505},9.1750531999862517,8.7250221669278751,2,170.74578391411151,160.22999034425192,139.19840320453275,107.65102249495398]
[16042,{"$f":"VLOOKUP($A427,BasinData!$A:$K,8,FALSE)","v":315.98078964330961},{"$f":"VLOOKUP($A427,BasinData!$A:$K,9,FALSE)","v":127.18992216070875},188.79086748260085,{"$f":"VLOOKUP($A427,BasinData!$A:$K,7,FALSE)","v":297.15532954747999},18.825460095829612,9.9715946787333802,2,306.54124626917957,287.66215952091949,249.90398602439933,193.26672577961904]
[16043,{"$f":"VLOOKUP($A428,BasinData!$A:$K,8,FALSE)","v":259.45962589193471},{"$f":"VLOOKUP($A428,BasinData!$A:$K,9,FALSE)","v":104.43878458020849},155.0208413117262,{"$f":"VLOOKUP($A428,BasinData!$A:$K,7,FALSE)","v":241.89757018460381},17.562055707330899,11.328835244814567,2,251.70858382634839,236.20649969517578,205.20233143283053,158.69607903931268]
[16044,{"$f":"VLOOKUP($A429,BasinData!$A:$K,8,FALSE)","v":247.19737874291317},{"$f":"VLOOKUP($A429,BasinData!$A:$K,9,FALSE)","v":99.502933061639936},147.69444568127324,{"$f":"VLOOKUP($A429,BasinData!$A:$K,7,FALSE)","v":237.7902665748656},9.4071121680475756,6.3693066619094534,2,239.81265645884952,225.04321189072218,195.50432275446755,151.19598905008559]
[16045,{"$f":"VLOOKUP($A430,BasinData!$A:$K,8,FALSE)","v":202.08397173527936},{"$f":"VLOOKUP($A430,BasinData!$A:$K,9,FALSE)","v":81.343693912378541},120.74027782290082,{"$f":"VLOOKUP($A430,BasinData!$A:$K,7,FALSE)","v":194.05550433398156},8.028467401297803,6.6493696602833579,2,196.04695784413431,183.97293006184424,159.82487449726409,123.60279115039383]
[16046,{"$f":"VLOOKUP($A431,BasinData!$A:$K,8,FALSE)","v":319.72280891361459},{"$f":"VLOOKUP($A431,BasinData!$A:$K,9,FALSE)","v":128.69617556380717},191.02663334980741,{"$f":"VLOOKUP($A431,BasinData!$A:$K,7,FALSE)","v":300.50935506796617},19.213453845648417,10.057997415713649,2,310.1714772461242,291.06881391114348,252.86348724118199,195.55549723623977]
[16047,{"$f":"VLOOKUP($A432,BasinData!$A:$K,8,FALSE)","v":243.00449227605517},{"$f":"VLOOKUP($A432,BasinData!$A:$K,9,FALSE)","v":97.815194690106779},145.1892975859484,{"$f":"VLOOKUP($A432,BasinData!$A:$K,7,FALSE)","v":225.87923362735245},17.125258648702726,11.795124663761808,2,235.74502739675776,221.22609763816291,192.18823812097324,148.63144884518871]
[16048,{"$f":"VLOOKUP($A433,BasinData!$A:$K,8,FALSE)","v":304.21697903668075},{"$f":"VLOOKUP($A433,BasinData!$A:$K,9,FALSE)","v":122.45470342459681},181.76227561208395,{"$f":"VLOOKUP($A433,BasinData!$A:$K,7,FALSE)","v":291.09352274482933},13.123456291851426,7.220121033178212,2,295.12886525607655,276.95263769486814,240.60018257245139,186.07149988882617]
[16049,{"$f":"VLOOKUP($A434,BasinData!$A:$K,8,FALSE)","v":246.57939925849843},{"$f":"VLOOKUP($A434,BasinData!$A:$K,9,FALSE)","v":99.254181349207187},147.32521790929124,{"$f":"VLOOKUP($A434,BasinData!$A:$K,7,FALSE)","v":227.04894319997422},19.530456058524209,13.2566958567468,2,239.21313836303386,224.48061657210474,195.01557299024648,150.8180076174591]
[16050,{"$f":"VLOOKUP($A435,BasinData!$A:$K,8,FALSE)","v":308.01368359922265},{"$f":"VLOOKUP($A435,BasinData!$A:$K,9,FALSE)","v":123.98296898251894},184.0307146167037,{"$f":"VLOOKUP($A435,BasinData!$A:$K,7,FALSE)","v":301.38898689327328},6.6246967059493613,3.5997777434854696,1,298.81214786838746,280.40907640671708,243.60293348337635,188.39371909836524]
[16051,{"$f":"VLOOKUP($A436,BasinData!$A:$K,8,FALSE)","v":287.73504720721968},{"$f":"VLOOKUP($A436,BasinData!$A:$K,9,FALSE)","v":115.82032660436771},171.91472060285196,{"$f":"VLOOKUP($A436,BasinData!$A:$K,7,FALSE)","v":274.10536523561836},13.629681971601315,7.9281645712515019,2,279.1393111770771,261.9478391167919,227.56489499622148,175.99047881536592]
[16052,{"$f":"VLOOKUP($A437,BasinData!$A:$K,8,FALSE)","v":245.85882848075565},{"$f":"VLOOKUP($A437,BasinData!$A:$K,9,FALSE)","v":98.964134156034945},146.89469432472072,{"$f":"VLOOKUP($A437,BasinData!$A:$K,7,FALSE)","v":238.65617507674435},7.2026534040113006,4.9032767569462692,1,238.5140937645196,223.82462433204753,194.4456854671034,150.37727716968718]
[16053,{"$f":"VLOOKUP($A438,BasinData!$A:$K,8,FALSE)","v":396.94270338678416},{"$f":"VLOOKUP($A438,BasinData!$A:$K,9,FALSE)","v":159.77905366657899},237.16364972020517,{"$f":"VLOOKUP($A438,BasinData!$A:$K,7,FALSE)","v":389.95264713375349},6.9900562530306729,2.9473556598058859,1,385.0845209007739,361.36815592875337,313.93542598471237,242.78633106865078]
[16054,{"$f":"VLOOKUP($A439,BasinData!$A:$K,8,FALSE)","v":339.84963668627091},{"$f":"VLOOKUP($A439,BasinData!$A:$K,9,FALSE)","v":136.79771129525429},203.05192539101662,{"$f":"VLOOKUP($A439,BasinData!$A:$K,7,FALSE)","v":323.26565823950887},16.583978446762046,8.1673583812743065,2,329.69704041672009,309.39184787761843,268.78146279941507,207.86588518211011]
[16055,{"$f":"VLOOKUP($A440,BasinData!$A:$K,8,FALSE)","v":230.48537046091749},{"$f":"VLOOKUP($A440,BasinData!$A:$K,9,FALSE)","v":92.775944895885928},137.70942556503155,{"$f":"VLOOKUP($A440,BasinData!$A:$K,7,FALSE)","v":223.83771525958215},6.6476552013353398,4.8273058827015936,1,223.59989918266592,209.82895662616275,182.28707151315646,140.974243843647]
[16056,{"$f":"VLOOKUP($A441,BasinData!$A:$K,8,FALSE)","v":256.09704955539115},{"$f":"VLOOKUP($A441,BasinData!$A:$K,9,FALSE)","v":103.08526614958743},153.01178340580373,{"$f":"VLOOKUP($A441,BasinData!$A:$K,7,FALSE)","v":246.28631353879246},9.8107360165986961,6.4117519567624193,2,248.44646038510098,233.1452820445206,202.54292536335984,156.63939034161871]
[16057,{"$f":"VLOOKUP($A442,BasinData!$A:$K,8,FALSE)","v":245.68454545139508},{"$f":"VLOOKUP($A442,BasinData!$A:$K,9,FALSE)","v":98.893981014879358},146.79056443651572,{"$f":"VLOOKUP($A442,BasinData!$A:$K,7,FALSE)","v":237.56984544071801},8.114700010677069,5.5280801200178846,2,238.34501722956929,223.66596078591772,194.30784789861457,150.27067856765984]
[16058,{"$f":"VLOOKUP($A443,BasinData!$A:$K,8,FALSE)","v":282.59438276112104},{"$f":"VLOOKUP($A443,BasinData!$A:$K,9,FALSE)","v":113.75108463718455},168.84329812393651,{"$f":"VLOOKUP($A443,BasinData!$A:$K,7,FALSE)","v":261.30284697146743},21.291535789653608,12.610234475534188,2,274.15221785492423,257.26788804253056,223.49922841774327,172.8462389805623]
[16059,{"$f":"VLOOKUP($A444,BasinData!$A:$K,8,FALSE)","v":188.77993395884064},{"$f":"VLOOKUP($A444,BasinData!$A:$K,9,FALSE)","v":75.988496429903364},112.79143752893728,{"$f":"VLOOKUP($A444,BasinData!$A:$K,7,FALSE)","v":168.88219837846918},19.89773558037146,17.641175621391103,3,183.14036208239378,171.86121832950005,149.30293082371259,115.46549956503141]
[16060,{"$f":"VLOOKUP($A445,BasinData!$A:$K,8,FALSE)","v":281.38352383270689},{"$f":"VLOOKUP($A445,BasinData!$A:$K,9,FALSE)","v":113.26368458661044},168.11983924609643,{"$f":"VLOOKUP($A445,BasinData!$A:$K,7,FALSE)","v":265.38571104884113},15.997812783865754,9.5157197720418392,2,272.97753187040206,256.16554794579241,222.54158009657314,172.1056283227442]
[17001,{"$f":"VLOOKUP($A446,BasinData!$A:$K,8,FALSE)","v":202.60209095807832},{"$f":"VLOOKUP($A446,BasinData!$A:$K,9,FALSE)","v":81.55224945049261},121.04984150758571,{"$f":"VLOOKUP($A446,BasinData!$A:$K,7,FALSE)","v":160.23490797538997},42.367182982688348,34.999783936134577,3,196.54959888269903,184.44461473194048,160.23464643042331,123.91969397814761]
[17002,{"$f":"VLOOKUP($A447,BasinData!$A:$K,8,FALSE)","v":202.36503270576583},{"$f":"VLOOKUP($A447,BasinData!$A:$K,9,FALSE)","v":81.456827761429736},120.90820494433609,{"$f":"VLOOKUP($A447,BasinData!$A:$K,7,FALSE)","v":179.76015811380938},22.604874591956445,18.695897935432349,3,196.31962245854902,184.22880196411541,160.0471609752482,123.77469949194736]
[17003,{"$f":"VLOOKUP($A448,BasinData!$A:$K,8,FALSE)","v":240.74013538287673},{"$f":"VLOOKUP($A448,BasinData!$A:$K,9,FALSE)","v":96.903736188744915},143.83639919413181,{"$f":"VLOOKUP($A448,BasinData!$A:$K,7,FALSE)","v":218.97752176303169},21.762613619845041,15.130115702126743,3,233.54831542317015,219.16467550375697,190.3973956649306,147.24647590669105]
[17004,{"$f":"VLOOKUP($A449,BasinData!$A:$K,8,FALSE)","v":205.44668589068169},{"$f":"VLOOKUP($A449,BasinData!$A:$K,9,FALSE)","v":82.697267818428784},122.74941807225291,{"$f":"VLOOKUP($A449,BasinData!$A:$K,7,FALSE)","v":180.5302203898357},24.916465500845987,20.298642463770889,3,199.30921498706905,187.03427317984375,162.48438956539317,125.6595641437173]
[17005,{"$f":"VLOOKUP($A450,BasinData!$A:$K,8,FALSE)","v":193.8066875469938},{"$f":"VLOOKUP($A450,BasinData!$A:$K,9,FALSE)","v":78.011886517383005},115.7948010296108,{"$f":"VLOOKUP($A450,BasinData!$A:$K,7,FALSE)","v":143.8652370506156},49.941450496378195,43.129268371562965,4,188.01694749551325,176.43746739255218,153.27850718663001,118.54006687774678]
[17006,{"$f":"VLOOKUP($A451,BasinData!$A:$K,8,FALSE)","v":197.48648957300998},{"$f":"VLOOKUP($A451,BasinData!$A:$K,9,FALSE)","v":79.493095972502573},{"$f":"B451-C451","v":117.9933936005074},{"$f":"VLOOKUP($A451,BasinData!$A:$K,7,FALSE)","v":143.91009112246238},{"$f":"B451-E451","v":53.5763984505476},{"$f":"F451/D451*100","v":45.406269635690187},{"$f":"IF($G451<($I$1*100),1,IF($G451<($J$1*100),2,IF($G451<($K$1*100),3,IF($G451<($L$1*100),4,5))))","v":4},{"$f":"B451-(D451*$I$1)","v":191.58681989298461},{"$f":"B451-(D451*$J$1)","v":179.78748053293387},{"$f":"B451-(D451*$K$1)","v":156.18880181283239},{"$f":"B451-(D451*$L$1)","v":120.79078373268017}]
[17007,{"$f":"VLOOKUP($A452,BasinData!$A:$K,8,FALSE)","v":204.05163040142736},{"$f":"VLOOKUP($A452,BasinData!$A:$K,9,FALSE)","v":82.135724190132819},121.91590621129454,{"$f":"VLOOKUP($A452,BasinData!$A:$K,7,FALSE)","v":201.44637192221893},2.6052584792084303,2.1369307419929378,1,197.95583509086262,185.76424446973317,161.38106322747427,124.80629136408591]
[17008,{"$f":"VLOOKUP($A453,BasinData!$A:$K,8,FALSE)","v":294.79604850443411},{"$f":"VLOOKUP($A453,BasinData!$A:$K,9,FALSE)","v":118.66255067242943},176.13349783200468,{"$f":"VLOOKUP($A453,BasinData!$A:$K,7,FALSE)","v":282.26886286715495},12.52718563727916,7.1123243400454879,2,285.9893736128339,268.37602382963343,233.14932426323247,180.30927491363107]
[17009,{"$f":"VLOOKUP($A454,BasinData!$A:$K,8,FALSE)","v":310.6999265049871},{"$f":"VLOOKUP($A454,BasinData!$A:$K,9,FALSE)","v":125.06424682372766},185.63567968125943,{"$f":"VLOOKUP($A454,BasinData!$A:$K,7,FALSE)","v":293.53848907375487},17.16143743123223,9.2446869377152048,2,301.41814252092411,282.85457455279817,245.72743861654629,190.03673471216848]
[17010,{"$f":"VLOOKUP($A455,BasinData!$A:$K,8,FALSE)","v":219.22048200174402},{"$f":"VLOOKUP($A455,BasinData!$A:$K,9,FALSE)","v":88.241554410031654},130.97892759171236,{"$f":"VLOOKUP($A455,BasinData!$A:$K,7,FALSE)","v":212.68313221689249},6.5373497848515285,4.9911462134044653,1,212.67153562215839,199.57364286298716,173.3778573446447,134.08417906713098]
[17011,{"$f":"VLOOKUP($A456,BasinData!$A:$K,8,FALSE)","v":304.27775811471957},{"$f":"VLOOKUP($A456,BasinData!$A:$K,9,FALSE)","v":122.47916847582187},181.79858963889771,{"$f":"VLOOKUP($A456,BasinData!$A:$K,7,FALSE)","v":299.46131558943205},4.8164425252875276,2.6493288726025401,1,295.18782863277471,277.00796966888493,240.64825174110538,186.10867484943606]
[17012,{"$f":"VLOOKUP($A457,BasinData!$A:$K,8,FALSE)","v":303.21447479010999},{"$f":"VLOOKUP($A457,BasinData!$A:$K,9,FALSE)","v":122.05117118065547},181.16330360945452,{"$f":"VLOOKUP($A457,BasinData!$A:$K,7,FALSE)","v":298.52077586691456},4.6936989231954271,2.5908662679909713,1,294.15630960963728,276.03997924869179,239.80731852680091,185.45832744396455]
[17013,{"$f":"VLOOKUP($A458,BasinData!$A:$K,8,FALSE)","v":182.63583976147152},{"$f":"VLOOKUP($A458,BasinData!$A:$K,9,FALSE)","v":73.51534968071779},109.12049008075373,{"$f":"VLOOKUP($A458,BasinData!$A:$K,7,FALSE)","v":184.06738315361068},-1.4315433921391616,-1.311892377939065,1,177.17981525743383,166.26776624935846,144.44366823320772,111.70752120898159]
[17014,{"$f":"VLOOKUP($A459,BasinData!$A:$K,8,FALSE)","v":252.57094996816016},{"$f":"VLOOKUP($A459,BasinData!$A:$K,9,FALSE)","v":101.66592564937194},150.90502431878821,{"$f":"VLOOKUP($A459,BasinData!$A:$K,7,FALSE)","v":247.45010769960973},5.1208422685504331,3.3934206575737389,1,245.02569875222076,229.93519632034193,199.75419145658429,154.48268416094783]
[17015,{"$f":"VLOOKUP($A460,BasinData!$A:$K,8,FALSE)","v":249.65516333386253},{"$f":"VLOOKUP($A460,BasinData!$A:$K,9,FALSE)","v":100.49225089695365},149.16291243690887,{"$f":"VLOOKUP($A460,BasinData!$A:$K,7,FALSE)","v":240.32558081789415},9.3295825159683829,6.2546261423492231,2,242.1970177120171,227.28072646832621,197.44814398094442,152.69927024987174]
[17016,{"$f":"VLOOKUP($A461,BasinData!$A:$K,8,FALSE)","v":233.45627123968828},{"$f":"VLOOKUP($A461,BasinData!$A:$K,9,FALSE)","v":93.971804426541553},139.48446681314672,{"$f":"VLOOKUP($A461,BasinData!$A:$K,7,FALSE)","v":226.42707461276962},7.0291966269186617,5.0394117621247156,2,226.48204789903093,212.53360121771627,184.63670785508691,142.79136781114289]
[17017,{"$f":"VLOOKUP($A462,BasinData!$A:$K,8,FALSE)","v":291.98910104811944},{"$f":"VLOOKUP($A462,BasinData!$A:$K,9,FALSE)","v":117.53268632567318},174.45641472244625,{"$f":"VLOOKUP($A462,BasinData!$A:$K,7,FALSE)","v":274.35860159249268},17.630499455626762,10.105962273543359,2,283.26628031199715,265.82063883975252,230.92935589526326,178.59243147852936]
[17018,{"$f":"VLOOKUP($A463,BasinData!$A:$K,8,FALSE)","v":177.29363309160186},{"$f":"VLOOKUP($A463,BasinData!$A:$K,9,FALSE)","v":71.364982086301197},105.92865100530067,{"$f":"VLOOKUP($A463,BasinData!$A:$K,7,FALSE)","v":171.82409805740878},5.4695350341930862,5.1634142248440336,2,171.99720054133684,161.40433544080676,140.21860523974664,108.44000993815642]
[17019,{"$f":"VLOOKUP($A464,BasinData!$A:$K,8,FALSE)","v":252.38751175201071},{"$f":"VLOOKUP($A464,BasinData!$A:$K,9,FALSE)","v":101.59208732375828},150.79542442825243,{"$f":"VLOOKUP($A464,BasinData!$A:$K,7,FALSE)","v":234.9584754346391},17.429036317371612,11.558067085559513,2,244.84774053059809,229.76819808777284,199.60911320212236,154.37048587364663]
[17020,{"$f":"VLOOKUP($A465,BasinData!$A:$K,8,FALSE)","v":141.369796483529},{"$f":"VLOOKUP($A465,BasinData!$A:$K,9,FALSE)","v":56.904767631325548},84.46502885220346,{"$f":"VLOOKUP($A465,BasinData!$A:$K,7,FALSE)","v":132.5153703438379},8.8544261396910997,10.482949286839807,2,137.14654504091882,128.70004215569847,111.80703638525779,86.467527729596753]
[17021,{"$f":"VLOOKUP($A466,BasinData!$A:$K,8,FALSE)","v":168.64260425254034},{"$f":"VLOOKUP($A466,BasinData!$A:$K,9,FALSE)","v":67.882733415765358},100.75987083677498,{"$f":"VLOOKUP($A466,BasinData!$A:$K,7,FALSE)","v":137.12388253148342},31.51872172105692,31.281026324572586,3,163.60461071070159,153.5286236270241,133.3766494596691,103.1486882086366]
[17022,{"$f":"VLOOKUP($A467,BasinData!$A:$K,8,FALSE)","v":171.36514621522718},{"$f":"VLOOKUP($A467,BasinData!$A:$K,9,FALSE)","v":68.978622506694876},102.38652370853231,{"$f":"VLOOKUP($A467,BasinData!$A:$K,7,FALSE)","v":140.75450635952521},30.610639855701976,29.897137579201804,3,166.24582002980057,156.00716765894734,135.52986291724088,104.81390580468118]
[17023,{"$f":"VLOOKUP($A468,BasinData!$A:$K,8,FALSE)","v":235.12672300249915},{"$f":"VLOOKUP($A468,BasinData!$A:$K,9,FALSE)","v":94.644201726152616},140.48252127634652,{"$f":"VLOOKUP($A468,BasinData!$A:$K,7,FALSE)","v":89.579692030900546},145.54703097159859,103.6050817206573,5,228.10259693868181,214.05434481104717,185.95784055577786,143.81308417287391]
[17024,{"$f":"VLOOKUP($A469,BasinData!$A:$K,8,FALSE)","v":102.01815624668792},{"$f":"VLOOKUP($A469,BasinData!$A:$K,9,FALSE)","v":41.064779180540285},60.953377066147638,{"$f":"VLOOKUP($A469,BasinData!$A:$K,7,FALSE)","v":84.208777717341675},17.809378529346247,29.218034154234324,3,98.970487393380537,92.875149686765781,80.684474273536253,62.398461153691954]
[17025,{"$f":"VLOOKUP($A470,BasinData!$A:$K,8,FALSE)","v":190.53005954491582},{"$f":"VLOOKUP($A470,BasinData!$A:$K,9,FALSE)","v":76.69296437339969},113.83709517151613,{"$f":"VLOOKUP($A470,BasinData!$A:$K,7,FALSE)","v":152.24537482253319},38.284684722382622,33.631115292163628,3,184.83820478634001,173.45449526918839,150.68707623488518,116.53594768343034]
[17026,{"$f":"VLOOKUP($A471,BasinData!$A:$K,8,FALSE)","v":251.37072908852099},{"$f":"VLOOKUP($A471,BasinData!$A:$K,9,FALSE)","v":101.18280767112621},150.18792141739476,{"$f":"VLOOKUP($A471,BasinData!$A:$K,7,FALSE)","v":79.087454571392641},172.28327451712835,114.71180431236363,5,243.86133301765125,228.84254087591177,198.80495659243283,153.74858016721439]
[17027,{"$f":"VLOOKUP($A472,BasinData!$A:$K,8,FALSE)","v":163.46551250533915},{"$f":"VLOOKUP($A472,BasinData!$A:$K,9,FALSE)","v":65.79882857747225},97.666683927866899,{"$f":"VLOOKUP($A472,BasinData!$A:$K,7,FALSE)","v":122.05320015872985},41.412312346609298,42.401677502632261,4,158.5821783089458,148.8155099161591,129.28217313058573,99.982167952225666]
[17028,{"$f":"VLOOKUP($A473,BasinData!$A:$K,8,FALSE)","v":192.03218119620828},{"$f":"VLOOKUP($A473,BasinData!$A:$K,9,FALSE)","v":77.297604725490316},114.73457647071797,{"$f":"VLOOKUP($A473,BasinData!$A:$K,7,FALSE)","v":152.45167032608535},39.580510870122936,34.497456728072287,3,186.2954523726724,174.82199472560058,151.87507943145698,117.45470649024161]
[17029,{"$f":"VLOOKUP($A474,BasinData!$A:$K,8,FALSE)","v":188.3048058493514},{"$f":"VLOOKUP($A474,BasinData!$A:$K,9,FALSE)","v":75.797245856314632},112.50755999303676,{"$f":"VLOOKUP($A474,BasinData!$A:$K,7,FALSE)","v":166.17171004979866},22.133095799552734,19.672540939402275,3,182.67942784969955,171.42867185039589,148.92715985178853,115.1748918538775]
[17030,{"$f":"VLOOKUP($A475,BasinData!$A:$K,8,FALSE)","v":199.48216193335062},{"$f":"VLOOKUP($A475,BasinData!$A:$K,9,FALSE)","v":80.29640244077406},119.18575949257657,{"$f":"VLOOKUP($A475,BasinData!$A:$K,7,FALSE)","v":164.01571596391989},35.466445969430737,29.757284863918454,3,193.52287395872179,181.60429800946415,157.76714611094883,122.01141826317586]
[17031,{"$f":"VLOOKUP($A476,BasinData!$A:$K,8,FALSE)","v":71.813904753730057},{"$f":"VLOOKUP($A476,BasinData!$A:$K,9,FALSE)","v":28.906836285820628},42.907068467909426,{"$f":"VLOOKUP($A476,BasinData!$A:$K,7,FALSE)","v":51.546881892578924},20.267022861151133,47.234694852921535,4,69.66855133033458,65.37784448354364,56.796430789961761,43.924310249588927]
[17032,{"$f":"VLOOKUP($A477,BasinData!$A:$K,8,FALSE)","v":130.61613771280793},{"$f":"VLOOKUP($A477,BasinData!$A:$K,9,FALSE)","v":52.576159479118544},78.039978233689382,{"$f":"VLOOKUP($A477,BasinData!$A:$K,7,FALSE)","v":108.00363162924815},22.612506083559779,28.975541248675157,3,126.71413880112345,118.91014097775452,103.30214533101665,79.890151860909825]
[17033,{"$f":"VLOOKUP($A478,BasinData!$A:$K,8,FALSE)","v":198.69894363836741},{"$f":"VLOOKUP($A478,BasinData!$A:$K,9,FALSE)","v":79.981138104336992},118.71780553403042,{"$f":"VLOOKUP($A478,BasinData!$A:$K,7,FALSE)","v":154.20924713816171},44.489696500205696,37.475167520218974,4,192.7630533616659,180.89127280826284,157.14771170145676,121.53237004124763]
[17034,{"$f":"VLOOKUP($A479,BasinData!$A:$K,8,FALSE)","v":171.21667539344713},{"$f":"VLOOKUP($A479,BasinData!$A:$K,9,FALSE)","v":68.918859404366231},102.2978159890809,{"$f":"VLOOKUP($A479,BasinData!$A:$K,7,FALSE)","v":154.42259973804784},16.794075655399297,16.416846726416786,3,166.1017845939931,155.87200299508498,135.4124397972688,104.72309500054455]
[17035,{"$f":"VLOOKUP($A480,BasinData!$A:$K,8,FALSE)","v":292.41196310216242},{"$f":"VLOOKUP($A480,BasinData!$A:$K,9,FALSE)","v":117.7028985458501},174.70906455631231,{"$f":"VLOOKUP($A480,BasinData!$A:$K,7,FALSE)","v":264.051260341008},28.360702761154414,16.233103206853457,3,283.67650987434678,266.20560341871555,231.26379050745311,178.85107114055941]
[17036,{"$f":"VLOOKUP($A481,BasinData!$A:$K,8,FALSE)","v":188.66836298482656},{"$f":"VLOOKUP($A481,BasinData!$A:$K,9,FALSE)","v":75.943586410163661},112.7247765746629,{"$f":"VLOOKUP($A481,BasinData!$A:$K,7,FALSE)","v":159.04100293541822},29.627360049408338,26.282917517946686,3,183.0321241560934,171.75964649862712,149.21469118369455,115.39725821129568]
[17037,{"$f":"VLOOKUP($A482,BasinData!$A:$K,8,FALSE)","v":232.83618431721331},{"$f":"VLOOKUP($A482,BasinData!$A:$K,9,FALSE)","v":93.722204419238906},139.11397989797439,{"$f":"VLOOKUP($A482,BasinData!$A:$K,7,FALSE)","v":203.69325510534412},29.142929211869188,20.948957993468731,3,225.8804853223146,211.96908733251715,184.14629135292228,142.41209738352995]
[17038,{"$f":"VLOOKUP($A483,BasinData!$A:$K,8,FALSE)","v":185.59215694312044},{"$f":"VLOOKUP($A483,BasinData!$A:$K,9,FALSE)","v":74.705338960258331},110.88681798286211,{"$f":"VLOOKUP($A483,BasinData!$A:$K,7,FALSE)","v":150.12361632300531},35.468540620115135,31.986255233328908,3,180.04781604397735,168.95913424569113,146.7817706491187,113.51572525426006]
[17039,{"$f":"VLOOKUP($A484,BasinData!$A:$K,8,FALSE)","v":140.16201023802398},{"$f":"VLOOKUP($A484,BasinData!$A:$K,9,FALSE)","v":56.418604410055131},83.743405827968843,{"$f":"VLOOKUP($A484,BasinData!$A:$K,7,FALSE)","v":110.33862586590197},29.823384372122007,35.612815214832729,4,135.97483994662554,127.60049936382866,110.85181819823489,85.728796449844225]
[17040,{"$f":"VLOOKUP($A485,BasinData!$A:$K,8,FALSE)","v":303.7866425787962},{"$f":"VLOOKUP($A485,BasinData!$A:$K,9,FALSE)","v":122.28148257581344},181.50516000298276,{"$f":"VLOOKUP($A485,BasinData!$A:$K,7,FALSE)","v":280.29006839656648},23.496574182229722,12.945402864493543,2,294.71138457864708,276.56086857834879,240.25983657775225,185.80828857685742]
[17041,{"$f":"VLOOKUP($A486,BasinData!$A:$K,8,FALSE)","v":171.75811610627076},{"$f":"VLOOKUP($A486,BasinData!$A:$K,9,FALSE)","v":69.136802407155784},102.62131369911498,{"$f":"VLOOKUP($A486,BasinData!$A:$K,7,FALSE)","v":150.86671173080765},20.891404375463111,20.357763531186681,3,166.627050421315,156.36491905140352,135.84065631158052,105.05426220184603]
[17042,{"$f":"VLOOKUP($A487,BasinData!$A:$K,8,FALSE)","v":322.58623619923907},{"$f":"VLOOKUP($A487,BasinData!$A:$K,9,FALSE)","v":129.84877441002988},192.73746178920919,{"$f":"VLOOKUP($A487,BasinData!$A:$K,7,FALSE)","v":317.83976639118214},4.7464698080569292,2.4626607427506704,1,312.94936310977863,293.6756169308577,255.12812457301584,197.3068860362531]
[17043,{"$f":"VLOOKUP($A488,BasinData!$A:$K,8,FALSE)","v":373.79879964849158},{"$f":"VLOOKUP($A488,BasinData!$A:$K,9,FALSE)","v":150.46307177321361},223.33572787527797,{"$f":"VLOOKUP($A488,BasinData!$A:$K,7,FALSE)","v":357.5206627147416},16.278136933749977,7.2886398824824461,2,362.63201325472767,340.2984404671999,295.6312948921443,228.6305765295609]
[17044,{"$f":"VLOOKUP($A489,BasinData!$A:$K,8,FALSE)","v":172.69063010940116},{"$f":"VLOOKUP($A489,BasinData!$A:$K,9,FALSE)","v":69.512161882666348},103.17846822673481,{"$f":"VLOOKUP($A489,BasinData!$A:$K,7,FALSE)","v":159.46239008162047},13.228240027780686,12.82073697654787,2,167.53170669806443,157.21385987539094,136.57816623004396,105.62462576202353]
[17045,{"$f":"VLOOKUP($A490,BasinData!$A:$K,8,FALSE)","v":168.12773271719283},{"$f":"VLOOKUP($A490,BasinData!$A:$K,9,FALSE)","v":67.67548515052259},100.45224756667024,{"$f":"VLOOKUP($A490,BasinData!$A:$K,7,FALSE)","v":151.77872190774374},16.349010809449084,16.275405683280734,3,163.10512033885931,153.0598955821923,132.96944606885825,102.83377179885717]
[17046,{"$f":"VLOOKUP($A491,BasinData!$A:$K,8,FALSE)","v":172.30023651678317},{"$f":"VLOOKUP($A491,BasinData!$A:$K,9,FALSE)","v":69.355019004730082},102.94521751205309,{"$f":"VLOOKUP($A491,BasinData!$A:$K,7,FALSE)","v":168.06130584417369},4.2389306726094844,4.1176567256397112,1,167.15297564118052,156.85845388997521,136.26941038756459,105.38584513394866]
[17047,{"$f":"VLOOKUP($A492,BasinData!$A:$K,8,FALSE)","v":199.73575790572912},{"$f":"VLOOKUP($A492,BasinData!$A:$K,9,FALSE)","v":80.398480962773775},119.33727694295534,{"$f":"VLOOKUP($A492,BasinData!$A:$K,7,FALSE)","v":191.37241540401629},8.3633425017128218,7.0081559726811928,2,193.76889405858134,181.83516636428581,157.96771097569476,122.16652789280815]
[17048,{"$f":"VLOOKUP($A493,BasinData!$A:$K,8,FALSE)","v":241.51064235383816},{"$f":"VLOOKUP($A493,BasinData!$A:$K,9,FALSE)","v":97.213883909343679},144.29675844449449,{"$f":"VLOOKUP($A493,BasinData!$A:$K,7,FALSE)","v":223.33171636410481},18.178925989733358,12.598291316936344,2,234.29580443161345,219.86612858716398,191.00677689826509,147.71774936491676]
[17049,{"$f":"VLOOKUP($A494,BasinData!$A:$K,8,FALSE)","v":138.1669839785321},{"$f":"VLOOKUP($A494,BasinData!$A:$K,9,FALSE)","v":55.615558013026437},82.551425965505672,{"$f":"VLOOKUP($A494,BasinData!$A:$K,7,FALSE)","v":118.34486252608428},19.822121452447817,24.011846216600237,3,134.03941268025682,125.78427008370625,109.27398489060512,84.508557100953411]
[17050,{"$f":"VLOOKUP($A495,BasinData!$A:$K,8,FALSE)","v":193.97314755181594},{"$f":"VLOOKUP($A495,BasinData!$A:$K,9,FALSE)","v":78.078890701656675},115.89425685015927,{"$f":"VLOOKUP($A495,BasinData!$A:$K,7,FALSE)","v":169.59533602940328},24.377811522412657,21.034529393402945,3,188.17843470930796,176.58900902429207,153.41015765426022,118.64188059921241]
[17051,{"$f":"VLOOKUP($A496,BasinData!$A:$K,8,FALSE)","v":145.70224065095681},{"$f":"VLOOKUP($A496,BasinData!$A:$K,9,FALSE)","v":58.648681357988472},87.053559292968345,{"$f":"VLOOKUP($A496,BasinData!$A:$K,7,FALSE)","v":128.45017862690031},17.252062024056499,19.817756062100514,3,141.34956268630839,132.64420675701155,115.23349489841789,89.117427110527387]
[17052,{"$f":"VLOOKUP($A497,BasinData!$A:$K,8,FALSE)","v":192.29586415444641},{"$f":"VLOOKUP($A497,BasinData!$A:$K,9,FALSE)","v":77.403743503645998},114.89212065080041,{"$f":"VLOOKUP($A497,BasinData!$A:$K,7,FALSE)","v":167.82405344135088},24.471810713095522,21.299816362058799,3,186.55125812190639,175.06204605682635,152.08362192666627,117.61598573142614]
[17053,{"$f":"VLOOKUP($A498,BasinData!$A:$K,8,FALSE)","v":272.40101581620252},{"$f":"VLOOKUP($A498,BasinData!$A:$K,9,FALSE)","v":109.64800751739109},162.75300829881144,{"$f":"VLOOKUP($A498,BasinData!$A:$K,7,FALSE)","v":247.38238371301111},25.018632103191408,15.372147258413605,3,264.26336540126192,247.98806457138079,215.43746291161852,166.61156042197507]
[17054,{"$f":"VLOOKUP($A499,BasinData!$A:$K,8,FALSE)","v":221.50215944582411},{"$f":"VLOOKUP($A499,BasinData!$A:$K,9,FALSE)","v":89.159984852705037},132.34217459311907,{"$f":"VLOOKUP($A499,BasinData!$A:$K,7,FALSE)","v":92.055100395982507},129.44705904984158,97.812401411584474,5,214.88505071616817,201.65083325685623,175.18239833823242,135.47974596029673]
[17055,{"$f":"VLOOKUP($A500,BasinData!$A:$K,8,FALSE)","v":207.72278457027403},{"$f":"VLOOKUP($A500,BasinData!$A:$K,9,FALSE)","v":83.613452673255665},124.10933189701836,{"$f":"VLOOKUP($A500,BasinData!$A:$K,7,FALSE)","v":173.09834031654174},34.624444253732293,27.898340700490159,3,201.51731797542311,189.10638478572127,164.2845184063176,127.05171883721209]
[17056,{"$f":"VLOOKUP($A501,BasinData!$A:$K,8,FALSE)","v":312.15941696272955},{"$f":"VLOOKUP($A501,BasinData!$A:$K,9,FALSE)","v":125.65172708771492},186.50768987501465,{"$f":"VLOOKUP($A501,BasinData!$A:$K,7,FALSE)","v":283.29159235697296},28.867824605756596,15.478088128753264,3,302.83403246897882,284.18326348147735,246.88172550647442,190.92941854397003]
[17057,{"$f":"VLOOKUP($A502,BasinData!$A:$K,8,FALSE)","v":151.66436919181731},{"$f":"VLOOKUP($A502,BasinData!$A:$K,9,FALSE)","v":61.048582522487138},90.615786669330177,{"$f":"VLOOKUP($A502,BasinData!$A:$K,7,FALSE)","v":131.7752992134414},19.889069978375915,21.948791385494388,3,147.1335798583508,138.0720011914178,119.94884385755175,92.764107856752702]
[17058,{"$f":"VLOOKUP($A503,BasinData!$A:$K,8,FALSE)","v":209.71973420961132},{"$f":"VLOOKUP($A503,BasinData!$A:$K,9,FALSE)","v":84.417273277264158},125.30246093234716,{"$f":"VLOOKUP($A503,BasinData!$A:$K,7,FALSE)","v":180.56967461232634},29.150059597284979,23.263756657599544,3,203.45461116299396,190.92436506975923,165.86387288328982,128.27313460358567]
[17059,{"$f":"VLOOKUP($A504,BasinData!$A:$K,8,FALSE)","v":227.28320424257805},{"$f":"VLOOKUP($A504,BasinData!$A:$K,9,FALSE)","v":91.486995423622119},135.79620881895593,{"$f":"VLOOKUP($A504,BasinData!$A:$K,7,FALSE)","v":214.97899293921412},12.304211303363928,9.060791468610109,2,220.49339380163025,206.91377291973467,179.75453115594348,139.01566851025669]
[17060,{"$f":"VLOOKUP($A505,BasinData!$A:$K,8,FALSE)","v":196.55607886649582},{"$f":"VLOOKUP($A505,BasinData!$A:$K,9,FALSE)","v":79.11858312483038},117.43749574166544,{"$f":"VLOOKUP($A505,BasinData!$A:$K,7,FALSE)","v":154.86454991238355},41.691528954112272,35.501037118352485,4,190.68420407941255,178.94045450524601,155.45295535691292,120.22170663441328]
[17061,{"$f":"VLOOKUP($A506,BasinData!$A:$K,8,FALSE)","v":84.955857492016705},{"$f":"VLOOKUP($A506,BasinData!$A:$K,9,FALSE)","v":34.196790614086176},50.759066877930529,{"$f":"VLOOKUP($A506,BasinData!$A:$K,7,FALSE)","v":75.789332854207018},9.1665246378096867,18.058891153090105,3,82.417904148120172,77.341997460327121,67.19018408474102,51.96246402136186]
[17062,{"$f":"VLOOKUP($A507,BasinData!$A:$K,8,FALSE)","v":207.44121988452414},{"$f":"VLOOKUP($A507,BasinData!$A:$K,9,FALSE)","v":83.500116066608925},123.94110381791522,{"$f":"VLOOKUP($A507,BasinData!$A:$K,7,FALSE)","v":185.42930670802167},22.011913176502475,17.759978327158272,3,201.24416469362839,188.85005431183686,164.06183354825382,126.87950240287925]
[17063,{"$f":"VLOOKUP($A508,BasinData!$A:$K,8,FALSE)","v":180.30508442021758},{"$f":"VLOOKUP($A508,BasinData!$A:$K,9,FALSE)","v":72.577164195567292},107.72792022465029,{"$f":"VLOOKUP($A508,BasinData!$A:$K,7,FALSE)","v":166.53193956722484},13.773144852992743,12.785120908554562,2,174.91868840898508,164.14589638652004,142.60031234158998,110.28193627419489]
[17064,{"$f":"VLOOKUP($A509,BasinData!$A:$K,8,FALSE)","v":208.07017189866383},{"$f":"VLOOKUP($A509,BasinData!$A:$K,9,FALSE)","v":83.753284488054902},124.31688741060893,{"$f":"VLOOKUP($A509,BasinData!$A:$K,7,FALSE)","v":201.37307591607524},6.6970959825885927,5.3871168447683297,2,201.85432752813338,189.42263878707249,164.55926130495072,127.26419508176802]
[17065,{"$f":"VLOOKUP($A510,BasinData!$A:$K,8,FALSE)","v":224.46394736749548},{"$f":"VLOOKUP($A510,BasinData!$A:$K,9,FALSE)","v":90.352176237628015},134.11177112986746,{"$f":"VLOOKUP($A510,BasinData!$A:$K,7,FALSE)","v":214.25770069512623},10.206246672369247,7.6102541830470658,2,217.7583588110021,204.34718169801536,177.52482747204186,137.29129613308163]
[17066,{"$f":"VLOOKUP($A511,BasinData!$A:$K,8,FALSE)","v":174.34940991149398},{"$f":"VLOOKUP($A511,BasinData!$A:$K,9,FALSE)","v":70.179860935346426},104.16954897614755,{"$f":"VLOOKUP($A511,BasinData!$A:$K,7,FALSE)","v":159.31617780205252},15.033232109441457,14.431503502893847,2,169.14093246268661,158.72397756507183,137.89006776984235,106.63920307699807]
[17067,{"$f":"VLOOKUP($A512,BasinData!$A:$K,8,FALSE)","v":150.71739303105733},{"$f":"VLOOKUP($A512,BasinData!$A:$K,9,FALSE)","v":60.667401678198871},90.049991352858456,{"$f":"VLOOKUP($A512,BasinData!$A:$K,7,FALSE)","v":137.41741568083756},13.299977350219763,14.769548725556408,2,146.2148934634144,137.20989432812857,119.19989605755687,92.184898651699328]
[17068,{"$f":"VLOOKUP($A513,BasinData!$A:$K,8,FALSE)","v":225.41847348609446},{"$f":"VLOOKUP($A513,BasinData!$A:$K,9,FALSE)","v":90.736396122836908},134.68207736325755,{"$f":"VLOOKUP($A513,BasinData!$A:$K,7,FALSE)","v":202.92124188131791},22.497231604776545,16.70395352166879,3,218.68436961793157,205.21616188160581,178.27974640895431,137.87512319997705]
[17069,{"$f":"VLOOKUP($A514,BasinData!$A:$K,8,FALSE)","v":204.52469475492515},{"$f":"VLOOKUP($A514,BasinData!$A:$K,9,FALSE)","v":82.326144051942492},122.19855070298266,{"$f":"VLOOKUP($A514,BasinData!$A:$K,7,FALSE)","v":188.56129239121779},15.96340236370736,13.063495656759635,2,198.41476721977602,186.19491214947774,161.75520200888121,125.09563679798642]
[17070,{"$f":"VLOOKUP($A515,BasinData!$A:$K,8,FALSE)","v":147.0456369219693},{"$f":"VLOOKUP($A515,BasinData!$A:$K,9,FALSE)","v":59.18943089954746},{"$f":"B515-C515","v":87.856206022421844},{"$f":"VLOOKUP($A515,BasinData!$A:$K,7,FALSE)","v":134.39912389173026},{"$f":"B515-E515","v":12.646513030239049},{"$f":"F515/D515*100","v":14.394558566541701},{"$f":"IF($G515<($I$1*100),1,IF($G515<($J$1*100),2,IF($G515<($K$1*100),3,IF($G515<($L$1*100),4,5))))","v":2},{"$f":"B515-(D515*$I$1)","v":142.6528266208482},{"$f":"B515-(D515*$J$1)","v":133.86720601860603},{"$f":"B515-(D515*$K$1)","v":116.29596481412166},{"$f":"B515-(D515*$L$1)","v":89.939103007395104}]
[17071,{"$f":"VLOOKUP($A516,BasinData!$A:$K,8,FALSE)","v":215.22201989168167},{"$f":"VLOOKUP($A516,BasinData!$A:$K,9,FALSE)","v":86.632076551850915},128.58994333983077,{"$f":"VLOOKUP($A516,BasinData!$A:$K,7,FALSE)","v":196.75796791815438},18.46405197352729,14.358861582768927,2,208.79252272469012,195.93352839070707,170.21553972274091,131.63855672079166]
[17072,{"$f":"VLOOKUP($A517,BasinData!$A:$K,8,FALSE)","v":151.75318320348649},{"$f":"VLOOKUP($A517,BasinData!$A:$K,9,FALSE)","v":61.084332313617587},90.668850889868907,{"$f":"VLOOKUP($A517,BasinData!$A:$K,7,FALSE)","v":138.75604559052181},12.997137612964679,14.334732915884945,2,147.21974065899303,138.15285557000615,120.01908539203237,92.8184301250717]
[17073,{"$f":"VLOOKUP($A518,BasinData!$A:$K,8,FALSE)","v":178.90640366918291},{"$f":"VLOOKUP($A518,BasinData!$A:$K,9,FALSE)","v":72.014161311586278},106.89224235759663,{"$f":"VLOOKUP($A518,BasinData!$A:$K,7,FALSE)","v":164.12057465411206},14.785829015070846,13.832462196467379,2,173.56179155130309,162.87256731554342,141.49411884402409,109.4264461367451]
[17074,{"$f":"VLOOKUP($A519,BasinData!$A:$K,8,FALSE)","v":298.942348810905},{"$f":"VLOOKUP($A519,BasinData!$A:$K,9,FALSE)","v":120.33153698590205},178.61081182500294,{"$f":"VLOOKUP($A519,BasinData!$A:$K,7,FALSE)","v":281.03674075725701},17.905608053647995,10.024929549724753,2,290.01180821965488,272.15072703715458,236.42856467215398,182.84532112465308]
[17075,{"$f":"VLOOKUP($A520,BasinData!$A:$K,8,FALSE)","v":232.11862496402398},{"$f":"VLOOKUP($A520,BasinData!$A:$K,9,FALSE)","v":93.433369397398309},138.68525556662567,{"$f":"VLOOKUP($A520,BasinData!$A:$K,7,FALSE)","v":187.48193681216821},44.636688151855765,32.185604712976776,3,225.18436218569269,211.31583662903012,183.57878551570499,141.97320884571729]
[17076,{"$f":"VLOOKUP($A521,BasinData!$A:$K,8,FALSE)","v":188.39967293315794},{"$f":"VLOOKUP($A521,BasinData!$A:$K,9,FALSE)","v":75.835432155610206},112.56424077754774,{"$f":"VLOOKUP($A521,BasinData!$A:$K,7,FALSE)","v":172.38245518372133},16.017217749436611,14.229401485583896,2,182.77146089428055,171.51503681652579,149.00218866101625,115.23291642775192]
[17077,{"$f":"VLOOKUP($A522,BasinData!$A:$K,8,FALSE)","v":200.71758017383044},{"$f":"VLOOKUP($A522,BasinData!$A:$K,9,FALSE)","v":80.793688209380207},119.92389196445023,{"$f":"VLOOKUP($A522,BasinData!$A:$K,7,FALSE)","v":181.06481518278562},19.652764991044819,16.387697788252741,3,194.72138557560794,182.72899637916291,158.74421798627287,122.76705039693779]
[17078,{"$f":"VLOOKUP($A523,BasinData!$A:$K,8,FALSE)","v":216.14327414291455},{"$f":"VLOOKUP($A523,BasinData!$A:$K,9,FALSE)","v":87.002903704466121},129.14037043844843,{"$f":"VLOOKUP($A523,BasinData!$A:$K,7,FALSE)","v":170.91650832948926},45.226765813425288,35.021400093459938,4,209.68625562099214,196.77221857714727,170.94414448945759,132.20203335792309]
[17079,{"$f":"VLOOKUP($A524,BasinData!$A:$K,8,FALSE)","v":216.46943272033894},{"$f":"VLOOKUP($A524,BasinData!$A:$K,9,FALSE)","v":87.134190432755787},129.33524228758316,{"$f":"VLOOKUP($A524,BasinData!$A:$K,7,FALSE)","v":193.83977901263046},22.629653707708485,17.496896675223571,3,210.00267060595979,197.06914637720146,171.20209791968483,132.40152523340987]
[17080,{"$f":"VLOOKUP($A525,BasinData!$A:$K,8,FALSE)","v":213.92418329732899},{"$f":"VLOOKUP($A525,BasinData!$A:$K,9,FALSE)","v":86.109665883786647},127.81451741354235,{"$f":"VLOOKUP($A525,BasinData!$A:$K,7,FALSE)","v":187.37871484806226},26.545468449266735,20.768742852096516,3,207.53345742665186,194.75200568529763,169.18910220258917,130.84474697852647]
[17081,{"$f":"VLOOKUP($A526,BasinData!$A:$K,8,FALSE)","v":103.95194858193999},{"$f":"VLOOKUP($A526,BasinData!$A:$K,9,FALSE)","v":41.843177439729828},62.108771142210159,{"$f":"VLOOKUP($A526,BasinData!$A:$K,7,FALSE)","v":96.826275746459487},7.1256728354805006,11.472892965737289,2,100.84651002482948,94.635632910608464,82.213878682166438,63.581247339503385]
[17082,{"$f":"VLOOKUP($A527,BasinData!$A:$K,8,FALSE)","v":204.71553887255999},{"$f":"VLOOKUP($A527,BasinData!$A:$K,9,FALSE)","v":82.40296343230483},122.31257544025516,{"$f":"VLOOKUP($A527,BasinData!$A:$K,7,FALSE)","v":183.25971549439345},21.455823378166542,17.541796745704911,3,198.59991010054722,186.36865255652171,161.90613746847069,125.21236483639413]
[17083,{"$f":"VLOOKUP($A528,BasinData!$A:$K,8,FALSE)","v":193.95246868515818},{"$f":"VLOOKUP($A528,BasinData!$A:$K,9,FALSE)","v":78.070566956901359},115.88190172825682,{"$f":"VLOOKUP($A528,BasinData!$A:$K,7,FALSE)","v":173.78784451302468},20.1646241721335,17.401012471662369,3,188.15837359874533,176.57018342591965,153.3938030802683,118.62923256179124]
[17084,{"$f":"VLOOKUP($A529,BasinData!$A:$K,8,FALSE)","v":148.43050830619387},{"$f":"VLOOKUP($A529,BasinData!$A:$K,9,FALSE)","v":59.746875178868834},88.683633127325038,{"$f":"VLOOKUP($A529,BasinData!$A:$K,7,FALSE)","v":142.79627032800826},5.6342379781856096,6.3531880455285474,2,143.99632664982761,135.12796333709511,117.39123671163011,90.786146773432591]
[17085,{"$f":"VLOOKUP($A530,BasinData!$A:$K,8,FALSE)","v":137.63892164054045},{"$f":"VLOOKUP($A530,BasinData!$A:$K,9,FALSE)","v":55.403000130184957},82.235921510355496,{"$f":"VLOOKUP($A530,BasinData!$A:$K,7,FALSE)","v":129.8488524819106},7.7900691586298478,9.4728301398664208,2,133.52712556502266,125.30353341398713,108.85634911191602,84.185572658809377]
[17086,{"$f":"VLOOKUP($A531,BasinData!$A:$K,8,FALSE)","v":167.87147117927631},{"$f":"VLOOKUP($A531,BasinData!$A:$K,9,FALSE)","v":67.572333673823081},100.29913750545323,{"$f":"VLOOKUP($A531,BasinData!$A:$K,7,FALSE)","v":157.04846210040364},10.823009078872673,10.790729958454756,2,162.85651430400364,152.82660055345832,132.76677305236768,102.67703180073171]
[17087,{"$f":"VLOOKUP($A532,BasinData!$A:$K,8,FALSE)","v":167.4634850241643},{"$f":"VLOOKUP($A532,BasinData!$A:$K,9,FALSE)","v":67.40810936332015},100.05537566084415,{"$f":"VLOOKUP($A532,BasinData!$A:$K,7,FALSE)","v":151.22470857687017},16.238776447294129,16.229789094329533,3,162.4607162411221,152.45517867503767,132.44410354286885,102.4274908446156]
[17088,{"$f":"VLOOKUP($A533,BasinData!$A:$K,8,FALSE)","v":190.52883130205961},{"$f":"VLOOKUP($A533,BasinData!$A:$K,9,FALSE)","v":76.692469975897069},113.83636132616255,{"$f":"VLOOKUP($A533,BasinData!$A:$K,7,FALSE)","v":171.35257180876727},19.176259493292349,16.845460685754674,3,184.8370132357515,173.45337710313524,150.68610483790272,116.53519644005395]
[17089,{"$f":"VLOOKUP($A534,BasinData!$A:$K,8,FALSE)","v":163.90821769202867},{"$f":"VLOOKUP($A534,BasinData!$A:$K,9,FALSE)","v":65.977028139220124},97.931189552808547,{"$f":"VLOOKUP($A534,BasinData!$A:$K,7,FALSE)","v":139.95992841905451},23.948289272974165,24.454200324055346,3,159.01165821438823,149.21853925910739,129.6323013485457,100.25294448270311]
[17089,{"$f":"VLOOKUP($A535,BasinData!$A:$K,8,FALSE)","v":163.90821769202867},{"$f":"VLOOKUP($A535,BasinData!$A:$K,9,FALSE)","v":65.977028139220124},97.931189552808547,{"$f":"VLOOKUP($A535,BasinData!$A:$K,7,FALSE)","v":139.95992841905451},23.948289272974165,24.454200324055346,3,159.01165821438823,149.21853925910739,129.6323013485457,100.25294448270311]
[17090,{"$f":"VLOOKUP($A536,BasinData!$A:$K,8,FALSE)","v":132.25648842795982},{"$f":"VLOOKUP($A536,BasinData!$A:$K,9,FALSE)","v":53.236440377878075},79.020048050081755,{"$f":"VLOOKUP($A536,BasinData!$A:$K,7,FALSE)","v":106.21787466720335},26.038613760756476,32.951908285671486,3,128.30548602545574,120.40348122044756,104.59947161043121,80.893457195406683]
[17091,{"$f":"VLOOKUP($A537,BasinData!$A:$K,8,FALSE)","v":165.58562870101107},{"$f":"VLOOKUP($A537,BasinData!$A:$K,9,FALSE)","v":66.652226703996234},98.93340199701484,{"$f":"VLOOKUP($A537,BasinData!$A:$K,7,FALSE)","v":151.23438470408198},14.351243996929099,14.505964322708852,2,160.63895860116034,150.74561840145884,130.95893800205587,101.27891740295142]
[17092,{"$f":"VLOOKUP($A538,BasinData!$A:$K,8,FALSE)","v":181.55388602923492},{"$f":"VLOOKUP($A538,BasinData!$A:$K,9,FALSE)","v":73.079837094208955},108.47404893502596,{"$f":"VLOOKUP($A538,BasinData!$A:$K,7,FALSE)","v":149.48294909405814},32.070936935176775,29.565538716441473,3,176.13018358248362,165.28277868898101,143.58796890197584,111.04575422146804]
[17093,{"$f":"VLOOKUP($A539,BasinData!$A:$K,8,FALSE)","v":196.29784609043807},{"$f":"VLOOKUP($A539,BasinData!$A:$K,9,FALSE)","v":79.014638177027678},117.28320791341039,{"$f":"VLOOKUP($A539,BasinData!$A:$K,7,FALSE)","v":171.93787733621889},24.359968754219182,20.770210149950898,3,190.43368569476755,178.70536490342653,155.24872332074443,120.06376094672132]
[17094,{"$f":"VLOOKUP($A540,BasinData!$A:$K,8,FALSE)","v":173.20711490992574},{"$f":"VLOOKUP($A540,BasinData!$A:$K,9,FALSE)","v":69.72005952622267},103.48705538370307,{"$f":"VLOOKUP($A540,BasinData!$A:$K,7,FALSE)","v":140.85621374847744},32.350901161448292,31.260819086502721,3,168.03276214074057,157.68405660237028,136.98664552562965,105.94052891051874]
[17095,{"$f":"VLOOKUP($A541,BasinData!$A:$K,8,FALSE)","v":117.9431862871937},{"$f":"VLOOKUP($A541,BasinData!$A:$K,9,FALSE)","v":47.474989540307227},70.468196746886463,{"$f":"VLOOKUP($A541,BasinData!$A:$K,7,FALSE)","v":109.05715417866539},8.8860321085283118,12.609989355121293,2,114.41977644984938,107.37295677516073,93.279317425783432,72.138858401717499]
[17096,{"$f":"VLOOKUP($A542,BasinData!$A:$K,8,FALSE)","v":140.85739582332201},{"$f":"VLOOKUP($A542,BasinData!$A:$K,9,FALSE)","v":56.698513953181397},84.158881870140618,{"$f":"VLOOKUP($A542,BasinData!$A:$K,7,FALSE)","v":132.67903540678495},8.1783604165370605,9.7177626826797514,2,136.64945172981498,128.23356354280091,111.4017871687728,86.154122607730613]
[17097,{"$f":"VLOOKUP($A543,BasinData!$A:$K,8,FALSE)","v":185.86872754836978},{"$f":"VLOOKUP($A543,BasinData!$A:$K,9,FALSE)","v":74.816665328526824},111.05206221984295,{"$f":"VLOOKUP($A543,BasinData!$A:$K,7,FALSE)","v":138.72483053969972},47.143897008670052,42.452068035749008,4,180.31612443737762,169.21091821539335,147.00050577142474,113.68488710547186]
[17098,{"$f":"VLOOKUP($A544,BasinData!$A:$K,8,FALSE)","v":187.9367213115971},{"$f":"VLOOKUP($A544,BasinData!$A:$K,9,FALSE)","v":75.649082913376304},112.28763839822079,{"$f":"VLOOKUP($A544,BasinData!$A:$K,7,FALSE)","v":167.23252450883933},20.704196802757764,18.438536154203973,3,182.32233939168606,171.09357555186398,148.63604787221982,114.94975635275358]
[17099,{"$f":"VLOOKUP($A545,BasinData!$A:$K,8,FALSE)","v":138.64902081675444},{"$f":"VLOOKUP($A545,BasinData!$A:$K,9,FALSE)","v":55.809589517287513},82.839431299466924,{"$f":"VLOOKUP($A545,BasinData!$A:$K,7,FALSE)","v":125.31066571357462},13.338355103179822,16.101456629948707,3,134.5070492517811,126.22310612183441,109.65521986194102,84.803390472100943]
[17100,{"$f":"VLOOKUP($A546,BasinData!$A:$K,8,FALSE)","v":178.84278574375065},{"$f":"VLOOKUP($A546,BasinData!$A:$K,9,FALSE)","v":71.988553555517029},106.85423218823362,{"$f":"VLOOKUP($A546,BasinData!$A:$K,7,FALSE)","v":144.26789216577106},34.574893577979594,32.357065199881575,3,173.50007413433897,162.81465091551561,141.44380447786889,109.3875348213988]
[17101,{"$f":"VLOOKUP($A547,BasinData!$A:$K,8,FALSE)","v":130.2101321132908},{"$f":"VLOOKUP($A547,BasinData!$A:$K,9,FALSE)","v":52.412732390219603},77.797399723071194,{"$f":"VLOOKUP($A547,BasinData!$A:$K,7,FALSE)","v":100.69836057589413},29.511771537396669,37.934136156796008,4,126.32026212713724,118.54052215483011,102.98104221021588,79.641822293294524]
[17102,{"$f":"VLOOKUP($A548,BasinData!$A:$K,8,FALSE)","v":103.61933040147879},{"$f":"VLOOKUP($A548,BasinData!$A:$K,9,FALSE)","v":41.709290564740186},61.910039836738605,{"$f":"VLOOKUP($A548,BasinData!$A:$K,7,FALSE)","v":89.220169775121718},14.399160626357073,23.258199581729773,3,100.52382840964187,94.332824425967999,81.950816458620281,63.377804507598697]
[17103,{"$f":"VLOOKUP($A549,BasinData!$A:$K,8,FALSE)","v":236.81664077464038},{"$f":"VLOOKUP($A549,BasinData!$A:$K,9,FALSE)","v":95.324434566064426},141.49220620857596,{"$f":"VLOOKUP($A549,BasinData!$A:$K,7,FALSE)","v":140.23602027148729},96.580620503153085,68.258615149997752,5,229.74203046421158,215.59280984335399,187.29436860163878,144.84670673906601]
[17104,{"$f":"VLOOKUP($A550,BasinData!$A:$K,8,FALSE)","v":157.35941180092095},{"$f":"VLOOKUP($A550,BasinData!$A:$K,9,FALSE)","v":63.340975129555076},94.018436671365876,{"$f":"VLOOKUP($A550,BasinData!$A:$K,7,FALSE)","v":128.49461792928219},28.864793871638767,30.701205948077405,3,152.65848996735266,143.25664630021606,124.4529589659429,96.247427964533131]
[17105,{"$f":"VLOOKUP($A551,BasinData!$A:$K,8,FALSE)","v":146.00249850371739},{"$f":"VLOOKUP($A551,BasinData!$A:$K,9,FALSE)","v":58.769542417180936},87.232956086536461,{"$f":"VLOOKUP($A551,BasinData!$A:$K,7,FALSE)","v":139.73610184547783},6.2663966582395574,7.1835197835359299,2,141.64085069939057,132.91755509073693,115.47096387342964,89.301077047468681]
[17106,{"$f":"VLOOKUP($A552,BasinData!$A:$K,8,FALSE)","v":130.30835025914914},{"$f":"VLOOKUP($A552,BasinData!$A:$K,9,FALSE)","v":52.452267573167241},77.856082685981903,{"$f":"VLOOKUP($A552,BasinData!$A:$K,7,FALSE)","v":108.72082924848038},21.587521010668752,27.727468767903495,3,126.41554612485004,118.62993785625186,103.05872131905548,79.701896513260891]
[17107,{"$f":"VLOOKUP($A553,BasinData!$A:$K,8,FALSE)","v":118.52734078226935},{"$f":"VLOOKUP($A553,BasinData!$A:$K,9,FALSE)","v":47.710125875153317},70.817214907116039,{"$f":"VLOOKUP($A553,BasinData!$A:$K,7,FALSE)","v":95.373813469899204},23.153527312370144,32.694772510805947,3,114.98648003691355,107.90475854620195,93.741315564778745,72.496151092643913]
[17108,{"$f":"VLOOKUP($A554,BasinData!$A:$K,8,FALSE)","v":208.44487223562476},{"$f":"VLOOKUP($A554,BasinData!$A:$K,9,FALSE)","v":83.904110450435226},124.54076178518953,{"$f":"VLOOKUP($A554,BasinData!$A:$K,7,FALSE)","v":177.93743365518287},30.507438580441885,24.49594666287793,3,202.21783414636528,189.76375796784632,164.85560561080842,127.49337707525156]
[17109,{"$f":"VLOOKUP($A555,BasinData!$A:$K,8,FALSE)","v":164.93801522083419},{"$f":"VLOOKUP($A555,BasinData!$A:$K,9,FALSE)","v":66.391546590414322},98.546468630419866,{"$f":"VLOOKUP($A555,BasinData!$A:$K,7,FALSE)","v":134.77884251550913},30.159172705325062,30.604011614491643,3,160.0106917893132,150.15604492627122,130.44675120018724,100.88281061106127]
[17110,{"$f":"VLOOKUP($A556,BasinData!$A:$K,8,FALSE)","v":185.03520689242589},{"$f":"VLOOKUP($A556,BasinData!$A:$K,9,FALSE)","v":74.481153073277014},110.55405381914888,{"$f":"VLOOKUP($A556,BasinData!$A:$K,7,FALSE)","v":162.6818511353051},22.353355757120795,20.219390411217113,3,179.50750420146844,168.45209881955356,146.34128805572379,113.17507190997912]
[17111,{"$f":"VLOOKUP($A557,BasinData!$A:$K,8,FALSE)","v":215.59216959657854},{"$f":"VLOOKUP($A557,BasinData!$A:$K,9,FALSE)","v":86.781070774590816},128.81109882198774,{"$f":"VLOOKUP($A557,BasinData!$A:$K,7,FALSE)","v":197.94770236636919},17.644467230209358,13.69794015544683,2,209.15161465547916,196.27050477328038,170.50828500888284,131.86495536228651]
[17112,{"$f":"VLOOKUP($A558,BasinData!$A:$K,8,FALSE)","v":172.78549842930067},{"$f":"VLOOKUP($A558,BasinData!$A:$K,9,FALSE)","v":69.550348679519274},103.2351497497814,{"$f":"VLOOKUP($A558,BasinData!$A:$K,7,FALSE)","v":141.89920188064298},30.886296548657697,29.91839177210386,3,167.6237409418116,157.30022596683347,136.65319601687719,105.68265109194276]
[17113,{"$f":"VLOOKUP($A559,BasinData!$A:$K,8,FALSE)","v":116.18706295041386},{"$f":"VLOOKUP($A559,BasinData!$A:$K,9,FALSE)","v":46.768107356862551},69.418955593551317,{"$f":"VLOOKUP($A559,BasinData!$A:$K,7,FALSE)","v":71.236641079165707},44.950421871248153,64.752374170584375,4,112.71611517073629,105.77421961138117,91.890428492670907,71.064741814605497]
[17114,{"$f":"VLOOKUP($A560,BasinData!$A:$K,8,FALSE)","v":207.25127269370273},{"$f":"VLOOKUP($A560,BasinData!$A:$K,9,FALSE)","v":83.42365772101617},123.82761497268656,{"$f":"VLOOKUP($A560,BasinData!$A:$K,7,FALSE)","v":175.01748869580013},32.233783997902606,26.03117568323723,3,201.05989194506841,188.67713044779975,163.91160745326243,126.76332296145647]
[17115,{"$f":"VLOOKUP($A561,BasinData!$A:$K,8,FALSE)","v":200.79817535810781},{"$f":"VLOOKUP($A561,BasinData!$A:$K,9,FALSE)","v":80.826129723392299},119.97204563471551,{"$f":"VLOOKUP($A561,BasinData!$A:$K,7,FALSE)","v":171.31821233188316},29.479963026224652,24.572360061262664,3,194.79957307637204,182.8023685129005,158.80795938595739,122.81634569554272]
[17116,{"$f":"VLOOKUP($A562,BasinData!$A:$K,8,FALSE)","v":162.15468483135203},{"$f":"VLOOKUP($A562,BasinData!$A:$K,9,FALSE)","v":65.271188685158776},96.883496146193252,{"$f":"VLOOKUP($A562,BasinData!$A:$K,7,FALSE)","v":135.52224785006024},26.632436981291789,27.489136995123015,3,157.31051002404237,147.62216040942303,128.24546118018441,99.180412336326413]
[17117,{"$f":"VLOOKUP($A563,BasinData!$A:$K,8,FALSE)","v":204.61078479177831},{"$f":"VLOOKUP($A563,BasinData!$A:$K,9,FALSE)","v":82.360797377223832},122.24998741455448,{"$f":"VLOOKUP($A563,BasinData!$A:$K,7,FALSE)","v":166.88127463892144},37.729510152856875,30.862588169366951,3,198.49828542105058,186.27328667959515,161.82328919668424,125.1482929723179]
[17118,{"$f":"VLOOKUP($A564,BasinData!$A:$K,8,FALSE)","v":177.91962084786456},{"$f":"VLOOKUP($A564,BasinData!$A:$K,9,FALSE)","v":71.616957322145396},106.30266352571917,{"$f":"VLOOKUP($A564,BasinData!$A:$K,7,FALSE)","v":146.20894118220016},31.710679665664401,29.830559850452126,3,172.6044876715786,161.97422131900669,140.71368861386287,108.8228895561471]
[17119,{"$f":"VLOOKUP($A565,BasinData!$A:$K,8,FALSE)","v":236.8176257639532},{"$f":"VLOOKUP($A565,BasinData!$A:$K,9,FALSE)","v":95.324831048123244},141.49279471582997,{"$f":"VLOOKUP($A565,BasinData!$A:$K,7,FALSE)","v":179.70266692739722},57.114958836555985,40.365983972020636,4,229.74298602816171,215.5937065565787,187.29514761341272,144.84730919866371]
[17120,{"$f":"VLOOKUP($A566,BasinData!$A:$K,8,FALSE)","v":175.19636898604705},{"$f":"VLOOKUP($A566,BasinData!$A:$K,9,FALSE)","v":70.520782479619143},104.6755865064279,{"$f":"VLOOKUP($A566,BasinData!$A:$K,7,FALSE)","v":144.50981396266809},30.686555023378958,29.315866332876539,3,169.96258966072565,159.49503101008287,138.5599137087973,107.15723775686891]
[17121,{"$f":"VLOOKUP($A567,BasinData!$A:$K,8,FALSE)","v":148.30829869540221},{"$f":"VLOOKUP($A567,BasinData!$A:$K,9,FALSE)","v":59.697682850115477},88.610615845286731,{"$f":"VLOOKUP($A567,BasinData!$A:$K,7,FALSE)","v":123.15913487023973},25.149163825162489,28.381660126448828,3,143.87776790313788,135.01670631860921,117.29458314955187,90.71139839596583]
[17122,{"$f":"VLOOKUP($A568,BasinData!$A:$K,8,FALSE)","v":226.22737974215127},{"$f":"VLOOKUP($A568,BasinData!$A:$K,9,FALSE)","v":91.062000485872133},135.16537925627915,{"$f":"VLOOKUP($A568,BasinData!$A:$K,7,FALSE)","v":194.62089004937286},31.60648969277841,23.383568978008189,3,219.46911077933731,205.9525728537094,178.91949700245357,138.36988322556982]
[17123,{"$f":"VLOOKUP($A569,BasinData!$A:$K,8,FALSE)","v":369.96317572020791},{"$f":"VLOOKUP($A569,BasinData!$A:$K,9,FALSE)","v":148.91914022779639},221.04403549241152,{"$f":"VLOOKUP($A569,BasinData!$A:$K,7,FALSE)","v":354.06229778934153},15.900877930866386,7.1935340374349375,2,358.91097394558733,336.80657039634616,292.59776329786388,226.28455265014043]
[18009,{"$f":"VLOOKUP($A570,BasinData!$A:$K,8,FALSE)","v":293.8527856594115},{"$f":"VLOOKUP($A570,BasinData!$A:$K,9,FALSE)","v":118.28286452767694},175.56992113173456,{"$f":"VLOOKUP($A570,BasinData!$A:$K,7,FALSE)","v":98.60963904269444},195.24314661671707,111.20535075607923,5,285.07428960282476,267.5172974896513,232.4033132633044,179.73233692378403]
[18010,{"$f":"VLOOKUP($A571,BasinData!$A:$K,8,FALSE)","v":345.60905021543113},{"$f":"VLOOKUP($A571,BasinData!$A:$K,9,FALSE)","v":139.11601475696833},206.4930354584628,{"$f":"VLOOKUP($A571,BasinData!$A:$K,7,FALSE)","v":186.57269545443853},159.03635476099259,77.017781451027972,5,335.28439844250801,314.63509489666171,273.33648780496912,211.3885771674303]
[18011,{"$f":"VLOOKUP($A572,BasinData!$A:$K,8,FALSE)","v":169.28667781079551},{"$f":"VLOOKUP($A572,BasinData!$A:$K,9,FALSE)","v":68.141988625022591},101.14468918577292,{"$f":"VLOOKUP($A572,BasinData!$A:$K,7,FALSE)","v":75.66603717154625},93.62064063924926,92.561103695020307,5,164.22944335150686,154.11497443292959,133.88603659577498,103.54262984004311]
[18012,{"$f":"VLOOKUP($A573,BasinData!$A:$K,8,FALSE)","v":265.31596319578529},{"$f":"VLOOKUP($A573,BasinData!$A:$K,9,FALSE)","v":106.79610220912018},158.51986098666509,{"$f":"VLOOKUP($A573,BasinData!$A:$K,7,FALSE)","v":84.315954803956942},181.00000839182835,114.18128130143535,5,257.38997014645201,241.53798404778553,209.8340118504525,162.27805355445298]
[18013,{"$f":"VLOOKUP($A574,BasinData!$A:$K,8,FALSE)","v":144.74305211605181},{"$f":"VLOOKUP($A574,BasinData!$A:$K,9,FALSE)","v":58.262584737273876},86.480467378777945,{"$f":"VLOOKUP($A574,BasinData!$A:$K,7,FALSE)","v":83.260896132799203},61.482155983252611,71.093690687361104,5,140.41902874711292,131.77098200923513,114.47488853347954,88.53074831984614]
[18014,{"$f":"VLOOKUP($A575,BasinData!$A:$K,8,FALSE)","v":144.79470046865714},{"$f":"VLOOKUP($A575,BasinData!$A:$K,9,FALSE)","v":58.283374450328949},86.511326018328191,{"$f":"VLOOKUP($A575,BasinData!$A:$K,7,FALSE)","v":89.549195726170979},55.245504742486162,63.859274022434832,4,140.46913416774072,131.81800156590791,114.51573636224228,88.562338556743811]
[18015,{"$f":"VLOOKUP($A576,BasinData!$A:$K,8,FALSE)","v":105.33274508109878},{"$f":"VLOOKUP($A576,BasinData!$A:$K,9,FALSE)","v":42.398981479102069},62.933763601996709,{"$f":"VLOOKUP($A576,BasinData!$A:$K,7,FALSE)","v":73.831938250047259},31.50080683105152,50.053905929204731,4,102.18605690099895,95.892680540799276,83.30592782039993,64.425798739800911]
[18016,{"$f":"VLOOKUP($A577,BasinData!$A:$K,8,FALSE)","v":166.20213273691564},{"$f":"VLOOKUP($A577,BasinData!$A:$K,9,FALSE)","v":66.900384512662328},99.301748224253316,{"$f":"VLOOKUP($A577,BasinData!$A:$K,7,FALSE)","v":140.44346423695512},25.758668499960521,25.939793569182363,3,161.23704532570298,151.30687050327765,131.44652085842699,101.65599639115099]
[18017,{"$f":"VLOOKUP($A578,BasinData!$A:$K,8,FALSE)","v":250.88680153909016},{"$f":"VLOOKUP($A578,BasinData!$A:$K,9,FALSE)","v":100.98801510980307},149.8987864292871,{"$f":"VLOOKUP($A578,BasinData!$A:$K,7,FALSE)","v":236.95139606140461},13.935405477685549,9.2965432273592192,2,243.3918622176258,228.40198357469708,198.42222628883968,153.45259036005353]
[18018,{"$f":"VLOOKUP($A579,BasinData!$A:$K,8,FALSE)","v":233.58128825310035},{"$f":"VLOOKUP($A579,BasinData!$A:$K,9,FALSE)","v":94.022126802856249},{"$f":"B579-C579","v":139.55916145024412},{"$f":"VLOOKUP($A579,BasinData!$A:$K,7,FALSE)","v":212.04804303504986},{"$f":"B579-E579","v":21.533245218050496},{"$f":"F579/D579*100","v":15.429474492599017},{"$f":"IF($G579<($I$1*100),1,IF($G579<($J$1*100),2,IF($G579<($K$1*100),3,IF($G579<($L$1*100),4,5))))","v":3},{"$f":"B579-(D579*$I$1)","v":226.60333018058816},{"$f":"B579-(D579*$J$1)","v":212.64741403556374},{"$f":"B579-(D579*$K$1)","v":184.73558174551491},{"$f":"B579-(D579*$L$1)","v":142.86783331044165}]
[18019,{"$f":"VLOOKUP($A580,BasinData!$A:$K,8,FALSE)","v":240.23962159909215},{"$f":"VLOOKUP($A580,BasinData!$A:$K,9,FALSE)","v":96.70226726630888},143.53735433278325,{"$f":"VLOOKUP($A580,BasinData!$A:$K,7,FALSE)","v":230.80139357749468},9.4382280215974674,6.575450735782316,2,233.06275388245299,218.70901844917466,190.001547582618,146.94034128278304]
[18020,{"$f":"VLOOKUP($A581,BasinData!$A:$K,8,FALSE)","v":292.88269052663202},{"$f":"VLOOKUP($A581,BasinData!$A:$K,9,FALSE)","v":117.89237773711609},174.99031278951594,{"$f":"VLOOKUP($A581,BasinData!$A:$K,7,FALSE)","v":130.1303343722318},162.75235615440022,93.006494793894149,5,284.1331748871562,266.63414360820462,231.63608105030144,179.13898721344665]
[18021,{"$f":"VLOOKUP($A582,BasinData!$A:$K,8,FALSE)","v":160.38826534197818},{"$f":"VLOOKUP($A582,BasinData!$A:$K,9,FALSE)","v":64.560162050880677},95.828103291097506,{"$f":"VLOOKUP($A582,BasinData!$A:$K,7,FALSE)","v":102.65050042164124},57.737764920336943,60.251390706280226,4,155.59686017742331,146.01404984831356,126.84842919009407,98.099998202764795]
[18022,{"$f":"VLOOKUP($A583,BasinData!$A:$K,8,FALSE)","v":231.59438962731465},{"$f":"VLOOKUP($A583,BasinData!$A:$K,9,FALSE)","v":93.222351975278372},138.37203765203628,{"$f":"VLOOKUP($A583,BasinData!$A:$K,7,FALSE)","v":126.1094171035236},105.48497252379106,76.232867791579224,5,224.67578774471284,210.83858397950922,183.16417644910194,141.65256515349108]
[18023,{"$f":"VLOOKUP($A584,BasinData!$A:$K,8,FALSE)","v":70.645053815350252},{"$f":"VLOOKUP($A584,BasinData!$A:$K,9,FALSE)","v":28.436345468838315},42.208708346511941,{"$f":"VLOOKUP($A584,BasinData!$A:$K,7,FALSE)","v":47.961789034241754},22.683264781108498,53.740722399961825,4,68.534618398024662,64.313747563373454,55.872005894071073,43.209393390117491]
[18024,{"$f":"VLOOKUP($A585,BasinData!$A:$K,8,FALSE)","v":114.13516007113364},{"$f":"VLOOKUP($A585,BasinData!$A:$K,9,FALSE)","v":45.942166742587915},68.192993328545725,{"$f":"VLOOKUP($A585,BasinData!$A:$K,7,FALSE)","v":78.275499070110541},35.859661001023099,52.585550583262297,4,110.72551040470636,103.90621107185179,90.267612406142632,69.809714407578923]
[18025,{"$f":"VLOOKUP($A586,BasinData!$A:$K,8,FALSE)","v":117.00144782807969},{"$f":"VLOOKUP($A586,BasinData!$A:$K,9,FALSE)","v":47.095916997809709},69.905530830269981,{"$f":"VLOOKUP($A586,BasinData!$A:$K,7,FALSE)","v":89.807279634456208},27.194168193623483,38.901311342089208,4,113.50617128656619,106.51561820353919,92.5345120374852,71.5628527884042]
[18026,{"$f":"VLOOKUP($A587,BasinData!$A:$K,8,FALSE)","v":137.50956668263461},{"$f":"VLOOKUP($A587,BasinData!$A:$K,9,FALSE)","v":55.350931626129011},82.158635056505602,{"$f":"VLOOKUP($A587,BasinData!$A:$K,7,FALSE)","v":100.35597145550695},37.153595227127667,45.221777603260847,4,133.40163492980935,125.18577142415877,108.75404441285765,84.106453895905972]
[18027,{"$f":"VLOOKUP($A588,BasinData!$A:$K,8,FALSE)","v":72.561897405489191},{"$f":"VLOOKUP($A588,BasinData!$A:$K,9,FALSE)","v":29.207921447552835},43.353975957936356,{"$f":"VLOOKUP($A588,BasinData!$A:$K,7,FALSE)","v":47.300168915224639},25.261728490264552,58.268539233343731,4,70.394198607592372,66.058801011798735,57.388005820211468,44.381813032830557]
[18028,{"$f":"VLOOKUP($A589,BasinData!$A:$K,8,FALSE)","v":189.30074228692746},{"$f":"VLOOKUP($A589,BasinData!$A:$K,9,FALSE)","v":76.198134398036771},113.10260788889069,{"$f":"VLOOKUP($A589,BasinData!$A:$K,7,FALSE)","v":161.97048623692072},27.330256050006739,24.164125443380875,3,183.64561189248292,172.33535110359387,149.71482952581573,115.78404715914851]
[18030,{"$f":"VLOOKUP($A590,BasinData!$A:$K,8,FALSE)","v":232.5598262481877},{"$f":"VLOOKUP($A590,BasinData!$A:$K,9,FALSE)","v":93.610963601948953},138.94886264623875,{"$f":"VLOOKUP($A590,BasinData!$A:$K,7,FALSE)","v":120.52016220857827},112.03966403960943,80.633739568534907,5,225.61238311587576,211.71749685125189,183.92772432200414,142.24306552813252]
[18031,{"$f":"VLOOKUP($A591,BasinData!$A:$K,8,FALSE)","v":92.22477334484563},{"$f":"VLOOKUP($A591,BasinData!$A:$K,9,FALSE)","v":37.122705327311934},55.102068017533696,{"$f":"VLOOKUP($A591,BasinData!$A:$K,7,FALSE)","v":56.920744998253781},35.304028346591849,64.070242037663576,4,89.469669943968938,83.959463142215583,72.939049538708844,56.408429133448728]
[18032,{"$f":"VLOOKUP($A592,BasinData!$A:$K,8,FALSE)","v":122.34174480072234},{"$f":"VLOOKUP($A592,BasinData!$A:$K,9,FALSE)","v":49.245515892831875},73.096228907890463,{"$f":"VLOOKUP($A592,BasinData!$A:$K,7,FALSE)","v":84.202734098424727},38.139010702297611,52.176440935628968,4,118.68693335532781,111.37731046453877,96.758064682960679,74.829196010593535]
[19001,{"$f":"VLOOKUP($A593,BasinData!$A:$K,8,FALSE)","v":277.31551857260922},{"$f":"VLOOKUP($A593,BasinData!$A:$K,9,FALSE)","v":111.62621392592489},165.68930464668432,{"$f":"VLOOKUP($A593,BasinData!$A:$K,7,FALSE)","v":270.55247454818561},6.763044024423607,4.0817625729343927,1,269.03105334027498,252.46212287560658,219.3242619462697,169.61747055226442]
[19002,{"$f":"VLOOKUP($A594,BasinData!$A:$K,8,FALSE)","v":314.18413509015909},{"$f":"VLOOKUP($A594,BasinData!$A:$K,9,FALSE)","v":126.46672518084533},187.71740990931374,{"$f":"VLOOKUP($A594,BasinData!$A:$K,7,FALSE)","v":309.62273939469651},4.5613956954625792,2.4299268233384366,1,304.79826459469342,286.02652360376203,248.48304162189928,192.16781864910516]
[19003,{"$f":"VLOOKUP($A595,BasinData!$A:$K,8,FALSE)","v":232.11079015443929},{"$f":"VLOOKUP($A595,BasinData!$A:$K,9,FALSE)","v":93.430215696749769},138.68057445768952,{"$f":"VLOOKUP($A595,BasinData!$A:$K,7,FALSE)","v":231.14559476264762},0.96519539179166713,0.69598456421605137,1,225.17676143155481,211.30870398578585,183.57258909424797,141.96841675694111]
[19004,{"$f":"VLOOKUP($A596,BasinData!$A:$K,8,FALSE)","v":237.59712561427312},{"$f":"VLOOKUP($A596,BasinData!$A:$K,9,FALSE)","v":95.638598620507608},141.95852699376553,{"$f":"VLOOKUP($A596,BasinData!$A:$K,7,FALSE)","v":237.87946053501133},-0.28233492073820798,-0.19888549614959544,1,230.49919926458486,216.3033465652083,187.91164116645518,145.32408306832554]
[19005,{"$f":"VLOOKUP($A597,BasinData!$A:$K,8,FALSE)","v":319.33487942051613},{"$f":"VLOOKUP($A597,BasinData!$A:$K,9,FALSE)","v":128.54002454561794},190.79485487489819,{"$f":"VLOOKUP($A597,BasinData!$A:$K,7,FALSE)","v":307.71739697691032},11.617482443605809,6.0889914726595995,2,309.79513667677122,290.7156511892814,252.55668021430176,195.31822375183231]
[19006,{"$f":"VLOOKUP($A598,BasinData!$A:$K,8,FALSE)","v":322.87189742982582},{"$f":"VLOOKUP($A598,BasinData!$A:$K,9,FALSE)","v":129.96375997520832},192.9081374546175,{"$f":"VLOOKUP($A598,BasinData!$A:$K,7,FALSE)","v":277.48169007677626},45.390207353049561,23.529441500998271,3,313.22649055709496,293.93567681163319,255.35404932070969,197.48160808432442]
[19007,{"$f":"VLOOKUP($A599,BasinData!$A:$K,8,FALSE)","v":366.30102145426247},{"$f":"VLOOKUP($A599,BasinData!$A:$K,9,FALSE)","v":147.44503442360522},218.85598703065725,{"$f":"VLOOKUP($A599,BasinData!$A:$K,7,FALSE)","v":296.84646830118072},69.454553153081747,31.735276743127244,3,355.3582221027296,333.47262339966386,289.70142599353244,224.04462988433525]
[19008,{"$f":"VLOOKUP($A600,BasinData!$A:$K,8,FALSE)","v":238.26918189434633},{"$f":"VLOOKUP($A600,BasinData!$A:$K,9,FALSE)","v":95.909117553151006},142.36006434119531,{"$f":"VLOOKUP($A600,BasinData!$A:$K,7,FALSE)","v":216.53191966043792},21.73726223390841,15.269213549813077,3,231.15117867728657,216.91517224316704,188.44315937492797,145.73514007256938]
[19009,{"$f":"VLOOKUP($A601,BasinData!$A:$K,8,FALSE)","v":161.57256149405924},{"$f":"VLOOKUP($A601,BasinData!$A:$K,9,FALSE)","v":65.036869940523118},96.535691553536125,{"$f":"VLOOKUP($A601,BasinData!$A:$K,7,FALSE)","v":133.8462648813092},27.726296612750048,28.721290712848706,3,156.74577691638243,147.09220776102882,127.7850694503216,98.824361984260761]
[19010,{"$f":"VLOOKUP($A602,BasinData!$A:$K,8,FALSE)","v":150.67879046159686},{"$f":"VLOOKUP($A602,BasinData!$A:$K,9,FALSE)","v":60.651863208881103},90.026927252715751,{"$f":"VLOOKUP($A602,BasinData!$A:$K,7,FALSE)","v":113.88696750952263},36.791822952074227,40.867576040661064,4,146.17744409896108,137.1747513736895,119.16936592314636,92.161287747331613]
[19011,{"$f":"VLOOKUP($A603,BasinData!$A:$K,8,FALSE)","v":208.0244456745296},{"$f":"VLOOKUP($A603,BasinData!$A:$K,9,FALSE)","v":83.734878575167272},124.28956709936233,{"$f":"VLOOKUP($A603,BasinData!$A:$K,7,FALSE)","v":204.94987825806973},3.0745674164598711,2.4737131910693133,1,201.80996731956148,189.38101060962526,164.52309718975278,127.23622705994408]
[19012,{"$f":"VLOOKUP($A604,BasinData!$A:$K,8,FALSE)","v":182.68524214674116},{"$f":"VLOOKUP($A604,BasinData!$A:$K,9,FALSE)","v":73.535235337513868},109.15000680922729,{"$f":"VLOOKUP($A604,BasinData!$A:$K,7,FALSE)","v":173.58912597295802},9.0961161737831446,8.3335919434997052,2,177.22774180627979,166.31274112535706,144.4827397635116,111.73773772074341]
[19013,{"$f":"VLOOKUP($A605,BasinData!$A:$K,8,FALSE)","v":280.62914016031652},{"$f":"VLOOKUP($A605,BasinData!$A:$K,9,FALSE)","v":112.96002688425786},167.66911327605868,{"$f":"VLOOKUP($A605,BasinData!$A:$K,7,FALSE)","v":266.28459184503265},14.344548315283873,8.5552717701001395,2,272.2456844965136,255.47877316890771,221.944950513696,171.6442165308784]
[19014,{"$f":"VLOOKUP($A606,BasinData!$A:$K,8,FALSE)","v":287.74936796710136},{"$f":"VLOOKUP($A606,BasinData!$A:$K,9,FALSE)","v":115.82609105712666},171.9232769099747,{"$f":"VLOOKUP($A606,BasinData!$A:$K,7,FALSE)","v":281.27502494679345},6.4743430203079129,3.7658327229873096,1,279.15320412160264,261.96087643060514,227.57622104861022,175.9992379756178]
[19015,{"$f":"VLOOKUP($A607,BasinData!$A:$K,8,FALSE)","v":225.74633346512522},{"$f":"VLOOKUP($A607,BasinData!$A:$K,9,FALSE)","v":90.868367706487945},134.87796575863729,{"$f":"VLOOKUP($A607,BasinData!$A:$K,7,FALSE)","v":220.36105570965543},5.3852777554697866,3.9927038676626281,1,219.00243517719335,205.51463860132964,178.53904544960216,138.07565572201099]
[19016,{"$f":"VLOOKUP($A608,BasinData!$A:$K,8,FALSE)","v":206.7178464337853},{"$f":"VLOOKUP($A608,BasinData!$A:$K,9,FALSE)","v":83.208940729663738},123.50890570412156,{"$f":"VLOOKUP($A608,BasinData!$A:$K,7,FALSE)","v":200.11474705628919},6.6030993774961075,5.3462536485543151,2,200.54240114857922,188.19151057816705,163.48972943734276,126.43705772610627]
[19017,{"$f":"VLOOKUP($A609,BasinData!$A:$K,8,FALSE)","v":298.7257342078679},{"$f":"VLOOKUP($A609,BasinData!$A:$K,9,FALSE)","v":120.2443443609002},178.48138984696772,{"$f":"VLOOKUP($A609,BasinData!$A:$K,7,FALSE)","v":289.7383566925684},8.9873775152994995,5.0354703776149412,2,289.80166471551951,271.95352573082272,236.2572477614292,182.71283080733889]
[19018,{"$f":"VLOOKUP($A610,BasinData!$A:$K,8,FALSE)","v":262.00720672613932},{"$f":"VLOOKUP($A610,BasinData!$A:$K,9,FALSE)","v":105.46424757865967},156.54295914747965,{"$f":"VLOOKUP($A610,BasinData!$A:$K,7,FALSE)","v":248.99899596411367},13.008210762025641,8.3096747582052295,2,254.18005876876532,238.52576285401736,207.21717102452143,160.25428328027755]
[19019,{"$f":"VLOOKUP($A611,BasinData!$A:$K,8,FALSE)","v":321.89650733230025},{"$f":"VLOOKUP($A611,BasinData!$A:$K,9,FALSE)","v":129.57114183307175},192.3253654992285,{"$f":"VLOOKUP($A611,BasinData!$A:$K,7,FALSE)","v":306.8754393427966},15.021067989503649,7.8102375890526545,2,312.2802390573388,293.04770250741598,254.58262940757027,196.88501975780173]
[19020,{"$f":"VLOOKUP($A612,BasinData!$A:$K,8,FALSE)","v":306.48804862959673},{"$f":"VLOOKUP($A612,BasinData!$A:$K,9,FALSE)","v":123.36886395021169},183.11918467938506,{"$f":"VLOOKUP($A612,BasinData!$A:$K,7,FALSE)","v":294.40353509862695},12.084513530969787,6.5992613237810138,2,297.33208939562746,279.02017092768898,242.39633399181196,187.46057858799645]
[19021,{"$f":"VLOOKUP($A613,BasinData!$A:$K,8,FALSE)","v":212.60222456617393},{"$f":"VLOOKUP($A613,BasinData!$A:$K,9,FALSE)","v":85.577545471323972},127.02467909484996,{"$f":"VLOOKUP($A613,BasinData!$A:$K,7,FALSE)","v":206.65893083776285},5.9432937284110778,4.6788496304510954,1,206.25099061143143,193.54852270194644,168.14358688297645,130.03618315452144]
[19022,{"$f":"VLOOKUP($A614,BasinData!$A:$K,8,FALSE)","v":217.0968992855332},{"$f":"VLOOKUP($A614,BasinData!$A:$K,9,FALSE)","v":87.386760925017654},129.71013836051554,{"$f":"VLOOKUP($A614,BasinData!$A:$K,7,FALSE)","v":206.13741501984245},10.959484265690747,8.4492117610961337,2,210.61139236750742,197.64037853145587,171.69835085935276,132.78530935119809]
[19023,{"$f":"VLOOKUP($A615,BasinData!$A:$K,8,FALSE)","v":255.81955348071105},{"$f":"VLOOKUP($A615,BasinData!$A:$K,9,FALSE)","v":102.97356725745445},152.8459862232566,{"$f":"VLOOKUP($A615,BasinData!$A:$K,7,FALSE)","v":243.41678338917558},12.402770091535473,8.1145540017120208,2,248.17725416954823,232.89265554722255,202.32345830257123,156.46966243559427]
[19024,{"$f":"VLOOKUP($A616,BasinData!$A:$K,8,FALSE)","v":199.7561232895556},{"$f":"VLOOKUP($A616,BasinData!$A:$K,9,FALSE)","v":80.406678523095678},119.34944476645992,{"$f":"VLOOKUP($A616,BasinData!$A:$K,7,FALSE)","v":192.19511826792498},7.5610050216306206,6.3351824019171694,2,193.78865105123262,181.85370657458662,157.98381762129463,122.17898419135665]
[19025,{"$f":"VLOOKUP($A617,BasinData!$A:$K,8,FALSE)","v":194.69575487487245},{"$f":"VLOOKUP($A617,BasinData!$A:$K,9,FALSE)","v":78.369757653651021},116.32599722122143,{"$f":"VLOOKUP($A617,BasinData!$A:$K,7,FALSE)","v":187.20770640246721},7.4880484724052394,6.4371238169271328,2,188.87945501381137,177.24685529168923,153.98165584744496,119.08385668107852]
[19026,{"$f":"VLOOKUP($A618,BasinData!$A:$K,8,FALSE)","v":310.65269746954999},{"$f":"VLOOKUP($A618,BasinData!$A:$K,9,FALSE)","v":125.04523599288646},185.60746147666353,{"$f":"VLOOKUP($A618,BasinData!$A:$K,7,FALSE)","v":296.25705198195311},14.39564548759688,7.7559627037983319,2,301.37232439571682,282.81157824805047,245.69008595271777,190.00784750971869]
[19027,{"$f":"VLOOKUP($A619,BasinData!$A:$K,8,FALSE)","v":278.01502294496009},{"$f":"VLOOKUP($A619,BasinData!$A:$K,9,FALSE)","v":111.90778138061354},166.10724156434657,{"$f":"VLOOKUP($A619,BasinData!$A:$K,7,FALSE)","v":266.28510891411179},11.729914030848306,7.0616512082071843,2,269.70966086674275,253.09893671030812,219.87748839743881,170.04531592813481]
[19028,{"$f":"VLOOKUP($A620,BasinData!$A:$K,8,FALSE)","v":286.39566510175899},{"$f":"VLOOKUP($A620,BasinData!$A:$K,9,FALSE)","v":115.2811928616826},171.1144722400764,{"$f":"VLOOKUP($A620,BasinData!$A:$K,7,FALSE)","v":271.92307381050347},14.472591291255526,8.4578417604270459,2,277.83994148975518,260.72849426574754,226.50559981773227,175.17125814570932]
[19029,{"$f":"VLOOKUP($A621,BasinData!$A:$K,8,FALSE)","v":197.20505743770974},{"$f":"VLOOKUP($A621,BasinData!$A:$K,9,FALSE)","v":79.379812720622709},117.82524471708703,{"$f":"VLOOKUP($A621,BasinData!$A:$K,7,FALSE)","v":185.51830835514514},11.686749082564603,9.9187140333346484,2,191.31379520185538,179.53127073014667,155.96622178672928,120.61864837160317]
[19030,{"$f":"VLOOKUP($A622,BasinData!$A:$K,8,FALSE)","v":266.99430150388486},{"$f":"VLOOKUP($A622,BasinData!$A:$K,9,FALSE)","v":107.47167403425387},159.522627469631,{"$f":"VLOOKUP($A622,BasinData!$A:$K,7,FALSE)","v":246.06036618240788},20.93393532147698,13.122862664396786,2,259.01817013040329,243.06590738344022,211.16138188951402,163.30459364862469]
[19031,{"$f":"VLOOKUP($A623,BasinData!$A:$K,8,FALSE)","v":316.93402994241296},{"$f":"VLOOKUP($A623,BasinData!$A:$K,9,FALSE)","v":127.57362447242292},189.36040546999004,{"$f":"VLOOKUP($A623,BasinData!$A:$K,7,FALSE)","v":313.33112450345504},3.6029054389579187,1.902670957012135,1,307.46600966891344,288.52996912191446,250.65788802791644,193.84976638691944]
[19032,{"$f":"VLOOKUP($A624,BasinData!$A:$K,8,FALSE)","v":269.04162490686241},{"$f":"VLOOKUP($A624,BasinData!$A:$K,9,FALSE)","v":108.29577129838333},160.74585360847908,{"$f":"VLOOKUP($A624,BasinData!$A:$K,7,FALSE)","v":262.89512434167301},6.1465005651893989,3.823738172531737,1,261.00433222643846,244.92974686559054,212.78057614389473,164.556820061351]
[19033,{"$f":"VLOOKUP($A625,BasinData!$A:$K,8,FALSE)","v":288.26800998370533},{"$f":"VLOOKUP($A625,BasinData!$A:$K,9,FALSE)","v":116.0348570324114},172.23315295129393,{"$f":"VLOOKUP($A625,BasinData!$A:$K,7,FALSE)","v":276.48505340370178},11.782956580003543,6.8412825162270945,2,279.65635233614063,262.43303704101123,227.98640645075244,176.31646056536425]
[19034,{"$f":"VLOOKUP($A626,BasinData!$A:$K,8,FALSE)","v":247.38263088232762},{"$f":"VLOOKUP($A626,BasinData!$A:$K,9,FALSE)","v":99.577501535308301},147.80512934701932,{"$f":"VLOOKUP($A626,BasinData!$A:$K,7,FALSE)","v":231.9177232504187},15.464907631908915,10.463038529332868,2,239.99237441497667,225.21186148027471,195.65083561087084,151.30929680676508]
[19035,{"$f":"VLOOKUP($A627,BasinData!$A:$K,8,FALSE)","v":298.12267854919861},{"$f":"VLOOKUP($A627,BasinData!$A:$K,9,FALSE)","v":120.00159984984525},178.12107869935335,{"$f":"VLOOKUP($A627,BasinData!$A:$K,7,FALSE)","v":286.73595736122434},11.386721187974274,6.3926859589670855,2,289.21662461423097,271.40451674429562,235.78030100442493,182.34397739461895]
[19036,{"$f":"VLOOKUP($A628,BasinData!$A:$K,8,FALSE)","v":302.0753503006606},{"$f":"VLOOKUP($A628,BasinData!$A:$K,9,FALSE)","v":121.59264597946216},180.48270432119844,{"$f":"VLOOKUP($A628,BasinData!$A:$K,7,FALSE)","v":286.92698107561324},15.148369225047361,8.3932525734368237,2,293.0512150846007,275.00294465248083,238.90640378824116,184.76159249188163]
[19037,{"$f":"VLOOKUP($A629,BasinData!$A:$K,8,FALSE)","v":218.71719449108173},{"$f":"VLOOKUP($A629,BasinData!$A:$K,9,FALSE)","v":88.038968995336489},130.67822549574524,{"$f":"VLOOKUP($A629,BasinData!$A:$K,7,FALSE)","v":203.5130536201923},15.204140870889432,11.634792876326948,2,212.18328321629446,199.11546066671994,172.97981556757088,133.77634791884731]
[19038,{"$f":"VLOOKUP($A630,BasinData!$A:$K,8,FALSE)","v":289.90242281436804},{"$f":"VLOOKUP($A630,BasinData!$A:$K,9,FALSE)","v":116.69274778882453},173.2096750255435,{"$f":"VLOOKUP($A630,BasinData!$A:$K,7,FALSE)","v":277.61350712461757},12.288915689750468,7.0948205912505768,2,281.24193906309085,263.92097156053649,229.27903655542781,177.31613404776476]
[19039,{"$f":"VLOOKUP($A631,BasinData!$A:$K,8,FALSE)","v":316.66520952454857},{"$f":"VLOOKUP($A631,BasinData!$A:$K,9,FALSE)","v":127.46541774231765},189.19979178223093,{"$f":"VLOOKUP($A631,BasinData!$A:$K,7,FALSE)","v":313.09889870114125},3.5663108234073206,1.8849443700826831,1,307.20521993543701,288.28524075721396,250.44528240076775,193.68534486609846]
[19040,{"$f":"VLOOKUP($A632,BasinData!$A:$K,8,FALSE)","v":235.57868315358169},{"$f":"VLOOKUP($A632,BasinData!$A:$K,9,FALSE)","v":94.826126635261247},140.75255651832043,{"$f":"VLOOKUP($A632,BasinData!$A:$K,7,FALSE)","v":230.42925620592712},5.1494269476545753,3.6584962113880488,1,228.54105532766567,214.46579967583364,186.31528837216956,144.08952141667339]
[19041,{"$f":"VLOOKUP($A633,BasinData!$A:$K,8,FALSE)","v":315.89537668832747},{"$f":"VLOOKUP($A633,BasinData!$A:$K,9,FALSE)","v":127.15554137728213},188.73983531104534,{"$f":"VLOOKUP($A633,BasinData!$A:$K,7,FALSE)","v":304.66600484432695},11.229371844000525,5.9496564810997086,2,306.45838492277522,287.58440139167067,249.83643432946161,193.214483736148]
[19042,{"$f":"VLOOKUP($A634,BasinData!$A:$K,8,FALSE)","v":319.79624443166642},{"$f":"VLOOKUP($A634,BasinData!$A:$K,9,FALSE)","v":128.72573513872749},191.07050929293894,{"$f":"VLOOKUP($A634,BasinData!$A:$K,7,FALSE)","v":291.85494078904395},27.941303642622472,14.623556375088937,2,310.24271896701947,291.13566803772557,252.92156617913781,195.6004133912561]
[19043,{"$f":"VLOOKUP($A635,BasinData!$A:$K,8,FALSE)","v":280.63719765502702},{"$f":"VLOOKUP($A635,BasinData!$A:$K,9,FALSE)","v":112.96327022106387},167.67392743396317,{"$f":"VLOOKUP($A635,BasinData!$A:$K,7,FALSE)","v":267.70406881720288},12.933128837824142,7.7132617072608003,2,272.25350128332889,255.48610853993256,221.9513230531399,171.64914482295097]
[19044,{"$f":"VLOOKUP($A636,BasinData!$A:$K,8,FALSE)","v":309.89440558092087},{"$f":"VLOOKUP($A636,BasinData!$A:$K,9,FALSE)","v":124.74000513882501},185.15440044209586,{"$f":"VLOOKUP($A636,BasinData!$A:$K,7,FALSE)","v":305.09857144056679},4.7958341403540885,2.5901810213006042,1,300.63668555881605,282.12124551460647,245.09036542618733,189.54404529355855]
[19045,{"$f":"VLOOKUP($A637,BasinData!$A:$K,8,FALSE)","v":332.21287953985359},{"$f":"VLOOKUP($A637,BasinData!$A:$K,9,FALSE)","v":133.72373155075931},198.48914798909428,{"$f":"VLOOKUP($A637,BasinData!$A:$K,7,FALSE)","v":316.2931886348029},15.919690905050686,8.0204338959253185,2,322.28842214039889,302.43950734148945,262.74167774367061,203.19493334694229]
[19046,{"$f":"VLOOKUP($A638,BasinData!$A:$K,8,FALSE)","v":266.72334321276719},{"$f":"VLOOKUP($A638,BasinData!$A:$K,9,FALSE)","v":107.36260675837627},159.36073645439092,{"$f":"VLOOKUP($A638,BasinData!$A:$K,7,FALSE)","v":264.09811624086353},2.6252269719036576,1.6473486696360733,1,258.75530639004762,242.81923274460854,210.94708545373038,163.13886451741308]
[19047,{"$f":"VLOOKUP($A639,BasinData!$A:$K,8,FALSE)","v":338.22911426820673},{"$f":"VLOOKUP($A639,BasinData!$A:$K,9,FALSE)","v":136.14541176639389},202.08370250181284,{"$f":"VLOOKUP($A639,BasinData!$A:$K,7,FALSE)","v":322.90976628533974},15.319347982866987,7.5806944316697491,2,328.12492914311611,307.9165588929348,267.49981839257225,206.87470764202837]
[19048,{"$f":"VLOOKUP($A640,BasinData!$A:$K,8,FALSE)","v":251.69960093920878},{"$f":"VLOOKUP($A640,BasinData!$A:$K,9,FALSE)","v":101.31518655763084},150.38441438157793,{"$f":"VLOOKUP($A640,BasinData!$A:$K,7,FALSE)","v":240.69004995467245},11.009550984536332,7.3209388285419301,2,244.18038022012988,229.1419387819721,199.06505590565649,153.94973159118314]
[19049,{"$f":"VLOOKUP($A641,BasinData!$A:$K,8,FALSE)","v":291.39835352615694},{"$f":"VLOOKUP($A641,BasinData!$A:$K,9,FALSE)","v":117.29489613779543},174.10345738836151,{"$f":"VLOOKUP($A641,BasinData!$A:$K,7,FALSE)","v":279.76280201830019},11.635551507856746,6.6831248973431139,2,282.69318065673889,265.28283491790273,230.46214344023042,178.23110622372195]
[19050,{"$f":"VLOOKUP($A642,BasinData!$A:$K,8,FALSE)","v":336.64259951440289},{"$f":"VLOOKUP($A642,BasinData!$A:$K,9,FALSE)","v":135.50680114620107},201.13579836820182,{"$f":"VLOOKUP($A642,BasinData!$A:$K,7,FALSE)","v":319.74398614642371},16.898613367979181,8.4015940996462302,2,326.58580959599277,306.47222975917259,266.24507008553223,205.9043305750717]
[19051,{"$f":"VLOOKUP($A643,BasinData!$A:$K,8,FALSE)","v":310.39897213843824},{"$f":"VLOOKUP($A643,BasinData!$A:$K,9,FALSE)","v":124.94310540086302},{"$f":"B643-C643","v":185.45586673757521},{"$f":"VLOOKUP($A643,BasinData!$A:$K,7,FALSE)","v":291.39754647123755},{"$f":"B643-E643","v":19.001425667200692},{"$f":"F643/D643*100","v":10.24579378450626},{"$f":"IF($G643<($I$1*100),1,IF($G643<($J$1*100),2,IF($G643<($K$1*100),3,IF($G643<($L$1*100),4,5))))","v":2},{"$f":"B643-(D643*$I$1)","v":301.12617880155949},{"$f":"B643-(D643*$J$1)","v":282.58059212780194},{"$f":"B643-(D643*$K$1)","v":245.48941878028694},{"$f":"B643-(D643*$L$1)","v":189.85265875901433}]
[19052,{"$f":"VLOOKUP($A644,BasinData!$A:$K,8,FALSE)","v":304.47996497597364},{"$f":"VLOOKUP($A644,BasinData!$A:$K,9,FALSE)","v":122.56056163574245},181.91940334023121,{"$f":"VLOOKUP($A644,BasinData!$A:$K,7,FALSE)","v":291.45595010099851},13.024014874975137,7.1592225105406859,2,295.38399480896209,277.19205447493897,240.80817380689274,186.23235280482334]
[19053,{"$f":"VLOOKUP($A645,BasinData!$A:$K,8,FALSE)","v":299.43089590973744},{"$f":"VLOOKUP($A645,BasinData!$A:$K,9,FALSE)","v":120.52818902776347},178.90270688197398,{"$f":"VLOOKUP($A645,BasinData!$A:$K,7,FALSE)","v":296.31121000175779},3.1196859079796582,1.7437891032234538,1,290.48576056563877,272.59548987744137,236.81494850104656,183.14413643645435]
[19054,{"$f":"VLOOKUP($A646,BasinData!$A:$K,8,FALSE)","v":291.98450057222999},{"$f":"VLOOKUP($A646,BasinData!$A:$K,9,FALSE)","v":117.53083452268561},174.45366604954438,{"$f":"VLOOKUP($A646,BasinData!$A:$K,7,FALSE)","v":275.38389151036216},16.600609061867829,9.5157696813051214,2,283.26181726975278,265.81645066479831,230.92571745488945,178.58961764002612]
[19055,{"$f":"VLOOKUP($A647,BasinData!$A:$K,8,FALSE)","v":303.27410365012423},{"$f":"VLOOKUP($A647,BasinData!$A:$K,9,FALSE)","v":122.07517324126272},181.19893040886151,{"$f":"VLOOKUP($A647,BasinData!$A:$K,7,FALSE)","v":290.01733247764764},13.25677117247659,7.3161420669336747,2,294.21415712968115,276.094264088795,239.85447800702269,185.49479888436423]
[19056,{"$f":"VLOOKUP($A648,BasinData!$A:$K,8,FALSE)","v":339.28594535987838},{"$f":"VLOOKUP($A648,BasinData!$A:$K,9,FALSE)","v":136.57081188150366},202.71513347837472,{"$f":"VLOOKUP($A648,BasinData!$A:$K,7,FALSE)","v":290.22264199644292},49.063303363435466,24.203078734952683,3,329.15018868595962,308.87867533812215,268.33564864244727,207.5211085989348]
[19057,{"$f":"VLOOKUP($A649,BasinData!$A:$K,8,FALSE)","v":238.91677372621899},{"$f":"VLOOKUP($A649,BasinData!$A:$K,9,FALSE)","v":96.169788952766069},142.74698477345294,{"$f":"VLOOKUP($A649,BasinData!$A:$K,7,FALSE)","v":241.2375910210244},-2.3208172948054084,-1.6258257913388987,1,231.77942448754635,217.50472601020104,188.95532905551048,146.1312336234746]
[19058,{"$f":"VLOOKUP($A650,BasinData!$A:$K,8,FALSE)","v":227.78415802346808},{"$f":"VLOOKUP($A650,BasinData!$A:$K,9,FALSE)","v":91.68864145555159},136.09551656791649,{"$f":"VLOOKUP($A650,BasinData!$A:$K,7,FALSE)","v":227.88922430992631},-0.10506628645822502,-7.7200402414280278E-2,1,220.97938219507225,207.36983053828061,180.15072722469731,139.32207225432236]
[19059,{"$f":"VLOOKUP($A651,BasinData!$A:$K,8,FALSE)","v":283.84230072716292},{"$f":"VLOOKUP($A651,BasinData!$A:$K,9,FALSE)","v":114.25340184812319},169.58889887903973,{"$f":"VLOOKUP($A651,BasinData!$A:$K,7,FALSE)","v":272.12555108018955},11.716749646973369,6.9089130977437438,2,275.36285578321093,258.40396589530695,224.48618611949902,173.60951645578709]
[19060,{"$f":"VLOOKUP($A652,BasinData!$A:$K,8,FALSE)","v":310.3180145259405},{"$f":"VLOOKUP($A652,BasinData!$A:$K,9,FALSE)","v":124.91051800071276},185.40749652522774,{"$f":"VLOOKUP($A652,BasinData!$A:$K,7,FALSE)","v":295.878290314536},14.439724211404496,7.7881016043165943,2,301.04763969967911,282.50689004715633,245.42539074211078,189.80314178454245]
[19061,{"$f":"VLOOKUP($A653,BasinData!$A:$K,8,FALSE)","v":280.03927169865199},{"$f":"VLOOKUP($A653,BasinData!$A:$K,9,FALSE)","v":112.72259053944443},167.31668115920758,{"$f":"VLOOKUP($A653,BasinData!$A:$K,7,FALSE)","v":243.84616836879064},36.193103329861344,21.631497277562158,3,271.67343764069159,254.94176952477085,221.47843329292934,171.28342894516706]
[19062,{"$f":"VLOOKUP($A654,BasinData!$A:$K,8,FALSE)","v":179.44813784375648},{"$f":"VLOOKUP($A654,BasinData!$A:$K,9,FALSE)","v":72.23222243983902},107.21591540391746,{"$f":"VLOOKUP($A654,BasinData!$A:$K,7,FALSE)","v":160.68575095547229},18.762386888284198,17.499628499742919,3,174.08734207356062,163.36575053316886,141.92256745238538,109.75779283121012]
[19063,{"$f":"VLOOKUP($A655,BasinData!$A:$K,8,FALSE)","v":309.16209088247763},{"$f":"VLOOKUP($A655,BasinData!$A:$K,9,FALSE)","v":124.44523073308574},184.71686014939189,{"$f":"VLOOKUP($A655,BasinData!$A:$K,7,FALSE)","v":293.56556454141213},15.596526341065498,8.4434774001959685,2,299.92624787500802,281.45456186006885,244.51118983019046,189.0961317853729]
[19064,{"$f":"VLOOKUP($A656,BasinData!$A:$K,8,FALSE)","v":200.62999313305593},{"$f":"VLOOKUP($A656,BasinData!$A:$K,9,FALSE)","v":80.758432303757033},119.8715608292989,{"$f":"VLOOKUP($A656,BasinData!$A:$K,7,FALSE)","v":56.006151543392548},144.62384158966339,120.64900180586832,5,194.63641509159098,182.64925900866109,158.67494684280132,122.71347859401165]
[19065,{"$f":"VLOOKUP($A657,BasinData!$A:$K,8,FALSE)","v":217.62839196546261},{"$f":"VLOOKUP($A657,BasinData!$A:$K,9,FALSE)","v":87.600699603585809},130.0276923618768,{"$f":"VLOOKUP($A657,BasinData!$A:$K,7,FALSE)","v":112.49324944099156},105.13514252447105,80.855962768201778,5,211.12700734736876,198.12423811118109,172.11869963880574,133.11039193024268]
[19066,{"$f":"VLOOKUP($A658,BasinData!$A:$K,8,FALSE)","v":233.28024571040899},{"$f":"VLOOKUP($A658,BasinData!$A:$K,9,FALSE)","v":93.900949886958301},139.37929582345069,{"$f":"VLOOKUP($A658,BasinData!$A:$K,7,FALSE)","v":213.18560334700263},20.094642363406365,14.417236250683816,2,226.31128091923645,212.3733513368914,184.49749217220125,142.68370342516604]
[19067,{"$f":"VLOOKUP($A659,BasinData!$A:$K,8,FALSE)","v":310.87588000417611},{"$f":"VLOOKUP($A659,BasinData!$A:$K,9,FALSE)","v":125.13507236945469},185.74080763472142,{"$f":"VLOOKUP($A659,BasinData!$A:$K,7,FALSE)","v":292.7620949069975},18.113785097178607,9.7521838780852335,2,301.58883962244005,283.01475885896792,245.86659733202362,190.14435504160718]
[19068,{"$f":"VLOOKUP($A660,BasinData!$A:$K,8,FALSE)","v":294.12062876699611},{"$f":"VLOOKUP($A660,BasinData!$A:$K,9,FALSE)","v":118.3906778667202},175.72995090027592,{"$f":"VLOOKUP($A660,BasinData!$A:$K,7,FALSE)","v":270.30367059326448},23.816958173731621,13.55315815643025,2,285.33413122198232,267.76113613195474,232.61514595189954,179.89616068181675]
[19069,{"$f":"VLOOKUP($A661,BasinData!$A:$K,8,FALSE)","v":298.51872920132598},{"$f":"VLOOKUP($A661,BasinData!$A:$K,9,FALSE)","v":120.16101983127082},178.35770937005515,{"$f":"VLOOKUP($A661,BasinData!$A:$K,7,FALSE)","v":283.67673637446632},14.841992826859666,8.3214753538158632,2,289.60084373282325,271.76507279581773,236.09353092180669,182.58621811079013]
[19070,{"$f":"VLOOKUP($A662,BasinData!$A:$K,8,FALSE)","v":206.54645094319866},{"$f":"VLOOKUP($A662,BasinData!$A:$K,9,FALSE)","v":83.139949892812481},123.40650105038618,{"$f":"VLOOKUP($A662,BasinData!$A:$K,7,FALSE)","v":161.8910656123017},44.655385330896962,36.185602015135672,4,200.37612589067936,188.03547578564073,163.35417557556349,126.33222526044764]
[19071,{"$f":"VLOOKUP($A663,BasinData!$A:$K,8,FALSE)","v":201.39740696092997},{"$f":"VLOOKUP($A663,BasinData!$A:$K,9,FALSE)","v":81.06733495933473},120.33007200159524,{"$f":"VLOOKUP($A663,BasinData!$A:$K,7,FALSE)","v":74.088559206818957},127.30884775411101,105.79969382252447,5,195.3809033608502,183.34789616069068,159.28188176037165,123.18286015989307]
[19072,{"$f":"VLOOKUP($A664,BasinData!$A:$K,8,FALSE)","v":269.23406828561667},{"$f":"VLOOKUP($A664,BasinData!$A:$K,9,FALSE)","v":108.3732344200868},160.86083386552986,{"$f":"VLOOKUP($A664,BasinData!$A:$K,7,FALSE)","v":252.12587831052829},17.108189975088379,10.63539804188123,2,261.19102659234017,245.10494320578721,212.93277643268124,164.67452627302225]
[19073,{"$f":"VLOOKUP($A665,BasinData!$A:$K,8,FALSE)","v":365.115264444491},{"$f":"VLOOKUP($A665,BasinData!$A:$K,9,FALSE)","v":146.96773850335452},218.14752594113648,{"$f":"VLOOKUP($A665,BasinData!$A:$K,7,FALSE)","v":283.31678872903092},81.798475715460086,37.496861521836401,4,354.20788814743418,332.39313555332052,288.76363036509326,223.31937258275229]
[19074,{"$f":"VLOOKUP($A666,BasinData!$A:$K,8,FALSE)","v":296.00640714676439},{"$f":"VLOOKUP($A666,BasinData!$A:$K,9,FALSE)","v":119.14974934573584},176.85665780102855,{"$f":"VLOOKUP($A666,BasinData!$A:$K,7,FALSE)","v":255.73518396250029},40.271223184264102,22.770544058098725,3,287.16357425671293,269.47790847661008,234.10657691640441,181.04957957609582]
[19075,{"$f":"VLOOKUP($A667,BasinData!$A:$K,8,FALSE)","v":288.61283000178321},{"$f":"VLOOKUP($A667,BasinData!$A:$K,9,FALSE)","v":116.17365544261946},172.43917455916375,{"$f":"VLOOKUP($A667,BasinData!$A:$K,7,FALSE)","v":260.92218206291125},27.690647938871962,16.05821183594875,3,279.99087127382501,262.74695381790866,228.25911890607591,176.52736653832676]
[19076,{"$f":"VLOOKUP($A668,BasinData!$A:$K,8,FALSE)","v":168.34353825890469},{"$f":"VLOOKUP($A668,BasinData!$A:$K,9,FALSE)","v":67.762352108742306},100.58118615016238,{"$f":"VLOOKUP($A668,BasinData!$A:$K,7,FALSE)","v":52.89941728954296},115.44412096936173,114.77705263587742,5,163.31447895139658,153.25636033638034,133.14012310634786,102.96576726129913]
[19077,{"$f":"VLOOKUP($A669,BasinData!$A:$K,8,FALSE)","v":238.37265317571891},{"$f":"VLOOKUP($A669,BasinData!$A:$K,9,FALSE)","v":95.950767250395273},142.42188592532364,{"$f":"VLOOKUP($A669,BasinData!$A:$K,7,FALSE)","v":161.07281250579189},77.299840669927022,54.275254233368187,4,231.25155887945272,217.00937028692036,188.52499310185564,145.79842732425854]
[19078,{"$f":"VLOOKUP($A670,BasinData!$A:$K,8,FALSE)","v":149.94665206379423},{"$f":"VLOOKUP($A670,BasinData!$A:$K,9,FALSE)","v":60.35715976842036},89.589492295373873,{"$f":"VLOOKUP($A670,BasinData!$A:$K,7,FALSE)","v":47.084388467888161},102.86226359590607,114.81509824474981,5,145.46717744902554,136.50822821948816,118.59032976041338,91.713482071801224]
[19079,{"$f":"VLOOKUP($A671,BasinData!$A:$K,8,FALSE)","v":313.14363664466765},{"$f":"VLOOKUP($A671,BasinData!$A:$K,9,FALSE)","v":126.04789935146569},187.09573729320198,{"$f":"VLOOKUP($A671,BasinData!$A:$K,7,FALSE)","v":308.92135854025946},4.2222781044081898,2.2567473559225788,1,303.78884978000758,285.07927605068733,247.66012859204696,191.53140740408637]
[19080,{"$f":"VLOOKUP($A672,BasinData!$A:$K,8,FALSE)","v":293.47260345645776},{"$f":"VLOOKUP($A672,BasinData!$A:$K,9,FALSE)","v":118.12983198144161},175.34277147501615,{"$f":"VLOOKUP($A672,BasinData!$A:$K,7,FALSE)","v":248.76434912601388},44.708254330443879,25.497631840964807,3,284.70546488270696,267.17118773520536,232.10263344020211,179.49980199769726]
[19081,{"$f":"VLOOKUP($A673,BasinData!$A:$K,8,FALSE)","v":247.56204314858786},{"$f":"VLOOKUP($A673,BasinData!$A:$K,9,FALSE)","v":99.64971931856681},147.91232383002105,{"$f":"VLOOKUP($A673,BasinData!$A:$K,7,FALSE)","v":244.49836256409858},3.0636805844892763,2.0712814897087406,1,240.1664269570868,225.3751945740847,195.79272980808048,151.41903265907416]
[19082,{"$f":"VLOOKUP($A674,BasinData!$A:$K,8,FALSE)","v":264.56695165880876},{"$f":"VLOOKUP($A674,BasinData!$A:$K,9,FALSE)","v":106.49460692140646},158.07234473740232,{"$f":"VLOOKUP($A674,BasinData!$A:$K,7,FALSE)","v":254.92359322509736},9.6433584337113984,6.1005980835745985,2,256.66333442193866,240.85609994819842,209.24163100071794,161.81992757949723]
[19083,{"$f":"VLOOKUP($A675,BasinData!$A:$K,8,FALSE)","v":158.07516437804802},{"$f":"VLOOKUP($A675,BasinData!$A:$K,9,FALSE)","v":63.629082880263226},94.446081497784789,{"$f":"VLOOKUP($A675,BasinData!$A:$K,7,FALSE)","v":128.54010263447088},29.535061743577131,31.271876265475207,3,153.35286030315876,143.90825215338029,125.01903585382334,96.685211404487902]
[19084,{"$f":"VLOOKUP($A676,BasinData!$A:$K,8,FALSE)","v":260.49373921790084},{"$f":"VLOOKUP($A676,BasinData!$A:$K,9,FALSE)","v":104.85504024430585},155.63869897359498,{"$f":"VLOOKUP($A676,BasinData!$A:$K,7,FALSE)","v":244.98418993777599},15.509549280124844,9.9650982579571217,2,252.71180426922109,237.1479343718616,206.0201945771426,159.32858488506409]
[19085,{"$f":"VLOOKUP($A677,BasinData!$A:$K,8,FALSE)","v":261.0337551290466},{"$f":"VLOOKUP($A677,BasinData!$A:$K,9,FALSE)","v":105.0724097299056},155.96134539914101,{"$f":"VLOOKUP($A677,BasinData!$A:$K,7,FALSE)","v":255.66817706331383},5.3655780657327625,3.4403255832405213,1,253.23568785908955,237.63955331917543,206.44728423934725,159.65888061960493]
[20001,{"$f":"VLOOKUP($A678,BasinData!$A:$K,8,FALSE)","v":209.56195181888319},{"$f":"VLOOKUP($A678,BasinData!$A:$K,9,FALSE)","v":84.353762042870144},125.20818977601304,{"$f":"VLOOKUP($A678,BasinData!$A:$K,7,FALSE)","v":206.52916531279681},3.0327865060863815,2.4221949950013513,1,203.30154233008253,190.78072335248123,165.73908539727861,128.1766284644747]
[20002,{"$f":"VLOOKUP($A679,BasinData!$A:$K,8,FALSE)","v":272.15010530895933},{"$f":"VLOOKUP($A679,BasinData!$A:$K,9,FALSE)","v":109.54700996016116},162.60309534879815,{"$f":"VLOOKUP($A679,BasinData!$A:$K,7,FALSE)","v":266.93924357013623},5.2108617388230982,3.2046510108834858,1,264.01995054151939,247.75964100663961,215.23902193687996,166.45809333224054]
[20003,{"$f":"VLOOKUP($A680,BasinData!$A:$K,8,FALSE)","v":326.55852446436728},{"$f":"VLOOKUP($A680,BasinData!$A:$K,9,FALSE)","v":131.44771666158854},195.11080780277874,{"$f":"VLOOKUP($A680,BasinData!$A:$K,7,FALSE)","v":314.53844779734118},12.020076667026103,6.1606411261318739,2,316.80298407422833,297.2919032939505,258.26974173339471,199.73649939256109]
[20004,{"$f":"VLOOKUP($A681,BasinData!$A:$K,8,FALSE)","v":375.37637390020257},{"$f":"VLOOKUP($A681,BasinData!$A:$K,9,FALSE)","v":151.09808362473902},224.27829027546355,{"$f":"VLOOKUP($A681,BasinData!$A:$K,7,FALSE)","v":375.98977265075473},-0.61339875055216453,-0.27349894178289602,1,364.16245938642936,341.73463035888301,296.87897230379031,229.59548522115125]
[20005,{"$f":"VLOOKUP($A682,BasinData!$A:$K,8,FALSE)","v":186.54945989488004},{"$f":"VLOOKUP($A682,BasinData!$A:$K,9,FALSE)","v":75.090676588080484},111.45878330679956,{"$f":"VLOOKUP($A682,BasinData!$A:$K,7,FALSE)","v":184.07436990878568},2.4750899860943605,2.2206325178352877,1,180.97652072954006,169.83064239886011,147.53888573750021,114.10125074546033]
[20006,{"$f":"VLOOKUP($A683,BasinData!$A:$K,8,FALSE)","v":355.80807558684762},{"$f":"VLOOKUP($A683,BasinData!$A:$K,9,FALSE)","v":143.2213695304971},212.58670605635052,{"$f":"VLOOKUP($A683,BasinData!$A:$K,7,FALSE)","v":354.63302975485516},1.1750458319924633,0.55273721193130154,1,345.17874028403008,323.92006967839507,281.40272846712492,217.62671665021978]
[20007,{"$f":"VLOOKUP($A684,BasinData!$A:$K,8,FALSE)","v":285.07942544379387},{"$f":"VLOOKUP($A684,BasinData!$A:$K,9,FALSE)","v":114.75137451471788},170.32805092907597,{"$f":"VLOOKUP($A684,BasinData!$A:$K,7,FALSE)","v":279.84964469314338},5.229780750650491,3.070416600274581,1,276.56302289734009,259.53021780443248,225.46460761861726,174.3661923398945]
[20009,{"$f":"VLOOKUP($A685,BasinData!$A:$K,8,FALSE)","v":203.78274055624001},{"$f":"VLOOKUP($A685,BasinData!$A:$K,9,FALSE)","v":82.027489513848266},121.75525104239175,{"$f":"VLOOKUP($A685,BasinData!$A:$K,7,FALSE)","v":188.43692079635082},15.345819759889196,12.603825813267152,2,197.69497800412043,185.51945289988126,161.16840269140289,124.64182737868538]
[20010,{"$f":"VLOOKUP($A686,BasinData!$A:$K,8,FALSE)","v":245.25438364355509},{"$f":"VLOOKUP($A686,BasinData!$A:$K,9,FALSE)","v":98.720830466969659},146.53355317658543,{"$f":"VLOOKUP($A686,BasinData!$A:$K,7,FALSE)","v":221.60466406752161},23.649719576033476,16.139456843398552,3,237.9277059847258,223.27435066706727,193.96764003175019,150.00757407877455]
[20011,{"$f":"VLOOKUP($A687,BasinData!$A:$K,8,FALSE)","v":252.18698165981286},{"$f":"VLOOKUP($A687,BasinData!$A:$K,9,FALSE)","v":101.51136910400095},150.67561255581191,{"$f":"VLOOKUP($A687,BasinData!$A:$K,7,FALSE)","v":231.45377290635082},20.733208753462037,13.760162246416771,2,244.65320103202225,229.58563977644107,199.45051726527868,154.2478334985351]
[20012,{"$f":"VLOOKUP($A688,BasinData!$A:$K,8,FALSE)","v":206.73020552342552},{"$f":"VLOOKUP($A688,BasinData!$A:$K,9,FALSE)","v":83.21391556263093},123.51628996079459,{"$f":"VLOOKUP($A688,BasinData!$A:$K,7,FALSE)","v":191.45611319868985},15.274092324735676,12.366054979131771,2,200.5543910253858,188.20276202930634,163.4995040371474,126.44461704890904]
[20013,{"$f":"VLOOKUP($A689,BasinData!$A:$K,8,FALSE)","v":255.76209045007121},{"$f":"VLOOKUP($A689,BasinData!$A:$K,9,FALSE)","v":102.95043699563553},152.81165345443569,{"$f":"VLOOKUP($A689,BasinData!$A:$K,7,FALSE)","v":236.85233270500365},18.909757745067566,12.374552148083357,2,248.12150777734942,232.84034243190587,202.27801174101873,156.43451570468801]
[20014,{"$f":"VLOOKUP($A690,BasinData!$A:$K,8,FALSE)","v":241.28000977227245},{"$f":"VLOOKUP($A690,BasinData!$A:$K,9,FALSE)","v":97.121048708412062},144.15896106386037,{"$f":"VLOOKUP($A690,BasinData!$A:$K,7,FALSE)","v":236.74582036934166},4.5341894029307923,3.1452705884320373,1,234.07206171907944,219.6561656126934,190.82437339992131,147.57668508076318]
[20015,{"$f":"VLOOKUP($A691,BasinData!$A:$K,8,FALSE)","v":304.41167282566147},{"$f":"VLOOKUP($A691,BasinData!$A:$K,9,FALSE)","v":122.53307239093043},181.87860043473103,{"$f":"VLOOKUP($A691,BasinData!$A:$K,7,FALSE)","v":298.04803859568898},6.3636342299724902,3.4988361548648186,1,295.31774280392494,277.12988276045184,240.75416267350562,186.19058254308629]
[20016,{"$f":"VLOOKUP($A692,BasinData!$A:$K,8,FALSE)","v":248.9154024880979},{"$f":"VLOOKUP($A692,BasinData!$A:$K,9,FALSE)","v":100.19447923654177},148.72092325155614,{"$f":"VLOOKUP($A692,BasinData!$A:$K,7,FALSE)","v":232.95587975769237},15.959522730405524,10.73118857889993,2,241.47935632552009,226.60726400036447,196.86307935005325,152.24680237458639]
[20017,{"$f":"VLOOKUP($A693,BasinData!$A:$K,8,FALSE)","v":301.65455706294182},{"$f":"VLOOKUP($A693,BasinData!$A:$K,9,FALSE)","v":121.42326650797081},180.231290554971,{"$f":"VLOOKUP($A693,BasinData!$A:$K,7,FALSE)","v":296.1353560982929},5.5192009646489169,3.0622878788994448,1,292.64299253519329,274.61986347969616,238.57360536870198,184.50421820221067]
[20018,{"$f":"VLOOKUP($A694,BasinData!$A:$K,8,FALSE)","v":252.84287242830911},{"$f":"VLOOKUP($A694,BasinData!$A:$K,9,FALSE)","v":101.77538102664072},151.06749140166841,{"$f":"VLOOKUP($A694,BasinData!$A:$K,7,FALSE)","v":249.37084228937871},3.4720301389303927,2.2983304394052095,1,245.28949785822567,230.18274871805886,199.96925043772518,154.64900301722463]
[20019,{"$f":"VLOOKUP($A695,BasinData!$A:$K,8,FALSE)","v":261.63124152822485},{"$f":"VLOOKUP($A695,BasinData!$A:$K,9,FALSE)","v":105.31291247910549},156.31832904911937,{"$f":"VLOOKUP($A695,BasinData!$A:$K,7,FALSE)","v":256.37084949414066},5.260392034084191,3.3651792890079038,1,253.81532507576887,238.18349217085694,206.91982636103307,160.02432764629725]
[20020,{"$f":"VLOOKUP($A696,BasinData!$A:$K,8,FALSE)","v":297.32977446098107},{"$f":"VLOOKUP($A696,BasinData!$A:$K,9,FALSE)","v":119.68243674700237},177.64733771397869,{"$f":"VLOOKUP($A696,BasinData!$A:$K,7,FALSE)","v":290.8499737045621},6.4798007564189675,3.6475642358636291,1,288.44740757528211,270.68267380388426,235.15320626108854,181.85900494689491]
[20021,{"$f":"VLOOKUP($A697,BasinData!$A:$K,8,FALSE)","v":220.6260593514676},{"$f":"VLOOKUP($A697,BasinData!$A:$K,9,FALSE)","v":88.807333342048395},131.81872600941921,{"$f":"VLOOKUP($A697,BasinData!$A:$K,7,FALSE)","v":197.48250710665573},23.143552244811872,17.557105083202014,3,214.03512305099665,200.85325045005473,174.48950524817087,134.94388744534513]
[20023,{"$f":"VLOOKUP($A698,BasinData!$A:$K,8,FALSE)","v":176.24797942038046},{"$f":"VLOOKUP($A698,BasinData!$A:$K,9,FALSE)","v":70.944081153684877},105.30389826669558,{"$f":"VLOOKUP($A698,BasinData!$A:$K,7,FALSE)","v":150.52456726461148},25.723412155768983,24.427787175191895,3,170.98278450704569,160.45239468037613,139.39161502703701,107.80044554702833]
[20024,{"$f":"VLOOKUP($A699,BasinData!$A:$K,8,FALSE)","v":71.720350141128989},{"$f":"VLOOKUP($A699,BasinData!$A:$K,9,FALSE)","v":28.869178287978617},42.851171853150376,{"$f":"VLOOKUP($A699,BasinData!$A:$K,7,FALSE)","v":58.531691718853779},13.188658422275211,30.777824390596205,3,69.577791548471467,65.292674363156436,56.722439992526361,43.867088436581241]
[20025,{"$f":"VLOOKUP($A700,BasinData!$A:$K,8,FALSE)","v":177.94205864408352},{"$f":"VLOOKUP($A700,BasinData!$A:$K,9,FALSE)","v":71.625989078657454},106.31606956542606,{"$f":"VLOOKUP($A700,BasinData!$A:$K,7,FALSE)","v":131.68473349076484},46.257325153318675,43.509250616956159,4,172.62625516581221,161.9946482092696,140.7314342961844,108.83661342655657]
[20048,{"$f":"VLOOKUP($A701,BasinData!$A:$K,8,FALSE)","v":178.40261752508053},{"$f":"VLOOKUP($A701,BasinData!$A:$K,9,FALSE)","v":71.811375184852579},106.59124234022795,{"$f":"VLOOKUP($A701,BasinData!$A:$K,7,FALSE)","v":163.072834558333},15.32978296674753,14.381840975092953,2,173.07305540806914,162.41393117404633,141.09568270600076,109.11831000393236]
[20049,{"$f":"VLOOKUP($A702,BasinData!$A:$K,8,FALSE)","v":242.11544056229167},{"$f":"VLOOKUP($A702,BasinData!$A:$K,9,FALSE)","v":97.457329838898346},144.65811072339332,{"$f":"VLOOKUP($A702,BasinData!$A:$K,7,FALSE)","v":220.60399630909373},21.511444253197936,14.870541406648707,2,234.88253502612201,220.41672395378268,191.48510180910401,148.087668592086]
[20050,{"$f":"VLOOKUP($A703,BasinData!$A:$K,8,FALSE)","v":160.70209432286885},{"$f":"VLOOKUP($A703,BasinData!$A:$K,9,FALSE)","v":64.686485817892944},96.015608504975901,{"$f":"VLOOKUP($A703,BasinData!$A:$K,7,FALSE)","v":146.31458906661729},14.387505256251558,14.98454832529228,2,155.90131389762004,146.29975304712246,127.09663134612728,98.291948794634507]
[20051,{"$f":"VLOOKUP($A704,BasinData!$A:$K,8,FALSE)","v":276.80730127541},{"$f":"VLOOKUP($A704,BasinData!$A:$K,9,FALSE)","v":111.42164415272929},165.3856571226807,{"$f":"VLOOKUP($A704,BasinData!$A:$K,7,FALSE)","v":264.29744580114698},12.50985547426302,7.5640510137970365,2,268.53801841927594,251.99945270700789,218.92232128247176,169.30662414566754]
[20052,{"$f":"VLOOKUP($A705,BasinData!$A:$K,8,FALSE)","v":267.61037561938286},{"$f":"VLOOKUP($A705,BasinData!$A:$K,9,FALSE)","v":107.71965878954194},159.89071682984093,{"$f":"VLOOKUP($A705,BasinData!$A:$K,7,FALSE)","v":264.44682094787396},3.1635546715089049,1.9785730743052621,1,259.61583977789081,243.62676809490674,211.64862472893856,163.68140967998625]
[20053,{"$f":"VLOOKUP($A706,BasinData!$A:$K,8,FALSE)","v":289.30332049189849},{"$f":"VLOOKUP($A706,BasinData!$A:$K,9,FALSE)","v":116.45159459135573},172.85172590054276,{"$f":"VLOOKUP($A706,BasinData!$A:$K,7,FALSE)","v":276.10705172304023},13.196268768858261,7.6344443193186677,2,280.66073419687137,263.37556160681709,228.80521642670851,176.94969865654571]
[21001,{"$f":"VLOOKUP($A707,BasinData!$A:$K,8,FALSE)","v":152.54623056842911},{"$f":"VLOOKUP($A707,BasinData!$A:$K,9,FALSE)","v":61.403553088813034},{"$f":"B707-C707","v":91.142677479616083},{"$f":"VLOOKUP($A707,BasinData!$A:$K,7,FALSE)","v":86.300732672034584},{"$f":"B707-E707","v":66.245497896394525},{"$f":"F707/D707*100","v":72.683291437439095},{"$f":"IF($G707<($I$1*100),1,IF($G707<($J$1*100),2,IF($G707<($K$1*100),3,IF($G707<($L$1*100),4,5))))","v":5},{"$f":"B707-(D707*$I$1)","v":147.98909669444831},{"$f":"B707-(D707*$J$1)","v":138.8748289464867},{"$f":"B707-(D707*$K$1)","v":120.64629345056349},{"$f":"B707-(D707*$L$1)","v":93.303490206678646}]
[21002,{"$f":"VLOOKUP($A708,BasinData!$A:$K,8,FALSE)","v":148.18921934214887},{"$f":"VLOOKUP($A708,BasinData!$A:$K,9,FALSE)","v":59.649750525848745},88.539468816300129,{"$f":"VLOOKUP($A708,BasinData!$A:$K,7,FALSE)","v":62.559159034654023},85.630060307494858,96.713998234119018,5,143.76224590133387,134.90829901970386,117.20040525644383,90.63856461155379]
[21003,{"$f":"VLOOKUP($A709,BasinData!$A:$K,8,FALSE)","v":130.76716190069135},{"$f":"VLOOKUP($A709,BasinData!$A:$K,9,FALSE)","v":52.63695037315663},78.130211527534726,{"$f":"VLOOKUP($A709,BasinData!$A:$K,7,FALSE)","v":41.358636994449526},89.408524906241823,114.43527818266865,5,126.86065132431462,119.04763017156114,103.4215878660542,79.982524407793775]
[21004,{"$f":"VLOOKUP($A710,BasinData!$A:$K,8,FALSE)","v":84.97740531555722},{"$f":"VLOOKUP($A710,BasinData!$A:$K,9,FALSE)","v":34.205464135036436},50.771941180520784,{"$f":"VLOOKUP($A710,BasinData!$A:$K,7,FALSE)","v":27.127401596484795},57.850003719072426,113.94089407254575,5,82.438808256531175,77.361614138479098,67.207225902374944,51.975643548218713]
[21005,{"$f":"VLOOKUP($A711,BasinData!$A:$K,8,FALSE)","v":155.8323177003638},{"$f":"VLOOKUP($A711,BasinData!$A:$K,9,FALSE)","v":62.726282761701974},93.106034938661821,{"$f":"VLOOKUP($A711,BasinData!$A:$K,7,FALSE)","v":62.558465658097191},93.273852042266611,100.18024299253571,5,151.17701595343073,141.86641245956451,123.24520547183216,95.313394990233618]
[21006,{"$f":"VLOOKUP($A712,BasinData!$A:$K,8,FALSE)","v":83.906599175502308},{"$f":"VLOOKUP($A712,BasinData!$A:$K,9,FALSE)","v":33.774438724420385},50.132160451081923,{"$f":"VLOOKUP($A712,BasinData!$A:$K,7,FALSE)","v":67.062400208959033},16.844198966543274,33.599587201073348,3,81.399991152948218,76.386775107840023,66.360343017623634,51.320694882299058]
[21007,{"$f":"VLOOKUP($A713,BasinData!$A:$K,8,FALSE)","v":146.05441928121482},{"$f":"VLOOKUP($A713,BasinData!$A:$K,9,FALSE)","v":58.790441787854306},87.263977493360514,{"$f":"VLOOKUP($A713,BasinData!$A:$K,7,FALSE)","v":62.814669575741675},83.239749705473145,95.388443314776069,5,141.69122040654679,132.96482265721073,115.51202715853864,89.332833910530482]
[21008,{"$f":"VLOOKUP($A714,BasinData!$A:$K,8,FALSE)","v":123.51695335527853},{"$f":"VLOOKUP($A714,BasinData!$A:$K,9,FALSE)","v":49.718565804332293},73.798387550946245,{"$f":"VLOOKUP($A714,BasinData!$A:$K,7,FALSE)","v":93.319579622923612},30.197373732354919,40.918744615535616,4,119.82703397773122,112.44719522263659,97.687517712447345,75.548001447163472]
[21009,{"$f":"VLOOKUP($A715,BasinData!$A:$K,8,FALSE)","v":179.35726033815425},{"$f":"VLOOKUP($A715,BasinData!$A:$K,9,FALSE)","v":72.195642042414363},107.16161829573988,{"$f":"VLOOKUP($A715,BasinData!$A:$K,7,FALSE)","v":91.082644662616929},88.274615675537319,82.375217059452154,5,173.99917942336725,163.28301759379326,141.85069393464528,109.70220844592332]
[21010,{"$f":"VLOOKUP($A716,BasinData!$A:$K,8,FALSE)","v":331.11083089407049},{"$f":"VLOOKUP($A716,BasinData!$A:$K,9,FALSE)","v":133.28013027476817},197.83070061930232,{"$f":"VLOOKUP($A716,BasinData!$A:$K,7,FALSE)","v":209.12646967339086},121.98436122067963,61.660986307388953,4,321.21929586310534,301.43622580117517,261.87008567731471,202.52087549152398]
[21011,{"$f":"VLOOKUP($A717,BasinData!$A:$K,8,FALSE)","v":71.563567299768295},{"$f":"VLOOKUP($A717,BasinData!$A:$K,9,FALSE)","v":28.806069396418113},42.757497903350185,{"$f":"VLOOKUP($A717,BasinData!$A:$K,7,FALSE)","v":62.282112187303682},9.281455112464613,21.707198895137832,3,69.425692404600781,65.149942614265768,56.598443033595728,43.771193662590676]
[21012,{"$f":"VLOOKUP($A718,BasinData!$A:$K,8,FALSE)","v":243.18791625108213},{"$f":"VLOOKUP($A718,BasinData!$A:$K,9,FALSE)","v":97.889027283323671},145.29888896775844,{"$f":"VLOOKUP($A718,BasinData!$A:$K,7,FALSE)","v":111.10045208771639},132.08746416336572,90.907415123233108,5,235.92297180269421,221.39308290591836,192.33330511236667,148.74363842203914]
[21013,{"$f":"VLOOKUP($A719,BasinData!$A:$K,8,FALSE)","v":139.81532305582306},{"$f":"VLOOKUP($A719,BasinData!$A:$K,9,FALSE)","v":56.279054421057303},83.536268634765747,{"$f":"VLOOKUP($A719,BasinData!$A:$K,7,FALSE)","v":31.528076071509037},108.28724698431402,129.62902072842587,5,135.63850962408478,127.2848827606082,110.57762903365504,85.51674844322531]
[21014,{"$f":"VLOOKUP($A720,BasinData!$A:$K,8,FALSE)","v":165.93117186665688},{"$f":"VLOOKUP($A720,BasinData!$A:$K,9,FALSE)","v":66.791316198617935},99.139855668038948,{"$f":"VLOOKUP($A720,BasinData!$A:$K,7,FALSE)","v":65.282422491351142},100.64874937530574,101.5219849747605,5,160.97417908325494,151.06019351645105,131.23222238284325,101.49026568243157]
[21015,{"$f":"VLOOKUP($A721,BasinData!$A:$K,8,FALSE)","v":285.49020812494763},{"$f":"VLOOKUP($A721,BasinData!$A:$K,9,FALSE)","v":114.91672449469577},170.57348363025187,{"$f":"VLOOKUP($A721,BasinData!$A:$K,7,FALSE)","v":45.056570191365232},240.43363793358239,140.95604593194844,5,276.96153394343503,259.90418558040983,225.78948885435949,174.61744376528389]
[21016,{"$f":"VLOOKUP($A722,BasinData!$A:$K,8,FALSE)","v":144.29161587150622},{"$f":"VLOOKUP($A722,BasinData!$A:$K,9,FALSE)","v":58.080870713237502},86.210745158268722,{"$f":"VLOOKUP($A722,BasinData!$A:$K,7,FALSE)","v":40.243519676071436},104.04809619543479,120.69040350413354,5,139.98107861359279,131.36000409776591,114.11785506611217,88.254631518631555]
[21017,{"$f":"VLOOKUP($A723,BasinData!$A:$K,8,FALSE)","v":192.82904402352298},{"$f":"VLOOKUP($A723,BasinData!$A:$K,9,FALSE)","v":77.618361316716417},115.21068270680657,{"$f":"VLOOKUP($A723,BasinData!$A:$K,7,FALSE)","v":60.357062579977359},132.47198144354562,114.98237692130201,5,187.06850988818266,175.54744161750199,152.5053050761407,117.94210026409871]
[21018,{"$f":"VLOOKUP($A724,BasinData!$A:$K,8,FALSE)","v":232.72701681684765},{"$f":"VLOOKUP($A724,BasinData!$A:$K,9,FALSE)","v":93.678261855864534},139.0487549609831,{"$f":"VLOOKUP($A724,BasinData!$A:$K,7,FALSE)","v":176.30799537267092},56.419021444176735,40.574992174513056,4,225.77457906879849,211.86970357270019,184.05995258050356,142.34532609220864]
[21019,{"$f":"VLOOKUP($A725,BasinData!$A:$K,8,FALSE)","v":143.8735098825702},{"$f":"VLOOKUP($A725,BasinData!$A:$K,9,FALSE)","v":57.912572924477217},85.960936958092987,{"$f":"VLOOKUP($A725,BasinData!$A:$K,7,FALSE)","v":35.494770191556562},108.37873969101364,126.07905814689946,5,139.57546303466555,130.97936933885626,113.78718194723766,87.998900859809766]
[21020,{"$f":"VLOOKUP($A726,BasinData!$A:$K,8,FALSE)","v":135.83322817819936},{"$f":"VLOOKUP($A726,BasinData!$A:$K,9,FALSE)","v":54.676164770413514},81.157063407785841,{"$f":"VLOOKUP($A726,BasinData!$A:$K,7,FALSE)","v":96.618720559536044},39.214507618663319,48.319278658006809,4,131.77537500781008,123.65966866703148,107.42825598547432,83.081136963138562]
[21021,{"$f":"VLOOKUP($A727,BasinData!$A:$K,8,FALSE)","v":148.29673439701412},{"$f":"VLOOKUP($A727,BasinData!$A:$K,9,FALSE)","v":59.693027939880317},88.603706457133796,{"$f":"VLOOKUP($A727,BasinData!$A:$K,7,FALSE)","v":39.647687549723976},108.64904684729015,122.62359126009501,5,143.86654907415743,135.00617842844406,117.2854371370173,90.704325199877161]
[21022,{"$f":"VLOOKUP($A728,BasinData!$A:$K,8,FALSE)","v":304.47139444666635},{"$f":"VLOOKUP($A728,BasinData!$A:$K,9,FALSE)","v":122.55711179008347},181.91428265658288,{"$f":"VLOOKUP($A728,BasinData!$A:$K,7,FALSE)","v":90.145240366017603},214.32615408064873,117.81711196654794,5,295.37568031383722,277.18425204817891,240.80139551686236,186.22711071988749]
[21023,{"$f":"VLOOKUP($A729,BasinData!$A:$K,8,FALSE)","v":308.1815695679515},{"$f":"VLOOKUP($A729,BasinData!$A:$K,9,FALSE)","v":124.05054715180766},184.13102241614382,{"$f":"VLOOKUP($A729,BasinData!$A:$K,7,FALSE)","v":78.856136333373414},229.3254332345781,124.54470204173037,5,298.97501844714429,280.56191620552994,243.73571172230118,188.496404997458]
[21024,{"$f":"VLOOKUP($A730,BasinData!$A:$K,8,FALSE)","v":336.0362210520754},{"$f":"VLOOKUP($A730,BasinData!$A:$K,9,FALSE)","v":135.26271912618199},200.77350192589341,{"$f":"VLOOKUP($A730,BasinData!$A:$K,7,FALSE)","v":49.563579407604401},286.47264164447103,142.68448719403702,5,325.99754595578071,305.92019576319137,265.7654953780127,205.53344480024469]
[21025,{"$f":"VLOOKUP($A731,BasinData!$A:$K,8,FALSE)","v":176.81462850428423},{"$f":"VLOOKUP($A731,BasinData!$A:$K,9,FALSE)","v":71.172171136482618},105.64245736780161,{"$f":"VLOOKUP($A731,BasinData!$A:$K,7,FALSE)","v":61.546768810897412},115.26785969338681,109.11130104828372,5,171.53250563589415,160.968259899114,139.83976842555367,108.14703121521318]
[21026,{"$f":"VLOOKUP($A732,BasinData!$A:$K,8,FALSE)","v":161.9619742208381},{"$f":"VLOOKUP($A732,BasinData!$A:$K,9,FALSE)","v":65.193617996198611},96.76835622463949,{"$f":"VLOOKUP($A732,BasinData!$A:$K,7,FALSE)","v":56.437469818395947},105.52450440244215,109.04856558426602,5,157.12355640960612,147.44672078714217,128.09304954221429,99.062542674822424]
[21027,{"$f":"VLOOKUP($A733,BasinData!$A:$K,8,FALSE)","v":401.14460342048852},{"$f":"VLOOKUP($A733,BasinData!$A:$K,9,FALSE)","v":161.47042021711275},239.67418320337578,{"$f":"VLOOKUP($A733,BasinData!$A:$K,7,FALSE)","v":59.440685074777555},341.70391834571097,142.57018164353471,5,389.16089426031971,365.19347593998214,317.25863929930699,245.35638433829428]
[21028,{"$f":"VLOOKUP($A734,BasinData!$A:$K,8,FALSE)","v":125.04567902196035},{"$f":"VLOOKUP($A734,BasinData!$A:$K,9,FALSE)","v":50.33391491707367},74.711764104886683,{"$f":"VLOOKUP($A734,BasinData!$A:$K,7,FALSE)","v":61.742794410906669},63.302884611053685,84.729473824475292,5,121.31009081671601,113.83891440622735,98.896561585250012,76.483032353784012]
[21029,{"$f":"VLOOKUP($A735,BasinData!$A:$K,8,FALSE)","v":249.70350051086226},{"$f":"VLOOKUP($A735,BasinData!$A:$K,9,FALSE)","v":100.51170778161745},149.19179272924481,{"$f":"VLOOKUP($A735,BasinData!$A:$K,7,FALSE)","v":60.284341331419974},189.41915917944229,126.96352508023188,5,242.2439108744,227.32473160147555,197.48637305562659,152.72883523685312]
[21029,{"$f":"VLOOKUP($A736,BasinData!$A:$K,8,FALSE)","v":249.70350051086226},{"$f":"VLOOKUP($A736,BasinData!$A:$K,9,FALSE)","v":100.51170778161745},149.19179272924481,{"$f":"VLOOKUP($A736,BasinData!$A:$K,7,FALSE)","v":60.284341331419974},189.41915917944229,126.96352508023188,5,242.2439108744,227.32473160147555,197.48637305562659,152.72883523685312]
[21030,{"$f":"VLOOKUP($A737,BasinData!$A:$K,8,FALSE)","v":190.19681944342531},{"$f":"VLOOKUP($A737,BasinData!$A:$K,9,FALSE)","v":76.558827160130335},113.63799228329498,{"$f":"VLOOKUP($A737,BasinData!$A:$K,7,FALSE)","v":68.913065095656677},121.28375434776864,106.72817418791867,5,184.51491982926058,173.15112060093105,150.42352214427206,116.33212445928358]
[21031,{"$f":"VLOOKUP($A738,BasinData!$A:$K,8,FALSE)","v":113.80552088871197},{"$f":"VLOOKUP($A738,BasinData!$A:$K,9,FALSE)","v":45.809478986472527},67.99604190223944,{"$f":"VLOOKUP($A738,BasinData!$A:$K,7,FALSE)","v":71.936401272391649},41.869119616320319,61.575818893277912,4,110.4057187936,103.60611460337606,90.006906222928166,69.608093652256329]
[21032,{"$f":"VLOOKUP($A739,BasinData!$A:$K,8,FALSE)","v":210.56982214245136},{"$f":"VLOOKUP($A739,BasinData!$A:$K,9,FALSE)","v":84.759454262790953},125.8103678796604,{"$f":"VLOOKUP($A739,BasinData!$A:$K,7,FALSE)","v":141.0060479033763},69.563774239075059,55.292560868762344,4,204.27930374846835,191.69826696050231,166.53619338457023,128.7930830206721]
[21033,{"$f":"VLOOKUP($A740,BasinData!$A:$K,8,FALSE)","v":148.62763568583995},{"$f":"VLOOKUP($A740,BasinData!$A:$K,9,FALSE)","v":59.826223724396662},88.801411961443279,{"$f":"VLOOKUP($A740,BasinData!$A:$K,7,FALSE)","v":35.939172210114883},112.68846347572506,126.89940507325863,5,144.18756508776778,135.30742389162344,117.5471414993348,90.906717910901818]
[21034,{"$f":"VLOOKUP($A741,BasinData!$A:$K,8,FALSE)","v":188.39762379360329},{"$f":"VLOOKUP($A741,BasinData!$A:$K,9,FALSE)","v":75.834607327301029},112.56301646630226,{"$f":"VLOOKUP($A741,BasinData!$A:$K,7,FALSE)","v":63.367471821931503},125.03015197167178,111.07569421711597,5,182.76947297028818,171.51317132365796,149.00056803039752,115.23166309050681]
[21035,{"$f":"VLOOKUP($A742,BasinData!$A:$K,8,FALSE)","v":160.48843858233357},{"$f":"VLOOKUP($A742,BasinData!$A:$K,9,FALSE)","v":64.60048420672365},95.887954375609922,{"$f":"VLOOKUP($A742,BasinData!$A:$K,7,FALSE)","v":65.664848017970286},94.823590564363286,98.889992159935616,5,155.69404086355308,146.10524542599208,126.9276545508701,98.16126823818712]
[21036,{"$f":"VLOOKUP($A743,BasinData!$A:$K,8,FALSE)","v":192.27170415187115},{"$f":"VLOOKUP($A743,BasinData!$A:$K,9,FALSE)","v":77.394018517356741},114.87768563451441,{"$f":"VLOOKUP($A743,BasinData!$A:$K,7,FALSE)","v":101.66943881390556},90.602265337965591,78.868463302976394,5,186.52781987014544,175.04005130669398,152.0645141797911,117.60120848943679]
[21037,{"$f":"VLOOKUP($A744,BasinData!$A:$K,8,FALSE)","v":179.04641461289646},{"$f":"VLOOKUP($A744,BasinData!$A:$K,9,FALSE)","v":72.070519108060793},106.97589550483566,{"$f":"VLOOKUP($A744,BasinData!$A:$K,7,FALSE)","v":50.716793667289025},128.32962094560742,119.96124953196255,5,173.69761983765468,163.00003028717111,141.60485118620397,109.51208253475328]
[21038,{"$f":"VLOOKUP($A745,BasinData!$A:$K,8,FALSE)","v":245.89489435127737},{"$f":"VLOOKUP($A745,BasinData!$A:$K,9,FALSE)","v":98.978651542580806},146.91624280869655,{"$f":"VLOOKUP($A745,BasinData!$A:$K,7,FALSE)","v":53.305289135321082},192.58960521595628,131.08802780012024,5,238.54908221084256,223.8574579299729,194.47420936823357,150.39933652562462]
[21039,{"$f":"VLOOKUP($A746,BasinData!$A:$K,8,FALSE)","v":193.0878067619287},{"$f":"VLOOKUP($A746,BasinData!$A:$K,9,FALSE)","v":77.722519587201987},115.36528717472672,{"$f":"VLOOKUP($A746,BasinData!$A:$K,7,FALSE)","v":120.08467170918306},73.003135052745648,63.279983815390338,4,187.31954240319237,175.78301368571971,152.70995625077435,118.10037009835634]
[21040,{"$f":"VLOOKUP($A747,BasinData!$A:$K,8,FALSE)","v":188.72923371960971},{"$f":"VLOOKUP($A747,BasinData!$A:$K,9,FALSE)","v":75.968088355448614},112.7611453641611,{"$f":"VLOOKUP($A747,BasinData!$A:$K,7,FALSE)","v":60.061203633040989},128.66803008656871,114.10670729801163,5,183.09117645140165,171.81506191498553,149.26283284215333,115.43448923290499]
[21041,{"$f":"VLOOKUP($A748,BasinData!$A:$K,8,FALSE)","v":149.49484351112767},{"$f":"VLOOKUP($A748,BasinData!$A:$K,9,FALSE)","v":60.175295881346493},89.319547629781169,{"$f":"VLOOKUP($A748,BasinData!$A:$K,7,FALSE)","v":99.734881226318691},49.759962284808978,55.710047358343175,4,145.0288661296386,136.09691136666049,118.23300184070426,91.437137551769908]
[21042,{"$f":"VLOOKUP($A749,BasinData!$A:$K,8,FALSE)","v":118.58037872270388},{"$f":"VLOOKUP($A749,BasinData!$A:$K,9,FALSE)","v":47.731474930971054},70.848903791732823,{"$f":"VLOOKUP($A749,BasinData!$A:$K,7,FALSE)","v":65.78924080866831},52.791137914035573,74.512286131088501,5,115.03793353311724,107.95304315394397,93.783262395597404,72.52859125807754]
[21043,{"$f":"VLOOKUP($A750,BasinData!$A:$K,8,FALSE)","v":168.17096538581563},{"$f":"VLOOKUP($A750,BasinData!$A:$K,9,FALSE)","v":67.692887346912883},100.47807803890275,{"$f":"VLOOKUP($A750,BasinData!$A:$K,7,FALSE)","v":64.068175591970231},104.1027897938454,103.60746525579366,5,163.14706148387049,153.09925367998022,133.00363807219966,102.86021466052884]
[21045,{"$f":"VLOOKUP($A751,BasinData!$A:$K,8,FALSE)","v":95.485270411626445},{"$f":"VLOOKUP($A751,BasinData!$A:$K,9,FALSE)","v":38.435134379081831},57.050136032544614,{"$f":"VLOOKUP($A751,BasinData!$A:$K,7,FALSE)","v":79.028689205044486},16.456581206581959,28.845822904250738,3,92.632763609999216,86.927750006744759,75.517722800235831,58.402681990472445]
[21046,{"$f":"VLOOKUP($A752,BasinData!$A:$K,8,FALSE)","v":138.49122388274},{"$f":"VLOOKUP($A752,BasinData!$A:$K,9,FALSE)","v":55.746072428868466},82.745151453871529,{"$f":"VLOOKUP($A752,BasinData!$A:$K,7,FALSE)","v":79.250967965731149},59.240255917008852,71.593627996480123,5,134.35396631004642,126.07945116465928,109.53042087388496,84.706875437723511]
[21047,{"$f":"VLOOKUP($A753,BasinData!$A:$K,8,FALSE)","v":162.72864190376683},{"$f":"VLOOKUP($A753,BasinData!$A:$K,9,FALSE)","v":65.502220310361153},97.226421593405675,{"$f":"VLOOKUP($A753,BasinData!$A:$K,7,FALSE)","v":86.128711910564945},76.599929993201883,78.785096414982362,5,157.86732082409654,148.14467866475599,128.69939434607485,99.531467868053142]
[21048,{"$f":"VLOOKUP($A754,BasinData!$A:$K,8,FALSE)","v":121.91365886690554},{"$f":"VLOOKUP($A754,BasinData!$A:$K,9,FALSE)","v":49.073200934502552},72.840457932402984,{"$f":"VLOOKUP($A754,BasinData!$A:$K,7,FALSE)","v":74.271998520931433},47.641660345974103,65.405492631836921,5,118.27163597028539,110.98759017704509,96.419498590564501,74.567361210843586]
[21049,{"$f":"VLOOKUP($A755,BasinData!$A:$K,8,FALSE)","v":117.92233196655349},{"$f":"VLOOKUP($A755,BasinData!$A:$K,9,FALSE)","v":47.466595171073784},70.455736795479709,{"$f":"VLOOKUP($A755,BasinData!$A:$K,7,FALSE)","v":69.432735935803905},48.489596030749581,68.822779004506231,5,114.3995451267795,107.35397144723153,93.262824088135588,72.126103049491675]
[21050,{"$f":"VLOOKUP($A756,BasinData!$A:$K,8,FALSE)","v":119.74191920807299},{"$f":"VLOOKUP($A756,BasinData!$A:$K,9,FALSE)","v":48.1990231135279},71.542896094545085,{"$f":"VLOOKUP($A756,BasinData!$A:$K,7,FALSE)","v":97.761799596030485},21.9801196120425,30.722993912624702,3,116.16477440334573,109.01048479389122,94.701905574982206,73.23903674661868]
[21051,{"$f":"VLOOKUP($A757,BasinData!$A:$K,8,FALSE)","v":171.29115684301055},{"$f":"VLOOKUP($A757,BasinData!$A:$K,9,FALSE)","v":68.948839992056648},102.34231685095391,{"$f":"VLOOKUP($A757,BasinData!$A:$K,7,FALSE)","v":83.089843973249515},88.20131286976104,86.182642316191547,5,166.17404100046286,155.93980931536748,135.47134594517669,104.76865088989051]
[21052,{"$f":"VLOOKUP($A758,BasinData!$A:$K,8,FALSE)","v":142.2385286493695},{"$f":"VLOOKUP($A758,BasinData!$A:$K,9,FALSE)","v":57.254453372273552},84.98407527709594,{"$f":"VLOOKUP($A758,BasinData!$A:$K,7,FALSE)","v":77.401327015215671},64.837201634153828,76.293354281667519,5,137.98932488551469,129.4909173578051,112.49410230238593,86.998879719257133]
[21053,{"$f":"VLOOKUP($A759,BasinData!$A:$K,8,FALSE)","v":201.20581530385721},{"$f":"VLOOKUP($A759,BasinData!$A:$K,9,FALSE)","v":80.990214676240186},120.21560062761702,{"$f":"VLOOKUP($A759,BasinData!$A:$K,7,FALSE)","v":128.9634291053728},72.242386198484411,60.094019263160611,4,195.19503527247636,183.17347520971467,159.13035508419125,123.06567489590614]
[21054,{"$f":"VLOOKUP($A760,BasinData!$A:$K,8,FALSE)","v":136.8848836925896},{"$f":"VLOOKUP($A760,BasinData!$A:$K,9,FALSE)","v":55.099481590294133},81.785402102295464,{"$f":"VLOOKUP($A760,BasinData!$A:$K,7,FALSE)","v":72.693372943434483},64.191510749155114,78.487736318598422,5,132.79561358747483,124.61707337724528,108.25999295678619,83.724372326097551]
[21055,{"$f":"VLOOKUP($A761,BasinData!$A:$K,8,FALSE)","v":151.24316791588765},{"$f":"VLOOKUP($A761,BasinData!$A:$K,9,FALSE)","v":60.879038805731582},90.364129110156071,{"$f":"VLOOKUP($A761,BasinData!$A:$K,7,FALSE)","v":105.66443133837716},45.578736577510497,50.438970669378016,4,146.72496146037986,137.68854854936424,119.61572272733304,92.506483994286214]
[21056,{"$f":"VLOOKUP($A762,BasinData!$A:$K,8,FALSE)","v":176.84393535199038},{"$f":"VLOOKUP($A762,BasinData!$A:$K,9,FALSE)","v":71.183967852614401},105.65996749937598,{"$f":"VLOOKUP($A762,BasinData!$A:$K,7,FALSE)","v":58.810922916363218},118.03301243562717,111.71024866757058,5,171.56093697702158,160.99494022708399,139.86294672720879,108.16495647739599]
[21057,{"$f":"VLOOKUP($A763,BasinData!$A:$K,8,FALSE)","v":199.27401073133137},{"$f":"VLOOKUP($A763,BasinData!$A:$K,9,FALSE)","v":80.212616539699596},119.06139419163178,{"$f":"VLOOKUP($A763,BasinData!$A:$K,7,FALSE)","v":133.08081604190144},66.19319468942993,55.595850476007882,4,193.32094102174977,181.41480160258661,157.60252276426024,121.88410450677071]
[21058,{"$f":"VLOOKUP($A764,BasinData!$A:$K,8,FALSE)","v":149.41925826671547},{"$f":"VLOOKUP($A764,BasinData!$A:$K,9,FALSE)","v":60.144870989491089},89.274387277224378,{"$f":"VLOOKUP($A764,BasinData!$A:$K,7,FALSE)","v":89.335394006064931},60.083864260650543,67.302466130707458,5,144.95553890285424,136.02810017513181,118.17322271968695,91.390906536519623]
[21059,{"$f":"VLOOKUP($A765,BasinData!$A:$K,8,FALSE)","v":114.39453234742203},{"$f":"VLOOKUP($A765,BasinData!$A:$K,9,FALSE)","v":46.046570366836718},68.34796198058531,{"$f":"VLOOKUP($A765,BasinData!$A:$K,7,FALSE)","v":26.946581087658554},87.447951259763471,127.94522137266308,5,110.97713424839276,104.14233805033423,90.472745654217164,69.968357060041569]
[21061,{"$f":"VLOOKUP($A766,BasinData!$A:$K,8,FALSE)","v":163.40464214361114},{"$f":"VLOOKUP($A766,BasinData!$A:$K,9,FALSE)","v":65.774326782351039},97.630315361260102,{"$f":"VLOOKUP($A766,BasinData!$A:$K,7,FALSE)","v":92.636002244829598},70.768639898781544,72.486337503794104,5,158.52312637554815,148.76009483942212,129.23403176717011,99.944937158792072]
[21062,{"$f":"VLOOKUP($A767,BasinData!$A:$K,8,FALSE)","v":164.333361336601},{"$f":"VLOOKUP($A767,BasinData!$A:$K,9,FALSE)","v":66.148158754854421},98.18520258174658,{"$f":"VLOOKUP($A767,BasinData!$A:$K,7,FALSE)","v":39.963332231242397},124.37002910535861,126.66881142482869,5,159.42410120751367,149.60558094933901,129.9685404329897,100.51297965846572]
[21063,{"$f":"VLOOKUP($A768,BasinData!$A:$K,8,FALSE)","v":129.5753672167242},{"$f":"VLOOKUP($A768,BasinData!$A:$K,9,FALSE)","v":52.15722414278531},77.418143073938893,{"$f":"VLOOKUP($A768,BasinData!$A:$K,7,FALSE)","v":94.435230225736277},35.140136990987926,45.390054056743551,4,125.70446006302726,117.96264575563337,102.4790171408456,79.253574218663914]
[21064,{"$f":"VLOOKUP($A769,BasinData!$A:$K,8,FALSE)","v":84.434835541229987},{"$f":"VLOOKUP($A769,BasinData!$A:$K,9,FALSE)","v":33.987066657641279},50.447768883588708,{"$f":"VLOOKUP($A769,BasinData!$A:$K,7,FALSE)","v":26.238260706712072},58.196574834517918,115.36005679222416,5,81.912447097050546,76.867670208691678,66.778116431973942,51.643785766897324]
[21065,{"$f":"VLOOKUP($A770,BasinData!$A:$K,8,FALSE)","v":204.09373997989789},{"$f":"VLOOKUP($A770,BasinData!$A:$K,9,FALSE)","v":82.152674315531058},121.94106566436683,{"$f":"VLOOKUP($A770,BasinData!$A:$K,7,FALSE)","v":135.48306418495923},68.610675794938658,56.265438899627242,4,197.99668669667955,185.80258013024286,161.41436699736948,124.83204729805945]
[21066,{"$f":"VLOOKUP($A771,BasinData!$A:$K,8,FALSE)","v":141.94108284487689},{"$f":"VLOOKUP($A771,BasinData!$A:$K,9,FALSE)","v":57.134724230628095},{"$f":"B771-C771","v":84.806358614248794},{"$f":"VLOOKUP($A771,BasinData!$A:$K,7,FALSE)","v":62.895192182589639},{"$f":"B771-E771","v":79.045890662287249},{"$f":"F771/D771*100","v":93.20750466581913},{"$f":"IF($G771<($I$1*100),1,IF($G771<($J$1*100),2,IF($G771<($K$1*100),3,IF($G771<($L$1*100),4,5))))","v":5},{"$f":"B771-(D771*$I$1)","v":137.70076491416444},{"$f":"B771-(D771*$J$1)","v":129.22012905273957},{"$f":"B771-(D771*$K$1)","v":112.25885732988982},{"$f":"B771-(D771*$L$1)","v":86.816949745615176}]
[21067,{"$f":"VLOOKUP($A772,BasinData!$A:$K,8,FALSE)","v":72.917141126198246},{"$f":"VLOOKUP($A772,BasinData!$A:$K,9,FALSE)","v":29.350915650574066},43.566225475624179,{"$f":"VLOOKUP($A772,BasinData!$A:$K,7,FALSE)","v":64.106207867147901},8.8109332590503442,20.224229119826241,3,70.738829852417041,66.382207304854617,57.668962209729784,44.599094567042528]
[21068,{"$f":"VLOOKUP($A773,BasinData!$A:$K,8,FALSE)","v":138.66106136196726},{"$f":"VLOOKUP($A773,BasinData!$A:$K,9,FALSE)","v":55.81443612840625},82.846625233561014,{"$f":"VLOOKUP($A773,BasinData!$A:$K,7,FALSE)","v":89.383873521605167},49.277187840362089,59.480018288542183,4,134.51873010028922,126.2340675769331,109.66474253022091,84.810754960152593]
[21069,{"$f":"VLOOKUP($A774,BasinData!$A:$K,8,FALSE)","v":161.89480084212826},{"$f":"VLOOKUP($A774,BasinData!$A:$K,9,FALSE)","v":65.166579084057702},96.728221758070561,{"$f":"VLOOKUP($A774,BasinData!$A:$K,7,FALSE)","v":120.31470413597859},41.580096706149675,42.986520325109176,4,157.05838975422472,147.38556757841769,128.03992322680358,99.021456699382398]
[21070,{"$f":"VLOOKUP($A775,BasinData!$A:$K,8,FALSE)","v":177.36788130350249},{"$f":"VLOOKUP($A775,BasinData!$A:$K,9,FALSE)","v":71.394868790182372},105.97301251332011,{"$f":"VLOOKUP($A775,BasinData!$A:$K,7,FALSE)","v":117.77795858182431},59.589922721678178,56.231224637676611,4,172.06923067783649,161.47192942650446,140.27732692384046,108.48542316984441]
[21071,{"$f":"VLOOKUP($A776,BasinData!$A:$K,8,FALSE)","v":149.29096372522466},{"$f":"VLOOKUP($A776,BasinData!$A:$K,9,FALSE)","v":60.093229328729741},89.197734396494923,{"$f":"VLOOKUP($A776,BasinData!$A:$K,7,FALSE)","v":52.005837492883984},97.285126232340673,109.06681306488828,5,144.83107700539992,135.91130356575042,118.07175668645144,91.312436367502954]
[21072,{"$f":"VLOOKUP($A777,BasinData!$A:$K,8,FALSE)","v":171.40550130380271},{"$f":"VLOOKUP($A777,BasinData!$A:$K,9,FALSE)","v":68.99486640740956},102.41063489639315,{"$f":"VLOOKUP($A777,BasinData!$A:$K,7,FALSE)","v":124.58362069393807},46.821880609864635,45.71974449453753,4,166.28496955898305,156.04390606934373,135.5617790900651,104.83858862114715]
[21073,{"$f":"VLOOKUP($A778,BasinData!$A:$K,8,FALSE)","v":179.30100816163329},{"$f":"VLOOKUP($A778,BasinData!$A:$K,9,FALSE)","v":72.172999178710057},107.12800898292323,{"$f":"VLOOKUP($A778,BasinData!$A:$K,7,FALSE)","v":42.941186317077857},136.35982184455543,127.28680682032643,5,173.94460771248714,163.23180681419481,141.80620501761015,109.66780232273318]
[21074,{"$f":"VLOOKUP($A779,BasinData!$A:$K,8,FALSE)","v":112.68578878344215},{"$f":"VLOOKUP($A779,BasinData!$A:$K,9,FALSE)","v":45.358759689673249},67.3270290937689,{"$f":"VLOOKUP($A779,BasinData!$A:$K,7,FALSE)","v":24.350615709806707},88.335173073635445,131.20313529742668,5,109.31943732875371,102.58673441937681,89.121328600623031,68.923219872492353]
[21075,{"$f":"VLOOKUP($A780,BasinData!$A:$K,8,FALSE)","v":240.98480247846393},{"$f":"VLOOKUP($A780,BasinData!$A:$K,9,FALSE)","v":97.002220621542719},143.98258185692123,{"$f":"VLOOKUP($A780,BasinData!$A:$K,7,FALSE)","v":111.69469280435855},129.29010967410539,89.795660007391675,5,233.78567338561788,219.38741519992575,190.5908988285415,147.39612427146511]
[21076,{"$f":"VLOOKUP($A781,BasinData!$A:$K,8,FALSE)","v":168.80801255456481},{"$f":"VLOOKUP($A781,BasinData!$A:$K,9,FALSE)","v":67.949314264186469},100.85869829037834,{"$f":"VLOOKUP($A781,BasinData!$A:$K,7,FALSE)","v":50.670497865996907},118.1375146885679,117.1317067254257,5,163.76507764004589,153.67920781100807,133.5074681529324,103.24985866581889]
[21077,{"$f":"VLOOKUP($A782,BasinData!$A:$K,8,FALSE)","v":157.29954927010331},{"$f":"VLOOKUP($A782,BasinData!$A:$K,9,FALSE)","v":63.316879010789023},93.98267025931429,{"$f":"VLOOKUP($A782,BasinData!$A:$K,7,FALSE)","v":41.333562603835816},115.9659866662675,123.39081912260789,5,152.6004157571376,143.20214873120617,124.40561467934332,96.21081360154902]
[21078,{"$f":"VLOOKUP($A783,BasinData!$A:$K,8,FALSE)","v":348.79905864629205},{"$f":"VLOOKUP($A783,BasinData!$A:$K,9,FALSE)","v":140.40007042526136},208.39898822103069,{"$f":"VLOOKUP($A783,BasinData!$A:$K,7,FALSE)","v":193.85873551979407},154.94032312649799,74.347924838371213,5,338.37910923524049,317.53921041313743,275.85941276893129,213.33971630262209]
[21079,{"$f":"VLOOKUP($A784,BasinData!$A:$K,8,FALSE)","v":329.86056558484967},{"$f":"VLOOKUP($A784,BasinData!$A:$K,9,FALSE)","v":132.77686820133789},197.08369738351178,{"$f":"VLOOKUP($A784,BasinData!$A:$K,7,FALSE)","v":97.810719520530398},232.04984606431927,117.74177628338566,5,320.00638071567408,300.29801097732292,260.88127150062053,201.756162285567]
[21080,{"$f":"VLOOKUP($A785,BasinData!$A:$K,8,FALSE)","v":354.44424143310846},{"$f":"VLOOKUP($A785,BasinData!$A:$K,9,FALSE)","v":142.67239324605268},211.77184818705578,{"$f":"VLOOKUP($A785,BasinData!$A:$K,7,FALSE)","v":144.55518548456536},209.8890559485431,99.110933651176509,5,343.85564902375569,322.67846420505009,280.32409456763895,216.79254011152219]
[21081,{"$f":"VLOOKUP($A786,BasinData!$A:$K,8,FALSE)","v":342.75638838998151},{"$f":"VLOOKUP($A786,BasinData!$A:$K,9,FALSE)","v":137.96774926924883},204.78863912073268,{"$f":"VLOOKUP($A786,BasinData!$A:$K,7,FALSE)","v":53.173911994222848},289.58247639575865,141.40553774813455,5,332.51695643394487,312.03809252187159,271.08036469772509,209.64377296150525]
[21082,{"$f":"VLOOKUP($A787,BasinData!$A:$K,8,FALSE)","v":337.47892954489618},{"$f":"VLOOKUP($A787,BasinData!$A:$K,9,FALSE)","v":135.84344424276142},201.63548530213475,{"$f":"VLOOKUP($A787,BasinData!$A:$K,7,FALSE)","v":44.308198538923975},293.17073100597219,145.3963971503722,5,327.39715527978944,307.23360674957598,266.906509689149,206.41586409850859]
[21083,{"$f":"VLOOKUP($A788,BasinData!$A:$K,8,FALSE)","v":336.99880823398081},{"$f":"VLOOKUP($A788,BasinData!$A:$K,9,FALSE)","v":135.65018378464322},201.34862444933759,{"$f":"VLOOKUP($A788,BasinData!$A:$K,7,FALSE)","v":43.329567798233136},293.66924043574767,145.8511282303989,5,326.93137701151392,306.79651456658019,266.52678967671267,206.12220234191136]
[21084,{"$f":"VLOOKUP($A789,BasinData!$A:$K,8,FALSE)","v":259.3532988756034},{"$f":"VLOOKUP($A789,BasinData!$A:$K,9,FALSE)","v":104.39598538046592},154.9573134951375,{"$f":"VLOOKUP($A789,BasinData!$A:$K,7,FALSE)","v":78.598965782921866},180.75433309268152,116.64782320735931,5,251.60543320084653,236.10970185133277,205.11823915230528,158.63104510376402]
[21085,{"$f":"VLOOKUP($A790,BasinData!$A:$K,8,FALSE)","v":402.31255776415503},{"$f":"VLOOKUP($A790,BasinData!$A:$K,9,FALSE)","v":161.94055013300382},240.37200763115121,{"$f":"VLOOKUP($A790,BasinData!$A:$K,7,FALSE)","v":221.66373460842618},180.64882315572885,75.153852121139224,5,390.29395738259745,366.25675661948236,318.18235509325211,246.07075280390674]
[21086,{"$f":"VLOOKUP($A791,BasinData!$A:$K,8,FALSE)","v":349.98349480103025},{"$f":"VLOOKUP($A791,BasinData!$A:$K,9,FALSE)","v":140.87683466936477},209.10666013166548,{"$f":"VLOOKUP($A791,BasinData!$A:$K,7,FALSE)","v":50.20432856924225},299.779166231788,143.36184511915113,5,339.52816179444699,318.61749578128041,276.79616375494732,214.06416571544767]
[21087,{"$f":"VLOOKUP($A792,BasinData!$A:$K,8,FALSE)","v":341.07402752364538},{"$f":"VLOOKUP($A792,BasinData!$A:$K,9,FALSE)","v":137.29055826698234},203.78346925666304,{"$f":"VLOOKUP($A792,BasinData!$A:$K,7,FALSE)","v":44.177748639680551},296.89627888396484,145.69203280665874,5,330.88485406081224,310.50650713514591,269.7498132838133,208.6147725068144]
[21088,{"$f":"VLOOKUP($A793,BasinData!$A:$K,8,FALSE)","v":397.1324603337917},{"$f":"VLOOKUP($A793,BasinData!$A:$K,9,FALSE)","v":159.85543543442819},237.27702489936351,{"$f":"VLOOKUP($A793,BasinData!$A:$K,7,FALSE)","v":75.128530640238679},322.003929693553,135.70801042794801,5,385.2686090888235,361.5409065988872,314.08550161901451,242.90239414920541]
[21089,{"$f":"VLOOKUP($A794,BasinData!$A:$K,8,FALSE)","v":170.53909725218725},{"$f":"VLOOKUP($A794,BasinData!$A:$K,9,FALSE)","v":68.646117788833436},101.89297946335381,{"$f":"VLOOKUP($A794,BasinData!$A:$K,7,FALSE)","v":118.94665337211282},51.592443880074427,50.633953538113815,4,165.44444827901955,155.25515033268417,134.87655444001342,104.30866060100726]
[21090,{"$f":"VLOOKUP($A795,BasinData!$A:$K,8,FALSE)","v":137.45202555155316},{"$f":"VLOOKUP($A795,BasinData!$A:$K,9,FALSE)","v":55.327769926990435},82.124255624562721,{"$f":"VLOOKUP($A795,BasinData!$A:$K,7,FALSE)","v":79.962137235012676},57.489888316540487,70.003542655363461,5,133.34581277032504,125.13338720786875,108.70853608295621,84.07125939558739]
[21091,{"$f":"VLOOKUP($A796,BasinData!$A:$K,8,FALSE)","v":304.39470814411789},{"$f":"VLOOKUP($A796,BasinData!$A:$K,9,FALSE)","v":122.52624369565613},181.86846444846174,{"$f":"VLOOKUP($A796,BasinData!$A:$K,7,FALSE)","v":90.80117701209258},213.5935311320253,117.44396247022468,5,295.30128492169479,277.11443847684865,240.74074558715628,186.18020625261775]
[21092,{"$f":"VLOOKUP($A797,BasinData!$A:$K,8,FALSE)","v":180.58587690378488},{"$f":"VLOOKUP($A797,BasinData!$A:$K,9,FALSE)","v":72.690189972129701},107.89568693165518,{"$f":"VLOOKUP($A797,BasinData!$A:$K,7,FALSE)","v":64.352822890463614},116.23305401332127,107.72724778790024,5,175.19109255720213,164.40152386403659,142.82238647770558,110.45368039820902]
[21093,{"$f":"VLOOKUP($A798,BasinData!$A:$K,8,FALSE)","v":194.87745695430053},{"$f":"VLOOKUP($A798,BasinData!$A:$K,9,FALSE)","v":78.442897142178111},{"$f":"B798-C798","v":116.43455981212242},{"$f":"VLOOKUP($A798,BasinData!$A:$K,7,FALSE)","v":138.64053886477384},{"$f":"B798-E798","v":56.236918089526682},{"$f":"F798/D798*100","v":48.299163221186205},4,{"$f":"B798-(D798*$I$1)","v":189.05572896369441},{"$f":"B798-(D798*$J$1)","v":177.41227298248216},{"$f":"B798-(D798*$K$1)","v":154.12536102005768},{"$f":"B798-(D798*$L$1)","v":119.19499307642096}]
[21094,{"$f":"VLOOKUP($A799,BasinData!$A:$K,8,FALSE)","v":144.17171786912738},{"$f":"VLOOKUP($A799,BasinData!$A:$K,9,FALSE)","v":58.032608862866773},86.139109006260611,{"$f":"VLOOKUP($A799,BasinData!$A:$K,7,FALSE)","v":88.21392407425023},55.957793794877148,64.962122827170319,4,139.86476241881434,131.25085151818828,114.02302971693616,88.181297015057979]
[21095,{"$f":"VLOOKUP($A800,BasinData!$A:$K,8,FALSE)","v":172.1507156744201},{"$f":"VLOOKUP($A800,BasinData!$A:$K,9,FALSE)","v":69.29483324368104},102.85588243073906,{"$f":"VLOOKUP($A800,BasinData!$A:$K,7,FALSE)","v":68.013090375203674},104.13762529921642,101.24615417046319,5,167.00792155288315,156.72233330980924,136.15115682366144,105.29439209443971]
[21096,{"$f":"VLOOKUP($A801,BasinData!$A:$K,8,FALSE)","v":227.68942168973746},{"$f":"VLOOKUP($A801,BasinData!$A:$K,9,FALSE)","v":91.650507786328888},136.03891390340857,{"$f":"VLOOKUP($A801,BasinData!$A:$K,7,FALSE)","v":74.878812091000128},152.81060959873733,112.32860158471797,5,220.88747599456704,207.28358460422618,180.07580182354445,139.26412765252189]
[21097,{"$f":"VLOOKUP($A802,BasinData!$A:$K,8,FALSE)","v":164.86456713285929},{"$f":"VLOOKUP($A802,BasinData!$A:$K,9,FALSE)","v":66.361981955795457},98.502585177063835,{"$f":"VLOOKUP($A802,BasinData!$A:$K,7,FALSE)","v":92.871892598649467},71.992674534209826,73.087091475618649,5,159.9394378740061,150.08917935629972,130.38866232088697,100.8378867677678]
[21098,{"$f":"VLOOKUP($A803,BasinData!$A:$K,8,FALSE)","v":181.80044274633104},{"$f":"VLOOKUP($A803,BasinData!$A:$K,9,FALSE)","v":73.179082145438358},108.62136060089269,{"$f":"VLOOKUP($A803,BasinData!$A:$K,7,FALSE)","v":109.48394006651927},72.316502679811776,66.576686463654426,5,176.36937471628642,165.50723865619713,143.78296653601859,111.1965583557508]
[21099,{"$f":"VLOOKUP($A804,BasinData!$A:$K,8,FALSE)","v":172.61914633494155},{"$f":"VLOOKUP($A804,BasinData!$A:$K,9,FALSE)","v":69.483387931820985},103.13575840312056,{"$f":"VLOOKUP($A804,BasinData!$A:$K,7,FALSE)","v":68.710061019696312},103.90908531524524,100.74981453968857,5,167.46235841478551,157.14878257447347,136.52163089384936,105.58090337291318]
[21100,{"$f":"VLOOKUP($A805,BasinData!$A:$K,8,FALSE)","v":172.49562222533243},{"$f":"VLOOKUP($A805,BasinData!$A:$K,9,FALSE)","v":69.433666485451141},103.06195573988128,{"$f":"VLOOKUP($A805,BasinData!$A:$K,7,FALSE)","v":93.906898625841023},78.588723599491402,76.2538640328561,5,167.34252443833836,157.03632886435022,136.42393771637398,105.50535099440958]
[21101,{"$f":"VLOOKUP($A806,BasinData!$A:$K,8,FALSE)","v":210.65979450874113},{"$f":"VLOOKUP($A806,BasinData!$A:$K,9,FALSE)","v":84.795670319716208},125.86412418902492,{"$f":"VLOOKUP($A806,BasinData!$A:$K,7,FALSE)","v":66.946494230858306},143.71330027788281,114.1813055974963,5,204.36658829928987,191.78017588038739,166.60735104258242,128.84811378587494]
[21102,{"$f":"VLOOKUP($A807,BasinData!$A:$K,8,FALSE)","v":254.13915769473491},{"$f":"VLOOKUP($A807,BasinData!$A:$K,9,FALSE)","v":102.297167247635},151.8419904470999,{"$f":"VLOOKUP($A807,BasinData!$A:$K,7,FALSE)","v":149.09371111479052},105.04544657994438,69.180762363979326,5,246.54705817237991,231.36285912766994,200.99446103824994,155.44186390411997]
[21103,{"$f":"VLOOKUP($A808,BasinData!$A:$K,8,FALSE)","v":267.6880141273308},{"$f":"VLOOKUP($A808,BasinData!$A:$K,9,FALSE)","v":107.7509101697088},159.93710395762201,{"$f":"VLOOKUP($A808,BasinData!$A:$K,7,FALSE)","v":59.702848407531853},207.98516571979894,130.04184805978986,5,259.69115892944973,243.69744853368749,211.71002774216311,163.72889655487648]
[21104,{"$f":"VLOOKUP($A809,BasinData!$A:$K,8,FALSE)","v":151.8117590660429},{"$f":"VLOOKUP($A809,BasinData!$A:$K,9,FALSE)","v":61.107910517240207},90.703848548802682,{"$f":"VLOOKUP($A809,BasinData!$A:$K,7,FALSE)","v":63.268827581391662},88.542931484651234,97.617612594476881,5,147.27656663860276,138.20618178372249,120.06541207396197,92.854257509321144]
[21105,{"$f":"VLOOKUP($A810,BasinData!$A:$K,8,FALSE)","v":152.71190744426619},{"$f":"VLOOKUP($A810,BasinData!$A:$K,9,FALSE)","v":61.470242044699681},91.2416653995665,{"$f":"VLOOKUP($A810,BasinData!$A:$K,7,FALSE)","v":66.572931247493969},86.138976196772219,94.407501024396552,5,148.14982417428786,139.02565763433122,120.77732455441792,93.40482493454796]
[21106,{"$f":"VLOOKUP($A811,BasinData!$A:$K,8,FALSE)","v":228.56801184626707},{"$f":"VLOOKUP($A811,BasinData!$A:$K,9,FALSE)","v":92.00416160732955},136.5638502389375,{"$f":"VLOOKUP($A811,BasinData!$A:$K,7,FALSE)","v":50.5829878371974},177.98502400906966,130.33099440127094,5,221.7398193343202,208.08343431042644,180.77066426263895,139.80150919095769]
[21107,{"$f":"VLOOKUP($A812,BasinData!$A:$K,8,FALSE)","v":189.62974054499171},{"$f":"VLOOKUP($A812,BasinData!$A:$K,9,FALSE)","v":76.330564166572501},113.2991763784192,{"$f":"VLOOKUP($A812,BasinData!$A:$K,7,FALSE)","v":52.378508963293747},137.25123158169797,121.14053779462519,5,183.96478172607075,172.63486408822882,149.97502881254499,115.98527589901921]
[21108,{"$f":"VLOOKUP($A813,BasinData!$A:$K,8,FALSE)","v":259.74629981874165},{"$f":"VLOOKUP($A813,BasinData!$A:$K,9,FALSE)","v":104.55417778014711},155.19212203859453,{"$f":"VLOOKUP($A813,BasinData!$A:$K,7,FALSE)","v":150.81318981732431},108.93311000141733,70.192422508616062,5,251.98669371681191,236.46748151295247,205.42905710523357,158.87142049365519]
[21109,{"$f":"VLOOKUP($A814,BasinData!$A:$K,8,FALSE)","v":158.21297623214559},{"$f":"VLOOKUP($A814,BasinData!$A:$K,9,FALSE)","v":63.684555489896489},94.528420742249097,{"$f":"VLOOKUP($A814,BasinData!$A:$K,7,FALSE)","v":62.164760084062905},96.048216148082687,101.60776557346453,5,153.48655519503313,144.03371312080822,125.12802897235841,96.769502749683681]
[21110,{"$f":"VLOOKUP($A815,BasinData!$A:$K,8,FALSE)","v":147.814088778116},{"$f":"VLOOKUP($A815,BasinData!$A:$K,9,FALSE)","v":59.498751386650113},88.315337391465889,{"$f":"VLOOKUP($A815,BasinData!$A:$K,7,FALSE)","v":62.680375656369854},85.133713121746155,96.39742726043508,5,143.3983219085427,134.56678816939612,116.90372069110295,90.409119473663168]
[21111,{"$f":"VLOOKUP($A816,BasinData!$A:$K,8,FALSE)","v":173.42446737030403},{"$f":"VLOOKUP($A816,BasinData!$A:$K,9,FALSE)","v":69.807549156678249},103.61691821362578,{"$f":"VLOOKUP($A816,BasinData!$A:$K,7,FALSE)","v":108.71958972729146},64.704877643012566,62.446247927979556,4,168.24362145962274,157.88192963826017,137.15854599553501,106.07347053144727]
[21112,{"$f":"VLOOKUP($A817,BasinData!$A:$K,8,FALSE)","v":151.93550870003921},{"$f":"VLOOKUP($A817,BasinData!$A:$K,9,FALSE)","v":61.157722742639024},90.777785957400184,{"$f":"VLOOKUP($A817,BasinData!$A:$K,7,FALSE)","v":64.264165509595472},87.671343190443736,96.577970332505998,5,147.39661940216919,138.31884080642919,120.16328361494914,92.92994782772908]
[21113,{"$f":"VLOOKUP($A818,BasinData!$A:$K,8,FALSE)","v":163.10208617161251},{"$f":"VLOOKUP($A818,BasinData!$A:$K,9,FALSE)","v":65.65254067449554},97.449545497116972,{"$f":"VLOOKUP($A818,BasinData!$A:$K,7,FALSE)","v":64.978277861958432},98.123808309654081,100.69190965344939,5,158.22960889675667,148.48465434704497,128.99474524762158,99.759881598486487]
[21114,{"$f":"VLOOKUP($A819,BasinData!$A:$K,8,FALSE)","v":245.80379941723984},{"$f":"VLOOKUP($A819,BasinData!$A:$K,9,FALSE)","v":98.941983624943958},146.86181579229589,{"$f":"VLOOKUP($A819,BasinData!$A:$K,7,FALSE)","v":93.988854653549168},151.81494476369068,103.37264587440475,5,238.46070862762505,223.77452704839547,194.40216388993628,150.34361915224753]
[21115,{"$f":"VLOOKUP($A820,BasinData!$A:$K,8,FALSE)","v":87.780777663570049},{"$f":"VLOOKUP($A820,BasinData!$A:$K,9,FALSE)","v":35.333889414097655},52.446888249472394,{"$f":"VLOOKUP($A820,BasinData!$A:$K,7,FALSE)","v":62.428486394366502},25.352291269203548,48.338980853565864,4,85.158433251096426,79.913744426149194,69.424366776254715,53.690300301412989]
[21116,{"$f":"VLOOKUP($A821,BasinData!$A:$K,8,FALSE)","v":153.25547806521786},{"$f":"VLOOKUP($A821,BasinData!$A:$K,9,FALSE)","v":61.689042387105722},91.566435678112128,{"$f":"VLOOKUP($A821,BasinData!$A:$K,7,FALSE)","v":63.533404951540959},89.722073113676899,97.985765689385559,5,148.67715628131225,139.52051271350103,121.20722557787862,93.73729487444497]
[21117,{"$f":"VLOOKUP($A822,BasinData!$A:$K,8,FALSE)","v":324.50658042764894},{"$f":"VLOOKUP($A822,BasinData!$A:$K,9,FALSE)","v":130.62175948044805},193.88482094720089,{"$f":"VLOOKUP($A822,BasinData!$A:$K,7,FALSE)","v":139.27842988250313},185.22815054514581,95.535147950332586,5,314.8123393802889,295.42385728556883,256.64689309612862,198.48144681196834]
[21118,{"$f":"VLOOKUP($A823,BasinData!$A:$K,8,FALSE)","v":225.36602659321292},{"$f":"VLOOKUP($A823,BasinData!$A:$K,9,FALSE)","v":90.715284977976793},134.65074161523614,{"$f":"VLOOKUP($A823,BasinData!$A:$K,7,FALSE)","v":106.64720418822149},118.71882240499143,88.167967722175561,5,218.63348951245112,205.16841535092749,178.23826702788028,137.84304454330942]
[21119,{"$f":"VLOOKUP($A824,BasinData!$A:$K,8,FALSE)","v":252.63657174901928},{"$f":"VLOOKUP($A824,BasinData!$A:$K,9,FALSE)","v":101.69234000579196},150.94423174322731,{"$f":"VLOOKUP($A824,BasinData!$A:$K,7,FALSE)","v":167.02595263167098},85.610619117348307,56.716721221239752,4,245.08936016185791,229.9949369875352,199.80609063888971,154.52282111592154]
[21120,{"$f":"VLOOKUP($A825,BasinData!$A:$K,8,FALSE)","v":249.24657215350641},{"$f":"VLOOKUP($A825,BasinData!$A:$K,9,FALSE)","v":100.32778304913381},148.91878910437259,{"$f":"VLOOKUP($A825,BasinData!$A:$K,7,FALSE)","v":97.922520396337902},151.32405175716849,101.61515055773795,5,241.80063269828779,226.90875378785051,197.124995966976,152.44935923566422]
[21121,{"$f":"VLOOKUP($A826,BasinData!$A:$K,8,FALSE)","v":213.59545915252818},{"$f":"VLOOKUP($A826,BasinData!$A:$K,9,FALSE)","v":85.97734645247958},127.6181127000486,{"$f":"VLOOKUP($A826,BasinData!$A:$K,7,FALSE)","v":73.669636087299267},139.92582306522891,109.64417205738511,5,207.21455351752576,194.45274224752089,168.92911970751118,130.6436858974966]
[21122,{"$f":"VLOOKUP($A827,BasinData!$A:$K,8,FALSE)","v":186.37329822021434},{"$f":"VLOOKUP($A827,BasinData!$A:$K,9,FALSE)","v":75.019767246681198},111.35353097353314,{"$f":"VLOOKUP($A827,BasinData!$A:$K,7,FALSE)","v":65.242241888847019},121.13105633136732,108.78061546172087,5,180.80562167153769,169.67026857418438,147.39956237947774,113.99350308741779]
[21123,{"$f":"VLOOKUP($A828,BasinData!$A:$K,8,FALSE)","v":147.39634083944759},{"$f":"VLOOKUP($A828,BasinData!$A:$K,9,FALSE)","v":59.330597721795961},88.065743117651635,{"$f":"VLOOKUP($A828,BasinData!$A:$K,7,FALSE)","v":66.864109512682148},80.532231326765441,91.445581988876441,5,142.99305368356499,134.18647937179983,116.57333074826951,90.15360781297403]
[21124,{"$f":"VLOOKUP($A829,BasinData!$A:$K,8,FALSE)","v":157.22917894004152},{"$f":"VLOOKUP($A829,BasinData!$A:$K,9,FALSE)","v":63.288553248285901},93.940625691755628,{"$f":"VLOOKUP($A829,BasinData!$A:$K,7,FALSE)","v":62.27886645363521},94.950312486406318,101.07481378500047,5,152.53214765545374,143.13808508627818,124.34995994792706,96.167772240400353]
[21125,{"$f":"VLOOKUP($A830,BasinData!$A:$K,8,FALSE)","v":173.46065999689498},{"$f":"VLOOKUP($A830,BasinData!$A:$K,9,FALSE)","v":69.822117565612501},103.63854243128247,{"$f":"VLOOKUP($A830,BasinData!$A:$K,7,FALSE)","v":114.76428575007267},58.696374246822302,56.635661665871972,4,168.27873287533086,157.9148786322026,137.18717014594611,106.09560741656136]
[21126,{"$f":"VLOOKUP($A831,BasinData!$A:$K,8,FALSE)","v":151.44957004201729},{"$f":"VLOOKUP($A831,BasinData!$A:$K,9,FALSE)","v":60.962120661390799},90.487449380626487,{"$f":"VLOOKUP($A831,BasinData!$A:$K,7,FALSE)","v":65.843084852145822},85.606485189871464,94.605921346922131,5,146.92519757298595,137.87645263492331,119.77896275879802,92.632727944610068]
[21127,{"$f":"VLOOKUP($A832,BasinData!$A:$K,8,FALSE)","v":157.76218411099492},{"$f":"VLOOKUP($A832,BasinData!$A:$K,9,FALSE)","v":63.503100741129842},94.259083369865081,{"$f":"VLOOKUP($A832,BasinData!$A:$K,7,FALSE)","v":60.84442248325746},96.917761627737463,102.82060695141702,5,153.04922994250168,143.62332160551517,124.77150493154215,96.493779920582625]
[21128,{"$f":"VLOOKUP($A833,BasinData!$A:$K,8,FALSE)","v":227.30734998219171},{"$f":"VLOOKUP($A833,BasinData!$A:$K,9,FALSE)","v":91.496714668723826},135.81063531346788,{"$f":"VLOOKUP($A833,BasinData!$A:$K,7,FALSE)","v":106.92268362656291},120.3846663556288,88.641560418126289,5,220.51681821651832,206.93575468517153,179.77362762247796,139.03043702843758]
[21129,{"$f":"VLOOKUP($A834,BasinData!$A:$K,8,FALSE)","v":194.15281049733798},{"$f":"VLOOKUP($A834,BasinData!$A:$K,9,FALSE)","v":78.15120938939053},116.00160110794745,{"$f":"VLOOKUP($A834,BasinData!$A:$K,7,FALSE)","v":68.211644553310009},125.94116594402797,108.5684721082695,5,188.35273044194059,176.75257033114588,153.55225010955638,118.75176977717213]
[21130,{"$f":"VLOOKUP($A835,BasinData!$A:$K,8,FALSE)","v":203.99223504313395},{"$f":"VLOOKUP($A835,BasinData!$A:$K,9,FALSE)","v":82.111816119624564},121.88041892350938,{"$f":"VLOOKUP($A835,BasinData!$A:$K,7,FALSE)","v":99.477210573924253},104.51502446920969,85.75210472061309,5,197.89821409695847,185.71017220460755,161.33408841990567,124.76996274285284]
[21131,{"$f":"VLOOKUP($A836,BasinData!$A:$K,8,FALSE)","v":183.11092132459021},{"$f":"VLOOKUP($A836,BasinData!$A:$K,9,FALSE)","v":73.706581518264827},{"$f":"B836-C836","v":109.40433980632538},{"$f":"VLOOKUP($A836,BasinData!$A:$K,7,FALSE)","v":85.494614202729622},{"$f":"B836-E836","v":97.616307121860586},{"$f":"F836/D836*100","v":89.225260437261682},{"$f":"IF($G836<($I$1*100),1,IF($G836<($J$1*100),2,IF($G836<($K$1*100),3,IF($G836<($L$1*100),4,5))))","v":5},{"$f":"B836-(D836*$I$1)","v":177.64070433427395},{"$f":"B836-(D836*$J$1)","v":166.7002703536414},{"$f":"B836-(D836*$K$1)","v":144.81940239237633},{"$f":"B836-(D836*$L$1)","v":111.9981004504787}]
[21132,{"$f":"VLOOKUP($A837,BasinData!$A:$K,8,FALSE)","v":98.328711416274984},{"$f":"VLOOKUP($A837,BasinData!$A:$K,9,FALSE)","v":39.579688263063403},58.749023153211581,{"$f":"VLOOKUP($A837,BasinData!$A:$K,7,FALSE)","v":45.386104035283516},52.942607380991468,90.11657477763066,5,95.391260258614409,89.516357943293244,77.766553312650927,60.141846366687453]
[21133,{"$f":"VLOOKUP($A838,BasinData!$A:$K,8,FALSE)","v":161.08875351236011},{"$f":"VLOOKUP($A838,BasinData!$A:$K,9,FALSE)","v":64.842125508108396},96.246628004251718,{"$f":"VLOOKUP($A838,BasinData!$A:$K,7,FALSE)","v":58.268858839817725},102.81989467254239,106.82960723361685,5,156.27642211214751,146.65175931172234,127.40243371087202,98.528445309596492]
[21134,{"$f":"VLOOKUP($A839,BasinData!$A:$K,8,FALSE)","v":133.91251787285097},{"$f":"VLOOKUP($A839,BasinData!$A:$K,9,FALSE)","v":53.903032345159737},80.009485527691226,{"$f":"VLOOKUP($A839,BasinData!$A:$K,7,FALSE)","v":61.796031822007571},72.116486050843406,90.134920347517976,5,129.91204359646642,121.91109504369729,105.90919793815904,81.906352279851674]
[21135,{"$f":"VLOOKUP($A840,BasinData!$A:$K,8,FALSE)","v":239.56098318297319},{"$f":"VLOOKUP($A840,BasinData!$A:$K,9,FALSE)","v":96.429098864461182},143.13188431851199,{"$f":"VLOOKUP($A840,BasinData!$A:$K,7,FALSE)","v":128.33011837229643},111.23086481067676,77.712150119643681,5,232.40438896704759,218.09120053519638,189.464823671494,146.52525837594038]
[21136,{"$f":"VLOOKUP($A841,BasinData!$A:$K,8,FALSE)","v":172.39902735368165},{"$f":"VLOOKUP($A841,BasinData!$A:$K,9,FALSE)","v":69.394784709694278},103.00424264398737,{"$f":"VLOOKUP($A841,BasinData!$A:$K,7,FALSE)","v":43.024249161196636},129.374778192485,125.60140715721961,5,167.24881522148229,156.94839095708355,136.34754242828606,105.44626963508985]
[21137,{"$f":"VLOOKUP($A842,BasinData!$A:$K,8,FALSE)","v":208.02795869430253},{"$f":"VLOOKUP($A842,BasinData!$A:$K,9,FALSE)","v":83.736292650725389},124.29166604357714,{"$f":"VLOOKUP($A842,BasinData!$A:$K,7,FALSE)","v":79.2160230484631},128.81193564583941,103.63682437137615,5,201.81337539212367,189.38420878776594,164.52587557905053,127.23837576597738]
[21138,{"$f":"VLOOKUP($A843,BasinData!$A:$K,8,FALSE)","v":187.42599002306127},{"$f":"VLOOKUP($A843,BasinData!$A:$K,9,FALSE)","v":75.443501197768725},111.98248882529255,{"$f":"VLOOKUP($A843,BasinData!$A:$K,7,FALSE)","v":79.628541732763338},107.79744829029794,96.262772350484354,5,181.82686558179665,170.62861669926738,148.23211893420887,114.63737228662112]
[21139,{"$f":"VLOOKUP($A844,BasinData!$A:$K,8,FALSE)","v":92.169518459801282},{"$f":"VLOOKUP($A844,BasinData!$A:$K,9,FALSE)","v":37.100463897585378},55.069054562215904,{"$f":"VLOOKUP($A844,BasinData!$A:$K,7,FALSE)","v":67.420398900875099},24.749119558926182,44.941972866022475,4,89.41606573169048,83.909160275468892,72.895349363025716,56.374632994360944]
[21140,{"$f":"VLOOKUP($A845,BasinData!$A:$K,8,FALSE)","v":189.00186479253927},{"$f":"VLOOKUP($A845,BasinData!$A:$K,9,FALSE)","v":76.077828966527036},112.92403582601223,{"$f":"VLOOKUP($A845,BasinData!$A:$K,7,FALSE)","v":55.003131669047448},133.99873312349183,118.66272060090949,5,183.35566300123867,172.06325941863744,149.47845225343499,115.60124150563131]
[21141,{"$f":"VLOOKUP($A846,BasinData!$A:$K,8,FALSE)","v":240.27199975464828},{"$f":"VLOOKUP($A846,BasinData!$A:$K,9,FALSE)","v":96.715300258249755},143.55669949639852,{"$f":"VLOOKUP($A846,BasinData!$A:$K,7,FALSE)","v":127.11675784100422},113.15524191364406,78.822682821906781,5,233.09416477982836,218.7384948301885,190.02715493090881,146.96014508198925]
[21142,{"$f":"VLOOKUP($A847,BasinData!$A:$K,8,FALSE)","v":244.09654418588738},{"$f":"VLOOKUP($A847,BasinData!$A:$K,9,FALSE)","v":98.254772037716435},145.84177214817095,{"$f":"VLOOKUP($A847,BasinData!$A:$K,7,FALSE)","v":166.35185220038963},77.744691985497752,53.307561229104806,4,236.80445557847884,222.22027836366175,193.05192393402757,149.29939228957625]
[21143,{"$f":"VLOOKUP($A848,BasinData!$A:$K,8,FALSE)","v":265.52788706547688},{"$f":"VLOOKUP($A848,BasinData!$A:$K,9,FALSE)","v":106.881406700322},158.64648036515487,{"$f":"VLOOKUP($A848,BasinData!$A:$K,7,FALSE)","v":150.07359648346542},115.45429058201145,72.774567904860902,5,257.59556304721912,241.73091501070365,210.00161893767267,162.4076748281262]
[21144,{"$f":"VLOOKUP($A849,BasinData!$A:$K,8,FALSE)","v":160.42452149360918},{"$f":"VLOOKUP($A849,BasinData!$A:$K,9,FALSE)","v":64.574756030182385},95.849765463426792,{"$f":"VLOOKUP($A849,BasinData!$A:$K,7,FALSE)","v":91.158960677720231},69.265560815888946,72.264716017816937,5,155.63203322043785,146.04705667409516,126.8771035814098,98.122173942381764]
[21145,{"$f":"VLOOKUP($A850,BasinData!$A:$K,8,FALSE)","v":232.78622240650822},{"$f":"VLOOKUP($A850,BasinData!$A:$K,9,FALSE)","v":93.702093539901099},139.0841288666071,{"$f":"VLOOKUP($A850,BasinData!$A:$K,7,FALSE)","v":78.298003484206532},154.48821892230168,111.07537587589763,5,225.83201596317787,211.92360307651714,184.10677730319574,142.38153864321362]
[21146,{"$f":"VLOOKUP($A851,BasinData!$A:$K,8,FALSE)","v":217.13702911992928},{"$f":"VLOOKUP($A851,BasinData!$A:$K,9,FALSE)","v":87.402914155468537},129.73411496446073,{"$f":"VLOOKUP($A851,BasinData!$A:$K,7,FALSE)","v":88.686721845808165},128.45030727412112,99.010431688926772,5,210.65032337170624,197.67691187526017,171.73008888236802,132.80985439302981]
[21147,{"$f":"VLOOKUP($A852,BasinData!$A:$K,8,FALSE)","v":234.59594346973776},{"$f":"VLOOKUP($A852,BasinData!$A:$K,9,FALSE)","v":94.430550106594907},140.16539336314287,{"$f":"VLOOKUP($A852,BasinData!$A:$K,7,FALSE)","v":61.492466813878174},173.10347665585959,123.49944055547304,5,227.58767380158062,213.57113446526634,185.53805579263775,143.48843778369491]
[21148,{"$f":"VLOOKUP($A853,BasinData!$A:$K,8,FALSE)","v":157.50952337169772},{"$f":"VLOOKUP($A853,BasinData!$A:$K,9,FALSE)","v":63.401398673100466},94.108124698597265,{"$f":"VLOOKUP($A853,BasinData!$A:$K,7,FALSE)","v":38.510793460392868},118.99872991130485,126.44894401245952,5,152.80411713676787,143.39330466690814,124.57167972718868,96.339242317609504]
[21149,{"$f":"VLOOKUP($A854,BasinData!$A:$K,8,FALSE)","v":255.31324880691079},{"$f":"VLOOKUP($A854,BasinData!$A:$K,9,FALSE)","v":102.76976736150839},152.54348144540239,{"$f":"VLOOKUP($A854,BasinData!$A:$K,7,FALSE)","v":135.58980647345734},119.72344233345345,78.484797383036181,5,247.68607473464067,232.43172659010042,201.92303030101996,156.15998586739923]
[21150,{"$f":"VLOOKUP($A855,BasinData!$A:$K,8,FALSE)","v":162.54465687820274},{"$f":"VLOOKUP($A855,BasinData!$A:$K,9,FALSE)","v":65.428161880712153},97.116494997490591,{"$f":"VLOOKUP($A855,BasinData!$A:$K,7,FALSE)","v":36.177602551894019},126.36705432630873,130.11904345350803,5,157.68883212832822,147.97718262857916,128.55388362908104,99.418935129833855]
[21151,{"$f":"VLOOKUP($A856,BasinData!$A:$K,8,FALSE)","v":196.82248259336808},{"$f":"VLOOKUP($A856,BasinData!$A:$K,9,FALSE)","v":79.225817078269301},117.59666551509878,{"$f":"VLOOKUP($A856,BasinData!$A:$K,7,FALSE)","v":102.79956331278368},94.022919280584404,79.953729018372869,5,190.94264931761313,179.18298276610327,155.6636496630835,120.38465000855388]
[21152,{"$f":"VLOOKUP($A857,BasinData!$A:$K,8,FALSE)","v":254.83428761275752},{"$f":"VLOOKUP($A857,BasinData!$A:$K,9,FALSE)","v":102.57697387848962},152.25731373426788,{"$f":"VLOOKUP($A857,BasinData!$A:$K,7,FALSE)","v":47.861302563131233},206.97298504962629,135.93631726016969,5,247.22142192604412,231.99569055261733,201.54422780576377,155.86703368548339]
[21153,{"$f":"VLOOKUP($A858,BasinData!$A:$K,8,FALSE)","v":160.27380221978731},{"$f":"VLOOKUP($A858,BasinData!$A:$K,9,FALSE)","v":64.514087871440324},95.759714348346989,{"$f":"VLOOKUP($A858,BasinData!$A:$K,7,FALSE)","v":104.46406417731548},55.809738042471835,58.281019761036099,4,155.48581650236997,145.90984506753526,126.75790219786586,98.029987893361778]
[21154,{"$f":"VLOOKUP($A859,BasinData!$A:$K,8,FALSE)","v":163.10925998250516},{"$f":"VLOOKUP($A859,BasinData!$A:$K,9,FALSE)","v":65.655428307158473},97.453831675346692,{"$f":"VLOOKUP($A859,BasinData!$A:$K,7,FALSE)","v":46.318869092164874},116.79039089034029,119.8417639230549,5,158.23656839873783,148.49118523120316,129.00041889613382,99.764269393529815]
[21155,{"$f":"VLOOKUP($A860,BasinData!$A:$K,8,FALSE)","v":160.76449927363458},{"$f":"VLOOKUP($A860,BasinData!$A:$K,9,FALSE)","v":64.711605322275787},96.052893951358797,{"$f":"VLOOKUP($A860,BasinData!$A:$K,7,FALSE)","v":56.415490531054452},104.34900874258014,108.63702742305973,5,155.96185457606666,146.35656518093077,127.145986390659,98.330118205251367]
[21156,{"$f":"VLOOKUP($A861,BasinData!$A:$K,8,FALSE)","v":180.66542063919979},{"$f":"VLOOKUP($A861,BasinData!$A:$K,9,FALSE)","v":72.722208252504331},107.94321238669546,{"$f":"VLOOKUP($A861,BasinData!$A:$K,7,FALSE)","v":65.672730646274275},114.99268999292552,106.53072800999848,5,175.26826001986501,164.47393878119547,142.88529630385639,110.50233258784775]
[21157,{"$f":"VLOOKUP($A862,BasinData!$A:$K,8,FALSE)","v":144.41784370409562},{"$f":"VLOOKUP($A862,BasinData!$A:$K,9,FALSE)","v":58.131680473602003},86.286163230493614,{"$f":"VLOOKUP($A862,BasinData!$A:$K,7,FALSE)","v":42.755924753629984},101.66191895046563,117.81949172881778,5,140.10353554257094,131.47491921952158,114.21768657342285,88.331837604274767]
[21158,{"$f":"VLOOKUP($A863,BasinData!$A:$K,8,FALSE)","v":151.31561458811331},{"$f":"VLOOKUP($A863,BasinData!$A:$K,9,FALSE)","v":60.908200346253025},90.40741424186028,{"$f":"VLOOKUP($A863,BasinData!$A:$K,7,FALSE)","v":86.447740337791757},64.867874250321549,71.750613369812029,5,146.79524387602029,137.75450245183427,119.67301960346221,92.550795330904123]
[21159,{"$f":"VLOOKUP($A864,BasinData!$A:$K,8,FALSE)","v":191.89627708638378},{"$f":"VLOOKUP($A864,BasinData!$A:$K,9,FALSE)","v":77.242900029140216},114.65337705724356,{"$f":"VLOOKUP($A864,BasinData!$A:$K,7,FALSE)","v":55.295573180935271},136.60070390544851,119.14232917644215,5,186.16360823352159,174.69827052779723,151.76759511634853,117.37158199917546]
[21160,{"$f":"VLOOKUP($A865,BasinData!$A:$K,8,FALSE)","v":138.18982863358991},{"$f":"VLOOKUP($A865,BasinData!$A:$K,9,FALSE)","v":55.624753540076902},82.565075093513002,{"$f":"VLOOKUP($A865,BasinData!$A:$K,7,FALSE)","v":52.48595157130881},85.703877062281094,103.801609778969,5,134.06157487891426,125.80506736956296,109.29205235086036,84.522529822806462]
[21161,{"$f":"VLOOKUP($A866,BasinData!$A:$K,8,FALSE)","v":219.55066785462122},{"$f":"VLOOKUP($A866,BasinData!$A:$K,9,FALSE)","v":88.374462214247941},131.17620564037327,{"$f":"VLOOKUP($A866,BasinData!$A:$K,7,FALSE)","v":146.95640790142417},72.594259953197053,55.341027436193869,4,212.99185757260256,199.87423700856525,173.6389958804906,134.28613418837858]
[21162,{"$f":"VLOOKUP($A867,BasinData!$A:$K,8,FALSE)","v":169.9076026308712},{"$f":"VLOOKUP($A867,BasinData!$A:$K,9,FALSE)","v":68.391925906406783},101.51567672446441,{"$f":"VLOOKUP($A867,BasinData!$A:$K,7,FALSE)","v":61.481404278056765},108.42619835281442,106.80734429531182,5,164.83181879464797,154.68025112220153,134.37711577730866,103.92241275996932]
[21163,{"$f":"VLOOKUP($A868,BasinData!$A:$K,8,FALSE)","v":159.97523893321454},{"$f":"VLOOKUP($A868,BasinData!$A:$K,9,FALSE)","v":64.393908916187684},95.581330017026858,{"$f":"VLOOKUP($A868,BasinData!$A:$K,7,FALSE)","v":46.439515766266517},113.53572316694803,118.78441443190084,5,155.1961724323632,145.63803943066051,126.52177342725514,97.847374422147084]
[21164,{"$f":"VLOOKUP($A869,BasinData!$A:$K,8,FALSE)","v":146.0761258835787},{"$f":"VLOOKUP($A869,BasinData!$A:$K,9,FALSE)","v":58.799179221127233},87.276946662451465,{"$f":"VLOOKUP($A869,BasinData!$A:$K,7,FALSE)","v":39.785627709679964},106.29049817389873,121.78530784879914,5,141.71227855045612,132.98458388421099,115.52919455172068,89.346110552985238]
[21165,{"$f":"VLOOKUP($A870,BasinData!$A:$K,8,FALSE)","v":198.97616832685324},{"$f":"VLOOKUP($A870,BasinData!$A:$K,9,FALSE)","v":80.092727756952726},118.88344056990051,{"$f":"VLOOKUP($A870,BasinData!$A:$K,7,FALSE)","v":55.834318896191313},143.14184943066192,120.40520424415044,5,193.03199629835822,181.14365224136816,157.36696412738806,121.70193195641791]
[21166,{"$f":"VLOOKUP($A871,BasinData!$A:$K,8,FALSE)","v":180.23555190358954},{"$f":"VLOOKUP($A871,BasinData!$A:$K,9,FALSE)","v":72.54917567326649},107.68637623032305,{"$f":"VLOOKUP($A871,BasinData!$A:$K,7,FALSE)","v":54.596035333943334},125.6395165696462,116.67169141333571,5,174.85123309207339,164.08259546904108,142.54532022297647,110.23940735387956]
[21167,{"$f":"VLOOKUP($A872,BasinData!$A:$K,8,FALSE)","v":124.44575823394901},{"$f":"VLOOKUP($A872,BasinData!$A:$K,9,FALSE)","v":50.092432267397783},74.353325966551225,{"$f":"VLOOKUP($A872,BasinData!$A:$K,7,FALSE)","v":70.05667046240994},54.389087771539067,73.149502143329386,5,120.72809193562145,113.29275933896632,98.422094145656075,76.116096355690701]
[21168,{"$f":"VLOOKUP($A873,BasinData!$A:$K,8,FALSE)","v":349.34126310614027},{"$f":"VLOOKUP($A873,BasinData!$A:$K,9,FALSE)","v":140.61832085472935},208.72294225141093,{"$f":"VLOOKUP($A873,BasinData!$A:$K,7,FALSE)","v":39.254226968703009},310.08703613743728,148.56394452504952,5,338.90511599356972,318.03282176842862,276.28823331814647,213.67135064272316]
[21169,{"$f":"VLOOKUP($A874,BasinData!$A:$K,8,FALSE)","v":173.02708979344754},{"$f":"VLOOKUP($A874,BasinData!$A:$K,9,FALSE)","v":69.647595055905711},103.37949473754183,{"$f":"VLOOKUP($A874,BasinData!$A:$K,7,FALSE)","v":62.057370430211492},110.96971936323605,107.3420987836748,5,167.85811505657045,157.52016558281628,136.84426663530792,105.83041821404535]
[21173,{"$f":"VLOOKUP($A875,BasinData!$A:$K,8,FALSE)","v":276.97337857046449},{"$f":"VLOOKUP($A875,BasinData!$A:$K,9,FALSE)","v":111.48849428705071},165.48488428341378,{"$f":"VLOOKUP($A875,BasinData!$A:$K,7,FALSE)","v":202.42849927115245},74.544879299312043,45.046337387313585,4,268.69913435629383,252.15064592795244,219.05366907126967,169.40820378624554]
[21174,{"$f":"VLOOKUP($A876,BasinData!$A:$K,8,FALSE)","v":277.44841278536347},{"$f":"VLOOKUP($A876,BasinData!$A:$K,9,FALSE)","v":111.67970706579234},165.76870571957113,{"$f":"VLOOKUP($A876,BasinData!$A:$K,7,FALSE)","v":218.09788166947695},59.350531115886525,35.803218018899827,4,269.15997749938492,252.58310692742779,219.42936578351359,169.69875406764226]
[21188,{"$f":"VLOOKUP($A877,BasinData!$A:$K,8,FALSE)","v":37.998221484101485},{"$f":"VLOOKUP($A877,BasinData!$A:$K,9,FALSE)","v":15.295204617546183},22.703016866555302,{"$f":"VLOOKUP($A877,BasinData!$A:$K,7,FALSE)","v":33.874606969196989},4.1236145149044958,18.163288778502178,3,36.863070640773721,34.592768954118192,30.052165580807131,23.241260520840541]
[21193,{"$f":"VLOOKUP($A878,BasinData!$A:$K,8,FALSE)","v":226.46696880416718},{"$f":"VLOOKUP($A878,BasinData!$A:$K,9,FALSE)","v":91.158440887147037},135.30852791702014,{"$f":"VLOOKUP($A878,BasinData!$A:$K,7,FALSE)","v":139.46651296252782},87.000455841639365,64.297836345535899,4,219.70154240831619,206.17068961661417,179.10898403321013,138.51642565810408]
[21194,{"$f":"VLOOKUP($A879,BasinData!$A:$K,8,FALSE)","v":224.34363441346167},{"$f":"VLOOKUP($A879,BasinData!$A:$K,9,FALSE)","v":90.303747359164362},134.03988705429731,{"$f":"VLOOKUP($A879,BasinData!$A:$K,7,FALSE)","v":103.10285368141919},121.24078073204248,90.451270436336515,5,217.64164006074679,204.23765135531707,177.42967394445762,137.21770782816841]
[21195,{"$f":"VLOOKUP($A880,BasinData!$A:$K,8,FALSE)","v":309.35852444673606},{"$f":"VLOOKUP($A880,BasinData!$A:$K,9,FALSE)","v":124.52430000111303},184.83422444562302,{"$f":"VLOOKUP($A880,BasinData!$A:$K,7,FALSE)","v":137.14767959576704},172.21084485096901,93.170431703048735,5,300.11681322445492,281.63339077989258,244.66654589076802,189.21627855708107]
[21197,{"$f":"VLOOKUP($A881,BasinData!$A:$K,8,FALSE)","v":267.24297844698083},{"$f":"VLOOKUP($A881,BasinData!$A:$K,9,FALSE)","v":107.57177252780866},159.67120591917217,{"$f":"VLOOKUP($A881,BasinData!$A:$K,7,FALSE)","v":93.342250001110244},173.90072844587058,108.91176492642111,5,259.2594181510222,243.29229755910501,211.35805637527056,163.45669459951893]
[21198,{"$f":"VLOOKUP($A882,BasinData!$A:$K,8,FALSE)","v":220.16729989050287},{"$f":"VLOOKUP($A882,BasinData!$A:$K,9,FALSE)","v":88.622671546005478},131.5446283444974,{"$f":"VLOOKUP($A882,BasinData!$A:$K,7,FALSE)","v":81.175096327946264},138.9922035625566,105.66163385900869,5,213.590068473278,200.43560563882826,174.12667996992877,134.66329146657955]
[21205,{"$f":"VLOOKUP($A883,BasinData!$A:$K,8,FALSE)","v":349.5505457858925},{"$f":"VLOOKUP($A883,BasinData!$A:$K,9,FALSE)","v":140.7025622030003},208.8479835828922,{"$f":"VLOOKUP($A883,BasinData!$A:$K,7,FALSE)","v":43.648008669837651},305.90253711605487,146.47138644488828,5,339.10814660674788,318.22334824845865,276.45375153188024,213.79935645701255]
[21206,{"$f":"VLOOKUP($A884,BasinData!$A:$K,8,FALSE)","v":158.26173814868409},{"$f":"VLOOKUP($A884,BasinData!$A:$K,9,FALSE)","v":63.704183342513538},94.557554806170543,{"$f":"VLOOKUP($A884,BasinData!$A:$K,7,FALSE)","v":90.991603490388698},67.27013465829539,71.141998961573762,5,153.53386040837557,144.07810492775852,125.1665939665244,96.799327524673231]
[21207,{"$f":"VLOOKUP($A885,BasinData!$A:$K,8,FALSE)","v":105.71406502266929},{"$f":"VLOOKUP($A885,BasinData!$A:$K,9,FALSE)","v":42.552471992691288},63.161593029978,{"$f":"VLOOKUP($A885,BasinData!$A:$K,7,FALSE)","v":59.807736333512594},45.906328689156695,72.680764507267028,5,102.55598537117039,96.23982606817259,83.607507462176983,64.659029553183586]
[21209,{"$f":"VLOOKUP($A886,BasinData!$A:$K,8,FALSE)","v":226.01897524777996},{"$f":"VLOOKUP($A886,BasinData!$A:$K,9,FALSE)","v":90.978112628490194},135.04086261928978,{"$f":"VLOOKUP($A886,BasinData!$A:$K,7,FALSE)","v":55.083879157303862},170.93509609047609,126.58027561063507,5,219.26693211681547,205.76284585488651,178.75467333102853,138.24241454524162]
[21216,{"$f":"VLOOKUP($A887,BasinData!$A:$K,8,FALSE)","v":379.79261031843879},{"$f":"VLOOKUP($A887,BasinData!$A:$K,9,FALSE)","v":152.87572576213864},226.91688455630015,{"$f":"VLOOKUP($A887,BasinData!$A:$K,7,FALSE)","v":63.364550046187347},316.42806027225146,139.44667929448096,5,368.44676609062378,345.75507763499377,300.37170072373374,232.29663535684369]
[21217,{"$f":"VLOOKUP($A888,BasinData!$A:$K,8,FALSE)","v":137.55337083569032},{"$f":"VLOOKUP($A888,BasinData!$A:$K,9,FALSE)","v":55.36856385884721},82.184806976843106,{"$f":"VLOOKUP($A888,BasinData!$A:$K,7,FALSE)","v":64.414303879682279},73.139066956008037,88.993415749721422,5,133.44413048684817,125.22564978916385,108.78868839379523,84.133246300742286]
[21218,{"$f":"VLOOKUP($A889,BasinData!$A:$K,8,FALSE)","v":354.44117875949428},{"$f":"VLOOKUP($A889,BasinData!$A:$K,9,FALSE)","v":142.67116044573268},211.7700183137616,{"$f":"VLOOKUP($A889,BasinData!$A:$K,7,FALSE)","v":54.970535767095129},299.47064299239912,141.41314496592196,5,343.85267784380619,322.67567601243002,280.32167234967773,216.79066685554923]
[21219,{"$f":"VLOOKUP($A890,BasinData!$A:$K,8,FALSE)","v":178.87553191685151},{"$f":"VLOOKUP($A890,BasinData!$A:$K,9,FALSE)","v":72.001734683434535},106.87379723341698,{"$f":"VLOOKUP($A890,BasinData!$A:$K,7,FALSE)","v":56.435326844511032},122.44020507234049,114.56522388263777,5,173.53184205518068,162.84446233183897,141.46970288515558,109.40756371513048]
[21220,{"$f":"VLOOKUP($A891,BasinData!$A:$K,8,FALSE)","v":186.40709612637161},{"$f":"VLOOKUP($A891,BasinData!$A:$K,9,FALSE)","v":75.033371722631102},111.37372440374051,{"$f":"VLOOKUP($A891,BasinData!$A:$K,7,FALSE)","v":54.291740280097351},132.11535584627427,118.62345140523752,5,180.83840990618458,169.70103746581054,147.42629258506244,114.01417526394027]
[21221,{"$f":"VLOOKUP($A892,BasinData!$A:$K,8,FALSE)","v":223.26532205270132},{"$f":"VLOOKUP($A892,BasinData!$A:$K,9,FALSE)","v":89.869700512883426},133.39562153981791,{"$f":"VLOOKUP($A892,BasinData!$A:$K,7,FALSE)","v":98.789233307487947},124.47608874521337,93.313474091844839,5,216.59554097571043,203.25597882172863,176.57685451376506,136.55816805181968]
[21225,{"$f":"VLOOKUP($A893,BasinData!$A:$K,8,FALSE)","v":405.71121819979294},{"$f":"VLOOKUP($A893,BasinData!$A:$K,9,FALSE)","v":163.30859328761281},242.40262491218013,{"$f":"VLOOKUP($A893,BasinData!$A:$K,7,FALSE)","v":117.8937413994277},287.81747680036523,118.73529707223196,5,393.59108695418394,369.35082446296593,320.87029948052987,248.14951200687585]
[21226,{"$f":"VLOOKUP($A894,BasinData!$A:$K,8,FALSE)","v":297.94708222264586},{"$f":"VLOOKUP($A894,BasinData!$A:$K,9,FALSE)","v":119.93091807475645},178.01616414788941,{"$f":"VLOOKUP($A894,BasinData!$A:$K,7,FALSE)","v":158.73068384289371},139.21639837975215,78.204358040259862,5,289.04627401525141,271.24465760046246,235.64142477088456,182.23657552651775]
[21227,{"$f":"VLOOKUP($A895,BasinData!$A:$K,8,FALSE)","v":251.93047504687698},{"$f":"VLOOKUP($A895,BasinData!$A:$K,9,FALSE)","v":101.40811897866942},150.52235606820756,{"$f":"VLOOKUP($A895,BasinData!$A:$K,7,FALSE)","v":61.759189973611662},190.17128507326532,126.34089051003912,5,244.40435724346659,229.35212163664585,199.24765042300433,154.09094360254207]
[21228,{"$f":"VLOOKUP($A896,BasinData!$A:$K,8,FALSE)","v":363.40778979533025},{"$f":"VLOOKUP($A896,BasinData!$A:$K,9,FALSE)","v":146.28043859514398},217.12735120018627,{"$f":"VLOOKUP($A896,BasinData!$A:$K,7,FALSE)","v":78.754405204208837},284.65338459112138,131.09973617680146,5,352.55142223532096,330.83868711530232,287.41321687526505,222.27501151520917]
[21229,{"$f":"VLOOKUP($A897,BasinData!$A:$K,8,FALSE)","v":300.03141498823084},{"$f":"VLOOKUP($A897,BasinData!$A:$K,9,FALSE)","v":120.76991250385142},179.26150248437943,{"$f":"VLOOKUP($A897,BasinData!$A:$K,7,FALSE)","v":97.45703734000945},202.5743776482214,113.00495356825063,5,291.06833986401188,273.1421896155739,237.28988911869803,183.51143837338418]
[21230,{"$f":"VLOOKUP($A898,BasinData!$A:$K,8,FALSE)","v":362.23307393337024},{"$f":"VLOOKUP($A898,BasinData!$A:$K,9,FALSE)","v":145.80758700434853},216.4254869290217,{"$f":"VLOOKUP($A898,BasinData!$A:$K,7,FALSE)","v":119.18317774644254},243.0498961869277,112.30188257200857,5,351.41179958691913,329.76925089401698,286.48415350821267,221.55650742950613]
[22001,{"$f":"VLOOKUP($A899,BasinData!$A:$K,8,FALSE)","v":261.85556363038825},{"$f":"VLOOKUP($A899,BasinData!$A:$K,9,FALSE)","v":105.4032075592124},156.45235607117584,{"$f":"VLOOKUP($A899,BasinData!$A:$K,7,FALSE)","v":161.74261415966086},100.11294947072739,63.989416321210513,4,254.03294582682946,238.38771021971186,207.09723900547669,160.16153218412393]
[22002,{"$f":"VLOOKUP($A900,BasinData!$A:$K,8,FALSE)","v":274.42651693284148},{"$f":"VLOOKUP($A900,BasinData!$A:$K,9,FALSE)","v":110.46332078264547},{"$f":"B900-C900","v":163.96319615019601},{"$f":"VLOOKUP($A900,BasinData!$A:$K,7,FALSE)","v":154.71922706671319},{"$f":"B900-E900","v":119.70728986612829},{"$f":"F900/D900*100","v":73.008634057408983},{"$f":"IF($G900<($I$1*100),1,IF($G900<($J$1*100),2,IF($G900<($K$1*100),3,IF($G900<($L$1*100),4,5))))","v":5},{"$f":"B900-(D900*$I$1)","v":266.22835712533168},{"$f":"B900-(D900*$J$1)","v":249.83203751031209},{"$f":"B900-(D900*$K$1)","v":217.03939828027288},{"$f":"B900-(D900*$L$1)","v":167.85043943521407}]
[22003,{"$f":"VLOOKUP($A901,BasinData!$A:$K,8,FALSE)","v":206.07670647916129},{"$f":"VLOOKUP($A901,BasinData!$A:$K,9,FALSE)","v":82.950866366931749},123.12584011222954,{"$f":"VLOOKUP($A901,BasinData!$A:$K,7,FALSE)","v":78.410669820309224},127.66603665885206,103.6874441161044,5,199.92041447354981,187.60783046232686,162.98266243988095,126.04491040621208]
[22004,{"$f":"VLOOKUP($A902,BasinData!$A:$K,8,FALSE)","v":181.38486992358489},{"$f":"VLOOKUP($A902,BasinData!$A:$K,9,FALSE)","v":73.011804017432993},108.37306590615189,{"$f":"VLOOKUP($A902,BasinData!$A:$K,7,FALSE)","v":136.13364183097252},45.251228092612365,41.755050218657367,4,175.96621662827729,165.12891003766211,143.45429685643171,110.94237708458616]
[22005,{"$f":"VLOOKUP($A903,BasinData!$A:$K,8,FALSE)","v":151.73351110140075},{"$f":"VLOOKUP($A903,BasinData!$A:$K,9,FALSE)","v":61.076413815990421},90.65709728541033,{"$f":"VLOOKUP($A903,BasinData!$A:$K,7,FALSE)","v":93.841414729856481},57.89209637154427,63.858316783832201,4,147.20065623713023,138.13494650858919,120.00352705150713,92.806397865884037]
[22006,{"$f":"VLOOKUP($A904,BasinData!$A:$K,8,FALSE)","v":189.49557238693828},{"$f":"VLOOKUP($A904,BasinData!$A:$K,9,FALSE)","v":76.276558232862016},113.21901415407626,{"$f":"VLOOKUP($A904,BasinData!$A:$K,7,FALSE)","v":55.897872475784681},133.5976999111536,117.99934923417071,5,183.83462167923446,172.51272026382685,149.86891743301157,115.9032131867887]
[22011,{"$f":"VLOOKUP($A905,BasinData!$A:$K,8,FALSE)","v":107.80381319854327},{"$f":"VLOOKUP($A905,BasinData!$A:$K,9,FALSE)","v":43.393646255610683},64.410166942932591,{"$f":"VLOOKUP($A905,BasinData!$A:$K,7,FALSE)","v":70.466948483076322},37.336864715466945,57.967346596923754,4,104.58330485139663,98.14228815710338,85.260254768516859,65.937204685637084]
[22011,{"$f":"VLOOKUP($A906,BasinData!$A:$K,8,FALSE)","v":107.80381319854327},{"$f":"VLOOKUP($A906,BasinData!$A:$K,9,FALSE)","v":43.393646255610683},64.410166942932591,{"$f":"VLOOKUP($A906,BasinData!$A:$K,7,FALSE)","v":70.466948483076322},37.336864715466945,57.967346596923754,4,104.58330485139663,98.14228815710338,85.260254768516859,65.937204685637084]
[22012,{"$f":"VLOOKUP($A907,BasinData!$A:$K,8,FALSE)","v":91.683426989427559},{"$f":"VLOOKUP($A907,BasinData!$A:$K,9,FALSE)","v":36.904800305663862},54.778626683763697,{"$f":"VLOOKUP($A907,BasinData!$A:$K,7,FALSE)","v":49.666897931304248},42.016529058123311,76.702414065040713,5,88.944495655239379,83.466632986863004,72.510907650110269,56.077319644981152]
[22013,{"$f":"VLOOKUP($A908,BasinData!$A:$K,8,FALSE)","v":158.09325399335134},{"$f":"VLOOKUP($A908,BasinData!$A:$K,9,FALSE)","v":63.636364388626262},94.456889604725077,{"$f":"VLOOKUP($A908,BasinData!$A:$K,7,FALSE)","v":76.742643524917824},81.350610468433516,86.124591661722533,5,153.37040951311508,143.92472055264258,125.03334263169756,96.696275750280037]
[22014,{"$f":"VLOOKUP($A909,BasinData!$A:$K,8,FALSE)","v":125.12845644952219},{"$f":"VLOOKUP($A909,BasinData!$A:$K,9,FALSE)","v":50.367234836870523},74.761221612651667,{"$f":"VLOOKUP($A909,BasinData!$A:$K,7,FALSE)","v":61.29598164922615},63.83247480029604,85.381797439080131,5,121.39039536888961,113.91427320762443,98.962028885094099,76.533662401298614]
[22015,{"$f":"VLOOKUP($A910,BasinData!$A:$K,8,FALSE)","v":126.17038718617641},{"$f":"VLOOKUP($A910,BasinData!$A:$K,9,FALSE)","v":50.78663719813904},75.38374998803738,{"$f":"VLOOKUP($A910,BasinData!$A:$K,7,FALSE)","v":46.772947832895937},79.397439353280475,105.32434293316535,5,122.40119968677455,114.8628246879708,99.786074690363336,77.17094969395211]
[22016,{"$f":"VLOOKUP($A911,BasinData!$A:$K,8,FALSE)","v":147.63773255105343},{"$f":"VLOOKUP($A911,BasinData!$A:$K,9,FALSE)","v":59.427763733198248},88.209968817855184,{"$f":"VLOOKUP($A911,BasinData!$A:$K,7,FALSE)","v":72.504479235879316},75.133253315174116,85.175467492021014,5,143.22723411016068,134.40623722837515,116.76424346480412,90.301252819447569]
[22017,{"$f":"VLOOKUP($A912,BasinData!$A:$K,8,FALSE)","v":175.17070613430599},{"$f":"VLOOKUP($A912,BasinData!$A:$K,9,FALSE)","v":70.51045256013559},104.6602535741704,{"$f":"VLOOKUP($A912,BasinData!$A:$K,7,FALSE)","v":88.730864308618678},86.43984182568731,82.590896614280908,5,169.93769345559747,159.47166809818043,138.53961738334635,107.14154131109522]
[22018,{"$f":"VLOOKUP($A913,BasinData!$A:$K,8,FALSE)","v":124.01613286756081},{"$f":"VLOOKUP($A913,BasinData!$A:$K,9,FALSE)","v":49.919497650167209},74.096635217393612,{"$f":"VLOOKUP($A913,BasinData!$A:$K,7,FALSE)","v":60.583810015192135},63.432322852368678,85.607561890311629,5,120.31130110669113,112.90163758495177,98.082310541473049,75.853319976254966]
[22019,{"$f":"VLOOKUP($A914,BasinData!$A:$K,8,FALSE)","v":123.30006133801172},{"$f":"VLOOKUP($A914,BasinData!$A:$K,9,FALSE)","v":49.63126151338286},73.668799824628849,{"$f":"VLOOKUP($A914,BasinData!$A:$K,7,FALSE)","v":55.377341035796434},67.922720302215282,92.200117911392184,5,119.61662134678028,112.24974136431739,97.51598139939162,75.415341452002963]
[22020,{"$f":"VLOOKUP($A915,BasinData!$A:$K,8,FALSE)","v":157.30866849055101},{"$f":"VLOOKUP($A915,BasinData!$A:$K,9,FALSE)","v":63.320549717923527},93.988118772627487,{"$f":"VLOOKUP($A915,BasinData!$A:$K,7,FALSE)","v":79.745983804249462},77.562684686301552,82.523925044119963,5,152.60926255191964,143.2104506746569,124.41282692013139,96.216391288343146]
[22021,{"$f":"VLOOKUP($A916,BasinData!$A:$K,8,FALSE)","v":134.88888811613742},{"$f":"VLOOKUP($A916,BasinData!$A:$K,9,FALSE)","v":54.296045019708146},80.592843096429277,{"$f":"VLOOKUP($A916,BasinData!$A:$K,7,FALSE)","v":90.202279983231875},44.686608132905548,55.447365319322529,4,130.85924596131596,122.79996165167303,106.68139303238718,82.503540103458391]
[22022,{"$f":"VLOOKUP($A917,BasinData!$A:$K,8,FALSE)","v":103.72103445223533},{"$f":"VLOOKUP($A917,BasinData!$A:$K,9,FALSE)","v":41.750228908852044},61.970805543383285,{"$f":"VLOOKUP($A917,BasinData!$A:$K,7,FALSE)","v":62.452574784048721},41.268459668186608,66.59338910690164,5,100.62249417506617,94.425413620727838,82.031252512051182,63.440010849036192]
[22023,{"$f":"VLOOKUP($A918,BasinData!$A:$K,8,FALSE)","v":159.66076829359716},{"$f":"VLOOKUP($A918,BasinData!$A:$K,9,FALSE)","v":64.267326865994335},95.393441427602824,{"$f":"VLOOKUP($A918,BasinData!$A:$K,7,FALSE)","v":50.342854925186643},109.31791336841052,114.59688604627544,5,154.89109622221702,145.35175207945673,126.27306379393617,97.655031365655319]
[22049,{"$f":"VLOOKUP($A919,BasinData!$A:$K,8,FALSE)","v":81.377564717522617},{"$f":"VLOOKUP($A919,BasinData!$A:$K,9,FALSE)","v":32.756441091667782},48.621123625854835,{"$f":"VLOOKUP($A919,BasinData!$A:$K,7,FALSE)","v":65.951348110604712},15.426216606917905,31.727396358883897,3,78.946508536229871,74.084396173644393,64.360171448473423,49.773834360716975]
[22050,{"$f":"VLOOKUP($A920,BasinData!$A:$K,8,FALSE)","v":68.562115962041887},{"$f":"VLOOKUP($A920,BasinData!$A:$K,9,FALSE)","v":27.597912525725075},40.964203436316808,{"$f":"VLOOKUP($A920,BasinData!$A:$K,7,FALSE)","v":50.67766941920253},17.884446542839356,43.658719180619784,4,66.513905790226048,62.417485446594362,54.224644759331007,41.935383728435966]
[22051,{"$f":"VLOOKUP($A921,BasinData!$A:$K,8,FALSE)","v":72.396492933605046},{"$f":"VLOOKUP($A921,BasinData!$A:$K,9,FALSE)","v":29.141342140855961},43.255150792749085,{"$f":"VLOOKUP($A921,BasinData!$A:$K,7,FALSE)","v":54.453806417064023},17.942686516541023,41.481040263877148,4,70.233735393967592,65.908220314692684,57.257190156142869,44.280644918318139]
[22052,{"$f":"VLOOKUP($A922,BasinData!$A:$K,8,FALSE)","v":116.16325807834443},{"$f":"VLOOKUP($A922,BasinData!$A:$K,9,FALSE)","v":46.75852531920458},69.404732759139847,{"$f":"VLOOKUP($A922,BasinData!$A:$K,7,FALSE)","v":82.156995750542876},34.006262327801551,48.997036622582911,4,112.69302144038744,105.75254816447345,91.871601612645478,71.050181784903515]
[22053,{"$f":"VLOOKUP($A923,BasinData!$A:$K,8,FALSE)","v":86.137101991626437},{"$f":"VLOOKUP($A923,BasinData!$A:$K,9,FALSE)","v":34.672270139685587},51.464831851940851,{"$f":"VLOOKUP($A923,BasinData!$A:$K,7,FALSE)","v":60.172110354738315},25.964991636888122,50.451911922274995,4,83.563860399029394,78.417377213835309,68.124410843447137,52.68496128786488]
[22053,{"$f":"VLOOKUP($A924,BasinData!$A:$K,8,FALSE)","v":86.137101991626437},{"$f":"VLOOKUP($A924,BasinData!$A:$K,9,FALSE)","v":34.672270139685587},51.464831851940851,{"$f":"VLOOKUP($A924,BasinData!$A:$K,7,FALSE)","v":60.172110354738315},25.964991636888122,50.451911922274995,4,83.563860399029394,78.417377213835309,68.124410843447137,52.68496128786488]
[22054,{"$f":"VLOOKUP($A925,BasinData!$A:$K,8,FALSE)","v":103.27115151906182},{"$f":"VLOOKUP($A925,BasinData!$A:$K,9,FALSE)","v":41.569140130270412},61.702011388791405,{"$f":"VLOOKUP($A925,BasinData!$A:$K,7,FALSE)","v":89.666147533630451},13.605003985431367,22.049530767651458,3,100.18605094962224,94.015849810743106,81.675447532984833,63.164844116347403]
[22055,{"$f":"VLOOKUP($A926,BasinData!$A:$K,8,FALSE)","v":110.05402486804202},{"$f":"VLOOKUP($A926,BasinData!$A:$K,9,FALSE)","v":44.299410961787103},65.754613906254917,{"$f":"VLOOKUP($A926,BasinData!$A:$K,7,FALSE)","v":96.80923867006527},13.244786197976751,20.142748031126132,3,106.76629417272927,100.19083278210378,87.039910000852799,67.313525828976324]
[22056,{"$f":"VLOOKUP($A927,BasinData!$A:$K,8,FALSE)","v":75.419327862497497},{"$f":"VLOOKUP($A927,BasinData!$A:$K,9,FALSE)","v":30.358106424990179},45.061221437507314,{"$f":"VLOOKUP($A927,BasinData!$A:$K,7,FALSE)","v":58.162131963501686},17.257195898995811,38.297221754028072,4,73.166266790622132,68.660144646871402,59.647900359369942,46.129533928117738]
[22057,{"$f":"VLOOKUP($A928,BasinData!$A:$K,8,FALSE)","v":63.489300885206887},{"$f":"VLOOKUP($A928,BasinData!$A:$K,9,FALSE)","v":25.555981573255934},37.933319311950953,{"$f":"VLOOKUP($A928,BasinData!$A:$K,7,FALSE)","v":49.365976315309673},14.123324569897214,37.231976600180197,4,61.592634919609338,57.799302988414247,50.212639126024058,38.832643332438764]
[22058,{"$f":"VLOOKUP($A929,BasinData!$A:$K,8,FALSE)","v":114.72615077992458},{"$f":"VLOOKUP($A929,BasinData!$A:$K,9,FALSE)","v":46.180054819055059},68.546095960869522,{"$f":"VLOOKUP($A929,BasinData!$A:$K,7,FALSE)","v":70.074072662340583},44.652078117583997,65.141679466434169,5,111.2988459818811,104.44423638579416,90.735017193620251,70.171188405359388]
[22059,{"$f":"VLOOKUP($A930,BasinData!$A:$K,8,FALSE)","v":40.016898679923429},{"$f":"VLOOKUP($A930,BasinData!$A:$K,9,FALSE)","v":16.107771089368807},23.909127590554622,{"$f":"VLOOKUP($A930,BasinData!$A:$K,7,FALSE)","v":36.090514335490084},3.9263843444333446,16.422114648735551,3,38.821442300395695,36.430529541340235,31.648704023229314,24.475965746062926]
[22060,{"$f":"VLOOKUP($A931,BasinData!$A:$K,8,FALSE)","v":84.28027360343539},{"$f":"VLOOKUP($A931,BasinData!$A:$K,9,FALSE)","v":33.924851733565347},50.355421869870042,{"$f":"VLOOKUP($A931,BasinData!$A:$K,7,FALSE)","v":39.86668257720784},44.41359102622755,88.200216336192071,5,81.762502509941882,76.726960322954881,66.655875948980878,51.549249388019859]
[22061,{"$f":"VLOOKUP($A932,BasinData!$A:$K,8,FALSE)","v":94.150452290415728},{"$f":"VLOOKUP($A932,BasinData!$A:$K,9,FALSE)","v":37.897837750615452},56.252614539800277,{"$f":"VLOOKUP($A932,BasinData!$A:$K,7,FALSE)","v":78.695168370547748},15.455283919867981,27.474783254621777,3,91.33782156342572,85.71256010944569,74.462037201485629,57.586252839545544]
[22062,{"$f":"VLOOKUP($A933,BasinData!$A:$K,8,FALSE)","v":187.99057990525839},{"$f":"VLOOKUP($A933,BasinData!$A:$K,9,FALSE)","v":75.670762301997371},112.31981760326101,{"$f":"VLOOKUP($A933,BasinData!$A:$K,7,FALSE)","v":173.80086734511559},14.189712560142794,12.633311612260684,2,182.37458902509533,171.14260726476923,148.67864374411704,114.98269846313872]
[22063,{"$f":"VLOOKUP($A934,BasinData!$A:$K,8,FALSE)","v":117.94650024490247},{"$f":"VLOOKUP($A934,BasinData!$A:$K,9,FALSE)","v":47.476323488562414},70.470176756340052,{"$f":"VLOOKUP($A934,BasinData!$A:$K,7,FALSE)","v":95.093145233132873},22.853355011769594,32.429825017734935,3,114.42299140708546,107.37597373145147,93.281938380183448,72.140885353281433]
[22064,{"$f":"VLOOKUP($A935,BasinData!$A:$K,8,FALSE)","v":138.10380218279246},{"$f":"VLOOKUP($A935,BasinData!$A:$K,9,FALSE)","v":55.59012580972329},82.513676373069174,{"$f":"VLOOKUP($A935,BasinData!$A:$K,7,FALSE)","v":110.6527630415568},27.451039141235668,33.268471782933602,3,133.97811836413899,125.72675072683209,109.22401545221825,84.4699125402975]
[22065,{"$f":"VLOOKUP($A936,BasinData!$A:$K,8,FALSE)","v":72.339390115464496},{"$f":"VLOOKUP($A936,BasinData!$A:$K,9,FALSE)","v":29.11835687329382},43.221033242170677,{"$f":"VLOOKUP($A936,BasinData!$A:$K,7,FALSE)","v":47.097889474946825},25.241500640517671,58.400965333446933,4,70.178338453355963,65.856235129138895,57.21202848070476,44.245718508053557]
[22066,{"$f":"VLOOKUP($A937,BasinData!$A:$K,8,FALSE)","v":94.080383195448505},{"$f":"VLOOKUP($A937,BasinData!$A:$K,9,FALSE)","v":37.869633242535045},56.21074995291346,{"$f":"VLOOKUP($A937,BasinData!$A:$K,7,FALSE)","v":56.514102429482833},37.566280765965672,66.831132474542926,5,91.269845697802836,85.648770702511484,74.406620711928795,57.543395726054754]
[22067,{"$f":"VLOOKUP($A938,BasinData!$A:$K,8,FALSE)","v":134.21790839954318},{"$f":"VLOOKUP($A938,BasinData!$A:$K,9,FALSE)","v":54.025959429943747},80.191948969599423,{"$f":"VLOOKUP($A938,BasinData!$A:$K,7,FALSE)","v":105.60851915708457},28.609389242458604,35.676136582369828,4,130.2083109510632,122.18911605410327,106.15072626018338,82.093141569303555]
[22068,{"$f":"VLOOKUP($A939,BasinData!$A:$K,8,FALSE)","v":137.69403298334387},{"$f":"VLOOKUP($A939,BasinData!$A:$K,9,FALSE)","v":55.425183780682367},82.268849202661499,{"$f":"VLOOKUP($A939,BasinData!$A:$K,7,FALSE)","v":114.19123758867671},23.50279539466716,28.568280245139029,3,133.58059052321079,125.35370560294464,108.89993576241235,84.219281001613894]
[22070,{"$f":"VLOOKUP($A940,BasinData!$A:$K,8,FALSE)","v":227.7220973300773},{"$f":"VLOOKUP($A940,BasinData!$A:$K,9,FALSE)","v":91.66366052310147},136.05843680697583,{"$f":"VLOOKUP($A940,BasinData!$A:$K,7,FALSE)","v":177.4108719996037},50.311225330473604,36.977659387524362,4,220.9191754897285,207.31333180903093,180.10164444763575,139.284113405543]
[22071,{"$f":"VLOOKUP($A941,BasinData!$A:$K,8,FALSE)","v":140.54226100376178},{"$f":"VLOOKUP($A941,BasinData!$A:$K,9,FALSE)","v":56.571664554471944},83.970596449289843,{"$f":"VLOOKUP($A941,BasinData!$A:$K,7,FALSE)","v":66.838206651161173},73.704054352600608,87.773646334774767,5,136.3437311812973,127.9466715363683,111.15255224651034,85.961373311723378]
[22072,{"$f":"VLOOKUP($A942,BasinData!$A:$K,8,FALSE)","v":56.395512856255728},{"$f":"VLOOKUP($A942,BasinData!$A:$K,9,FALSE)","v":22.700560051443286},33.694952804812445,{"$f":"VLOOKUP($A942,BasinData!$A:$K,7,FALSE)","v":48.847981927319381},7.5475309289363466,22.399588961164472,3,54.710765216015105,51.341269935533859,44.602279374571374,34.493793533127636]
[22080,{"$f":"VLOOKUP($A943,BasinData!$A:$K,8,FALSE)","v":378.62966176504614},{"$f":"VLOOKUP($A943,BasinData!$A:$K,9,FALSE)","v":152.40761079809323},226.22205096695291,{"$f":"VLOOKUP($A943,BasinData!$A:$K,7,FALSE)","v":131.20411085178711},247.42555091325903,109.3728705294974,5,367.31855921669847,344.69635412000321,299.45194392661261,231.58532863652675]
[22084,{"$f":"VLOOKUP($A944,BasinData!$A:$K,8,FALSE)","v":241.15170289178405},{"$f":"VLOOKUP($A944,BasinData!$A:$K,9,FALSE)","v":97.069402080905292},144.08230081087876,{"$f":"VLOOKUP($A944,BasinData!$A:$K,7,FALSE)","v":192.46278243387746},48.68892045790659,33.792436811385507,3,233.94758785124012,219.53935777015224,190.72289760797651,147.49820736471287]
[22090,{"$f":"VLOOKUP($A945,BasinData!$A:$K,8,FALSE)","v":142.83767719647142},{"$f":"VLOOKUP($A945,BasinData!$A:$K,9,FALSE)","v":57.495625176276626},85.342052020194785,{"$f":"VLOOKUP($A945,BasinData!$A:$K,7,FALSE)","v":72.010434702911894},70.827242493559524,82.992195309294218,5,138.57057459546166,130.03636939344221,112.96795898940324,87.365343383344808]
[22094,{"$f":"VLOOKUP($A946,BasinData!$A:$K,8,FALSE)","v":71.033398269231824},{"$f":"VLOOKUP($A946,BasinData!$A:$K,9,FALSE)","v":28.592663518794758},42.440734750437066,{"$f":"VLOOKUP($A946,BasinData!$A:$K,7,FALSE)","v":54.475348134187833},16.558050135043992,39.014522798461854,4,68.911361531709971,64.667288056666266,56.179141106578854,43.446920681447729]
[22101,{"$f":"VLOOKUP($A947,BasinData!$A:$K,8,FALSE)","v":236.86001417895915},{"$f":"VLOOKUP($A947,BasinData!$A:$K,9,FALSE)","v":95.34189341198153},141.51812076697763,{"$f":"VLOOKUP($A947,BasinData!$A:$K,7,FALSE)","v":148.99407903630134},87.865935142657804,62.088116112944292,4,229.78410814061027,215.63229606391249,187.32867191051699,144.8732356804237]
[22104,{"$f":"VLOOKUP($A948,BasinData!$A:$K,8,FALSE)","v":86.542662800340196},{"$f":"VLOOKUP($A948,BasinData!$A:$K,9,FALSE)","v":34.835518189511546},51.707144610828649,{"$f":"VLOOKUP($A948,BasinData!$A:$K,7,FALSE)","v":47.09556321495576},39.447099585384436,76.289456480881213,5,83.957305569798763,78.786591108715896,68.445162186550164,52.933018803301572]
[22127,{"$f":"VLOOKUP($A949,BasinData!$A:$K,8,FALSE)","v":111.30441325306003},{"$f":"VLOOKUP($A949,BasinData!$A:$K,9,FALSE)","v":44.80272257620711},66.501690676852917,{"$f":"VLOOKUP($A949,BasinData!$A:$K,7,FALSE)","v":88.144418368894506},23.159994884165528,34.826174565553977,3,107.97932871921739,101.32915965153209,88.028821516161514,68.078314313105636]
[22130,{"$f":"VLOOKUP($A950,BasinData!$A:$K,8,FALSE)","v":127.95758725830464},{"$f":"VLOOKUP($A950,BasinData!$A:$K,9,FALSE)","v":51.506028520365334},76.451558737939308,{"$f":"VLOOKUP($A950,BasinData!$A:$K,7,FALSE)","v":94.218693026194813},33.738894232109828,44.131074354886643,4,124.13500932140768,116.48985344761374,101.19954170002589,78.264074078644086]
[22131,{"$f":"VLOOKUP($A951,BasinData!$A:$K,8,FALSE)","v":158.61965524488849},{"$f":"VLOOKUP($A951,BasinData!$A:$K,9,FALSE)","v":63.848253643931585},94.771401600956906,{"$f":"VLOOKUP($A951,BasinData!$A:$K,7,FALSE)","v":128.98111330366194},29.638541941226549,31.273719118370924,3,153.88108516484064,144.40394500474497,125.44966468455357,97.018244204266495]
[22132,{"$f":"VLOOKUP($A952,BasinData!$A:$K,8,FALSE)","v":182.64381682871883},{"$f":"VLOOKUP($A952,BasinData!$A:$K,9,FALSE)","v":73.518560643521567},109.12525618519726,{"$f":"VLOOKUP($A952,BasinData!$A:$K,7,FALSE)","v":51.324972638360876},131.31884419035794,120.33771904049028,5,177.18755401945896,166.27502840093925,144.4499771638998,111.71240030834061]
[22133,{"$f":"VLOOKUP($A953,BasinData!$A:$K,8,FALSE)","v":185.00818883075803},{"$f":"VLOOKUP($A953,BasinData!$A:$K,9,FALSE)","v":74.470277648969258},110.53791118178877,{"$f":"VLOOKUP($A953,BasinData!$A:$K,7,FALSE)","v":48.271854164913812},136.73633466584423,123.70084906070819,5,179.48129327166859,168.42750215348971,146.31991991713195,113.15854656259532]
[23001,{"$f":"VLOOKUP($A954,BasinData!$A:$K,8,FALSE)","v":176.42640624604974},{"$f":"VLOOKUP($A954,BasinData!$A:$K,9,FALSE)","v":71.01590227323419},105.41050397281555,{"$f":"VLOOKUP($A954,BasinData!$A:$K,7,FALSE)","v":105.73054825405704},70.695857991992696,67.067185268580573,5,171.15588104740897,160.6148306501274,139.5327298555643,107.90957866371963]
[23002,{"$f":"VLOOKUP($A955,BasinData!$A:$K,8,FALSE)","v":296.94899893847668},{"$f":"VLOOKUP($A955,BasinData!$A:$K,9,FALSE)","v":119.5291653752753},177.41983356320139,{"$f":"VLOOKUP($A955,BasinData!$A:$K,7,FALSE)","v":55.438518604339393},241.5104803341373,136.12372161768781,5,288.07800726031661,270.33602390399648,234.85205719135621,181.62610712239575]
[23003,{"$f":"VLOOKUP($A956,BasinData!$A:$K,8,FALSE)","v":218.1420745454765},{"$f":"VLOOKUP($A956,BasinData!$A:$K,9,FALSE)","v":87.807469285505491},130.334605259971,{"$f":"VLOOKUP($A956,BasinData!$A:$K,7,FALSE)","v":117.46647986522848},100.67559468024803,77.243947974857605,5,211.62534428247795,198.59188375648085,172.52496270448665,133.42458112649535]
[23004,{"$f":"VLOOKUP($A957,BasinData!$A:$K,8,FALSE)","v":205.37618285691391},{"$f":"VLOOKUP($A957,BasinData!$A:$K,9,FALSE)","v":82.668888639469401},122.70729421744451,{"$f":"VLOOKUP($A957,BasinData!$A:$K,7,FALSE)","v":141.16320851923078},64.212974337683136,52.330201515073739,4,199.24081814604168,186.97008872429723,162.42862988080833,125.61644161557498]
[23005,{"$f":"VLOOKUP($A958,BasinData!$A:$K,8,FALSE)","v":199.733091189459},{"$f":"VLOOKUP($A958,BasinData!$A:$K,9,FALSE)","v":80.39740754487643},119.33568364458257,{"$f":"VLOOKUP($A958,BasinData!$A:$K,7,FALSE)","v":139.37887602915629},60.354215160302715,50.575161860266086,4,193.76630700722987,181.83273864277163,157.9656019138551,122.16489682048032]
[23006,{"$f":"VLOOKUP($A959,BasinData!$A:$K,8,FALSE)","v":192.6579883556166},{"$f":"VLOOKUP($A959,BasinData!$A:$K,9,FALSE)","v":77.54950726672584},115.10848108889076,{"$f":"VLOOKUP($A959,BasinData!$A:$K,7,FALSE)","v":135.41893131184423},57.239057043772362,49.726185683546966,4,186.90256430117205,175.39171619228298,152.37001997450483,117.83747564783761]
[23007,{"$f":"VLOOKUP($A960,BasinData!$A:$K,8,FALSE)","v":256.70440180032068},{"$f":"VLOOKUP($A960,BasinData!$A:$K,9,FALSE)","v":103.32974014069278},153.37466165962792,{"$f":"VLOOKUP($A960,BasinData!$A:$K,7,FALSE)","v":106.44216629639061},150.26223550393007,97.970703816380706,5,249.03566871733929,233.69820255137648,203.02327021945092,157.01087172156252]
[23008,{"$f":"VLOOKUP($A961,BasinData!$A:$K,8,FALSE)","v":281.89334145268674},{"$f":"VLOOKUP($A961,BasinData!$A:$K,9,FALSE)","v":113.46889852849151},168.42444292419523,{"$f":"VLOOKUP($A961,BasinData!$A:$K,7,FALSE)","v":74.58657545499662},207.30676599769012,123.08591460860292,5,273.472119306477,256.62967501405745,222.94478642921842,172.41745355195985]
[23009,{"$f":"VLOOKUP($A962,BasinData!$A:$K,8,FALSE)","v":367.20984248307292},{"$f":"VLOOKUP($A962,BasinData!$A:$K,9,FALSE)","v":147.81085690301259},219.39898558006033,{"$f":"VLOOKUP($A962,BasinData!$A:$K,7,FALSE)","v":61.735352935951141},305.47448954712178,139.23240745142456,5,356.23989320406992,334.29999464606385,290.42019753005184,224.6005018560337]
[23010,{"$f":"VLOOKUP($A963,BasinData!$A:$K,8,FALSE)","v":350.41975319771399},{"$f":"VLOOKUP($A963,BasinData!$A:$K,9,FALSE)","v":141.05243924196805},209.36731395574594,{"$f":"VLOOKUP($A963,BasinData!$A:$K,7,FALSE)","v":165.61038072590407},184.80937247180992,88.270403330900621,5,339.95138749992668,319.01465610435207,277.1411933132029,214.33099912647913]
[23011,{"$f":"VLOOKUP($A964,BasinData!$A:$K,8,FALSE)","v":318.25327769416873},{"$f":"VLOOKUP($A964,BasinData!$A:$K,9,FALSE)","v":128.10465365000653},{"$f":"B964-C964","v":190.1486240441622},{"$f":"VLOOKUP($A964,BasinData!$A:$K,7,FALSE)","v":290.13044753537577},{"$f":"B964-E964","v":28.122830158792965},{"$f":"F964/D964*100","v":14.789920411026172},{"$f":"IF($G964<($I$1*100),1,IF($G964<($J$1*100),2,IF($G964<($K$1*100),3,IF($G964<($L$1*100),4,5))))","v":2},{"$f":"B964-(D964*$I$1)","v":308.74584649196061},{"$f":"B964-(D964*$J$1)","v":289.73098408754441},{"$f":"B964-(D964*$K$1)","v":251.70125927871197},{"$f":"B964-(D964*$L$1)","v":194.65667206546328}]
[23012,{"$f":"VLOOKUP($A965,BasinData!$A:$K,8,FALSE)","v":138.57140935988841},{"$f":"VLOOKUP($A965,BasinData!$A:$K,9,FALSE)","v":55.778349025836398},82.793060334052001,{"$f":"VLOOKUP($A965,BasinData!$A:$K,7,FALSE)","v":96.820588804518081},41.750820555370325,50.427922807678371,4,134.43175634318581,126.1524503097806,109.59383824297021,84.755920142754604]
[23013,{"$f":"VLOOKUP($A966,BasinData!$A:$K,8,FALSE)","v":168.28400485070503},{"$f":"VLOOKUP($A966,BasinData!$A:$K,9,FALSE)","v":67.738388469802658},100.54561638090237,{"$f":"VLOOKUP($A966,BasinData!$A:$K,7,FALSE)","v":98.557117412097696},69.726887438607335,69.348510604835539,5,163.2567240316599,153.20216239356967,133.0930391173892,102.92935420311849]
[23014,{"$f":"VLOOKUP($A967,BasinData!$A:$K,8,FALSE)","v":223.6771340836886},{"$f":"VLOOKUP($A967,BasinData!$A:$K,9,FALSE)","v":90.035464831104292},133.64166925258431,{"$f":"VLOOKUP($A967,BasinData!$A:$K,7,FALSE)","v":166.35293532141412},57.324198762274477,42.893955966631239,4,216.99505062105939,203.63088369580095,176.90254984528408,136.81004906950881]
[23015,{"$f":"VLOOKUP($A968,BasinData!$A:$K,8,FALSE)","v":338.23533347306557},{"$f":"VLOOKUP($A968,BasinData!$A:$K,9,FALSE)","v":136.1479151470038},202.08741832606177,{"$f":"VLOOKUP($A968,BasinData!$A:$K,7,FALSE)","v":215.49854443406582},122.73678903899975,60.73450294711953,4,328.13096255676248,307.92222072415632,267.50473705894399,206.87851156112541]
[23016,{"$f":"VLOOKUP($A969,BasinData!$A:$K,8,FALSE)","v":198.707533618334},{"$f":"VLOOKUP($A969,BasinData!$A:$K,9,FALSE)","v":79.98459577935752},118.72293783897648,{"$f":"VLOOKUP($A969,BasinData!$A:$K,7,FALSE)","v":161.49066322341153},37.216870394922466,31.347666316512136,3,192.77138672638517,180.89909294248753,157.15450537469223,121.53762402299928]
[23017,{"$f":"VLOOKUP($A970,BasinData!$A:$K,8,FALSE)","v":216.37541201457194},{"$f":"VLOOKUP($A970,BasinData!$A:$K,9,FALSE)","v":87.096344821123836},129.2790671934481,{"$f":"VLOOKUP($A970,BasinData!$A:$K,7,FALSE)","v":100.2876847116304},116.08772730294153,89.796229059444272,5,209.91145865489952,196.98355193555471,171.12773849686511,132.34401833883067]
[23018,{"$f":"VLOOKUP($A971,BasinData!$A:$K,8,FALSE)","v":178.83544156884116},{"$f":"VLOOKUP($A971,BasinData!$A:$K,9,FALSE)","v":71.98559734721043},106.84984422163073,{"$f":"VLOOKUP($A971,BasinData!$A:$K,7,FALSE)","v":152.36915004252009},26.466291526321072,24.76961170989075,3,173.49294935775961,162.80796493559654,141.43799609127041,109.38304282478119]
[23019,{"$f":"VLOOKUP($A972,BasinData!$A:$K,8,FALSE)","v":213.28471218165112},{"$f":"VLOOKUP($A972,BasinData!$A:$K,9,FALSE)","v":85.852263269156481},127.43244891249464,{"$f":"VLOOKUP($A972,BasinData!$A:$K,7,FALSE)","v":123.78390675625292},89.500805425398198,70.233920943367139,5,206.91308973602639,194.16984484477692,168.683355062278,130.4536203885296]
[23020,{"$f":"VLOOKUP($A973,BasinData!$A:$K,8,FALSE)","v":223.7902901819281},{"$f":"VLOOKUP($A973,BasinData!$A:$K,9,FALSE)","v":90.081012901742824},133.70927728018529,{"$f":"VLOOKUP($A973,BasinData!$A:$K,7,FALSE)","v":119.11644167940116},104.67384850252694,78.284656556167633,5,217.10482631791882,203.73389858990032,176.99204313386326,136.87925994980765]
[23021,{"$f":"VLOOKUP($A974,BasinData!$A:$K,8,FALSE)","v":225.51574427607949},{"$f":"VLOOKUP($A974,BasinData!$A:$K,9,FALSE)","v":90.775549972096769},134.74019430398272,{"$f":"VLOOKUP($A974,BasinData!$A:$K,7,FALSE)","v":107.17243348466089},118.3433107914186,87.830740784318834,5,218.77873456088037,205.30471513048207,178.35667626968552,137.93461797849073]
[23023,{"$f":"VLOOKUP($A975,BasinData!$A:$K,8,FALSE)","v":182.41226296789074},{"$f":"VLOOKUP($A975,BasinData!$A:$K,9,FALSE)","v":73.425354605369762},108.98690836252098,{"$f":"VLOOKUP($A975,BasinData!$A:$K,7,FALSE)","v":83.391500053771807},99.020762914118933,90.855648996619067,5,176.96291754976468,166.0642267135126,144.26684504100839,111.57077253225211]
[23024,{"$f":"VLOOKUP($A976,BasinData!$A:$K,8,FALSE)","v":334.87558655400267},{"$f":"VLOOKUP($A976,BasinData!$A:$K,9,FALSE)","v":134.7955356254586},200.08005092854407,{"$f":"VLOOKUP($A976,BasinData!$A:$K,7,FALSE)","v":174.30379207442431},160.57179447957836,80.253775293632074,5,324.87158400757545,304.86357891472107,264.84756872901227,204.82355345044903]
[23025,{"$f":"VLOOKUP($A977,BasinData!$A:$K,8,FALSE)","v":267.52409966393458},{"$f":"VLOOKUP($A977,BasinData!$A:$K,9,FALSE)","v":107.68493062752235},159.83916903641222,{"$f":"VLOOKUP($A977,BasinData!$A:$K,7,FALSE)","v":123.66696028620814},143.85713937772644,90.001180714944155,5,259.53214121211397,243.54822430847275,211.58039050119032,163.62863979026662]
[23026,{"$f":"VLOOKUP($A978,BasinData!$A:$K,8,FALSE)","v":411.55554650715476},{"$f":"VLOOKUP($A978,BasinData!$A:$K,9,FALSE)","v":165.66107700453145},245.89446950262331,{"$f":"VLOOKUP($A978,BasinData!$A:$K,7,FALSE)","v":71.327545522903392},340.22800098425137,138.36342137846322,5,399.26082303202361,374.67137608176125,325.4924821812366,251.72414133044961]
[23027,{"$f":"VLOOKUP($A979,BasinData!$A:$K,8,FALSE)","v":282.95397922366561},{"$f":"VLOOKUP($A979,BasinData!$A:$K,9,FALSE)","v":113.89583092423554},169.05814829943006,{"$f":"VLOOKUP($A979,BasinData!$A:$K,7,FALSE)","v":133.36596900012307},149.58801022354254,88.48317086650998,5,274.50107180869412,257.59525697875108,223.78362731886509,173.06618282903605]
[23028,{"$f":"VLOOKUP($A980,BasinData!$A:$K,8,FALSE)","v":262.39720570185398},{"$f":"VLOOKUP($A980,BasinData!$A:$K,9,FALSE)","v":105.62123161373312},156.77597408812085,{"$f":"VLOOKUP($A980,BasinData!$A:$K,7,FALSE)","v":191.34486767188193},71.052338029972049,45.320935457900489,4,254.55840699744795,238.88080958863586,207.52561477101167,160.4928225445754]
[23029,{"$f":"VLOOKUP($A981,BasinData!$A:$K,8,FALSE)","v":228.42857563685359},{"$f":"VLOOKUP($A981,BasinData!$A:$K,9,FALSE)","v":91.948035155333201},136.48054048152039,{"$f":"VLOOKUP($A981,BasinData!$A:$K,7,FALSE)","v":149.56184624716616},78.866729389687436,57.786061742894454,4,221.60454861277756,207.95649456462553,180.66038646832146,139.71622432386533]
[23030,{"$f":"VLOOKUP($A982,BasinData!$A:$K,8,FALSE)","v":286.67049564043214},{"$f":"VLOOKUP($A982,BasinData!$A:$K,9,FALSE)","v":115.39181881100276},171.27867682942937,{"$f":"VLOOKUP($A982,BasinData!$A:$K,7,FALSE)","v":84.386099563250781},202.28439607718136,118.10249811693112,5,278.10656179896068,260.97869411601772,226.72295875013185,175.33935570130302]
[23031,{"$f":"VLOOKUP($A983,BasinData!$A:$K,8,FALSE)","v":265.08306388633036},{"$f":"VLOOKUP($A983,BasinData!$A:$K,9,FALSE)","v":106.70235459530386},158.38070929102651,{"$f":"VLOOKUP($A983,BasinData!$A:$K,7,FALSE)","v":50.995171290185056},214.08789259614531,135.17295986012803,5,257.16402842177905,241.32595749267639,209.64981563447108,162.13560284716311]
[23032,{"$f":"VLOOKUP($A984,BasinData!$A:$K,8,FALSE)","v":245.00671889769527},{"$f":"VLOOKUP($A984,BasinData!$A:$K,9,FALSE)","v":98.621139407321948},146.38557949037332,{"$f":"VLOOKUP($A984,BasinData!$A:$K,7,FALSE)","v":163.39083930938347},81.615879588311799,55.75404344638951,4,237.68743992317661,223.04888197413928,193.77176607606461,149.8560922289526]
[23033,{"$f":"VLOOKUP($A985,BasinData!$A:$K,8,FALSE)","v":314.05759101751084},{"$f":"VLOOKUP($A985,BasinData!$A:$K,9,FALSE)","v":126.41578812619653},187.64180289131431,{"$f":"VLOOKUP($A985,BasinData!$A:$K,7,FALSE)","v":216.53503712469151},97.522553892819332,51.972722703643093,4,304.67550087294512,285.91132058381368,248.38296000555084,192.09041913815653]
[23034,{"$f":"VLOOKUP($A986,BasinData!$A:$K,8,FALSE)","v":273.33874884794909},{"$f":"VLOOKUP($A986,BasinData!$A:$K,9,FALSE)","v":110.0254677783456},163.31328106960348,{"$f":"VLOOKUP($A986,BasinData!$A:$K,7,FALSE)","v":184.17043300345759},89.168315844491502,54.599549565407557,4,265.17308479446893,248.84175668750856,216.17910047358788,167.18511615270683]
[23035,{"$f":"VLOOKUP($A987,BasinData!$A:$K,8,FALSE)","v":220.14318640695106},{"$f":"VLOOKUP($A987,BasinData!$A:$K,9,FALSE)","v":88.612965284750047},131.530221122201,{"$f":"VLOOKUP($A987,BasinData!$A:$K,7,FALSE)","v":55.699324233032222},164.44386217391883,125.02363393819486,5,213.56667535084102,200.4136532386209,174.1076090141807,134.64854267752042]
[23036,{"$f":"VLOOKUP($A988,BasinData!$A:$K,8,FALSE)","v":270.09210063885217},{"$f":"VLOOKUP($A988,BasinData!$A:$K,9,FALSE)","v":108.71861322726866},161.37348741158351,{"$f":"VLOOKUP($A988,BasinData!$A:$K,7,FALSE)","v":53.060105540528802},217.03199509832336,134.49049071163881,5,262.023426268273,245.88607752711465,213.61138004479795,165.19933382132288]
[23037,{"$f":"VLOOKUP($A989,BasinData!$A:$K,8,FALSE)","v":215.61617907501673},{"$f":"VLOOKUP($A989,BasinData!$A:$K,9,FALSE)","v":86.790735171268594},128.82544390374812,{"$f":"VLOOKUP($A989,BasinData!$A:$K,7,FALSE)","v":54.78511274937793},160.8310663256388,124.84417786738129,5,209.17490687982934,196.29236248945452,170.52727370870488,131.87964053758043]
[23038,{"$f":"VLOOKUP($A990,BasinData!$A:$K,8,FALSE)","v":294.93201566867214},{"$f":"VLOOKUP($A990,BasinData!$A:$K,9,FALSE)","v":118.71728074970841},176.21473491896373,{"$f":"VLOOKUP($A990,BasinData!$A:$K,7,FALSE)","v":112.35658566617879},182.57543000249336,103.60962724624292,5,286.12127892272395,268.49980543082756,233.25685844703483,180.39243797134571]
[23039,{"$f":"VLOOKUP($A991,BasinData!$A:$K,8,FALSE)","v":339.39440589779048},{"$f":"VLOOKUP($A991,BasinData!$A:$K,9,FALSE)","v":136.61446987536499},202.77993602242549,{"$f":"VLOOKUP($A991,BasinData!$A:$K,7,FALSE)","v":173.61765217709851},165.77675372069197,81.752049523459107,5,329.25540909666921,308.97741549442668,268.42142828994156,207.58744748321391]
[23040,{"$f":"VLOOKUP($A992,BasinData!$A:$K,8,FALSE)","v":288.03056462761856},{"$f":"VLOOKUP($A992,BasinData!$A:$K,9,FALSE)","v":115.93927952470217},172.0912851029164,{"$f":"VLOOKUP($A992,BasinData!$A:$K,7,FALSE)","v":111.29504588224108},176.73551874537748,102.69870356286994,5,279.42600037247274,262.21687186218111,227.79861484159784,176.17122931072288]
[23041,{"$f":"VLOOKUP($A993,BasinData!$A:$K,8,FALSE)","v":175.72541626870358},{"$f":"VLOOKUP($A993,BasinData!$A:$K,9,FALSE)","v":70.73373682654757},104.99167944215601,{"$f":"VLOOKUP($A993,BasinData!$A:$K,7,FALSE)","v":134.56304397301179},41.162372295691796,39.205366096053105,4,170.47583229659577,159.97666435238017,138.97832846394897,107.48082463130217]
[23042,{"$f":"VLOOKUP($A994,BasinData!$A:$K,8,FALSE)","v":218.89580228564009},{"$f":"VLOOKUP($A994,BasinData!$A:$K,9,FALSE)","v":88.110862959247456},130.78493932639265,{"$f":"VLOOKUP($A994,BasinData!$A:$K,7,FALSE)","v":70.382397195294587},148.51340509034549,113.55543371833427,5,212.35655531932045,199.2780613866812,173.12107352140265,133.88559172348488]
[23043,{"$f":"VLOOKUP($A995,BasinData!$A:$K,8,FALSE)","v":301.53586152234021},{"$f":"VLOOKUP($A995,BasinData!$A:$K,9,FALSE)","v":121.37548867759389},180.16037284474632,{"$f":"VLOOKUP($A995,BasinData!$A:$K,7,FALSE)","v":110.98416875656987},190.55169276577033,105.76781661635368,5,292.52784288010292,274.51180559562829,238.47973102667902,184.43161917325511]
[23044,{"$f":"VLOOKUP($A996,BasinData!$A:$K,8,FALSE)","v":241.62005392388676},{"$f":"VLOOKUP($A996,BasinData!$A:$K,9,FALSE)","v":97.257924716677778},144.36212920720897,{"$f":"VLOOKUP($A996,BasinData!$A:$K,7,FALSE)","v":160.12144058229021},81.498613341596553,56.454288800782514,4,234.40194746352631,219.96573454280542,191.09330870136364,147.78466993920091]
[23045,{"$f":"VLOOKUP($A997,BasinData!$A:$K,8,FALSE)","v":103.2724082270188},{"$f":"VLOOKUP($A997,BasinData!$A:$K,9,FALSE)","v":41.569645985665616},61.702762241353184,{"$f":"VLOOKUP($A997,BasinData!$A:$K,7,FALSE)","v":46.508694454132808},56.763713772885993,91.995417564698528,5,100.18727011495115,94.016993890815826,81.676441442545183,63.165612770139226]
[23046,{"$f":"VLOOKUP($A998,BasinData!$A:$K,8,FALSE)","v":276.44188236650274},{"$f":"VLOOKUP($A998,BasinData!$A:$K,9,FALSE)","v":111.27455418997417},165.16732817652857,{"$f":"VLOOKUP($A998,BasinData!$A:$K,7,FALSE)","v":109.15462484418065},167.28725752232208,101.28350404961917,5,268.18351595767632,251.66678314002345,218.63331750471775,169.08311905175918]
[23047,{"$f":"VLOOKUP($A999,BasinData!$A:$K,8,FALSE)","v":260.31054853925832},{"$f":"VLOOKUP($A999,BasinData!$A:$K,9,FALSE)","v":104.78130155853508},155.52924698072326,{"$f":"VLOOKUP($A999,BasinData!$A:$K,7,FALSE)","v":57.945422637615557},202.36512590164276,130.11387236172015,5,252.53408619022215,236.98116149214982,205.87531209600519,159.21653800178819]
[23048,{"$f":"VLOOKUP($A1000,BasinData!$A:$K,8,FALSE)","v":272.29972061547119},{"$f":"VLOOKUP($A1000,BasinData!$A:$K,9,FALSE)","v":109.6072337453184},162.69248687015278,{"$f":"VLOOKUP($A1000,BasinData!$A:$K,7,FALSE)","v":108.94359637177251},163.35612424369867,100.40790904749987,5,264.16509627196353,247.89584758494829,215.35735021091773,166.54960414987187]
[23049,{"$f":"VLOOKUP($A1001,BasinData!$A:$K,8,FALSE)","v":287.69293501429337},{"$f":"VLOOKUP($A1001,BasinData!$A:$K,9,FALSE)","v":115.80337542658768},171.88955958770569,{"$f":"VLOOKUP($A1001,BasinData!$A:$K,7,FALSE)","v":109.23566104057824},178.45727397371513,103.820891973755,5,279.09845703490811,261.90950107613753,227.53158915859638,175.96472128228467]
[23050,{"$f":"VLOOKUP($A1002,BasinData!$A:$K,8,FALSE)","v":172.41189354177513},{"$f":"VLOOKUP($A1002,BasinData!$A:$K,9,FALSE)","v":69.399963662072878},103.01192987970225,{"$f":"VLOOKUP($A1002,BasinData!$A:$K,7,FALSE)","v":93.956137370183455},78.455756171591673,76.161815687962189,5,167.26129704779001,156.9601040598198,136.35771808387935,105.45413911996866]
[23051,{"$f":"VLOOKUP($A1003,BasinData!$A:$K,8,FALSE)","v":235.63421951770115},{"$f":"VLOOKUP($A1003,BasinData!$A:$K,9,FALSE)","v":94.848481367134085},140.78573815056706,{"$f":"VLOOKUP($A1003,BasinData!$A:$K,7,FALSE)","v":199.98008518826114},35.654134329440012,25.325103805123177,3,228.5949326101728,214.5163587951161,186.35921116500271,144.12348971983255]
[23052,{"$f":"VLOOKUP($A1004,BasinData!$A:$K,8,FALSE)","v":157.06899718808089},{"$f":"VLOOKUP($A1004,BasinData!$A:$K,9,FALSE)","v":63.224076212873598},93.844920975207287,{"$f":"VLOOKUP($A1004,BasinData!$A:$K,7,FALSE)","v":119.68736035014675},37.381636837934138,39.833415010078085,4,152.37675113932053,142.9922590417998,124.22327484675833,96.069798554196154]
[23053,{"$f":"VLOOKUP($A1005,BasinData!$A:$K,8,FALSE)","v":264.55347820544586},{"$f":"VLOOKUP($A1005,BasinData!$A:$K,9,FALSE)","v":106.4891835300465},158.06429467539937,{"$f":"VLOOKUP($A1005,BasinData!$A:$K,7,FALSE)","v":92.91496848309805},171.63850972234781,108.58778073493728,5,256.65026347167588,240.84383400413594,209.23097506905609,161.81168666643626]
[23054,{"$f":"VLOOKUP($A1006,BasinData!$A:$K,8,FALSE)","v":190.73224849321934},{"$f":"VLOOKUP($A1006,BasinData!$A:$K,9,FALSE)","v":76.774350322923738},113.95789817029561,{"$f":"VLOOKUP($A1006,BasinData!$A:$K,7,FALSE)","v":141.28965503470295},49.442593458516399,43.386719351940592,4,185.03435358470458,173.63856376767501,150.84698413361588,116.65961468252719]
[23055,{"$f":"VLOOKUP($A1007,BasinData!$A:$K,8,FALSE)","v":237.34768452092882},{"$f":"VLOOKUP($A1007,BasinData!$A:$K,9,FALSE)","v":95.538192537967092},141.80949198296173,{"$f":"VLOOKUP($A1007,BasinData!$A:$K,7,FALSE)","v":133.71057318817381},103.63711133275501,73.0819283558303,5,230.25720992178074,216.07626072348455,187.71436232689223,145.17151473200369]
[23056,{"$f":"VLOOKUP($A1008,BasinData!$A:$K,8,FALSE)","v":231.91049768953897},{"$f":"VLOOKUP($A1008,BasinData!$A:$K,9,FALSE)","v":93.349593127735986},138.560904561803,{"$f":"VLOOKUP($A1008,BasinData!$A:$K,7,FALSE)","v":167.21276018825105},64.697737501287918,46.692635058852744,4,224.98245246144882,211.12636200526853,183.41418109290794,141.845909724367]
[23057,{"$f":"VLOOKUP($A1009,BasinData!$A:$K,8,FALSE)","v":261.3572138051116},{"$f":"VLOOKUP($A1009,BasinData!$A:$K,9,FALSE)","v":105.20260968249563},156.15460412261598,{"$f":"VLOOKUP($A1009,BasinData!$A:$K,7,FALSE)","v":92.759246683312824},168.59796712179877,107.96861742828408,5,253.5494835989808,237.9340231867192,206.70310236219601,159.85672112541121]
[23058,{"$f":"VLOOKUP($A1010,BasinData!$A:$K,8,FALSE)","v":201.5047388305417},{"$f":"VLOOKUP($A1010,BasinData!$A:$K,9,FALSE)","v":81.110538636864263},120.39420019367743,{"$f":"VLOOKUP($A1010,BasinData!$A:$K,7,FALSE)","v":149.37140056607197},52.133338264469728,43.302200754357884,4,195.48502882085782,183.4456088014901,159.36676876275459,123.24850870465136]
[23059,{"$f":"VLOOKUP($A1011,BasinData!$A:$K,8,FALSE)","v":197.98362081765225},{"$f":"VLOOKUP($A1011,BasinData!$A:$K,9,FALSE)","v":79.693203340995069},118.29041747665718,{"$f":"VLOOKUP($A1011,BasinData!$A:$K,7,FALSE)","v":140.42514172574113},57.558479091911124,48.658615228295574,4,192.0690999438194,180.24005819615368,156.58197470082223,121.09484945782508]
[23060,{"$f":"VLOOKUP($A1012,BasinData!$A:$K,8,FALSE)","v":184.78885567629138},{"$f":"VLOOKUP($A1012,BasinData!$A:$K,9,FALSE)","v":74.381990741162724},110.40686493512865,{"$f":"VLOOKUP($A1012,BasinData!$A:$K,7,FALSE)","v":140.49216830002231},44.296687376269062,40.121316190162901,4,179.26851242953495,168.22782593602207,146.14645294899634,113.02439346845775]
[23061,{"$f":"VLOOKUP($A1013,BasinData!$A:$K,8,FALSE)","v":199.34721635033299},{"$f":"VLOOKUP($A1013,BasinData!$A:$K,9,FALSE)","v":80.242083574683122},119.10513277564986,{"$f":"VLOOKUP($A1013,BasinData!$A:$K,7,FALSE)","v":150.67237355285604},48.674842797476941,40.867124416176416,4,193.3919597115505,181.4814464339855,157.66041987885552,121.92888004616057]
[23062,{"$f":"VLOOKUP($A1014,BasinData!$A:$K,8,FALSE)","v":207.15101918260348},{"$f":"VLOOKUP($A1014,BasinData!$A:$K,9,FALSE)","v":83.383303254254301},123.76771592834918,{"$f":"VLOOKUP($A1014,BasinData!$A:$K,7,FALSE)","v":105.57204042124944},101.57897876135404,82.072273855453147,5,200.96263338618601,188.58586179335111,163.83231860768126,126.7020038291765]
[23063,{"$f":"VLOOKUP($A1015,BasinData!$A:$K,8,FALSE)","v":140.44667068995523},{"$f":"VLOOKUP($A1015,BasinData!$A:$K,9,FALSE)","v":56.533187137581827},83.913483552373407,{"$f":"VLOOKUP($A1015,BasinData!$A:$K,7,FALSE)","v":85.863739248561629},54.582931441393598,65.046675612419818,5,136.25099651233654,127.85964815709922,111.07695144662453,85.902906380912512]
[23064,{"$f":"VLOOKUP($A1016,BasinData!$A:$K,8,FALSE)","v":199.02766276533202},{"$f":"VLOOKUP($A1016,BasinData!$A:$K,9,FALSE)","v":80.113455515843441},118.91420724948858,{"$f":"VLOOKUP($A1016,BasinData!$A:$K,7,FALSE)","v":139.79188275108038},59.235780014251645,49.813879589653823,4,193.08195240285761,181.19053167790872,157.40769022801101,121.73342805316445]
[23065,{"$f":"VLOOKUP($A1017,BasinData!$A:$K,8,FALSE)","v":127.95750846534371},{"$f":"VLOOKUP($A1017,BasinData!$A:$K,9,FALSE)","v":51.505996804289872},76.451511661053843,{"$f":"VLOOKUP($A1017,BasinData!$A:$K,7,FALSE)","v":86.365996315246619},41.591512150097088,54.402471902049733,4,124.13493288229101,116.48978171618563,101.19947938397486,78.264025885658711]
[23066,{"$f":"VLOOKUP($A1018,BasinData!$A:$K,8,FALSE)","v":298.6217312230051},{"$f":"VLOOKUP($A1018,BasinData!$A:$K,9,FALSE)","v":120.20248064012111},178.41925058288399,{"$f":"VLOOKUP($A1018,BasinData!$A:$K,7,FALSE)","v":192.51248195450157},106.10924926850353,59.471861316450756,4,289.70076869386088,271.8588436355725,236.17499351899571,182.6492183441305]
[23067,{"$f":"VLOOKUP($A1019,BasinData!$A:$K,8,FALSE)","v":197.72741260584323},{"$f":"VLOOKUP($A1019,BasinData!$A:$K,9,FALSE)","v":79.5900733293456},118.13733927649763,{"$f":"VLOOKUP($A1019,BasinData!$A:$K,7,FALSE)","v":127.88682543072572},69.840587175117506,59.118131153823661,4,191.82054564201835,180.00681171436858,156.37934385906905,120.93814207611976]
[23068,{"$f":"VLOOKUP($A1020,BasinData!$A:$K,8,FALSE)","v":196.80707379591712},{"$f":"VLOOKUP($A1020,BasinData!$A:$K,9,FALSE)","v":79.219614664032051},117.58745913188507,{"$f":"VLOOKUP($A1020,BasinData!$A:$K,7,FALSE)","v":158.2390863167694},38.567987479147718,32.799405450108587,3,190.92770083932285,179.16895492613435,155.65146309975734,120.37522536019182]
[23069,{"$f":"VLOOKUP($A1021,BasinData!$A:$K,8,FALSE)","v":149.15608137356014},{"$f":"VLOOKUP($A1021,BasinData!$A:$K,9,FALSE)","v":60.038935914790152},89.117145458769983,{"$f":"VLOOKUP($A1021,BasinData!$A:$K,7,FALSE)","v":134.1776583921401},14.978422981420039,16.807565933931087,3,144.70022410062165,135.78850955474465,117.96508046299064,91.229936825359658]
[23070,{"$f":"VLOOKUP($A1022,BasinData!$A:$K,8,FALSE)","v":188.70640326499517},{"$f":"VLOOKUP($A1022,BasinData!$A:$K,9,FALSE)","v":75.958898544420563},112.74750472057461,{"$f":"VLOOKUP($A1022,BasinData!$A:$K,7,FALSE)","v":109.99056547681602},78.715837788179158,69.816035382124767,5,183.06902802896644,171.79427755690898,149.24477661279406,115.42052519662167]
[23071,{"$f":"VLOOKUP($A1023,BasinData!$A:$K,8,FALSE)","v":256.16900458532876},{"$f":"VLOOKUP($A1023,BasinData!$A:$K,9,FALSE)","v":103.11422979217838},153.05477479315039,{"$f":"VLOOKUP($A1023,BasinData!$A:$K,7,FALSE)","v":92.52625748110728},163.64274710422148,106.9177667442133,5,248.51626584567126,233.21078836635621,202.59983340772612,156.68340096978102]
[23072,{"$f":"VLOOKUP($A1024,BasinData!$A:$K,8,FALSE)","v":208.06582687734084},{"$f":"VLOOKUP($A1024,BasinData!$A:$K,9,FALSE)","v":83.751535511718444},124.3142913656224,{"$f":"VLOOKUP($A1024,BasinData!$A:$K,7,FALSE)","v":133.79600543340672},74.26982144393412,59.743590723208307,4,201.85011230905971,189.41868317249748,164.55582489937299,127.26153748968628]
[23073,{"$f":"VLOOKUP($A1025,BasinData!$A:$K,8,FALSE)","v":144.42132881352089},{"$f":"VLOOKUP($A1025,BasinData!$A:$K,9,FALSE)","v":58.133083314569085},86.288245498951795,{"$f":"VLOOKUP($A1025,BasinData!$A:$K,7,FALSE)","v":138.55062707604128},5.8707017374796067,6.8035938192194694,2,140.1069165385733,131.47809198867813,114.22044288888776,88.333969239202219]
[23074,{"$f":"VLOOKUP($A1026,BasinData!$A:$K,8,FALSE)","v":110.01208895101001},{"$f":"VLOOKUP($A1026,BasinData!$A:$K,9,FALSE)","v":44.282530739324642},65.729558211685372,{"$f":"VLOOKUP($A1026,BasinData!$A:$K,7,FALSE)","v":104.30079465603357},5.7112942949764403,8.689080605993011,2,106.72561104042575,100.15265521925721,87.006743576920144,67.287876113414512]
[23075,{"$f":"VLOOKUP($A1027,BasinData!$A:$K,8,FALSE)","v":186.16794891600853},{"$f":"VLOOKUP($A1027,BasinData!$A:$K,9,FALSE)","v":74.937109177349896},111.23083973865863,{"$f":"VLOOKUP($A1027,BasinData!$A:$K,7,FALSE)","v":125.21212537229883},60.955823543709698,54.801189748210014,4,180.6064069290756,169.48332295520973,147.23715500747801,113.86790308588041]
[23076,{"$f":"VLOOKUP($A1028,BasinData!$A:$K,8,FALSE)","v":238.12349328415755},{"$f":"VLOOKUP($A1028,BasinData!$A:$K,9,FALSE)","v":95.850474358384233},{"$f":"B1028-C1028","v":142.27301892577333},{"$f":"VLOOKUP($A1028,BasinData!$A:$K,7,FALSE)","v":101.22624452941749},{"$f":"B1028-E1028","v":136.89724875474008},{"$f":"F1028/D1028*100","v":96.221511139903555},{"$f":"IF($G1028<($I$1*100),1,IF($G1028<($J$1*100),2,IF($G1028<($K$1*100),3,IF($G1028<($L$1*100),4,5))))","v":5},{"$f":"B1028-(D1028*$I$1)","v":231.00984233786889},{"$f":"B1028-(D1028*$J$1)","v":216.78254044529154},{"$f":"B1028-(D1028*$K$1)","v":188.32793666013688},{"$f":"B1028-(D1028*$L$1)","v":145.64603098240488}]
[23077,{"$f":"VLOOKUP($A1029,BasinData!$A:$K,8,FALSE)","v":231.13298048398002},{"$f":"VLOOKUP($A1029,BasinData!$A:$K,9,FALSE)","v":93.036623617895572},138.09635686608445,{"$f":"VLOOKUP($A1029,BasinData!$A:$K,7,FALSE)","v":106.35183171456949},124.78114876941054,90.358030871454474,5,224.22816264067581,210.41852695406735,182.79925558085046,141.37034852102511]
[23078,{"$f":"VLOOKUP($A1030,BasinData!$A:$K,8,FALSE)","v":215.13046819231417},{"$f":"VLOOKUP($A1030,BasinData!$A:$K,9,FALSE)","v":86.595224775104057},128.5352434172101,{"$f":"VLOOKUP($A1030,BasinData!$A:$K,7,FALSE)","v":170.55574413282932},44.574724059484851,34.678989882020609,3,208.70370602145366,195.85018167973266,170.14313299629063,131.58255997112761]
[23079,{"$f":"VLOOKUP($A1031,BasinData!$A:$K,8,FALSE)","v":229.19531670612966},{"$f":"VLOOKUP($A1031,BasinData!$A:$K,9,FALSE)","v":92.256667009278274},136.93864969685137,{"$f":"VLOOKUP($A1031,BasinData!$A:$K,7,FALSE)","v":108.47551168461578},120.71980502151388,88.156123409101781,5,222.34838422128709,208.65451925160195,181.26678931223168,140.18519440317627]
[23080,{"$f":"VLOOKUP($A1032,BasinData!$A:$K,8,FALSE)","v":227.44125296446003},{"$f":"VLOOKUP($A1032,BasinData!$A:$K,9,FALSE)","v":91.550613862757174},135.89063910170285,{"$f":"VLOOKUP($A1032,BasinData!$A:$K,7,FALSE)","v":106.67223536965972},120.76901759480032,88.872212532913878,5,220.64672100937489,207.05765709920462,179.87952927886403,139.1123375483532]
[23081,{"$f":"VLOOKUP($A1033,BasinData!$A:$K,8,FALSE)","v":167.69104152154165},{"$f":"VLOOKUP($A1033,BasinData!$A:$K,9,FALSE)","v":67.499706365850784},100.19133515569087,{"$f":"VLOOKUP($A1033,BasinData!$A:$K,7,FALSE)","v":127.33711565312205},40.353925868419594,40.276862071667374,4,162.68147476375711,152.66234124818803,132.62407421704984,102.56667367034258]
[23082,{"$f":"VLOOKUP($A1034,BasinData!$A:$K,8,FALSE)","v":153.3392222754764},{"$f":"VLOOKUP($A1034,BasinData!$A:$K,9,FALSE)","v":61.722751460357358},91.616470815119044,{"$f":"VLOOKUP($A1034,BasinData!$A:$K,7,FALSE)","v":54.50618380650748},98.833038468968923,107.87693259699212,5,148.75839873472046,139.59675165320854,121.27345749018474,93.788516245649021]
[23083,{"$f":"VLOOKUP($A1035,BasinData!$A:$K,8,FALSE)","v":131.58222193036033},{"$f":"VLOOKUP($A1035,BasinData!$A:$K,9,FALSE)","v":52.96503177913997},78.61719015122037,{"$f":"VLOOKUP($A1035,BasinData!$A:$K,7,FALSE)","v":72.943487480236215},58.638734450124119,74.587675211149573,5,127.65136242279931,119.78964340767727,104.06620537743321,80.48104833206709]
[23084,{"$f":"VLOOKUP($A1036,BasinData!$A:$K,8,FALSE)","v":250.45425403024353},{"$f":"VLOOKUP($A1036,BasinData!$A:$K,9,FALSE)","v":100.81390425944691},149.6403497707966,{"$f":"VLOOKUP($A1036,BasinData!$A:$K,7,FALSE)","v":174.42262263162905},76.031631398614479,50.80957877676159,4,242.97223654170369,228.00820156462404,198.08013161046472,153.18802667922574]
[23085,{"$f":"VLOOKUP($A1037,BasinData!$A:$K,8,FALSE)","v":183.36491706618105},{"$f":"VLOOKUP($A1037,BasinData!$A:$K,9,FALSE)","v":73.808820957056525},109.55609610912452,{"$f":"VLOOKUP($A1037,BasinData!$A:$K,7,FALSE)","v":98.404299929337938},84.960617136843112,77.549876414195325,5,177.88711226072482,166.93150264981239,145.02028342798747,112.15345459525011]
[23086,{"$f":"VLOOKUP($A1038,BasinData!$A:$K,8,FALSE)","v":146.95111356566628},{"$f":"VLOOKUP($A1038,BasinData!$A:$K,9,FALSE)","v":59.151382958898523},87.799730606767753,{"$f":"VLOOKUP($A1038,BasinData!$A:$K,7,FALSE)","v":62.216266336250534},84.734847229415749,96.509233734350701,5,142.5611270353279,133.78115397465112,116.22120785329756,89.881288671267242]
[23087,{"$f":"VLOOKUP($A1039,BasinData!$A:$K,8,FALSE)","v":162.13374777657785},{"$f":"VLOOKUP($A1039,BasinData!$A:$K,9,FALSE)","v":65.26276101343224},96.870986763145609,{"$f":"VLOOKUP($A1039,BasinData!$A:$K,7,FALSE)","v":86.029926863941739},76.10382091263611,78.562037464028052,5,157.29019843842056,147.60309976210601,128.22890240947689,99.167606380533201]
[23088,{"$f":"VLOOKUP($A1040,BasinData!$A:$K,8,FALSE)","v":212.38030140824853},{"$f":"VLOOKUP($A1040,BasinData!$A:$K,9,FALSE)","v":85.488216024384954},126.89208538386357,{"$f":"VLOOKUP($A1040,BasinData!$A:$K,7,FALSE)","v":113.56262932249392},98.817672085754609,77.875362980141318,5,206.03569713905534,193.34648860066898,167.96807152389627,129.9004459087372]
[23089,{"$f":"VLOOKUP($A1041,BasinData!$A:$K,8,FALSE)","v":188.37568880980723},{"$f":"VLOOKUP($A1041,BasinData!$A:$K,9,FALSE)","v":75.825777964969333},112.5499108448379,{"$f":"VLOOKUP($A1041,BasinData!$A:$K,7,FALSE)","v":159.02529758891663},29.3503912208906,26.07766723276508,3,182.74819326756534,171.49320218308154,148.98322001411395,115.21824676066259]
[23090,{"$f":"VLOOKUP($A1042,BasinData!$A:$K,8,FALSE)","v":243.70713839930153},{"$f":"VLOOKUP($A1042,BasinData!$A:$K,9,FALSE)","v":98.098026775636754},145.60911162366477,{"$f":"VLOOKUP($A1042,BasinData!$A:$K,7,FALSE)","v":215.85361774391842},27.853520655383107,19.128968197657954,3,236.42668281811828,221.86577165575181,192.74394933101885,149.06121584391943]
[23091,{"$f":"VLOOKUP($A1043,BasinData!$A:$K,8,FALSE)","v":163.71285877886743},{"$f":"VLOOKUP($A1043,BasinData!$A:$K,9,FALSE)","v":65.898391444291832},97.814467334575596,{"$f":"VLOOKUP($A1043,BasinData!$A:$K,7,FALSE)","v":125.97264118897512},37.74021758989231,38.58347197332418,4,158.82213541213864,149.04068867868108,129.47779521176597,100.13345501139329]
[23092,{"$f":"VLOOKUP($A1044,BasinData!$A:$K,8,FALSE)","v":165.42057743777076},{"$f":"VLOOKUP($A1044,BasinData!$A:$K,9,FALSE)","v":66.585789572334662},98.834787865436098,{"$f":"VLOOKUP($A1044,BasinData!$A:$K,7,FALSE)","v":113.99610793245225},51.424469505318513,52.030737977940625,4,160.47883804449896,150.59535925795535,130.82840168486814,101.1779653252373]
[23093,{"$f":"VLOOKUP($A1045,BasinData!$A:$K,8,FALSE)","v":161.39297059976928},{"$f":"VLOOKUP($A1045,BasinData!$A:$K,9,FALSE)","v":64.964580255155553},96.428390344613732,{"$f":"VLOOKUP($A1045,BasinData!$A:$K,7,FALSE)","v":122.34717904045016},39.045791559319127,40.492008027696102,4,156.5715510825386,146.92871204807722,127.64303397915448,98.714516875770357]
[23094,{"$f":"VLOOKUP($A1046,BasinData!$A:$K,8,FALSE)","v":230.49016677143169},{"$f":"VLOOKUP($A1046,BasinData!$A:$K,9,FALSE)","v":92.77787552705388},137.71229124437781,{"$f":"VLOOKUP($A1046,BasinData!$A:$K,7,FALSE)","v":191.4492089693004},39.040957802131288,28.349653795862729,3,223.60455220921278,209.83332308477503,182.29086483589947,140.9771774625861]
[23095,{"$f":"VLOOKUP($A1047,BasinData!$A:$K,8,FALSE)","v":207.38898932599869},{"$f":"VLOOKUP($A1047,BasinData!$A:$K,9,FALSE)","v":83.479092001567622},123.90989732443107,{"$f":"VLOOKUP($A1047,BasinData!$A:$K,7,FALSE)","v":109.81125007061313},97.577739255385566,78.748946906072817,5,201.19349445977713,188.80250472733402,164.02052526244782,126.8475560651185]
[23096,{"$f":"VLOOKUP($A1048,BasinData!$A:$K,8,FALSE)","v":276.01383468296842},{"$f":"VLOOKUP($A1048,BasinData!$A:$K,9,FALSE)","v":111.10225462831012},164.91158005465832,{"$f":"VLOOKUP($A1048,BasinData!$A:$K,7,FALSE)","v":53.877574097432223},222.13626058553621,134.7002196643264,5,267.76825568023548,251.27709767476966,218.29478166383802,168.82130764744051]
[24001,{"$f":"VLOOKUP($A1049,BasinData!$A:$K,8,FALSE)","v":203.95293140985984},{"$f":"VLOOKUP($A1049,BasinData!$A:$K,9,FALSE)","v":82.095995455139203},121.85693595472064,{"$f":"VLOOKUP($A1049,BasinData!$A:$K,7,FALSE)","v":62.093876484302612},141.85905492555725,116.41442796351696,5,197.86008461212381,185.67439101665175,161.30300382570761,124.74592303929143]
[24002,{"$f":"VLOOKUP($A1050,BasinData!$A:$K,8,FALSE)","v":162.41325910253713},{"$f":"VLOOKUP($A1050,BasinData!$A:$K,9,FALSE)","v":65.375271093022604},97.037988009514521,{"$f":"VLOOKUP($A1050,BasinData!$A:$K,7,FALSE)","v":72.496839727186213},89.916419375350912,92.66105081087899,5,157.5613597020614,147.85756090110993,128.44996329920704,99.338566896352688]
[24004,{"$f":"VLOOKUP($A1051,BasinData!$A:$K,8,FALSE)","v":222.57161370675223},{"$f":"VLOOKUP($A1051,BasinData!$A:$K,9,FALSE)","v":89.590466099224599},132.98114760752765,{"$f":"VLOOKUP($A1051,BasinData!$A:$K,7,FALSE)","v":124.41071851921971},98.160895187532518,73.815647521134736,5,215.92255632637585,202.62444156562307,176.02821204411757,136.13386776185928]
[24005,{"$f":"VLOOKUP($A1052,BasinData!$A:$K,8,FALSE)","v":208.94100770572911},{"$f":"VLOOKUP($A1052,BasinData!$A:$K,9,FALSE)","v":84.103816995554553},124.83719071017455,{"$f":"VLOOKUP($A1052,BasinData!$A:$K,7,FALSE)","v":63.347631020033852},145.59337668569526,116.62660450579094,5,202.69914817022038,190.21542909920294,165.24799095716801,127.79683374411565]
[24006,{"$f":"VLOOKUP($A1053,BasinData!$A:$K,8,FALSE)","v":312.86379535723034},{"$f":"VLOOKUP($A1053,BasinData!$A:$K,9,FALSE)","v":125.9352564543874},186.92853890284294,{"$f":"VLOOKUP($A1053,BasinData!$A:$K,7,FALSE)","v":49.029001574258615},263.8347937829717,141.14206173734723,5,303.51736841208822,284.82451452180391,247.43880674123531,191.36024507038243]
[24007,{"$f":"VLOOKUP($A1054,BasinData!$A:$K,8,FALSE)","v":338.45587317875442},{"$f":"VLOOKUP($A1054,BasinData!$A:$K,9,FALSE)","v":136.23668772090483},202.21918545784959,{"$f":"VLOOKUP($A1054,BasinData!$A:$K,7,FALSE)","v":97.746899157178419},240.70897402157601,119.03369775552241,5,328.34491390586192,308.12299536007697,267.67915826850708,207.01340263115219]
[24008,{"$f":"VLOOKUP($A1055,BasinData!$A:$K,8,FALSE)","v":212.57794162905168},{"$f":"VLOOKUP($A1055,BasinData!$A:$K,9,FALSE)","v":85.567771000901573},127.01017062815011,{"$f":"VLOOKUP($A1055,BasinData!$A:$K,7,FALSE)","v":91.548525107548983},121.0294165215027,95.291121902231453,5,206.22743309764417,193.52641603482917,168.12438190919914,130.02133072075412]
[24009,{"$f":"VLOOKUP($A1056,BasinData!$A:$K,8,FALSE)","v":223.44484210038488},{"$f":"VLOOKUP($A1056,BasinData!$A:$K,9,FALSE)","v":89.941961680775719},133.50288041960914,{"$f":"VLOOKUP($A1056,BasinData!$A:$K,7,FALSE)","v":59.715051041864818},163.72979105852005,122.64139211371736,5,216.76969807940441,203.4194100374435,176.71883395352168,136.66796982763893]
[24010,{"$f":"VLOOKUP($A1057,BasinData!$A:$K,8,FALSE)","v":165.74176786221264},{"$f":"VLOOKUP($A1057,BasinData!$A:$K,9,FALSE)","v":66.715076498700157},99.026691363512484,{"$f":"VLOOKUP($A1057,BasinData!$A:$K,7,FALSE)","v":97.603646243051358},68.138121619161282,68.807834212127943,5,160.79043329403703,150.88776415768578,131.08242588498328,101.37441847592952]
[24011,{"$f":"VLOOKUP($A1058,BasinData!$A:$K,8,FALSE)","v":294.89196133312964},{"$f":"VLOOKUP($A1058,BasinData!$A:$K,9,FALSE)","v":118.70115790937498},176.19080342375466,{"$f":"VLOOKUP($A1058,BasinData!$A:$K,7,FALSE)","v":62.709533230141325},232.18242810298833,131.77897120122032,5,286.08242116194191,268.46334081956644,233.2251801348155,180.3679391076891]
[24012,{"$f":"VLOOKUP($A1059,BasinData!$A:$K,8,FALSE)","v":243.86931821909266},{"$f":"VLOOKUP($A1059,BasinData!$A:$K,9,FALSE)","v":98.163308081752106},145.70601013734057,{"$f":"VLOOKUP($A1059,BasinData!$A:$K,7,FALSE)","v":72.603084035001388},171.26623418409127,117.54232651258378,5,236.58401771222563,222.01341669849157,192.87221467102347,149.16041162982128]
[24013,{"$f":"VLOOKUP($A1060,BasinData!$A:$K,8,FALSE)","v":190.1661922323824},{"$f":"VLOOKUP($A1060,BasinData!$A:$K,9,FALSE)","v":76.546498965770965},113.61969326661143,{"$f":"VLOOKUP($A1060,BasinData!$A:$K,7,FALSE)","v":106.01662135438164},84.149570878000759,74.06248728426128,5,184.48520756905182,173.1232382423907,150.39929958906839,116.31339160908496]
[24014,{"$f":"VLOOKUP($A1061,BasinData!$A:$K,8,FALSE)","v":211.61230799059913},{"$f":"VLOOKUP($A1061,BasinData!$A:$K,9,FALSE)","v":85.179080069882687},126.43322792071645,{"$f":"VLOOKUP($A1061,BasinData!$A:$K,7,FALSE)","v":101.35654903892819},110.25575895167094,87.204733095013566,5,205.2906465945633,192.64732380249166,167.36067821834837,129.43070984213344]
[24015,{"$f":"VLOOKUP($A1062,BasinData!$A:$K,8,FALSE)","v":204.87034534924902},{"$f":"VLOOKUP($A1062,BasinData!$A:$K,9,FALSE)","v":82.465276789209469},122.40506856003955,{"$f":"VLOOKUP($A1062,BasinData!$A:$K,7,FALSE)","v":93.342647164947635},111.52769818430139,91.113627479892443,5,198.75009192124705,186.5095850652431,162.02857135323518,125.30705078522331]
[24016,{"$f":"VLOOKUP($A1063,BasinData!$A:$K,8,FALSE)","v":201.77779442747664},{"$f":"VLOOKUP($A1063,BasinData!$A:$K,9,FALSE)","v":81.220450129138541},120.55734429833809,{"$f":"VLOOKUP($A1063,BasinData!$A:$K,7,FALSE)","v":130.63698789906974},71.140806528406898,59.009931698858423,4,195.74992721255973,183.69419278272591,159.5827239230583,123.41552063355687]
[24017,{"$f":"VLOOKUP($A1064,BasinData!$A:$K,8,FALSE)","v":192.87644081314929},{"$f":"VLOOKUP($A1064,BasinData!$A:$K,9,FALSE)","v":77.637439672682419},115.23900114046687,{"$f":"VLOOKUP($A1064,BasinData!$A:$K,7,FALSE)","v":162.2696964281879},30.606744384961388,26.559362786956374,3,187.11449075612595,175.59059064207926,152.54279041398587,117.97109007184582]
[24018,{"$f":"VLOOKUP($A1065,BasinData!$A:$K,8,FALSE)","v":87.915420266445864},{"$f":"VLOOKUP($A1065,BasinData!$A:$K,9,FALSE)","v":35.388086323342094},52.52733394310377,{"$f":"VLOOKUP($A1065,BasinData!$A:$K,7,FALSE)","v":59.279130431433991},28.636289835011873,54.516929920772206,4,85.289053569290672,80.036320174980304,69.530853386359553,53.772653203428412]
[24019,{"$f":"VLOOKUP($A1066,BasinData!$A:$K,8,FALSE)","v":130.80137378052271},{"$f":"VLOOKUP($A1066,BasinData!$A:$K,9,FALSE)","v":52.650721483538476},78.150652296984234,{"$f":"VLOOKUP($A1066,BasinData!$A:$K,7,FALSE)","v":41.014824318050273},89.786549462472436,114.88905955803163,5,126.89384116567349,119.07877593597507,103.44864547657824,80.003449787482964]
[24020,{"$f":"VLOOKUP($A1067,BasinData!$A:$K,8,FALSE)","v":222.52266551053521},{"$f":"VLOOKUP($A1067,BasinData!$A:$K,9,FALSE)","v":89.570763264524501},132.95190224601072,{"$f":"VLOOKUP($A1067,BasinData!$A:$K,7,FALSE)","v":76.528057481040122},145.99460802949508,109.81009339704705,5,215.87507039823467,202.5798801736336,175.98949972443145,136.10392905062824]
[24021,{"$f":"VLOOKUP($A1068,BasinData!$A:$K,8,FALSE)","v":138.78488260529866},{"$f":"VLOOKUP($A1068,BasinData!$A:$K,9,FALSE)","v":55.864277178297094},82.920605427001561,{"$f":"VLOOKUP($A1068,BasinData!$A:$K,7,FALSE)","v":114.09929498237265},24.685587622926008,29.77014880174476,3,134.63885233394859,126.34679179124842,109.76267070584812,84.886489077747655]
[24022,{"$f":"VLOOKUP($A1069,BasinData!$A:$K,8,FALSE)","v":127.74484053891099},{"$f":"VLOOKUP($A1069,BasinData!$A:$K,9,FALSE)","v":51.4203928122257},76.324447726685293,{"$f":"VLOOKUP($A1069,BasinData!$A:$K,7,FALSE)","v":71.276611435146378},56.468229103764614,73.984458172530793,5,123.92861815257673,116.2961733799082,101.03128383457114,78.133949516565551]
[24023,{"$f":"VLOOKUP($A1070,BasinData!$A:$K,8,FALSE)","v":134.88679622205638},{"$f":"VLOOKUP($A1070,BasinData!$A:$K,9,FALSE)","v":54.295202981666414},80.591593240389955,{"$f":"VLOOKUP($A1070,BasinData!$A:$K,7,FALSE)","v":64.614509555947919},70.272286666108457,87.19555457415899,5,130.85721656003687,122.79805723599789,106.6797385879199,82.502260615802896]
[24024,{"$f":"VLOOKUP($A1071,BasinData!$A:$K,8,FALSE)","v":161.20165620572524},{"$f":"VLOOKUP($A1071,BasinData!$A:$K,9,FALSE)","v":64.887571577146502},96.31408462857874,{"$f":"VLOOKUP($A1071,BasinData!$A:$K,7,FALSE)","v":39.853546144292537},121.34811006143271,125.99207117982176,5,156.38595197429632,146.75454351143844,127.49172658572269,98.597501197149057]
[24025,{"$f":"VLOOKUP($A1072,BasinData!$A:$K,8,FALSE)","v":137.11482740393876},{"$f":"VLOOKUP($A1072,BasinData!$A:$K,9,FALSE)","v":55.192039504276366},81.922787899662396,{"$f":"VLOOKUP($A1072,BasinData!$A:$K,7,FALSE)","v":61.888306334299457},75.226521069639304,91.826124327916474,5,133.01868800895565,124.8264092189894,108.44185163905692,83.865015269158192]
[24026,{"$f":"VLOOKUP($A1073,BasinData!$A:$K,8,FALSE)","v":182.91122551546593},{"$f":"VLOOKUP($A1073,BasinData!$A:$K,9,FALSE)","v":73.626199117654309},109.28502639781162,{"$f":"VLOOKUP($A1073,BasinData!$A:$K,7,FALSE)","v":57.579852065213124},125.33137345025281,114.68302436422573,5,177.44697419557534,166.51847155579418,144.66146627623186,111.87595835688838]
[24027,{"$f":"VLOOKUP($A1074,BasinData!$A:$K,8,FALSE)","v":78.158611712258434},{"$f":"VLOOKUP($A1074,BasinData!$A:$K,9,FALSE)","v":31.460734531023071},46.697877181235363,{"$f":"VLOOKUP($A1074,BasinData!$A:$K,7,FALSE)","v":58.187794461799243},19.970817250459191,42.7660066279931,4,75.823717853196669,71.153930135073125,61.814354698826058,47.804991544455447]
[24028,{"$f":"VLOOKUP($A1075,BasinData!$A:$K,8,FALSE)","v":213.38991605205959},{"$f":"VLOOKUP($A1075,BasinData!$A:$K,9,FALSE)","v":85.894610375458001},127.49530567660159,{"$f":"VLOOKUP($A1075,BasinData!$A:$K,7,FALSE)","v":99.887129470268263},113.50278658179133,89.025071142381506,5,207.01515076822952,194.26562020056934,168.76655906524903,130.51796736226856]
[24029,{"$f":"VLOOKUP($A1076,BasinData!$A:$K,8,FALSE)","v":201.8368764045162},{"$f":"VLOOKUP($A1076,BasinData!$A:$K,9,FALSE)","v":81.244232056100756},120.59264434841545,{"$f":"VLOOKUP($A1076,BasinData!$A:$K,7,FALSE)","v":95.020857740739615},106.81601866377659,88.575898837713908,5,195.80724418709542,183.74797975225388,159.62945088257081,123.45165757804617]
[24030,{"$f":"VLOOKUP($A1077,BasinData!$A:$K,8,FALSE)","v":177.62506153134782},{"$f":"VLOOKUP($A1077,BasinData!$A:$K,9,FALSE)","v":71.498390061832623},106.1266714695152,{"$f":"VLOOKUP($A1077,BasinData!$A:$K,7,FALSE)","v":124.78841606398761},52.836645467360214,49.786396516296563,4,172.31872795787206,161.70606081092055,140.4807265170175,108.64272507616295]
[24031,{"$f":"VLOOKUP($A1078,BasinData!$A:$K,8,FALSE)","v":163.21534831425251},{"$f":"VLOOKUP($A1078,BasinData!$A:$K,9,FALSE)","v":65.698131430574094},97.517216883678415,{"$f":"VLOOKUP($A1078,BasinData!$A:$K,7,FALSE)","v":54.200708004948169},109.01464030930434,111.79014720994387,5,158.33948747006858,148.58776578170074,129.08432240496506,99.829157339861538]
[24032,{"$f":"VLOOKUP($A1079,BasinData!$A:$K,8,FALSE)","v":112.47045969935276},{"$f":"VLOOKUP($A1079,BasinData!$A:$K,9,FALSE)","v":45.27208451718829},67.198375182164469,{"$f":"VLOOKUP($A1079,BasinData!$A:$K,7,FALSE)","v":75.099454159528662},37.371005539824097,55.612960043329984,4,109.11054094024453,102.39070342202808,88.951028385595194,68.791515830945855]
[24033,{"$f":"VLOOKUP($A1080,BasinData!$A:$K,8,FALSE)","v":70.65928414176966},{"$f":"VLOOKUP($A1080,BasinData!$A:$K,9,FALSE)","v":28.442073519938042},42.217210621831619,{"$f":"VLOOKUP($A1080,BasinData!$A:$K,7,FALSE)","v":47.683117626120428},22.976166515649233,54.423696348540041,4,68.548423610678086,64.326702548494922,55.883260424128594,43.218097237579109]
[24034,{"$f":"VLOOKUP($A1081,BasinData!$A:$K,8,FALSE)","v":154.39925344471243},{"$f":"VLOOKUP($A1081,BasinData!$A:$K,9,FALSE)","v":62.149439684205561},92.249813760506868,{"$f":"VLOOKUP($A1081,BasinData!$A:$K,7,FALSE)","v":59.885416819193047},94.513836625519389,102.45423028266512,5,149.7867627566871,140.5617813806364,122.11181862853502,94.43687450038297]
[24035,{"$f":"VLOOKUP($A1082,BasinData!$A:$K,8,FALSE)","v":80.731144884680589},{"$f":"VLOOKUP($A1082,BasinData!$A:$K,9,FALSE)","v":32.496241450053091},48.234903434627498,{"$f":"VLOOKUP($A1082,BasinData!$A:$K,7,FALSE)","v":55.371917943271349},25.35922694140924,52.574432901640336,4,78.31939971294922,73.495909369486469,63.848928682560967,49.378457652172713]
[24036,{"$f":"VLOOKUP($A1083,BasinData!$A:$K,8,FALSE)","v":56.988116247470401},{"$f":"VLOOKUP($A1083,BasinData!$A:$K,9,FALSE)","v":22.939097271651672},34.049018975818726,{"$f":"VLOOKUP($A1083,BasinData!$A:$K,7,FALSE)","v":39.680360946858983},17.307755300611419,50.83187657448579,4,55.285665298679461,51.880763401097596,45.070959605933851,34.856253913188226]
[24037,{"$f":"VLOOKUP($A1084,BasinData!$A:$K,8,FALSE)","v":87.673328613032211},{"$f":"VLOOKUP($A1084,BasinData!$A:$K,9,FALSE)","v":35.290638568406756},52.382690044625456,{"$f":"VLOOKUP($A1084,BasinData!$A:$K,7,FALSE)","v":54.43348771599014},33.239840897042072,63.455773021058384,4,85.054194110800935,79.815925106338398,69.339387097413308,53.624580084025666]
[24038,{"$f":"VLOOKUP($A1085,BasinData!$A:$K,8,FALSE)","v":74.906944287941968},{"$f":"VLOOKUP($A1085,BasinData!$A:$K,9,FALSE)","v":30.151859624234639},44.755084663707329,{"$f":"VLOOKUP($A1085,BasinData!$A:$K,7,FALSE)","v":49.086180531546013},25.820763756395955,57.693475390371582,4,72.669190054756598,68.193681588385871,59.242664655644404,45.816139256532203]
[24039,{"$f":"VLOOKUP($A1086,BasinData!$A:$K,8,FALSE)","v":71.342386226627951},{"$f":"VLOOKUP($A1086,BasinData!$A:$K,9,FALSE)","v":28.717038656581369},42.625347570046586,{"$f":"VLOOKUP($A1086,BasinData!$A:$K,7,FALSE)","v":57.980822602184752},13.3615636244432,31.346521227741388,3,69.211118848125622,64.948584091120964,56.423514577111646,43.635910306097671]
[24040,{"$f":"VLOOKUP($A1087,BasinData!$A:$K,8,FALSE)","v":256.27607850992092},{"$f":"VLOOKUP($A1087,BasinData!$A:$K,9,FALSE)","v":103.15732964058907},153.11874886933185,{"$f":"VLOOKUP($A1087,BasinData!$A:$K,7,FALSE)","v":160.01633749375321},96.259741016167709,62.86607076336135,4,248.62014106645432,233.30826617952115,202.68451640565479,156.7488917448552]
[24041,{"$f":"VLOOKUP($A1088,BasinData!$A:$K,8,FALSE)","v":310.92243801589296},{"$f":"VLOOKUP($A1088,BasinData!$A:$K,9,FALSE)","v":125.15381309699359},185.76862491889938,{"$f":"VLOOKUP($A1088,BasinData!$A:$K,7,FALSE)","v":218.54662748559468},92.375810530298281,49.726271360745983,4,301.63400676994797,283.05714427805805,245.90341929427819,190.17283181860836]
[24042,{"$f":"VLOOKUP($A1089,BasinData!$A:$K,8,FALSE)","v":213.88258836847663},{"$f":"VLOOKUP($A1089,BasinData!$A:$K,9,FALSE)","v":86.092922917326618},127.78966545115001,{"$f":"VLOOKUP($A1089,BasinData!$A:$K,7,FALSE)","v":152.68664448509199},61.195943883384643,47.888022609134957,4,207.49310509591913,194.71413855080414,169.15620546057414,130.81930582522912]
[24043,{"$f":"VLOOKUP($A1090,BasinData!$A:$K,8,FALSE)","v":184.48860876686896},{"$f":"VLOOKUP($A1090,BasinData!$A:$K,9,FALSE)","v":74.261134086928962},110.22747467994,{"$f":"VLOOKUP($A1090,BasinData!$A:$K,7,FALSE)","v":104.52483985319684},79.963768913672126,72.544317236566897,5,178.97723503287196,167.95448756487798,145.90899262888996,112.84075022490796]
[24044,{"$f":"VLOOKUP($A1091,BasinData!$A:$K,8,FALSE)","v":198.18879821495176},{"$f":"VLOOKUP($A1091,BasinData!$A:$K,9,FALSE)","v":79.7757922136323},118.41300600131946,{"$f":"VLOOKUP($A1091,BasinData!$A:$K,7,FALSE)","v":100.02133819628355},98.167460018668208,82.902599413424511,5,192.26814791488579,180.42684731475384,156.74424611448995,121.22034431409411]
[24045,{"$f":"VLOOKUP($A1092,BasinData!$A:$K,8,FALSE)","v":143.75258881118006},{"$f":"VLOOKUP($A1092,BasinData!$A:$K,9,FALSE)","v":57.863899264046587},{"$f":"B1092-C1092","v":85.888689547133481},{"$f":"VLOOKUP($A1092,BasinData!$A:$K,7,FALSE)","v":101.76038025229566},{"$f":"B1092-E1092","v":41.9922085588844},{"$f":"F1092/D1092*100","v":48.891430036128526},{"$f":"IF($G1092<($I$1*100),1,IF($G1092<($J$1*100),2,IF($G1092<($K$1*100),3,IF($G1092<($L$1*100),4,5))))","v":4},{"$f":"B1092-(D1092*$I$1)","v":139.45815433382339},{"$f":"B1092-(D1092*$J$1)","v":130.86928537911004},{"$f":"B1092-(D1092*$K$1)","v":113.69154746968334},{"$f":"B1092-(D1092*$L$1)","v":87.924940605543298}]
[24046,{"$f":"VLOOKUP($A1093,BasinData!$A:$K,8,FALSE)","v":282.07732152284967},{"$f":"VLOOKUP($A1093,BasinData!$A:$K,9,FALSE)","v":113.54295496347149},168.53436655937819,{"$f":"VLOOKUP($A1093,BasinData!$A:$K,7,FALSE)","v":63.32066553532897},218.7566559875207,129.79943524482772,5,273.65060319488077,256.79716653894297,223.09029322706732,172.52998325925387]
[24047,{"$f":"VLOOKUP($A1094,BasinData!$A:$K,8,FALSE)","v":153.7950835493547},{"$f":"VLOOKUP($A1094,BasinData!$A:$K,9,FALSE)","v":61.906246665892205},91.888836883462488,{"$f":"VLOOKUP($A1094,BasinData!$A:$K,7,FALSE)","v":30.105904575988209},123.6891789733665,134.60740517396539,5,149.20064170518157,140.01175801683533,121.63399064014283,94.067339575104086]
[24048,{"$f":"VLOOKUP($A1095,BasinData!$A:$K,8,FALSE)","v":94.645683654228066},{"$f":"VLOOKUP($A1095,BasinData!$A:$K,9,FALSE)","v":38.097180371051131},56.548503283176935,{"$f":"VLOOKUP($A1095,BasinData!$A:$K,7,FALSE)","v":54.753329407253808},39.892354246974257,70.545375970794538,5,91.818258490069212,86.163408161751533,74.853707505116148,57.889156520163056]
[24049,{"$f":"VLOOKUP($A1096,BasinData!$A:$K,8,FALSE)","v":91.442441324191108},{"$f":"VLOOKUP($A1096,BasinData!$A:$K,9,FALSE)","v":36.807797737761312},54.634643586429796,{"$f":"VLOOKUP($A1096,BasinData!$A:$K,7,FALSE)","v":61.2940147273154},30.148426596875709,55.181885737356581,4,88.710709144869611,83.247244786226645,72.320316068940684,55.929922993011736]
[24050,{"$f":"VLOOKUP($A1097,BasinData!$A:$K,8,FALSE)","v":107.06762727783838},{"$f":"VLOOKUP($A1097,BasinData!$A:$K,9,FALSE)","v":43.097313589134451},63.970313688703932,{"$f":"VLOOKUP($A1097,BasinData!$A:$K,7,FALSE)","v":67.952427956035578},39.115199321802805,61.145861363362172,4,103.86911159340319,97.472080224532789,84.678017486792015,65.486923380180826]
[24051,{"$f":"VLOOKUP($A1098,BasinData!$A:$K,8,FALSE)","v":125.34373230243496},{"$f":"VLOOKUP($A1098,BasinData!$A:$K,9,FALSE)","v":50.453888582517415},74.889843719917536,{"$f":"VLOOKUP($A1098,BasinData!$A:$K,7,FALSE)","v":67.259563214004089},58.084169088430869,77.559474293552213,5,121.59924011643908,114.11025574444733,99.132287000463819,76.665333884488561]
[24052,{"$f":"VLOOKUP($A1099,BasinData!$A:$K,8,FALSE)","v":94.813302966786281},{"$f":"VLOOKUP($A1099,BasinData!$A:$K,9,FALSE)","v":38.16465120477168},56.648651762014602,{"$f":"VLOOKUP($A1099,BasinData!$A:$K,7,FALSE)","v":76.800119044835},18.013183921951281,31.798080557373314,3,91.980870378685552,86.316005202484092,74.986274850081173,57.991679321476788]
[24053,{"$f":"VLOOKUP($A1100,BasinData!$A:$K,8,FALSE)","v":83.590590091268027},{"$f":"VLOOKUP($A1100,BasinData!$A:$K,9,FALSE)","v":33.647237413001399},49.943352678266628,{"$f":"VLOOKUP($A1100,BasinData!$A:$K,7,FALSE)","v":64.330660365075346},19.259929726192681,38.563549888739928,4,81.093422457354691,76.099087189528035,66.110416653874708,51.127410850394718]
[24054,{"$f":"VLOOKUP($A1101,BasinData!$A:$K,8,FALSE)","v":123.35553140262743},{"$f":"VLOOKUP($A1101,BasinData!$A:$K,9,FALSE)","v":49.653589558099412},73.701941844528022,{"$f":"VLOOKUP($A1101,BasinData!$A:$K,7,FALSE)","v":66.445154891003881},56.910376511623554,77.216929550749484,5,119.67043431040103,112.30024012594824,97.559851757042622,75.449269203684224]
[24055,{"$f":"VLOOKUP($A1102,BasinData!$A:$K,8,FALSE)","v":151.32744585388278},{"$f":"VLOOKUP($A1102,BasinData!$A:$K,9,FALSE)","v":60.912962717326216},90.414483136556555,{"$f":"VLOOKUP($A1102,BasinData!$A:$K,7,FALSE)","v":102.39900464224027},48.928441211642507,54.11571190175799,4,146.80672169705494,137.76527338339929,119.68237675608799,92.558031815121012]
[24056,{"$f":"VLOOKUP($A1103,BasinData!$A:$K,8,FALSE)","v":123.02171895967471},{"$f":"VLOOKUP($A1103,BasinData!$A:$K,9,FALSE)","v":49.519221963527102},73.502496996147613,{"$f":"VLOOKUP($A1103,BasinData!$A:$K,7,FALSE)","v":58.335633157992},64.686085801682708,88.005290221736303,5,119.34659410986734,111.99634441025258,97.295845011023047,75.245095912178755]
[24057,{"$f":"VLOOKUP($A1104,BasinData!$A:$K,8,FALSE)","v":143.05671020237591},{"$f":"VLOOKUP($A1104,BasinData!$A:$K,9,FALSE)","v":57.583791267016089},85.472918935359814,{"$f":"VLOOKUP($A1104,BasinData!$A:$K,7,FALSE)","v":101.14268338560539},41.914026816770516,49.037785697325525,4,138.78306425560791,130.23577236207194,113.14118857499997,87.499312894392034]
[24058,{"$f":"VLOOKUP($A1105,BasinData!$A:$K,8,FALSE)","v":126.55208271447367},{"$f":"VLOOKUP($A1105,BasinData!$A:$K,9,FALSE)","v":50.940278894484024},75.611803819989646,{"$f":"VLOOKUP($A1105,BasinData!$A:$K,7,FALSE)","v":67.660996418054907},58.891086296418763,77.886101535974205,5,122.77149252347419,115.21031214147523,100.0879513774773,77.404410231480398]
[24059,{"$f":"VLOOKUP($A1106,BasinData!$A:$K,8,FALSE)","v":213.95498790367276},{"$f":"VLOOKUP($A1106,BasinData!$A:$K,9,FALSE)","v":86.122065484051831},127.83292241962093,{"$f":"VLOOKUP($A1106,BasinData!$A:$K,7,FALSE)","v":55.25952958994452},158.69545831372824,124.14286970049764,5,207.56334178269171,194.78004954072964,169.21346505680543,130.86358833091916]
[24060,{"$f":"VLOOKUP($A1107,BasinData!$A:$K,8,FALSE)","v":65.439146083739374},{"$f":"VLOOKUP($A1107,BasinData!$A:$K,9,FALSE)","v":26.340841498780922},39.098304584958456,{"$f":"VLOOKUP($A1107,BasinData!$A:$K,7,FALSE)","v":34.899443475169527},30.539702608569847,78.110043217369594,5,63.48423085449145,59.574400395995603,51.754739479003916,40.025248103516375]
[24061,{"$f":"VLOOKUP($A1108,BasinData!$A:$K,8,FALSE)","v":209.40841198998325},{"$f":"VLOOKUP($A1108,BasinData!$A:$K,9,FALSE)","v":84.291958542383952},125.1164534475993,{"$f":"VLOOKUP($A1108,BasinData!$A:$K,7,FALSE)","v":40.12877090327521},169.27964108670804,135.29766583226001,5,203.15258931760329,190.64094397284336,165.61765328332351,128.0827172490437]
[24062,{"$f":"VLOOKUP($A1109,BasinData!$A:$K,8,FALSE)","v":182.83080465932071},{"$f":"VLOOKUP($A1109,BasinData!$A:$K,9,FALSE)","v":73.593827774938333},109.23697688438237,{"$f":"VLOOKUP($A1109,BasinData!$A:$K,7,FALSE)","v":90.453562292757738},92.377242366562967,84.565908908607085,5,177.36895581510157,166.44525812666336,144.59786274978688,111.82676968447215]
[24063,{"$f":"VLOOKUP($A1110,BasinData!$A:$K,8,FALSE)","v":136.06262251197109},{"$f":"VLOOKUP($A1110,BasinData!$A:$K,9,FALSE)","v":54.768501546612676},81.294120965358417,{"$f":"VLOOKUP($A1110,BasinData!$A:$K,7,FALSE)","v":106.33836648676268},29.724256025208405,36.563844558790052,4,131.99791646370318,123.86850436716732,107.60968017409564,83.22144388448811]
[24064,{"$f":"VLOOKUP($A1111,BasinData!$A:$K,8,FALSE)","v":188.85663807343931},{"$f":"VLOOKUP($A1111,BasinData!$A:$K,9,FALSE)","v":76.01937169411238},112.83726637932693,{"$f":"VLOOKUP($A1111,BasinData!$A:$K,7,FALSE)","v":102.66483053257336},86.191807540865952,76.385940839007489,5,183.21477475447296,171.93104811654027,149.36359484067489,115.5124149268768]
[24065,{"$f":"VLOOKUP($A1112,BasinData!$A:$K,8,FALSE)","v":217.43786276859416},{"$f":"VLOOKUP($A1112,BasinData!$A:$K,9,FALSE)","v":87.524006986460577},129.91385578213357,{"$f":"VLOOKUP($A1112,BasinData!$A:$K,7,FALSE)","v":99.946432357133475},117.49143041146068,90.437951905988086,5,210.94216997948749,197.95078440127412,171.96801324484741,132.99385651020734]
[24066,{"$f":"VLOOKUP($A1113,BasinData!$A:$K,8,FALSE)","v":241.09612516536416},{"$f":"VLOOKUP($A1113,BasinData!$A:$K,9,FALSE)","v":97.047030699704564},144.04909446565961,{"$f":"VLOOKUP($A1113,BasinData!$A:$K,7,FALSE)","v":87.933410049815393},153.16271511554876,106.32674622752438,5,233.89367044208117,219.48876099551521,190.6789421023833,147.4642137626854]
[24067,{"$f":"VLOOKUP($A1114,BasinData!$A:$K,8,FALSE)","v":118.529634819877},{"$f":"VLOOKUP($A1114,BasinData!$A:$K,9,FALSE)","v":47.711049280861225},70.818585539015771,{"$f":"VLOOKUP($A1114,BasinData!$A:$K,7,FALSE)","v":79.177208746398222},39.352426073478782,55.567935696482564,4,114.98870554292621,107.90684698902464,93.743129881221478,72.497554219516758]
[24068,{"$f":"VLOOKUP($A1115,BasinData!$A:$K,8,FALSE)","v":124.50036329020128},{"$f":"VLOOKUP($A1115,BasinData!$A:$K,9,FALSE)","v":50.114412125294038},74.38595116490724,{"$f":"VLOOKUP($A1115,BasinData!$A:$K,7,FALSE)","v":67.541457417439574},56.958905872761704,76.572128178463046,5,120.78106573195592,113.34247061546519,98.465280382483741,76.149495033011561]
[24069,{"$f":"VLOOKUP($A1116,BasinData!$A:$K,8,FALSE)","v":112.3074535058672},{"$f":"VLOOKUP($A1116,BasinData!$A:$K,9,FALSE)","v":45.20647057564284},67.100982930224362,{"$f":"VLOOKUP($A1116,BasinData!$A:$K,7,FALSE)","v":62.765138726673591},49.54231477919361,73.832472514911871,5,108.95240435935598,102.24230606633355,88.822109480288674,68.691814601221367]
[24070,{"$f":"VLOOKUP($A1117,BasinData!$A:$K,8,FALSE)","v":127.59466671023299},{"$f":"VLOOKUP($A1117,BasinData!$A:$K,9,FALSE)","v":51.359944208366926},76.234722501866059,{"$f":"VLOOKUP($A1117,BasinData!$A:$K,7,FALSE)","v":46.624017566221426},80.97064914401156,106.21229603351618,5,123.78293058513968,116.15945833495307,100.91251383457987,78.042097084020043]
[24071,{"$f":"VLOOKUP($A1118,BasinData!$A:$K,8,FALSE)","v":123.69680794892777},{"$f":"VLOOKUP($A1118,BasinData!$A:$K,9,FALSE)","v":49.790961635079817},73.905846313847945,{"$f":"VLOOKUP($A1118,BasinData!$A:$K,7,FALSE)","v":67.995481182238294},55.701326766689476,75.367957401027098,5,120.00151563323537,112.61093100185057,97.829761739080993,75.658007844926601]
[24072,{"$f":"VLOOKUP($A1119,BasinData!$A:$K,8,FALSE)","v":124.3368431374081},{"$f":"VLOOKUP($A1119,BasinData!$A:$K,9,FALSE)","v":50.048591302677124},74.288251834730971,{"$f":"VLOOKUP($A1119,BasinData!$A:$K,7,FALSE)","v":67.694818830850437},56.642024306557659,76.246274353809184,5,120.62243054567155,113.19360536219845,98.335954995252251,76.049479444832969]
[24073,{"$f":"VLOOKUP($A1120,BasinData!$A:$K,8,FALSE)","v":129.59246937726044},{"$f":"VLOOKUP($A1120,BasinData!$A:$K,9,FALSE)","v":52.164108176684465},77.428361200575978,{"$f":"VLOOKUP($A1120,BasinData!$A:$K,7,FALSE)","v":69.669144326786238},59.923325050474205,77.39195834875612,5,125.72105131723164,117.97821519717405,102.49254295705884,79.264034596886063]
[24074,{"$f":"VLOOKUP($A1121,BasinData!$A:$K,8,FALSE)","v":122.24108042426914},{"$f":"VLOOKUP($A1121,BasinData!$A:$K,9,FALSE)","v":49.204996042812219},73.036084381456931,{"$f":"VLOOKUP($A1121,BasinData!$A:$K,7,FALSE)","v":66.515790370694049},55.725290053575094,76.298299019605082,5,118.5892762051963,111.2856677670506,96.678450890759223,74.767625576322132]
[24075,{"$f":"VLOOKUP($A1122,BasinData!$A:$K,8,FALSE)","v":187.82923570679208},{"$f":"VLOOKUP($A1122,BasinData!$A:$K,9,FALSE)","v":75.60581735370738},112.2234183530847,{"$f":"VLOOKUP($A1122,BasinData!$A:$K,7,FALSE)","v":130.94797177262143},56.881263934170647,50.685734554268414,4,182.21806478913783,170.99572295382939,148.55103928321245,114.88401377728702]
[24076,{"$f":"VLOOKUP($A1123,BasinData!$A:$K,8,FALSE)","v":124.62878890491493},{"$f":"VLOOKUP($A1123,BasinData!$A:$K,9,FALSE)","v":50.166106546202698},74.462682358712229,{"$f":"VLOOKUP($A1123,BasinData!$A:$K,7,FALSE)","v":68.065705848874003},56.563083056040924,75.961651211484963,5,120.90565478697931,113.4593865511081,98.566850079365651,76.228045371751975]
[24077,{"$f":"VLOOKUP($A1124,BasinData!$A:$K,8,FALSE)","v":101.16216136778884},{"$f":"VLOOKUP($A1124,BasinData!$A:$K,9,FALSE)","v":40.720220506134666},60.441940861654174,{"$f":"VLOOKUP($A1124,BasinData!$A:$K,7,FALSE)","v":60.918735440910034},40.243425926878807,66.581955101329655,5,98.140064324706131,92.095870238540712,80.007482066209889,61.874899807713625]
[24078,{"$f":"VLOOKUP($A1125,BasinData!$A:$K,8,FALSE)","v":108.83861420209277},{"$f":"VLOOKUP($A1125,BasinData!$A:$K,9,FALSE)","v":43.810178726593655},65.028435475499123,{"$f":"VLOOKUP($A1125,BasinData!$A:$K,7,FALSE)","v":66.419047592838623},42.419566609254147,65.232334591898095,5,105.58719242831782,99.084348880767905,86.078661785668075,66.57013114301833]
[24079,{"$f":"VLOOKUP($A1126,BasinData!$A:$K,8,FALSE)","v":130.77455889011802},{"$f":"VLOOKUP($A1126,BasinData!$A:$K,9,FALSE)","v":52.639927840585777},78.134631049532231,{"$f":"VLOOKUP($A1126,BasinData!$A:$K,7,FALSE)","v":71.147990438444936},59.62656845167308,76.312599996631121,5,126.8678273376414,119.05436423268819,103.42743802278173,79.987048707922071]
[24080,{"$f":"VLOOKUP($A1127,BasinData!$A:$K,8,FALSE)","v":180.20932909896729},{"$f":"VLOOKUP($A1127,BasinData!$A:$K,9,FALSE)","v":72.538620359183923},107.67070873978336,{"$f":"VLOOKUP($A1127,BasinData!$A:$K,7,FALSE)","v":98.669709704376359},81.539619394590929,75.730549514310724,5,174.82579366197811,164.05872278799978,142.5245810400431,110.22336841810809]
[24081,{"$f":"VLOOKUP($A1128,BasinData!$A:$K,8,FALSE)","v":133.49734463414222},{"$f":"VLOOKUP($A1128,BasinData!$A:$K,9,FALSE)","v":53.735915059408967},79.761429574733256,{"$f":"VLOOKUP($A1128,BasinData!$A:$K,7,FALSE)","v":99.505184056393333},33.992160577748891,42.617291037768581,4,129.50927315540557,121.53313019793224,105.58084428298558,81.652415410565595]
[24082,{"$f":"VLOOKUP($A1129,BasinData!$A:$K,8,FALSE)","v":103.20209483615756},{"$f":"VLOOKUP($A1129,BasinData!$A:$K,9,FALSE)","v":41.541343142570021},61.660751693587535,{"$f":"VLOOKUP($A1129,BasinData!$A:$K,7,FALSE)","v":79.7334313004027},23.468663535754857,38.060942968029856,4,100.11905725147818,93.952982082119433,81.620831743401922,63.122606235325655]
[24083,{"$f":"VLOOKUP($A1130,BasinData!$A:$K,8,FALSE)","v":132.46083351461914},{"$f":"VLOOKUP($A1130,BasinData!$A:$K,9,FALSE)","v":53.318694225320705},79.142139289298427,{"$f":"VLOOKUP($A1130,BasinData!$A:$K,7,FALSE)","v":72.67025801859775},59.79057549602139,75.548343819038323,5,128.50372655015423,120.58951262122437,104.76108476336469,81.018442976575159]
[24084,{"$f":"VLOOKUP($A1131,BasinData!$A:$K,8,FALSE)","v":119.94979878029952},{"$f":"VLOOKUP($A1131,BasinData!$A:$K,9,FALSE)","v":48.282699677030806},71.667099103268711,{"$f":"VLOOKUP($A1131,BasinData!$A:$K,7,FALSE)","v":62.877942679961585},57.071856100337932,79.634667531471081,5,116.36644382513609,109.19973391480922,94.86631409415547,73.366184363174852]
[24087,{"$f":"VLOOKUP($A1132,BasinData!$A:$K,8,FALSE)","v":102.20255494824194},{"$f":"VLOOKUP($A1132,BasinData!$A:$K,9,FALSE)","v":41.139004124796124},61.063550823445816,{"$f":"VLOOKUP($A1132,BasinData!$A:$K,7,FALSE)","v":78.653657556062484},23.548897392179455,38.564572604476972,4,99.14937740706965,93.043022324725072,80.830312160035902,62.511246913002161]
[24088,{"$f":"VLOOKUP($A1133,BasinData!$A:$K,8,FALSE)","v":69.061770016959386},{"$f":"VLOOKUP($A1133,BasinData!$A:$K,9,FALSE)","v":27.799035386465999},41.262734630493384,{"$f":"VLOOKUP($A1133,BasinData!$A:$K,7,FALSE)","v":43.587239385606374},25.474530631353012,61.73737843474678,4,66.998633285434721,62.872359822385377,54.619812896286703,42.240992507138685]
[24089,{"$f":"VLOOKUP($A1134,BasinData!$A:$K,8,FALSE)","v":92.342633001501326},{"$f":"VLOOKUP($A1134,BasinData!$A:$K,9,FALSE)","v":37.170146694152145},55.172486307349182,{"$f":"VLOOKUP($A1134,BasinData!$A:$K,7,FALSE)","v":68.146960955775583},24.195672045725743,43.854597943871873,4,89.58400868613387,84.066760055398944,73.032262793929107,56.480516901724357]
[24090,{"$f":"VLOOKUP($A1135,BasinData!$A:$K,8,FALSE)","v":135.36567052197378},{"$f":"VLOOKUP($A1135,BasinData!$A:$K,9,FALSE)","v":54.487961487650317},80.877709034323459,{"$f":"VLOOKUP($A1135,BasinData!$A:$K,7,FALSE)","v":71.394800011452304},63.970870510521479,79.095799416589642,5,131.32178507025762,123.23401416682526,107.05847235996058,82.795159649663532]
[24091,{"$f":"VLOOKUP($A1136,BasinData!$A:$K,8,FALSE)","v":183.91036321691564},{"$f":"VLOOKUP($A1136,BasinData!$A:$K,9,FALSE)","v":74.028376245633112},109.88198697128253,{"$f":"VLOOKUP($A1136,BasinData!$A:$K,7,FALSE)","v":69.227427998550127},114.68293521836551,104.36918586877913,5,178.41626386835151,167.42806517122327,145.45166777696676,112.48707168558199]
[24092,{"$f":"VLOOKUP($A1137,BasinData!$A:$K,8,FALSE)","v":55.715388596268255},{"$f":"VLOOKUP($A1137,BasinData!$A:$K,9,FALSE)","v":22.426793561445358},33.288595034822897,{"$f":"VLOOKUP($A1137,BasinData!$A:$K,7,FALSE)","v":34.067015418305502},21.648373177962753,65.0324027052406,5,54.050958844527109,50.722099341044824,44.064380334080241,34.077801823633372]
[24093,{"$f":"VLOOKUP($A1138,BasinData!$A:$K,8,FALSE)","v":57.532534592363724},{"$f":"VLOOKUP($A1138,BasinData!$A:$K,9,FALSE)","v":23.158238843479527},34.374295748884194,{"$f":"VLOOKUP($A1138,BasinData!$A:$K,7,FALSE)","v":45.97095734927192},11.561577243091804,33.634368330199457,3,55.813819804919518,52.376390230031092,45.501531080254253,35.189242355589002]
[24094,{"$f":"VLOOKUP($A1139,BasinData!$A:$K,8,FALSE)","v":77.432490391053776},{"$f":"VLOOKUP($A1139,BasinData!$A:$K,9,FALSE)","v":31.168453109650891},46.264037281402885,{"$f":"VLOOKUP($A1139,BasinData!$A:$K,7,FALSE)","v":50.682285574954086},26.750204816099689,57.82073158334731,4,75.119288526983638,70.492884798843349,61.24007734256277,47.360866158141903]
[24095,{"$f":"VLOOKUP($A1140,BasinData!$A:$K,8,FALSE)","v":144.3885761215414},{"$f":"VLOOKUP($A1140,BasinData!$A:$K,9,FALSE)","v":58.119899562645024},86.268676558896374,{"$f":"VLOOKUP($A1140,BasinData!$A:$K,7,FALSE)","v":66.893107598490445},77.49546852305096,89.830366726611516,5,140.0751422935966,131.44827463770696,114.19453932592768,88.313936358258758]
[24096,{"$f":"VLOOKUP($A1141,BasinData!$A:$K,8,FALSE)","v":137.70273696569888},{"$f":"VLOOKUP($A1141,BasinData!$A:$K,9,FALSE)","v":55.428687344425818},82.274049621273065,{"$f":"VLOOKUP($A1141,BasinData!$A:$K,7,FALSE)","v":62.490478775197559},75.212258190501316,91.416745057185295,5,133.58903448463522,125.36162952250791,108.90681959825331,84.224604711871379]
[24097,{"$f":"VLOOKUP($A1142,BasinData!$A:$K,8,FALSE)","v":138.51116569961334},{"$f":"VLOOKUP($A1142,BasinData!$A:$K,9,FALSE)","v":55.754099493231223},82.75706620638212,{"$f":"VLOOKUP($A1142,BasinData!$A:$K,7,FALSE)","v":101.65858686633382},36.852578833279523,44.531035865113225,4,134.37331238929423,126.09760576865602,109.5461925273796,84.719072665464964]
[24098,{"$f":"VLOOKUP($A1143,BasinData!$A:$K,8,FALSE)","v":180.30103368378971},{"$f":"VLOOKUP($A1143,BasinData!$A:$K,9,FALSE)","v":72.575533676029906},107.72550000775981,{"$f":"VLOOKUP($A1143,BasinData!$A:$K,7,FALSE)","v":80.225332782785728},100.07570090100398,92.898803805779707,5,174.91475868340171,164.14220868262575,142.59710868107379,110.27945867874584]
[24099,{"$f":"VLOOKUP($A1144,BasinData!$A:$K,8,FALSE)","v":215.49509274768667},{"$f":"VLOOKUP($A1144,BasinData!$A:$K,9,FALSE)","v":86.741994991318975},128.75309775636771,{"$f":"VLOOKUP($A1144,BasinData!$A:$K,7,FALSE)","v":84.011554507987583},131.4835382396991,102.1206794484262,5,209.05743785986829,196.18212808423152,170.43150853295799,131.80557920604764]
[24100,{"$f":"VLOOKUP($A1145,BasinData!$A:$K,8,FALSE)","v":115.14256954351482},{"$f":"VLOOKUP($A1145,BasinData!$A:$K,9,FALSE)","v":46.347673458742264},68.79489608477256,{"$f":"VLOOKUP($A1145,BasinData!$A:$K,7,FALSE)","v":89.294222844862318},25.848346698652506,37.573058714705901,4,111.7028247392762,104.82333513079894,91.064355913844423,70.425887088412651]
[24101,{"$f":"VLOOKUP($A1146,BasinData!$A:$K,8,FALSE)","v":97.847081948492075},{"$f":"VLOOKUP($A1146,BasinData!$A:$K,9,FALSE)","v":39.385820735272361},58.461261213219714,{"$f":"VLOOKUP($A1146,BasinData!$A:$K,7,FALSE)","v":74.160141600229991},23.686940348262084,40.517326955830043,4,94.924018887831096,89.077892766509123,77.385640523865177,59.847262159899259]
[24102,{"$f":"VLOOKUP($A1147,BasinData!$A:$K,8,FALSE)","v":288.74508214205554},{"$f":"VLOOKUP($A1147,BasinData!$A:$K,9,FALSE)","v":116.22689013275937},172.51819200929617,{"$f":"VLOOKUP($A1147,BasinData!$A:$K,7,FALSE)","v":113.55991596061962},175.18516618143593,101.54590895086359,5,280.11917254159073,262.86735334066111,228.36371493880188,176.60825733601303]
[24103,{"$f":"VLOOKUP($A1148,BasinData!$A:$K,8,FALSE)","v":219.06380308138122},{"$f":"VLOOKUP($A1148,BasinData!$A:$K,9,FALSE)","v":88.178487349190192},130.88531573219103,{"$f":"VLOOKUP($A1148,BasinData!$A:$K,7,FALSE)","v":69.114540988814156},149.94926209256707,114.56538210855022,5,212.51953729477168,199.43100572155257,173.25394257511437,133.98834785545705]
[24104,{"$f":"VLOOKUP($A1149,BasinData!$A:$K,8,FALSE)","v":189.84499707651804},{"$f":"VLOOKUP($A1149,BasinData!$A:$K,9,FALSE)","v":76.41721013489331},113.42778694162473,{"$f":"VLOOKUP($A1149,BasinData!$A:$K,7,FALSE)","v":65.378896059479075},124.46610101703897,109.73157845448847,5,184.17360772943681,172.83082903527432,150.1452716469494,116.11693556446197]
[24105,{"$f":"VLOOKUP($A1150,BasinData!$A:$K,8,FALSE)","v":127.66276890177841},{"$f":"VLOOKUP($A1150,BasinData!$A:$K,9,FALSE)","v":51.387356990173743},76.275411911604664,{"$f":"VLOOKUP($A1150,BasinData!$A:$K,7,FALSE)","v":41.497412835641846},86.165356066136553,112.9660973394589,5,123.84899830619817,116.22145711503771,100.96637473271677,78.083751159235376]
[24106,{"$f":"VLOOKUP($A1151,BasinData!$A:$K,8,FALSE)","v":183.06995903247221},{"$f":"VLOOKUP($A1151,BasinData!$A:$K,9,FALSE)","v":73.690093203415401},109.37986582905681,{"$f":"VLOOKUP($A1151,BasinData!$A:$K,7,FALSE)","v":57.785193025032356},125.28476600743986,114.54097612739793,5,177.60096574101937,166.6629791581137,144.78700599230234,111.97304624358529]
[24107,{"$f":"VLOOKUP($A1152,BasinData!$A:$K,8,FALSE)","v":174.10474002958429},{"$f":"VLOOKUP($A1152,BasinData!$A:$K,9,FALSE)","v":70.08137538098633},104.02336464859796,{"$f":"VLOOKUP($A1152,BasinData!$A:$K,7,FALSE)","v":128.15446875130391},45.950271278280383,44.173029235792661,4,168.9035717971544,158.50123533229458,137.69656240257501,106.48955300799561]
[24108,{"$f":"VLOOKUP($A1153,BasinData!$A:$K,8,FALSE)","v":143.78110519570723},{"$f":"VLOOKUP($A1153,BasinData!$A:$K,9,FALSE)","v":57.875377799600628},85.905727396106599,{"$f":"VLOOKUP($A1153,BasinData!$A:$K,7,FALSE)","v":105.13126806388509},38.649837131822139,44.990989894782984,4,139.4858188259019,130.89524608629125,113.71410060706992,87.942382388237945]
[24109,{"$f":"VLOOKUP($A1154,BasinData!$A:$K,8,FALSE)","v":198.16048044787661},{"$f":"VLOOKUP($A1154,BasinData!$A:$K,9,FALSE)","v":79.764393626414019},118.39608682146259,{"$f":"VLOOKUP($A1154,BasinData!$A:$K,7,FALSE)","v":130.54401329028647},67.616467157590137,57.110390193515045,4,192.24067610680348,180.40106742465721,156.72185006036472,121.20302401392593]
[24110,{"$f":"VLOOKUP($A1155,BasinData!$A:$K,8,FALSE)","v":188.67179132402856},{"$f":"VLOOKUP($A1155,BasinData!$A:$K,9,FALSE)","v":75.944966399740679},112.72682492428788,{"$f":"VLOOKUP($A1155,BasinData!$A:$K,7,FALSE)","v":141.77660257878387},46.895188745244695,41.600735917774223,4,183.03545007781418,171.76276758538538,149.21740260052781,115.39935512324143]
[24111,{"$f":"VLOOKUP($A1156,BasinData!$A:$K,8,FALSE)","v":102.17719450731616},{"$f":"VLOOKUP($A1156,BasinData!$A:$K,9,FALSE)","v":41.128795932991324},{"$f":"B1156-C1156","v":61.048398574324835},{"$f":"VLOOKUP($A1156,BasinData!$A:$K,7,FALSE)","v":50.746165869920063},{"$f":"B1156-E1156","v":51.431028637396096},{"$f":"F1156/D1156*100","v":84.246319049270653},{"$f":"IF($G1156<($I$1*100),1,IF($G1156<($J$1*100),2,IF($G1156<($K$1*100),3,IF($G1156<($L$1*100),4,5))))","v":5},{"$f":"B1156-(D1156*$I$1)","v":99.124774578599911},{"$f":"B1156-(D1156*$J$1)","v":93.019934721167431},{"$f":"B1156-(D1156*$K$1)","v":80.810255006302469},{"$f":"B1156-(D1156*$L$1)","v":62.495735434005013}]
[24112,{"$f":"VLOOKUP($A1157,BasinData!$A:$K,8,FALSE)","v":178.09162880769966},{"$f":"VLOOKUP($A1157,BasinData!$A:$K,9,FALSE)","v":71.686194692705627},106.40543411499404,{"$f":"VLOOKUP($A1157,BasinData!$A:$K,7,FALSE)","v":131.74691918455017},46.344709623149498,43.554833461854997,4,172.77135710194997,162.13081369045057,140.84972686745175,108.92809663295354]
[24113,{"$f":"VLOOKUP($A1158,BasinData!$A:$K,8,FALSE)","v":137.35429661230057},{"$f":"VLOOKUP($A1158,BasinData!$A:$K,9,FALSE)","v":55.28843166155216},82.06586495074842,{"$f":"VLOOKUP($A1158,BasinData!$A:$K,7,FALSE)","v":86.085269848920817},51.269026763379756,62.473023094496973,4,133.25100336476316,125.04441686968831,108.63124387953863,84.011484394314095]
[24116,{"$f":"VLOOKUP($A1159,BasinData!$A:$K,8,FALSE)","v":235.57004450641256},{"$f":"VLOOKUP($A1159,BasinData!$A:$K,9,FALSE)","v":94.822649370512792},140.74739513589975,{"$f":"VLOOKUP($A1159,BasinData!$A:$K,7,FALSE)","v":180.60608571952434},54.963958786888213,39.051492735490648,4,228.53267474961757,214.45793523602759,186.30845620884764,144.08423766807772]
[24117,{"$f":"VLOOKUP($A1160,BasinData!$A:$K,8,FALSE)","v":95.94492879572303},{"$f":"VLOOKUP($A1160,BasinData!$A:$K,9,FALSE)","v":38.620158013460845},57.324770782262185,{"$f":"VLOOKUP($A1160,BasinData!$A:$K,7,FALSE)","v":61.340656767528337},34.604272028194693,60.36530378748968,4,93.078690256609917,87.346213178383707,75.881259021931271,58.683827787252611]
[24120,{"$f":"VLOOKUP($A1161,BasinData!$A:$K,8,FALSE)","v":113.12108611667522},{"$f":"VLOOKUP($A1161,BasinData!$A:$K,9,FALSE)","v":45.533977410956773},67.587108705718435,{"$f":"VLOOKUP($A1161,BasinData!$A:$K,7,FALSE)","v":40.310743059059554},72.810343057615654,107.72815179095727,5,109.7417306813893,102.98301981081745,89.46559806967376,69.189465457958221]
[24123,{"$f":"VLOOKUP($A1162,BasinData!$A:$K,8,FALSE)","v":210.50357157053881},{"$f":"VLOOKUP($A1162,BasinData!$A:$K,9,FALSE)","v":84.73278680274008},125.77078476779873,{"$f":"VLOOKUP($A1162,BasinData!$A:$K,7,FALSE)","v":132.35279768244368},78.150773888095131,62.13746223527118,4,204.21503233214887,191.63795385536901,166.48379690180926,128.75256147146962]
[24128,{"$f":"VLOOKUP($A1163,BasinData!$A:$K,8,FALSE)","v":258.74919860037818},{"$f":"VLOOKUP($A1163,BasinData!$A:$K,9,FALSE)","v":104.15282038594239},154.59637821443579,{"$f":"VLOOKUP($A1163,BasinData!$A:$K,7,FALSE)","v":145.58796681522776},113.16123178515042,73.197854368999529,5,251.01937968965638,235.55974186821283,204.64046622532567,158.2615527609949]
[24129,{"$f":"VLOOKUP($A1164,BasinData!$A:$K,8,FALSE)","v":111.95936515755177},{"$f":"VLOOKUP($A1164,BasinData!$A:$K,9,FALSE)","v":45.066356583342021},66.893008574209745,{"$f":"VLOOKUP($A1164,BasinData!$A:$K,7,FALSE)","v":90.436402361602063},21.522962795949709,32.175205234000757,3,108.61471472884128,101.92541387142032,88.546812156578369,68.478909584315431]
[24130,{"$f":"VLOOKUP($A1165,BasinData!$A:$K,8,FALSE)","v":96.198364963232422},{"$f":"VLOOKUP($A1165,BasinData!$A:$K,9,FALSE)","v":38.722172210129656},57.476192753102765,{"$f":"VLOOKUP($A1165,BasinData!$A:$K,7,FALSE)","v":70.492881823474804},25.705483139757618,44.723705430836745,4,93.324555325577279,87.576936050267008,76.081697499646452,58.838839673715626]
[24131,{"$f":"VLOOKUP($A1166,BasinData!$A:$K,8,FALSE)","v":172.06027411396562},{"$f":"VLOOKUP($A1166,BasinData!$A:$K,9,FALSE)","v":69.258428324738702},102.80184578922692,{"$f":"VLOOKUP($A1166,BasinData!$A:$K,7,FALSE)","v":149.11435431795701},22.94591979600861,22.320532885230762,3,166.92018182450428,156.63999724558158,136.07962808773621,105.23907435096812]
[25001,{"$f":"VLOOKUP($A1167,BasinData!$A:$K,8,FALSE)","v":237.4353768988525},{"$f":"VLOOKUP($A1167,BasinData!$A:$K,9,FALSE)","v":95.573490844344491},141.86188605450801,{"$f":"VLOOKUP($A1167,BasinData!$A:$K,7,FALSE)","v":180.26147635527568},57.173900543576821,40.302509809864453,4,230.34228259612709,216.15609399067631,187.78371677977469,145.22515096342229]
[25002,{"$f":"VLOOKUP($A1168,BasinData!$A:$K,8,FALSE)","v":241.06107836064768},{"$f":"VLOOKUP($A1168,BasinData!$A:$K,9,FALSE)","v":97.032923511831214},144.02815484881648,{"$f":"VLOOKUP($A1168,BasinData!$A:$K,7,FALSE)","v":122.16744082954932},118.89363753109836,82.548886122924131,5,233.85967061820685,219.45685513332521,190.65122416356192,147.44277770891696]
[25003,{"$f":"VLOOKUP($A1169,BasinData!$A:$K,8,FALSE)","v":228.9847864286854},{"$f":"VLOOKUP($A1169,BasinData!$A:$K,9,FALSE)","v":92.17192347271444},136.81286295597096,{"$f":"VLOOKUP($A1169,BasinData!$A:$K,7,FALSE)","v":182.88673530117796},46.098051127507432,33.694237611519526,3,222.14414328088685,208.46285698528976,181.10028439409558,140.05642550730425]
[25004,{"$f":"VLOOKUP($A1170,BasinData!$A:$K,8,FALSE)","v":219.36965190431721},{"$f":"VLOOKUP($A1170,BasinData!$A:$K,9,FALSE)","v":88.301598909314109},131.06805299500309,{"$f":"VLOOKUP($A1170,BasinData!$A:$K,7,FALSE)","v":176.39096493979736},42.978686964519852,32.791123376310779,3,212.81624925456705,199.70944395506675,173.49583335606613,134.1754174575652]
[25005,{"$f":"VLOOKUP($A1171,BasinData!$A:$K,8,FALSE)","v":209.67008876866103},{"$f":"VLOOKUP($A1171,BasinData!$A:$K,9,FALSE)","v":84.397289784668843},125.27279898399219,{"$f":"VLOOKUP($A1171,BasinData!$A:$K,7,FALSE)","v":184.16906630539677},25.501022463264263,20.356392345414807,3,203.40644881946142,190.87916892106222,165.82460912426376,128.2427694290661]
[25006,{"$f":"VLOOKUP($A1172,BasinData!$A:$K,8,FALSE)","v":155.29242703166207},{"$f":"VLOOKUP($A1172,BasinData!$A:$K,9,FALSE)","v":62.508963689219804},92.783463342442275,{"$f":"VLOOKUP($A1172,BasinData!$A:$K,7,FALSE)","v":137.04692210280149},18.245504928860584,19.664608618370551,3,150.65325386453995,141.37490753029573,122.81821486180728,94.983175859074592]
[25007,{"$f":"VLOOKUP($A1173,BasinData!$A:$K,8,FALSE)","v":217.01596816065407},{"$f":"VLOOKUP($A1173,BasinData!$A:$K,9,FALSE)","v":87.354184186775512},129.66178397387856,{"$f":"VLOOKUP($A1173,BasinData!$A:$K,7,FALSE)","v":190.18492138608445},26.831046774569614,20.693103204545569,3,210.53287896196014,197.56670056457227,171.63434376979657,132.73580857763301]
[25008,{"$f":"VLOOKUP($A1174,BasinData!$A:$K,8,FALSE)","v":161.76145585786995},{"$f":"VLOOKUP($A1174,BasinData!$A:$K,9,FALSE)","v":65.112904497740345},96.648551360129602,{"$f":"VLOOKUP($A1174,BasinData!$A:$K,7,FALSE)","v":144.13223729279218},17.629218565077764,18.240540925841895,3,156.92902828986348,147.26417315385049,127.93446288182459,98.939897473785706]
[25009,{"$f":"VLOOKUP($A1175,BasinData!$A:$K,8,FALSE)","v":235.77592257236094},{"$f":"VLOOKUP($A1175,BasinData!$A:$K,9,FALSE)","v":94.905520279254205},140.87040229310674,{"$f":"VLOOKUP($A1175,BasinData!$A:$K,7,FALSE)","v":158.1598013497117},77.616121222649241,55.097536430083196,4,228.7324024577056,214.64536222839493,186.47128176977358,144.21016108184156]
[25010,{"$f":"VLOOKUP($A1176,BasinData!$A:$K,8,FALSE)","v":265.75237775707001},{"$f":"VLOOKUP($A1176,BasinData!$A:$K,9,FALSE)","v":106.9717696417583},158.78060811531171,{"$f":"VLOOKUP($A1176,BasinData!$A:$K,7,FALSE)","v":208.5879985970692},57.164379160000806,36.002116277628907,4,257.8133473513044,241.93528653977324,210.1791649167109,162.5449824821174]
[25011,{"$f":"VLOOKUP($A1177,BasinData!$A:$K,8,FALSE)","v":251.54080456690562},{"$f":"VLOOKUP($A1177,BasinData!$A:$K,9,FALSE)","v":101.25126717109015},150.28953739581547,{"$f":"VLOOKUP($A1177,BasinData!$A:$K,7,FALSE)","v":183.23380843111656},68.306996135789063,45.450267077401321,4,244.02632769711485,228.99737395753331,198.93946647837021,153.85260525962556]
[25012,{"$f":"VLOOKUP($A1178,BasinData!$A:$K,8,FALSE)","v":243.51781051659486},{"$f":"VLOOKUP($A1178,BasinData!$A:$K,9,FALSE)","v":98.021817716562325},145.49599280003252,{"$f":"VLOOKUP($A1178,BasinData!$A:$K,7,FALSE)","v":197.0381938384333},46.479616678161563,31.945633541978331,3,236.24301087659325,221.69341159658998,192.59421303658348,148.94541519657372]
[25013,{"$f":"VLOOKUP($A1179,BasinData!$A:$K,8,FALSE)","v":125.3509647693552},{"$f":"VLOOKUP($A1179,BasinData!$A:$K,9,FALSE)","v":50.45679982565234},74.894164943702862,{"$f":"VLOOKUP($A1179,BasinData!$A:$K,7,FALSE)","v":73.418139566716434},51.932825202638767,69.341617256399232,5,121.60625652217006,114.11684002779977,99.138007039059204,76.669757555948337]
[25014,{"$f":"VLOOKUP($A1180,BasinData!$A:$K,8,FALSE)","v":249.20222473108976},{"$f":"VLOOKUP($A1180,BasinData!$A:$K,9,FALSE)","v":100.30993213733767},148.89229259375207,{"$f":"VLOOKUP($A1180,BasinData!$A:$K,7,FALSE)","v":188.04242559411855},61.159799136971202,41.076537993705145,4,241.75761010140215,226.86838084202694,197.08992232327654,152.4222345451509]
[25015,{"$f":"VLOOKUP($A1181,BasinData!$A:$K,8,FALSE)","v":188.17981407005018},{"$f":"VLOOKUP($A1181,BasinData!$A:$K,9,FALSE)","v":75.746933637340831},112.43288043270935,{"$f":"VLOOKUP($A1181,BasinData!$A:$K,7,FALSE)","v":76.072050436959032},112.10776363309115,99.710834767937143,5,182.55817004841472,171.31488200514377,148.82830591860193,115.0984417887891]
[25016,{"$f":"VLOOKUP($A1182,BasinData!$A:$K,8,FALSE)","v":215.2272887617722},{"$f":"VLOOKUP($A1182,BasinData!$A:$K,9,FALSE)","v":86.634197399695651},128.59309136207656,{"$f":"VLOOKUP($A1182,BasinData!$A:$K,7,FALSE)","v":142.76905542623672},72.458233335535482,56.346909906315666,4,208.79763419366839,195.9383250574607,170.21970678504539,131.64177937642245]
[25017,{"$f":"VLOOKUP($A1183,BasinData!$A:$K,8,FALSE)","v":236.58399783130196},{"$f":"VLOOKUP($A1183,BasinData!$A:$K,9,FALSE)","v":95.230790145820222},141.35320768548172,{"$f":"VLOOKUP($A1183,BasinData!$A:$K,7,FALSE)","v":140.79930842894453},95.784689402357429,67.762657084856087,5,229.51633744702787,215.38101667847971,187.11037514138337,144.70441283573882]
[25018,{"$f":"VLOOKUP($A1184,BasinData!$A:$K,8,FALSE)","v":213.27856716766101},{"$f":"VLOOKUP($A1184,BasinData!$A:$K,9,FALSE)","v":85.849789752168448},127.42877741549256,{"$f":"VLOOKUP($A1184,BasinData!$A:$K,7,FALSE)","v":147.91050916628231},65.368058001378699,51.297720442094871,4,206.90712829688638,194.16425055533713,168.6784950722386,130.44986184759085]
[25019,{"$f":"VLOOKUP($A1185,BasinData!$A:$K,8,FALSE)","v":230.18555415742986},{"$f":"VLOOKUP($A1185,BasinData!$A:$K,9,FALSE)","v":92.65526157097193},137.53029258645793,{"$f":"VLOOKUP($A1185,BasinData!$A:$K,7,FALSE)","v":152.40970908153938},77.775845075890487,56.551792054828198,4,223.30903952810698,209.55601026946118,182.04995175216959,140.7908639762322]
[25020,{"$f":"VLOOKUP($A1186,BasinData!$A:$K,8,FALSE)","v":144.28431219206806},{"$f":"VLOOKUP($A1186,BasinData!$A:$K,9,FALSE)","v":58.077930805339072},86.206381386728992,{"$f":"VLOOKUP($A1186,BasinData!$A:$K,7,FALSE)","v":124.3288710792025},19.955441112865557,23.148450024069319,3,139.9739931227316,131.35335498405871,114.11207870671291,88.250164290694215]
[25021,{"$f":"VLOOKUP($A1187,BasinData!$A:$K,8,FALSE)","v":147.81563354725216},{"$f":"VLOOKUP($A1187,BasinData!$A:$K,9,FALSE)","v":59.499373193647962},88.316260353604207,{"$f":"VLOOKUP($A1187,BasinData!$A:$K,7,FALSE)","v":135.4684512156748},12.347182331577358,13.980644427358236,2,143.39982052957194,134.56819449421153,116.9049424234907,90.410064317409422]
[25022,{"$f":"VLOOKUP($A1188,BasinData!$A:$K,8,FALSE)","v":232.03147153186049},{"$f":"VLOOKUP($A1188,BasinData!$A:$K,9,FALSE)","v":93.398288029744819},138.63318350211568,{"$f":"VLOOKUP($A1188,BasinData!$A:$K,7,FALSE)","v":171.08146417338975},60.950007358470742,43.964948231561443,4,225.09981235675471,211.23649400654313,183.50985730612001,141.91990225548528]
[25023,{"$f":"VLOOKUP($A1189,BasinData!$A:$K,8,FALSE)","v":204.46659618177668},{"$f":"VLOOKUP($A1189,BasinData!$A:$K,9,FALSE)","v":82.302757968868434},122.16383821290825,{"$f":"VLOOKUP($A1189,BasinData!$A:$K,7,FALSE)","v":151.97992195732493},52.486674224451747,42.96416598582757,4,198.35840427113126,186.14202044984046,161.70925280725879,125.06010134338632]
[25024,{"$f":"VLOOKUP($A1190,BasinData!$A:$K,8,FALSE)","v":187.49376747922247},{"$f":"VLOOKUP($A1190,BasinData!$A:$K,9,FALSE)","v":75.470783265716989},112.02298421350548,{"$f":"VLOOKUP($A1190,BasinData!$A:$K,7,FALSE)","v":121.6294316712068},65.864335808015667,58.795376922368284,4,181.89261826854721,170.69031984719663,148.28572300449554,114.67882774044391]
[25025,{"$f":"VLOOKUP($A1191,BasinData!$A:$K,8,FALSE)","v":194.76492869376912},{"$f":"VLOOKUP($A1191,BasinData!$A:$K,9,FALSE)","v":78.397601791425842},116.36732690234328,{"$f":"VLOOKUP($A1191,BasinData!$A:$K,7,FALSE)","v":152.13409414370901},42.630834550060115,36.634711550808738,4,188.94656234865195,177.30982965841764,154.03636427794896,119.12616620724599]
[25026,{"$f":"VLOOKUP($A1192,BasinData!$A:$K,8,FALSE)","v":191.62272889686119},{"$f":"VLOOKUP($A1192,BasinData!$A:$K,9,FALSE)","v":77.13279025641684},114.48993864044435,{"$f":"VLOOKUP($A1192,BasinData!$A:$K,7,FALSE)","v":162.02633881684511},29.596390080016079,25.850647167314449,3,185.89823196483897,174.44923810079453,151.55125037270568,117.20426878057236]
[25027,{"$f":"VLOOKUP($A1193,BasinData!$A:$K,8,FALSE)","v":215.80321445868066},{"$f":"VLOOKUP($A1193,BasinData!$A:$K,9,FALSE)","v":86.866021443944746},128.9371930147359,{"$f":"VLOOKUP($A1193,BasinData!$A:$K,7,FALSE)","v":193.14434008620142},22.658874372479232,17.573575042764897,3,209.35635480794386,196.46263550647026,170.6751969035231,131.99403899910232]
[25028,{"$f":"VLOOKUP($A1194,BasinData!$A:$K,8,FALSE)","v":227.15352551506706},{"$f":"VLOOKUP($A1194,BasinData!$A:$K,9,FALSE)","v":91.434796594457083},135.71872892060998,{"$f":"VLOOKUP($A1194,BasinData!$A:$K,7,FALSE)","v":165.26480695583268},61.888718559234377,45.600720734303955,4,220.36758906903657,206.79571617697556,179.65197039285357,138.93635171667057]
[25029,{"$f":"VLOOKUP($A1195,BasinData!$A:$K,8,FALSE)","v":212.41303489802485},{"$f":"VLOOKUP($A1195,BasinData!$A:$K,9,FALSE)","v":85.501392046957079},126.91164285106777,{"$f":"VLOOKUP($A1195,BasinData!$A:$K,7,FALSE)","v":187.37512040229799},25.037914495726852,19.728619008666623,3,206.06745275547146,193.37628847036467,167.99395990015114,129.92046704483079]
[25030,{"$f":"VLOOKUP($A1196,BasinData!$A:$K,8,FALSE)","v":282.54431774276401},{"$f":"VLOOKUP($A1196,BasinData!$A:$K,9,FALSE)","v":113.73093225451916},168.81338548824485,{"$f":"VLOOKUP($A1196,BasinData!$A:$K,7,FALSE)","v":203.82127383205031},78.723043910713699,46.633176440973337,4,274.10364846835176,257.22230991952728,223.4596328218783,172.81561717540484]
[25031,{"$f":"VLOOKUP($A1197,BasinData!$A:$K,8,FALSE)","v":153.21862945319415},{"$f":"VLOOKUP($A1197,BasinData!$A:$K,9,FALSE)","v":61.674209928144165},91.544419525049989,{"$f":"VLOOKUP($A1197,BasinData!$A:$K,7,FALSE)","v":105.27377840079538},47.944851052398775,52.373319205196623,4,148.64140847694165,139.48696652443667,121.17808261942666,93.714756761911659]
[25032,{"$f":"VLOOKUP($A1198,BasinData!$A:$K,8,FALSE)","v":205.82568144722705},{"$f":"VLOOKUP($A1198,BasinData!$A:$K,9,FALSE)","v":82.849822710739403},122.97585873648765,{"$f":"VLOOKUP($A1198,BasinData!$A:$K,7,FALSE)","v":138.20750304564854},67.618178401578518,54.9849206960779,4,199.67688851040268,187.37930263675392,162.78413088945638,125.89137326851008]
[25033,{"$f":"VLOOKUP($A1199,BasinData!$A:$K,8,FALSE)","v":223.80437886292972},{"$f":"VLOOKUP($A1199,BasinData!$A:$K,9,FALSE)","v":90.086683937130658},133.71769492579907,{"$f":"VLOOKUP($A1199,BasinData!$A:$K,7,FALSE)","v":186.86072587270749},36.943652990222233,27.628095900637934,3,217.11849411663977,203.74672462405988,177.00318563890005,136.88787716116033]
[25034,{"$f":"VLOOKUP($A1200,BasinData!$A:$K,8,FALSE)","v":279.82297653703455},{"$f":"VLOOKUP($A1200,BasinData!$A:$K,9,FALSE)","v":112.63552649735215},167.1874500396824,{"$f":"VLOOKUP($A1200,BasinData!$A:$K,7,FALSE)","v":233.78972404918923},46.033252487845317,27.533916258020085,3,271.46360403505042,254.7448590310822,221.30736902314572,171.15113401124097]
[25035,{"$f":"VLOOKUP($A1201,BasinData!$A:$K,8,FALSE)","v":224.66487358832978},{"$f":"VLOOKUP($A1201,BasinData!$A:$K,9,FALSE)","v":90.433053908757344},134.23181967957242,{"$f":"VLOOKUP($A1201,BasinData!$A:$K,7,FALSE)","v":165.93184104783398},58.733032540495799,43.754925382594564,4,217.95328260435116,204.53010063639391,177.68373670047944,137.4141907966077]
[25036,{"$f":"VLOOKUP($A1202,BasinData!$A:$K,8,FALSE)","v":228.75241061920832},{"$f":"VLOOKUP($A1202,BasinData!$A:$K,9,FALSE)","v":92.078386580320483},136.67402403888784,{"$f":"VLOOKUP($A1202,BasinData!$A:$K,7,FALSE)","v":185.82165166234324},42.930758956865077,31.411059459733181,3,221.91870941726393,208.25130701337514,180.91650220559757,139.91429499393121]
[25037,{"$f":"VLOOKUP($A1203,BasinData!$A:$K,8,FALSE)","v":229.22699183308882},{"$f":"VLOOKUP($A1203,BasinData!$A:$K,9,FALSE)","v":92.269417015178675},136.95757481791014,{"$f":"VLOOKUP($A1203,BasinData!$A:$K,7,FALSE)","v":164.31223989595185},64.91475193713697,47.397708395058388,4,222.37911309219331,208.68335561040229,181.29184064682028,140.20456820144722]
[25038,{"$f":"VLOOKUP($A1204,BasinData!$A:$K,8,FALSE)","v":214.64393243643332},{"$f":"VLOOKUP($A1204,BasinData!$A:$K,9,FALSE)","v":86.39938234750349},128.24455008892983,{"$f":"VLOOKUP($A1204,BasinData!$A:$K,7,FALSE)","v":112.46214938969402},102.1817830467393,79.677290751055239,5,208.23170493198683,195.40724992309384,169.75833990530788,131.28497487862893]
[25039,{"$f":"VLOOKUP($A1205,BasinData!$A:$K,8,FALSE)","v":177.28046830062874},{"$f":"VLOOKUP($A1205,BasinData!$A:$K,9,FALSE)","v":71.359682939030165},105.92078536159858,{"$f":"VLOOKUP($A1205,BasinData!$A:$K,7,FALSE)","v":158.34987801677946},18.930590283849284,17.872403626184351,3,171.9844290325488,161.39235049638896,140.20819342406924,108.43195781558967]
[25040,{"$f":"VLOOKUP($A1206,BasinData!$A:$K,8,FALSE)","v":277.2913182900088},{"$f":"VLOOKUP($A1206,BasinData!$A:$K,9,FALSE)","v":111.61647272594975},165.67484556405907,{"$f":"VLOOKUP($A1206,BasinData!$A:$K,7,FALSE)","v":247.86400581030335},29.427312479705449,17.762088372267243,3,269.00757601180584,252.44009145539994,219.30512234258813,169.6026686733704]
[25041,{"$f":"VLOOKUP($A1207,BasinData!$A:$K,8,FALSE)","v":231.09619572421099},{"$f":"VLOOKUP($A1207,BasinData!$A:$K,9,FALSE)","v":93.021816861013278},138.07437886319769,{"$f":"VLOOKUP($A1207,BasinData!$A:$K,7,FALSE)","v":168.33657731932578},62.759618404885202,45.453485955614269,4,224.19247678105111,210.38503889473134,182.77016312209179,141.34784946313249]
[25042,{"$f":"VLOOKUP($A1208,BasinData!$A:$K,8,FALSE)","v":228.77961774806985},{"$f":"VLOOKUP($A1208,BasinData!$A:$K,9,FALSE)","v":92.089338108753651},136.6902796393162,{"$f":"VLOOKUP($A1208,BasinData!$A:$K,7,FALSE)","v":183.31965671307134},45.459961034998514,33.257639939689518,3,221.94510376610404,208.27607580217241,180.93801987430919,139.93093598251431]
[25043,{"$f":"VLOOKUP($A1209,BasinData!$A:$K,8,FALSE)","v":283.63733324276069},{"$f":"VLOOKUP($A1209,BasinData!$A:$K,9,FALSE)","v":114.17089747051205},169.46643577224864,{"$f":"VLOOKUP($A1209,BasinData!$A:$K,7,FALSE)","v":271.51145052920538},12.125882713555313,7.1553299969391428,2,275.16401145414824,258.21736787692339,224.32408072247367,173.48414999079907]
[25044,{"$f":"VLOOKUP($A1210,BasinData!$A:$K,8,FALSE)","v":255.7850845382267},{"$f":"VLOOKUP($A1210,BasinData!$A:$K,9,FALSE)","v":102.95969267312768},152.82539186509902,{"$f":"VLOOKUP($A1210,BasinData!$A:$K,7,FALSE)","v":165.83574531343277},89.949339224793931,58.857587817732139,4,248.14381494497175,232.86127575846186,202.29619738544204,156.44857982591233]
[25045,{"$f":"VLOOKUP($A1211,BasinData!$A:$K,8,FALSE)","v":224.04803869225145},{"$f":"VLOOKUP($A1211,BasinData!$A:$K,9,FALSE)","v":90.184762920856556},133.86327577139491,{"$f":"VLOOKUP($A1211,BasinData!$A:$K,7,FALSE)","v":176.8590166006525},47.189022091598957,35.251656452951323,4,217.35487490368172,203.96854732654222,177.19589217226323,137.03690944084474]
[25046,{"$f":"VLOOKUP($A1212,BasinData!$A:$K,8,FALSE)","v":207.8107988901059},{"$f":"VLOOKUP($A1212,BasinData!$A:$K,9,FALSE)","v":83.648880569049851},124.16191832105605,{"$f":"VLOOKUP($A1212,BasinData!$A:$K,7,FALSE)","v":162.09714381644463},45.713655073661272,36.817774476917776,4,201.6027029740531,189.18651114194751,164.35412747773628,127.10555198141947]
[25047,{"$f":"VLOOKUP($A1213,BasinData!$A:$K,8,FALSE)","v":299.59586689070943},{"$f":"VLOOKUP($A1213,BasinData!$A:$K,9,FALSE)","v":120.59459384386729},179.00127304684213,{"$f":"VLOOKUP($A1213,BasinData!$A:$K,7,FALSE)","v":228.34304329687475},71.252823593834677,39.805763602133048,4,290.64580323836731,272.74567593368312,236.94542132431468,183.24503941026205]
[25048,{"$f":"VLOOKUP($A1214,BasinData!$A:$K,8,FALSE)","v":232.50326401476332},{"$f":"VLOOKUP($A1214,BasinData!$A:$K,9,FALSE)","v":93.588195932830189},138.91506808193313,{"$f":"VLOOKUP($A1214,BasinData!$A:$K,7,FALSE)","v":187.83042252550305},44.672841489260264,32.158384332297125,3,225.55751061066667,211.66600380247334,183.88299018608672,142.20846976150676]
[25049,{"$f":"VLOOKUP($A1215,BasinData!$A:$K,8,FALSE)","v":307.25168913301229},{"$f":"VLOOKUP($A1215,BasinData!$A:$K,9,FALSE)","v":123.67624775128971},183.57544138172258,{"$f":"VLOOKUP($A1215,BasinData!$A:$K,7,FALSE)","v":278.88422312157172},28.36746601144057,15.452756533186761,3,298.07291706392618,279.71537292575391,243.00028464940939,187.92765223489261]
[25050,{"$f":"VLOOKUP($A1216,BasinData!$A:$K,8,FALSE)","v":241.09283649867945},{"$f":"VLOOKUP($A1216,BasinData!$A:$K,9,FALSE)","v":97.0457069316992},144.04712956698023,{"$f":"VLOOKUP($A1216,BasinData!$A:$K,7,FALSE)","v":187.7562084914037},53.336628007275749,37.02720642029513,4,233.89048002033044,219.48576706363241,190.67634115023637,147.46220228014229]
[25051,{"$f":"VLOOKUP($A1217,BasinData!$A:$K,8,FALSE)","v":194.21880223944996},{"$f":"VLOOKUP($A1217,BasinData!$A:$K,9,FALSE)","v":78.177772664176786},116.04102957527317,{"$f":"VLOOKUP($A1217,BasinData!$A:$K,7,FALSE)","v":138.90786075516078},55.310941484289174,47.664986847096372,4,188.41675076068628,176.812647803159,153.60444188810436,118.7921330155224]
[25052,{"$f":"VLOOKUP($A1218,BasinData!$A:$K,8,FALSE)","v":225.9679044403992},{"$f":"VLOOKUP($A1218,BasinData!$A:$K,9,FALSE)","v":90.957555391378477},135.0103490490207,{"$f":"VLOOKUP($A1218,BasinData!$A:$K,7,FALSE)","v":147.17059066547256},78.797313774926636,58.363906418993281,4,219.21738698794815,205.7163520830461,178.71428227324196,138.21117755853572]
[25053,{"$f":"VLOOKUP($A1219,BasinData!$A:$K,8,FALSE)","v":238.72769198203488},{"$f":"VLOOKUP($A1219,BasinData!$A:$K,9,FALSE)","v":96.093678970409442},142.63401301162543,{"$f":"VLOOKUP($A1219,BasinData!$A:$K,7,FALSE)","v":186.95185026579097},51.775841716243917,36.299786161119869,4,231.5959913314536,217.33259003029107,188.80578742796598,146.01558352447836]
[25054,{"$f":"VLOOKUP($A1220,BasinData!$A:$K,8,FALSE)","v":219.51694407809433},{"$f":"VLOOKUP($A1220,BasinData!$A:$K,9,FALSE)","v":88.360887577269963},{"$f":"B1220-C1220","v":131.15605650082438},{"$f":"VLOOKUP($A1220,BasinData!$A:$K,7,FALSE)","v":194.59595756407367},{"$f":"B1220-E1220","v":24.920986514020655},{"$f":"F1220/D1220*100","v":19.001018465254035},{"$f":"IF($G1220<($I$1*100),1,IF($G1220<($J$1*100),2,IF($G1220<($K$1*100),3,IF($G1220<($L$1*100),4,5))))","v":3},{"$f":"B1220-(D1220*$I$1)","v":212.9591412530531},{"$f":"B1220-(D1220*$J$1)","v":199.84353560297066},{"$f":"B1220-(D1220*$K$1)","v":173.6123243028058},{"$f":"B1220-(D1220*$L$1)","v":134.26550735255847}]
[25055,{"$f":"VLOOKUP($A1221,BasinData!$A:$K,8,FALSE)","v":240.90715590698625},{"$f":"VLOOKUP($A1221,BasinData!$A:$K,9,FALSE)","v":96.970965995609788},143.93618991137646,{"$f":"VLOOKUP($A1221,BasinData!$A:$K,7,FALSE)","v":222.03869934147309},18.868456565513156,13.10890372819423,2,233.71034641141742,219.31672742027979,190.52948943800448,147.34863246459156]
[25056,{"$f":"VLOOKUP($A1222,BasinData!$A:$K,8,FALSE)","v":189.82025174824705},{"$f":"VLOOKUP($A1222,BasinData!$A:$K,9,FALSE)","v":76.407249540832552},113.41300220741449,{"$f":"VLOOKUP($A1222,BasinData!$A:$K,7,FALSE)","v":169.09311006217499},20.727141686072059,18.275807255472689,3,184.14960163787632,172.80830141713489,150.12570097565197,116.10180031342762]
[25057,{"$f":"VLOOKUP($A1223,BasinData!$A:$K,8,FALSE)","v":243.11842213683812},{"$f":"VLOOKUP($A1223,BasinData!$A:$K,9,FALSE)","v":97.861054218912699},145.25736791792542,{"$f":"VLOOKUP($A1223,BasinData!$A:$K,7,FALSE)","v":192.52327676556121},50.595145371276914,34.831379706580265,3,235.85555374094184,221.32981694914932,192.27834336556424,148.70113299018658]
[25058,{"$f":"VLOOKUP($A1224,BasinData!$A:$K,8,FALSE)","v":120.06668429690518},{"$f":"VLOOKUP($A1224,BasinData!$A:$K,9,FALSE)","v":48.3297489289033},71.73693536800188,{"$f":"VLOOKUP($A1224,BasinData!$A:$K,7,FALSE)","v":96.715736529347424},23.350947767557756,32.550801965222227,3,116.47983752850509,109.3061439917049,94.958756918104527,73.437676307703953]
[25059,{"$f":"VLOOKUP($A1225,BasinData!$A:$K,8,FALSE)","v":226.65109305879841},{"$f":"VLOOKUP($A1225,BasinData!$A:$K,9,FALSE)","v":91.232555359868229},135.41853769893018,{"$f":"VLOOKUP($A1225,BasinData!$A:$K,7,FALSE)","v":144.89514546784261},81.755947590955799,60.372788674413279,4,219.8801661738519,206.33831240395889,179.25460486417285,138.62904355449379]
[25060,{"$f":"VLOOKUP($A1226,BasinData!$A:$K,8,FALSE)","v":224.42114127296298},{"$f":"VLOOKUP($A1226,BasinData!$A:$K,9,FALSE)","v":90.334945747642408},134.08619552532059,{"$f":"VLOOKUP($A1226,BasinData!$A:$K,7,FALSE)","v":149.53050223637581},74.890639036587174,55.852609392922162,4,217.71683149669695,204.3082119441649,177.49097283910078,137.2651141815046]
[25061,{"$f":"VLOOKUP($A1227,BasinData!$A:$K,8,FALSE)","v":271.71575947295332},{"$f":"VLOOKUP($A1227,BasinData!$A:$K,9,FALSE)","v":109.37217523956059},162.34358423339273,{"$f":"VLOOKUP($A1227,BasinData!$A:$K,7,FALSE)","v":268.98084932545214},2.7349101475011821,1.6846431969675792,1,263.5985802612837,247.3642218379444,214.89550499126588,166.19242972124806]
[25062,{"$f":"VLOOKUP($A1228,BasinData!$A:$K,8,FALSE)","v":229.15465622708825},{"$f":"VLOOKUP($A1228,BasinData!$A:$K,9,FALSE)","v":92.240300181503287},136.91435604558495,{"$f":"VLOOKUP($A1228,BasinData!$A:$K,7,FALSE)","v":142.05682609934374},87.097830127744515,63.614826555329032,4,222.30893842480901,208.61750282025051,181.23463161113352,140.16032479745803]
[25063,{"$f":"VLOOKUP($A1229,BasinData!$A:$K,8,FALSE)","v":187.31497041476908},{"$f":"VLOOKUP($A1229,BasinData!$A:$K,9,FALSE)","v":75.398813116088391},111.91615729868069,{"$f":"VLOOKUP($A1229,BasinData!$A:$K,7,FALSE)","v":119.74549178924624},67.569478625522834,60.37508815210132,4,181.71916254983503,170.52754681996697,148.14431536023085,114.56946817062664]
[25064,{"$f":"VLOOKUP($A1230,BasinData!$A:$K,8,FALSE)","v":234.80439881955377},{"$f":"VLOOKUP($A1230,BasinData!$A:$K,9,FALSE)","v":94.514458434525267},140.2899403850285,{"$f":"VLOOKUP($A1230,BasinData!$A:$K,7,FALSE)","v":186.3684581119266},48.435940707627168,34.52559789725035,3,227.78990180030235,213.7609077617995,185.70291968479381,143.61593756928522]
[25065,{"$f":"VLOOKUP($A1231,BasinData!$A:$K,8,FALSE)","v":134.84974236393535},{"$f":"VLOOKUP($A1231,BasinData!$A:$K,9,FALSE)","v":54.280287906178792},80.569454457756564,{"$f":"VLOOKUP($A1231,BasinData!$A:$K,7,FALSE)","v":101.18007688146575},33.669665482469597,41.789615815411743,4,130.82126964104751,122.76432419527187,106.65043330372055,82.479596966393586]
[25066,{"$f":"VLOOKUP($A1232,BasinData!$A:$K,8,FALSE)","v":148.22290821124682},{"$f":"VLOOKUP($A1232,BasinData!$A:$K,9,FALSE)","v":59.66331111174096},88.559597099505851,{"$f":"VLOOKUP($A1232,BasinData!$A:$K,7,FALSE)","v":132.86586140086288},15.357046810383935,17.340917656986072,3,143.79492835627153,134.93896864632094,117.22704922641978,90.659170096568005]
[25068,{"$f":"VLOOKUP($A1233,BasinData!$A:$K,8,FALSE)","v":132.25479949675469},{"$f":"VLOOKUP($A1233,BasinData!$A:$K,9,FALSE)","v":53.23576054215529},79.019038954599395,{"$f":"VLOOKUP($A1233,BasinData!$A:$K,7,FALSE)","v":118.94563492519369},13.309164571560999,16.842984611857677,3,128.30384754902471,120.40194365356477,104.5981358626449,80.892424176265081]
[25069,{"$f":"VLOOKUP($A1234,BasinData!$A:$K,8,FALSE)","v":232.20779345236369},{"$f":"VLOOKUP($A1234,BasinData!$A:$K,9,FALSE)","v":93.469261873975498},138.73853157838818,{"$f":"VLOOKUP($A1234,BasinData!$A:$K,7,FALSE)","v":169.37779940071005},62.829994051653642,45.286621774682892,4,225.27086687344428,211.39701371560545,183.64930739992784,142.02774792641137]
[25070,{"$f":"VLOOKUP($A1235,BasinData!$A:$K,8,FALSE)","v":229.11490575711093},{"$f":"VLOOKUP($A1235,BasinData!$A:$K,9,FALSE)","v":92.224299654420705},136.89060610269024,{"$f":"VLOOKUP($A1235,BasinData!$A:$K,7,FALSE)","v":156.3862800491012},72.72862570800973,53.129011389906054,4,222.27037545197641,208.58131484170741,181.20319362116936,140.13601179036226]
[25071,{"$f":"VLOOKUP($A1236,BasinData!$A:$K,8,FALSE)","v":215.02109677905148},{"$f":"VLOOKUP($A1236,BasinData!$A:$K,9,FALSE)","v":86.551200131849029},128.46989664720246,{"$f":"VLOOKUP($A1236,BasinData!$A:$K,7,FALSE)","v":192.13533093653285},22.885765842518623,17.814107771384265,3,208.59760194669136,195.75061228197112,170.05663295253061,131.51566395836988]
[25072,{"$f":"VLOOKUP($A1237,BasinData!$A:$K,8,FALSE)","v":255.83122346239469},{"$f":"VLOOKUP($A1237,BasinData!$A:$K,9,FALSE)","v":102.97826470777613},152.85295875461856,{"$f":"VLOOKUP($A1237,BasinData!$A:$K,7,FALSE)","v":155.85044182809057},99.980781634304122,65.409778422940164,5,248.18857552466375,232.90327964920192,202.33268789827821,156.47680027189261]
[25073,{"$f":"VLOOKUP($A1238,BasinData!$A:$K,8,FALSE)","v":235.36594688395337},{"$f":"VLOOKUP($A1238,BasinData!$A:$K,9,FALSE)","v":94.740495133405304},140.62545175054805,{"$f":"VLOOKUP($A1238,BasinData!$A:$K,7,FALSE)","v":186.19234377106378},49.173603112889595,34.967783214746511,3,228.33467429642596,214.27212912137117,186.14703877126155,143.95940324609714]
[25074,{"$f":"VLOOKUP($A1239,BasinData!$A:$K,8,FALSE)","v":199.93820116710978},{"$f":"VLOOKUP($A1239,BasinData!$A:$K,9,FALSE)","v":80.47996927947186},119.45823188763792,{"$f":"VLOOKUP($A1239,BasinData!$A:$K,7,FALSE)","v":146.18540478710804},53.75279638000174,44.997147145591001,4,193.9652895727279,182.0194663839641,158.12782000643651,122.29035044014513]
[25075,{"$f":"VLOOKUP($A1240,BasinData!$A:$K,8,FALSE)","v":198.96149937266057},{"$f":"VLOOKUP($A1240,BasinData!$A:$K,9,FALSE)","v":80.086823147548927},118.87467622511164,{"$f":"VLOOKUP($A1240,BasinData!$A:$K,7,FALSE)","v":138.45256736731662},60.508932005343951,50.901448421831134,4,193.01776556140499,181.13029793889382,157.35536269387148,121.692959826338]
[26001,{"$f":"VLOOKUP($A1241,BasinData!$A:$K,8,FALSE)","v":141.99790808445835},{"$f":"VLOOKUP($A1241,BasinData!$A:$K,9,FALSE)","v":57.157597766096153},84.840310318362185,{"$f":"VLOOKUP($A1241,BasinData!$A:$K,7,FALSE)","v":131.58939100359171},10.408517080866631,12.268362812216035,2,137.75589256854025,129.27186153670402,112.30379947303157,86.85170637752293]
[26002,{"$f":"VLOOKUP($A1242,BasinData!$A:$K,8,FALSE)","v":256.15767570547587},{"$f":"VLOOKUP($A1242,BasinData!$A:$K,9,FALSE)","v":103.10966964360641},153.04800606186944,{"$f":"VLOOKUP($A1242,BasinData!$A:$K,7,FALSE)","v":229.78675064723001},26.370925058245859,17.230492403530857,3,248.50527540238238,233.20047479619546,202.59087358382158,156.67647176526071]
[26003,{"$f":"VLOOKUP($A1243,BasinData!$A:$K,8,FALSE)","v":356.5729317412717},{"$f":"VLOOKUP($A1243,BasinData!$A:$K,9,FALSE)","v":143.52924266055402},213.04368908071768,{"$f":"VLOOKUP($A1243,BasinData!$A:$K,7,FALSE)","v":327.46222621618949},29.11070552508221,13.664195194279042,2,345.92074728723583,324.61637837916408,282.00764056302052,218.09453383880521]
[26004,{"$f":"VLOOKUP($A1244,BasinData!$A:$K,8,FALSE)","v":253.23849621695709},{"$f":"VLOOKUP($A1244,BasinData!$A:$K,9,FALSE)","v":101.9346291851755},151.30386703178158,{"$f":"VLOOKUP($A1244,BasinData!$A:$K,7,FALSE)","v":238.49320103961364},14.745295177343451,9.7454846770348453,2,245.67330286536802,230.54291616218984,200.28214275583355,154.89098264629905]
[26005,{"$f":"VLOOKUP($A1245,BasinData!$A:$K,8,FALSE)","v":269.4685363875513},{"$f":"VLOOKUP($A1245,BasinData!$A:$K,9,FALSE)","v":108.46761351087866},161.00092287667263,{"$f":"VLOOKUP($A1245,BasinData!$A:$K,7,FALSE)","v":235.25475181592853},34.213784571622767,21.250676058441396,3,261.41849024371766,245.3183979560504,213.11821338071587,164.81793651771409]
[27001,{"$f":"VLOOKUP($A1246,BasinData!$A:$K,8,FALSE)","v":253.52100330613382},{"$f":"VLOOKUP($A1246,BasinData!$A:$K,9,FALSE)","v":102.04834513203036},151.47265817410346,{"$f":"VLOOKUP($A1246,BasinData!$A:$K,7,FALSE)","v":242.04211112687341},11.478892179260413,7.5781941887271262,2,245.94737039742864,230.80010458001831,200.50557294519763,155.06377549296656]
[27002,{"$f":"VLOOKUP($A1247,BasinData!$A:$K,8,FALSE)","v":267.68113673603881},{"$f":"VLOOKUP($A1247,BasinData!$A:$K,9,FALSE)","v":107.74814185311561},159.9329948829232,{"$f":"VLOOKUP($A1247,BasinData!$A:$K,7,FALSE)","v":217.84864304307865},49.832493692960156,31.158357116640857,3,259.68448699189264,243.69118750360033,211.70458852701569,163.72469006213873]
[27003,{"$f":"VLOOKUP($A1248,BasinData!$A:$K,8,FALSE)","v":263.91360255956886},{"$f":"VLOOKUP($A1248,BasinData!$A:$K,9,FALSE)","v":106.23161808221185},157.68198447735699,{"$f":"VLOOKUP($A1248,BasinData!$A:$K,7,FALSE)","v":220.77959814176211},43.13400441780675,27.355061873920516,3,256.02950333570101,240.26130488796531,208.72490799249391,161.42031264928681]
[27004,{"$f":"VLOOKUP($A1249,BasinData!$A:$K,8,FALSE)","v":365.04162444852074},{"$f":"VLOOKUP($A1249,BasinData!$A:$K,9,FALSE)","v":146.93809662111875},218.10352782740199,{"$f":"VLOOKUP($A1249,BasinData!$A:$K,7,FALSE)","v":355.82443516632139},9.2171892821993424,4.226061528676162,1,354.13644805715063,332.32609527441042,288.70538970893006,223.27433136070943]
[27005,{"$f":"VLOOKUP($A1250,BasinData!$A:$K,8,FALSE)","v":148.90176449922799},{"$f":"VLOOKUP($A1250,BasinData!$A:$K,9,FALSE)","v":59.936567212290946},88.965197286937041,{"$f":"VLOOKUP($A1250,BasinData!$A:$K,7,FALSE)","v":137.45066273936385},11.451101759864144,12.871439741690468,2,144.45350463488114,135.55698490618744,117.76394544880003,91.074386262718917]
[27006,{"$f":"VLOOKUP($A1251,BasinData!$A:$K,8,FALSE)","v":313.33641988959499},{"$f":"VLOOKUP($A1251,BasinData!$A:$K,9,FALSE)","v":126.12549927753675},187.21092061205826,{"$f":"VLOOKUP($A1251,BasinData!$A:$K,7,FALSE)","v":272.89398599183659},40.442433897758406,21.602604039090178,3,303.97587385899209,285.25478179778628,247.8125976753746,191.64932149175712]
[27007,{"$f":"VLOOKUP($A1252,BasinData!$A:$K,8,FALSE)","v":94.805417331478793},{"$f":"VLOOKUP($A1252,BasinData!$A:$K,9,FALSE)","v":38.161477045538518},56.643940285940275,{"$f":"VLOOKUP($A1252,BasinData!$A:$K,7,FALSE)","v":76.688225104995837},18.117192226482956,31.984343135429562,3,91.973220317181784,86.308826288587753,74.980038231399703,57.986856145617615]
[27008,{"$f":"VLOOKUP($A1253,BasinData!$A:$K,8,FALSE)","v":201.76544956821942},{"$f":"VLOOKUP($A1253,BasinData!$A:$K,9,FALSE)","v":81.215481024245221},120.5499685439742,{"$f":"VLOOKUP($A1253,BasinData!$A:$K,7,FALSE)","v":170.68230587027034},31.083143697949083,25.784447788230302,3,195.73795114102072,183.6829542866233,159.57296057782844,123.40797001463619]
[27009,{"$f":"VLOOKUP($A1254,BasinData!$A:$K,8,FALSE)","v":190.2512435058876},{"$f":"VLOOKUP($A1254,BasinData!$A:$K,9,FALSE)","v":76.580734163641722},113.67050934224588,{"$f":"VLOOKUP($A1254,BasinData!$A:$K,7,FALSE)","v":185.26914162755818},4.9821018783294164,4.3829326596303089,1,184.5677180387753,173.20066710455072,150.46656523610153,116.36541243342778]
[27010,{"$f":"VLOOKUP($A1255,BasinData!$A:$K,8,FALSE)","v":253.02467934411519},{"$f":"VLOOKUP($A1255,BasinData!$A:$K,9,FALSE)","v":101.84856271434951},151.17611662976566,{"$f":"VLOOKUP($A1255,BasinData!$A:$K,7,FALSE)","v":243.50890029913703},9.5157790449781601,6.2944989308612529,2,245.4658735126269,230.34826184965033,200.11303852369721,154.7602035347675]
[27011,{"$f":"VLOOKUP($A1256,BasinData!$A:$K,8,FALSE)","v":217.32073440339025},{"$f":"VLOOKUP($A1256,BasinData!$A:$K,9,FALSE)","v":87.476859982144546},129.84387442124569,{"$f":"VLOOKUP($A1256,BasinData!$A:$K,7,FALSE)","v":199.72793954053017},17.592794862860075,13.549191243157679,2,210.82854068232797,197.84415324020338,171.87537835595427,132.92221602958057]
[27012,{"$f":"VLOOKUP($A1257,BasinData!$A:$K,8,FALSE)","v":106.8350128026651},{"$f":"VLOOKUP($A1257,BasinData!$A:$K,9,FALSE)","v":43.003680628016326},63.831332174648779,{"$f":"VLOOKUP($A1257,BasinData!$A:$K,7,FALSE)","v":91.748337696090729},15.086675106574376,23.63521893181824,3,103.64344619393266,97.260312976467787,84.49404654153804,65.344646889143405]
[27013,{"$f":"VLOOKUP($A1258,BasinData!$A:$K,8,FALSE)","v":208.38569346700837},{"$f":"VLOOKUP($A1258,BasinData!$A:$K,9,FALSE)","v":83.880289562518655},124.50540390448971,{"$f":"VLOOKUP($A1258,BasinData!$A:$K,7,FALSE)","v":185.35597752422555},23.029715942782815,18.496960951549795,3,202.16042327178388,189.70988288133492,164.80880210043696,127.45718092909006]
[27014,{"$f":"VLOOKUP($A1259,BasinData!$A:$K,8,FALSE)","v":256.10609719098363},{"$f":"VLOOKUP($A1259,BasinData!$A:$K,9,FALSE)","v":103.08890804208365},153.0171891489,{"$f":"VLOOKUP($A1259,BasinData!$A:$K,7,FALSE)","v":245.98438673718525},10.121710453798386,6.6147538783691919,2,248.45523773353864,233.15351881864862,202.55008098886864,156.64492424419865]
[27015,{"$f":"VLOOKUP($A1260,BasinData!$A:$K,8,FALSE)","v":285.20321295077946},{"$f":"VLOOKUP($A1260,BasinData!$A:$K,9,FALSE)","v":114.80120198491231},170.40201096586713,{"$f":"VLOOKUP($A1260,BasinData!$A:$K,7,FALSE)","v":279.5905427389655},5.6126702118139633,3.293781675462871,1,276.68311240248613,259.64291130589936,225.56250911272596,174.44190582296582]
[27016,{"$f":"VLOOKUP($A1261,BasinData!$A:$K,8,FALSE)","v":267.73039014876775},{"$f":"VLOOKUP($A1261,BasinData!$A:$K,9,FALSE)","v":107.76796754485534},159.96242260391242,{"$f":"VLOOKUP($A1261,BasinData!$A:$K,7,FALSE)","v":267.10922649784305},0.62116365092470005,0.38831848181168233,1,259.73226901857214,243.73602675818088,211.7435422373984,163.75481545622466]
[27017,{"$f":"VLOOKUP($A1262,BasinData!$A:$K,8,FALSE)","v":246.84970234385685},{"$f":"VLOOKUP($A1262,BasinData!$A:$K,9,FALSE)","v":99.362984888894971},147.48671745496188,{"$f":"VLOOKUP($A1262,BasinData!$A:$K,7,FALSE)","v":188.47260591086621},58.377096432990641,39.581256834750086,4,239.47536647110874,224.72669472561256,195.2293512346202,150.98333599813162]
[27018,{"$f":"VLOOKUP($A1263,BasinData!$A:$K,8,FALSE)","v":232.84664541864623},{"$f":"VLOOKUP($A1263,BasinData!$A:$K,9,FALSE)","v":93.726415265975746},139.1202301526705,{"$f":"VLOOKUP($A1263,BasinData!$A:$K,7,FALSE)","v":229.96870793002708},2.8779374886191533,2.0686692981034502,1,225.89063391101271,211.97861089574565,184.15456486521157,142.4184958194104]
[27019,{"$f":"VLOOKUP($A1264,BasinData!$A:$K,8,FALSE)","v":271.93818580661889},{"$f":"VLOOKUP($A1264,BasinData!$A:$K,9,FALSE)","v":109.46170722692398},162.47647857969491,{"$f":"VLOOKUP($A1264,BasinData!$A:$K,7,FALSE)","v":242.94089046783839},28.997295338780503,17.847072753092256,3,263.81436187763416,247.56671401966466,215.07141830372566,166.32847472981717]
[27020,{"$f":"VLOOKUP($A1265,BasinData!$A:$K,8,FALSE)","v":217.05337181288746},{"$f":"VLOOKUP($A1265,BasinData!$A:$K,9,FALSE)","v":87.369240062866794},129.68413175002067,{"$f":"VLOOKUP($A1265,BasinData!$A:$K,7,FALSE)","v":193.35704154768143},23.696330265206029,18.272343690346872,3,210.56916522538643,197.60075205038436,171.66392570038022,132.75868617537401]
[27021,{"$f":"VLOOKUP($A1266,BasinData!$A:$K,8,FALSE)","v":110.87236056691106},{"$f":"VLOOKUP($A1266,BasinData!$A:$K,9,FALSE)","v":44.628810903973346},66.24354966293771,{"$f":"VLOOKUP($A1266,BasinData!$A:$K,7,FALSE)","v":104.49631770681565},6.37604286009541,9.6251527771959235,2,107.56018308376417,100.93582811747039,87.687118184882863,67.814053286001553]
[27022,{"$f":"VLOOKUP($A1267,BasinData!$A:$K,8,FALSE)","v":216.27879280782679},{"$f":"VLOOKUP($A1267,BasinData!$A:$K,9,FALSE)","v":87.057453249901997},129.22133955792481,{"$f":"VLOOKUP($A1267,BasinData!$A:$K,7,FALSE)","v":173.01974103713303},43.259051770693759,33.476708969807916,3,209.81772582993054,196.89559187413806,171.05132396255311,132.28492209517566]
[27023,{"$f":"VLOOKUP($A1268,BasinData!$A:$K,8,FALSE)","v":281.87635886548361},{"$f":"VLOOKUP($A1268,BasinData!$A:$K,9,FALSE)","v":113.46206262575548},168.41429623972812,{"$f":"VLOOKUP($A1268,BasinData!$A:$K,7,FALSE)","v":285.1112335794669},-3.2348747139832881,-1.9207839157423006,1,273.45564405349722,256.6142144295244,222.93135518157877,172.40706630966034]
[27024,{"$f":"VLOOKUP($A1269,BasinData!$A:$K,8,FALSE)","v":154.82706942370643},{"$f":"VLOOKUP($A1269,BasinData!$A:$K,9,FALSE)","v":62.321645979179308},92.505423444527125,{"$f":"VLOOKUP($A1269,BasinData!$A:$K,7,FALSE)","v":145.80837434783308},9.0186950758733531,9.7493689991934467,2,150.20179825148008,140.95125590702736,122.45017121812194,94.69854418476379]
[27025,{"$f":"VLOOKUP($A1270,BasinData!$A:$K,8,FALSE)","v":176.52996666852678},{"$f":"VLOOKUP($A1270,BasinData!$A:$K,9,FALSE)","v":71.057587851932354},105.47237881659443,{"$f":"VLOOKUP($A1270,BasinData!$A:$K,7,FALSE)","v":157.1322293835803},19.397737284946487,18.391295903809233,3,171.25634772769706,160.70910984603762,139.61463408271874,107.9729204377404]
[27026,{"$f":"VLOOKUP($A1271,BasinData!$A:$K,8,FALSE)","v":255.24025775041937},{"$f":"VLOOKUP($A1271,BasinData!$A:$K,9,FALSE)","v":102.74038669313279},152.49987105728658,{"$f":"VLOOKUP($A1271,BasinData!$A:$K,7,FALSE)","v":244.66520113737502},10.575056613044353,6.9344692160899157,2,247.61526419755504,232.36527709182639,201.86530288036909,156.11534156318311]
[27027,{"$f":"VLOOKUP($A1272,BasinData!$A:$K,8,FALSE)","v":290.1801011692628},{"$f":"VLOOKUP($A1272,BasinData!$A:$K,9,FALSE)","v":116.80452005315948},173.37558111610332,{"$f":"VLOOKUP($A1272,BasinData!$A:$K,7,FALSE)","v":283.62059909993849},6.55950206932431,3.7834059601113323,1,281.51132211345765,264.1737640018473,229.49864777862663,177.48597344379564]
[27028,{"$f":"VLOOKUP($A1273,BasinData!$A:$K,8,FALSE)","v":220.60357804527789},{"$f":"VLOOKUP($A1273,BasinData!$A:$K,9,FALSE)","v":88.798284071719124},131.80529397355878,{"$f":"VLOOKUP($A1273,BasinData!$A:$K,7,FALSE)","v":208.47084120748877},12.13273683778911,9.2050451632261741,2,214.01331334659994,200.83278394924406,174.47172515453232,134.93013696246467]
[27029,{"$f":"VLOOKUP($A1274,BasinData!$A:$K,8,FALSE)","v":200.58464060029306},{"$f":"VLOOKUP($A1274,BasinData!$A:$K,9,FALSE)","v":80.740176810698713},119.84446378959434,{"$f":"VLOOKUP($A1274,BasinData!$A:$K,7,FALSE)","v":172.73724393627239},27.847396664020664,23.236281246091696,3,194.59241741081334,182.60797103185391,158.63907827393504,122.68573913705673]
[27030,{"$f":"VLOOKUP($A1275,BasinData!$A:$K,8,FALSE)","v":191.42876000886099},{"$f":"VLOOKUP($A1275,BasinData!$A:$K,9,FALSE)","v":77.054713080287883},114.37404692857311,{"$f":"VLOOKUP($A1275,BasinData!$A:$K,7,FALSE)","v":177.19226784449484},14.236492164366155,12.447309985679603,2,185.71005766243235,174.27265296957503,151.39784358386041,117.08562950528847]
[27031,{"$f":"VLOOKUP($A1276,BasinData!$A:$K,8,FALSE)","v":319.97570586594463},{"$f":"VLOOKUP($A1276,BasinData!$A:$K,9,FALSE)","v":128.79797271330429},191.17773315264034,{"$f":"VLOOKUP($A1276,BasinData!$A:$K,7,FALSE)","v":314.39281122150589},5.5828946444387384,2.9202640665172219,1,310.41681920831263,291.29904589304857,253.06349926252051,195.71017931672839]
[27032,{"$f":"VLOOKUP($A1277,BasinData!$A:$K,8,FALSE)","v":264.5143855953159},{"$f":"VLOOKUP($A1277,BasinData!$A:$K,9,FALSE)","v":106.4734478074885},158.0409377878274,{"$f":"VLOOKUP($A1277,BasinData!$A:$K,7,FALSE)","v":261.72407346812463},2.790312127191271,1.7655628764600928,1,256.61233870592451,240.8082449271418,209.20005736957631,161.78777603322808]
[27033,{"$f":"VLOOKUP($A1278,BasinData!$A:$K,8,FALSE)","v":365.87896692673991},{"$f":"VLOOKUP($A1278,BasinData!$A:$K,9,FALSE)","v":147.27514725241431},218.60381967432559,{"$f":"VLOOKUP($A1278,BasinData!$A:$K,7,FALSE)","v":357.84861176068495},8.0303551660549601,3.6734743144097513,1,354.94877594302363,333.08839397559109,289.36763004072594,223.78648413842828]
[27034,{"$f":"VLOOKUP($A1279,BasinData!$A:$K,8,FALSE)","v":195.4349073107567},{"$f":"VLOOKUP($A1279,BasinData!$A:$K,9,FALSE)","v":78.667284414347904},116.7676228964088,{"$f":"VLOOKUP($A1279,BasinData!$A:$K,7,FALSE)","v":184.37963939228766},11.055267918469042,9.4677511147733124,2,189.59652616593627,177.91976387629538,154.56623929701362,119.53595242809098]
[27035,{"$f":"VLOOKUP($A1280,BasinData!$A:$K,8,FALSE)","v":263.42124046489329},{"$f":"VLOOKUP($A1280,BasinData!$A:$K,9,FALSE)","v":106.033430412109},157.38781005278429,{"$f":"VLOOKUP($A1280,BasinData!$A:$K,7,FALSE)","v":250.7677978509692},12.653442613924085,8.0396586048693397,2,255.55184996225407,239.81306895697566,208.33550694641877,161.11916393058351]
[27036,{"$f":"VLOOKUP($A1281,BasinData!$A:$K,8,FALSE)","v":236.37169182958152},{"$f":"VLOOKUP($A1281,BasinData!$A:$K,9,FALSE)","v":95.145331837220027},141.22635999236149,{"$f":"VLOOKUP($A1281,BasinData!$A:$K,7,FALSE)","v":211.33074767499511},25.040944154586413,17.731069579319897,3,229.31037382996345,215.18773783072729,186.94246583225501,144.57455783454657]
[27037,{"$f":"VLOOKUP($A1282,BasinData!$A:$K,8,FALSE)","v":210.82489163981276},{"$f":"VLOOKUP($A1282,BasinData!$A:$K,9,FALSE)","v":84.862125914291013},125.96276572552175,{"$f":"VLOOKUP($A1282,BasinData!$A:$K,7,FALSE)","v":187.97357313204327},22.851318507769491,18.141328015584772,3,204.52675335353666,191.93047678098449,166.73792363588015,128.94909391822364]
[27038,{"$f":"VLOOKUP($A1283,BasinData!$A:$K,8,FALSE)","v":265.75512562718052},{"$f":"VLOOKUP($A1283,BasinData!$A:$K,9,FALSE)","v":106.97287572604226},158.78224990113824,{"$f":"VLOOKUP($A1283,BasinData!$A:$K,7,FALSE)","v":245.86023542965432},19.894890197526195,12.529668908151411,2,257.8160131321236,241.93778814200979,210.18133816178215,162.54666319144064]
[27039,{"$f":"VLOOKUP($A1284,BasinData!$A:$K,8,FALSE)","v":183.23206489654328},{"$f":"VLOOKUP($A1284,BasinData!$A:$K,9,FALSE)","v":73.755344740561895},{"$f":"B1284-C1284","v":109.47672015598138},{"$f":"VLOOKUP($A1284,BasinData!$A:$K,7,FALSE)","v":103.93768246931035},{"$f":"B1284-E1284","v":79.294382427232932},{"$f":"F1284/D1284*100","v":72.430359910540858},{"$f":"IF($G1284<($I$1*100),1,IF($G1284<($J$1*100),2,IF($G1284<($K$1*100),3,IF($G1284<($L$1*100),4,5))))","v":5},{"$f":"B1284-(D1284*$I$1)","v":177.75822888874421},{"$f":"B1284-(D1284*$J$1)","v":166.81055687314608},{"$f":"B1284-(D1284*$K$1)","v":144.9152128419498},{"$f":"B1284-(D1284*$L$1)","v":112.07219679515538}]
[27040,{"$f":"VLOOKUP($A1285,BasinData!$A:$K,8,FALSE)","v":225.06110758261372},{"$f":"VLOOKUP($A1285,BasinData!$A:$K,9,FALSE)","v":90.592547689842235},134.46855989277148,{"$f":"VLOOKUP($A1285,BasinData!$A:$K,7,FALSE)","v":183.59389659109092},41.467210991522791,30.837848657403455,3,218.33767958797515,204.89082359869801,177.9971116201437,137.65654365231225]
[27041,{"$f":"VLOOKUP($A1286,BasinData!$A:$K,8,FALSE)","v":261.92235768056469},{"$f":"VLOOKUP($A1286,BasinData!$A:$K,9,FALSE)","v":105.43009378242974},156.49226389813495,{"$f":"VLOOKUP($A1286,BasinData!$A:$K,7,FALSE)","v":208.31735702078103},53.605000659783656,34.254089834547088,3,254.09774448565793,238.44851809584443,207.15006531621745,160.20238614677697]
[27042,{"$f":"VLOOKUP($A1287,BasinData!$A:$K,8,FALSE)","v":159.70552441132381},{"$f":"VLOOKUP($A1287,BasinData!$A:$K,9,FALSE)","v":64.285342287553007},95.4201821237708,{"$f":"VLOOKUP($A1287,BasinData!$A:$K,7,FALSE)","v":116.20309256789747},43.502431843426336,45.59038861086929,4,154.93451530513528,145.39249709275819,126.30846066800403,97.682406030872784]
[27043,{"$f":"VLOOKUP($A1288,BasinData!$A:$K,8,FALSE)","v":152.81371572098931},{"$f":"VLOOKUP($A1288,BasinData!$A:$K,9,FALSE)","v":61.511222342287851},91.302493378701456,{"$f":"VLOOKUP($A1288,BasinData!$A:$K,7,FALSE)","v":139.69222685079521},13.121488870194099,14.371446369782282,2,148.24859105205422,139.11834171418408,120.8578430384438,93.467095024833355]
[27044,{"$f":"VLOOKUP($A1289,BasinData!$A:$K,8,FALSE)","v":191.86427481688102},{"$f":"VLOOKUP($A1289,BasinData!$A:$K,9,FALSE)","v":77.230018340441305},114.63425647643972,{"$f":"VLOOKUP($A1289,BasinData!$A:$K,7,FALSE)","v":167.75314831940133},24.111126497479688,21.033090141283502,3,186.13256199305903,174.66913634541507,151.74228505012712,117.3520081071952]
[27045,{"$f":"VLOOKUP($A1290,BasinData!$A:$K,8,FALSE)","v":285.32544753429852},{"$f":"VLOOKUP($A1290,BasinData!$A:$K,9,FALSE)","v":114.85040436579341},170.47504316850512,{"$f":"VLOOKUP($A1290,BasinData!$A:$K,7,FALSE)","v":225.30660756497451},60.018839969324006,35.206819047406668,4,276.80169537587324,259.75419105902273,225.65918242532172,174.5166694747702]
[27046,{"$f":"VLOOKUP($A1291,BasinData!$A:$K,8,FALSE)","v":182.01753501245747},{"$f":"VLOOKUP($A1291,BasinData!$A:$K,9,FALSE)","v":73.26646704140461},108.75106797105286,{"$f":"VLOOKUP($A1291,BasinData!$A:$K,7,FALSE)","v":153.68744767979317},28.330087332664306,26.050399192590135,3,176.57998161390483,165.70487481679953,143.95466122258898,111.32934083127311]
[27047,{"$f":"VLOOKUP($A1292,BasinData!$A:$K,8,FALSE)","v":252.0936942486731},{"$f":"VLOOKUP($A1292,BasinData!$A:$K,9,FALSE)","v":101.47381866121981},150.61987558745329,{"$f":"VLOOKUP($A1292,BasinData!$A:$K,7,FALSE)","v":204.07007037180088},48.023623876872222,31.883988543722186,3,244.56270046930044,229.50071291055511,199.37673779306445,154.19077511682846]
[27048,{"$f":"VLOOKUP($A1293,BasinData!$A:$K,8,FALSE)","v":258.527350536504},{"$f":"VLOOKUP($A1293,BasinData!$A:$K,9,FALSE)","v":104.06352116617806},154.46382937032593,{"$f":"VLOOKUP($A1293,BasinData!$A:$K,7,FALSE)","v":188.61926494729335},69.908085589210657,45.258547502151146,4,250.80415906798771,235.3577761309551,204.46501025688994,158.12586144579217]
[27049,{"$f":"VLOOKUP($A1294,BasinData!$A:$K,8,FALSE)","v":185.87854717247879},{"$f":"VLOOKUP($A1294,BasinData!$A:$K,9,FALSE)","v":74.820617965101619},111.05792920737717,{"$f":"VLOOKUP($A1294,BasinData!$A:$K,7,FALSE)","v":169.28922167566256},16.58932549681623,14.937542609712429,2,180.32565071210993,169.21985779137222,147.00827194989677,113.69089318768363]
[27050,{"$f":"VLOOKUP($A1295,BasinData!$A:$K,8,FALSE)","v":387.56666955213456},{"$f":"VLOOKUP($A1295,BasinData!$A:$K,9,FALSE)","v":156.00497292277353},231.56169662936102,{"$f":"VLOOKUP($A1295,BasinData!$A:$K,7,FALSE)","v":365.29355825043649},22.273111301698066,9.6186509366221031,2,375.98858472066649,352.83241505773037,306.52007573185819,237.05156674304988]
[27051,{"$f":"VLOOKUP($A1296,BasinData!$A:$K,8,FALSE)","v":209.35195549580575},{"$f":"VLOOKUP($A1296,BasinData!$A:$K,9,FALSE)","v":84.269233435873488},125.08272205993227,{"$f":"VLOOKUP($A1296,BasinData!$A:$K,7,FALSE)","v":190.29403801147305},19.057917484332705,15.236250994922603,3,203.09781939280913,190.58954718681591,165.57300277482946,128.04818615684979]
[27052,{"$f":"VLOOKUP($A1297,BasinData!$A:$K,8,FALSE)","v":188.00515329956121},{"$f":"VLOOKUP($A1297,BasinData!$A:$K,9,FALSE)","v":75.676628446230637},112.32852485333058,{"$f":"VLOOKUP($A1297,BasinData!$A:$K,7,FALSE)","v":167.05234777706198},20.952805522499233,18.653147586383508,3,182.38872705689468,171.15587457156164,148.6901696008955,114.99161214489634]
[27053,{"$f":"VLOOKUP($A1298,BasinData!$A:$K,8,FALSE)","v":3.1176453006247554E-2},{"$f":"VLOOKUP($A1298,BasinData!$A:$K,9,FALSE)","v":1.2549277554460912E-2},1.8627175451786642E-2,{"$f":"VLOOKUP($A1298,BasinData!$A:$K,7,FALSE)","v":2.3844340281051649E-2},7.3321127251959051E-3,39.362450545300675,4,3.0245094233658221E-2,2.8382376688479559E-2,2.465694159812223E-2,1.9068788962586236E-2]
[27054,{"$f":"VLOOKUP($A1299,BasinData!$A:$K,8,FALSE)","v":327.83265396301363},{"$f":"VLOOKUP($A1299,BasinData!$A:$K,9,FALSE)","v":131.96058464934953},195.8720693136641,{"$f":"VLOOKUP($A1299,BasinData!$A:$K,7,FALSE)","v":306.13817389272344},21.694480070290183,11.075841566542724,2,318.03905049733044,298.451843565964,259.27742970323118,200.51580890913198]
[27055,{"$f":"VLOOKUP($A1300,BasinData!$A:$K,8,FALSE)","v":244.62524383766421},{"$f":"VLOOKUP($A1300,BasinData!$A:$K,9,FALSE)","v":98.467586454794755},146.15765738286944,{"$f":"VLOOKUP($A1300,BasinData!$A:$K,7,FALSE)","v":225.66743188845152},18.957811949212697,12.970796254315628,2,237.31736096852075,222.70159523023381,193.47006375365993,149.62276653879906]
[27056,{"$f":"VLOOKUP($A1301,BasinData!$A:$K,8,FALSE)","v":164.29678299773818},{"$f":"VLOOKUP($A1301,BasinData!$A:$K,9,FALSE)","v":66.133435087387227},98.16334791035095,{"$f":"VLOOKUP($A1301,BasinData!$A:$K,7,FALSE)","v":149.00833525227736},15.288447745460815,15.574497071374546,3,159.38861560222063,149.57228081118552,129.93961122911534,100.49060685601006]
[27057,{"$f":"VLOOKUP($A1302,BasinData!$A:$K,8,FALSE)","v":333.69346064201721},{"$f":"VLOOKUP($A1302,BasinData!$A:$K,9,FALSE)","v":134.3197013100266},199.37375933199061,{"$f":"VLOOKUP($A1302,BasinData!$A:$K,7,FALSE)","v":337.08856344951425},-3.3951028074970395,-1.7028834781831175,1,323.72477267541768,303.78739674221862,263.91264487582049,204.1005170762233]
[27058,{"$f":"VLOOKUP($A1303,BasinData!$A:$K,8,FALSE)","v":194.39203476389952},{"$f":"VLOOKUP($A1303,BasinData!$A:$K,9,FALSE)","v":78.247502951658234},116.14453181224128,{"$f":"VLOOKUP($A1303,BasinData!$A:$K,7,FALSE)","v":151.22324187159299},43.168792892306527,37.168166437738968,4,188.58480817328746,176.97035499206333,153.74144862961506,118.89808908594269]
[27059,{"$f":"VLOOKUP($A1304,BasinData!$A:$K,8,FALSE)","v":194.52489609555073},{"$f":"VLOOKUP($A1304,BasinData!$A:$K,9,FALSE)","v":78.300982856085213},116.22391323946552,{"$f":"VLOOKUP($A1304,BasinData!$A:$K,7,FALSE)","v":170.49128236863129},24.033613726919441,20.678716674597805,3,188.71370043357746,177.09130910963091,153.8465264617378,118.97935248989815]
[27060,{"$f":"VLOOKUP($A1305,BasinData!$A:$K,8,FALSE)","v":254.14244937737493},{"$f":"VLOOKUP($A1305,BasinData!$A:$K,9,FALSE)","v":102.29849222963544},151.8439571477395,{"$f":"VLOOKUP($A1305,BasinData!$A:$K,7,FALSE)","v":200.68693760493338},53.455511772441554,35.204240442990418,4,246.55025151998797,231.36585580521401,200.9970643756661,155.44387723134423]
[27061,{"$f":"VLOOKUP($A1306,BasinData!$A:$K,8,FALSE)","v":2.9823457996457145E-28},{"$f":"VLOOKUP($A1306,BasinData!$A:$K,9,FALSE)","v":1.200466428802369E-28},1.7818793708433455E-28,{"$f":"VLOOKUP($A1306,BasinData!$A:$K,7,FALSE)","v":2.6371329229678954E-28},3.4521287667781917E-29,19.373526756439936,3,2.893251831103547E-28,2.715063894019213E-28,2.3586880198505439E-28,1.8241242085975399E-28]
[27062,{"$f":"VLOOKUP($A1307,BasinData!$A:$K,8,FALSE)","v":217.00646701264392},{"$f":"VLOOKUP($A1307,BasinData!$A:$K,9,FALSE)","v":87.350359744545301},129.65610726809862,{"$f":"VLOOKUP($A1307,BasinData!$A:$K,7,FALSE)","v":192.93015965136951},24.076307361274417,18.569358488829394,3,210.52366164923899,197.55805092242912,171.6268294688094,132.72999728837982]
[27063,{"$f":"VLOOKUP($A1308,BasinData!$A:$K,8,FALSE)","v":166.96153895896759},{"$f":"VLOOKUP($A1308,BasinData!$A:$K,9,FALSE)","v":67.206063912920101},99.755475046047493,{"$f":"VLOOKUP($A1308,BasinData!$A:$K,7,FALSE)","v":141.05374850466205},25.907790454305541,25.971296755738376,3,161.97376520666521,151.99821770206046,132.04712269285096,102.12048017903672]
[27064,{"$f":"VLOOKUP($A1309,BasinData!$A:$K,8,FALSE)","v":242.81755056210764},{"$f":"VLOOKUP($A1309,BasinData!$A:$K,9,FALSE)","v":97.739946121760539},145.0776044403471,{"$f":"VLOOKUP($A1309,BasinData!$A:$K,7,FALSE)","v":193.69990337265193},49.11764718945571,33.856119543007665,3,235.56367034009028,221.05590989605557,192.04038900798616,148.51710767588202]
[27065,{"$f":"VLOOKUP($A1310,BasinData!$A:$K,8,FALSE)","v":246.5342224378403},{"$f":"VLOOKUP($A1310,BasinData!$A:$K,9,FALSE)","v":99.235996584527456},147.29822585331283,{"$f":"VLOOKUP($A1310,BasinData!$A:$K,7,FALSE)","v":187.96034536090457},58.57387707693573,39.765500729972551,4,239.16931114517465,224.43948855984337,194.97984338918081,150.79037563318695]
[27066,{"$f":"VLOOKUP($A1311,BasinData!$A:$K,8,FALSE)","v":377.81640234353534},{"$f":"VLOOKUP($A1311,BasinData!$A:$K,9,FALSE)","v":152.08025418051156},225.73614816302378,{"$f":"VLOOKUP($A1311,BasinData!$A:$K,7,FALSE)","v":345.30572101511387},32.51068132842147,14.402071441806772,2,366.52959493538413,343.9559801190818,298.80875048647704,231.08790603756987]
[27067,{"$f":"VLOOKUP($A1312,BasinData!$A:$K,8,FALSE)","v":246.8565995068783},{"$f":"VLOOKUP($A1312,BasinData!$A:$K,9,FALSE)","v":99.365761164088227},147.49083834279008,{"$f":"VLOOKUP($A1312,BasinData!$A:$K,7,FALSE)","v":195.03522261836164},51.821376888516653,35.135319231202864,4,239.48205758973879,224.7329737554598,195.23480608690176,150.98755458406475]
[27068,{"$f":"VLOOKUP($A1313,BasinData!$A:$K,8,FALSE)","v":124.95416723591008},{"$f":"VLOOKUP($A1313,BasinData!$A:$K,9,FALSE)","v":50.297079206403851},74.657088029506227,{"$f":"VLOOKUP($A1313,BasinData!$A:$K,7,FALSE)","v":118.32937430604527},6.6247929298648103,8.8736288873824503,2,121.22131283443477,113.75560403148414,98.824186425582894,76.427060016731019]
[27069,{"$f":"VLOOKUP($A1314,BasinData!$A:$K,8,FALSE)","v":319.76761815978801},{"$f":"VLOOKUP($A1314,BasinData!$A:$K,9,FALSE)","v":128.71421237085266},191.05340578893535,{"$f":"VLOOKUP($A1314,BasinData!$A:$K,7,FALSE)","v":319.71658458361941},5.1033576168606487E-2,2.6711680934379887E-2,1,310.21494787034123,291.10960729144773,252.89892613366067,195.58290439698004]
[27070,{"$f":"VLOOKUP($A1315,BasinData!$A:$K,8,FALSE)","v":249.14561677732101},{"$f":"VLOOKUP($A1315,BasinData!$A:$K,9,FALSE)","v":100.28714606467277},148.85847071264823,{"$f":"VLOOKUP($A1315,BasinData!$A:$K,7,FALSE)","v":195.94688597098971},53.198730806331298,35.737792113305048,4,241.70269324168859,226.81684617042379,197.04515202789412,152.38761081409967]
[27071,{"$f":"VLOOKUP($A1316,BasinData!$A:$K,8,FALSE)","v":253.3960650028659},{"$f":"VLOOKUP($A1316,BasinData!$A:$K,9,FALSE)","v":101.99805443845537},151.39801056441053,{"$f":"VLOOKUP($A1316,BasinData!$A:$K,7,FALSE)","v":195.49012351337132},57.90594148949458,38.247491676820395,4,245.82616447464537,230.68636341820431,200.40676130532222,154.98735813599905]
[27072,{"$f":"VLOOKUP($A1317,BasinData!$A:$K,8,FALSE)","v":193.15160052770031},{"$f":"VLOOKUP($A1317,BasinData!$A:$K,9,FALSE)","v":77.748198123267386},115.40340240443292,{"$f":"VLOOKUP($A1317,BasinData!$A:$K,7,FALSE)","v":191.61229587003672},1.5393046576635925,1.3338468585779444,1,187.38143040747866,175.84109016703536,152.76040968614879,118.13938896481891]
[27073,{"$f":"VLOOKUP($A1318,BasinData!$A:$K,8,FALSE)","v":236.43672940873347},{"$f":"VLOOKUP($A1318,BasinData!$A:$K,9,FALSE)","v":95.17151103830119},141.26521837043228,{"$f":"VLOOKUP($A1318,BasinData!$A:$K,7,FALSE)","v":187.64027066373362},48.796458744999853,34.54244385694679,3,229.37346849021185,215.24694665316864,186.99390297908218,144.61433746795248]
[27074,{"$f":"VLOOKUP($A1319,BasinData!$A:$K,8,FALSE)","v":191.37416306917439},{"$f":"VLOOKUP($A1319,BasinData!$A:$K,9,FALSE)","v":77.032736489505922},114.34142657966846,{"$f":"VLOOKUP($A1319,BasinData!$A:$K,7,FALSE)","v":168.91707962049225},22.457083448682141,19.640373677719474,3,185.65709174019096,174.22294908222412,151.35466376629043,117.05223579238988]
[27075,{"$f":"VLOOKUP($A1320,BasinData!$A:$K,8,FALSE)","v":207.75155565026074},{"$f":"VLOOKUP($A1320,BasinData!$A:$K,9,FALSE)","v":83.625033729901944},124.1265219203588,{"$f":"VLOOKUP($A1320,BasinData!$A:$K,7,FALSE)","v":199.30134193396768},8.4502137162930637,6.80774228227778,2,201.54522955424281,189.13257736220692,164.30727297813516,127.06931640202752]
[27076,{"$f":"VLOOKUP($A1321,BasinData!$A:$K,8,FALSE)","v":299.06935151452114},{"$f":"VLOOKUP($A1321,BasinData!$A:$K,9,FALSE)","v":120.38265865062532},178.68669286389581,{"$f":"VLOOKUP($A1321,BasinData!$A:$K,7,FALSE)","v":277.43549994360581},21.63385157091534,12.107141961261584,2,290.13501687132634,272.2663475849368,236.52900901215762,182.92300115298886]
[27077,{"$f":"VLOOKUP($A1322,BasinData!$A:$K,8,FALSE)","v":293.91130122584281},{"$f":"VLOOKUP($A1322,BasinData!$A:$K,9,FALSE)","v":118.3064184606486},175.60488276519419,{"$f":"VLOOKUP($A1322,BasinData!$A:$K,7,FALSE)","v":280.22731637975539},13.683984846087412,7.7924853971085879,2,285.13105708758309,267.57056881106365,232.44959225802484,179.76812742846658]
[27078,{"$f":"VLOOKUP($A1323,BasinData!$A:$K,8,FALSE)","v":226.87777391034714},{"$f":"VLOOKUP($A1323,BasinData!$A:$K,9,FALSE)","v":91.323799893741167},135.55397401660599,{"$f":"VLOOKUP($A1323,BasinData!$A:$K,7,FALSE)","v":197.69344118756496},29.184332722782187,21.529676967793634,3,220.10007520951683,206.54467780785626,179.43388300453506,138.76769079955324]
[27079,{"$f":"VLOOKUP($A1324,BasinData!$A:$K,8,FALSE)","v":172.12814558014327},{"$f":"VLOOKUP($A1324,BasinData!$A:$K,9,FALSE)","v":69.285748233995889},102.84239734614738,{"$f":"VLOOKUP($A1324,BasinData!$A:$K,7,FALSE)","v":158.69606774094322},13.432077839200048,13.060836956173146,2,166.9860257128359,156.70178597822115,136.13330650899169,105.28058730514746]
[27080,{"$f":"VLOOKUP($A1325,BasinData!$A:$K,8,FALSE)","v":122.1455979430451},{"$f":"VLOOKUP($A1325,BasinData!$A:$K,9,FALSE)","v":49.166562031148707},72.979035911896403,{"$f":"VLOOKUP($A1325,BasinData!$A:$K,7,FALSE)","v":110.92341164258967},11.222186300455434,15.377273980439213,3,118.49664614745028,111.19874255626064,96.602935373881365,74.709224600312439]
[27081,{"$f":"VLOOKUP($A1326,BasinData!$A:$K,8,FALSE)","v":230.82846355383208},{"$f":"VLOOKUP($A1326,BasinData!$A:$K,9,FALSE)","v":92.914048176882659},137.91441537694942,{"$f":"VLOOKUP($A1326,BasinData!$A:$K,7,FALSE)","v":181.02333787279133},49.805125681040749,36.11306732868551,4,223.93274278498461,210.14130124728968,182.5584181718998,141.18409355881494]
[27082,{"$f":"VLOOKUP($A1327,BasinData!$A:$K,8,FALSE)","v":143.31058948104973},{"$f":"VLOOKUP($A1327,BasinData!$A:$K,9,FALSE)","v":57.685983826662486},85.624605654387238,{"$f":"VLOOKUP($A1327,BasinData!$A:$K,7,FALSE)","v":133.57357467222377},9.7370148088259612,11.371748499640601,2,139.02935919833038,130.46689863289166,113.3419775020142,87.654595805698023]
[27083,{"$f":"VLOOKUP($A1328,BasinData!$A:$K,8,FALSE)","v":147.79204775116497},{"$f":"VLOOKUP($A1328,BasinData!$A:$K,9,FALSE)","v":59.48987933937974},88.302168411785232,{"$f":"VLOOKUP($A1328,BasinData!$A:$K,7,FALSE)","v":136.00804967930077},11.783998071864204,13.345083460364327,2,143.37693933057571,134.54672248939718,116.88628880704015,90.395638283504567]
[27084,{"$f":"VLOOKUP($A1329,BasinData!$A:$K,8,FALSE)","v":140.16266497477409},{"$f":"VLOOKUP($A1329,BasinData!$A:$K,9,FALSE)","v":56.418867957457415},83.743797017316666,{"$f":"VLOOKUP($A1329,BasinData!$A:$K,7,FALSE)","v":132.35060049425007},7.8120644805240147,9.3285291075452719,2,135.97547512390827,127.60109542217658,110.85233601871326,85.729196913518251]
[27085,{"$f":"VLOOKUP($A1330,BasinData!$A:$K,8,FALSE)","v":283.79570575896042},{"$f":"VLOOKUP($A1330,BasinData!$A:$K,9,FALSE)","v":114.23464624470361},169.56105951425681,{"$f":"VLOOKUP($A1330,BasinData!$A:$K,7,FALSE)","v":261.89522910825281},21.900476650707617,12.91598242747841,2,275.31765278324758,258.3615468318219,224.44933492897053,173.58101707469348]
[27086,{"$f":"VLOOKUP($A1331,BasinData!$A:$K,8,FALSE)","v":325.36428293135481},{"$f":"VLOOKUP($A1331,BasinData!$A:$K,9,FALSE)","v":130.96700551520397},194.39727741615084,{"$f":"VLOOKUP($A1331,BasinData!$A:$K,7,FALSE)","v":306.86065273007307},18.503630201281737,9.5184615994752733,2,315.64441906054725,296.20469131893219,257.32523583570202,199.00605261085676]
[27087,{"$f":"VLOOKUP($A1332,BasinData!$A:$K,8,FALSE)","v":241.37231987484853},{"$f":"VLOOKUP($A1332,BasinData!$A:$K,9,FALSE)","v":97.158205760821971},144.21411411402656,{"$f":"VLOOKUP($A1332,BasinData!$A:$K,7,FALSE)","v":226.52150943833442},14.850810436514109,10.297751040353747,2,234.16161416914721,219.74020275774456,190.89737993493924,147.63314570073126]
[27088,{"$f":"VLOOKUP($A1333,BasinData!$A:$K,8,FALSE)","v":210.20517155085454},{"$f":"VLOOKUP($A1333,BasinData!$A:$K,9,FALSE)","v":84.612673566365046},125.5924979844895,{"$f":"VLOOKUP($A1333,BasinData!$A:$K,7,FALSE)","v":169.23155365475458},40.973617896099967,32.624255870091979,3,203.92554665163007,191.36629685318113,166.24779725628321,128.57004786093637]
[27089,{"$f":"VLOOKUP($A1334,BasinData!$A:$K,8,FALSE)","v":232.76031347263498},{"$f":"VLOOKUP($A1334,BasinData!$A:$K,9,FALSE)","v":93.691664566398245},139.06864890623672,{"$f":"VLOOKUP($A1334,BasinData!$A:$K,7,FALSE)","v":182.2471882401446},50.513125232490381,36.322439047025973,4,225.80688102732313,211.90001613669946,184.08628635545213,142.3656916835811]
[28001,{"$f":"VLOOKUP($A1335,BasinData!$A:$K,8,FALSE)","v":268.06535099382285},{"$f":"VLOOKUP($A1335,BasinData!$A:$K,9,FALSE)","v":107.9027973990928},160.16255359473004,{"$f":"VLOOKUP($A1335,BasinData!$A:$K,7,FALSE)","v":192.92604889130064},75.139302102522208,46.914400661125931,4,260.05722331408634,244.04096795461334,212.00845723566732,163.9596911572483]
[28002,{"$f":"VLOOKUP($A1336,BasinData!$A:$K,8,FALSE)","v":302.41875639628836},{"$f":"VLOOKUP($A1336,BasinData!$A:$K,9,FALSE)","v":121.73087525163315},180.68788114465519,{"$f":"VLOOKUP($A1336,BasinData!$A:$K,7,FALSE)","v":275.95408180980735},26.46467458648101,14.646624011985567,2,293.3843623390556,275.31557422459008,239.17799799565904,184.97163365226248]
[28003,{"$f":"VLOOKUP($A1337,BasinData!$A:$K,8,FALSE)","v":269.00340687694984},{"$f":"VLOOKUP($A1337,BasinData!$A:$K,9,FALSE)","v":108.28038761554868},160.72301926140116,{"$f":"VLOOKUP($A1337,BasinData!$A:$K,7,FALSE)","v":232.67075615744497},36.332650719504869,22.605754226414305,3,260.9672559138798,244.89495398773965,212.75035013545943,164.53344435703906]
[28004,{"$f":"VLOOKUP($A1338,BasinData!$A:$K,8,FALSE)","v":299.65641276550554},{"$f":"VLOOKUP($A1338,BasinData!$A:$K,9,FALSE)","v":120.61896502513802},179.0374477403675,{"$f":"VLOOKUP($A1338,BasinData!$A:$K,7,FALSE)","v":204.71848727177829},94.937925493727249,53.026853706830202,4,290.70454037848714,272.8007956044504,236.99330605637692,183.28207173426665]
[28005,{"$f":"VLOOKUP($A1339,BasinData!$A:$K,8,FALSE)","v":224.6881999031697},{"$f":"VLOOKUP($A1339,BasinData!$A:$K,9,FALSE)","v":90.442443315537858},134.24575658763183,{"$f":"VLOOKUP($A1339,BasinData!$A:$K,7,FALSE)","v":205.03595647711776},19.652243426051939,14.639005303101339,2,217.97591207378812,204.55133641502493,177.70218509749856,137.42845812120902]
[28006,{"$f":"VLOOKUP($A1340,BasinData!$A:$K,8,FALSE)","v":268.65533525056486},{"$f":"VLOOKUP($A1340,BasinData!$A:$K,9,FALSE)","v":108.14028035422994},160.5150548963349,{"$f":"VLOOKUP($A1340,BasinData!$A:$K,7,FALSE)","v":249.6226620378782},19.03267321268666,11.857251162502166,2,260.62958250574809,244.57807701611463,212.47506603684764,164.32054956794718]
[28007,{"$f":"VLOOKUP($A1341,BasinData!$A:$K,8,FALSE)","v":300.55214589446689},{"$f":"VLOOKUP($A1341,BasinData!$A:$K,9,FALSE)","v":120.97951930781443},179.57262658665246,{"$f":"VLOOKUP($A1341,BasinData!$A:$K,7,FALSE)","v":204.29103328703934},96.261112607427549,53.605671664537866,4,291.57351456513425,273.61625190646902,237.70172658913853,183.82993861314279]
[28008,{"$f":"VLOOKUP($A1342,BasinData!$A:$K,8,FALSE)","v":137.08133508002052},{"$f":"VLOOKUP($A1342,BasinData!$A:$K,9,FALSE)","v":55.178558032580092},81.902777047440424,{"$f":"VLOOKUP($A1342,BasinData!$A:$K,7,FALSE)","v":127.78847288199499},9.2928621980255315,11.346211365510648,2,132.98619622764849,124.79591852290446,108.41536311341638,83.844529999184246]
[28009,{"$f":"VLOOKUP($A1343,BasinData!$A:$K,8,FALSE)","v":264.95236899063724},{"$f":"VLOOKUP($A1343,BasinData!$A:$K,9,FALSE)","v":106.64974673382983},158.30262225680741,{"$f":"VLOOKUP($A1343,BasinData!$A:$K,7,FALSE)","v":228.85916353911409},36.093205451523147,22.800131126678824,3,257.03723787779688,241.20697565211611,209.54645120075463,162.05566452371244]
[28010,{"$f":"VLOOKUP($A1344,BasinData!$A:$K,8,FALSE)","v":300.11982235248166},{"$f":"VLOOKUP($A1344,BasinData!$A:$K,9,FALSE)","v":120.80549860954534},179.31432374293632,{"$f":"VLOOKUP($A1344,BasinData!$A:$K,7,FALSE)","v":175.86889126980927},124.25093108267239,69.292250886101883,5,291.15410616533484,273.22267379104119,237.35980904245395,183.56551191957305]
[28011,{"$f":"VLOOKUP($A1345,BasinData!$A:$K,8,FALSE)","v":250.47084361086974},{"$f":"VLOOKUP($A1345,BasinData!$A:$K,9,FALSE)","v":100.82058196751552},149.65026164335421,{"$f":"VLOOKUP($A1345,BasinData!$A:$K,7,FALSE)","v":240.51746807486887},9.9533755360008627,6.6510913022803129,2,242.98833052870202,228.0233043643666,198.09325203569577,153.19817354268949]
[28012,{"$f":"VLOOKUP($A1346,BasinData!$A:$K,8,FALSE)","v":111.52370314639013},{"$f":"VLOOKUP($A1346,BasinData!$A:$K,9,FALSE)","v":44.890992070358244},66.632711076031882,{"$f":"VLOOKUP($A1346,BasinData!$A:$K,7,FALSE)","v":96.655159626511221},14.868543519878912,22.31418064756966,3,108.19206759258854,101.52879648498535,88.202254269778976,68.212440946969409]
[28013,{"$f":"VLOOKUP($A1347,BasinData!$A:$K,8,FALSE)","v":275.76974819372663},{"$f":"VLOOKUP($A1347,BasinData!$A:$K,9,FALSE)","v":111.00400390363097},164.76574429009565,{"$f":"VLOOKUP($A1347,BasinData!$A:$K,7,FALSE)","v":262.05147780776878},13.718270385957851,8.3259238411867393,2,267.53146097922183,251.05488655021227,218.10173769219315,168.67201440516445]
[28014,{"$f":"VLOOKUP($A1348,BasinData!$A:$K,8,FALSE)","v":250.95501114987007},{"$f":"VLOOKUP($A1348,BasinData!$A:$K,9,FALSE)","v":101.0154711304539},{"$f":"B1348-C1348","v":149.93954001941617},{"$f":"VLOOKUP($A1348,BasinData!$A:$K,7,FALSE)","v":248.47655943961044},{"$f":"B1348-E1348","v":2.478451710259634},{"$f":"F1348/D1348*100","v":1.6529673960175488},{"$f":"IF($G1348<($I$1*100),1,IF($G1348<($J$1*100),2,IF($G1348<($K$1*100),3,IF($G1348<($L$1*100),4,5))))","v":1},{"$f":"B1348-(D1348*$I$1)","v":243.45803414889926},{"$f":"B1348-(D1348*$J$1)","v":228.46408014695766},{"$f":"B1348-(D1348*$K$1)","v":198.47617214307442},{"$f":"B1348-(D1348*$L$1)","v":153.49431013724956}]
[28015,{"$f":"VLOOKUP($A1349,BasinData!$A:$K,8,FALSE)","v":233.5129990213828},{"$f":"VLOOKUP($A1349,BasinData!$A:$K,9,FALSE)","v":93.994638732849282},139.51836028853353,{"$f":"VLOOKUP($A1349,BasinData!$A:$K,7,FALSE)","v":207.29299262658532},26.22000639479748,18.793230038378255,3,226.53708100695613,212.58524497810276,184.68157292039606,142.826064833836]
[28016,{"$f":"VLOOKUP($A1350,BasinData!$A:$K,8,FALSE)","v":296.14999612425601},{"$f":"VLOOKUP($A1350,BasinData!$A:$K,9,FALSE)","v":119.20754738748043},176.94244873677559,{"$f":"VLOOKUP($A1350,BasinData!$A:$K,7,FALSE)","v":171.06958467208986},125.08041145216615,70.689883826712034,5,287.30287368741722,269.60862881373964,234.22013906638455,181.13740444535188]
[28017,{"$f":"VLOOKUP($A1351,BasinData!$A:$K,8,FALSE)","v":338.12989563900777},{"$f":"VLOOKUP($A1351,BasinData!$A:$K,9,FALSE)","v":136.1054738646659},202.02442177434187,{"$f":"VLOOKUP($A1351,BasinData!$A:$K,7,FALSE)","v":330.78792487421089},7.3419707647968835,3.6341996182014813,1,328.0286745502907,307.82623237285651,267.42134801798812,206.81402148568554]
[28018,{"$f":"VLOOKUP($A1352,BasinData!$A:$K,8,FALSE)","v":214.22242067666215},{"$f":"VLOOKUP($A1352,BasinData!$A:$K,9,FALSE)","v":86.229713653480559},127.99270702318159,{"$f":"VLOOKUP($A1352,BasinData!$A:$K,7,FALSE)","v":206.41714464187024},7.8052760347919161,6.0982193566530718,2,207.82278532550308,195.02351462318492,169.42497321854859,131.02716111159413]
[28019,{"$f":"VLOOKUP($A1353,BasinData!$A:$K,8,FALSE)","v":303.60445525565689},{"$f":"VLOOKUP($A1353,BasinData!$A:$K,9,FALSE)","v":122.20814776493802},181.39630749071887,{"$f":"VLOOKUP($A1353,BasinData!$A:$K,7,FALSE)","v":234.43101791765596},69.173437338000923,38.133872896800938,4,294.53463988112094,276.39500913204904,240.1157476339053,185.69685538668961]
[28020,{"$f":"VLOOKUP($A1354,BasinData!$A:$K,8,FALSE)","v":226.4867148805285},{"$f":"VLOOKUP($A1354,BasinData!$A:$K,9,FALSE)","v":91.166389161212081},135.32032571931643,{"$f":"VLOOKUP($A1354,BasinData!$A:$K,7,FALSE)","v":212.24617843682515},14.240536443703348,10.523575352043784,2,219.72069859456266,206.18866602263103,179.12460087876775,138.52850316297281]
[28021,{"$f":"VLOOKUP($A1355,BasinData!$A:$K,8,FALSE)","v":240.43452222654525},{"$f":"VLOOKUP($A1355,BasinData!$A:$K,9,FALSE)","v":96.780719490138111},143.65380273640716,{"$f":"VLOOKUP($A1355,BasinData!$A:$K,7,FALSE)","v":238.44389597071824},1.99062625582701,1.385710797701363,1,233.2518320897249,218.88645181608419,190.15569126880274,147.05955044788061]
[28022,{"$f":"VLOOKUP($A1356,BasinData!$A:$K,8,FALSE)","v":303.50258503314359},{"$f":"VLOOKUP($A1356,BasinData!$A:$K,9,FALSE)","v":122.16714253266873},181.33544250047487,{"$f":"VLOOKUP($A1356,BasinData!$A:$K,7,FALSE)","v":269.24575725475916},34.256827778384434,18.891413231748515,3,294.43581290811983,276.30226865807236,240.03518015797738,185.63454740783493]
[28023,{"$f":"VLOOKUP($A1357,BasinData!$A:$K,8,FALSE)","v":211.24917526306297},{"$f":"VLOOKUP($A1357,BasinData!$A:$K,9,FALSE)","v":85.032910350509979},126.21626491255299,{"$f":"VLOOKUP($A1357,BasinData!$A:$K,7,FALSE)","v":201.873207733501},9.3759675295619616,7.4284938918593086,2,204.93836201743531,192.31673552618003,167.07348254366943,129.20860306990352]
[28024,{"$f":"VLOOKUP($A1358,BasinData!$A:$K,8,FALSE)","v":289.20158556566304},{"$f":"VLOOKUP($A1358,BasinData!$A:$K,9,FALSE)","v":116.41064381911568},172.79094174654736,{"$f":"VLOOKUP($A1358,BasinData!$A:$K,7,FALSE)","v":252.67251470630239},36.529070859360644,21.140616799775358,3,280.56203847833569,263.28294430368095,228.72475595437146,176.88747343040725]
[28025,{"$f":"VLOOKUP($A1359,BasinData!$A:$K,8,FALSE)","v":121.8876346647727},{"$f":"VLOOKUP($A1359,BasinData!$A:$K,9,FALSE)","v":49.062725562732957},72.824909102039754,{"$f":"VLOOKUP($A1359,BasinData!$A:$K,7,FALSE)","v":95.149991716898768},26.737642947873937,36.714969201554474,4,118.24638920967072,110.96389829946673,96.398916479058784,74.551443748446871]
[28026,{"$f":"VLOOKUP($A1360,BasinData!$A:$K,8,FALSE)","v":267.40374802389562},{"$f":"VLOOKUP($A1360,BasinData!$A:$K,9,FALSE)","v":107.63648617700447},159.76726184689113,{"$f":"VLOOKUP($A1360,BasinData!$A:$K,7,FALSE)","v":257.35394482515989},10.049803198735731,6.2902769206664519,2,259.41538493155105,243.43865874686196,211.48520637748373,163.55502782341637]
[28027,{"$f":"VLOOKUP($A1361,BasinData!$A:$K,8,FALSE)","v":272.84433010554812},{"$f":"VLOOKUP($A1361,BasinData!$A:$K,9,FALSE)","v":109.82645225771296},163.01787784783517,{"$f":"VLOOKUP($A1361,BasinData!$A:$K,7,FALSE)","v":274.32362927771754},-1.4792991721694193,-0.90744597568018448,1,264.69343621315636,248.39164842837286,215.78807285880583,166.88270950445525]
[28028,{"$f":"VLOOKUP($A1362,BasinData!$A:$K,8,FALSE)","v":274.86993577889348},{"$f":"VLOOKUP($A1362,BasinData!$A:$K,9,FALSE)","v":110.64180760957443},164.22812816931906,{"$f":"VLOOKUP($A1362,BasinData!$A:$K,7,FALSE)","v":211.65127325141714},63.21866252747634,38.494418241373332,4,266.65852937042752,250.23571655349562,217.3900909196318,168.12165246883609]
[28029,{"$f":"VLOOKUP($A1363,BasinData!$A:$K,8,FALSE)","v":303.36392042864009},{"$f":"VLOOKUP($A1363,BasinData!$A:$K,9,FALSE)","v":122.11132667034002},181.25259375830007,{"$f":"VLOOKUP($A1363,BasinData!$A:$K,7,FALSE)","v":224.32925983070294},79.034660597937147,43.604705984693211,4,294.30129074072511,276.1760313648951,239.92551261323507,185.54973448574503]
[28030,{"$f":"VLOOKUP($A1364,BasinData!$A:$K,8,FALSE)","v":313.50870657945757},{"$f":"VLOOKUP($A1364,BasinData!$A:$K,9,FALSE)","v":126.19484884368499},187.31385773577256,{"$f":"VLOOKUP($A1364,BasinData!$A:$K,7,FALSE)","v":229.06867383834071},84.440032741116852,45.07943713391942,4,304.14301369266894,285.4116279190917,247.94885637193715,191.75469905120542]
[28031,{"$f":"VLOOKUP($A1365,BasinData!$A:$K,8,FALSE)","v":181.91669498675361},{"$f":"VLOOKUP($A1365,BasinData!$A:$K,9,FALSE)","v":73.225876488306611},108.690818498447,{"$f":"VLOOKUP($A1365,BasinData!$A:$K,7,FALSE)","v":168.01193710689893},13.904757879854685,12.792946149405765,2,176.48215406183127,165.61307221198655,143.87490851229717,111.26766296276305]
[28032,{"$f":"VLOOKUP($A1366,BasinData!$A:$K,8,FALSE)","v":187.69298833575041},{"$f":"VLOOKUP($A1366,BasinData!$A:$K,9,FALSE)","v":75.550974486402211},112.1420138493482,{"$f":"VLOOKUP($A1366,BasinData!$A:$K,7,FALSE)","v":161.04805530860349},26.644933027146919,23.759991561183995,3,182.085887643283,170.87168625834818,148.44328348847853,114.80067933367408]
[28033,{"$f":"VLOOKUP($A1367,BasinData!$A:$K,8,FALSE)","v":309.56889231844582},{"$f":"VLOOKUP($A1367,BasinData!$A:$K,9,FALSE)","v":124.60897816543459},184.95991415301123,{"$f":"VLOOKUP($A1367,BasinData!$A:$K,7,FALSE)","v":245.73919206709073},63.829700251355092,34.510018315942169,3,300.32089661079527,281.82490519549413,244.83292236489189,189.3449481189885]
[28034,{"$f":"VLOOKUP($A1368,BasinData!$A:$K,8,FALSE)","v":299.23978001225294},{"$f":"VLOOKUP($A1368,BasinData!$A:$K,9,FALSE)","v":120.45126024942803},178.7885197628249,{"$f":"VLOOKUP($A1368,BasinData!$A:$K,7,FALSE)","v":219.23187654039577},80.007903471857162,44.750022863880226,4,290.3003540241117,272.42150204782922,236.66379809526421,183.02724216641673]
[28035,{"$f":"VLOOKUP($A1369,BasinData!$A:$K,8,FALSE)","v":142.17569388001334},{"$f":"VLOOKUP($A1369,BasinData!$A:$K,9,FALSE)","v":57.229160855496126},84.946533024517208,{"$f":"VLOOKUP($A1369,BasinData!$A:$K,7,FALSE)","v":129.58241009581349},12.593283784199855,14.824953221534292,2,137.92836722878749,129.43371392633577,112.44440732143232,86.960447414077152]
[28036,{"$f":"VLOOKUP($A1370,BasinData!$A:$K,8,FALSE)","v":298.82481880377907},{"$f":"VLOOKUP($A1370,BasinData!$A:$K,9,FALSE)","v":120.28422831098302},178.54059049279604,{"$f":"VLOOKUP($A1370,BasinData!$A:$K,7,FALSE)","v":286.32784826529928},12.496970538479786,6.999512270003402,2,289.89778927913926,272.04373022985965,236.33561213130045,182.77343498346164]
[29001,{"$f":"VLOOKUP($A1371,BasinData!$A:$K,8,FALSE)","v":297.7056181759782},{"$f":"VLOOKUP($A1371,BasinData!$A:$K,9,FALSE)","v":119.83372294673951},177.8718952292387,{"$f":"VLOOKUP($A1371,BasinData!$A:$K,7,FALSE)","v":291.83890603337466},5.8667121426035465,3.2982794359067311,1,288.81202341451626,271.02483389159238,235.45045484574467,182.08888627697303]
[29002,{"$f":"VLOOKUP($A1372,BasinData!$A:$K,8,FALSE)","v":364.70660837777086},{"$f":"VLOOKUP($A1372,BasinData!$A:$K,9,FALSE)","v":146.80324453720135},217.90336384056951,{"$f":"VLOOKUP($A1372,BasinData!$A:$K,7,FALSE)","v":371.43052697187647},-6.7239185941056121,-3.085734187667343,1,353.81144018574241,332.02110380168546,288.44043103357154,223.06942188140067]
[29003,{"$f":"VLOOKUP($A1373,BasinData!$A:$K,8,FALSE)","v":217.9182615120512},{"$f":"VLOOKUP($A1373,BasinData!$A:$K,9,FALSE)","v":87.717379117897352},130.20088239415384,{"$f":"VLOOKUP($A1373,BasinData!$A:$K,7,FALSE)","v":217.91632932286325},1.9321891879542363E-3,1.4840062159524917E-3,1,211.40821739234352,198.38812915292812,172.34795267409737,133.2876879558512]
[29004,{"$f":"VLOOKUP($A1374,BasinData!$A:$K,8,FALSE)","v":125.60610322910522},{"$f":"VLOOKUP($A1374,BasinData!$A:$K,9,FALSE)","v":50.559499236184351},75.046603992920865,{"$f":"VLOOKUP($A1374,BasinData!$A:$K,7,FALSE)","v":125.12819779546373},0.47790543364148164,0.63681153871607887,1,121.85377302945918,114.34911263016708,99.339791831582914,76.825810633706652]
[29005,{"$f":"VLOOKUP($A1375,BasinData!$A:$K,8,FALSE)","v":382.42480017185892},{"$f":"VLOOKUP($A1375,BasinData!$A:$K,9,FALSE)","v":153.93524594039579},228.48955423146313,{"$f":"VLOOKUP($A1375,BasinData!$A:$K,7,FALSE)","v":263.01630242095683},119.40849775090209,52.259937287960042,4,371.00032246028576,348.15136703713944,302.45345619084685,233.90658992140789]
[29006,{"$f":"VLOOKUP($A1376,BasinData!$A:$K,8,FALSE)","v":252.79218685864143},{"$f":"VLOOKUP($A1376,BasinData!$A:$K,9,FALSE)","v":101.75497885704054},151.0372080016009,{"$f":"VLOOKUP($A1376,BasinData!$A:$K,7,FALSE)","v":247.15735377811211},5.6348330805293187,3.730758238373681,1,245.24032645856138,230.13660565840129,199.92916405808111,154.61800165760084]
[29007,{"$f":"VLOOKUP($A1377,BasinData!$A:$K,8,FALSE)","v":228.98516551430038},{"$f":"VLOOKUP($A1377,BasinData!$A:$K,9,FALSE)","v":92.172076063857446},136.81308945044293,{"$f":"VLOOKUP($A1377,BasinData!$A:$K,7,FALSE)","v":220.38885092310792},8.5963145911924528,6.2832544939395216,2,222.14451104177823,208.46320209673394,181.10058420664535,140.05665737151247]
[29008,{"$f":"VLOOKUP($A1378,BasinData!$A:$K,8,FALSE)","v":346.50284013111872},{"$f":"VLOOKUP($A1378,BasinData!$A:$K,9,FALSE)","v":139.47578684922956},207.02705328188915,{"$f":"VLOOKUP($A1378,BasinData!$A:$K,7,FALSE)","v":333.55222905717221},12.950611073946504,6.2555163050661218,2,336.15148746702425,315.44878213883533,274.04337148245753,211.93525549789075]
[29009,{"$f":"VLOOKUP($A1379,BasinData!$A:$K,8,FALSE)","v":106.2523065914301},{"$f":"VLOOKUP($A1379,BasinData!$A:$K,9,FALSE)","v":42.769127262499396},63.483179328930703,{"$f":"VLOOKUP($A1379,BasinData!$A:$K,7,FALSE)","v":99.461492836515049},6.7908137549150496,10.697028451787581,2,103.07814762498356,96.72982969209049,84.033193826304355,64.988240027625139]
[29010,{"$f":"VLOOKUP($A1380,BasinData!$A:$K,8,FALSE)","v":193.23921334610426},{"$f":"VLOOKUP($A1380,BasinData!$A:$K,9,FALSE)","v":77.783464405010847},115.45574894109342,{"$f":"VLOOKUP($A1380,BasinData!$A:$K,7,FALSE)","v":176.31096944856705},16.928243897537214,14.662105657617932,2,187.4664258990496,175.92085100494026,152.82970121672156,118.19297653439354]
[29011,{"$f":"VLOOKUP($A1381,BasinData!$A:$K,8,FALSE)","v":169.28324040193084},{"$f":"VLOOKUP($A1381,BasinData!$A:$K,9,FALSE)","v":68.140604984686661},101.14263541724418,{"$f":"VLOOKUP($A1381,BasinData!$A:$K,7,FALSE)","v":156.02076475254819},13.262475649382651,13.112645913042407,2,164.22610863106863,154.11184508934423,133.88331800589538,103.54052738072212]

{"sheet":"plot","index":3,"n_rows":64,"n_cols":12,"rows_kept":64,"cut":false,"hidden":false,"merged":[[6,7,7,7],[6,8,7,8],[6,10,7,10],[6,11,7,11],[4,7,5,7],[4,8,5,8],[4,10,5,10],[4,11,5,11],[10,10,11,10],[10,11,11,11],[8,7,9,7],[8,8,9,8],[8,10,9,10],[8,11,9,11]]}
["BasinID",null,"Reference IC"]
[24116,null,1,null,null,"enter values in green cells"]
["DO NOT ALTER VALUES BELOW THIS LINE"]
["Data Values",null,null,"Regression Coefficient",null,null,null,"Model Results"]
["Intercept",1,null,6.1523000000000003,null,null,null,"Max density at reference IC",{"$f":"B14","v":235.57004450641256},null,"Density at 5% reduction in range (ref IC)",{"$f":"B14-(0.05*(B14-B64))","v":228.53267474961757}]
["CHSLP",{"$f":"VLOOKUP(A2,BasinData!A:F,2,FALSE)","v":4.8935321842992425E-3},null,-8.4000000000000005E-2]
["AUGgwWp",{"$f":"VLOOKUP(A2,BasinData!A:F,3,FALSE)","v":2.8184251662208717},null,-9.1000000000000004E-3,null,null,null,"Max Density at Actual IC",{"$f":"C14","v":185.29812354408361},null,"15% reduction in range (ref IC)",{"$f":"B14-(0.15*(B14-B64))","v":214.45793523602759}]
["pBWet",{"$f":"VLOOKUP(A2,BasinData!A:F,4,FALSE)","v":22.58064516129032},null,-2.8899999999999999E-2]
["IC",{"$f":"VLOOKUP(A2,BasinData!A:E,5,FALSE)","v":7.4354501736905201},null,-3.73E-2,null,null,null,"Actual Density in basin",{"$f":"B10","v":180.60608571952434},null,"35% reduction in range (ref IC)",{"$f":"B14-(0.35*(B14-B64))","v":186.30845620884764}]
["E(y)",{"$f":"EXP((B5*D5)+(B6*D6)+(B7*D7)+(B8*D8)+(B9*D9))","v":180.60608571952434}]
[null,null,null,null,null,null,null,null,null,null,"65% reduction in range (ref IC)",{"$f":"B14-(0.65*(B14-B64))","v":144.08423766807772}]
[]
["AUGgwW range","With Reference IC","With actual IC"]
[0,{"$f":"EXP(($B$5*$D$5)+($B$6*$D$6)+(A14*$D$7)+($B$8*$D$8)+($C$2*$D$9))","v":235.57004450641256},{"$f":"EXP(($B$5*$D$5)+($B$6*$D$6)+(A14*$D$7)+($B$8*$D$8)+($B$9*$D$9))","v":185.29812354408361}]
[2,{"$f":"EXP(($B$5*$D$5)+($B$6*$D$6)+(A15*$D$7)+($B$8*$D$8)+($C$2*$D$9))","v":231.32144918853382},{"$f":"EXP(($B$5*$D$5)+($B$6*$D$6)+(A15*$D$7)+($B$8*$D$8)+($B$9*$D$9))","v":181.95620143445953}]
[4,227.14947890255556,178.67455216070223]
[6,223.05275168689434,175.45208867930089]
[8,219.0299105041687,172.28774355198726]
[10,215.07962279168291,169.18046859214854]
[12,211.20058002001593,166.12923451761591]
[14,207.3914972595725,163.13303060971592]
[16,203.65111275495059,160.19086437847025]
[18,199.97818750698713,157.30176123383512]
[20,196.37150486233986,154.46476416286856]
[22,192.82987011047229,151.67893341272108]
[24,189.3521100879062,148.94334617934265]
[26,185.93707278961321,146.25709630180563]
[28,182.58362698741351,143.61929396213898]
[30,179.2906618552577,141.0290653905773]
[32,176.05708660126615,138.48555257612475]
[34,172.88183010640586,135.98791298234033]
[36,169.7638405696828,133.535319268248]
[38,166.7020851597338,131.12695901428097]
[40,163.69554967270167,128.76203445316773]
[42,160.74323819628179,126.4397622056733]
[44,157.84417277982644,124.15937302110488]
[46,154.9973931103998,121.92011152249852]
[48,152.20195619467461,119.72123595640063]
[50,149.45693604656711,117.56201794716358]
[52,146.7614233805046,115.44174225567133]
[54,144.11452531022542,113.35970654241733]
[56,141.51536505301084,111.31522113485477]
[58,138.9630816392521,109.30760879894376]
[60,136.45682962725465,107.33620451481768]
[62,133.99577882318638,105.40035525649616]
[64,131.57911400607628,103.49941977557037]
[66,129.20603465777387,101.63276838879065]
[68,126.87575469777772,99.799782769484054]
[70,124.58750222284712,97.999855742734255]
[72,122.34051925130993,96.232391084255497]
[74,120.13406147198128,94.496803322893442]
[76,117.96739799761188,92.792517546688885]
[78,115.83981112278187,91.118969212438387]
[80,113.75059608616115,89.475603958689561]
[82,111.69906083705852,87.861877422109856]
[84,109.68452580618001,86.277255057166286]
[86,107.70632368052222,84.721211959057825]
[88,105.76379918232558,83.193232689841153]
[90,103.85630885201383,81.692811107692009]
[92,101.98322083504898,80.219450199246609]
[94,100.1439146726299,78.772661914966051]
[96,98.337781096165855,77.351967007470535]
[98,96.564221825456528,75.956894872788723]
[100,94.822649370512792,74.586983394471062]