{"text_format":"1","workbook":"xlsx","n_sheets":24,"sheets":["MOVA Tips","Instructions","GoalsWide","GoalsLong","GoalsHelper","1.1 Sample Court Tab","1.2 Sample Court Tab","1.3 Sample Court Tab","1.4 Sample Court Tab","1.5 Sample Court Tab","1.6 Sample Court Tab","1.7 Sample Court Tab","1.8 Sample Court Tab","1.9 Sample Court Tab","1.10 Sample Court Tab","1. Overall Demographics","2. Goals","3. Key Outcomes","Lists Hidden","Key Outcomes Hidden","County Summary","Appendix","Need Support","Tracker"],"not_rendered":{"charts":0,"images":24,"macros":0,"external_links":3,"defined_names":84,"comments":0,"pivot_tables":0},"unopened":[],"bounds":{"document_bytes":16777216,"sheet_cells":100000,"rows_first":2000,"rows_last":500,"rows_between":2000,"halvings":0,"cell_chars":16384,"cell_head_chars":4096},"cells_cut":0,"cells_raw":0,"read":"whole","date_system":"1900"}

{"sheet":"MOVA Tips","index":0,"n_rows":44,"n_cols":19,"rows_kept":44,"cut":false,"hidden":false,"merged":[[37,1,37,13],[39,1,39,13],[13,6,13,9],[14,6,14,9],[15,6,15,9],[16,6,16,9],[20,1,20,13],[33,2,33,12],[35,2,35,12],[22,1,22,13],[24,1,24,13],[29,1,29,13],[31,1,31,13],[12,11,16,14],[2,18,24,29],[0,11,0,15],[12,6,12,9],[13,2,13,5],[14,2,14,5],[15,2,15,5],[16,2,16,5]]}
[null,null,null,null,null,null,null,null,null,null,null,"Outcome Measurement Tool (OMT)\nMA - Victim Witness Assistance Board\n\nNeed Assistance? \nContact MOVAstats@mass.gov\n"]
[null,null,null,null,"SAFEPLAN Outcome Measurement Tool (OMT)",null,null,null,null,null,null,null,null,null,null,null,null,null,"NOTES:"]
[null,null,null,null,null,null,null,null,null,null,null,"Last Updated: October 2023",null,null,null,null,null,null,"\n\n"]
[]
[null,"MOVA’s TIPS: Using the OMT"]
[]
[null,"Your MOVA Program Coordinator is your first point of contact for any questions or concerns about the OMT and performance data tracking."]
[]
[null,"REPORTING SCHEDULE"]
[]
[null,"SAFEPLAN funded agencies are required to submit data on the OMT according to the following schedule:"]
[]
[null,null,"Reporting Period*",null,null,null,"Deadline to Submit"]
[null,null,"Period 1 (July 1 - September 30 2023)",null,null,null,"2023-10-31"]
[null,null,"Period 2 (October 1 - December 31 2023)",null,null,null,"2024-01-31"]
[null,null,"Period 3 (January 1 - March 31 2024)",null,null,null,"2024-04-30"]
[null,null,"Period 4 (April 1 - June 30 2024)",null,null,null,"2024-07-31"]
[]
[null,"GENERAL"]
[]
[null,"Data must be submitted by the above deadlines – failure to do so may result in funding being withheld."]
[]
[null,"SAFEPLAN funded agencies are required to track raw individual level data – either by using OVC’s Data Tracking Spreadsheet or a separate database that allows for data entry, collection and production as outlined in the spreadsheet."]
[]
[null,"Not every client will fit neatly into the demographic options (age, gender, victimization type) and not all of your agency’s SAFEPLAN funded services will fit neatly into OVC’s Direct Services categories – please contact your MOVA Grants Manager with any questions you may have about definitions and selecting appropriate categories."]
[]
[null,"TECHNICAL"]
[]
[]
[null,"This database is set to AutoSave, however, continue to \"Save\" frequently as your computer preferences may not allow that. If issues arise where you have lost any data entered and it appears to not saved properly, check your auto recovery or reach out for support. "]
[]
[null,"You must fill in every required field in the OMT – failure to do so will prevent the summary tabs from properly updating this quarter's progress and you are required to complete all fields before you save and submit your data report."]
[]
[null,null,"Where there is no data to report, you must type 0 (zero) – this applies to all numeric fields in the OMT."]
[]
[null,null,"Some questions require an explanation – please write your explanation (or N/A, if appropriate) in the text field provided."]
[]
[null,"The OMT requires consistency across totals – for example, the total number of clients entered in demographics-age must equal the total number of new individuals served in a reporting period. Any discrepancies may be marked in the data entry tabs and you will be asked to correct data fields as necessary."]
[]
[null,"This workbook is intended to be used as an internal tool to track and organize data for entry. Data will be submitted to MOVA via the eGrants platform. This file is not password protected and can be easily edited by right clicking on any tab and clicking Unprotect Sheet. You may edit it how you need for your individual program needs."]
[]
[]
[]
[null,"For technical assistance, contact MOVAstats@mass.gov."]

{"sheet":"Instructions","index":1,"n_rows":188,"n_cols":9,"rows_kept":188,"cut":false,"hidden":false,"merged":[[183,0,183,4],[185,0,185,4],[177,0,177,4],[178,0,178,4],[179,0,179,4],[180,0,180,4],[182,0,182,4],[112,0,112,4],[172,0,172,4],[173,0,173,4],[174,0,174,4],[176,0,176,4],[113,0,113,4],[42,10,42,14],[42,15,42,19],[39,10,39,14],[39,15,39,19],[40,0,40,4],[40,10,40,14],[40,15,40,19],[41,10,41,14],[41,15,41,19],[39,0,39,4],[41,0,41,4],[42,0,42,4],[53,0,53,4],[63,1,64,1],[56,0,56,4],[51,0,52,4],[43,0,43,4],[48,0,48,4],[49,0,49,4],[14,0,14,4],[9,0,9,4],[16,1,16,5],[18,0,18,4],[38,0,38,4],[31,0,31,4],[37,0,37,4],[34,0,34,4],[32,0,32,4],[35,0,35,4],[47,10,47,14],[47,15,47,19],[46,0,46,4],[0,4,0,5],[25,0,25,4],[26,0,26,4],[29,0,29,4],[11,0,11,4],[2,1,3,4],[5,0,6,4],[7,0,7,4],[20,0,20,4],[21,0,21,4],[24,0,24,4],[28,0,28,4],[22,0,22,4],[79,0,79,4],[81,0,81,4],[83,10,83,14],[83,15,83,19],[2,8,24,15],[83,0,83,4],[71,0,71,4],[44,0,44,4],[44,10,44,14],[44,15,44,19],[45,0,45,4],[45,10,45,14],[45,15,45,19],[46,10,46,14],[46,15,46,19],[47,0,47,4],[92,0,92,4],[102,0,102,4],[91,0,91,4],[87,0,87,4],[101,0,101,4],[89,0,90,4],[87,10,87,14],[87,15,87,19],[85,0,85,4],[85,10,85,14],[85,15,85,19]]}
[null,null,null,null,"Outcome Measurement Tool (OMT)\nMA - Victim Witness Assistance Board\n\nNeed Support? Contact MOVAstats@mass.gov.\n"]
[null,null,"INSTRUCTIONS FOR DATA ENTRY AND SUBMISSION",null,null,null,null,null,"NOTES:"]
[null,"INSTRUCTIONS: This tool is meant to be used internally to track data. This workbook simulates the required data entry on the eGrants platform in a way that can be manipulated for individual program needs. When ready to enter and submit your agency's program data, :  (1.X) Court Specific tabs, (1) Demographics, (2) Goals, and (3) Key Outcomes, which can be found in the subsequent worksheets. Each workbook contains a separate tab for each of the courts for SAFEPLAN. Please use the tab labels to ensure you continue to enter data for a specific court in the same tab each reporting period. There are areas within the \"Court Specific\" tabs that are summarized in \"Demographics\" and \"MOVA Summary\" to show a comprehensive picture across all courts. Instructions are provided for where data entry is required and when it is a summary field.\n\nTo rename the court tabs to customize for your agency, double click on the Sample Court Tab and enter the name you would like to use. We recommend renaming them in alphabetical order as that is how it will appear on eGrants. Excess Sample Court Tabs can be hidden by right clicking on the tab and selecting \"Hide.\"\n\nAdditional instructions are provided below to align with each section in the data entry tabs should you need clarification on what to include in each section and what options are presented as potential responses. "]
[]
[]
["DEMOGRAPHICS. This section is an opportunity to provide expanded detail about clients which will be aggregated to count as part of regular federal reporting. It provides additional options that you are able to specify based on your service population and then the tool will retain your entry preferences in subsequent periods for further updating. "]
[]
["Race/Ethnicity - This section includes NEW individuals only and should equal the total included in Section 3."]
["Optional Additions: "]
["• If you would like the option to include a count of specific identities within a racial and/or ethnic category, you can select an identity under the racial and/or ethnic category from the drop down menu and enter the total number of new individuals within this specific identity."]
[]
["• If there is a specific identity that is not listed as an option under the appropriate racial and/or ethnic category in the drop down menu, select \"other\" in the drop down menu under the appropriate racial and/or ethnic category. Specify the \"other\" identity in the next cell directly adjacent to \"other: and enter the total number of new individuals included in this identity."]
[]
["Other Race and/or Ethnicity:"]
["• If you need to specify a racial and/or ethnic category that does not fall into the available categories (e.g., American Indian or Alaska Native, Asian, Black or African American, Hispanic or Latino, Native Hawaiian or other Pacific Islander, White non-Latino or Caucasian), type in the other category in the cell below the \"Other Race/Ethnicity (please specify below)\" and enter the total number of new individuals who fall into this category."]
[null,"Multiple Races and Individuals Not Reported or Tracked:"]
[null,"• If you have individuals that fall into more than one racial and/or ethnic category, use the \"Multiple Races\" section to select the race/ethnicity combination or select \"other\" and enter the specified detail."]
[]
["• If there are individuals that did not provide race/ethnicity OR that your agency were unable to track this particular identifier, use the \"Individuals Not Reported\" or \"Individuals Not Tracked\" categories."]
[]
["Gender Identity - This section includes NEW individuals only and should equal the total included in Section 3. Reporting of Male, Female, and Other is required."]
["Other Gender Identity:"]
["•  If you need to specify a gender identity that does not fall into the available categories (e.g., Transgender Male, Transgender Female, Genderqueer/Non-Conforming/Non-Binary), type in the other identity in the cell below the \"Other Gender (please specify below)\" and enter the total number of new individuals who fall into this identity. "]
[]
["Age - This section includes NEW individuals only and should equal the total included in Section 3."]
["• The total number of each new individual in age categories Age 0-12 and Age 13-17 and so on. The summary will then be auto-calculated to align with prior PMT categories and totals will be presented in the MOVA Summary tab."]
["• Enter the total number of each new individual in only one age category as self-reported. Expanded categories are optional."]
[]
["Geographic Region - This section includes NEW individuals only and should equal the total included in Section 3."]
["• Enter the total number of individuals who fall into the geographical areas, into the corresponding reporting period. Please use your agencies definition for each category. What is presented is meant to be a guide if needed."]
[]
["Victimization Type - This section included ALL individuals and should equal the total included in Section 1. This section in mandatory."]
["• Enter the total number of individuals into each of the corresponding categories. An individual MAY be counted in more than one victimization type. An individual MAY NOT be counted more than once within a single victimization type. The total across this section should be equal to the total number of individuals served during the specified period (includes ALL individual regardless of whether they were NEW)."]
[]
["Other Victimization Type:"]
["• If you need to specify a victimization type that is not listed, please specify in the cell below \"Other Victimization (please specify below)\" and enter the total number of individuals who fall into this category."]
[]
["Special Classification Type"]
["Optional Disabilities Additions: "]
["• If you would like the option  to include a count of specific disabilities for those served, you can select a disability type under the \"Victims with Disabilities: Cognitive/Physical/Mental\" category from the drop down menu and enter the total number of individuals within this specific category."]
[]
["• If there is a specific disability that is not listed as an option under the disabilities category in the drop down menu, select \"other\" in the drop down menu under the disabilities \n        category. Specify the \"other\" disability in the next cell and enter the total number of individuals included."]
[]
["Optional LEP Additions: "]
["• If you would like the option  to include a count of specific languages served, you can select a language under the \"Victims with Limited English Proficiency\" category from the drop down menu and \n        enter the total number of individuals within this specific language."]
[]
["• If there is a specific language that is not listed as an option under the limited English proficiency category in the drop down menu, select \"other\" in the drop down menu under the limited English proficiency \n        category. Specify the \"other\" language in the next cell and enter the total number of individuals included."]
[]
["Other Classification Type:"]
["• If you need to specify a special classification type that does not fall into the available categories (e.g., Deaf or Hard of Hearing, Homeless, Immigrants/Refugees/Asylum Seekers, LGBTQ, Veterans, Victims with Disabilities), type in the special classification in the cell below the \"Other Special Classification (please specify below)\" and enter the total number of  individuals who fall into this category."]
[]
["GOALS. This section will rely on the SAFEPLAN logic model and the objectives described in your award. Each step builds upon  prior responses to assist in outlining measurable goals. Goals have been established for all SAFEPLAN awards and prepopulated in the GOALS tab. Please review and notate any specifications or nuances to how the goals might be most applicable to your court(s). During each reporting period, you have an opportunity to include notes about your entries. However, consult with your Grant Manager before changing any goals that have been included."]
[]
["Complete the information at the top of the tab for the main point of contact for the OMT submission. Select your organization category from the following categories. This information is retained after entry during the first submission period and only updates are needed if the point of contact changes. Period in reference will be updated each data entry period."]
[null,"Organization categories:","Government Agencies\nNonprofit Organizations\nTribal Government Agencies and Organizations\nCampus Organizations"]
[]
["Next, select your agency type (based on organization category). These options are grouped based on response to \"Organization Category\". This information will be retained after entry during the first submission period and any changes require consultation with your MOVA Grant Manager. The options presented in the other OMT categories are based on what is selected here."]
[null,"Government Agencies:","Corrections\nCourts\nJuvenile Justice","Law Enforcement\nProsecutor\nOther Government Agency"]
[]
[null,"Nonprofit Organizations:","Child Abuse Service Organizations","Domestic Violence and Sexual Assault Services","Organization by/for underserved victims of crime"]
[null,null,"Coalition","Faith-Based Organization ","Other Nonprofit Organization"]
[null,null,"Domestic and Family Violence Organization","Multiservice Agency ","Sexual Assault Service Organization "]
[]
[null,"Tribal Government Agencies and Organizations:","Child Abuse Service Organizations","Juvenile Justice","Organization by/for underserved victims of crime"]
[null,null,"Court ","Law Enforcement ","Other Agency that is NOT Justice-Based "]
[null,null,"Domestic and Family Violence Organizations","Prosecutor","Other Tribal Government, Agency, Organization"]
[null,null,"Domestic Violence and Sexual Assault Services","Sexual Assault Service Organizations"]
[null,null,"Faith-Based Organization ","Other Justice-Based Agency "]
[]
[null,"Campus Organizations:","Campus-Based Victims Services\nLaw Enforcement \nPhysical or Mental Health Service Program\nOther Campus Organization"]
[]
["During the first reporting period, review the strategic areas entered for your award(s) and the associated goals and outputs for each area. You will see 1-2 goals per strategic area that require measurable milestones to track throughout your award. The items included in this tab correspond to the SAFEPLAN logic model. Each reporting period this section will be for updates only and entering the values for each period to track your progress, as well as any changes in your program. Each output is entered on its own line within the tool and a line becomes the complete picture for that particular measure.\n\nSection 1: Strategic areas best describe the objectives of your current award as outlined in your program logic model.  These are main strategic areas that span current funding. "]
[null,"Strategic Areas","(1) Administrative Capacity","(7) Housing and Shelter"]
[null,null,"(2) Case Management and Client/Victim Advocacy","(8) Language Access and Disabilities"]
[null,null,"(3) Community Engagement and Outreach ","(9) Legal Services and Legal Advocacy"]
[null,null,"(4) Crisis Intervention and Hotline","(10) Medical and Forensic Services"]
[null,null,"(5) Education and Training","(11) Mental Health Services"]
[null,null,"(6) Financial Reimbursement or Compensation"]
[]
["Section 2: Goals per strategic area best describe the types of activities of your award or the outcomes your organization is aiming to achieve through the activities provided by your program.  An example could be “to provide access to safe nights” if your Strategic Area is Housing and Shelter or “to reduce trauma symptoms of clients who are engaged in mental health services” if your Strategic Area is Mental Health Services. "]
[]
["Section 3: Measures per program goal are outlined and will be the measures for inclusion in your regular reporting. These are the predetermined program goals and do not include all possibilities. These items correspond with the Outputs section of the SAFEPLAN logic model and subsequently each intended outcome. NOTE: These measures will include both items you already report in the MOVA reporting and new data as needed to fully describe what is outlined in the “Outputs” section of your logic model. Refer to the Demographics and Direct Services questions for measures (e.g., counts of services offered and types of people served) already reported in the MOVA reporting."]
[]
["Section 4: Set Milestones. Provide the milestone included in the program logic model for the corresponding item to show what you plan to achieve by the end of your award. If your program milestone needs to be adjusted given external factors or changes to your program, consult with your MOVA Grant Manager prior to altering the milestone from previous periods."]
[]
["Section 5: Update Output Type. The output type has been preselected from the dropdown to correspond with who or what the output is focused on. In this section, update the column with \"specify here\" if there are any additional details you would like to include about how your estimate was calculated. For example, a row for the \"number of civil advocacy/accompaniment\" is included to show an overall summary across your SAFEPLAN courts."]
[]
["Section 6: DURING EACH PERIOD, input the corresponding updates for the goals chosen in the corresponding column using the being/yellow areas. The progress toward achieving each goal will automatically update to show cumulative totals across quarters."]
[]
["KEY OUTCOMES. Subrecipients are expected to implement a standard set of key outcomes to demonstrate what has been achieved by their program. This section is meant to capture what you may already be collecting and more so offers an opportunity to share those successes and milestones. Review the outcomes presented and update accordingly to present the group of outcomes for each court. During each reporting period, you will provide the overall percentage/outcome for each measure entered in this section for that period and for each specified court. These items correspond to the SAFEPLAN logic model. Sample measures are included in the dropdown options within the OMT and supporting materials provided during launch."]
[]
["Step 1: Select Strategic Areas. Following the same strategic areas specified in the previous tab, the appropriate label for the corresponding strategic area has been provided for the outcome being measured. This presents several options and an option to create your own description (i.e., Mental Health Services, Housing and Shelter). Three strategic areas are entered as the core measures for SAFEPLAN."]
["• In the first column, select the strategic area that relates to the outcome in your logic model. "]
[]
[null,"Strategic Areas","(1) Administrative Capacity","(7) Housing and Shelter"]
[null,null,"(2) Case Management and Client/Victim Advocacy","(8) Language Access and Disabilities"]
[null,null,"(3) Community Engagement and Outreach ","(9) Legal Services and Legal Advocacy"]
[null,null,"(4) Crisis Intervention and Hotline","(10) Medical and Forensic Services"]
[null,null,"(5) Education and Training","(11) Mental Health Services"]
[null,null,"(6) Financial Reimbursement or Compensation"]
[]
["Step 2: Determine Outcome Type. This section has a selection from the dropdown for who or what the outcome is focused on. This includes options such as client outcomes, staff-based outcome, quality of services, outreach, organizational-level outcomes, collaboration and referral, specific populations, and other. For example, if one of your program goals is related to training staff on trauma-informed practices, here is where you will have an opportunity to specify that the corresponding outcomes is related to staff outcomes from the training(s)."]
[]
[]
[null,"Outcome Types","(1) Client/Participant/Self-Reported","(7) Service Population"]
[null,null,"(2) Staff-Based/Staff Reported","(8) Other"]
[null,null,"(3) Quality of Service Provision"]
[null,null,"(4) Community Engagement/Outreach"]
[null,null,"(5) Organizational-level"]
[null,null,"(6) Collaboration/Referral"]
[]
[]
["Step 3: Select Sub-Category. Once the Outcome Type is selected, then further classification by the sub-category is used to show whether the measure is a short- or long-term outcome, which will further define the associated strategic areas. This has already been captured for the three core measures for SAFEPLAN."]
[]
[]
[null,"Client/Participant/Self-Reported","Access Systems (i.e., justice, medical)","Knowledge Building"]
[null,null,"Connections to Community Resources","Network and Personal Relationship Supports"]
[null,null,"Client/Victim Well-Being","Mental Health and Well Being Physical Behavior"]
[null,null,"Economic Supports","Safety and Protection"]
[null,null,"Housing Stability","Skill Building"]
[null,null,"Independence and Empowerment","Other"]
[null,null,"Individual Goal Achievement"]
[]
[null,"Staff-Based/Staff Reported","Ability to Provide Needed Service(s)","Skill Building"]
[null,null,"Confidence in Providing Service(s)","Staff Well-Being"]
[null,null,"Individual Goal Achievement","Volunteer Management"]
[null,null,"Knowledge Building","Other"]
[null,null,"Program Accessibility and Responsiveness"]
[null,null,"Represent Diversity of Experience"]
[]
[]
[]
[null,"Quality of Service Provision","Accessibility of Services","Implementation of Best Practices","Quality of Services"]
[null,null,"Availability of Services","Language Access","Respectful and Supportive Staff and Services"]
[null,null,"Availability of Staff/Timeliness","Location and Facility","Survivor-Centered Practices"]
[null,null,"Awareness of Services","Met Client Needs","Trauma-Informed Care"]
[null,null,"Challenges and Barriers","Program Engagement","Other"]
[null,null,"Confidential and Private","Program Satisfaction"]
[]
[]
[null,"Community Engagement/Outreach","Access to Services by Marginalized Communities","Materials and Website"]
[null,null,"Access to Services by Underserved Communities","Social Media Presence"]
[null,null,"Communication Strategy and Tools","Volunteer Recruitment"]
[null,null,"Community Awareness of Issue","Other"]
[null,null,"Community Awareness of Services"]
[null,null,"Community Wide-Response to Issue Impacting Victims of Crime"]
[]
[]
[null,"Organizational-level","Board Governance","Leadership Capacity","Other"]
[null,null,"Culture and Values","Policies and Practices"]
[null,null,"Data Collection and Evaluative Capacity","Program Implementation and Best Practices"]
[null,null,"Financial Management","Strategy and Planning"]
[null,null,"Human Resources","Succession and Sustainability"]
[null,null,"Infrastructure and Technology","Vision and Mission"]
[]
[]
[null,"Collaboration/Referral","Awareness of Available Resources"]
[null,null,"Community Partnerships"]
[null,null,"Engagement with Existing Partners"]
[null,null,"New Partnerships"]
[null,null,"Partner Awareness of Our Program/Services"]
[null,null,"Other"]
[]
[]
[null,"Service Population","Expand within Existing Service Population"]
[null,null,"Geographic Reach"]
[null,null,"New Racial/Ethnic Population"]
[null,null,"Marginalized Population"]
[null,null,"Underserved Population"]
[null,null,"Other"]
[]
[]
["Step 4: Define the Question or Measure Used. For each outcome, describe how it was measured. Often times this will be through either client surveys, program data on service levels, case management data, tracking of referral outcomes, or results from assessments. Programs are able to enter information for each measure utilized or a combination of measures that assess a key construct such as client well-being. In this example, you might include individual measures for mental health, employment, housing, and safety or select to include client well-being overall. This has already been captured for the three core measures for SAFEPLAN. Please add any more detailed information about your measure if needed."]
["• Include the full next for the question that is being used to measure the outcome. "]
["• Provide additional detail about the type of measure being used to indicate if you provided categories of options as potential responses or if a numeric answer is anticipated for that item. Use these labels to guide which is the best option:\n          -- Categorical - nominal scale with options that are non-numeric, such as gender, race, place of birth\n          -- Ordered Scale - ordinal or Likert scale with options have  an order or rank and without standardized units, such as 5-point agreement scale (1 = strongly disagree, 5 = strongly agree)\n          -- Numeric Scale - interval or ratio scale includes an order or rank as well as standardized units between each option, such as income, age, assessment scores"]
[]
["Step 5: Specify the Scale Range. Provide the detail related to each outcome to explain how it was measured, if needed. The options include selecting from a dropdown list of sample measures where you can include whether it was a quantitative or qualitative, type of scale if applicable (e.g., 5 response options), and types of responses (e.g., agreement items, true/false statements, yes/no, etc.). This has been prepopulated for SAFEPLAN measures."]
[]
[]
["Step 6: Enter Milestones. Provide the milestone included in the program logic model for the corresponding item to show what you plan to achieve by the end of your award. The three core measures entered are percentages, so enter the overall percentage you aim to achieve for each of the presented measures. There is additional space to provide more detail regarding the qualitative milestones given that non-numeric milestones require additional information."]
["• Type in the milestone or numeric goal for the outcome for the grant period. In the core measures, these are percentages."]
[]
["• This is an optional space to provide additional information about the milestone.  If you have multiple awards, use the open-ended field here to specify which award the entries apply to."]
["Step 7: IN EACH PERIOD, update the findings for the current reporting period. Enter the overall percentage or result for the specified outcome during each reporting period in the being/yellow area. Also add in the number of individuals that the information is corresponding to in the second column."]
[]
[]
[]
[null,"For technical assistance, contact your MOVA Grant Manager."]

{"sheet":"GoalsWide","index":2,"n_rows":48,"n_cols":52,"rows_kept":48,"cut":false,"hidden":true,"merged":[[17,50,17,51],[17,12,17,17],[17,3,17,11],[17,18,17,22],[17,23,17,27],[17,28,17,29],[17,30,17,36],[16,2,16,3],[33,2,33,6],[17,37,17,40],[17,41,17,44],[17,45,17,49]]}
["Type of Organization",null,"Government Agencies","Nonprofit Organizations","Tribal Organizations","Campus Organizations"]
[]
[null,null,"Corrections","Child Abuse Service Organizations","Child Abuse Service Organizations","Campus-Based Victims Services"]
[null,null,"Courts","Coalition","Court ","Law Enforcement "]
[null,null,"Juvenile Justice","Domestic and Family Violence Organization","Domestic and Family Violence Organizations","Physical or Mental Health Service Program"]
[null,null,"Law Enforcement ","Faith-Based Organization ","Faith-Based Organization ","Other Campus Organization"]
[null,null,"Prosecutor","Organization Provides Domestic Violence and Sexual Assault Services","Juvenile Justice"]
[null,null,"Other Government Agency","Organization by/for underserved victims of crime","Law Enforcement "]
[null,null,null,"Sexual Assault Service Organization ","Organization Provides Domestic Violence and Sexual Assault Services"]
[null,null,null,"Multiservice Agency ","Prosecutor"]
[null,null,null,"Other Nonprofit Organization","Sexual Assault Service Organizations"]
[null,null,null,null,"Other Justice-Based Agency "]
[null,null,null,null,"Other Agency that is NOT Justice-Based "]
[null,null,null,null,"Organization by/for underserved victims of crime"]
[null,null,null,null,"Other Tribal Government, Agency, Organization"]
[]
[null,null,"THIS IS THE MASTER 'GOALS AND MEASURES' TABLE FOR TAB 2"]
["Strategic Area (for drop down menu)",null,"Administrative Capacity","Case Management and Client/Victim Advocacy",null,null,null,null,null,null,null,null,"Community Engagement and Outreach",null,null,null,null,null,"Crisis Intervention and Hotline",null,null,null,null,"Education and Training",null,null,null,null,"Financial Reimbursement or Compensation ",null,"Housing and Shelter",null,null,null,null,null,null,"Language Access and Disabilities",null,null,null,"Legal Services and Legal Advocacy",null,null,null,"Medical and Forensic Services",null,null,null,null,"Mental Health Services"]
["Select Strategic Area",null,"To improve the provision of services to clients/victims through increased administrative capacity","To advocate on behalf of the client/victim and their family/caregiver in order to meet the needs of the client/victim","To provide information and referrals to services to support meeting basic needs and healing from victimization","To advocate on behalf of the client/victim in order to achieve systems change","To ensure that the client/victims and their family/caregivers are provided with the services that will enhance their well-being","To provide emotional support to clients/victims","To enhance the safety of the client/victim","To support caregiver or family members of the client/victim","To hire and support case managers to coordinate services for clients/victims at your organization","To provide a multidisciplinary response to comprehensively address the needs of clients/victims","To increase underserved communities’ access to program/services","To raise awareness of the issue or of the services that you offer","To improve identification and awareness of client/victim population","To strengthen relationships with other service providers","To coordinate services at the local, state or national level through the convening of collaborations and multidisciplinary teams","To implement protective factors and reduce risk factors in a community","To provide crisis services that are accessible to the client/victim population served","To provide information and referrals to services to support meeting basic needs and health from victimization","To provide emotional support to clients/victims","To enhance the safety of the client/victim","To support caregiver or family members of the client/victim","To increase knowledge, skills, or competency of staff","To increase knowledge, skills, or competency of allied service professionals","To improve the well-being or understanding of clients/victims through trainings, seminars or other educational opportunities","To provide LEP co-workers and colleagues with the ability to access continuing education training and outreach events in a language that is most comfortable for them","To engage volunteers and interns in providing support to clients/victims at your organization","To provide for the client/victim’s basic needs and emergency financial support","To support client/victim’s engagement in the Victim Compensation process","To provide access to safe nights","To ensure the stability of survivor’s future housing","To support client/victim in maintaining current housing","To advocate on behalf of client/victim and their family/caregiver in order to meet the housing needs of the client/victim","To provide clients/victims and their family/caregiver with information and referrals to services to support meeting their housing needs","To enhance the safety of the client/victim","To support caregiver or family members of the client/victim","To provide the client/victim with the ability to access systems of care in a preferred language","To provide written materials and forms in client/victim’s preferred language","To provide ready and efficient access to interpretation services in a way that increases the provider’s ability to provide services to the client","To provide disabled clients/victims with the ability to access systems of care","To support the client/victim’s through accompaniment and legal advocacy","To meet the legal representation needs of the client/victim of crime","To assist the client/victim’s involvement in the legal system","To provide the client/victim with information to engage the legal system","To provide appropriate and high quality medical care to victims/patients/clients","To support client/victim’s engagement in medical systems through advocacy and accompaniment","To provide clients/victims and their family/caregiver with information and referrals to services to support meeting their basic needs and healing from their victimization","To provide emotional support to clients/victims or their family/caregivers","To enhance the safety of the client/victim","To reduce trauma symptoms and/or facilitate recovery for clients/victims","To increase the access of individuals into systems of mental health care"]
["Administrative Capacity",null,"Number of policies or protocols created or revised to improve direct services","Number of individuals who benefit from advocacy","Number of individuals who received advocacy in engaging a system (specify systems)","Number of instances in which the provider engaged the traditional media to achieve a larger system goal","Number of instances of case management","Number of instances of emotional support provision for clients/victims","Number of instances of safety planning","Number of instances of emotional support provision","Number of new case managers trained","Number of individuals served with coordinated response","Number of outreach materials created to reach underserved populations (language, accessibility or cultural specificity)","Number of in-person outreach events attended by the organization","Number of new clients/victims identified","Number of formalized partnerships created with other organizations","Number of meetings or convenings attended","Number of activities conducted in the reporting quarter in which the primary purpose of the activity was primary prevention or development of a shared community vision","Number of crisis intervention instances","Number of referrals to other services, supports, or resources","Number of instances of emotional support provision for clients/victims and their family/caregivers","Number of instances of safety planning","Number of instances of emotional support provision","Number of staff that engaged in continuing education","Number of training or education events conducted","Number of training or education events to clients/victims conducted","Number of training or education events conducted","Number of new volunteers or interned trained","Number of instances of emergency financial assistance","Number of individuals provided with information about the Victim Compensation process","Number of instances emergency shelter or safe house provided","Number of relocation assistance instances","Number of financial assistance instances provided to support remaining in current location","Number of instances other advocacy on behalf of the client/victim","Number of individuals who received referrals to other services, supports or resources","Number of instances of safety planning","Number of instances of safety planning","Number of interpreter requests","Number of materials created in language other than English","Number of service providers that requested interpretation services","Number of individuals with disabilities served","Number of law enforcement interviews/advocacy/accompaniments","Number of instances of civil legal representation provided in obtaining protection or restraining order","Number of instances of assistance with restitution (includes assistance in requesting and when collection efforts are not successful)","Number of notifications of criminal justice events (e.g., case status, arrest, court proceedings, case disposition, release)","Number of intakes or assessments","Number of instances of victim advocacy/accompaniment to emergency medical care","Number of individuals who received referrals to other services, supports or resources","Number of instances of emotional support provision for clients/victims or their family/caregiver","Number of instances of safety planning","Number of individual counseling instances","Number of intakes or initial assessments"]
["Case Management and Client/Victim Advocacy",null,"Number of policies or protocols created or revised to improve administrative work","Number of instances other advocacy on behalf of the victim and/or their family/caregiver","Number of individuals who received referrals to other services, supports or resources (specify type)","Number of instances in which the provider gave testimony to a 3rd party to advance the interest of a victim/client or a collective group of victims/clients","Number of individuals provided with case management","Number of individuals who receive emotional support provision","Number of individuals who received safety planning","Number of individuals who receive emotional support provision","Number of trainings offered for case managers","Number of instances of coordinated response","Number of new clients/victims accessing services after increased outreach to underserved victims","Number of presentations or trainings conducted","Number of individuals screened","Number of new formalized partnerships created with other organizations ","Number of individuals referred to local state or national coordination group","Number of participants engaged in activities for which the primary purpose was primary prevention or development of a shared community vision","Number of individuals served through crisis intervention","Number of individuals who received referrals to other services, supports, or resources","Number of individuals who receive emotional support provision","Number of individuals who received safety planning","Number of individuals who receive emotional support provision","Number of training or education events attended by staff","Number of participants trained or educated","Number of clients/victims trained or educated","Number of participants trained or educated","Number of trainings offered for volunteers or interned","Number of individuals served through emergency financial assistance","Number of individuals served through Victim Compensation application assistance","Number of individuals served through emergency shelter or safe house","Number of individuals served through relocation assistance","Number of individuals who received financial assistance instances to support remaining in current location","Number of clients/victims who benefit from advocacy","Number of referrals to other services, supports, or resources","Number of individuals who received safety planning","Number of individuals who received safety planning","Number of individuals served through interpreter services","Number of materials translated in a language other than English","Number of different service providers that received services","Number of instances of specialized service provision for individuals with disabilities","Number of individuals served through law enforcement interviews/advocacy/accompaniment","Number of individuals who received civil legal representation in obtaining protection or restraining order","Number of individuals who received assistance with restitution (includes assistance in requesting and when collection efforts are not successful)","Number of individuals served through notifications of criminal justice events (e.g., case status, arrest, court proceedings, case disposition, release)","Number individuals who receive an intake or assessment","Number of individuals served through victim advocacy/accompaniment to emergency medical care","Number of referrals to other services, supports, or resources","Number of individuals who receive emotional support","Number of individuals who received safety planning","Number of individuals served through individual counseling instances","Number of victims that engaged in a screening or intake process"]
["Community Engagement and Outreach",null,"Number of evaluation efforts launched",null,"Number of referrals to other services, supports, or resources",null,"Number of transportation assistance (includes coordination of services) instances",null,null,"Number of instances of safety planning",null,null,"Number of outreach events targeted specifically reach underserved populations attended by staff (language, accessibility or cultural specificity)","Number of participants who attended presentations or trainings","Number of high risk referrals received","Number of community meetings or convenings attended","Number of formalized commitments by partner agencies to participate",null,"Number of hotline/crisis line counseling instances (including online chatting, emails or texts)","Number of instances of sharing information",null,null,"Number of instances of safety planning","Number of internal training or education events for staff conducted","Number of curriculums created to provide training","Number of curriculums created to provide training for victims","Number of new clients/victims accessing services as a result of increased capacity","Number of individuals served by volunteers or interns","Number of instances of basic needs provisions","Number of instances of Victim Compensation application assistance","Number of instances of transitional housing provided","Number of budgeting and financial education support instances",null,"Number of instances other advocacy on behalf of the client/family/caregiver","Number of instances of information provided",null,null,"Number of requests for interpretation services unfilled",null,null,"Number of services offered to clients/victims with disabilities","Number of prosecution interviews/advocacy/accompaniments (includes accompaniment with prosecuting attorney and with victim/witness)","Number of instances of civil legal representation with family law matters (e.g., custody, visitation, or support)","Number of instances of victim impact statement assistance","Number of instances information provided about the criminal justice process","Number of performances of a medical or nonmedical forensic exam, interview, or evidence collection","Number of instances of victim advocacy/accompaniment to medical forensic exam","Number of instances information provided",null,null,"Number of support groups (facilitated or peer) instances","Number of victims that were screened and referred to another mental health provider"]
["Crisis Intervention and Hotline",null,"Number of individuals who participated in evaluation efforts",null,"Number of instances for sharing information about victimization/service provision",null,"Number of individuals served through transportation assistance (includes coordination of services)",null,null,"Number of individuals who received safety planning",null,null,"Number of formalized partnerships created with other community organizations who specifically reach underserved populations (language, accessibility or cultural specificity)","Number of unique visitors to your website","Number of partners able to screen and refer","Number of new clients/victims referred from partnering agencies","Number of new collaborations/multidisciplinary teams (local, state or national high-risk team, task forces, multidisciplinary team or other multidisciplinary group)",null,"Number of individuals served through hotline/crisis line (including online chatting, emails or texts)","Number of individuals who received information",null,null,"Number of individuals who received safety planning","Number of curriculums created to provide training","Number of new clients/victims accessing services as a result of increased capacity",null,null,"Number of instances of volunteer or intern support","Number of individuals served through providing for basic needs",null,"Number of individuals served through transitional housing","Number of individuals served through budgeting and financial education support instances",null,"Number of families/caregivers who benefit from advocacy","Number of individuals who received information",null,null,"Number of individuals served by program staff in a language other than English",null,null,null,"Number of individuals served through prosecution interviews/advocacy/accompaniments (includes accompaniment with prosecuting attorney and with victim/witness)","Number of individuals served through civil legal representation with family law matters (e.g., custody, visitation, or support)","Number of individuals who received victim impact statement assistance","Number of individuals served through providing information about the criminal justice process","Number of individuals served through the performance of medical or nonmedical forensic exam, interview, or evidence collection","Number of individuals served through victim advocacy/accompaniment to medical forensic exam ","Number of individuals who received information",null,null,"Number of individuals served through support groups (facilitated or peer)"]
["Education and Training",null,"Number of new hires",null,"Number of individuals who received information about victimization/service provision",null,"Number of child or dependent care assistance (includes coordination of services) instances",null,null,null,null,null,null,"Number of new social media posts",null,"Number of clients/victims referred to partnering agencies","Number of times group/partners meet",null,"Number of on-scene crisis response instances (e.g., community crisis response)",null,null,null,null,"Number of staff provided with supervision","Number of trainings delivered specifically targeting ability to serve undeserved or marginalized communities",null,null,null,null,null,null,"Number of individuals who left shelter for permanent housing",null,null,null,null,null,"Number of instances of service provision by program staff in a language other than English",null,null,null,"Number of criminal advocacy/accompaniments","Number of instances of legal representation for immigration assistance (e.g., special visas, continued presence application, and other immigration relief)","Number of instances of assistance in obtaining a protection or restraining order","Number of instances information provided about the civil legal aid","Number of instances of medication prescribed",null,null,null,null,"Number of family therapy instances"]
["Financial Reimbursement or Compensation",null,"Number of new data collection efforts launched",null,null,null,"Number of individuals served through child or dependent care assistance (includes coordination of services)",null,null,null,null,null,null,"Number of new social media followers",null,null,null,null,"Number of individuals served through on-scene crisis response (e.g., community crisis response)",null,null,null,null,"Number of individual supervision instances",null,null,null,null,null,null,null,null,null,null,null,null,null,null,null,null,null,"Number of individuals served through criminal advocacy/accompaniment","Number of individuals served through representation in immigration matters (e.g., special visas, continued presence application, and other immigration relief)","Number of individuals served through assistance in obtaining a protection or restraining order","Number of individuals served through providing information about civil legal aid","Number of individuals who received medication or contraceptives",null,null,null,null,"Number of families served through family therapy"]
["Housing and Shelter",null,"Number of data collection efforts sustained",null,null,null,null,null,null,null,null,null,null,"Number of new outreach materials created",null,null,null,null,null,null,null,null,null,"Number of trainings specifically targeting staff ability to serve underserved or marginalized communities",null,null,null,null,null,null,null,null,null,null,null,null,null,null,null,null,null,"Number of civil advocacy/accompaniments","Number of general legal advice clinics or consultations held to support victims of crime",null,"Number of instances information provided about immigration",null,null,null,null,null,"Number of caregiver therapy instances"]
["Language Access and Disabilities",null,"Number of technology purchases or system enhancements",null,null,null,null,null,null,null,null,null,null,"Number of organizations where outreach materials were distributed",null,null,null,null,null,null,null,null,null,null,null,null,null,null,null,null,null,null,null,null,null,null,null,null,null,null,null,"Number of individuals served through civil advocacy/accompaniment","Number of individuals served through general legal advice clinics or consultations",null,"Number of individuals served through providing information about immigration",null,null,null,null,null,"Number of caregivers served through caregiver therapy"]
["Legal Services and Legal Advocacy",null,"Number of trainings conducted",null,null,null,null,null,null,null,null,null,null,"Number of new clients/victims accessing services after increased outreach",null,null,null,null,null,null,null,null,null,null,null,null,null,null,null,null,null,null,null,null,null,null,null,null,null,null,null,"Number of other emergency justice‐related assistance instances","Number of immigration advice clinics or consultations held to support victims of crime",null,null,null,null,null,null,null,"Number of other therapy (traditional, cultural, or alternative healing; art, writing, or play therapy)"]
["Medical and Forensic Services",null,"Number of clients/victims served through increased capacity",null,null,null,null,null,null,null,null,null,null,null,null,null,null,null,null,null,null,null,null,null,null,null,null,null,null,null,null,null,null,null,null,null,null,null,null,null,null,"Number of individuals served through other emergency justice‐related assistance instances","Number of individuals served through immigration advice clinics or consultations",null,null,null,null,null,null,null,"Number of individuals served through other therapy (traditional, cultural, or alternative healing; art, writing, or play therapy)"]
["Mental Health Services",null,null,null,null,null,null,null,null,null,null,null,null,null,null,null,null,null,null,null,null,null,null,null,null,null,null,null,null,null,null,null,null,null,null,null,null,null,null,null,null,"Number of individuals who benefit from brief legal advice","Number of instances of other legal advice and/or counsel"]
["Other Strategic Area (only use in Customization Section Only)",null,null,null,null,null,null,null,null,null,null,null,null,null,null,null,null,null,null,null,null,null,null,null,null,null,null,null,null,null,null,null,null,null,null,null,null,null,null,null,null,"Number of instances of brief legal advice on behalf of the client/victim and/or the family/caregiver","Number of individuals served through other legal advice and/or counsel"]
[null,null,null,null,null,null,null,null,null,null,null,null,null,null,null,null,null,null,null,null,null,null,null,null,null,null,null,null,null,null,null,null,null,null,null,null,null,null,null,null,null,"Number of individuals who benefit from legal advocacy"]
[null,null,null,null,null,null,null,null,null,null,null,null,null,null,null,null,null,null,null,null,null,null,null,null,null,null,null,null,null,null,null,null,null,null,null,null,null,null,null,null,null,"Number of instances other legal advocacy on behalf of the client/victim and/or the family/caregiver"]
[null,null,"Conditional Table for Strategic Areas and Associated Goals in List Format"]
["Strategic Area",null,"Administrative Capacity","Case Management and Client/Victim Advocacy","Community Engagement and Outreach","Crisis Intervention and Hotline","Education and Training","Financial Reimbursement or Compensation ","Housing and Shelter","Language Access and Disabilities","Legal Services and Legal Advocacy","Medical and Forensic Services","Mental Health Services"]
["Select Strategic Area",null,"To improve the provision of services to clients/victims through increased administrative capacity","To advocate on behalf of the client/victim and their family/caregiver in order to meet the needs of the client/victim","To increase underserved communities’ access to program/services","To provide crisis services that are accessible to the client/victim population served","To increase knowledge, skills, or competency of staff","To provide for the client/victim’s basic needs and emergency financial support","To provide access to safe nights","To provide the client/victim with the ability to access systems of care in a preferred language","To support the client/victim’s through accompaniment and legal advocacy","To provide appropriate and high quality medical care to victims/patients/clients","To reduce trauma symptoms and/or facilitate recovery for clients/victims"]
["Administrative Capacity",null,null,"To provide information and referrals to services to support meeting basic needs and healing from victimization","To raise awareness of the issue or of the services that you offer","To provide information and referrals to services to support meeting basic needs and health from victimization","To increase knowledge, skills, or competency of allied service professionals","To support client/victim’s engagement in the Victim Compensation process","To ensure the stability of survivor’s future housing","To provide written materials and forms in client/victim’s preferred language","To meet the legal representation needs of the client/victim of crime","To support client/victim’s engagement in medical systems through advocacy and accompaniment","To increase the access of individuals into systems of mental health care"]
["Case Management and Client/Victim Advocacy",null,null,"To advocate on behalf of the client/victim in order to achieve systems change","To improve identification and awareness of client/victim population","To provide emotional support to clients/victims","To improve the well-being or understanding of clients/victims through trainings, seminars or other educational opportunities",null,"To support client/victim in maintaining current housing","To provide ready and efficient access to interpretation services in a way that increases the provider’s ability to provide services to the client","To assist the client/victim’s involvement in the legal system","To provide clients/victims and their family/caregiver with information and referrals to services to support meeting their basic needs and healing from their victimization"]
["Community Engagement and Outreach",null,null,"To ensure that the client/victims and their family/caregivers are provided with the services that will enhance their well-being","To strengthen relationships with other service providers","To enhance the safety of the client/victim","To provide LEP co-workers and colleagues with the ability to access continuing education training and outreach events in a language that is most comfortable for them",null,"To advocate on behalf of client/victim and their family/caregiver in order to meet the housing needs of the client/victim","To provide disabled clients/victims with the ability to access systems of care","To provide the client/victim with information to engage the legal system","To provide emotional support to clients/victims or their family/caregivers"]
["Crisis Intervention and Hotline",null,null,"To provide emotional support to clients/victims","To coordinate services at the local, state or national level through the convening of collaborations and multidisciplinary teams","To support caregiver or family members of the client/victim","To engage volunteers and interns in providing support to clients/victims at your organization",null,"To provide clients/victims and their family/caregiver with information and referrals to services to support meeting their housing needs",null,null,"To enhance the safety of the client/victim"]
["Education and Training",null,null,"To enhance the safety of the client/victim","To implement protective factors and reduce risk factors in a community",null,null,null,"To enhance the safety of the client/victim"]
["Financial Reimbursement or Compensation",null,null,"To support caregiver or family members of the client/victim",null,null,null,null,"To support caregiver or family members of the client/victim"]
["Housing and Shelter",null,null,"To hire and support case managers to coordinate services for clients/victims at your organization"]
["Language Access and Disabilities",null,null,"To provide a multidisciplinary response to comprehensively address the needs of clients/victims"]
["Legal Services and Legal Advocacy"]
["Medical and Forensic Services"]
["Mental Health Services"]
["Other Strategic Area (specify under Output Type)"]

{"sheet":"GoalsLong","index":3,"n_rows":221,"n_cols":16,"rows_kept":221,"cut":false,"hidden":true,"merged":[]}
["Dropdown Lists:",null,null,null,null,"Conditional measure nested within each goal and strategic area:"]
["StrategicArea","Goals",null,null,null,"StrategicArea","Goal","Measure",null,null,null,null,null,"Strategic Area","Goals","Measure"]
["Select Strategic Area","To improve the provision of services to clients/victims through increased administrative capacity",null,null,null,"Administrative Capacity","To improve the provision of services to clients/victims through increased administrative capacity","Number of policies or protocols created or revised to improve direct services",null,null,null,null,null,"Case Management and Client/Victim Advocacy",{"$f":"INDEX(IF(N3, F2:F273), COUNTA(G2:G273))","v":{"$error":"#VALUE!"}}]
["Administrative Capacity","To advocate on behalf of the client/victim and their family/caregiver in order to meet the needs of the client/victim",null,null,null,"Administrative Capacity","To improve the provision of services to clients/victims through increased administrative capacity","Number of policies or protocols created or revised to improve administrative work"]
["Case Management and Client/Victim Advocacy","To provide information and referrals to services to support meeting basic needs and healing from victimization",null,null,null,"Administrative Capacity","To improve the provision of services to clients/victims through increased administrative capacity","Number of evaluation efforts launched"]
["Community Engagement and Outreach","To advocate on behalf of the client/victim in order to achieve systems change",null,null,null,"Administrative Capacity","To improve the provision of services to clients/victims through increased administrative capacity","Number of individuals who participated in evaluation efforts"]
["Crisis Intervention and Hotline","To ensure that the client/victims and their family/caregivers are provided with the services that will enhance their well-being",null,null,null,"Administrative Capacity","To improve the provision of services to clients/victims through increased administrative capacity","Number of new hires"]
["Education and Training","To provide emotional support to clients/victims",null,null,null,"Administrative Capacity","To improve the provision of services to clients/victims through increased administrative capacity","Number of new data collection efforts launched"]
["Financial Reimbursement or Compensation","To enhance the safety of the client/victim",null,null,null,"Administrative Capacity","To improve the provision of services to clients/victims through increased administrative capacity","Number of data collection efforts sustained"]
["Housing and Shelter","To support caregiver or family members of the client/victim",null,null,null,"Administrative Capacity","To improve the provision of services to clients/victims through increased administrative capacity","Number of technology purchases or system enhancements"]
["Language Access and Disabilities","To hire and support case managers to coordinate services for clients/victims at your organization",null,null,null,"Administrative Capacity","To improve the provision of services to clients/victims through increased administrative capacity","Number of trainings conducted"]
["Legal Services and Legal Advocacy","To provide a multidisciplinary response to comprehensively address the needs of clients/victims",null,null,null,"Administrative Capacity","To improve the provision of services to clients/victims through increased administrative capacity","Number of clients/victims served through increased capacity"]
["Medical and Forensic Services","To increase underserved communities’ access to program/services",null,null,null,"Case Management and Client/Victim Advocacy","To advocate on behalf of the client/victim and their family/caregiver in order to meet the needs of the client/victim","Number of individuals who benefit from advocacy"]
["Mental Health Services","To raise awareness of the issue or of the services that you offer",null,null,null,"Case Management and Client/Victim Advocacy","To advocate on behalf of the client/victim and their family/caregiver in order to meet the needs of the client/victim","Number of instances other advocacy on behalf of the victim and/or their family/caregiver"]
["Other Strategic Area","To improve identification and awareness of client/victim population",null,null,null,"Case Management and Client/Victim Advocacy","To provide information and referrals to services to support meeting basic needs and healing from victimization","Number of individuals who received advocacy in engaging a system (specify systems)"]
[null,"To strengthen relationships with other service providers",null,null,null,"Case Management and Client/Victim Advocacy","To provide information and referrals to services to support meeting basic needs and healing from victimization","Number of individuals who received referrals to other services, supports or resources (specify type)"]
[null,"To coordinate services at the local, state or national level through the convening of collaborations and multidisciplinary teams",null,null,null,"Case Management and Client/Victim Advocacy","To provide information and referrals to services to support meeting basic needs and healing from victimization","Number of referrals to other services, supports, or resources"]
[null,"To implement protective factors and reduce risk factors in a community",null,null,null,"Case Management and Client/Victim Advocacy","To provide information and referrals to services to support meeting basic needs and healing from victimization","Number of instances for sharing information about victimization/service provision"]
[null,"To provide crisis services that are accessible to the client/victim population served",null,null,null,"Case Management and Client/Victim Advocacy","To provide information and referrals to services to support meeting basic needs and healing from victimization","Number of individuals who received information about victimization/service provision"]
[null,"To provide information and referrals to services to support meeting basic needs and health from victimization",null,null,null,"Case Management and Client/Victim Advocacy","To advocate on behalf of the client/victim in order to achieve systems change","Number of instances in which the provider engaged the traditional media to achieve a larger system goal"]
[null,"To provide emotional support to clients/victims.    ",null,null,null,"Case Management and Client/Victim Advocacy","To advocate on behalf of the client/victim in order to achieve systems change","Number of instances in which the provider gave testimony to a 3rd party to advance the interest of a victim/client or a collective group of victims/clients"]
[null,"To enhance the safety of the client/victim",null,null,null,"Case Management and Client/Victim Advocacy","To ensure that the client/victims and their family/caregivers are provided with the services that will enhance their well-being","Number of instances of case management"]
[null,"To support caregiver or family members of the client/victim",null,null,null,"Case Management and Client/Victim Advocacy","To ensure that the client/victims and their family/caregivers are provided with the services that will enhance their well-being","Number of individuals provided with case management"]
[null,"To increase knowledge, skills, or competency of staff",null,null,null,"Case Management and Client/Victim Advocacy","To ensure that the client/victims and their family/caregivers are provided with the services that will enhance their well-being","Number of transportation assistance (includes coordination of services) instances"]
[null,"To increase knowledge, skills, or competency of allied service professionals",null,null,null,"Case Management and Client/Victim Advocacy","To ensure that the client/victims and their family/caregivers are provided with the services that will enhance their well-being","Number of individuals served through transportation assistance (includes coordination of services)"]
[null,"To improve the well-being or understanding of clients/victims through trainings, seminars or other educational opportunities",null,null,null,"Case Management and Client/Victim Advocacy","To ensure that the client/victims and their family/caregivers are provided with the services that will enhance their well-being","Number of child or dependent care assistance (includes coordination of services) instances"]
[null,"To provide LEP co-workers and colleagues with the ability to access continuing education training and outreach events in a language that is most comfortable for them",null,null,null,"Case Management and Client/Victim Advocacy","To ensure that the client/victims and their family/caregivers are provided with the services that will enhance their well-being","Number of individuals served through child or dependent care assistance (includes coordination of services)"]
[null,"To engage volunteers and interns in providing support to clients/victims at your organization",null,null,null,"Case Management and Client/Victim Advocacy","To provide emotional support to clients/victims","Number of instances of emotional support provision for clients/victims"]
[null,"To provide for the client/victim’s basic needs and emergency financial support",null,null,null,"Case Management and Client/Victim Advocacy","To provide emotional support to clients/victims","Number of individuals who receive emotional support provision"]
[null,"To support client/victim’s engagement in the Victim Compensation process",null,null,null,"Case Management and Client/Victim Advocacy","To enhance the safety of the client/victim","Number of instances of safety planning"]
[null,"To provide access to safe nights",null,null,null,"Case Management and Client/Victim Advocacy","To enhance the safety of the client/victim","Number of individuals who received safety planning"]
[null,"To ensure the stability of survivor’s future housing",null,null,null,"Case Management and Client/Victim Advocacy","To support caregiver or family members of the client/victim","Number of instances of emotional support provision"]
[null,"To support client/victim in maintaining current housing",null,null,null,"Case Management and Client/Victim Advocacy","To support caregiver or family members of the client/victim","Number of individuals who receive emotional support provision"]
[null,"To advocate on behalf of client/victim and their family/caregiver in order to meet the housing needs of the client/victim",null,null,null,"Case Management and Client/Victim Advocacy","To support caregiver or family members of the client/victim","Number of instances of safety planning"]
[null,"To provide clients/victims and their family/caregiver with information and referrals to services to support meeting their housing needs",null,null,null,"Case Management and Client/Victim Advocacy","To support caregiver or family members of the client/victim","Number of individuals who received safety planning"]
[null,"To enhance the safety of the client/victim",null,null,null,"Case Management and Client/Victim Advocacy","To hire and support case managers to coordinate services for clients/victims at your organization","Number of new case managers trained"]
[null,"To support caregiver or family members of the client/victim",null,null,null,"Case Management and Client/Victim Advocacy","To hire and support case managers to coordinate services for clients/victims at your organization","Number of trainings offered for case managers"]
[null,"To provide the client/victim with the ability to access systems of care in a preferred language",null,null,null,"Case Management and Client/Victim Advocacy","To provide a multidisciplinary response to comprehensively address the needs of clients/victims","Number of individuals served with coordinated response"]
[null,"To provide written materials and forms in client/victim’s preferred language",null,null,null,"Case Management and Client/Victim Advocacy","To provide a multidisciplinary response to comprehensively address the needs of clients/victims","Number of instances of coordinated response"]
[null,"To provide ready and efficient access to interpretation services in a way that increases the provider’s ability to provide services to the client",null,null,null,"Community Engagement and Outreach","To increase underserved communities’ access to program/services","Number of outreach materials created to reach underserved populations (language, accessibility or cultural specificity)"]
[null,"To provide disabled clients/victims with the ability to access systems of care",null,null,null,"Community Engagement and Outreach","To increase underserved communities’ access to program/services","Number of new clients/victims accessing services after increased outreach to underserved victims"]
[null,"To support the client/victim’s through accompaniment and legal advocacy",null,null,null,"Community Engagement and Outreach","To increase underserved communities’ access to program/services","Number of outreach events targeted specifically reach underserved populations attended by staff (language, accessibility or cultural specificity)"]
[null,"To meet the legal representation needs of the client/victim of crime",null,null,null,"Community Engagement and Outreach","To increase underserved communities’ access to program/services","Number of formalized partnerships created with other community organizations who specifically reach underserved populations (language, accessibility or cultural specificity)"]
[null,"To assist the client/victim’s involvement in the legal system",null,null,null,"Community Engagement and Outreach","To raise awareness of the issue or of the services that you offer","Number of in-person outreach events attended by the organization"]
[null,"To provide the client/victim with information to engage the legal system",null,null,null,"Community Engagement and Outreach","To raise awareness of the issue or of the services that you offer","Number of presentations or trainings conducted"]
[null,"To provide appropriate and high quality medical care to victims/patients/clients",null,null,null,"Community Engagement and Outreach","To raise awareness of the issue or of the services that you offer","Number of participants who attended presentations or trainings"]
[null,"To support client/victim’s engagement in medical systems through advocacy and accompaniment",null,null,null,"Community Engagement and Outreach","To raise awareness of the issue or of the services that you offer","Number of unique visitors to your website"]
[null,"To provide clients/victims and their family/caregiver with information and referrals to services to support meeting their basic needs and healing from their victimization",null,null,null,"Community Engagement and Outreach","To raise awareness of the issue or of the services that you offer","Number of new social media posts"]
[null,"To provide emotional support to clients/victims or their family/caregivers",null,null,null,"Community Engagement and Outreach","To raise awareness of the issue or of the services that you offer","Number of new social media followers"]
[null,"To enhance the safety of the client/victim",null,null,null,"Community Engagement and Outreach","To raise awareness of the issue or of the services that you offer","Number of new outreach materials created"]
[null,"To reduce trauma symptoms and/or facilitate recovery for clients/victims",null,null,null,"Community Engagement and Outreach","To raise awareness of the issue or of the services that you offer","Number of organizations where outreach materials were distributed"]
[null,"To increase the access of individuals into systems of mental health care",null,null,null,"Community Engagement and Outreach","To raise awareness of the issue or of the services that you offer","Number of new clients/victims accessing services after increased outreach"]
[null,null,null,null,null,"Community Engagement and Outreach","To improve identification and awareness of client/victim population","Number of new clients/victims identified"]
[null,null,null,null,null,"Community Engagement and Outreach","To improve identification and awareness of client/victim population","Number of individuals screened"]
[null,null,null,null,null,"Community Engagement and Outreach","To improve identification and awareness of client/victim population","Number of high risk referrals received"]
[null,null,null,null,null,"Community Engagement and Outreach","To improve identification and awareness of client/victim population","Number of partners able to screen and refer"]
[null,null,null,null,null,"Community Engagement and Outreach","To strengthen relationships with other service providers","Number of formalized partnerships created with other organizations"]
[null,null,null,null,null,"Community Engagement and Outreach","To strengthen relationships with other service providers","Number of new formalized partnerships created with other organizations "]
[null,null,null,null,null,"Community Engagement and Outreach","To strengthen relationships with other service providers","Number of community meetings or convenings attended"]
[null,null,null,null,null,"Community Engagement and Outreach","To strengthen relationships with other service providers","Number of new clients/victims referred from partnering agencies"]
[null,null,null,null,null,"Community Engagement and Outreach","To strengthen relationships with other service providers","Number of clients/victims referred to partnering agencies"]
[null,null,null,null,null,"Community Engagement and Outreach","To coordinate services at the local, state or national level through the convening of collaborations and multidisciplinary teams","Number of meetings or convenings attended"]
[null,null,null,null,null,"Community Engagement and Outreach","To coordinate services at the local, state or national level through the convening of collaborations and multidisciplinary teams","Number of individuals referred to local state or national coordination group"]
[null,null,null,null,null,"Community Engagement and Outreach","To coordinate services at the local, state or national level through the convening of collaborations and multidisciplinary teams","Number of formalized commitments by partner agencies to participate"]
[null,null,null,null,null,"Community Engagement and Outreach","To coordinate services at the local, state or national level through the convening of collaborations and multidisciplinary teams","Number of new collaborations/multidisciplinary teams (local, state or national high-risk team, task forces, multidisciplinary team or other multidisciplinary group)"]
[null,null,null,null,null,"Community Engagement and Outreach","To coordinate services at the local, state or national level through the convening of collaborations and multidisciplinary teams","Number of times group/partners meet"]
[null,null,null,null,null,"Community Engagement and Outreach","To implement protective factors and reduce risk factors in a community","Number of activities conducted in the reporting quarter in which the primary purpose of the activity was primary prevention or development of a shared community vision"]
[null,null,null,null,null,"Community Engagement and Outreach","To implement protective factors and reduce risk factors in a community","Number of participants engaged in activities for which the primary purpose was primary prevention or development of a shared community vision"]
[null,null,null,null,null,"Crisis Intervention and Hotline","To provide crisis services that are accessible to the client/victim population served","Number of crisis intervention instances"]
[null,null,null,null,null,"Crisis Intervention and Hotline","To provide crisis services that are accessible to the client/victim population served","Number of individuals served through crisis intervention"]
[null,null,null,null,null,"Crisis Intervention and Hotline","To provide crisis services that are accessible to the client/victim population served","Number of hotline/crisis line counseling instances (including online chatting, emails or texts)"]
[null,null,null,null,null,"Crisis Intervention and Hotline","To provide crisis services that are accessible to the client/victim population served","Number of individuals served through hotline/crisis line (including online chatting, emails or texts)"]
[null,null,null,null,null,"Crisis Intervention and Hotline","To provide crisis services that are accessible to the client/victim population served","Number of on-scene crisis response instances (e.g., community crisis response)"]
[null,null,null,null,null,"Crisis Intervention and Hotline","To provide crisis services that are accessible to the client/victim population served","Number of individuals served through on-scene crisis response (e.g., community crisis response)"]
[null,null,null,null,null,"Crisis Intervention and Hotline","To provide information and referrals to services to support meeting basic needs and health from victimization","Number of referrals to other services, supports, or resources"]
[null,null,null,null,null,"Crisis Intervention and Hotline","To provide information and referrals to services to support meeting basic needs and health from victimization","Number of individuals who received referrals to other services, supports, or resources"]
[null,null,null,null,null,"Crisis Intervention and Hotline","To provide information and referrals to services to support meeting basic needs and health from victimization","Number of instances of sharing information"]
[null,null,null,null,null,"Crisis Intervention and Hotline","To provide information and referrals to services to support meeting basic needs and health from victimization","Number of individuals who received information"]
[null,null,null,null,null,"Crisis Intervention and Hotline","To provide emotional support to clients/victims","Number of instances of emotional support provision for clients/victims and their family/caregivers"]
[null,null,null,null,null,"Crisis Intervention and Hotline","To provide emotional support to clients/victims","Number of individuals who receive emotional support provision"]
[null,null,null,null,null,"Crisis Intervention and Hotline","To enhance the safety of the client/victim","Number of instances of safety planning"]
[null,null,null,null,null,"Crisis Intervention and Hotline","To enhance the safety of the client/victim","Number of individuals who received safety planning"]
[null,null,null,null,null,"Crisis Intervention and Hotline","To support caregiver or family members of the client/victim","Number of instances of emotional support provision"]
[null,null,null,null,null,"Crisis Intervention and Hotline","To support caregiver or family members of the client/victim","Number of individuals who receive emotional support provision"]
[null,null,null,null,null,"Crisis Intervention and Hotline","To support caregiver or family members of the client/victim","Number of instances of safety planning"]
[null,null,null,null,null,"Crisis Intervention and Hotline","To support caregiver or family members of the client/victim","Number of individuals who received safety planning"]
[null,null,null,null,null,"Education and Training","To increase knowledge, skills, or competency of staff","Number of staff that engaged in continuing education"]
[null,null,null,null,null,"Education and Training","To increase knowledge, skills, or competency of staff","Number of training or education events attended by staff"]
[null,null,null,null,null,"Education and Training","To increase knowledge, skills, or competency of staff","Number of internal training or education events for staff conducted"]
[null,null,null,null,null,"Education and Training","To increase knowledge, skills, or competency of staff","Number of curriculums created to provide training"]
[null,null,null,null,null,"Education and Training","To increase knowledge, skills, or competency of staff","Number of staff provided with supervision"]
[null,null,null,null,null,"Education and Training","To increase knowledge, skills, or competency of staff","Number of individual supervision instances"]
[null,null,null,null,null,"Education and Training","To increase knowledge, skills, or competency of staff","Number of trainings specifically targeting staff ability to serve underserved or marginalized communities"]
[null,null,null,null,null,"Education and Training","To increase knowledge, skills, or competency of allied service professionals","Number of training or education events conducted"]
[null,null,null,null,null,"Education and Training","To increase knowledge, skills, or competency of allied service professionals","Number of participants trained or educated"]
[null,null,null,null,null,"Education and Training","To increase knowledge, skills, or competency of allied service professionals","Number of curriculums created to provide training"]
[null,null,null,null,null,"Education and Training","To increase knowledge, skills, or competency of allied service professionals","Number of new clients/victims accessing services as a result of increased capacity"]
[null,null,null,null,null,"Education and Training","To increase knowledge, skills, or competency of allied service professionals","Number of trainings delivered specifically targeting ability to serve undeserved or marginalized communities"]
[null,null,null,null,null,"Education and Training","To improve the well-being or understanding of clients/victims through trainings, seminars or other educational opportunities","Number of training or education events to clients/victims conducted"]
[null,null,null,null,null,"Education and Training","To improve the well-being or understanding of clients/victims through trainings, seminars or other educational opportunities","Number of clients/victims trained or educated"]
[null,null,null,null,null,"Education and Training","To improve the well-being or understanding of clients/victims through trainings, seminars or other educational opportunities","Number of curriculums created to provide training for victims"]
[null,null,null,null,null,"Education and Training","To provide LEP co-workers and colleagues with the ability to access continuing education training and outreach events in a language that is most comfortable for them","Number of training or education events conducted"]
[null,null,null,null,null,"Education and Training","To provide LEP co-workers and colleagues with the ability to access continuing education training and outreach events in a language that is most comfortable for them","Number of participants trained or educated"]
[null,null,null,null,null,"Education and Training","To provide LEP co-workers and colleagues with the ability to access continuing education training and outreach events in a language that is most comfortable for them","Number of new clients/victims accessing services as a result of increased capacity"]
[null,null,null,null,null,"Education and Training","To engage volunteers and interns in providing support to clients/victims at your organization","Number of new volunteers or interned trained"]
[null,null,null,null,null,"Education and Training","To engage volunteers and interns in providing support to clients/victims at your organization","Number of trainings offered for volunteers or interned"]
[null,null,null,null,null,"Education and Training","To engage volunteers and interns in providing support to clients/victims at your organization","Number of individuals served by volunteers or interns"]
[null,null,null,null,null,"Education and Training","To engage volunteers and interns in providing support to clients/victims at your organization","Number of instances of volunteer or intern support"]
[null,null,null,null,null,"Financial Reimbursement or Compensation","To provide for the client/victim’s basic needs and emergency financial support","Number of instances of emergency financial assistance"]
[null,null,null,null,null,"Financial Reimbursement or Compensation","To provide for the client/victim’s basic needs and emergency financial support","Number of individuals served through emergency financial assistance"]
[null,null,null,null,null,"Financial Reimbursement or Compensation","To provide for the client/victim’s basic needs and emergency financial support","Number of instances of basic needs provisions"]
[null,null,null,null,null,"Financial Reimbursement or Compensation","To provide for the client/victim’s basic needs and emergency financial support","Number of individuals served through providing for basic needs"]
[null,null,null,null,null,"Financial Reimbursement or Compensation","To support client/victim’s engagement in the Victim Compensation process","Number of individuals provided with information about the Victim Compensation process"]
[null,null,null,null,null,"Financial Reimbursement or Compensation","To support client/victim’s engagement in the Victim Compensation process","Number of individuals served through Victim Compensation application assistance"]
[null,null,null,null,null,"Financial Reimbursement or Compensation","To support client/victim’s engagement in the Victim Compensation process","Number of instances of Victim Compensation application assistance"]
[null,null,null,null,null,"Housing and Shelter","To provide access to safe nights","Number of instances emergency shelter or safe house provided"]
[null,null,null,null,null,"Housing and Shelter","To provide access to safe nights","Number of individuals served through emergency shelter or safe house"]
[null,null,null,null,null,"Housing and Shelter","To provide access to safe nights","Number of instances of transitional housing provided"]
[null,null,null,null,null,"Housing and Shelter","To provide access to safe nights","Number of individuals served through transitional housing"]
[null,null,null,null,null,"Housing and Shelter","To ensure the stability of survivor’s future housing","Number of relocation assistance instances"]
[null,null,null,null,null,"Housing and Shelter","To ensure the stability of survivor’s future housing","Number of individuals served through relocation assistance"]
[null,null,null,null,null,"Housing and Shelter","To ensure the stability of survivor’s future housing","Number of budgeting and financial education support instances"]
[null,null,null,null,null,"Housing and Shelter","To ensure the stability of survivor’s future housing","Number of individuals served through budgeting and financial education support instances"]
[null,null,null,null,null,"Housing and Shelter","To ensure the stability of survivor’s future housing","Number of individuals who left shelter for permanent housing"]
[null,null,null,null,null,"Housing and Shelter","To support client/victim in maintaining current housing","Number of financial assistance instances provided to support remaining in current location"]
[null,null,null,null,null,"Housing and Shelter","To support client/victim in maintaining current housing","Number of individuals who received financial assistance instances to support remaining in current location"]
[null,null,null,null,null,"Housing and Shelter","To advocate on behalf of client/victim and their family/caregiver in order to meet the housing needs of the client/victim","Number of instances other advocacy on behalf of the client/victim"]
[null,null,null,null,null,"Housing and Shelter","To advocate on behalf of client/victim and their family/caregiver in order to meet the housing needs of the client/victim","Number of clients/victims who benefit from advocacy"]
[null,null,null,null,null,"Housing and Shelter","To advocate on behalf of client/victim and their family/caregiver in order to meet the housing needs of the client/victim","Number of instances other advocacy on behalf of the client/family/caregiver"]
[null,null,null,null,null,"Housing and Shelter","To advocate on behalf of client/victim and their family/caregiver in order to meet the housing needs of the client/victim","Number of families/caregivers who benefit from advocacy"]
[null,null,null,null,null,"Housing and Shelter","To provide clients/victims and their family/caregiver with information and referrals to services to support meeting their housing needs","Number of individuals who received referrals to other services, supports or resources"]
[null,null,null,null,null,"Housing and Shelter","To provide clients/victims and their family/caregiver with information and referrals to services to support meeting their housing needs","Number of referrals to other services, supports, or resources"]
[null,null,null,null,null,"Housing and Shelter","To provide clients/victims and their family/caregiver with information and referrals to services to support meeting their housing needs","Number of instances of information provided"]
[null,null,null,null,null,"Housing and Shelter","To provide clients/victims and their family/caregiver with information and referrals to services to support meeting their housing needs","Number of individuals who received information"]
[null,null,null,null,null,"Housing and Shelter","To enhance the safety of the client/victim","Number of instances of safety planning"]
[null,null,null,null,null,"Housing and Shelter","To enhance the safety of the client/victim","Number of individuals who received safety planning"]
[null,null,null,null,null,"Housing and Shelter","To support caregiver or family members of the client/victim","Number of instances of safety planning"]
[null,null,null,null,null,"Housing and Shelter","To support caregiver or family members of the client/victim","Number of individuals who received safety planning"]
[null,null,null,null,null,"Language Access and Disabilities","To provide the client/victim with the ability to access systems of care in a preferred language","Number of interpreter requests"]
[null,null,null,null,null,"Language Access and Disabilities","To provide the client/victim with the ability to access systems of care in a preferred language","Number of individuals served through interpreter services"]
[null,null,null,null,null,"Language Access and Disabilities","To provide the client/victim with the ability to access systems of care in a preferred language","Number of requests for interpretation services unfilled"]
[null,null,null,null,null,"Language Access and Disabilities","To provide the client/victim with the ability to access systems of care in a preferred language","Number of individuals served by program staff in a language other than English"]
[null,null,null,null,null,"Language Access and Disabilities","To provide the client/victim with the ability to access systems of care in a preferred language","Number of instances of service provision by program staff in a language other than English"]
[null,null,null,null,null,"Language Access and Disabilities","To provide written materials and forms in client/victim’s preferred language","Number of materials created in language other than English"]
[null,null,null,null,null,"Language Access and Disabilities","To provide written materials and forms in client/victim’s preferred language","Number of materials translated in a language other than English"]
[null,null,null,null,null,"Language Access and Disabilities","To provide ready and efficient access to interpretation services in a way that increases the provider’s ability to provide services to the client","Number of service providers that requested interpretation services"]
[null,null,null,null,null,"Language Access and Disabilities","To provide ready and efficient access to interpretation services in a way that increases the provider’s ability to provide services to the client","Number of different service providers that received services"]
[null,null,null,null,null,"Language Access and Disabilities","To provide disabled clients/victims with the ability to access systems of care","Number of individuals with disabilities served"]
[null,null,null,null,null,"Language Access and Disabilities","To provide disabled clients/victims with the ability to access systems of care","Number of instances of specialized service provision for individuals with disabilities"]
[null,null,null,null,null,"Language Access and Disabilities","To provide disabled clients/victims with the ability to access systems of care","Number of services offered to clients/victims with disabilities"]
[null,null,null,null,null,"Legal Services and Legal Advocacy","To support the client/victim’s through accompaniment and legal advocacy","Number of law enforcement interviews/advocacy/accompaniments"]
[null,null,null,null,null,"Legal Services and Legal Advocacy","To support the client/victim’s through accompaniment and legal advocacy","Number of individuals served through law enforcement interviews/advocacy/accompaniment"]
[null,null,null,null,null,"Legal Services and Legal Advocacy","To support the client/victim’s through accompaniment and legal advocacy","Number of prosecution interviews/advocacy/accompaniments (includes accompaniment with prosecuting attorney and with victim/witness)"]
[null,null,null,null,null,"Legal Services and Legal Advocacy","To support the client/victim’s through accompaniment and legal advocacy","Number of individuals served through prosecution interviews/advocacy/accompaniments (includes accompaniment with prosecuting attorney and with victim/witness)"]
[null,null,null,null,null,"Legal Services and Legal Advocacy","To support the client/victim’s through accompaniment and legal advocacy","Number of criminal advocacy/accompaniments"]
[null,null,null,null,null,"Legal Services and Legal Advocacy","To support the client/victim’s through accompaniment and legal advocacy","Number of individuals served through criminal advocacy/accompaniment"]
[null,null,null,null,null,"Legal Services and Legal Advocacy","To support the client/victim’s through accompaniment and legal advocacy","Number of civil advocacy/accompaniments"]
[null,null,null,null,null,"Legal Services and Legal Advocacy","To support the client/victim’s through accompaniment and legal advocacy","Number of individuals served through civil advocacy/accompaniment"]
[null,null,null,null,null,"Legal Services and Legal Advocacy","To support the client/victim’s through accompaniment and legal advocacy","Number of other emergency justice‐related assistance instances"]
[null,null,null,null,null,"Legal Services and Legal Advocacy","To support the client/victim’s through accompaniment and legal advocacy","Number of individuals served through other emergency justice‐related assistance instances"]
[null,null,null,null,null,"Legal Services and Legal Advocacy","To support the client/victim’s through accompaniment and legal advocacy","Number of individuals who benefit from brief legal advice"]
[null,null,null,null,null,"Legal Services and Legal Advocacy","To support the client/victim’s through accompaniment and legal advocacy","Number of instances of brief legal advice on behalf of the client/victim and/or the family/caregiver"]
[null,null,null,null,null,"Legal Services and Legal Advocacy","To support the client/victim’s through accompaniment and legal advocacy","Number of individuals who benefit from legal advocacy"]
[null,null,null,null,null,"Legal Services and Legal Advocacy","To support the client/victim’s through accompaniment and legal advocacy","Number of instances other legal advocacy on behalf of the client/victim and/or the family/caregiver"]
[null,null,null,null,null,"Legal Services and Legal Advocacy","To meet the legal representation needs of the client/victim of crime","Number of instances of civil legal representation provided in obtaining protection or restraining order"]
[null,null,null,null,null,"Legal Services and Legal Advocacy","To meet the legal representation needs of the client/victim of crime","Number of individuals who received civil legal representation in obtaining protection or restraining order"]
[null,null,null,null,null,"Legal Services and Legal Advocacy","To meet the legal representation needs of the client/victim of crime","Number of instances of civil legal representation with family law matters (e.g., custody, visitation, or support)"]
[null,null,null,null,null,"Legal Services and Legal Advocacy","To meet the legal representation needs of the client/victim of crime","Number of individuals served through civil legal representation with family law matters (e.g., custody, visitation, or support)"]
[null,null,null,null,null,"Legal Services and Legal Advocacy","To meet the legal representation needs of the client/victim of crime","Number of instances of legal representation for immigration assistance (e.g., special visas, continued presence application, and other immigration relief)"]
[null,null,null,null,null,"Legal Services and Legal Advocacy","To meet the legal representation needs of the client/victim of crime","Number of individuals served through representation in immigration matters (e.g., special visas, continued presence application, and other immigration relief)"]
[null,null,null,null,null,"Legal Services and Legal Advocacy","To meet the legal representation needs of the client/victim of crime","Number of general legal advice clinics or consultations held to support victims of crime"]
[null,null,null,null,null,"Legal Services and Legal Advocacy","To meet the legal representation needs of the client/victim of crime","Number of individuals served through general legal advice clinics or consultations"]
[null,null,null,null,null,"Legal Services and Legal Advocacy","To meet the legal representation needs of the client/victim of crime","Number of immigration advice clinics or consultations held to support victims of crime"]
[null,null,null,null,null,"Legal Services and Legal Advocacy","To meet the legal representation needs of the client/victim of crime","Number of individuals served through immigration advice clinics or consultations"]
[null,null,null,null,null,"Legal Services and Legal Advocacy","To meet the legal representation needs of the client/victim of crime","Number of instances of other legal advice and/or counsel"]
[null,null,null,null,null,"Legal Services and Legal Advocacy","To meet the legal representation needs of the client/victim of crime","Number of individuals served through other legal advice and/or counsel"]
[null,null,null,null,null,"Legal Services and Legal Advocacy","To assist the client/victim’s involvement in the legal system","Number of instances of assistance with restitution (includes assistance in requesting and when collection efforts are not successful)"]
[null,null,null,null,null,"Legal Services and Legal Advocacy","To assist the client/victim’s involvement in the legal system","Number of individuals who received assistance with restitution (includes assistance in requesting and when collection efforts are not successful)"]
[null,null,null,null,null,"Legal Services and Legal Advocacy","To assist the client/victim’s involvement in the legal system","Number of instances of victim impact statement assistance"]
[null,null,null,null,null,"Legal Services and Legal Advocacy","To assist the client/victim’s involvement in the legal system","Number of individuals who received victim impact statement assistance"]
[null,null,null,null,null,"Legal Services and Legal Advocacy","To assist the client/victim’s involvement in the legal system","Number of instances of assistance in obtaining a protection or restraining order"]
[null,null,null,null,null,"Legal Services and Legal Advocacy","To assist the client/victim’s involvement in the legal system","Number of individuals served through assistance in obtaining a protection or restraining order"]
[null,null,null,null,null,"Legal Services and Legal Advocacy","To provide the client/victim with information to engage the legal system","Number of notifications of criminal justice events (e.g., case status, arrest, court proceedings, case disposition, release)"]
[null,null,null,null,null,"Legal Services and Legal Advocacy","To provide the client/victim with information to engage the legal system","Number of individuals served through notifications of criminal justice events (e.g., case status, arrest, court proceedings, case disposition, release)"]
[null,null,null,null,null,"Legal Services and Legal Advocacy","To provide the client/victim with information to engage the legal system","Number of instances information provided about the criminal justice process"]
[null,null,null,null,null,"Legal Services and Legal Advocacy","To provide the client/victim with information to engage the legal system","Number of individuals served through providing information about the criminal justice process"]
[null,null,null,null,null,"Legal Services and Legal Advocacy","To provide the client/victim with information to engage the legal system","Number of instances information provided about the civil legal aid"]
[null,null,null,null,null,"Legal Services and Legal Advocacy","To provide the client/victim with information to engage the legal system","Number of individuals served through providing information about civil legal aid"]
[null,null,null,null,null,"Legal Services and Legal Advocacy","To provide the client/victim with information to engage the legal system","Number of instances information provided about immigration"]
[null,null,null,null,null,"Legal Services and Legal Advocacy","To provide the client/victim with information to engage the legal system","Number of individuals served through providing information about immigration"]
[null,null,null,null,null,"Medical and Forensic Services","To provide appropriate and high quality medical care to victims/patients/clients","Number of intakes or assessments"]
[null,null,null,null,null,"Medical and Forensic Services","To provide appropriate and high quality medical care to victims/patients/clients","Number individuals who receive an intake or assessment"]
[null,null,null,null,null,"Medical and Forensic Services","To provide appropriate and high quality medical care to victims/patients/clients","Number of performances of a medical or nonmedical forensic exam, interview, or evidence collection"]
[null,null,null,null,null,"Medical and Forensic Services","To provide appropriate and high quality medical care to victims/patients/clients","Number of individuals served through the performance of medical or nonmedical forensic exam, interview, or evidence collection"]
[null,null,null,null,null,"Medical and Forensic Services","To provide appropriate and high quality medical care to victims/patients/clients","Number of instances of medication prescribed"]
[null,null,null,null,null,"Medical and Forensic Services","To provide appropriate and high quality medical care to victims/patients/clients","Number of individuals who received medication or contraceptives"]
[null,null,null,null,null,"Medical and Forensic Services","To support client/victim’s engagement in medical systems through advocacy and accompaniment","Number of instances of victim advocacy/accompaniment to emergency medical care"]
[null,null,null,null,null,"Medical and Forensic Services","To support client/victim’s engagement in medical systems through advocacy and accompaniment","Number of individuals served through victim advocacy/accompaniment to emergency medical care"]
[null,null,null,null,null,"Medical and Forensic Services","To support client/victim’s engagement in medical systems through advocacy and accompaniment","Number of instances of victim advocacy/accompaniment to medical forensic exam"]
[null,null,null,null,null,"Medical and Forensic Services","To support client/victim’s engagement in medical systems through advocacy and accompaniment","Number of individuals served through victim advocacy/accompaniment to medical forensic exam "]
[null,null,null,null,null,"Medical and Forensic Services","To provide clients/victims and their family/caregiver with information and referrals to services to support meeting their basic needs and healing from their victimization","Number of individuals who received referrals to other services, supports or resources"]
[null,null,null,null,null,"Medical and Forensic Services","To provide clients/victims and their family/caregiver with information and referrals to services to support meeting their basic needs and healing from their victimization","Number of referrals to other services, supports, or resources"]
[null,null,null,null,null,"Medical and Forensic Services","To provide clients/victims and their family/caregiver with information and referrals to services to support meeting their basic needs and healing from their victimization","Number of instances information provided"]
[null,null,null,null,null,"Medical and Forensic Services","To provide clients/victims and their family/caregiver with information and referrals to services to support meeting their basic needs and healing from their victimization","Number of individuals who received information"]
[null,null,null,null,null,"Medical and Forensic Services","To provide emotional support to clients/victims or their family/caregivers","Number of instances of emotional support provision for clients/victims or their family/caregiver"]
[null,null,null,null,null,"Medical and Forensic Services","To provide emotional support to clients/victims or their family/caregivers","Number of individuals who receive emotional support"]
[null,null,null,null,null,"Medical and Forensic Services","To enhance the safety of the client/victim","Number of instances of safety planning"]
[null,null,null,null,null,"Medical and Forensic Services","To enhance the safety of the client/victim","Number of individuals who received safety planning"]
[null,null,null,null,null,"Mental Health Services","To reduce trauma symptoms and/or facilitate recovery for clients/victims","Number of individual counseling instances"]
[null,null,null,null,null,"Mental Health Services","To reduce trauma symptoms and/or facilitate recovery for clients/victims","Number of individuals served through individual counseling instances"]
[null,null,null,null,null,"Mental Health Services","To reduce trauma symptoms and/or facilitate recovery for clients/victims","Number of support groups (facilitated or peer) instances"]
[null,null,null,null,null,"Mental Health Services","To reduce trauma symptoms and/or facilitate recovery for clients/victims","Number of individuals served through support groups (facilitated or peer)"]
[null,null,null,null,null,"Mental Health Services","To reduce trauma symptoms and/or facilitate recovery for clients/victims","Number of family therapy instances"]
[null,null,null,null,null,"Mental Health Services","To reduce trauma symptoms and/or facilitate recovery for clients/victims","Number of families served through family therapy"]
[null,null,null,null,null,"Mental Health Services","To reduce trauma symptoms and/or facilitate recovery for clients/victims","Number of caregiver therapy instances"]
[null,null,null,null,null,"Mental Health Services","To reduce trauma symptoms and/or facilitate recovery for clients/victims","Number of caregivers served through caregiver therapy"]
[null,null,null,null,null,"Mental Health Services","To reduce trauma symptoms and/or facilitate recovery for clients/victims","Number of other therapy (traditional, cultural, or alternative healing; art, writing, or play therapy)"]
[null,null,null,null,null,"Mental Health Services","To reduce trauma symptoms and/or facilitate recovery for clients/victims","Number of individuals served through other therapy (traditional, cultural, or alternative healing; art, writing, or play therapy)"]
[null,null,null,null,null,"Mental Health Services","To increase the access of individuals into systems of mental health care","Number of intakes or initial assessments"]
[null,null,null,null,null,"Mental Health Services","To increase the access of individuals into systems of mental health care","Number of victims that engaged in a screening or intake process"]
[null,null,null,null,null,"Mental Health Services","To increase the access of individuals into systems of mental health care","Number of victims that were screened and referred to another mental health provider"]

{"sheet":"GoalsHelper","index":4,"n_rows":42,"n_cols":29,"rows_kept":42,"cut":false,"hidden":true,"merged":[]}
[]
[]
[null,"Strategic Area","Goals","Measure"]
[null,"Crisis Intervention and Hotline","To provide emotional support to clients/victims",{"$f":"INDEX([2]Sheet1!H3:H249,MATCH(1,([2]Sheet1!F3:F249=GoalTab[[#This Row],[Strategic Area]])*([2]Sheet1!G3:G249=GoalTab[[#This Row],[Goals]]),0))","v":{"$error":"#N/A"}}]
[null,"Education and Training","To improve the well-being or understanding of clients/victims through trainings, seminars or other educational opportunities",{"$f":"INDEX([2]Sheet1!H4:H250,MATCH(1,([2]Sheet1!F4:F250=GoalTab[[#This Row],[Strategic Area]])*([2]Sheet1!G4:G250=GoalTab[[#This Row],[Goals]]),0))","v":{"$error":"#N/A"}}]
[null,"Crisis Intervention and Hotline","To enhance the safety of the client/victim",{"$f":"INDEX([2]Sheet1!H5:H251,MATCH(1,([2]Sheet1!F5:F251=GoalTab[[#This Row],[Strategic Area]])*([2]Sheet1!G5:G251=GoalTab[[#This Row],[Goals]]),0))","v":{"$error":"#N/A"}}]
[null,"Housing and Shelter","To support caregiver or family members of the client/victim",{"$f":"INDEX([2]Sheet1!H6:H252,MATCH(1,([2]Sheet1!F6:F252=GoalTab[[#This Row],[Strategic Area]])*([2]Sheet1!G6:G252=GoalTab[[#This Row],[Goals]]),0))","v":{"$error":"#N/A"}}]
[null,"Case Management and Client/Victim Advocacy","To enhance the safety of the client/victim",{"$f":"INDEX([2]Sheet1!H7:H253,MATCH(1,([2]Sheet1!F7:F253=GoalTab[[#This Row],[Strategic Area]])*([2]Sheet1!G7:G253=GoalTab[[#This Row],[Goals]]),0))","v":{"$error":"#N/A"}}]
[null,"Legal Services and Legal Advocacy","To assist the client/victim’s involvement in the legal system",{"$f":"INDEX([2]Sheet1!H8:H254,MATCH(1,([2]Sheet1!F8:F254=GoalTab[[#This Row],[Strategic Area]])*([2]Sheet1!G8:G254=GoalTab[[#This Row],[Goals]]),0))","v":{"$error":"#N/A"}}]
[null,"Language Access and Disabilities","To provide disabled clients/victims with the ability to access systems of care",{"$f":"INDEX([2]Sheet1!H9:H255,MATCH(1,([2]Sheet1!F9:F255=GoalTab[[#This Row],[Strategic Area]])*([2]Sheet1!G9:G255=GoalTab[[#This Row],[Goals]]),0))","v":{"$error":"#N/A"}}]
[null,"Legal Services and Legal Advocacy","To assist the client/victim’s involvement in the legal system",{"$f":"INDEX([2]Sheet1!H10:H256,MATCH(1,([2]Sheet1!F10:F256=GoalTab[[#This Row],[Strategic Area]])*([2]Sheet1!G10:G256=GoalTab[[#This Row],[Goals]]),0))","v":{"$error":"#N/A"}}]
[null,"Case Management and Client/Victim Advocacy","To provide emotional support to clients/victims",{"$f":"INDEX([2]Sheet1!H11:H257,MATCH(1,([2]Sheet1!F11:F257=GoalTab[[#This Row],[Strategic Area]])*([2]Sheet1!G11:G257=GoalTab[[#This Row],[Goals]]),0))","v":{"$error":"#N/A"}}]
[null,"Crisis Intervention and Hotline","To provide emotional support to clients/victims",{"$f":"INDEX([2]Sheet1!H12:H258,MATCH(1,([2]Sheet1!F12:F258=GoalTab[[#This Row],[Strategic Area]])*([2]Sheet1!G12:G258=GoalTab[[#This Row],[Goals]]),0))","v":{"$error":"#N/A"}}]
[null,"Case Management and Client/Victim Advocacy","To provide emotional support to clients/victims",{"$f":"INDEX([2]Sheet1!H13:H259,MATCH(1,([2]Sheet1!F13:F259=GoalTab[[#This Row],[Strategic Area]])*([2]Sheet1!G13:G259=GoalTab[[#This Row],[Goals]]),0))","v":{"$error":"#N/A"}}]
[null,"Crisis Intervention and Hotline","To provide emotional support to clients/victims",{"$f":"INDEX([2]Sheet1!H14:H260,MATCH(1,([2]Sheet1!F14:F260=GoalTab[[#This Row],[Strategic Area]])*([2]Sheet1!G14:G260=GoalTab[[#This Row],[Goals]]),0))","v":{"$error":"#N/A"}}]
[]
[]
[]
[]
[null,"Updates based on entries in Goal Tab:",null,null,null,null,null,"Updates based on entries in Goal Tab:"]
[null,null,null,null,null,null,null,"HELPER TABLE"]
[null,"Strategic Area","Goals","Measure",null,null,null,"Strategic Area","Goal","List of Measures 1","List of Measures 2","List of Measures 3","List of Measures 4","List of Measures 5","List of Measures 6","List of Measures 7","List of Measures 8","List of Measures 9","List of Measures 10","List of Measures 11","List of Measures 12","List of Measures 13","List of Measures 14","List of Measures 15","List of Measures 16","List of Measures 17","List of Measures 18","List of Measures 19","List of Measures 20"]
[null,"Crisis Intervention and Hotline","To provide emotional support to clients/victims",{"$f":"INDEX([2]Sheet1!H22:H268,MATCH(1,([2]Sheet1!F22:F268=GoalTab4[[#This Row],[Strategic Area]])*([2]Sheet1!G22:G268=GoalTab4[[#This Row],[Goals]]),0))","v":{"$error":"#N/A"}},null,null,1,{"$f":"'[3]2. Goals'!C26","v":"Financial Reimbursement or Compensation"},{"$f":"'[3]2. Goals'!C27","v":"To provide for the client/victim’s basic needs and emergency financial support"},{"$f":"_xlfn._xlws.FILTER([3]GoalsLong!H3:H249,([3]GoalsLong!F3:F249=H23)*([3]GoalsLong!G3:G249=I23))","v":"Number of instances of emergency financial assistance"},{"$f":"_xlfn._xlws.FILTER([3]GoalsLong!H3:H249,([3]GoalsLong!F3:F249=H24)*([3]GoalsLong!G3:G249=I24))","v":"Number of individuals provided with information about the Victim Compensation process"},{"$f":"_xlfn._xlws.FILTER([3]GoalsLong!H3:H249,([3]GoalsLong!F3:F249=H25)*([3]GoalsLong!G3:G249=I25))","v":{"$error":"#VALUE!"}},{"$f":"_xlfn._xlws.FILTER([3]GoalsLong!H3:H249,([3]GoalsLong!F3:F249=H26)*([3]GoalsLong!G3:G249=I26))","v":{"$error":"#VALUE!"}},{"$f":"_xlfn._xlws.FILTER([3]GoalsLong!H3:H249,([3]GoalsLong!F3:F249=H27)*([3]GoalsLong!G3:G249=I27))","v":{"$error":"#VALUE!"}},{"$f":"_xlfn._xlws.FILTER([3]GoalsLong!H3:H249,([3]GoalsLong!F3:F249=H28)*([3]GoalsLong!G3:G249=I28))","v":{"$error":"#VALUE!"}},{"$f":"_xlfn._xlws.FILTER([3]GoalsLong!H3:H249,([3]GoalsLong!F3:F249=H29)*([3]GoalsLong!G3:G249=I29))","v":{"$error":"#VALUE!"}},{"$f":"_xlfn._xlws.FILTER([3]GoalsLong!H3:H249,([3]GoalsLong!F3:F249=H30)*([3]GoalsLong!G3:G249=I30))","v":{"$error":"#VALUE!"}},{"$f":"_xlfn._xlws.FILTER([3]GoalsLong!H3:H249,([3]GoalsLong!F3:F249=H31)*([3]GoalsLong!G3:G249=I31))","v":{"$error":"#VALUE!"}},{"$f":"_xlfn._xlws.FILTER([3]GoalsLong!H3:H249,([3]GoalsLong!F3:F249=H32)*([3]GoalsLong!G3:G249=I32))","v":{"$error":"#VALUE!"}},{"$f":"_xlfn._xlws.FILTER([3]GoalsLong!H3:H249,([3]GoalsLong!F3:F249=H33)*([3]GoalsLong!G3:G249=I33))","v":{"$error":"#VALUE!"}},{"$f":"_xlfn._xlws.FILTER([3]GoalsLong!H3:H249,([3]GoalsLong!F3:F249=H34)*([3]GoalsLong!G3:G249=I34))","v":{"$error":"#VALUE!"}},{"$f":"_xlfn._xlws.FILTER([3]GoalsLong!H3:H249,([3]GoalsLong!F3:F249=H35)*([3]GoalsLong!G3:G249=I35))","v":{"$error":"#VALUE!"}},{"$f":"_xlfn._xlws.FILTER([3]GoalsLong!H3:H249,([3]GoalsLong!F3:F249=H36)*([3]GoalsLong!G3:G249=I36))","v":{"$error":"#VALUE!"}},{"$f":"_xlfn._xlws.FILTER([3]GoalsLong!H3:H249,([3]GoalsLong!F3:F249=H37)*([3]GoalsLong!G3:G249=I37))","v":{"$error":"#VALUE!"}},{"$f":"_xlfn._xlws.FILTER([3]GoalsLong!H3:H249,([3]GoalsLong!F3:F249=H38)*([3]GoalsLong!G3:G249=I38))","v":{"$error":"#VALUE!"}},{"$f":"_xlfn._xlws.FILTER([3]GoalsLong!H3:H249,([3]GoalsLong!F3:F249=H39)*([3]GoalsLong!G3:G249=I39))","v":{"$error":"#VALUE!"}},{"$f":"_xlfn._xlws.FILTER([3]GoalsLong!H3:H249,([3]GoalsLong!F3:F249=H40)*([3]GoalsLong!G3:G249=I40))","v":{"$error":"#VALUE!"}},{"$f":"_xlfn._xlws.FILTER([3]GoalsLong!H3:H249,([3]GoalsLong!F3:F249=H41)*([3]GoalsLong!G3:G249=I41))","v":{"$error":"#VALUE!"}},{"$f":"_xlfn._xlws.FILTER([3]GoalsLong!H3:H249,([3]GoalsLong!F3:F249=H42)*([3]GoalsLong!G3:G249=I42))","v":{"$error":"#VALUE!"}}]
[null,"Education and Training","To improve the well-being or understanding of clients/victims through trainings, seminars or other educational opportunities",null,null,null,2,{"$f":"'[3]2. Goals'!C26","v":"Financial Reimbursement or Compensation"},{"$f":"'[3]2. Goals'!C34","v":"To support client/victim’s engagement in the Victim Compensation process"},"Number of individuals served through emergency financial assistance","Number of individuals served through Victim Compensation application assistance"]
[null,"Crisis Intervention and Hotline","To enhance the safety of the client/victim",null,null,null,3,{"$f":"'[3]2. Goals'!C41","v":"Select Strategic Area"},{"$f":"'[3]2. Goals'!C42","v":0},"Number of instances of basic needs provisions","Number of instances of Victim Compensation application assistance"]
[null,"Housing and Shelter","To support caregiver or family members of the client/victim",null,null,null,4,{"$f":"'[3]2. Goals'!C41","v":"Select Strategic Area"},{"$f":"'[3]2. Goals'!C49","v":0},"Number of individuals served through providing for basic needs"]
[null,"Case Management and Client/Victim Advocacy","To enhance the safety of the client/victim",null,null,null,5,{"$f":"'[3]2. Goals'!C56","v":"Select Strategic Area"},{"$f":"'[3]2. Goals'!C57","v":0}]
[null,"Legal Services and Legal Advocacy","To assist the client/victim’s involvement in the legal system",null,null,null,6,{"$f":"'[3]2. Goals'!C56","v":"Select Strategic Area"},{"$f":"'[3]2. Goals'!C64","v":0}]
[null,"Language Access and Disabilities","To provide disabled clients/victims with the ability to access systems of care",null,null,null,7,{"$f":"'[3]2. Goals'!C71","v":"Select Strategic Area"},{"$f":"'[3]2. Goals'!C72","v":0}]
[null,"Legal Services and Legal Advocacy","To assist the client/victim’s involvement in the legal system",null,null,null,8,{"$f":"'[3]2. Goals'!C71","v":"Select Strategic Area"},{"$f":"'[3]2. Goals'!C79","v":0}]
[null,"Case Management and Client/Victim Advocacy","To provide emotional support to clients/victims",null,null,null,9,{"$f":"'[3]2. Goals'!C86","v":"Select Strategic Area"},{"$f":"'[3]2. Goals'!C87","v":0}]
[null,"Crisis Intervention and Hotline","To provide emotional support to clients/victims",null,null,null,10,{"$f":"'[3]2. Goals'!C86","v":"Select Strategic Area"},{"$f":"'[3]2. Goals'!C94","v":0}]
[null,"Case Management and Client/Victim Advocacy","To provide emotional support to clients/victims",null,null,null,11,{"$f":"'[3]2. Goals'!C101","v":"Select Strategic Area"},{"$f":"'[3]2. Goals'!C102","v":0}]
[null,"Crisis Intervention and Hotline","To provide emotional support to clients/victims",null,null,null,12,{"$f":"'[3]2. Goals'!C101","v":"Select Strategic Area"},{"$f":"'[3]2. Goals'!C109","v":0}]
[null,null,null,null,null,null,13,{"$f":"'[3]2. Goals'!C116","v":"Select Strategic Area"},{"$f":"'[3]2. Goals'!C117","v":0}]
[null,null,null,null,null,null,14,{"$f":"'[3]2. Goals'!C116","v":"Select Strategic Area"},{"$f":"'[3]2. Goals'!C124","v":0}]
[null,null,null,null,null,null,15,{"$f":"'[3]2. Goals'!C131","v":"Select Strategic Area"},{"$f":"'[3]2. Goals'!C132","v":0}]
[null,null,null,null,null,null,16,{"$f":"'[3]2. Goals'!C131","v":"Select Strategic Area"},{"$f":"'[3]2. Goals'!C139","v":0}]
[null,null,null,null,null,null,17,{"$f":"'[3]2. Goals'!C146","v":"Select Strategic Area"},{"$f":"'[3]2. Goals'!C147","v":0}]
[null,null,null,null,null,null,18,{"$f":"'[3]2. Goals'!C146","v":"Select Strategic Area"},{"$f":"'[3]2. Goals'!C154","v":0}]
[null,null,null,null,null,null,19,{"$f":"'[3]2. Goals'!C161","v":"Select Strategic Area"},{"$f":"'[3]2. Goals'!C162","v":0}]
[null,null,null,null,null,null,20,{"$f":"'[3]2. Goals'!C161","v":"Select Strategic Area"},{"$f":"'[3]2. Goals'!C169","v":0}]

{"sheet":"1.1 Sample Court Tab","index":5,"n_rows":222,"n_cols":37,"rows_kept":222,"cut":false,"hidden":false,"merged":[[121,1,121,6],[121,9,121,10],[121,12,121,13],[115,15,115,16],[116,15,116,16],[117,15,117,16],[118,15,118,16],[119,15,119,16],[120,15,120,16],[121,15,121,16],[115,12,115,13],[116,12,116,13],[117,12,117,13],[118,12,118,13],[119,12,119,13],[120,12,120,13],[146,9,146,10],[146,12,146,13],[146,15,146,16],[147,9,147,10],[147,12,147,13],[147,15,147,16],[142,9,142,10],[142,12,142,13],[142,15,142,16],[122,1,122,6],[129,9,129,10],[129,12,129,13],[129,15,129,16],[126,9,126,10],[126,12,126,13],[126,15,126,16],[122,9,122,10],[122,12,122,13],[122,15,122,16],[123,1,123,6],[124,1,124,6],[123,9,123,10],[124,9,124,10],[123,15,123,16],[124,15,124,16],[123,12,123,13],[124,12,124,13],[125,2,125,6],[143,24,143,25],[145,9,145,10],[145,12,145,13],[145,15,145,16],[145,18,145,19],[145,21,145,22],[145,24,145,25],[143,27,143,28],[144,9,144,10],[144,12,144,13],[144,15,144,16],[144,18,144,19],[144,21,144,22],[144,24,144,25],[144,27,144,28],[143,12,143,13],[143,15,143,16],[143,18,143,19],[143,21,143,22],[145,27,145,28],[142,24,142,25],[142,27,142,28],[143,9,143,10],[135,1,135,6],[135,9,135,10],[135,12,135,13],[135,15,135,16],[135,18,135,19],[135,21,135,22],[135,24,135,25],[135,27,135,28],[136,1,136,6],[136,9,136,10],[136,12,136,13],[136,15,136,16],[136,18,136,19],[136,21,136,22],[136,24,136,25],[136,27,136,28],[137,1,137,6],[140,18,140,19],[140,21,140,22],[141,24,141,25],[141,27,141,28],[142,18,142,19],[142,21,142,22],[141,9,141,10],[141,12,141,13],[141,15,141,16],[141,18,141,19],[141,21,141,22],[131,18,131,19],[131,21,131,22],[132,9,132,10],[132,12,132,13],[132,15,132,16],[132,18,132,19],[132,21,132,22],[137,18,137,19],[137,21,137,22],[137,9,137,10],[137,12,137,13],[137,15,137,16],[139,9,139,10],[139,12,139,13],[131,15,131,16],[113,27,113,28],[133,24,133,25],[133,27,133,28],[129,18,129,19],[129,21,129,22],[129,24,129,25],[129,27,129,28],[130,9,130,10],[132,24,132,25],[132,27,132,28],[130,24,130,25],[130,27,130,28],[131,24,131,25],[131,27,131,28],[130,12,130,13],[130,15,130,16],[130,18,130,19],[130,21,130,22],[133,9,133,10],[133,12,133,13],[133,15,133,16],[133,18,133,19],[133,21,133,22],[131,9,131,10],[71,9,71,10],[71,12,71,13],[71,15,71,16],[107,24,107,26],[107,27,107,29],[100,21,100,23],[100,24,100,26],[100,27,100,29],[99,22,99,23],[99,25,99,26],[99,28,99,29],[98,24,98,25],[98,27,98,28],[97,24,97,25],[97,27,97,28],[95,24,95,25],[95,27,95,28],[105,24,105,25],[105,27,105,28],[96,27,96,28],[94,24,94,25],[94,27,94,28],[89,27,89,29],[87,24,87,25],[120,18,120,19],[120,21,120,22],[120,24,120,25],[120,27,120,28],[114,1,114,6],[114,9,114,10],[114,12,114,13],[114,15,114,16],[114,18,114,19],[114,21,114,22],[114,24,114,25],[114,27,114,28],[115,1,115,6],[115,9,115,10],[116,9,116,10],[117,9,117,10],[118,9,118,10],[119,9,119,10],[116,1,116,6],[117,1,117,6],[118,1,118,6],[119,1,119,6],[120,1,120,6],[120,9,120,10],[111,1,111,6],[111,9,111,10],[111,12,111,13],[111,15,111,16],[108,1,108,6],[107,1,107,6],[107,7,107,8],[107,9,107,11],[107,12,107,14],[107,15,107,17],[112,9,112,10],[112,12,112,13],[112,15,112,16],[112,18,112,19],[112,21,112,22],[112,24,112,25],[95,12,95,13],[95,15,95,16],[95,18,95,19],[95,21,95,22],[105,9,105,10],[105,12,105,13],[112,27,112,28],[111,27,111,28],[110,27,110,28],[109,18,109,19],[109,21,109,22],[109,24,109,25],[109,27,109,28],[106,25,106,26],[106,28,106,29],[111,18,111,19],[111,21,111,22],[106,22,106,23],[107,18,107,20],[107,21,107,23],[70,18,70,20],[70,21,70,23],[70,24,70,26],[113,1,113,6],[113,9,113,10],[113,15,113,16],[113,18,113,19],[113,21,113,22],[113,24,113,25],[93,24,93,25],[91,21,91,22],[111,24,111,25],[110,1,110,6],[110,9,110,10],[110,12,110,13],[110,15,110,16],[110,18,110,19],[110,21,110,22],[110,24,110,25],[109,1,109,6],[109,9,109,10],[109,12,109,13],[109,15,109,16],[112,1,112,6],[69,18,69,20],[69,21,69,23],[69,24,69,26],[31,1,33,6],[31,21,31,23],[31,27,31,29],[32,7,33,8],[32,9,33,11],[32,12,33,14],[32,15,33,17],[32,18,33,20],[32,21,33,23],[32,24,33,26],[32,27,33,29],[66,24,66,26],[66,27,66,29],[66,1,66,6],[66,18,66,20],[66,21,66,23],[66,9,66,10],[66,12,66,13],[66,15,66,16],[68,21,68,23],[68,24,68,26],[27,7,28,8],[27,9,28,11],[27,12,28,14],[27,15,28,17],[27,18,28,20],[27,21,28,23],[27,24,28,26],[27,27,28,29],[220,1,220,14],[220,16,220,30],[173,11,173,14],[169,21,169,23],[169,24,169,26],[169,27,169,29],[170,7,171,8],[170,9,171,11],[170,12,171,14],[170,15,171,17],[170,18,171,20],[170,21,171,23],[170,24,171,26],[169,1,171,6],[169,7,169,8],[169,9,169,11],[179,18,179,20],[221,1,233,14],[221,16,233,30],[201,1,202,30],[203,1,203,14],[203,16,203,30],[204,1,216,14],[204,16,216,30],[175,27,175,29],[176,7,177,8],[176,9,177,11],[176,12,177,14],[176,15,177,17],[176,18,177,20],[176,21,177,23],[176,24,177,26],[176,27,177,29],[175,21,175,23],[175,24,175,26],[175,1,177,6],[175,7,175,8],[175,9,175,11],[175,12,175,14],[175,15,175,17],[166,27,167,29],[218,0,219,0],[218,1,219,30],[180,27,181,29],[184,1,185,16],[186,1,186,14],[186,16,186,30],[187,1,199,14],[187,16,199,30],[179,21,179,23],[179,24,179,26],[179,27,179,29],[180,7,181,8],[180,9,181,11],[180,12,181,14],[180,15,181,17],[180,18,181,20],[180,21,181,23],[180,24,181,26],[179,1,181,6],[179,7,179,8],[179,9,179,11],[179,12,179,14],[179,15,179,17],[170,27,171,29],[175,18,175,20],[169,12,169,14],[157,1,157,29],[158,1,161,29],[163,11,163,14],[165,1,167,6],[165,7,165,8],[165,9,165,11],[165,12,165,14],[165,15,165,17],[165,18,165,20],[165,21,165,23],[169,15,169,17],[169,18,169,20],[165,24,165,26],[165,27,165,29],[166,7,167,8],[166,9,167,11],[166,12,167,14],[166,15,167,17],[166,18,167,20],[166,21,167,23],[166,24,167,26],[126,18,126,19],[148,1,148,29],[149,1,152,29],[154,1,156,6],[154,7,154,8],[154,9,154,11],[154,12,154,14],[154,15,154,17],[154,18,154,20],[154,21,154,23],[154,24,154,26],[154,27,154,29],[155,7,156,8],[155,9,156,11],[155,12,156,14],[155,15,156,17],[155,18,156,20],[155,21,156,23],[155,24,156,26],[155,27,156,29],[126,21,126,22],[126,24,126,25],[126,27,126,28],[131,12,131,13],[106,1,106,6],[106,7,106,8],[106,10,106,11],[106,13,106,14],[106,16,106,17],[106,19,106,20],[105,15,105,16],[105,18,105,19],[105,21,105,22],[105,1,105,6],[104,1,104,6],[104,9,104,10],[104,12,104,13],[104,15,104,16],[104,18,104,19],[104,21,104,22],[104,24,104,25],[104,27,104,28],[103,1,103,6],[103,9,103,10],[103,12,103,13],[103,15,103,16],[103,18,103,19],[103,21,103,22],[103,24,103,25],[103,27,103,28],[102,1,102,6],[102,9,102,10],[102,12,102,13],[102,15,102,16],[102,18,102,19],[102,21,102,22],[102,24,102,25],[102,27,102,28],[101,1,101,6],[100,1,100,6],[100,7,100,8],[100,9,100,11],[100,12,100,14],[100,15,100,17],[100,18,100,20],[99,1,99,6],[99,7,99,8],[99,10,99,11],[99,13,99,14],[99,16,99,17],[99,19,99,20],[98,1,98,6],[98,9,98,10],[98,12,98,13],[98,15,98,16],[98,18,98,19],[98,21,98,22],[96,24,96,25],[97,1,97,6],[97,9,97,10],[97,12,97,13],[97,15,97,16],[97,18,97,19],[97,21,97,22],[96,1,96,6],[96,9,96,10],[96,12,96,13],[96,15,96,16],[96,18,96,19],[96,21,96,22],[89,1,89,6],[89,7,89,8],[89,9,89,11],[89,12,89,14],[89,15,89,17],[89,18,89,20],[91,24,91,25],[91,27,91,28],[95,1,95,6],[95,9,95,10],[94,1,94,6],[94,9,94,10],[94,12,94,13],[94,15,94,16],[94,18,94,19],[94,21,94,22],[93,21,93,22],[93,27,93,28],[90,1,90,6],[87,27,87,28],[92,9,92,10],[92,12,92,13],[92,15,92,16],[86,24,86,25],[86,27,86,28],[87,1,87,6],[87,9,87,10],[87,12,87,13],[87,15,87,16],[87,18,87,19],[87,21,87,22],[88,1,88,6],[88,7,88,8],[88,10,88,11],[88,13,88,14],[88,16,88,17],[88,19,88,20],[88,22,88,23],[88,25,88,26],[88,28,88,29],[89,21,89,23],[89,24,89,26],[92,1,92,6],[85,24,85,25],[85,27,85,28],[86,1,86,6],[86,9,86,10],[86,12,86,13],[86,15,86,16],[86,18,86,19],[86,21,86,22],[84,24,84,25],[84,27,84,28],[85,1,85,6],[85,9,85,10],[85,12,85,13],[85,15,85,16],[85,18,85,19],[85,21,85,22],[83,24,83,25],[83,27,83,28],[84,1,84,6],[84,9,84,10],[84,12,84,13],[84,15,84,16],[84,18,84,19],[84,21,84,22],[82,24,82,25],[82,27,82,28],[83,1,83,6],[83,9,83,10],[83,12,83,13],[83,15,83,16],[83,18,83,19],[83,21,83,22],[81,24,81,25],[81,27,81,28],[82,1,82,6],[82,9,82,10],[82,12,82,13],[82,15,82,16],[82,18,82,19],[82,21,82,22],[80,24,80,25],[80,27,80,28],[81,1,81,6],[81,9,81,10],[81,12,81,13],[81,15,81,16],[81,18,81,19],[81,21,81,22],[79,27,79,28],[80,1,80,6],[80,9,80,10],[80,12,80,13],[80,15,80,16],[80,18,80,19],[80,21,80,22],[78,24,78,25],[78,27,78,28],[79,1,79,6],[79,9,79,10],[79,12,79,13],[79,15,79,16],[79,18,79,19],[79,21,79,22],[78,1,78,6],[78,9,78,10],[78,12,78,13],[78,15,78,16],[78,18,78,19],[78,21,78,22],[79,24,79,25],[72,18,72,20],[76,27,76,29],[77,1,77,6],[75,22,75,23],[75,25,75,26],[75,28,75,29],[76,1,76,6],[76,7,76,8],[76,9,76,11],[76,12,76,14],[76,15,76,17],[76,18,76,20],[76,21,76,23],[75,1,75,6],[75,7,75,8],[75,10,75,11],[75,13,75,14],[75,16,75,17],[75,19,75,20],[76,24,76,26],[74,27,74,29],[74,1,74,6],[74,18,74,20],[74,21,74,23],[74,24,74,26],[74,9,74,10],[74,12,74,13],[74,15,74,16],[73,27,73,29],[73,1,73,6],[73,18,73,20],[73,21,73,23],[73,24,73,26],[73,9,73,10],[73,12,73,13],[73,15,73,16],[68,27,68,29],[67,21,67,23],[67,24,67,26],[67,27,67,29],[72,21,72,23],[72,24,72,26],[71,27,71,29],[71,21,71,23],[71,24,71,26],[72,27,72,29],[69,27,69,29],[70,27,70,29],[72,9,72,10],[72,12,72,13],[67,18,67,20],[67,9,67,10],[67,12,67,13],[67,15,67,16],[93,1,93,6],[93,9,93,10],[93,12,93,13],[93,15,93,16],[93,18,93,19],[72,15,72,16],[91,1,91,6],[91,9,91,10],[91,12,91,13],[91,15,91,16],[91,18,91,19],[70,9,70,10],[70,12,70,13],[68,1,68,6],[68,18,68,20],[71,1,71,6],[71,18,71,20],[72,1,72,6],[65,1,65,6],[70,15,70,16],[69,9,69,10],[69,12,69,13],[69,15,69,16],[68,9,68,10],[68,12,68,13],[68,15,68,16],[67,1,67,6],[69,1,69,6],[70,1,70,6],[63,24,63,25],[63,27,63,28],[64,1,64,6],[64,9,64,10],[64,12,64,13],[64,15,64,16],[64,18,64,19],[64,21,64,22],[64,24,64,25],[64,27,64,28],[63,1,63,6],[63,9,63,10],[63,12,63,13],[63,15,63,16],[63,18,63,19],[63,21,63,22],[61,24,61,25],[61,27,61,28],[62,1,62,6],[62,9,62,10],[62,12,62,13],[62,15,62,16],[62,18,62,19],[62,21,62,22],[62,24,62,25],[62,27,62,28],[61,1,61,6],[61,9,61,10],[61,12,61,13],[61,15,61,16],[61,18,61,19],[61,21,61,22],[60,1,60,6],[60,9,60,10],[60,12,60,13],[60,15,60,16],[60,18,60,19],[60,21,60,22],[60,24,60,25],[60,27,60,28],[58,27,58,29],[59,1,59,6],[57,25,57,26],[57,28,57,29],[58,1,58,6],[58,7,58,8],[58,9,58,11],[58,12,58,14],[58,15,58,17],[58,18,58,20],[58,21,58,23],[58,24,58,26],[57,1,57,6],[57,7,57,8],[57,10,57,11],[57,13,57,14],[57,16,57,17],[57,19,57,20],[57,22,57,23],[55,1,55,29],[56,7,56,8],[56,9,56,11],[56,12,56,14],[56,15,56,17],[56,18,56,20],[56,21,56,23],[56,24,56,26],[56,27,56,29],[53,24,53,26],[53,27,53,29],[52,21,52,23],[52,24,52,26],[52,27,52,29],[53,1,53,6],[53,7,53,8],[53,9,53,11],[53,12,53,14],[53,15,53,17],[53,18,53,20],[53,21,53,23],[52,1,52,6],[52,7,52,8],[52,9,52,11],[52,12,52,14],[52,15,52,17],[52,18,52,20],[51,1,51,6],[51,7,51,8],[51,9,51,11],[51,12,51,14],[51,15,51,17],[51,18,51,20],[51,21,51,23],[51,24,51,26],[51,27,51,29],[50,1,50,6],[50,7,50,8],[50,9,50,11],[50,12,50,14],[50,15,50,17],[50,18,50,20],[50,21,50,23],[50,24,50,26],[50,27,50,29],[48,21,48,23],[48,24,48,26],[48,27,48,29],[49,1,49,6],[49,7,49,8],[49,9,49,11],[49,12,49,14],[49,15,49,17],[49,18,49,20],[49,21,49,23],[48,1,48,6],[48,7,48,8],[48,9,48,11],[48,12,48,14],[48,15,48,17],[48,18,48,20],[49,24,49,26],[49,27,49,29],[47,1,47,6],[47,7,47,8],[47,9,47,11],[47,12,47,14],[47,15,47,17],[47,18,47,20],[47,21,47,23],[47,24,47,26],[47,27,47,29],[46,1,46,6],[46,7,46,8],[46,9,46,11],[46,12,46,14],[46,15,46,17],[46,18,46,20],[46,21,46,23],[46,24,46,26],[46,27,46,29],[44,21,44,23],[44,24,44,26],[44,27,44,29],[45,1,45,6],[45,7,45,8],[45,9,45,11],[45,12,45,14],[45,15,45,17],[45,18,45,20],[45,21,45,23],[44,1,44,6],[44,7,44,8],[44,9,44,11],[44,12,44,14],[44,15,44,17],[44,18,44,20],[45,24,45,26],[45,27,45,29],[42,24,42,26],[42,27,42,29],[43,1,43,6],[43,7,43,8],[43,9,43,11],[43,12,43,14],[43,15,43,17],[43,18,43,20],[43,21,43,23],[43,24,43,26],[43,27,43,29],[139,24,139,25],[139,27,139,28],[140,9,140,10],[140,12,140,13],[140,15,140,16],[134,9,134,10],[134,12,134,13],[134,15,134,16],[134,18,134,19],[134,21,134,22],[134,24,134,25],[134,27,134,28],[140,24,140,25],[140,27,140,28],[137,24,137,25],[137,27,137,28],[139,21,139,22],[139,15,139,16],[139,18,139,19],[127,21,127,22],[127,24,127,25],[127,27,127,28],[128,9,128,10],[128,12,128,13],[128,15,128,16],[128,18,128,19],[128,21,128,22],[128,24,128,25],[128,27,128,28],[127,9,127,10],[127,18,127,19],[127,12,127,13],[127,15,127,16],[26,24,26,26],[121,18,121,19],[121,21,121,22],[121,24,121,25],[121,27,121,28],[39,1,39,29],[40,1,41,6],[40,7,40,17],[40,19,40,29],[41,7,41,8],[41,9,41,11],[41,12,41,14],[41,15,41,17],[41,18,41,20],[41,21,41,23],[41,24,41,26],[41,27,41,29],[42,1,42,6],[42,7,42,8],[42,9,42,11],[42,12,42,14],[42,15,42,17],[42,18,42,20],[42,21,42,23],[26,27,26,29],[20,12,20,14],[20,15,20,17],[20,18,20,20],[20,21,20,23],[20,24,20,26],[20,27,20,29],[23,27,24,29],[36,1,36,8],[26,1,28,6],[26,7,26,8],[26,9,26,11],[21,24,22,26],[21,27,22,29],[31,7,31,8],[31,9,31,11],[31,12,31,14],[31,15,31,17],[31,18,31,20],[31,24,31,26],[26,12,26,14],[26,15,26,17],[26,18,26,20],[26,21,26,23],[16,27,17,29],[20,1,22,6],[20,7,20,8],[20,9,20,11],[11,21,12,23],[11,24,12,26],[11,27,12,29],[13,3,13,6],[13,7,13,8],[13,9,13,11],[13,12,13,14],[13,15,13,17],[13,18,13,20],[13,21,13,23],[13,24,13,26],[13,27,13,29],[10,1,12,6],[10,7,10,8],[10,9,10,11],[10,12,10,14],[10,15,10,17],[10,18,10,20],[15,18,15,20],[16,21,17,23],[23,3,24,6],[23,7,24,8],[23,9,24,11],[23,12,24,14],[23,15,24,17],[23,18,24,20],[23,21,24,23],[23,24,24,26],[21,7,22,8],[21,9,22,11],[21,12,22,14],[21,15,22,17],[21,18,22,20],[21,21,22,23],[8,9,8,11],[8,12,8,14],[8,15,8,17],[1,23,1,29],[2,1,2,6],[15,21,15,23],[15,24,15,26],[15,27,15,29],[1,13,1,19],[10,24,10,26],[10,27,10,29],[11,7,12,8],[8,3,8,6],[0,13,0,30],[2,36,17,43],[5,1,5,2],[5,3,5,6],[7,1,7,2],[7,3,7,6],[9,8,9,29],[10,21,10,23],[11,9,12,11],[11,12,12,14],[11,15,12,17],[11,18,12,20],[16,7,17,8],[16,9,17,11],[16,12,17,14],[16,15,17,17],[16,18,17,20],[16,24,17,26],[15,1,17,6],[15,7,15,8],[15,9,15,11],[15,12,15,14],[15,15,15,17],[2,8,7,17],[141,4,141,6],[142,4,142,6],[143,4,143,6],[144,4,144,6],[145,4,145,6],[146,4,146,6],[147,4,147,6],[126,4,126,6],[127,4,127,6],[128,4,128,6],[129,4,129,6],[130,4,130,6],[131,4,131,6],[132,4,132,6],[133,4,133,6],[134,4,134,6],[138,2,138,6],[139,4,139,6],[140,4,140,6]]}
[null,null,null,null,null,null,null,null,null,null,null,null,null,"Outcome Measurement Tool (OMT)\nMA - Victim Witness Assistance Board\n\nNeed Support? Contact MOVAstats@mass.gov."]
[null,"SAFEPLAN Individual Court Data",null,null,null,null,null,null,null,null,null,null,null,"Court Tab 1",null,null,null,null,null,null,null,null,null,"(#1) DATA ENTRY TAB",null,null,null,null,null,null,null,null,null,null,null,null,"NOTES:"]
[null,"Enter the court name and then specified data for this court in the fields below.",null,null,null,null,null,null,"\nINSTRUCTIONS: This section should be completed each reporting period and each tab in one court ONLY. Use the areas in beige to enter the specified information.\n\n Once you have assigned a court to each tab, you will continue to report on that court within the same tab for each reporting period similar to how data was tracked and submitted in the previous reports."]
[]
[]
[null,"Court Name:",null,"Insert COURT NAME Here"]
[]
[null,"Reporting Period:",null,{"$f":"'1. Overall Demographics'!D8","v":"Period 1 (July 1 - September 30 2023)"}]
[null,null,null,"period can be selected on tab 1. Overall Demographics",null,null,null,"Period 1 (July 1 - September 30 2022)",null,"Period 2 (October 1 - December 31 2022)",null,null,"Period 3 (January 1 - March 31 2023)",null,null,"Period 4 (April 1 - June 30 2023)"]
[null,null,null,null,null,null,null,null,"KEY DEFINITIONS: \n\nCount each NEW individual in only one race/ethnicity type as self-reported. Individuals who self-report in more than one category should be counted in the \"Multiple Races\" category. The total number in each demographic category should equal the number of NEW individuals reported in Section 3. This data is used for statistical purposes to comply with Federal regulations.\n\nAll \"0\" entries must represent a true value of zero.\n\nIf no data is collected for a category, select \"Not Tracked\" from the list of options in the associated race/ethnicity category. This means that as a subgrantee, you are not able to submit data in this category due to the need to update this in your data tracking system, but that efforts are underway to track data as requested. Report in the \"Not Tracked\" section the number of individuals whose demographic data were not tracked.\n\nIf no data is collected for an individual, count that individual in the Not Reported category. This means that this data is collected by your organization, but it was not provided by the person completing the intake form.\n\nIf you select \"Other\" from the dropdown options, enter an explanation next to your response or this will be marked as missing data in the system."]
[null,"SECTION 1: TOTAL number of individuals who received services during the reporting period:",null,null,null,null,null,"Period 1 (July 1 - September 30 2023)",null,"Period 2 (October 1 - December 31 2023)",null,null,"Period 3 (January 1 - March 31 2024)",null,null,"Period 4 (April 1 - June 30 2024)",null,null,"Reporting Period 5",null,null,"Reporting Period 6",null,null,"Reporting Period 7",null,null,"Reporting Period 8"]
[]
[]
[]
[]
[null,"SECTION 2: TOTAL number of anonymous contacts received during the reporting period: ",null,null,null,null,null,"Reporting Period 1",null,"Reporting Period 2",null,null,"Reporting Period 3",null,null,"Reporting Period 4",null,null,"Reporting Period 5",null,null,"Reporting Period 6",null,null,"Reporting Period 7",null,null,"Reporting Period 8"]
[]
[]
[]
[]
[null,"SECTION 3: Of the number of individuals entered in question 1, how many were NEW individuals who received services from your agency for the first time during the reporting period: ",null,null,null,null,null,"Reporting Period 1",null,"Reporting Period 2",null,null,"Reporting Period 3",null,null,"Reporting Period 4",null,null,"Reporting Period 5",null,null,"Reporting Period 6",null,null,"Reporting Period 7",null,null,"Reporting Period 8"]
[]
[]
[]
[]
[]
[null,"SECTION 4: TOTAL number of individuals with NO PRIOR CONTACT with a DV/SA Agency during the reporting period: ",null,null,null,null,null,"Reporting Period 1",null,"Reporting Period 2",null,null,"Reporting Period 3",null,null,"Reporting Period 4",null,null,"Reporting Period 5",null,null,"Reporting Period 6",null,null,"Reporting Period 7",null,null,"Reporting Period 8"]
[]
[]
[]
[]
[null,"SECTION 5: AUTOCALCULATED: TOTAL number of continuing individuals during the reporting period: ",null,null,null,null,null,"Reporting Period 1",null,"Reporting Period 2",null,null,"Reporting Period 3",null,null,"Reporting Period 4",null,null,"Reporting Period 5",null,null,"Reporting Period 6",null,null,"Reporting Period 7",null,null,"Reporting Period 8"]
[null,null,null,null,null,null,null,{"$f":"H12-H22","v":0},null,{"$f":"J12-J22","v":0},null,null,{"$f":"M12-M22","v":0},null,null,{"$f":"P12-P22","v":0},null,null,0,null,null,{"$f":"V12-V22","v":0},null,null,{"$f":"Y12-Y22","v":0},null,null,0]
[]
[]
[]
[null,"Is your agency able to track NEW individuals throughout the Fiscal Year?",null,null,null,null,null,null,null,null,"Select one."]
[]
[]
[null,"SECTION 6: Types of Abuse Alleged: Enter the number of Individuals who Received Services Based on the Type of Alleged Abuse During the Reporting Period - ALL individuals\nAn individual MAY be counted in more than one classification."]
[null,"Type of Alleged Abuse",null,null,null,null,null,"Number of Individuals",null,null,null,null,null,null,null,null,null,null,null,"Number of Individuals - Year 2"]
[null,null,null,null,null,null,null,"Reporting Period 1",null,"Reporting Period 2",null,null,"Reporting Period 3",null,null,"Reporting Period 4",null,null,"Reporting Period 5",null,null,"Reporting Period 6",null,null,"Reporting Period 7",null,null,"Reporting Period 8"]
[null,"Attempted physical harm (209A)"]
[null,"Caused physical harm (209A)"]
[null,"Imminent Fear (209A)"]
[null,"Sexual Assault (209A)"]
[null,"Stalking (258E)"]
[null,"Sexual Assault (258E)"]
[null,"Criminal Harassment (258E)"]
[null,"Other (please specify below): "]
[]
[]
[]
[]
[]
[null,"SECTION 7:  Services Received\n1) First select the types of services provided by the court covered within this tab and use the dropdown options to report Yes/No for services received during the reporting period in reference (e.g., select Yes or No for A. Information & Referral in Reporting Period 4)\n2) Then enter the total number of individuals who received that type of services within the service categories and programs\n3) Then enter the number of times each specific service was provided by this court during the reporting period within each of the provided categories (e.g., information about the criminal justice process) using the beige/yellow boxes only (note: some boxes automatically total the subcategories and entries from elsewhere in the column)\n"]
[null,null,null,null,null,null,null,"Reporting Period 1",null,"Reporting Period 2",null,null,"Reporting Period 3",null,null,"Reporting Period 4",null,null,"Reporting Period 5",null,null,"Reporting Period 6",null,null,"Reporting Period 7",null,null,"Reporting Period 8"]
[null,"A. Information & Referral",null,null,null,null,null,"Yes or No?",null,null,"Yes or No?",null,null,"Yes or No?",null,null,"Yes or No?",null,null,"Yes or No?",null,null,"Yes or No?",null,null,"Yes or No?",null,null,"Yes or No?"]
[null,"Number of Individuals"]
[null,"Number of Times/Occurrences",null,null,null,null,null,null,{"$f":"SUM(H62:H65)","v":0},null,null,{"$f":"SUM(J62:K65)","v":0},null,null,{"$f":"SUM(M62:N65)","v":0},null,null,{"$f":"SUM(P62:Q65)","v":0},null,null,{"$f":"SUM(S61:T65)","v":0},null,null,{"$f":"SUM(V61:W65)","v":0},null,null,{"$f":"SUM(Y61:Z65)","v":0},null,null,{"$f":"SUM(AB61:AC65)","v":0}]
[null,"SAFEPLAN Information & Referrals \nInclude counts of referrals made during in-person, virtual, or phone based service provision. Specify referral type in section below."]
[null,"1. Information about the criminal justice process"]
[null,"2. Information on victim rights/how to obtain notifications"]
[null,"3. Referral to other victim service programs"]
[null,"4. Referral to other services/supports/resources (includes legal, medical, faith-based organizations, address confidentiality programs, etc.)"]
[null,"Information & Referral - Referrals Descriptions\nSpecify type of referral provided for each referral counted above",null,null,null,null,null,null,{"$f":"SUM(H67,H68,H69,H70,H71,H72,H73,H74,H75)","v":0},null,null,{"$f":"SUM(J67:K75)","v":0},null,null,{"$f":"SUM(M67:N75)","v":0},null,null,{"$f":"SUM(P67:Q75)","v":0},null,null,{"$f":"SUM(S67,S68,S69,S70,S71,S72,#REF!,#REF!,S75)","v":{"$error":"#REF!"}},null,null,{"$f":"SUM(V67,V68,V69,V70,V71,V72,#REF!,#REF!,V75)","v":{"$error":"#REF!"}},null,null,{"$f":"SUM(Y67,Y68,Y69,Y70,Y71,Y72,#REF!,#REF!,Y75)","v":{"$error":"#REF!"}},null,null,{"$f":"SUM(AB67,AB68,AB69,AB70,AB71,AB72,#REF!,#REF!,AB75)","v":{"$error":"#REF!"}}]
[null,"DV Program"]
[null,"SA Program"]
[null,"DA's Office"]
[null,"Legal Services"]
[null,"Police"]
[null,"Other Court Personnel"]
[null,"Victim Compensation"]
[null,"Medical Referral"]
[null,"Other"]
[null,"B. Personal Advocacy/Accompaniment",null,null,null,null,null,"Yes or No?",null,null,"Yes or No?",null,null,"Yes or No?",null,null,"Yes or No?",null,null,"Yes or No?",null,null,"Yes or No?",null,null,"Yes or No?",null,null,"Yes or No?"]
[null,"Number of Individuals"]
[null,"Number of Times/Occurrences",null,null,null,null,null,null,{"$f":"SUM(H80:H88)","v":0},null,null,{"$f":"SUM(J80:K88)","v":0},null,null,{"$f":"SUM(M80:N88)","v":0},null,null,{"$f":"SUM(P80:Q88)","v":0},null,null,{"$f":"SUM(S78:S88)","v":0},null,null,{"$f":"SUM(V78:V88)","v":0},null,null,{"$f":"SUM(Y78:Y88)","v":0},null,null,{"$f":"SUM(AB78:AB88)","v":0}]
[null,"SAFEPLAN Personal Advocacy/Accompaniment"]
[null,"1. Victim advocacy/accompaniment to emergency medical care"]
[null,"2. Victim advocacy/accompaniment to medical forensic exam"]
[null,"3. Law enforcement interview advocacy/accompaniment"]
[null,"4. Individual advocacy"]
[null,"5. Performance of medical or nonmedical forensic exam or interview, or medical evidence collection"]
[null,"6. Immigration assistance (e.g., special visas, continued presence application, and other immigration relief)"]
[null,"7. Intervention with employer, creditor, landlord, or academic institution"]
[null,"8. Child or dependent care assistance (includes coordination of services)"]
[null,"9. Interpreter services"]
[null,"C. Emotional Support or Safety Services",null,null,null,null,null,"Yes or No?",null,null,"Yes or No?",null,null,"Yes or No?",null,null,"Yes or No?",null,null,"Yes or No?",null,null,"Yes or No?",null,null,"Yes or No?",null,null,"Yes or No?"]
[null,"Number of Individuals"]
[null,"Number of Times/Occurrences",null,null,null,null,null,null,{"$f":"SUM(H93:H99)","v":0},null,null,{"$f":"SUM(J93:K99)","v":0},null,null,{"$f":"SUM(M93:N99)","v":0},null,null,{"$f":"SUM(P93:Q99)","v":0},null,null,{"$f":"SUM(S92:S99)","v":0},null,null,{"$f":"SUM(V92:V99)","v":0},null,null,{"$f":"SUM(Y92:Y99)","v":0},null,null,{"$f":"SUM(AB92:AB99)","v":0}]
[null,"SAFEPLAN Emotional Support or Safety Services "]
[null,"1. Crisis intervention (in-person, includes safety planning, etc.)"]
[null,"2. Hotline/crisis line counseling"]
[null,"3. On-scene crisis response (e.g., community crisis response)"]
[null,"4. Individual counseling"]
[null,"5. Support groups (facilitated or peer)"]
[null,"6. Other therapy (traditional, cultural, or alternative healing; art, writing, or play therapy, etc.)"]
[null,"7. Emergency financial assistance (includes emergency loans and petty cash, payment for items such as food and/or clothing, changing windows and/or locks, taxis, prophylactic and nonprophylactic medications, durable medical equipment, etc.)"]
[null,"D. Shelter/Housing Services",null,null,null,null,null,"Yes or No?",null,null,"Yes or No?",null,null,"Yes or No?",null,null,"Yes or No?",null,null,"Yes or No?",null,null,"Yes or No?",null,null,"Yes or No?",null,null,"Yes or No?"]
[null,"Number of Individuals"]
[null,"Number of Times/Occurrences",null,null,null,null,null,null,{"$f":"SUM(H104:H106)","v":0},null,null,{"$f":"SUM(J104:K106)","v":0},null,null,{"$f":"SUM(M104:N106)","v":0},null,null,{"$f":"SUM(P104:Q106)","v":0},null,null,{"$f":"SUM(S103:S106)","v":0},null,null,{"$f":"SUM(V103:V106)","v":0},null,null,{"$f":"SUM(Y103:Y106)","v":0},null,null,{"$f":"SUM(AB103:AB106)","v":0}]
[null,"SAFEPLAN Shelter/Housing Services"]
[null,"1. Emergency shelter or safe house"]
[null,"2. Transitional housing"]
[null,"3. Relocation assistance (includes assistance with obtaining housing)"]
[null,"E. Criminal/Civil Justice System Assistance",null,null,null,null,null,"Yes or No?",null,null,"Yes or No?",null,null,"Yes or No?",null,null,"Yes or No?",null,null,"Yes or No?",null,null,"Yes or No?",null,null,"Yes or No?",null,null,"Yes or No?"]
[null,"Number of Individuals"]
[null,"Number of Times/Occurrences",null,null,null,null,null,null,{"$f":"SUM(H111:H113,H115:H121,I114)","v":0},null,null,{"$f":"SUM(J111:K113,J115:K121,L114)","v":0},null,null,{"$f":"SUM(M111:N113,M115:N121,O114)","v":0},null,null,{"$f":"SUM(P111:Q113,P115:Q121,R114)","v":0},null,null,{"$f":"SUM(S110:S121)","v":0},null,null,{"$f":"SUM(V110:V121)","v":0},null,null,{"$f":"SUM(Y110:Y121)","v":0},null,null,{"$f":"SUM(AB110:AB121)","v":0}]
[null,"SAFEPLAN Criminal/Civil Justice System Assistance ",null,null,null,null,null,null,null,null,null,null,null,null,null,null,null,null,null,null,{"$f":"SUM(T111:T150)","v":0},null,null,{"$f":"SUM(W111:W150)","v":0},null,null,{"$f":"SUM(Z111:Z150)","v":0},null,null,{"$f":"SUM(AC111:AC150)","v":0}]
[null,"1. Notification of criminal justice events (e.g., case status, arrest, court proceedings, case disposition, release, etc.)"]
[null,"2. Victim impact statement assistance"]
[null,"3. Assistance with restitution (includes assistance in requesting and when collection efforts are not successful)"]
[null,"4. Civil legal assistance in obtaining protection or restraining order (auto-calculated based on 209A and 258E advocacy & accompaniment counts reported in description section below)",null,null,null,null,null,null,{"$f":"SUM(I123,I136)","v":0},null,null,{"$f":"SUM(L123,L136)","v":0},null,null,{"$f":"SUM(O123,O136)","v":0},null,null,{"$f":"SUM(R123,R136)","v":0}]
[null,"5. Civil legal assistance with family law issues (e.g., custody, visitation, or support)"]
[null,"6. Other emergency justice‐related assistance"]
[null,"7. Immigration assistance (e.g., special visas, continued presence application, and other immigration relief)"]
[null,"8. Prosecution interview advocacy/accompaniment"]
[null,"9. Law enforcement interview advocacy/accompaniment"]
[null,"10. Criminal advocacy/accompaniment"]
[null,"11. Other legal advice and/or counsel"]
[null,"209A & 258E Events\nSpecify civil legal assistance provided for each 209A or 258E event"]
[null,"209A Abuse Prevention Order/Restraining Order Events",null,null,null,null,null,null,{"$f":"SUM(H124:H125)","v":0},null,null,{"$f":"SUM(J124:K125)","v":0},null,null,{"$f":"SUM(M124:N125)","v":0},null,null,{"$f":"SUM(P124:Q125)","v":0}]
[null,"1. 209A Advocacy"]
[null,"2. 209A Accompaniment"]
[null,null,"209A Accompaniment Detail - Provide additional details below about each accompaniment instance counted above"]
[null,null,null,null,"Motion to Terminate Granted (Plaintiff)"]
[null,null,null,null,"Motion to Terminate Denied (Plaintiff)"]
[null,null,null,null,"Temporary Restraining Order - Requested"]
[null,null,null,null,"Temporary Restraining Order - Granted"]
[null,null,null,null,"Temporary Restraining Order - Scheduled for Hearing after Notice"]
[null,null,null,null,"Temporary Restraining Order - Denied"]
[null,null,null,null,"Final Restraining Order - Requested"]
[null,null,null,null,"Final Restraining Order - Granted"]
[null,null,null,null,"Final Restraining Order - Denied"]
[null,"258E Harassment Prevention Order Events",null,null,null,null,null,null,{"$f":"SUM(H137:H138)","v":0},null,null,{"$f":"SUM(J137:K138)","v":0},null,null,{"$f":"SUM(M137:N138)","v":0},null,null,{"$f":"SUM(P137:Q138)","v":0}]
[null,"1. 258E Advocacy"]
[null,"2. 258E Accompaniment"]
[null,null,"258E Accompaniment Detail - Provide additional details below about each accompaniment instance counted above"]
[null,null,null,null,"Motion to Terminate Granted (Plaintiff)"]
[null,null,null,null,"Motion to Terminate Denied (Plaintiff)"]
[null,null,null,null,"Temporary Harassment Order - Requested"]
[null,null,null,null,"Temporary Harassment Order - Granted"]
[null,null,null,null,"Temporary Harassment Order - Scheduled for Hearing after Notice"]
[null,null,null,null,"Temporary Harassment Order - Denied"]
[null,null,null,null,"Final Harassment Order - Requested"]
[null,null,null,null,"Final Harassment Order - Granted"]
[null,null,null,null,"Final Harassment Order - Denied"]
[null,"Additional Comments: "]
[null,"Insert response here. "]
[]
[]
[]
[]
["O","8. Number of requests for services that were unmet because of organizational capacity issues: ",null,null,null,null,null,"Reporting Period 1",null,"Reporting Period 2",null,null,"Reporting Period 3",null,null,"Reporting Period 4",null,null,"Reporting Period 5",null,null,"Reporting Period 6",null,null,"Reporting Period 7",null,null,"Reporting Period 8"]
[]
[]
[null,"Please Explain. "]
[]
[]
[]
[]
[]
["O","9. Does your organization formally survey clients for feedback on services received? ",null,null,null,null,null,null,null,null,null,"Select one."]
[]
["O","10. Number of surveys distributed to clients (included, but not limited to, those distributed by hand, mail or electronic methods):",null,null,null,null,null,"Reporting Period 1",null,"Reporting Period 2",null,null,"Reporting Period 3",null,null,"Reporting Period 4",null,null,"Reporting Period 5",null,null,"Reporting Period 6",null,null,"Reporting Period 7",null,null,"Reporting Period 8"]
[]
[]
[]
["O","11. Number of surveys completed by clients: ",null,null,null,null,null,"Reporting Period 1",null,"Reporting Period 2",null,null,"Reporting Period 3",null,null,"Reporting Period 4",null,null,"Reporting Period 5",null,null,"Reporting Period 6",null,null,"Reporting Period 7",null,null,"Reporting Period 8"]
[]
[]
[]
["O","12. Does your organization formally survey staff for feedback on trainings received? ",null,null,null,null,null,null,null,null,null,"Select one."]
[]
["O","13. Number of surveys distributed to staff (included, but not limited to, those distributed by hand, mail or electronic methods):",null,null,null,null,null,"Reporting Period 1",null,"Reporting Period 2",null,null,"Reporting Period 3",null,null,"Reporting Period 4",null,null,"Reporting Period 5",null,null,"Reporting Period 6",null,null,"Reporting Period 7",null,null,"Reporting Period 8"]
[]
[]
[]
["O","14. Number of surveys completed by staff: ",null,null,null,null,null,"Reporting Period 1",null,"Reporting Period 2",null,null,"Reporting Period 3",null,null,"Reporting Period 4",null,null,"Reporting Period 5",null,null,"Reporting Period 6",null,null,"Reporting Period 7",null,null,"Reporting Period 8"]
[]
[]
[]
[]
[null,"15. Please discuss some of the challenges your victim assistance program faced during the course of the federal fiscal year: "]
["O"]
[null,"Year 1",null,null,null,null,null,null,null,null,null,null,null,null,null,null,"Year 2"]
[null,"Insert response here. ",null,null,null,null,null,null,null,null,null,null,null,null,null,null,"Insert response here. "]
[]
[]
[]
[]
[]
[]
[]
[]
[]
[]
[]
[]
[]
[null,"16. Please describe some of the services that victims needed but could not be provided. What were the challenges that prevented those services from being provided: "]
["O"]
[null,"Year 1",null,null,null,null,null,null,null,null,null,null,null,null,null,null,"Year 2"]
[null,"Insert response here. ",null,null,null,null,null,null,null,null,null,null,null,null,null,null,"Insert response here."]
[]
[]
[]
[]
[]
[]
[]
[]
[]
[]
[]
[]
[]
["O","OPTIONAL. Please share a success story or client spotlight in the space below. Do not include any identifying or confidential information. "]
[]
[null,"Year 1",null,null,null,null,null,null,null,null,null,null,null,null,null,null,"Year 2"]
[null,"Insert response here. ",null,null,null,null,null,null,null,null,null,null,null,null,null,null,"Insert response here."]

{"sheet":"1.2 Sample Court Tab","index":6,"n_rows":222,"n_cols":37,"rows_kept":222,"cut":false,"hidden":false,"merged":[[220,1,220,14],[220,16,220,30],[221,1,233,14],[221,16,233,30],[201,1,202,30],[203,1,203,14],[203,16,203,30],[204,1,216,14],[204,16,216,30],[218,0,219,0],[218,1,219,30],[180,27,181,29],[184,1,185,16],[186,1,186,14],[186,16,186,30],[187,1,199,14],[187,16,199,30],[179,21,179,23],[179,24,179,26],[179,27,179,29],[180,7,181,8],[180,9,181,11],[180,12,181,14],[180,15,181,17],[180,18,181,20],[180,21,181,23],[180,24,181,26],[179,1,181,6],[179,7,179,8],[179,9,179,11],[179,12,179,14],[179,15,179,17],[179,18,179,20],[175,24,175,26],[175,27,175,29],[176,7,177,8],[176,9,177,11],[176,12,177,14],[176,15,177,17],[176,18,177,20],[176,21,177,23],[176,24,177,26],[176,27,177,29],[170,24,171,26],[170,27,171,29],[173,11,173,14],[175,1,177,6],[175,7,175,8],[175,9,175,11],[175,12,175,14],[175,15,175,17],[175,18,175,20],[175,21,175,23],[170,7,171,8],[170,9,171,11],[170,12,171,14],[170,15,171,17],[170,18,171,20],[170,21,171,23],[166,27,167,29],[169,1,171,6],[169,7,169,8],[169,9,169,11],[169,12,169,14],[169,15,169,17],[169,18,169,20],[169,21,169,23],[169,24,169,26],[169,27,169,29],[165,21,165,23],[165,24,165,26],[165,27,165,29],[166,7,167,8],[166,9,167,11],[166,12,167,14],[166,15,167,17],[166,18,167,20],[166,21,167,23],[166,24,167,26],[155,27,156,29],[157,1,157,29],[158,1,161,29],[163,11,163,14],[165,1,167,6],[165,7,165,8],[165,9,165,11],[165,12,165,14],[165,15,165,17],[165,18,165,20],[154,21,154,23],[154,24,154,26],[154,27,154,29],[155,7,156,8],[155,9,156,11],[155,12,156,14],[155,15,156,17],[155,18,156,20],[155,21,156,23],[155,24,156,26],[154,1,156,6],[154,7,154,8],[154,9,154,11],[154,12,154,14],[154,15,154,17],[154,18,154,20],[147,4,147,6],[147,9,147,10],[147,12,147,13],[147,15,147,16],[148,1,148,29],[149,1,152,29],[145,24,145,25],[145,27,145,28],[146,4,146,6],[146,9,146,10],[146,12,146,13],[146,15,146,16],[145,4,145,6],[145,9,145,10],[145,12,145,13],[145,15,145,16],[145,18,145,19],[145,21,145,22],[143,24,143,25],[143,27,143,28],[144,4,144,6],[144,9,144,10],[144,12,144,13],[144,15,144,16],[144,18,144,19],[144,21,144,22],[144,24,144,25],[144,27,144,28],[143,4,143,6],[143,9,143,10],[143,12,143,13],[143,15,143,16],[143,18,143,19],[143,21,143,22],[141,24,141,25],[141,27,141,28],[142,4,142,6],[142,9,142,10],[142,12,142,13],[142,15,142,16],[142,18,142,19],[142,21,142,22],[142,24,142,25],[142,27,142,28],[141,4,141,6],[141,9,141,10],[141,12,141,13],[141,15,141,16],[141,18,141,19],[141,21,141,22],[139,27,139,28],[140,4,140,6],[140,9,140,10],[140,12,140,13],[140,15,140,16],[140,18,140,19],[140,21,140,22],[140,24,140,25],[140,27,140,28],[137,24,137,25],[137,27,137,28],[138,2,138,6],[139,4,139,6],[139,9,139,10],[139,12,139,13],[139,15,139,16],[139,18,139,19],[139,21,139,22],[139,24,139,25],[137,1,137,6],[137,9,137,10],[137,12,137,13],[137,15,137,16],[137,18,137,19],[137,21,137,22],[135,24,135,25],[135,27,135,28],[136,1,136,6],[136,9,136,10],[136,12,136,13],[136,15,136,16],[136,18,136,19],[136,21,136,22],[136,24,136,25],[136,27,136,28],[135,1,135,6],[135,9,135,10],[135,12,135,13],[135,15,135,16],[135,18,135,19],[135,21,135,22],[133,24,133,25],[133,27,133,28],[134,4,134,6],[134,9,134,10],[134,12,134,13],[134,15,134,16],[134,18,134,19],[134,21,134,22],[134,24,134,25],[134,27,134,28],[133,4,133,6],[133,9,133,10],[133,12,133,13],[133,15,133,16],[133,18,133,19],[133,21,133,22],[131,24,131,25],[131,27,131,28],[132,4,132,6],[132,9,132,10],[132,12,132,13],[132,15,132,16],[132,18,132,19],[132,21,132,22],[132,24,132,25],[132,27,132,28],[131,4,131,6],[131,9,131,10],[131,12,131,13],[131,15,131,16],[131,18,131,19],[131,21,131,22],[129,24,129,25],[129,27,129,28],[130,4,130,6],[130,9,130,10],[130,12,130,13],[130,15,130,16],[130,18,130,19],[130,21,130,22],[130,24,130,25],[130,27,130,28],[129,4,129,6],[129,9,129,10],[129,12,129,13],[129,15,129,16],[129,18,129,19],[129,21,129,22],[127,27,127,28],[128,4,128,6],[128,9,128,10],[128,12,128,13],[128,15,128,16],[128,18,128,19],[128,21,128,22],[128,24,128,25],[128,27,128,28],[126,21,126,22],[126,24,126,25],[126,27,126,28],[127,4,127,6],[127,9,127,10],[127,12,127,13],[127,15,127,16],[127,18,127,19],[127,21,127,22],[127,24,127,25],[125,2,125,6],[126,4,126,6],[126,9,126,10],[126,12,126,13],[126,15,126,16],[126,18,126,19],[123,1,123,6],[123,9,123,10],[123,12,123,13],[123,15,123,16],[124,1,124,6],[124,9,124,10],[124,12,124,13],[124,15,124,16],[121,24,121,25],[121,27,121,28],[122,1,122,6],[122,9,122,10],[122,12,122,13],[122,15,122,16],[120,18,120,19],[120,21,120,22],[120,24,120,25],[120,27,120,28],[121,1,121,6],[121,9,121,10],[121,12,121,13],[121,15,121,16],[121,18,121,19],[121,21,121,22],[119,1,119,6],[119,9,119,10],[119,12,119,13],[119,15,119,16],[120,1,120,6],[120,9,120,10],[120,12,120,13],[120,15,120,16],[117,1,117,6],[117,9,117,10],[117,12,117,13],[117,15,117,16],[118,1,118,6],[118,9,118,10],[118,12,118,13],[118,15,118,16],[115,1,115,6],[115,9,115,10],[115,12,115,13],[115,15,115,16],[116,1,116,6],[116,9,116,10],[116,12,116,13],[116,15,116,16],[113,27,113,28],[114,1,114,6],[114,9,114,10],[114,12,114,13],[114,15,114,16],[114,18,114,19],[114,21,114,22],[114,24,114,25],[114,27,114,28],[113,1,113,6],[113,9,113,10],[113,15,113,16],[113,18,113,19],[113,21,113,22],[113,24,113,25],[111,24,111,25],[111,27,111,28],[112,1,112,6],[112,9,112,10],[112,12,112,13],[112,15,112,16],[112,18,112,19],[112,21,112,22],[112,24,112,25],[112,27,112,28],[111,1,111,6],[111,9,111,10],[111,12,111,13],[111,15,111,16],[111,18,111,19],[111,21,111,22],[109,27,109,28],[110,1,110,6],[110,9,110,10],[110,12,110,13],[110,15,110,16],[110,18,110,19],[110,21,110,22],[110,24,110,25],[110,27,110,28],[107,24,107,26],[107,27,107,29],[108,1,108,6],[109,1,109,6],[109,9,109,10],[109,12,109,13],[109,15,109,16],[109,18,109,19],[109,21,109,22],[109,24,109,25],[106,22,106,23],[106,25,106,26],[106,28,106,29],[107,1,107,6],[107,7,107,8],[107,9,107,11],[107,12,107,14],[107,15,107,17],[107,18,107,20],[107,21,107,23],[106,1,106,6],[106,7,106,8],[106,10,106,11],[106,13,106,14],[106,16,106,17],[106,19,106,20],[104,24,104,25],[104,27,104,28],[105,1,105,6],[105,9,105,10],[105,12,105,13],[105,15,105,16],[105,18,105,19],[105,21,105,22],[105,24,105,25],[105,27,105,28],[104,1,104,6],[104,9,104,10],[104,12,104,13],[104,15,104,16],[104,18,104,19],[104,21,104,22],[102,27,102,28],[103,1,103,6],[103,9,103,10],[103,12,103,13],[103,15,103,16],[103,18,103,19],[103,21,103,22],[103,24,103,25],[103,27,103,28],[100,24,100,26],[100,27,100,29],[101,1,101,6],[102,1,102,6],[102,9,102,10],[102,12,102,13],[102,15,102,16],[102,18,102,19],[102,21,102,22],[102,24,102,25],[99,22,99,23],[99,25,99,26],[99,28,99,29],[100,1,100,6],[100,7,100,8],[100,9,100,11],[100,12,100,14],[100,15,100,17],[100,18,100,20],[100,21,100,23],[99,1,99,6],[99,7,99,8],[99,10,99,11],[99,13,99,14],[99,16,99,17],[99,19,99,20],[97,24,97,25],[97,27,97,28],[98,1,98,6],[98,9,98,10],[98,12,98,13],[98,15,98,16],[98,18,98,19],[98,21,98,22],[98,24,98,25],[98,27,98,28],[97,1,97,6],[97,9,97,10],[97,12,97,13],[97,15,97,16],[97,18,97,19],[97,21,97,22],[95,24,95,25],[95,27,95,28],[96,1,96,6],[96,9,96,10],[96,12,96,13],[96,15,96,16],[96,18,96,19],[96,21,96,22],[96,24,96,25],[96,27,96,28],[95,1,95,6],[95,9,95,10],[95,12,95,13],[95,15,95,16],[95,18,95,19],[95,21,95,22],[93,24,93,25],[93,27,93,28],[94,1,94,6],[94,9,94,10],[94,12,94,13],[94,15,94,16],[94,18,94,19],[94,21,94,22],[94,24,94,25],[94,27,94,28],[93,1,93,6],[93,9,93,10],[93,12,93,13],[93,15,93,16],[93,18,93,19],[93,21,93,22],[91,21,91,22],[91,24,91,25],[91,27,91,28],[92,1,92,6],[92,9,92,10],[92,12,92,13],[92,15,92,16],[90,1,90,6],[91,1,91,6],[91,9,91,10],[91,12,91,13],[91,15,91,16],[91,18,91,19],[88,28,88,29],[89,1,89,6],[89,7,89,8],[89,9,89,11],[89,12,89,14],[89,15,89,17],[89,18,89,20],[89,21,89,23],[89,24,89,26],[89,27,89,29],[87,24,87,25],[87,27,87,28],[88,1,88,6],[88,7,88,8],[88,10,88,11],[88,13,88,14],[88,16,88,17],[88,19,88,20],[88,22,88,23],[88,25,88,26],[87,1,87,6],[87,9,87,10],[87,12,87,13],[87,15,87,16],[87,18,87,19],[87,21,87,22],[85,24,85,25],[85,27,85,28],[86,1,86,6],[86,9,86,10],[86,12,86,13],[86,15,86,16],[86,18,86,19],[86,21,86,22],[86,24,86,25],[86,27,86,28],[85,1,85,6],[85,9,85,10],[85,12,85,13],[85,15,85,16],[85,18,85,19],[85,21,85,22],[83,24,83,25],[83,27,83,28],[84,1,84,6],[84,9,84,10],[84,12,84,13],[84,15,84,16],[84,18,84,19],[84,21,84,22],[84,24,84,25],[84,27,84,28],[83,1,83,6],[83,9,83,10],[83,12,83,13],[83,15,83,16],[83,18,83,19],[83,21,83,22],[81,24,81,25],[81,27,81,28],[82,1,82,6],[82,9,82,10],[82,12,82,13],[82,15,82,16],[82,18,82,19],[82,21,82,22],[82,24,82,25],[82,27,82,28],[81,1,81,6],[81,9,81,10],[81,12,81,13],[81,15,81,16],[81,18,81,19],[81,21,81,22],[79,27,79,28],[80,1,80,6],[80,9,80,10],[80,12,80,13],[80,15,80,16],[80,18,80,19],[80,21,80,22],[80,24,80,25],[80,27,80,28],[78,21,78,22],[78,24,78,25],[78,27,78,28],[79,1,79,6],[79,9,79,10],[79,12,79,13],[79,15,79,16],[79,18,79,19],[79,21,79,22],[79,24,79,25],[77,1,77,6],[78,1,78,6],[78,9,78,10],[78,12,78,13],[78,15,78,16],[78,18,78,19],[75,28,75,29],[76,1,76,6],[76,7,76,8],[76,9,76,11],[76,12,76,14],[76,15,76,17],[76,18,76,20],[76,21,76,23],[76,24,76,26],[76,27,76,29],[74,24,74,26],[74,27,74,29],[75,1,75,6],[75,7,75,8],[75,10,75,11],[75,13,75,14],[75,16,75,17],[75,19,75,20],[75,22,75,23],[75,25,75,26],[74,1,74,6],[74,9,74,10],[74,12,74,13],[74,15,74,16],[74,18,74,20],[74,21,74,23],[72,24,72,26],[72,27,72,29],[73,1,73,6],[73,9,73,10],[73,12,73,13],[73,15,73,16],[73,18,73,20],[73,21,73,23],[73,24,73,26],[73,27,73,29],[72,1,72,6],[72,9,72,10],[72,12,72,13],[72,15,72,16],[72,18,72,20],[72,21,72,23],[70,24,70,26],[70,27,70,29],[71,1,71,6],[71,9,71,10],[71,12,71,13],[71,15,71,16],[71,18,71,20],[71,21,71,23],[71,24,71,26],[71,27,71,29],[70,1,70,6],[70,9,70,10],[70,12,70,13],[70,15,70,16],[70,18,70,20],[70,21,70,23],[68,24,68,26],[68,27,68,29],[69,1,69,6],[69,9,69,10],[69,12,69,13],[69,15,69,16],[69,18,69,20],[69,21,69,23],[69,24,69,26],[69,27,69,29],[68,1,68,6],[68,9,68,10],[68,12,68,13],[68,15,68,16],[68,18,68,20],[68,21,68,23],[66,27,66,29],[67,1,67,6],[67,9,67,10],[67,12,67,13],[67,15,67,16],[67,18,67,20],[67,21,67,23],[67,24,67,26],[67,27,67,29],[64,24,64,25],[64,27,64,28],[65,1,65,6],[66,1,66,6],[66,9,66,10],[66,12,66,13],[66,15,66,16],[66,18,66,20],[66,21,66,23],[66,24,66,26],[64,1,64,6],[64,9,64,10],[64,12,64,13],[64,15,64,16],[64,18,64,19],[64,21,64,22],[62,24,62,25],[62,27,62,28],[63,1,63,6],[63,9,63,10],[63,12,63,13],[63,15,63,16],[63,18,63,19],[63,21,63,22],[63,24,63,25],[63,27,63,28],[62,1,62,6],[62,9,62,10],[62,12,62,13],[62,15,62,16],[62,18,62,19],[62,21,62,22],[60,27,60,28],[61,1,61,6],[61,9,61,10],[61,12,61,13],[61,15,61,16],[61,18,61,19],[61,21,61,22],[61,24,61,25],[61,27,61,28],[58,24,58,26],[58,27,58,29],[59,1,59,6],[60,1,60,6],[60,9,60,10],[60,12,60,13],[60,15,60,16],[60,18,60,19],[60,21,60,22],[60,24,60,25],[57,22,57,23],[57,25,57,26],[57,28,57,29],[58,1,58,6],[58,7,58,8],[58,9,58,11],[58,12,58,14],[58,15,58,17],[58,18,58,20],[58,21,58,23],[57,1,57,6],[57,7,57,8],[57,10,57,11],[57,13,57,14],[57,16,57,17],[57,19,57,20],[55,1,55,29],[56,7,56,8],[56,9,56,11],[56,12,56,14],[56,15,56,17],[56,18,56,20],[56,21,56,23],[56,24,56,26],[56,27,56,29],[52,27,52,29],[53,1,53,6],[53,7,53,8],[53,9,53,11],[53,12,53,14],[53,15,53,17],[53,18,53,20],[53,21,53,23],[53,24,53,26],[53,27,53,29],[51,24,51,26],[51,27,51,29],[52,1,52,6],[52,7,52,8],[52,9,52,11],[52,12,52,14],[52,15,52,17],[52,18,52,20],[52,21,52,23],[52,24,52,26],[50,21,50,23],[50,24,50,26],[50,27,50,29],[51,1,51,6],[51,7,51,8],[51,9,51,11],[51,12,51,14],[51,15,51,17],[51,18,51,20],[51,21,51,23],[50,1,50,6],[50,7,50,8],[50,9,50,11],[50,12,50,14],[50,15,50,17],[50,18,50,20],[48,27,48,29],[49,1,49,6],[49,7,49,8],[49,9,49,11],[49,12,49,14],[49,15,49,17],[49,18,49,20],[49,21,49,23],[49,24,49,26],[49,27,49,29],[47,24,47,26],[47,27,47,29],[48,1,48,6],[48,7,48,8],[48,9,48,11],[48,12,48,14],[48,15,48,17],[48,18,48,20],[48,21,48,23],[48,24,48,26],[46,21,46,23],[46,24,46,26],[46,27,46,29],[47,1,47,6],[47,7,47,8],[47,9,47,11],[47,12,47,14],[47,15,47,17],[47,18,47,20],[47,21,47,23],[46,1,46,6],[46,7,46,8],[46,9,46,11],[46,12,46,14],[46,15,46,17],[46,18,46,20],[44,27,44,29],[45,1,45,6],[45,7,45,8],[45,9,45,11],[45,12,45,14],[45,15,45,17],[45,18,45,20],[45,21,45,23],[45,24,45,26],[45,27,45,29],[43,24,43,26],[43,27,43,29],[44,1,44,6],[44,7,44,8],[44,9,44,11],[44,12,44,14],[44,15,44,17],[44,18,44,20],[44,21,44,23],[44,24,44,26],[42,21,42,23],[42,24,42,26],[42,27,42,29],[43,1,43,6],[43,7,43,8],[43,9,43,11],[43,12,43,14],[43,15,43,17],[43,18,43,20],[43,21,43,23],[41,18,41,20],[41,21,41,23],[41,24,41,26],[41,27,41,29],[42,1,42,6],[42,7,42,8],[42,9,42,11],[42,12,42,14],[42,15,42,17],[42,18,42,20],[32,27,33,29],[36,1,36,8],[39,1,39,29],[40,1,41,6],[40,7,40,17],[40,19,40,29],[41,7,41,8],[41,9,41,11],[41,12,41,14],[41,15,41,17],[31,21,31,23],[31,24,31,26],[31,27,31,29],[32,7,33,8],[32,9,33,11],[32,12,33,14],[32,15,33,17],[32,18,33,20],[32,21,33,23],[32,24,33,26],[31,1,33,6],[31,7,31,8],[31,9,31,11],[31,12,31,14],[31,15,31,17],[31,18,31,20],[26,24,26,26],[26,27,26,29],[27,7,28,8],[27,9,28,11],[27,12,28,14],[27,15,28,17],[27,18,28,20],[27,21,28,23],[27,24,28,26],[27,27,28,29],[23,21,24,23],[23,24,24,26],[23,27,24,29],[26,1,28,6],[26,7,26,8],[26,9,26,11],[26,12,26,14],[26,15,26,17],[26,18,26,20],[26,21,26,23],[23,3,24,6],[23,7,24,8],[23,9,24,11],[23,12,24,14],[23,15,24,17],[23,18,24,20],[20,27,20,29],[21,7,22,8],[21,9,22,11],[21,12,22,14],[21,15,22,17],[21,18,22,20],[21,21,22,23],[21,24,22,26],[21,27,22,29],[16,24,17,26],[16,27,17,29],[20,1,22,6],[20,7,20,8],[20,9,20,11],[20,12,20,14],[20,15,20,17],[20,18,20,20],[20,21,20,23],[20,24,20,26],[16,7,17,8],[16,9,17,11],[16,12,17,14],[16,15,17,17],[16,18,17,20],[16,21,17,23],[13,27,13,29],[15,1,17,6],[15,7,15,8],[15,9,15,11],[15,12,15,14],[15,15,15,17],[15,18,15,20],[15,21,15,23],[15,24,15,26],[15,27,15,29],[11,24,12,26],[11,27,12,29],[13,3,13,6],[13,7,13,8],[13,9,13,11],[13,12,13,14],[13,15,13,17],[13,18,13,20],[13,21,13,23],[13,24,13,26],[10,18,10,20],[10,21,10,23],[10,24,10,26],[10,27,10,29],[11,7,12,8],[11,9,12,11],[11,12,12,14],[11,15,12,17],[11,18,12,20],[11,21,12,23],[8,3,8,6],[8,9,8,11],[8,12,8,14],[8,15,8,17],[9,8,9,29],[10,1,12,6],[10,7,10,8],[10,9,10,11],[10,12,10,14],[10,15,10,17],[0,13,0,30],[1,13,1,19],[1,23,1,29],[2,1,2,6],[2,8,7,17],[2,36,17,43],[5,1,5,2],[5,3,5,6],[7,1,7,2],[7,3,7,6]]}
[null,null,null,null,null,null,null,null,null,null,null,null,null,"Outcome Measurement Tool (OMT)\nMA - Victim Witness Assistance Board\n\nNeed Support? Contact MOVAstats@mass.gov."]
[null,"SAFEPLAN Individual Court Data",null,null,null,null,null,null,null,null,null,null,null,"Court Tab 1",null,null,null,null,null,null,null,null,null,"(#1) DATA ENTRY TAB",null,null,null,null,null,null,null,null,null,null,null,null,"NOTES:"]
[null,"Enter the court name and then specified data for this court in the fields below.",null,null,null,null,null,null,"\nINSTRUCTIONS: This section should be completed each reporting period and each tab in one court ONLY. Use the areas in beige to enter the specified information.\n\n Once you have assigned a court to each tab, you will continue to report on that court within the same tab for each reporting period similar to how data was tracked and submitted in the previous reports."]
[]
[]
[null,"Court Name:",null,"Insert COURT NAME Here"]
[]
[null,"Reporting Period:",null,{"$f":"'1. Overall Demographics'!D8","v":"Period 1 (July 1 - September 30 2023)"}]
[null,null,null,"period can be selected on tab 1. Overall Demographics",null,null,null,"Period 1 (July 1 - September 30 2022)",null,"Period 2 (October 1 - December 31 2022)",null,null,"Period 3 (January 1 - March 31 2023)",null,null,"Period 4 (April 1 - June 30 2023)"]
[null,null,null,null,null,null,null,null,"KEY DEFINITIONS: \n\nCount each NEW individual in only one race/ethnicity type as self-reported. Individuals who self-report in more than one category should be counted in the \"Multiple Races\" category. The total number in each demographic category should equal the number of NEW individuals reported in Section 3. This data is used for statistical purposes to comply with Federal regulations.\n\nAll \"0\" entries must represent a true value of zero.\n\nIf no data is collected for a category, select \"Not Tracked\" from the list of options in the associated race/ethnicity category. This means that as a subgrantee, you are not able to submit data in this category due to the need to update this in your data tracking system, but that efforts are underway to track data as requested. Report in the \"Not Tracked\" section the number of individuals whose demographic data were not tracked.\n\nIf no data is collected for an individual, count that individual in the Not Reported category. This means that this data is collected by your organization, but it was not provided by the person completing the intake form.\n\nIf you select \"Other\" from the dropdown options, enter an explanation next to your response or this will be marked as missing data in the system."]
[null,"SECTION 1: TOTAL number of individuals who received services during the reporting period:",null,null,null,null,null,"Period 1 (July 1 - September 30 2023)",null,"Period 2 (October 1 - December 31 2023)",null,null,"Period 3 (January 1 - March 31 2024)",null,null,"Period 4 (April 1 - June 30 2024)",null,null,"Reporting Period 5",null,null,"Reporting Period 6",null,null,"Reporting Period 7",null,null,"Reporting Period 8"]
[]
[]
[]
[]
[null,"SECTION 2: TOTAL number of anonymous contacts received during the reporting period: ",null,null,null,null,null,"Reporting Period 1",null,"Reporting Period 2",null,null,"Reporting Period 3",null,null,"Reporting Period 4",null,null,"Reporting Period 5",null,null,"Reporting Period 6",null,null,"Reporting Period 7",null,null,"Reporting Period 8"]
[]
[]
[]
[]
[null,"SECTION 3: Of the number of individuals entered in question 1, how many were NEW individuals who received services from your agency for the first time during the reporting period: ",null,null,null,null,null,"Reporting Period 1",null,"Reporting Period 2",null,null,"Reporting Period 3",null,null,"Reporting Period 4",null,null,"Reporting Period 5",null,null,"Reporting Period 6",null,null,"Reporting Period 7",null,null,"Reporting Period 8"]
[]
[]
[]
[]
[]
[null,"SECTION 4: TOTAL number of individuals with NO PRIOR CONTACT with a DV/SA Agency during the reporting period: ",null,null,null,null,null,"Reporting Period 1",null,"Reporting Period 2",null,null,"Reporting Period 3",null,null,"Reporting Period 4",null,null,"Reporting Period 5",null,null,"Reporting Period 6",null,null,"Reporting Period 7",null,null,"Reporting Period 8"]
[]
[]
[]
[]
[null,"SECTION 5: AUTOCALCULATED: TOTAL number of continuing individuals during the reporting period: ",null,null,null,null,null,"Reporting Period 1",null,"Reporting Period 2",null,null,"Reporting Period 3",null,null,"Reporting Period 4",null,null,"Reporting Period 5",null,null,"Reporting Period 6",null,null,"Reporting Period 7",null,null,"Reporting Period 8"]
[null,null,null,null,null,null,null,{"$f":"H12-H22","v":0},null,{"$f":"J12-J22","v":0},null,null,{"$f":"M12-M22","v":0},null,null,{"$f":"P12-P22","v":0},null,null,0,null,null,{"$f":"V12-V22","v":0},null,null,{"$f":"Y12-Y22","v":0},null,null,0]
[]
[]
[]
[null,"Is your agency able to track NEW individuals throughout the Fiscal Year?",null,null,null,null,null,null,null,null,"Select one."]
[]
[]
[null,"SECTION 6: Types of Abuse Alleged: Enter the number of Individuals who Received Services Based on the Type of Alleged Abuse During the Reporting Period - ALL individuals\nAn individual MAY be counted in more than one classification."]
[null,"Type of Alleged Abuse",null,null,null,null,null,"Number of Individuals",null,null,null,null,null,null,null,null,null,null,null,"Number of Individuals - Year 2"]
[null,null,null,null,null,null,null,"Reporting Period 1",null,"Reporting Period 2",null,null,"Reporting Period 3",null,null,"Reporting Period 4",null,null,"Reporting Period 5",null,null,"Reporting Period 6",null,null,"Reporting Period 7",null,null,"Reporting Period 8"]
[null,"Attempted physical harm (209A)"]
[null,"Caused physical harm (209A)"]
[null,"Imminent Fear (209A)"]
[null,"Sexual Assault (209A)"]
[null,"Stalking (258E)"]
[null,"Sexual Assault (258E)"]
[null,"Criminal Harassment (258E)"]
[null,"Other (please specify below): "]
[]
[]
[]
[]
[]
[null,"SECTION 7:  Services Received\n1) First select the types of services provided by the court covered within this tab and use the dropdown options to report Yes/No for services received during the reporting period in reference (e.g., select Yes or No for A. Information & Referral in Reporting Period 4)\n2) Then enter the total number of individuals who received that type of services within the service categories and programs\n3) Then enter the number of times each specific service was provided by this court during the reporting period within each of the provided categories (e.g., information about the criminal justice process) using the beige/yellow boxes only (note: some boxes automatically total the subcategories and entries from elsewhere in the column)\n"]
[null,null,null,null,null,null,null,"Reporting Period 1",null,"Reporting Period 2",null,null,"Reporting Period 3",null,null,"Reporting Period 4",null,null,"Reporting Period 5",null,null,"Reporting Period 6",null,null,"Reporting Period 7",null,null,"Reporting Period 8"]
[null,"A. Information & Referral",null,null,null,null,null,"Yes or No?",null,null,"Yes or No?",null,null,"Yes or No?",null,null,"Yes or No?",null,null,"Yes or No?",null,null,"Yes or No?",null,null,"Yes or No?",null,null,"Yes or No?"]
[null,"Number of Individuals"]
[null,"Number of Times/Occurrences",null,null,null,null,null,null,{"$f":"SUM(H62:H65)","v":0},null,null,{"$f":"SUM(J62:K65)","v":0},null,null,{"$f":"SUM(M62:N65)","v":0},null,null,{"$f":"SUM(P62:Q65)","v":0},null,null,{"$f":"SUM(S61:T65)","v":0},null,null,{"$f":"SUM(V61:W65)","v":0},null,null,{"$f":"SUM(Y61:Z65)","v":0},null,null,{"$f":"SUM(AB61:AC65)","v":0}]
[null,"SAFEPLAN Information & Referrals \nInclude counts of referrals made during in-person, virtual, or phone based service provision. Specify referral type in section below."]
[null,"1. Information about the criminal justice process"]
[null,"2. Information on victim rights/how to obtain notifications"]
[null,"3. Referral to other victim service programs"]
[null,"4. Referral to other services/supports/resources (includes legal, medical, faith-based organizations, address confidentiality programs, etc.)"]
[null,"Information & Referral - Referrals Descriptions\nSpecify type of referral provided for each referral counted above",null,null,null,null,null,null,{"$f":"SUM(H67,H68,H69,H70,H71,H72,H73,H74,H75)","v":0},null,null,{"$f":"SUM(J67:K75)","v":0},null,null,{"$f":"SUM(M67:N75)","v":0},null,null,{"$f":"SUM(P67:Q75)","v":0},null,null,{"$f":"SUM(S67,S68,S69,S70,S71,S72,#REF!,#REF!,S75)","v":{"$error":"#REF!"}},null,null,{"$f":"SUM(V67,V68,V69,V70,V71,V72,#REF!,#REF!,V75)","v":{"$error":"#REF!"}},null,null,{"$f":"SUM(Y67,Y68,Y69,Y70,Y71,Y72,#REF!,#REF!,Y75)","v":{"$error":"#REF!"}},null,null,{"$f":"SUM(AB67,AB68,AB69,AB70,AB71,AB72,#REF!,#REF!,AB75)","v":{"$error":"#REF!"}}]
[null,"DV Program"]
[null,"SA Program"]
[null,"DA's Office"]
[null,"Legal Services"]
[null,"Police"]
[null,"Other Court Personnel"]
[null,"Victim Compensation"]
[null,"Medical Referral"]
[null,"Other"]
[null,"B. Personal Advocacy/Accompaniment",null,null,null,null,null,"Yes or No?",null,null,"Yes or No?",null,null,"Yes or No?",null,null,"Yes or No?",null,null,"Yes or No?",null,null,"Yes or No?",null,null,"Yes or No?",null,null,"Yes or No?"]
[null,"Number of Individuals"]
[null,"Number of Times/Occurrences",null,null,null,null,null,null,{"$f":"SUM(H80:H88)","v":0},null,null,{"$f":"SUM(J80:K88)","v":0},null,null,{"$f":"SUM(M80:N88)","v":0},null,null,{"$f":"SUM(P80:Q88)","v":0},null,null,{"$f":"SUM(S78:S88)","v":0},null,null,{"$f":"SUM(V78:V88)","v":0},null,null,{"$f":"SUM(Y78:Y88)","v":0},null,null,{"$f":"SUM(AB78:AB88)","v":0}]
[null,"SAFEPLAN Personal Advocacy/Accompaniment"]
[null,"1. Victim advocacy/accompaniment to emergency medical care"]
[null,"2. Victim advocacy/accompaniment to medical forensic exam"]
[null,"3. Law enforcement interview advocacy/accompaniment"]
[null,"4. Individual advocacy"]
[null,"5. Performance of medical or nonmedical forensic exam or interview, or medical evidence collection"]
[null,"6. Immigration assistance (e.g., special visas, continued presence application, and other immigration relief)"]
[null,"7. Intervention with employer, creditor, landlord, or academic institution"]
[null,"8. Child or dependent care assistance (includes coordination of services)"]
[null,"9. Interpreter services"]
[null,"C. Emotional Support or Safety Services",null,null,null,null,null,"Yes or No?",null,null,"Yes or No?",null,null,"Yes or No?",null,null,"Yes or No?",null,null,"Yes or No?",null,null,"Yes or No?",null,null,"Yes or No?",null,null,"Yes or No?"]
[null,"Number of Individuals"]
[null,"Number of Times/Occurrences",null,null,null,null,null,null,{"$f":"SUM(H93:H99)","v":0},null,null,{"$f":"SUM(J93:K99)","v":0},null,null,{"$f":"SUM(M93:N99)","v":0},null,null,{"$f":"SUM(P93:Q99)","v":0},null,null,{"$f":"SUM(S92:S99)","v":0},null,null,{"$f":"SUM(V92:V99)","v":0},null,null,{"$f":"SUM(Y92:Y99)","v":0},null,null,{"$f":"SUM(AB92:AB99)","v":0}]
[null,"SAFEPLAN Emotional Support or Safety Services "]
[null,"1. Crisis intervention (in-person, includes safety planning, etc.)"]
[null,"2. Hotline/crisis line counseling"]
[null,"3. On-scene crisis response (e.g., community crisis response)"]
[null,"4. Individual counseling"]
[null,"5. Support groups (facilitated or peer)"]
[null,"6. Other therapy (traditional, cultural, or alternative healing; art, writing, or play therapy, etc.)"]
[null,"7. Emergency financial assistance (includes emergency loans and petty cash, payment for items such as food and/or clothing, changing windows and/or locks, taxis, prophylactic and nonprophylactic medications, durable medical equipment, etc.)"]
[null,"D. Shelter/Housing Services",null,null,null,null,null,"Yes or No?",null,null,"Yes or No?",null,null,"Yes or No?",null,null,"Yes or No?",null,null,"Yes or No?",null,null,"Yes or No?",null,null,"Yes or No?",null,null,"Yes or No?"]
[null,"Number of Individuals"]
[null,"Number of Times/Occurrences",null,null,null,null,null,null,{"$f":"SUM(H104:H106)","v":0},null,null,{"$f":"SUM(J104:K106)","v":0},null,null,{"$f":"SUM(M104:N106)","v":0},null,null,{"$f":"SUM(P104:Q106)","v":0},null,null,{"$f":"SUM(S103:S106)","v":0},null,null,{"$f":"SUM(V103:V106)","v":0},null,null,{"$f":"SUM(Y103:Y106)","v":0},null,null,{"$f":"SUM(AB103:AB106)","v":0}]
[null,"SAFEPLAN Shelter/Housing Services"]
[null,"1. Emergency shelter or safe house"]
[null,"2. Transitional housing"]
[null,"3. Relocation assistance (includes assistance with obtaining housing)"]
[null,"E. Criminal/Civil Justice System Assistance",null,null,null,null,null,"Yes or No?",null,null,"Yes or No?",null,null,"Yes or No?",null,null,"Yes or No?",null,null,"Yes or No?",null,null,"Yes or No?",null,null,"Yes or No?",null,null,"Yes or No?"]
[null,"Number of Individuals"]
[null,"Number of Times/Occurrences",null,null,null,null,null,null,{"$f":"SUM(H111:H113,H115:H121,I114)","v":0},null,null,{"$f":"SUM(J111:K113,J115:K121,L114)","v":0},null,null,{"$f":"SUM(M111:N113,M115:N121,O114)","v":0},null,null,{"$f":"SUM(P111:Q113,P115:Q121,R114)","v":0},null,null,{"$f":"SUM(S110:S121)","v":0},null,null,{"$f":"SUM(V110:V121)","v":0},null,null,{"$f":"SUM(Y110:Y121)","v":0},null,null,{"$f":"SUM(AB110:AB121)","v":0}]
[null,"SAFEPLAN Criminal/Civil Justice System Assistance ",null,null,null,null,null,null,null,null,null,null,null,null,null,null,null,null,null,null,{"$f":"SUM(T111:T150)","v":0},null,null,{"$f":"SUM(W111:W150)","v":0},null,null,{"$f":"SUM(Z111:Z150)","v":0},null,null,{"$f":"SUM(AC111:AC150)","v":0}]
[null,"1. Notification of criminal justice events (e.g., case status, arrest, court proceedings, case disposition, release, etc.)"]
[null,"2. Victim impact statement assistance"]
[null,"3. Assistance with restitution (includes assistance in requesting and when collection efforts are not successful)"]
[null,"4. Civil legal assistance in obtaining protection or restraining order (auto-calculated based on 209A and 258E advocacy & accompaniment counts reported in description section below)",null,null,null,null,null,null,{"$f":"SUM(I123,I136)","v":0},null,null,{"$f":"SUM(L123,L136)","v":0},null,null,{"$f":"SUM(O123,O136)","v":0},null,null,{"$f":"SUM(R123,R136)","v":0}]
[null,"5. Civil legal assistance with family law issues (e.g., custody, visitation, or support)"]
[null,"6. Other emergency justice‐related assistance"]
[null,"7. Immigration assistance (e.g., special visas, continued presence application, and other immigration relief)"]
[null,"8. Prosecution interview advocacy/accompaniment"]
[null,"9. Law enforcement interview advocacy/accompaniment"]
[null,"10. Criminal advocacy/accompaniment"]
[null,"11. Other legal advice and/or counsel"]
[null,"209A & 258E Events\nSpecify civil legal assistance provided for each 209A or 258E event"]
[null,"209A Abuse Prevention Order/Restraining Order Events",null,null,null,null,null,null,{"$f":"SUM(H124:H125)","v":0},null,null,{"$f":"SUM(J124:K125)","v":0},null,null,{"$f":"SUM(M124:N125)","v":0},null,null,{"$f":"SUM(P124:Q125)","v":0}]
[null,"1. 209A Advocacy"]
[null,"2. 209A Accompaniment"]
[null,null,"209A Accompaniment Detail - Provide additional details below about each accompaniment instance counted above"]
[null,null,null,null,"Motion to Terminate Granted (Plaintiff)"]
[null,null,null,null,"Motion to Terminate Denied (Plaintiff)"]
[null,null,null,null,"Temporary Restraining Order - Requested"]
[null,null,null,null,"Temporary Restraining Order - Granted"]
[null,null,null,null,"Temporary Restraining Order - Scheduled for Hearing after Notice"]
[null,null,null,null,"Temporary Restraining Order - Denied"]
[null,null,null,null,"Final Restraining Order - Requested"]
[null,null,null,null,"Final Restraining Order - Granted"]
[null,null,null,null,"Final Restraining Order - Denied"]
[null,"258E Harassment Prevention Order Events",null,null,null,null,null,null,{"$f":"SUM(H137:H138)","v":0},null,null,{"$f":"SUM(J137:K138)","v":0},null,null,{"$f":"SUM(M137:N138)","v":0},null,null,{"$f":"SUM(P137:Q138)","v":0}]
[null,"1. 258E Advocacy"]
[null,"2. 258E Accompaniment"]
[null,null,"258E Accompaniment Detail - Provide additional details below about each accompaniment instance counted above"]
[null,null,null,null,"Motion to Terminate Granted (Plaintiff)"]
[null,null,null,null,"Motion to Terminate Denied (Plaintiff)"]
[null,null,null,null,"Temporary Harassment Order - Requested"]
[null,null,null,null,"Temporary Harassment Order - Granted"]
[null,null,null,null,"Temporary Harassment Order - Scheduled for Hearing after Notice"]
[null,null,null,null,"Temporary Harassment Order - Denied"]
[null,null,null,null,"Final Harassment Order - Requested"]
[null,null,null,null,"Final Harassment Order - Granted"]
[null,null,null,null,"Final Harassment Order - Denied"]
[null,"Additional Comments: "]
[null,"Insert response here. "]
[]
[]
[]
[]
["O","8. Number of requests for services that were unmet because of organizational capacity issues: ",null,null,null,null,null,"Reporting Period 1",null,"Reporting Period 2",null,null,"Reporting Period 3",null,null,"Reporting Period 4",null,null,"Reporting Period 5",null,null,"Reporting Period 6",null,null,"Reporting Period 7",null,null,"Reporting Period 8"]
[]
[]
[null,"Please Explain. "]
[]
[]
[]
[]
[]
["O","9. Does your organization formally survey clients for feedback on services received? ",null,null,null,null,null,null,null,null,null,"Select one."]
[]
["O","10. Number of surveys distributed to clients (included, but not limited to, those distributed by hand, mail or electronic methods):",null,null,null,null,null,"Reporting Period 1",null,"Reporting Period 2",null,null,"Reporting Period 3",null,null,"Reporting Period 4",null,null,"Reporting Period 5",null,null,"Reporting Period 6",null,null,"Reporting Period 7",null,null,"Reporting Period 8"]
[]
[]
[]
["O","11. Number of surveys completed by clients: ",null,null,null,null,null,"Reporting Period 1",null,"Reporting Period 2",null,null,"Reporting Period 3",null,null,"Reporting Period 4",null,null,"Reporting Period 5",null,null,"Reporting Period 6",null,null,"Reporting Period 7",null,null,"Reporting Period 8"]
[]
[]
[]
["O","12. Does your organization formally survey staff for feedback on trainings received? ",null,null,null,null,null,null,null,null,null,"Select one."]
[]
["O","13. Number of surveys distributed to staff (included, but not limited to, those distributed by hand, mail or electronic methods):",null,null,null,null,null,"Reporting Period 1",null,"Reporting Period 2",null,null,"Reporting Period 3",null,null,"Reporting Period 4",null,null,"Reporting Period 5",null,null,"Reporting Period 6",null,null,"Reporting Period 7",null,null,"Reporting Period 8"]
[]
[]
[]
["O","14. Number of surveys completed by staff: ",null,null,null,null,null,"Reporting Period 1",null,"Reporting Period 2",null,null,"Reporting Period 3",null,null,"Reporting Period 4",null,null,"Reporting Period 5",null,null,"Reporting Period 6",null,null,"Reporting Period 7",null,null,"Reporting Period 8"]
[]
[]
[]
[]
[null,"15. Please discuss some of the challenges your victim assistance program faced during the course of the federal fiscal year: "]
["O"]
[null,"Year 1",null,null,null,null,null,null,null,null,null,null,null,null,null,null,"Year 2"]
[null,"Insert response here. ",null,null,null,null,null,null,null,null,null,null,null,null,null,null,"Insert response here. "]
[]
[]
[]
[]
[]
[]
[]
[]
[]
[]
[]
[]
[]
[null,"16. Please describe some of the services that victims needed but could not be provided. What were the challenges that prevented those services from being provided: "]
["O"]
[null,"Year 1",null,null,null,null,null,null,null,null,null,null,null,null,null,null,"Year 2"]
[null,"Insert response here. ",null,null,null,null,null,null,null,null,null,null,null,null,null,null,"Insert response here."]
[]
[]
[]
[]
[]
[]
[]
[]
[]
[]
[]
[]
[]
["O","OPTIONAL. Please share a success story or client spotlight in the space below. Do not include any identifying or confidential information. "]
[]
[null,"Year 1",null,null,null,null,null,null,null,null,null,null,null,null,null,null,"Year 2"]
[null,"Insert response here. ",null,null,null,null,null,null,null,null,null,null,null,null,null,null,"Insert response here."]

{"sheet":"1.3 Sample Court Tab","index":7,"n_rows":222,"n_cols":37,"rows_kept":222,"cut":false,"hidden":false,"merged":[[220,1,220,14],[220,16,220,30],[221,1,233,14],[221,16,233,30],[201,1,202,30],[203,1,203,14],[203,16,203,30],[204,1,216,14],[204,16,216,30],[218,0,219,0],[218,1,219,30],[180,27,181,29],[184,1,185,16],[186,1,186,14],[186,16,186,30],[187,1,199,14],[187,16,199,30],[179,21,179,23],[179,24,179,26],[179,27,179,29],[180,7,181,8],[180,9,181,11],[180,12,181,14],[180,15,181,17],[180,18,181,20],[180,21,181,23],[180,24,181,26],[179,1,181,6],[179,7,179,8],[179,9,179,11],[179,12,179,14],[179,15,179,17],[179,18,179,20],[175,24,175,26],[175,27,175,29],[176,7,177,8],[176,9,177,11],[176,12,177,14],[176,15,177,17],[176,18,177,20],[176,21,177,23],[176,24,177,26],[176,27,177,29],[170,24,171,26],[170,27,171,29],[173,11,173,14],[175,1,177,6],[175,7,175,8],[175,9,175,11],[175,12,175,14],[175,15,175,17],[175,18,175,20],[175,21,175,23],[170,7,171,8],[170,9,171,11],[170,12,171,14],[170,15,171,17],[170,18,171,20],[170,21,171,23],[166,27,167,29],[169,1,171,6],[169,7,169,8],[169,9,169,11],[169,12,169,14],[169,15,169,17],[169,18,169,20],[169,21,169,23],[169,24,169,26],[169,27,169,29],[165,21,165,23],[165,24,165,26],[165,27,165,29],[166,7,167,8],[166,9,167,11],[166,12,167,14],[166,15,167,17],[166,18,167,20],[166,21,167,23],[166,24,167,26],[155,27,156,29],[157,1,157,29],[158,1,161,29],[163,11,163,14],[165,1,167,6],[165,7,165,8],[165,9,165,11],[165,12,165,14],[165,15,165,17],[165,18,165,20],[154,21,154,23],[154,24,154,26],[154,27,154,29],[155,7,156,8],[155,9,156,11],[155,12,156,14],[155,15,156,17],[155,18,156,20],[155,21,156,23],[155,24,156,26],[154,1,156,6],[154,7,154,8],[154,9,154,11],[154,12,154,14],[154,15,154,17],[154,18,154,20],[147,4,147,6],[147,9,147,10],[147,12,147,13],[147,15,147,16],[148,1,148,29],[149,1,152,29],[145,24,145,25],[145,27,145,28],[146,4,146,6],[146,9,146,10],[146,12,146,13],[146,15,146,16],[145,4,145,6],[145,9,145,10],[145,12,145,13],[145,15,145,16],[145,18,145,19],[145,21,145,22],[143,24,143,25],[143,27,143,28],[144,4,144,6],[144,9,144,10],[144,12,144,13],[144,15,144,16],[144,18,144,19],[144,21,144,22],[144,24,144,25],[144,27,144,28],[143,4,143,6],[143,9,143,10],[143,12,143,13],[143,15,143,16],[143,18,143,19],[143,21,143,22],[141,24,141,25],[141,27,141,28],[142,4,142,6],[142,9,142,10],[142,12,142,13],[142,15,142,16],[142,18,142,19],[142,21,142,22],[142,24,142,25],[142,27,142,28],[141,4,141,6],[141,9,141,10],[141,12,141,13],[141,15,141,16],[141,18,141,19],[141,21,141,22],[139,27,139,28],[140,4,140,6],[140,9,140,10],[140,12,140,13],[140,15,140,16],[140,18,140,19],[140,21,140,22],[140,24,140,25],[140,27,140,28],[137,24,137,25],[137,27,137,28],[138,2,138,6],[139,4,139,6],[139,9,139,10],[139,12,139,13],[139,15,139,16],[139,18,139,19],[139,21,139,22],[139,24,139,25],[137,1,137,6],[137,9,137,10],[137,12,137,13],[137,15,137,16],[137,18,137,19],[137,21,137,22],[135,24,135,25],[135,27,135,28],[136,1,136,6],[136,9,136,10],[136,12,136,13],[136,15,136,16],[136,18,136,19],[136,21,136,22],[136,24,136,25],[136,27,136,28],[135,1,135,6],[135,9,135,10],[135,12,135,13],[135,15,135,16],[135,18,135,19],[135,21,135,22],[133,24,133,25],[133,27,133,28],[134,4,134,6],[134,9,134,10],[134,12,134,13],[134,15,134,16],[134,18,134,19],[134,21,134,22],[134,24,134,25],[134,27,134,28],[133,4,133,6],[133,9,133,10],[133,12,133,13],[133,15,133,16],[133,18,133,19],[133,21,133,22],[131,24,131,25],[131,27,131,28],[132,4,132,6],[132,9,132,10],[132,12,132,13],[132,15,132,16],[132,18,132,19],[132,21,132,22],[132,24,132,25],[132,27,132,28],[131,4,131,6],[131,9,131,10],[131,12,131,13],[131,15,131,16],[131,18,131,19],[131,21,131,22],[129,24,129,25],[129,27,129,28],[130,4,130,6],[130,9,130,10],[130,12,130,13],[130,15,130,16],[130,18,130,19],[130,21,130,22],[130,24,130,25],[130,27,130,28],[129,4,129,6],[129,9,129,10],[129,12,129,13],[129,15,129,16],[129,18,129,19],[129,21,129,22],[127,27,127,28],[128,4,128,6],[128,9,128,10],[128,12,128,13],[128,15,128,16],[128,18,128,19],[128,21,128,22],[128,24,128,25],[128,27,128,28],[126,21,126,22],[126,24,126,25],[126,27,126,28],[127,4,127,6],[127,9,127,10],[127,12,127,13],[127,15,127,16],[127,18,127,19],[127,21,127,22],[127,24,127,25],[125,2,125,6],[126,4,126,6],[126,9,126,10],[126,12,126,13],[126,15,126,16],[126,18,126,19],[123,1,123,6],[123,9,123,10],[123,12,123,13],[123,15,123,16],[124,1,124,6],[124,9,124,10],[124,12,124,13],[124,15,124,16],[121,24,121,25],[121,27,121,28],[122,1,122,6],[122,9,122,10],[122,12,122,13],[122,15,122,16],[120,18,120,19],[120,21,120,22],[120,24,120,25],[120,27,120,28],[121,1,121,6],[121,9,121,10],[121,12,121,13],[121,15,121,16],[121,18,121,19],[121,21,121,22],[119,1,119,6],[119,9,119,10],[119,12,119,13],[119,15,119,16],[120,1,120,6],[120,9,120,10],[120,12,120,13],[120,15,120,16],[117,1,117,6],[117,9,117,10],[117,12,117,13],[117,15,117,16],[118,1,118,6],[118,9,118,10],[118,12,118,13],[118,15,118,16],[115,1,115,6],[115,9,115,10],[115,12,115,13],[115,15,115,16],[116,1,116,6],[116,9,116,10],[116,12,116,13],[116,15,116,16],[113,27,113,28],[114,1,114,6],[114,9,114,10],[114,12,114,13],[114,15,114,16],[114,18,114,19],[114,21,114,22],[114,24,114,25],[114,27,114,28],[113,1,113,6],[113,9,113,10],[113,15,113,16],[113,18,113,19],[113,21,113,22],[113,24,113,25],[111,24,111,25],[111,27,111,28],[112,1,112,6],[112,9,112,10],[112,12,112,13],[112,15,112,16],[112,18,112,19],[112,21,112,22],[112,24,112,25],[112,27,112,28],[111,1,111,6],[111,9,111,10],[111,12,111,13],[111,15,111,16],[111,18,111,19],[111,21,111,22],[109,27,109,28],[110,1,110,6],[110,9,110,10],[110,12,110,13],[110,15,110,16],[110,18,110,19],[110,21,110,22],[110,24,110,25],[110,27,110,28],[107,24,107,26],[107,27,107,29],[108,1,108,6],[109,1,109,6],[109,9,109,10],[109,12,109,13],[109,15,109,16],[109,18,109,19],[109,21,109,22],[109,24,109,25],[106,22,106,23],[106,25,106,26],[106,28,106,29],[107,1,107,6],[107,7,107,8],[107,9,107,11],[107,12,107,14],[107,15,107,17],[107,18,107,20],[107,21,107,23],[106,1,106,6],[106,7,106,8],[106,10,106,11],[106,13,106,14],[106,16,106,17],[106,19,106,20],[104,24,104,25],[104,27,104,28],[105,1,105,6],[105,9,105,10],[105,12,105,13],[105,15,105,16],[105,18,105,19],[105,21,105,22],[105,24,105,25],[105,27,105,28],[104,1,104,6],[104,9,104,10],[104,12,104,13],[104,15,104,16],[104,18,104,19],[104,21,104,22],[102,27,102,28],[103,1,103,6],[103,9,103,10],[103,12,103,13],[103,15,103,16],[103,18,103,19],[103,21,103,22],[103,24,103,25],[103,27,103,28],[100,24,100,26],[100,27,100,29],[101,1,101,6],[102,1,102,6],[102,9,102,10],[102,12,102,13],[102,15,102,16],[102,18,102,19],[102,21,102,22],[102,24,102,25],[99,22,99,23],[99,25,99,26],[99,28,99,29],[100,1,100,6],[100,7,100,8],[100,9,100,11],[100,12,100,14],[100,15,100,17],[100,18,100,20],[100,21,100,23],[99,1,99,6],[99,7,99,8],[99,10,99,11],[99,13,99,14],[99,16,99,17],[99,19,99,20],[97,24,97,25],[97,27,97,28],[98,1,98,6],[98,9,98,10],[98,12,98,13],[98,15,98,16],[98,18,98,19],[98,21,98,22],[98,24,98,25],[98,27,98,28],[97,1,97,6],[97,9,97,10],[97,12,97,13],[97,15,97,16],[97,18,97,19],[97,21,97,22],[95,24,95,25],[95,27,95,28],[96,1,96,6],[96,9,96,10],[96,12,96,13],[96,15,96,16],[96,18,96,19],[96,21,96,22],[96,24,96,25],[96,27,96,28],[95,1,95,6],[95,9,95,10],[95,12,95,13],[95,15,95,16],[95,18,95,19],[95,21,95,22],[93,24,93,25],[93,27,93,28],[94,1,94,6],[94,9,94,10],[94,12,94,13],[94,15,94,16],[94,18,94,19],[94,21,94,22],[94,24,94,25],[94,27,94,28],[93,1,93,6],[93,9,93,10],[93,12,93,13],[93,15,93,16],[93,18,93,19],[93,21,93,22],[91,21,91,22],[91,24,91,25],[91,27,91,28],[92,1,92,6],[92,9,92,10],[92,12,92,13],[92,15,92,16],[90,1,90,6],[91,1,91,6],[91,9,91,10],[91,12,91,13],[91,15,91,16],[91,18,91,19],[88,28,88,29],[89,1,89,6],[89,7,89,8],[89,9,89,11],[89,12,89,14],[89,15,89,17],[89,18,89,20],[89,21,89,23],[89,24,89,26],[89,27,89,29],[87,24,87,25],[87,27,87,28],[88,1,88,6],[88,7,88,8],[88,10,88,11],[88,13,88,14],[88,16,88,17],[88,19,88,20],[88,22,88,23],[88,25,88,26],[87,1,87,6],[87,9,87,10],[87,12,87,13],[87,15,87,16],[87,18,87,19],[87,21,87,22],[85,24,85,25],[85,27,85,28],[86,1,86,6],[86,9,86,10],[86,12,86,13],[86,15,86,16],[86,18,86,19],[86,21,86,22],[86,24,86,25],[86,27,86,28],[85,1,85,6],[85,9,85,10],[85,12,85,13],[85,15,85,16],[85,18,85,19],[85,21,85,22],[83,24,83,25],[83,27,83,28],[84,1,84,6],[84,9,84,10],[84,12,84,13],[84,15,84,16],[84,18,84,19],[84,21,84,22],[84,24,84,25],[84,27,84,28],[83,1,83,6],[83,9,83,10],[83,12,83,13],[83,15,83,16],[83,18,83,19],[83,21,83,22],[81,24,81,25],[81,27,81,28],[82,1,82,6],[82,9,82,10],[82,12,82,13],[82,15,82,16],[82,18,82,19],[82,21,82,22],[82,24,82,25],[82,27,82,28],[81,1,81,6],[81,9,81,10],[81,12,81,13],[81,15,81,16],[81,18,81,19],[81,21,81,22],[79,27,79,28],[80,1,80,6],[80,9,80,10],[80,12,80,13],[80,15,80,16],[80,18,80,19],[80,21,80,22],[80,24,80,25],[80,27,80,28],[78,21,78,22],[78,24,78,25],[78,27,78,28],[79,1,79,6],[79,9,79,10],[79,12,79,13],[79,15,79,16],[79,18,79,19],[79,21,79,22],[79,24,79,25],[77,1,77,6],[78,1,78,6],[78,9,78,10],[78,12,78,13],[78,15,78,16],[78,18,78,19],[75,28,75,29],[76,1,76,6],[76,7,76,8],[76,9,76,11],[76,12,76,14],[76,15,76,17],[76,18,76,20],[76,21,76,23],[76,24,76,26],[76,27,76,29],[74,24,74,26],[74,27,74,29],[75,1,75,6],[75,7,75,8],[75,10,75,11],[75,13,75,14],[75,16,75,17],[75,19,75,20],[75,22,75,23],[75,25,75,26],[74,1,74,6],[74,9,74,10],[74,12,74,13],[74,15,74,16],[74,18,74,20],[74,21,74,23],[72,24,72,26],[72,27,72,29],[73,1,73,6],[73,9,73,10],[73,12,73,13],[73,15,73,16],[73,18,73,20],[73,21,73,23],[73,24,73,26],[73,27,73,29],[72,1,72,6],[72,9,72,10],[72,12,72,13],[72,15,72,16],[72,18,72,20],[72,21,72,23],[70,24,70,26],[70,27,70,29],[71,1,71,6],[71,9,71,10],[71,12,71,13],[71,15,71,16],[71,18,71,20],[71,21,71,23],[71,24,71,26],[71,27,71,29],[70,1,70,6],[70,9,70,10],[70,12,70,13],[70,15,70,16],[70,18,70,20],[70,21,70,23],[68,24,68,26],[68,27,68,29],[69,1,69,6],[69,9,69,10],[69,12,69,13],[69,15,69,16],[69,18,69,20],[69,21,69,23],[69,24,69,26],[69,27,69,29],[68,1,68,6],[68,9,68,10],[68,12,68,13],[68,15,68,16],[68,18,68,20],[68,21,68,23],[66,27,66,29],[67,1,67,6],[67,9,67,10],[67,12,67,13],[67,15,67,16],[67,18,67,20],[67,21,67,23],[67,24,67,26],[67,27,67,29],[64,24,64,25],[64,27,64,28],[65,1,65,6],[66,1,66,6],[66,9,66,10],[66,12,66,13],[66,15,66,16],[66,18,66,20],[66,21,66,23],[66,24,66,26],[64,1,64,6],[64,9,64,10],[64,12,64,13],[64,15,64,16],[64,18,64,19],[64,21,64,22],[62,24,62,25],[62,27,62,28],[63,1,63,6],[63,9,63,10],[63,12,63,13],[63,15,63,16],[63,18,63,19],[63,21,63,22],[63,24,63,25],[63,27,63,28],[62,1,62,6],[62,9,62,10],[62,12,62,13],[62,15,62,16],[62,18,62,19],[62,21,62,22],[60,27,60,28],[61,1,61,6],[61,9,61,10],[61,12,61,13],[61,15,61,16],[61,18,61,19],[61,21,61,22],[61,24,61,25],[61,27,61,28],[58,24,58,26],[58,27,58,29],[59,1,59,6],[60,1,60,6],[60,9,60,10],[60,12,60,13],[60,15,60,16],[60,18,60,19],[60,21,60,22],[60,24,60,25],[57,22,57,23],[57,25,57,26],[57,28,57,29],[58,1,58,6],[58,7,58,8],[58,9,58,11],[58,12,58,14],[58,15,58,17],[58,18,58,20],[58,21,58,23],[57,1,57,6],[57,7,57,8],[57,10,57,11],[57,13,57,14],[57,16,57,17],[57,19,57,20],[55,1,55,29],[56,7,56,8],[56,9,56,11],[56,12,56,14],[56,15,56,17],[56,18,56,20],[56,21,56,23],[56,24,56,26],[56,27,56,29],[52,27,52,29],[53,1,53,6],[53,7,53,8],[53,9,53,11],[53,12,53,14],[53,15,53,17],[53,18,53,20],[53,21,53,23],[53,24,53,26],[53,27,53,29],[51,24,51,26],[51,27,51,29],[52,1,52,6],[52,7,52,8],[52,9,52,11],[52,12,52,14],[52,15,52,17],[52,18,52,20],[52,21,52,23],[52,24,52,26],[50,21,50,23],[50,24,50,26],[50,27,50,29],[51,1,51,6],[51,7,51,8],[51,9,51,11],[51,12,51,14],[51,15,51,17],[51,18,51,20],[51,21,51,23],[50,1,50,6],[50,7,50,8],[50,9,50,11],[50,12,50,14],[50,15,50,17],[50,18,50,20],[48,27,48,29],[49,1,49,6],[49,7,49,8],[49,9,49,11],[49,12,49,14],[49,15,49,17],[49,18,49,20],[49,21,49,23],[49,24,49,26],[49,27,49,29],[47,24,47,26],[47,27,47,29],[48,1,48,6],[48,7,48,8],[48,9,48,11],[48,12,48,14],[48,15,48,17],[48,18,48,20],[48,21,48,23],[48,24,48,26],[46,21,46,23],[46,24,46,26],[46,27,46,29],[47,1,47,6],[47,7,47,8],[47,9,47,11],[47,12,47,14],[47,15,47,17],[47,18,47,20],[47,21,47,23],[46,1,46,6],[46,7,46,8],[46,9,46,11],[46,12,46,14],[46,15,46,17],[46,18,46,20],[44,27,44,29],[45,1,45,6],[45,7,45,8],[45,9,45,11],[45,12,45,14],[45,15,45,17],[45,18,45,20],[45,21,45,23],[45,24,45,26],[45,27,45,29],[43,24,43,26],[43,27,43,29],[44,1,44,6],[44,7,44,8],[44,9,44,11],[44,12,44,14],[44,15,44,17],[44,18,44,20],[44,21,44,23],[44,24,44,26],[42,21,42,23],[42,24,42,26],[42,27,42,29],[43,1,43,6],[43,7,43,8],[43,9,43,11],[43,12,43,14],[43,15,43,17],[43,18,43,20],[43,21,43,23],[41,18,41,20],[41,21,41,23],[41,24,41,26],[41,27,41,29],[42,1,42,6],[42,7,42,8],[42,9,42,11],[42,12,42,14],[42,15,42,17],[42,18,42,20],[32,27,33,29],[36,1,36,8],[39,1,39,29],[40,1,41,6],[40,7,40,17],[40,19,40,29],[41,7,41,8],[41,9,41,11],[41,12,41,14],[41,15,41,17],[31,21,31,23],[31,24,31,26],[31,27,31,29],[32,7,33,8],[32,9,33,11],[32,12,33,14],[32,15,33,17],[32,18,33,20],[32,21,33,23],[32,24,33,26],[31,1,33,6],[31,7,31,8],[31,9,31,11],[31,12,31,14],[31,15,31,17],[31,18,31,20],[26,24,26,26],[26,27,26,29],[27,7,28,8],[27,9,28,11],[27,12,28,14],[27,15,28,17],[27,18,28,20],[27,21,28,23],[27,24,28,26],[27,27,28,29],[23,21,24,23],[23,24,24,26],[23,27,24,29],[26,1,28,6],[26,7,26,8],[26,9,26,11],[26,12,26,14],[26,15,26,17],[26,18,26,20],[26,21,26,23],[23,3,24,6],[23,7,24,8],[23,9,24,11],[23,12,24,14],[23,15,24,17],[23,18,24,20],[20,27,20,29],[21,7,22,8],[21,9,22,11],[21,12,22,14],[21,15,22,17],[21,18,22,20],[21,21,22,23],[21,24,22,26],[21,27,22,29],[16,24,17,26],[16,27,17,29],[20,1,22,6],[20,7,20,8],[20,9,20,11],[20,12,20,14],[20,15,20,17],[20,18,20,20],[20,21,20,23],[20,24,20,26],[16,7,17,8],[16,9,17,11],[16,12,17,14],[16,15,17,17],[16,18,17,20],[16,21,17,23],[13,27,13,29],[15,1,17,6],[15,7,15,8],[15,9,15,11],[15,12,15,14],[15,15,15,17],[15,18,15,20],[15,21,15,23],[15,24,15,26],[15,27,15,29],[11,24,12,26],[11,27,12,29],[13,3,13,6],[13,7,13,8],[13,9,13,11],[13,12,13,14],[13,15,13,17],[13,18,13,20],[13,21,13,23],[13,24,13,26],[10,18,10,20],[10,21,10,23],[10,24,10,26],[10,27,10,29],[11,7,12,8],[11,9,12,11],[11,12,12,14],[11,15,12,17],[11,18,12,20],[11,21,12,23],[8,3,8,6],[8,9,8,11],[8,12,8,14],[8,15,8,17],[9,8,9,29],[10,1,12,6],[10,7,10,8],[10,9,10,11],[10,12,10,14],[10,15,10,17],[0,13,0,30],[1,13,1,19],[1,23,1,29],[2,1,2,6],[2,8,7,17],[2,36,17,43],[5,1,5,2],[5,3,5,6],[7,1,7,2],[7,3,7,6]]}
[null,null,null,null,null,null,null,null,null,null,null,null,null,"Outcome Measurement Tool (OMT)\nMA - Victim Witness Assistance Board\n\nNeed Support? Contact MOVAstats@mass.gov."]
[null,"SAFEPLAN Individual Court Data",null,null,null,null,null,null,null,null,null,null,null,"Court Tab 1",null,null,null,null,null,null,null,null,null,"(#1) DATA ENTRY TAB",null,null,null,null,null,null,null,null,null,null,null,null,"NOTES:"]
[null,"Enter the court name and then specified data for this court in the fields below.",null,null,null,null,null,null,"\nINSTRUCTIONS: This section should be completed each reporting period and each tab in one court ONLY. Use the areas in beige to enter the specified information.\n\n Once you have assigned a court to each tab, you will continue to report on that court within the same tab for each reporting period similar to how data was tracked and submitted in the previous reports."]
[]
[]
[null,"Court Name:",null,"Insert COURT NAME Here"]
[]
[null,"Reporting Period:",null,{"$f":"'1. Overall Demographics'!D8","v":"Period 1 (July 1 - September 30 2023)"}]
[null,null,null,"period can be selected on tab 1. Overall Demographics",null,null,null,"Period 1 (July 1 - September 30 2022)",null,"Period 2 (October 1 - December 31 2022)",null,null,"Period 3 (January 1 - March 31 2023)",null,null,"Period 4 (April 1 - June 30 2023)"]
[null,null,null,null,null,null,null,null,"KEY DEFINITIONS: \n\nCount each NEW individual in only one race/ethnicity type as self-reported. Individuals who self-report in more than one category should be counted in the \"Multiple Races\" category. The total number in each demographic category should equal the number of NEW individuals reported in Section 3. This data is used for statistical purposes to comply with Federal regulations.\n\nAll \"0\" entries must represent a true value of zero.\n\nIf no data is collected for a category, select \"Not Tracked\" from the list of options in the associated race/ethnicity category. This means that as a subgrantee, you are not able to submit data in this category due to the need to update this in your data tracking system, but that efforts are underway to track data as requested. Report in the \"Not Tracked\" section the number of individuals whose demographic data were not tracked.\n\nIf no data is collected for an individual, count that individual in the Not Reported category. This means that this data is collected by your organization, but it was not provided by the person completing the intake form.\n\nIf you select \"Other\" from the dropdown options, enter an explanation next to your response or this will be marked as missing data in the system."]
[null,"SECTION 1: TOTAL number of individuals who received services during the reporting period:",null,null,null,null,null,"Period 1 (July 1 - September 30 2023)",null,"Period 2 (October 1 - December 31 2023)",null,null,"Period 3 (January 1 - March 31 2024)",null,null,"Period 4 (April 1 - June 30 2024)",null,null,"Reporting Period 5",null,null,"Reporting Period 6",null,null,"Reporting Period 7",null,null,"Reporting Period 8"]
[]
[]
[]
[]
[null,"SECTION 2: TOTAL number of anonymous contacts received during the reporting period: ",null,null,null,null,null,"Reporting Period 1",null,"Reporting Period 2",null,null,"Reporting Period 3",null,null,"Reporting Period 4",null,null,"Reporting Period 5",null,null,"Reporting Period 6",null,null,"Reporting Period 7",null,null,"Reporting Period 8"]
[]
[]
[]
[]
[null,"SECTION 3: Of the number of individuals entered in question 1, how many were NEW individuals who received services from your agency for the first time during the reporting period: ",null,null,null,null,null,"Reporting Period 1",null,"Reporting Period 2",null,null,"Reporting Period 3",null,null,"Reporting Period 4",null,null,"Reporting Period 5",null,null,"Reporting Period 6",null,null,"Reporting Period 7",null,null,"Reporting Period 8"]
[]
[]
[]
[]
[]
[null,"SECTION 4: TOTAL number of individuals with NO PRIOR CONTACT with a DV/SA Agency during the reporting period: ",null,null,null,null,null,"Reporting Period 1",null,"Reporting Period 2",null,null,"Reporting Period 3",null,null,"Reporting Period 4",null,null,"Reporting Period 5",null,null,"Reporting Period 6",null,null,"Reporting Period 7",null,null,"Reporting Period 8"]
[]
[]
[]
[]
[null,"SECTION 5: AUTOCALCULATED: TOTAL number of continuing individuals during the reporting period: ",null,null,null,null,null,"Reporting Period 1",null,"Reporting Period 2",null,null,"Reporting Period 3",null,null,"Reporting Period 4",null,null,"Reporting Period 5",null,null,"Reporting Period 6",null,null,"Reporting Period 7",null,null,"Reporting Period 8"]
[null,null,null,null,null,null,null,{"$f":"H12-H22","v":0},null,{"$f":"J12-J22","v":0},null,null,{"$f":"M12-M22","v":0},null,null,{"$f":"P12-P22","v":0},null,null,0,null,null,{"$f":"V12-V22","v":0},null,null,{"$f":"Y12-Y22","v":0},null,null,0]
[]
[]
[]
[null,"Is your agency able to track NEW individuals throughout the Fiscal Year?",null,null,null,null,null,null,null,null,"Select one."]
[]
[]
[null,"SECTION 6: Types of Abuse Alleged: Enter the number of Individuals who Received Services Based on the Type of Alleged Abuse During the Reporting Period - ALL individuals\nAn individual MAY be counted in more than one classification."]
[null,"Type of Alleged Abuse",null,null,null,null,null,"Number of Individuals",null,null,null,null,null,null,null,null,null,null,null,"Number of Individuals - Year 2"]
[null,null,null,null,null,null,null,"Reporting Period 1",null,"Reporting Period 2",null,null,"Reporting Period 3",null,null,"Reporting Period 4",null,null,"Reporting Period 5",null,null,"Reporting Period 6",null,null,"Reporting Period 7",null,null,"Reporting Period 8"]
[null,"Attempted physical harm (209A)"]
[null,"Caused physical harm (209A)"]
[null,"Imminent Fear (209A)"]
[null,"Sexual Assault (209A)"]
[null,"Stalking (258E)"]
[null,"Sexual Assault (258E)"]
[null,"Criminal Harassment (258E)"]
[null,"Other (please specify below): "]
[]
[]
[]
[]
[]
[null,"SECTION 7:  Services Received\n1) First select the types of services provided by the court covered within this tab and use the dropdown options to report Yes/No for services received during the reporting period in reference (e.g., select Yes or No for A. Information & Referral in Reporting Period 4)\n2) Then enter the total number of individuals who received that type of services within the service categories and programs\n3) Then enter the number of times each specific service was provided by this court during the reporting period within each of the provided categories (e.g., information about the criminal justice process) using the beige/yellow boxes only (note: some boxes automatically total the subcategories and entries from elsewhere in the column)\n"]
[null,null,null,null,null,null,null,"Reporting Period 1",null,"Reporting Period 2",null,null,"Reporting Period 3",null,null,"Reporting Period 4",null,null,"Reporting Period 5",null,null,"Reporting Period 6",null,null,"Reporting Period 7",null,null,"Reporting Period 8"]
[null,"A. Information & Referral",null,null,null,null,null,"Yes or No?",null,null,"Yes or No?",null,null,"Yes or No?",null,null,"Yes or No?",null,null,"Yes or No?",null,null,"Yes or No?",null,null,"Yes or No?",null,null,"Yes or No?"]
[null,"Number of Individuals"]
[null,"Number of Times/Occurrences",null,null,null,null,null,null,{"$f":"SUM(H62:H65)","v":0},null,null,{"$f":"SUM(J62:K65)","v":0},null,null,{"$f":"SUM(M62:N65)","v":0},null,null,{"$f":"SUM(P62:Q65)","v":0},null,null,{"$f":"SUM(S61:T65)","v":0},null,null,{"$f":"SUM(V61:W65)","v":0},null,null,{"$f":"SUM(Y61:Z65)","v":0},null,null,{"$f":"SUM(AB61:AC65)","v":0}]
[null,"SAFEPLAN Information & Referrals \nInclude counts of referrals made during in-person, virtual, or phone based service provision. Specify referral type in section below."]
[null,"1. Information about the criminal justice process"]
[null,"2. Information on victim rights/how to obtain notifications"]
[null,"3. Referral to other victim service programs"]
[null,"4. Referral to other services/supports/resources (includes legal, medical, faith-based organizations, address confidentiality programs, etc.)"]
[null,"Information & Referral - Referrals Descriptions\nSpecify type of referral provided for each referral counted above",null,null,null,null,null,null,{"$f":"SUM(H67,H68,H69,H70,H71,H72,H73,H74,H75)","v":0},null,null,{"$f":"SUM(J67:K75)","v":0},null,null,{"$f":"SUM(M67:N75)","v":0},null,null,{"$f":"SUM(P67:Q75)","v":0},null,null,{"$f":"SUM(S67,S68,S69,S70,S71,S72,#REF!,#REF!,S75)","v":{"$error":"#REF!"}},null,null,{"$f":"SUM(V67,V68,V69,V70,V71,V72,#REF!,#REF!,V75)","v":{"$error":"#REF!"}},null,null,{"$f":"SUM(Y67,Y68,Y69,Y70,Y71,Y72,#REF!,#REF!,Y75)","v":{"$error":"#REF!"}},null,null,{"$f":"SUM(AB67,AB68,AB69,AB70,AB71,AB72,#REF!,#REF!,AB75)","v":{"$error":"#REF!"}}]
[null,"DV Program"]
[null,"SA Program"]
[null,"DA's Office"]
[null,"Legal Services"]
[null,"Police"]
[null,"Other Court Personnel"]
[null,"Victim Compensation"]
[null,"Medical Referral"]
[null,"Other"]
[null,"B. Personal Advocacy/Accompaniment",null,null,null,null,null,"Yes or No?",null,null,"Yes or No?",null,null,"Yes or No?",null,null,"Yes or No?",null,null,"Yes or No?",null,null,"Yes or No?",null,null,"Yes or No?",null,null,"Yes or No?"]
[null,"Number of Individuals"]
[null,"Number of Times/Occurrences",null,null,null,null,null,null,{"$f":"SUM(H80:H88)","v":0},null,null,{"$f":"SUM(J80:K88)","v":0},null,null,{"$f":"SUM(M80:N88)","v":0},null,null,{"$f":"SUM(P80:Q88)","v":0},null,null,{"$f":"SUM(S78:S88)","v":0},null,null,{"$f":"SUM(V78:V88)","v":0},null,null,{"$f":"SUM(Y78:Y88)","v":0},null,null,{"$f":"SUM(AB78:AB88)","v":0}]
[null,"SAFEPLAN Personal Advocacy/Accompaniment"]
[null,"1. Victim advocacy/accompaniment to emergency medical care"]
[null,"2. Victim advocacy/accompaniment to medical forensic exam"]
[null,"3. Law enforcement interview advocacy/accompaniment"]
[null,"4. Individual advocacy"]
[null,"5. Performance of medical or nonmedical forensic exam or interview, or medical evidence collection"]
[null,"6. Immigration assistance (e.g., special visas, continued presence application, and other immigration relief)"]
[null,"7. Intervention with employer, creditor, landlord, or academic institution"]
[null,"8. Child or dependent care assistance (includes coordination of services)"]
[null,"9. Interpreter services"]
[null,"C. Emotional Support or Safety Services",null,null,null,null,null,"Yes or No?",null,null,"Yes or No?",null,null,"Yes or No?",null,null,"Yes or No?",null,null,"Yes or No?",null,null,"Yes or No?",null,null,"Yes or No?",null,null,"Yes or No?"]
[null,"Number of Individuals"]
[null,"Number of Times/Occurrences",null,null,null,null,null,null,{"$f":"SUM(H93:H99)","v":0},null,null,{"$f":"SUM(J93:K99)","v":0},null,null,{"$f":"SUM(M93:N99)","v":0},null,null,{"$f":"SUM(P93:Q99)","v":0},null,null,{"$f":"SUM(S92:S99)","v":0},null,null,{"$f":"SUM(V92:V99)","v":0},null,null,{"$f":"SUM(Y92:Y99)","v":0},null,null,{"$f":"SUM(AB92:AB99)","v":0}]
[null,"SAFEPLAN Emotional Support or Safety Services "]
[null,"1. Crisis intervention (in-person, includes safety planning, etc.)"]
[null,"2. Hotline/crisis line counseling"]
[null,"3. On-scene crisis response (e.g., community crisis response)"]
[null,"4. Individual counseling"]
[null,"5. Support groups (facilitated or peer)"]
[null,"6. Other therapy (traditional, cultural, or alternative healing; art, writing, or play therapy, etc.)"]
[null,"7. Emergency financial assistance (includes emergency loans and petty cash, payment for items such as food and/or clothing, changing windows and/or locks, taxis, prophylactic and nonprophylactic medications, durable medical equipment, etc.)"]
[null,"D. Shelter/Housing Services",null,null,null,null,null,"Yes or No?",null,null,"Yes or No?",null,null,"Yes or No?",null,null,"Yes or No?",null,null,"Yes or No?",null,null,"Yes or No?",null,null,"Yes or No?",null,null,"Yes or No?"]
[null,"Number of Individuals"]
[null,"Number of Times/Occurrences",null,null,null,null,null,null,{"$f":"SUM(H104:H106)","v":0},null,null,{"$f":"SUM(J104:K106)","v":0},null,null,{"$f":"SUM(M104:N106)","v":0},null,null,{"$f":"SUM(P104:Q106)","v":0},null,null,{"$f":"SUM(S103:S106)","v":0},null,null,{"$f":"SUM(V103:V106)","v":0},null,null,{"$f":"SUM(Y103:Y106)","v":0},null,null,{"$f":"SUM(AB103:AB106)","v":0}]
[null,"SAFEPLAN Shelter/Housing Services"]
[null,"1. Emergency shelter or safe house"]
[null,"2. Transitional housing"]
[null,"3. Relocation assistance (includes assistance with obtaining housing)"]
[null,"E. Criminal/Civil Justice System Assistance",null,null,null,null,null,"Yes or No?",null,null,"Yes or No?",null,null,"Yes or No?",null,null,"Yes or No?",null,null,"Yes or No?",null,null,"Yes or No?",null,null,"Yes or No?",null,null,"Yes or No?"]
[null,"Number of Individuals"]
[null,"Number of Times/Occurrences",null,null,null,null,null,null,{"$f":"SUM(H111:H113,H115:H121,I114)","v":0},null,null,{"$f":"SUM(J111:K113,J115:K121,L114)","v":0},null,null,{"$f":"SUM(M111:N113,M115:N121,O114)","v":0},null,null,{"$f":"SUM(P111:Q113,P115:Q121,R114)","v":0},null,null,{"$f":"SUM(S110:S121)","v":0},null,null,{"$f":"SUM(V110:V121)","v":0},null,null,{"$f":"SUM(Y110:Y121)","v":0},null,null,{"$f":"SUM(AB110:AB121)","v":0}]
[null,"SAFEPLAN Criminal/Civil Justice System Assistance ",null,null,null,null,null,null,null,null,null,null,null,null,null,null,null,null,null,null,{"$f":"SUM(T111:T150)","v":0},null,null,{"$f":"SUM(W111:W150)","v":0},null,null,{"$f":"SUM(Z111:Z150)","v":0},null,null,{"$f":"SUM(AC111:AC150)","v":0}]
[null,"1. Notification of criminal justice events (e.g., case status, arrest, court proceedings, case disposition, release, etc.)"]
[null,"2. Victim impact statement assistance"]
[null,"3. Assistance with restitution (includes assistance in requesting and when collection efforts are not successful)"]
[null,"4. Civil legal assistance in obtaining protection or restraining order (auto-calculated based on 209A and 258E advocacy & accompaniment counts reported in description section below)",null,null,null,null,null,null,{"$f":"SUM(I123,I136)","v":0},null,null,{"$f":"SUM(L123,L136)","v":0},null,null,{"$f":"SUM(O123,O136)","v":0},null,null,{"$f":"SUM(R123,R136)","v":0}]
[null,"5. Civil legal assistance with family law issues (e.g., custody, visitation, or support)"]
[null,"6. Other emergency justice‐related assistance"]
[null,"7. Immigration assistance (e.g., special visas, continued presence application, and other immigration relief)"]
[null,"8. Prosecution interview advocacy/accompaniment"]
[null,"9. Law enforcement interview advocacy/accompaniment"]
[null,"10. Criminal advocacy/accompaniment"]
[null,"11. Other legal advice and/or counsel"]
[null,"209A & 258E Events\nSpecify civil legal assistance provided for each 209A or 258E event"]
[null,"209A Abuse Prevention Order/Restraining Order Events",null,null,null,null,null,null,{"$f":"SUM(H124:H125)","v":0},null,null,{"$f":"SUM(J124:K125)","v":0},null,null,{"$f":"SUM(M124:N125)","v":0},null,null,{"$f":"SUM(P124:Q125)","v":0}]
[null,"1. 209A Advocacy"]
[null,"2. 209A Accompaniment"]
[null,null,"209A Accompaniment Detail - Provide additional details below about each accompaniment instance counted above"]
[null,null,null,null,"Motion to Terminate Granted (Plaintiff)"]
[null,null,null,null,"Motion to Terminate Denied (Plaintiff)"]
[null,null,null,null,"Temporary Restraining Order - Requested"]
[null,null,null,null,"Temporary Restraining Order - Granted"]
[null,null,null,null,"Temporary Restraining Order - Scheduled for Hearing after Notice"]
[null,null,null,null,"Temporary Restraining Order - Denied"]
[null,null,null,null,"Final Restraining Order - Requested"]
[null,null,null,null,"Final Restraining Order - Granted"]
[null,null,null,null,"Final Restraining Order - Denied"]
[null,"258E Harassment Prevention Order Events",null,null,null,null,null,null,{"$f":"SUM(H137:H138)","v":0},null,null,{"$f":"SUM(J137:K138)","v":0},null,null,{"$f":"SUM(M137:N138)","v":0},null,null,{"$f":"SUM(P137:Q138)","v":0}]
[null,"1. 258E Advocacy"]
[null,"2. 258E Accompaniment"]
[null,null,"258E Accompaniment Detail - Provide additional details below about each accompaniment instance counted above"]
[null,null,null,null,"Motion to Terminate Granted (Plaintiff)"]
[null,null,null,null,"Motion to Terminate Denied (Plaintiff)"]
[null,null,null,null,"Temporary Harassment Order - Requested"]
[null,null,null,null,"Temporary Harassment Order - Granted"]
[null,null,null,null,"Temporary Harassment Order - Scheduled for Hearing after Notice"]
[null,null,null,null,"Temporary Harassment Order - Denied"]
[null,null,null,null,"Final Harassment Order - Requested"]
[null,null,null,null,"Final Harassment Order - Granted"]
[null,null,null,null,"Final Harassment Order - Denied"]
[null,"Additional Comments: "]
[null,"Insert response here. "]
[]
[]
[]
[]
["O","8. Number of requests for services that were unmet because of organizational capacity issues: ",null,null,null,null,null,"Reporting Period 1",null,"Reporting Period 2",null,null,"Reporting Period 3",null,null,"Reporting Period 4",null,null,"Reporting Period 5",null,null,"Reporting Period 6",null,null,"Reporting Period 7",null,null,"Reporting Period 8"]
[]
[]
[null,"Please Explain. "]
[]
[]
[]
[]
[]
["O","9. Does your organization formally survey clients for feedback on services received? ",null,null,null,null,null,null,null,null,null,"Select one."]
[]
["O","10. Number of surveys distributed to clients (included, but not limited to, those distributed by hand, mail or electronic methods):",null,null,null,null,null,"Reporting Period 1",null,"Reporting Period 2",null,null,"Reporting Period 3",null,null,"Reporting Period 4",null,null,"Reporting Period 5",null,null,"Reporting Period 6",null,null,"Reporting Period 7",null,null,"Reporting Period 8"]
[]
[]
[]
["O","11. Number of surveys completed by clients: ",null,null,null,null,null,"Reporting Period 1",null,"Reporting Period 2",null,null,"Reporting Period 3",null,null,"Reporting Period 4",null,null,"Reporting Period 5",null,null,"Reporting Period 6",null,null,"Reporting Period 7",null,null,"Reporting Period 8"]
[]
[]
[]
["O","12. Does your organization formally survey staff for feedback on trainings received? ",null,null,null,null,null,null,null,null,null,"Select one."]
[]
["O","13. Number of surveys distributed to staff (included, but not limited to, those distributed by hand, mail or electronic methods):",null,null,null,null,null,"Reporting Period 1",null,"Reporting Period 2",null,null,"Reporting Period 3",null,null,"Reporting Period 4",null,null,"Reporting Period 5",null,null,"Reporting Period 6",null,null,"Reporting Period 7",null,null,"Reporting Period 8"]
[]
[]
[]
["O","14. Number of surveys completed by staff: ",null,null,null,null,null,"Reporting Period 1",null,"Reporting Period 2",null,null,"Reporting Period 3",null,null,"Reporting Period 4",null,null,"Reporting Period 5",null,null,"Reporting Period 6",null,null,"Reporting Period 7",null,null,"Reporting Period 8"]
[]
[]
[]
[]
[null,"15. Please discuss some of the challenges your victim assistance program faced during the course of the federal fiscal year: "]
["O"]
[null,"Year 1",null,null,null,null,null,null,null,null,null,null,null,null,null,null,"Year 2"]
[null,"Insert response here. ",null,null,null,null,null,null,null,null,null,null,null,null,null,null,"Insert response here. "]
[]
[]
[]
[]
[]
[]
[]
[]
[]
[]
[]
[]
[]
[null,"16. Please describe some of the services that victims needed but could not be provided. What were the challenges that prevented those services from being provided: "]
["O"]
[null,"Year 1",null,null,null,null,null,null,null,null,null,null,null,null,null,null,"Year 2"]
[null,"Insert response here. ",null,null,null,null,null,null,null,null,null,null,null,null,null,null,"Insert response here."]
[]
[]
[]
[]
[]
[]
[]
[]
[]
[]
[]
[]
[]
["O","OPTIONAL. Please share a success story or client spotlight in the space below. Do not include any identifying or confidential information. "]
[]
[null,"Year 1",null,null,null,null,null,null,null,null,null,null,null,null,null,null,"Year 2"]
[null,"Insert response here. ",null,null,null,null,null,null,null,null,null,null,null,null,null,null,"Insert response here."]

{"sheet":"1.4 Sample Court Tab","index":8,"n_rows":222,"n_cols":37,"rows_kept":222,"cut":false,"hidden":false,"merged":[[220,1,220,14],[220,16,220,30],[221,1,233,14],[221,16,233,30],[201,1,202,30],[203,1,203,14],[203,16,203,30],[204,1,216,14],[204,16,216,30],[218,0,219,0],[218,1,219,30],[180,27,181,29],[184,1,185,16],[186,1,186,14],[186,16,186,30],[187,1,199,14],[187,16,199,30],[179,21,179,23],[179,24,179,26],[179,27,179,29],[180,7,181,8],[180,9,181,11],[180,12,181,14],[180,15,181,17],[180,18,181,20],[180,21,181,23],[180,24,181,26],[179,1,181,6],[179,7,179,8],[179,9,179,11],[179,12,179,14],[179,15,179,17],[179,18,179,20],[175,24,175,26],[175,27,175,29],[176,7,177,8],[176,9,177,11],[176,12,177,14],[176,15,177,17],[176,18,177,20],[176,21,177,23],[176,24,177,26],[176,27,177,29],[170,24,171,26],[170,27,171,29],[173,11,173,14],[175,1,177,6],[175,7,175,8],[175,9,175,11],[175,12,175,14],[175,15,175,17],[175,18,175,20],[175,21,175,23],[170,7,171,8],[170,9,171,11],[170,12,171,14],[170,15,171,17],[170,18,171,20],[170,21,171,23],[166,27,167,29],[169,1,171,6],[169,7,169,8],[169,9,169,11],[169,12,169,14],[169,15,169,17],[169,18,169,20],[169,21,169,23],[169,24,169,26],[169,27,169,29],[165,21,165,23],[165,24,165,26],[165,27,165,29],[166,7,167,8],[166,9,167,11],[166,12,167,14],[166,15,167,17],[166,18,167,20],[166,21,167,23],[166,24,167,26],[155,27,156,29],[157,1,157,29],[158,1,161,29],[163,11,163,14],[165,1,167,6],[165,7,165,8],[165,9,165,11],[165,12,165,14],[165,15,165,17],[165,18,165,20],[154,21,154,23],[154,24,154,26],[154,27,154,29],[155,7,156,8],[155,9,156,11],[155,12,156,14],[155,15,156,17],[155,18,156,20],[155,21,156,23],[155,24,156,26],[154,1,156,6],[154,7,154,8],[154,9,154,11],[154,12,154,14],[154,15,154,17],[154,18,154,20],[147,4,147,6],[147,9,147,10],[147,12,147,13],[147,15,147,16],[148,1,148,29],[149,1,152,29],[145,24,145,25],[145,27,145,28],[146,4,146,6],[146,9,146,10],[146,12,146,13],[146,15,146,16],[145,4,145,6],[145,9,145,10],[145,12,145,13],[145,15,145,16],[145,18,145,19],[145,21,145,22],[143,24,143,25],[143,27,143,28],[144,4,144,6],[144,9,144,10],[144,12,144,13],[144,15,144,16],[144,18,144,19],[144,21,144,22],[144,24,144,25],[144,27,144,28],[143,4,143,6],[143,9,143,10],[143,12,143,13],[143,15,143,16],[143,18,143,19],[143,21,143,22],[141,24,141,25],[141,27,141,28],[142,4,142,6],[142,9,142,10],[142,12,142,13],[142,15,142,16],[142,18,142,19],[142,21,142,22],[142,24,142,25],[142,27,142,28],[141,4,141,6],[141,9,141,10],[141,12,141,13],[141,15,141,16],[141,18,141,19],[141,21,141,22],[139,27,139,28],[140,4,140,6],[140,9,140,10],[140,12,140,13],[140,15,140,16],[140,18,140,19],[140,21,140,22],[140,24,140,25],[140,27,140,28],[137,24,137,25],[137,27,137,28],[138,2,138,6],[139,4,139,6],[139,9,139,10],[139,12,139,13],[139,15,139,16],[139,18,139,19],[139,21,139,22],[139,24,139,25],[137,1,137,6],[137,9,137,10],[137,12,137,13],[137,15,137,16],[137,18,137,19],[137,21,137,22],[135,24,135,25],[135,27,135,28],[136,1,136,6],[136,9,136,10],[136,12,136,13],[136,15,136,16],[136,18,136,19],[136,21,136,22],[136,24,136,25],[136,27,136,28],[135,1,135,6],[135,9,135,10],[135,12,135,13],[135,15,135,16],[135,18,135,19],[135,21,135,22],[133,24,133,25],[133,27,133,28],[134,4,134,6],[134,9,134,10],[134,12,134,13],[134,15,134,16],[134,18,134,19],[134,21,134,22],[134,24,134,25],[134,27,134,28],[133,4,133,6],[133,9,133,10],[133,12,133,13],[133,15,133,16],[133,18,133,19],[133,21,133,22],[131,24,131,25],[131,27,131,28],[132,4,132,6],[132,9,132,10],[132,12,132,13],[132,15,132,16],[132,18,132,19],[132,21,132,22],[132,24,132,25],[132,27,132,28],[131,4,131,6],[131,9,131,10],[131,12,131,13],[131,15,131,16],[131,18,131,19],[131,21,131,22],[129,24,129,25],[129,27,129,28],[130,4,130,6],[130,9,130,10],[130,12,130,13],[130,15,130,16],[130,18,130,19],[130,21,130,22],[130,24,130,25],[130,27,130,28],[129,4,129,6],[129,9,129,10],[129,12,129,13],[129,15,129,16],[129,18,129,19],[129,21,129,22],[127,27,127,28],[128,4,128,6],[128,9,128,10],[128,12,128,13],[128,15,128,16],[128,18,128,19],[128,21,128,22],[128,24,128,25],[128,27,128,28],[126,21,126,22],[126,24,126,25],[126,27,126,28],[127,4,127,6],[127,9,127,10],[127,12,127,13],[127,15,127,16],[127,18,127,19],[127,21,127,22],[127,24,127,25],[125,2,125,6],[126,4,126,6],[126,9,126,10],[126,12,126,13],[126,15,126,16],[126,18,126,19],[123,1,123,6],[123,9,123,10],[123,12,123,13],[123,15,123,16],[124,1,124,6],[124,9,124,10],[124,12,124,13],[124,15,124,16],[121,24,121,25],[121,27,121,28],[122,1,122,6],[122,9,122,10],[122,12,122,13],[122,15,122,16],[120,18,120,19],[120,21,120,22],[120,24,120,25],[120,27,120,28],[121,1,121,6],[121,9,121,10],[121,12,121,13],[121,15,121,16],[121,18,121,19],[121,21,121,22],[119,1,119,6],[119,9,119,10],[119,12,119,13],[119,15,119,16],[120,1,120,6],[120,9,120,10],[120,12,120,13],[120,15,120,16],[117,1,117,6],[117,9,117,10],[117,12,117,13],[117,15,117,16],[118,1,118,6],[118,9,118,10],[118,12,118,13],[118,15,118,16],[115,1,115,6],[115,9,115,10],[115,12,115,13],[115,15,115,16],[116,1,116,6],[116,9,116,10],[116,12,116,13],[116,15,116,16],[113,27,113,28],[114,1,114,6],[114,9,114,10],[114,12,114,13],[114,15,114,16],[114,18,114,19],[114,21,114,22],[114,24,114,25],[114,27,114,28],[113,1,113,6],[113,9,113,10],[113,15,113,16],[113,18,113,19],[113,21,113,22],[113,24,113,25],[111,24,111,25],[111,27,111,28],[112,1,112,6],[112,9,112,10],[112,12,112,13],[112,15,112,16],[112,18,112,19],[112,21,112,22],[112,24,112,25],[112,27,112,28],[111,1,111,6],[111,9,111,10],[111,12,111,13],[111,15,111,16],[111,18,111,19],[111,21,111,22],[109,27,109,28],[110,1,110,6],[110,9,110,10],[110,12,110,13],[110,15,110,16],[110,18,110,19],[110,21,110,22],[110,24,110,25],[110,27,110,28],[107,24,107,26],[107,27,107,29],[108,1,108,6],[109,1,109,6],[109,9,109,10],[109,12,109,13],[109,15,109,16],[109,18,109,19],[109,21,109,22],[109,24,109,25],[106,22,106,23],[106,25,106,26],[106,28,106,29],[107,1,107,6],[107,7,107,8],[107,9,107,11],[107,12,107,14],[107,15,107,17],[107,18,107,20],[107,21,107,23],[106,1,106,6],[106,7,106,8],[106,10,106,11],[106,13,106,14],[106,16,106,17],[106,19,106,20],[104,24,104,25],[104,27,104,28],[105,1,105,6],[105,9,105,10],[105,12,105,13],[105,15,105,16],[105,18,105,19],[105,21,105,22],[105,24,105,25],[105,27,105,28],[104,1,104,6],[104,9,104,10],[104,12,104,13],[104,15,104,16],[104,18,104,19],[104,21,104,22],[102,27,102,28],[103,1,103,6],[103,9,103,10],[103,12,103,13],[103,15,103,16],[103,18,103,19],[103,21,103,22],[103,24,103,25],[103,27,103,28],[100,24,100,26],[100,27,100,29],[101,1,101,6],[102,1,102,6],[102,9,102,10],[102,12,102,13],[102,15,102,16],[102,18,102,19],[102,21,102,22],[102,24,102,25],[99,22,99,23],[99,25,99,26],[99,28,99,29],[100,1,100,6],[100,7,100,8],[100,9,100,11],[100,12,100,14],[100,15,100,17],[100,18,100,20],[100,21,100,23],[99,1,99,6],[99,7,99,8],[99,10,99,11],[99,13,99,14],[99,16,99,17],[99,19,99,20],[97,24,97,25],[97,27,97,28],[98,1,98,6],[98,9,98,10],[98,12,98,13],[98,15,98,16],[98,18,98,19],[98,21,98,22],[98,24,98,25],[98,27,98,28],[97,1,97,6],[97,9,97,10],[97,12,97,13],[97,15,97,16],[97,18,97,19],[97,21,97,22],[95,24,95,25],[95,27,95,28],[96,1,96,6],[96,9,96,10],[96,12,96,13],[96,15,96,16],[96,18,96,19],[96,21,96,22],[96,24,96,25],[96,27,96,28],[95,1,95,6],[95,9,95,10],[95,12,95,13],[95,15,95,16],[95,18,95,19],[95,21,95,22],[93,24,93,25],[93,27,93,28],[94,1,94,6],[94,9,94,10],[94,12,94,13],[94,15,94,16],[94,18,94,19],[94,21,94,22],[94,24,94,25],[94,27,94,28],[93,1,93,6],[93,9,93,10],[93,12,93,13],[93,15,93,16],[93,18,93,19],[93,21,93,22],[91,21,91,22],[91,24,91,25],[91,27,91,28],[92,1,92,6],[92,9,92,10],[92,12,92,13],[92,15,92,16],[90,1,90,6],[91,1,91,6],[91,9,91,10],[91,12,91,13],[91,15,91,16],[91,18,91,19],[88,28,88,29],[89,1,89,6],[89,7,89,8],[89,9,89,11],[89,12,89,14],[89,15,89,17],[89,18,89,20],[89,21,89,23],[89,24,89,26],[89,27,89,29],[87,24,87,25],[87,27,87,28],[88,1,88,6],[88,7,88,8],[88,10,88,11],[88,13,88,14],[88,16,88,17],[88,19,88,20],[88,22,88,23],[88,25,88,26],[87,1,87,6],[87,9,87,10],[87,12,87,13],[87,15,87,16],[87,18,87,19],[87,21,87,22],[85,24,85,25],[85,27,85,28],[86,1,86,6],[86,9,86,10],[86,12,86,13],[86,15,86,16],[86,18,86,19],[86,21,86,22],[86,24,86,25],[86,27,86,28],[85,1,85,6],[85,9,85,10],[85,12,85,13],[85,15,85,16],[85,18,85,19],[85,21,85,22],[83,24,83,25],[83,27,83,28],[84,1,84,6],[84,9,84,10],[84,12,84,13],[84,15,84,16],[84,18,84,19],[84,21,84,22],[84,24,84,25],[84,27,84,28],[83,1,83,6],[83,9,83,10],[83,12,83,13],[83,15,83,16],[83,18,83,19],[83,21,83,22],[81,24,81,25],[81,27,81,28],[82,1,82,6],[82,9,82,10],[82,12,82,13],[82,15,82,16],[82,18,82,19],[82,21,82,22],[82,24,82,25],[82,27,82,28],[81,1,81,6],[81,9,81,10],[81,12,81,13],[81,15,81,16],[81,18,81,19],[81,21,81,22],[79,27,79,28],[80,1,80,6],[80,9,80,10],[80,12,80,13],[80,15,80,16],[80,18,80,19],[80,21,80,22],[80,24,80,25],[80,27,80,28],[78,21,78,22],[78,24,78,25],[78,27,78,28],[79,1,79,6],[79,9,79,10],[79,12,79,13],[79,15,79,16],[79,18,79,19],[79,21,79,22],[79,24,79,25],[77,1,77,6],[78,1,78,6],[78,9,78,10],[78,12,78,13],[78,15,78,16],[78,18,78,19],[75,28,75,29],[76,1,76,6],[76,7,76,8],[76,9,76,11],[76,12,76,14],[76,15,76,17],[76,18,76,20],[76,21,76,23],[76,24,76,26],[76,27,76,29],[74,24,74,26],[74,27,74,29],[75,1,75,6],[75,7,75,8],[75,10,75,11],[75,13,75,14],[75,16,75,17],[75,19,75,20],[75,22,75,23],[75,25,75,26],[74,1,74,6],[74,9,74,10],[74,12,74,13],[74,15,74,16],[74,18,74,20],[74,21,74,23],[72,24,72,26],[72,27,72,29],[73,1,73,6],[73,9,73,10],[73,12,73,13],[73,15,73,16],[73,18,73,20],[73,21,73,23],[73,24,73,26],[73,27,73,29],[72,1,72,6],[72,9,72,10],[72,12,72,13],[72,15,72,16],[72,18,72,20],[72,21,72,23],[70,24,70,26],[70,27,70,29],[71,1,71,6],[71,9,71,10],[71,12,71,13],[71,15,71,16],[71,18,71,20],[71,21,71,23],[71,24,71,26],[71,27,71,29],[70,1,70,6],[70,9,70,10],[70,12,70,13],[70,15,70,16],[70,18,70,20],[70,21,70,23],[68,24,68,26],[68,27,68,29],[69,1,69,6],[69,9,69,10],[69,12,69,13],[69,15,69,16],[69,18,69,20],[69,21,69,23],[69,24,69,26],[69,27,69,29],[68,1,68,6],[68,9,68,10],[68,12,68,13],[68,15,68,16],[68,18,68,20],[68,21,68,23],[66,27,66,29],[67,1,67,6],[67,9,67,10],[67,12,67,13],[67,15,67,16],[67,18,67,20],[67,21,67,23],[67,24,67,26],[67,27,67,29],[64,24,64,25],[64,27,64,28],[65,1,65,6],[66,1,66,6],[66,9,66,10],[66,12,66,13],[66,15,66,16],[66,18,66,20],[66,21,66,23],[66,24,66,26],[64,1,64,6],[64,9,64,10],[64,12,64,13],[64,15,64,16],[64,18,64,19],[64,21,64,22],[62,24,62,25],[62,27,62,28],[63,1,63,6],[63,9,63,10],[63,12,63,13],[63,15,63,16],[63,18,63,19],[63,21,63,22],[63,24,63,25],[63,27,63,28],[62,1,62,6],[62,9,62,10],[62,12,62,13],[62,15,62,16],[62,18,62,19],[62,21,62,22],[60,27,60,28],[61,1,61,6],[61,9,61,10],[61,12,61,13],[61,15,61,16],[61,18,61,19],[61,21,61,22],[61,24,61,25],[61,27,61,28],[58,24,58,26],[58,27,58,29],[59,1,59,6],[60,1,60,6],[60,9,60,10],[60,12,60,13],[60,15,60,16],[60,18,60,19],[60,21,60,22],[60,24,60,25],[57,22,57,23],[57,25,57,26],[57,28,57,29],[58,1,58,6],[58,7,58,8],[58,9,58,11],[58,12,58,14],[58,15,58,17],[58,18,58,20],[58,21,58,23],[57,1,57,6],[57,7,57,8],[57,10,57,11],[57,13,57,14],[57,16,57,17],[57,19,57,20],[55,1,55,29],[56,7,56,8],[56,9,56,11],[56,12,56,14],[56,15,56,17],[56,18,56,20],[56,21,56,23],[56,24,56,26],[56,27,56,29],[52,27,52,29],[53,1,53,6],[53,7,53,8],[53,9,53,11],[53,12,53,14],[53,15,53,17],[53,18,53,20],[53,21,53,23],[53,24,53,26],[53,27,53,29],[51,24,51,26],[51,27,51,29],[52,1,52,6],[52,7,52,8],[52,9,52,11],[52,12,52,14],[52,15,52,17],[52,18,52,20],[52,21,52,23],[52,24,52,26],[50,21,50,23],[50,24,50,26],[50,27,50,29],[51,1,51,6],[51,7,51,8],[51,9,51,11],[51,12,51,14],[51,15,51,17],[51,18,51,20],[51,21,51,23],[50,1,50,6],[50,7,50,8],[50,9,50,11],[50,12,50,14],[50,15,50,17],[50,18,50,20],[48,27,48,29],[49,1,49,6],[49,7,49,8],[49,9,49,11],[49,12,49,14],[49,15,49,17],[49,18,49,20],[49,21,49,23],[49,24,49,26],[49,27,49,29],[47,24,47,26],[47,27,47,29],[48,1,48,6],[48,7,48,8],[48,9,48,11],[48,12,48,14],[48,15,48,17],[48,18,48,20],[48,21,48,23],[48,24,48,26],[46,21,46,23],[46,24,46,26],[46,27,46,29],[47,1,47,6],[47,7,47,8],[47,9,47,11],[47,12,47,14],[47,15,47,17],[47,18,47,20],[47,21,47,23],[46,1,46,6],[46,7,46,8],[46,9,46,11],[46,12,46,14],[46,15,46,17],[46,18,46,20],[44,27,44,29],[45,1,45,6],[45,7,45,8],[45,9,45,11],[45,12,45,14],[45,15,45,17],[45,18,45,20],[45,21,45,23],[45,24,45,26],[45,27,45,29],[43,24,43,26],[43,27,43,29],[44,1,44,6],[44,7,44,8],[44,9,44,11],[44,12,44,14],[44,15,44,17],[44,18,44,20],[44,21,44,23],[44,24,44,26],[42,21,42,23],[42,24,42,26],[42,27,42,29],[43,1,43,6],[43,7,43,8],[43,9,43,11],[43,12,43,14],[43,15,43,17],[43,18,43,20],[43,21,43,23],[41,18,41,20],[41,21,41,23],[41,24,41,26],[41,27,41,29],[42,1,42,6],[42,7,42,8],[42,9,42,11],[42,12,42,14],[42,15,42,17],[42,18,42,20],[32,27,33,29],[36,1,36,8],[39,1,39,29],[40,1,41,6],[40,7,40,17],[40,19,40,29],[41,7,41,8],[41,9,41,11],[41,12,41,14],[41,15,41,17],[31,21,31,23],[31,24,31,26],[31,27,31,29],[32,7,33,8],[32,9,33,11],[32,12,33,14],[32,15,33,17],[32,18,33,20],[32,21,33,23],[32,24,33,26],[31,1,33,6],[31,7,31,8],[31,9,31,11],[31,12,31,14],[31,15,31,17],[31,18,31,20],[26,24,26,26],[26,27,26,29],[27,7,28,8],[27,9,28,11],[27,12,28,14],[27,15,28,17],[27,18,28,20],[27,21,28,23],[27,24,28,26],[27,27,28,29],[23,21,24,23],[23,24,24,26],[23,27,24,29],[26,1,28,6],[26,7,26,8],[26,9,26,11],[26,12,26,14],[26,15,26,17],[26,18,26,20],[26,21,26,23],[23,3,24,6],[23,7,24,8],[23,9,24,11],[23,12,24,14],[23,15,24,17],[23,18,24,20],[20,27,20,29],[21,7,22,8],[21,9,22,11],[21,12,22,14],[21,15,22,17],[21,18,22,20],[21,21,22,23],[21,24,22,26],[21,27,22,29],[16,24,17,26],[16,27,17,29],[20,1,22,6],[20,7,20,8],[20,9,20,11],[20,12,20,14],[20,15,20,17],[20,18,20,20],[20,21,20,23],[20,24,20,26],[16,7,17,8],[16,9,17,11],[16,12,17,14],[16,15,17,17],[16,18,17,20],[16,21,17,23],[13,27,13,29],[15,1,17,6],[15,7,15,8],[15,9,15,11],[15,12,15,14],[15,15,15,17],[15,18,15,20],[15,21,15,23],[15,24,15,26],[15,27,15,29],[11,24,12,26],[11,27,12,29],[13,3,13,6],[13,7,13,8],[13,9,13,11],[13,12,13,14],[13,15,13,17],[13,18,13,20],[13,21,13,23],[13,24,13,26],[10,18,10,20],[10,21,10,23],[10,24,10,26],[10,27,10,29],[11,7,12,8],[11,9,12,11],[11,12,12,14],[11,15,12,17],[11,18,12,20],[11,21,12,23],[8,3,8,6],[8,9,8,11],[8,12,8,14],[8,15,8,17],[9,8,9,29],[10,1,12,6],[10,7,10,8],[10,9,10,11],[10,12,10,14],[10,15,10,17],[0,13,0,30],[1,13,1,19],[1,23,1,29],[2,1,2,6],[2,8,7,17],[2,36,17,43],[5,1,5,2],[5,3,5,6],[7,1,7,2],[7,3,7,6]]}
[null,null,null,null,null,null,null,null,null,null,null,null,null,"Outcome Measurement Tool (OMT)\nMA - Victim Witness Assistance Board\n\nNeed Support? Contact MOVAstats@mass.gov."]
[null,"SAFEPLAN Individual Court Data",null,null,null,null,null,null,null,null,null,null,null,"Court Tab 1",null,null,null,null,null,null,null,null,null,"(#1) DATA ENTRY TAB",null,null,null,null,null,null,null,null,null,null,null,null,"NOTES:"]
[null,"Enter the court name and then specified data for this court in the fields below.",null,null,null,null,null,null,"\nINSTRUCTIONS: This section should be completed each reporting period and each tab in one court ONLY. Use the areas in beige to enter the specified information.\n\n Once you have assigned a court to each tab, you will continue to report on that court within the same tab for each reporting period similar to how data was tracked and submitted in the previous reports."]
[]
[]
[null,"Court Name:",null,"Insert COURT NAME Here"]
[]
[null,"Reporting Period:",null,{"$f":"'1. Overall Demographics'!D8","v":"Period 1 (July 1 - September 30 2023)"}]
[null,null,null,"period can be selected on tab 1. Overall Demographics",null,null,null,"Period 1 (July 1 - September 30 2022)",null,"Period 2 (October 1 - December 31 2022)",null,null,"Period 3 (January 1 - March 31 2023)",null,null,"Period 4 (April 1 - June 30 2023)"]
[null,null,null,null,null,null,null,null,"KEY DEFINITIONS: \n\nCount each NEW individual in only one race/ethnicity type as self-reported. Individuals who self-report in more than one category should be counted in the \"Multiple Races\" category. The total number in each demographic category should equal the number of NEW individuals reported in Section 3. This data is used for statistical purposes to comply with Federal regulations.\n\nAll \"0\" entries must represent a true value of zero.\n\nIf no data is collected for a category, select \"Not Tracked\" from the list of options in the associated race/ethnicity category. This means that as a subgrantee, you are not able to submit data in this category due to the need to update this in your data tracking system, but that efforts are underway to track data as requested. Report in the \"Not Tracked\" section the number of individuals whose demographic data were not tracked.\n\nIf no data is collected for an individual, count that individual in the Not Reported category. This means that this data is collected by your organization, but it was not provided by the person completing the intake form.\n\nIf you select \"Other\" from the dropdown options, enter an explanation next to your response or this will be marked as missing data in the system."]
[null,"SECTION 1: TOTAL number of individuals who received services during the reporting period:",null,null,null,null,null,"Period 1 (July 1 - September 30 2023)",null,"Period 2 (October 1 - December 31 2023)",null,null,"Period 3 (January 1 - March 31 2024)",null,null,"Period 4 (April 1 - June 30 2024)",null,null,"Reporting Period 5",null,null,"Reporting Period 6",null,null,"Reporting Period 7",null,null,"Reporting Period 8"]
[]
[]
[]
[]
[null,"SECTION 2: TOTAL number of anonymous contacts received during the reporting period: ",null,null,null,null,null,"Reporting Period 1",null,"Reporting Period 2",null,null,"Reporting Period 3",null,null,"Reporting Period 4",null,null,"Reporting Period 5",null,null,"Reporting Period 6",null,null,"Reporting Period 7",null,null,"Reporting Period 8"]
[]
[]
[]
[]
[null,"SECTION 3: Of the number of individuals entered in question 1, how many were NEW individuals who received services from your agency for the first time during the reporting period: ",null,null,null,null,null,"Reporting Period 1",null,"Reporting Period 2",null,null,"Reporting Period 3",null,null,"Reporting Period 4",null,null,"Reporting Period 5",null,null,"Reporting Period 6",null,null,"Reporting Period 7",null,null,"Reporting Period 8"]
[]
[]
[]
[]
[]
[null,"SECTION 4: TOTAL number of individuals with NO PRIOR CONTACT with a DV/SA Agency during the reporting period: ",null,null,null,null,null,"Reporting Period 1",null,"Reporting Period 2",null,null,"Reporting Period 3",null,null,"Reporting Period 4",null,null,"Reporting Period 5",null,null,"Reporting Period 6",null,null,"Reporting Period 7",null,null,"Reporting Period 8"]
[]
[]
[]
[]
[null,"SECTION 5: AUTOCALCULATED: TOTAL number of continuing individuals during the reporting period: ",null,null,null,null,null,"Reporting Period 1",null,"Reporting Period 2",null,null,"Reporting Period 3",null,null,"Reporting Period 4",null,null,"Reporting Period 5",null,null,"Reporting Period 6",null,null,"Reporting Period 7",null,null,"Reporting Period 8"]
[null,null,null,null,null,null,null,{"$f":"H12-H22","v":0},null,{"$f":"J12-J22","v":0},null,null,{"$f":"M12-M22","v":0},null,null,{"$f":"P12-P22","v":0},null,null,0,null,null,{"$f":"V12-V22","v":0},null,null,{"$f":"Y12-Y22","v":0},null,null,0]
[]
[]
[]
[null,"Is your agency able to track NEW individuals throughout the Fiscal Year?",null,null,null,null,null,null,null,null,"Select one."]
[]
[]
[null,"SECTION 6: Types of Abuse Alleged: Enter the number of Individuals who Received Services Based on the Type of Alleged Abuse During the Reporting Period - ALL individuals\nAn individual MAY be counted in more than one classification."]
[null,"Type of Alleged Abuse",null,null,null,null,null,"Number of Individuals",null,null,null,null,null,null,null,null,null,null,null,"Number of Individuals - Year 2"]
[null,null,null,null,null,null,null,"Reporting Period 1",null,"Reporting Period 2",null,null,"Reporting Period 3",null,null,"Reporting Period 4",null,null,"Reporting Period 5",null,null,"Reporting Period 6",null,null,"Reporting Period 7",null,null,"Reporting Period 8"]
[null,"Attempted physical harm (209A)"]
[null,"Caused physical harm (209A)"]
[null,"Imminent Fear (209A)"]
[null,"Sexual Assault (209A)"]
[null,"Stalking (258E)"]
[null,"Sexual Assault (258E)"]
[null,"Criminal Harassment (258E)"]
[null,"Other (please specify below): "]
[]
[]
[]
[]
[]
[null,"SECTION 7:  Services Received\n1) First select the types of services provided by the court covered within this tab and use the dropdown options to report Yes/No for services received during the reporting period in reference (e.g., select Yes or No for A. Information & Referral in Reporting Period 4)\n2) Then enter the total number of individuals who received that type of services within the service categories and programs\n3) Then enter the number of times each specific service was provided by this court during the reporting period within each of the provided categories (e.g., information about the criminal justice process) using the beige/yellow boxes only (note: some boxes automatically total the subcategories and entries from elsewhere in the column)\n"]
[null,null,null,null,null,null,null,"Reporting Period 1",null,"Reporting Period 2",null,null,"Reporting Period 3",null,null,"Reporting Period 4",null,null,"Reporting Period 5",null,null,"Reporting Period 6",null,null,"Reporting Period 7",null,null,"Reporting Period 8"]
[null,"A. Information & Referral",null,null,null,null,null,"Yes or No?",null,null,"Yes or No?",null,null,"Yes or No?",null,null,"Yes or No?",null,null,"Yes or No?",null,null,"Yes or No?",null,null,"Yes or No?",null,null,"Yes or No?"]
[null,"Number of Individuals"]
[null,"Number of Times/Occurrences",null,null,null,null,null,null,{"$f":"SUM(H62:H65)","v":0},null,null,{"$f":"SUM(J62:K65)","v":0},null,null,{"$f":"SUM(M62:N65)","v":0},null,null,{"$f":"SUM(P62:Q65)","v":0},null,null,{"$f":"SUM(S61:T65)","v":0},null,null,{"$f":"SUM(V61:W65)","v":0},null,null,{"$f":"SUM(Y61:Z65)","v":0},null,null,{"$f":"SUM(AB61:AC65)","v":0}]
[null,"SAFEPLAN Information & Referrals \nInclude counts of referrals made during in-person, virtual, or phone based service provision. Specify referral type in section below."]
[null,"1. Information about the criminal justice process"]
[null,"2. Information on victim rights/how to obtain notifications"]
[null,"3. Referral to other victim service programs"]
[null,"4. Referral to other services/supports/resources (includes legal, medical, faith-based organizations, address confidentiality programs, etc.)"]
[null,"Information & Referral - Referrals Descriptions\nSpecify type of referral provided for each referral counted above",null,null,null,null,null,null,{"$f":"SUM(H67,H68,H69,H70,H71,H72,H73,H74,H75)","v":0},null,null,{"$f":"SUM(J67:K75)","v":0},null,null,{"$f":"SUM(M67:N75)","v":0},null,null,{"$f":"SUM(P67:Q75)","v":0},null,null,{"$f":"SUM(S67,S68,S69,S70,S71,S72,#REF!,#REF!,S75)","v":{"$error":"#REF!"}},null,null,{"$f":"SUM(V67,V68,V69,V70,V71,V72,#REF!,#REF!,V75)","v":{"$error":"#REF!"}},null,null,{"$f":"SUM(Y67,Y68,Y69,Y70,Y71,Y72,#REF!,#REF!,Y75)","v":{"$error":"#REF!"}},null,null,{"$f":"SUM(AB67,AB68,AB69,AB70,AB71,AB72,#REF!,#REF!,AB75)","v":{"$error":"#REF!"}}]
[null,"DV Program"]
[null,"SA Program"]
[null,"DA's Office"]
[null,"Legal Services"]
[null,"Police"]
[null,"Other Court Personnel"]
[null,"Victim Compensation"]
[null,"Medical Referral"]
[null,"Other"]
[null,"B. Personal Advocacy/Accompaniment",null,null,null,null,null,"Yes or No?",null,null,"Yes or No?",null,null,"Yes or No?",null,null,"Yes or No?",null,null,"Yes or No?",null,null,"Yes or No?",null,null,"Yes or No?",null,null,"Yes or No?"]
[null,"Number of Individuals"]
[null,"Number of Times/Occurrences",null,null,null,null,null,null,{"$f":"SUM(H80:H88)","v":0},null,null,{"$f":"SUM(J80:K88)","v":0},null,null,{"$f":"SUM(M80:N88)","v":0},null,null,{"$f":"SUM(P80:Q88)","v":0},null,null,{"$f":"SUM(S78:S88)","v":0},null,null,{"$f":"SUM(V78:V88)","v":0},null,null,{"$f":"SUM(Y78:Y88)","v":0},null,null,{"$f":"SUM(AB78:AB88)","v":0}]
[null,"SAFEPLAN Personal Advocacy/Accompaniment"]
[null,"1. Victim advocacy/accompaniment to emergency medical care"]
[null,"2. Victim advocacy/accompaniment to medical forensic exam"]
[null,"3. Law enforcement interview advocacy/accompaniment"]
[null,"4. Individual advocacy"]
[null,"5. Performance of medical or nonmedical forensic exam or interview, or medical evidence collection"]
[null,"6. Immigration assistance (e.g., special visas, continued presence application, and other immigration relief)"]
[null,"7. Intervention with employer, creditor, landlord, or academic institution"]
[null,"8. Child or dependent care assistance (includes coordination of services)"]
[null,"9. Interpreter services"]
[null,"C. Emotional Support or Safety Services",null,null,null,null,null,"Yes or No?",null,null,"Yes or No?",null,null,"Yes or No?",null,null,"Yes or No?",null,null,"Yes or No?",null,null,"Yes or No?",null,null,"Yes or No?",null,null,"Yes or No?"]
[null,"Number of Individuals"]
[null,"Number of Times/Occurrences",null,null,null,null,null,null,{"$f":"SUM(H93:H99)","v":0},null,null,{"$f":"SUM(J93:K99)","v":0},null,null,{"$f":"SUM(M93:N99)","v":0},null,null,{"$f":"SUM(P93:Q99)","v":0},null,null,{"$f":"SUM(S92:S99)","v":0},null,null,{"$f":"SUM(V92:V99)","v":0},null,null,{"$f":"SUM(Y92:Y99)","v":0},null,null,{"$f":"SUM(AB92:AB99)","v":0}]
[null,"SAFEPLAN Emotional Support or Safety Services "]
[null,"1. Crisis intervention (in-person, includes safety planning, etc.)"]
[null,"2. Hotline/crisis line counseling"]
[null,"3. On-scene crisis response (e.g., community crisis response)"]
[null,"4. Individual counseling"]
[null,"5. Support groups (facilitated or peer)"]
[null,"6. Other therapy (traditional, cultural, or alternative healing; art, writing, or play therapy, etc.)"]
[null,"7. Emergency financial assistance (includes emergency loans and petty cash, payment for items such as food and/or clothing, changing windows and/or locks, taxis, prophylactic and nonprophylactic medications, durable medical equipment, etc.)"]
[null,"D. Shelter/Housing Services",null,null,null,null,null,"Yes or No?",null,null,"Yes or No?",null,null,"Yes or No?",null,null,"Yes or No?",null,null,"Yes or No?",null,null,"Yes or No?",null,null,"Yes or No?",null,null,"Yes or No?"]
[null,"Number of Individuals"]
[null,"Number of Times/Occurrences",null,null,null,null,null,null,{"$f":"SUM(H104:H106)","v":0},null,null,{"$f":"SUM(J104:K106)","v":0},null,null,{"$f":"SUM(M104:N106)","v":0},null,null,{"$f":"SUM(P104:Q106)","v":0},null,null,{"$f":"SUM(S103:S106)","v":0},null,null,{"$f":"SUM(V103:V106)","v":0},null,null,{"$f":"SUM(Y103:Y106)","v":0},null,null,{"$f":"SUM(AB103:AB106)","v":0}]
[null,"SAFEPLAN Shelter/Housing Services"]
[null,"1. Emergency shelter or safe house"]
[null,"2. Transitional housing"]
[null,"3. Relocation assistance (includes assistance with obtaining housing)"]
[null,"E. Criminal/Civil Justice System Assistance",null,null,null,null,null,"Yes or No?",null,null,"Yes or No?",null,null,"Yes or No?",null,null,"Yes or No?",null,null,"Yes or No?",null,null,"Yes or No?",null,null,"Yes or No?",null,null,"Yes or No?"]
[null,"Number of Individuals"]
[null,"Number of Times/Occurrences",null,null,null,null,null,null,{"$f":"SUM(H111:H113,H115:H121,I114)","v":0},null,null,{"$f":"SUM(J111:K113,J115:K121,L114)","v":0},null,null,{"$f":"SUM(M111:N113,M115:N121,O114)","v":0},null,null,{"$f":"SUM(P111:Q113,P115:Q121,R114)","v":0},null,null,{"$f":"SUM(S110:S121)","v":0},null,null,{"$f":"SUM(V110:V121)","v":0},null,null,{"$f":"SUM(Y110:Y121)","v":0},null,null,{"$f":"SUM(AB110:AB121)","v":0}]
[null,"SAFEPLAN Criminal/Civil Justice System Assistance ",null,null,null,null,null,null,null,null,null,null,null,null,null,null,null,null,null,null,{"$f":"SUM(T111:T150)","v":0},null,null,{"$f":"SUM(W111:W150)","v":0},null,null,{"$f":"SUM(Z111:Z150)","v":0},null,null,{"$f":"SUM(AC111:AC150)","v":0}]
[null,"1. Notification of criminal justice events (e.g., case status, arrest, court proceedings, case disposition, release, etc.)"]
[null,"2. Victim impact statement assistance"]
[null,"3. Assistance with restitution (includes assistance in requesting and when collection efforts are not successful)"]
[null,"4. Civil legal assistance in obtaining protection or restraining order (auto-calculated based on 209A and 258E advocacy & accompaniment counts reported in description section below)",null,null,null,null,null,null,{"$f":"SUM(I123,I136)","v":0},null,null,{"$f":"SUM(L123,L136)","v":0},null,null,{"$f":"SUM(O123,O136)","v":0},null,null,{"$f":"SUM(R123,R136)","v":0}]
[null,"5. Civil legal assistance with family law issues (e.g., custody, visitation, or support)"]
[null,"6. Other emergency justice‐related assistance"]
[null,"7. Immigration assistance (e.g., special visas, continued presence application, and other immigration relief)"]
[null,"8. Prosecution interview advocacy/accompaniment"]
[null,"9. Law enforcement interview advocacy/accompaniment"]
[null,"10. Criminal advocacy/accompaniment"]
[null,"11. Other legal advice and/or counsel"]
[null,"209A & 258E Events\nSpecify civil legal assistance provided for each 209A or 258E event"]
[null,"209A Abuse Prevention Order/Restraining Order Events",null,null,null,null,null,null,{"$f":"SUM(H124:H125)","v":0},null,null,{"$f":"SUM(J124:K125)","v":0},null,null,{"$f":"SUM(M124:N125)","v":0},null,null,{"$f":"SUM(P124:Q125)","v":0}]
[null,"1. 209A Advocacy"]
[null,"2. 209A Accompaniment"]
[null,null,"209A Accompaniment Detail - Provide additional details below about each accompaniment instance counted above"]
[null,null,null,null,"Motion to Terminate Granted (Plaintiff)"]
[null,null,null,null,"Motion to Terminate Denied (Plaintiff)"]
[null,null,null,null,"Temporary Restraining Order - Requested"]
[null,null,null,null,"Temporary Restraining Order - Granted"]
[null,null,null,null,"Temporary Restraining Order - Scheduled for Hearing after Notice"]
[null,null,null,null,"Temporary Restraining Order - Denied"]
[null,null,null,null,"Final Restraining Order - Requested"]
[null,null,null,null,"Final Restraining Order - Granted"]
[null,null,null,null,"Final Restraining Order - Denied"]
[null,"258E Harassment Prevention Order Events",null,null,null,null,null,null,{"$f":"SUM(H137:H138)","v":0},null,null,{"$f":"SUM(J137:K138)","v":0},null,null,{"$f":"SUM(M137:N138)","v":0},null,null,{"$f":"SUM(P137:Q138)","v":0}]
[null,"1. 258E Advocacy"]
[null,"2. 258E Accompaniment"]
[null,null,"258E Accompaniment Detail - Provide additional details below about each accompaniment instance counted above"]
[null,null,null,null,"Motion to Terminate Granted (Plaintiff)"]
[null,null,null,null,"Motion to Terminate Denied (Plaintiff)"]
[null,null,null,null,"Temporary Harassment Order - Requested"]
[null,null,null,null,"Temporary Harassment Order - Granted"]
[null,null,null,null,"Temporary Harassment Order - Scheduled for Hearing after Notice"]
[null,null,null,null,"Temporary Harassment Order - Denied"]
[null,null,null,null,"Final Harassment Order - Requested"]
[null,null,null,null,"Final Harassment Order - Granted"]
[null,null,null,null,"Final Harassment Order - Denied"]
[null,"Additional Comments: "]
[null,"Insert response here. "]
[]
[]
[]
[]
["O","8. Number of requests for services that were unmet because of organizational capacity issues: ",null,null,null,null,null,"Reporting Period 1",null,"Reporting Period 2",null,null,"Reporting Period 3",null,null,"Reporting Period 4",null,null,"Reporting Period 5",null,null,"Reporting Period 6",null,null,"Reporting Period 7",null,null,"Reporting Period 8"]
[]
[]
[null,"Please Explain. "]
[]
[]
[]
[]
[]
["O","9. Does your organization formally survey clients for feedback on services received? ",null,null,null,null,null,null,null,null,null,"Select one."]
[]
["O","10. Number of surveys distributed to clients (included, but not limited to, those distributed by hand, mail or electronic methods):",null,null,null,null,null,"Reporting Period 1",null,"Reporting Period 2",null,null,"Reporting Period 3",null,null,"Reporting Period 4",null,null,"Reporting Period 5",null,null,"Reporting Period 6",null,null,"Reporting Period 7",null,null,"Reporting Period 8"]
[]
[]
[]
["O","11. Number of surveys completed by clients: ",null,null,null,null,null,"Reporting Period 1",null,"Reporting Period 2",null,null,"Reporting Period 3",null,null,"Reporting Period 4",null,null,"Reporting Period 5",null,null,"Reporting Period 6",null,null,"Reporting Period 7",null,null,"Reporting Period 8"]
[]
[]
[]
["O","12. Does your organization formally survey staff for feedback on trainings received? ",null,null,null,null,null,null,null,null,null,"Select one."]
[]
["O","13. Number of surveys distributed to staff (included, but not limited to, those distributed by hand, mail or electronic methods):",null,null,null,null,null,"Reporting Period 1",null,"Reporting Period 2",null,null,"Reporting Period 3",null,null,"Reporting Period 4",null,null,"Reporting Period 5",null,null,"Reporting Period 6",null,null,"Reporting Period 7",null,null,"Reporting Period 8"]
[]
[]
[]
["O","14. Number of surveys completed by staff: ",null,null,null,null,null,"Reporting Period 1",null,"Reporting Period 2",null,null,"Reporting Period 3",null,null,"Reporting Period 4",null,null,"Reporting Period 5",null,null,"Reporting Period 6",null,null,"Reporting Period 7",null,null,"Reporting Period 8"]
[]
[]
[]
[]
[null,"15. Please discuss some of the challenges your victim assistance program faced during the course of the federal fiscal year: "]
["O"]
[null,"Year 1",null,null,null,null,null,null,null,null,null,null,null,null,null,null,"Year 2"]
[null,"Insert response here. ",null,null,null,null,null,null,null,null,null,null,null,null,null,null,"Insert response here. "]
[]
[]
[]
[]
[]
[]
[]
[]
[]
[]
[]
[]
[]
[null,"16. Please describe some of the services that victims needed but could not be provided. What were the challenges that prevented those services from being provided: "]
["O"]
[null,"Year 1",null,null,null,null,null,null,null,null,null,null,null,null,null,null,"Year 2"]
[null,"Insert response here. ",null,null,null,null,null,null,null,null,null,null,null,null,null,null,"Insert response here."]
[]
[]
[]
[]
[]
[]
[]
[]
[]
[]
[]
[]
[]
["O","OPTIONAL. Please share a success story or client spotlight in the space below. Do not include any identifying or confidential information. "]
[]
[null,"Year 1",null,null,null,null,null,null,null,null,null,null,null,null,null,null,"Year 2"]
[null,"Insert response here. ",null,null,null,null,null,null,null,null,null,null,null,null,null,null,"Insert response here."]

{"sheet":"1.5 Sample Court Tab","index":9,"n_rows":222,"n_cols":37,"rows_kept":222,"cut":false,"hidden":false,"merged":[[220,1,220,14],[220,16,220,30],[221,1,233,14],[221,16,233,30],[201,1,202,30],[203,1,203,14],[203,16,203,30],[204,1,216,14],[204,16,216,30],[218,0,219,0],[218,1,219,30],[180,27,181,29],[184,1,185,16],[186,1,186,14],[186,16,186,30],[187,1,199,14],[187,16,199,30],[179,21,179,23],[179,24,179,26],[179,27,179,29],[180,7,181,8],[180,9,181,11],[180,12,181,14],[180,15,181,17],[180,18,181,20],[180,21,181,23],[180,24,181,26],[179,1,181,6],[179,7,179,8],[179,9,179,11],[179,12,179,14],[179,15,179,17],[179,18,179,20],[175,24,175,26],[175,27,175,29],[176,7,177,8],[176,9,177,11],[176,12,177,14],[176,15,177,17],[176,18,177,20],[176,21,177,23],[176,24,177,26],[176,27,177,29],[170,24,171,26],[170,27,171,29],[173,11,173,14],[175,1,177,6],[175,7,175,8],[175,9,175,11],[175,12,175,14],[175,15,175,17],[175,18,175,20],[175,21,175,23],[170,7,171,8],[170,9,171,11],[170,12,171,14],[170,15,171,17],[170,18,171,20],[170,21,171,23],[166,27,167,29],[169,1,171,6],[169,7,169,8],[169,9,169,11],[169,12,169,14],[169,15,169,17],[169,18,169,20],[169,21,169,23],[169,24,169,26],[169,27,169,29],[165,21,165,23],[165,24,165,26],[165,27,165,29],[166,7,167,8],[166,9,167,11],[166,12,167,14],[166,15,167,17],[166,18,167,20],[166,21,167,23],[166,24,167,26],[155,27,156,29],[157,1,157,29],[158,1,161,29],[163,11,163,14],[165,1,167,6],[165,7,165,8],[165,9,165,11],[165,12,165,14],[165,15,165,17],[165,18,165,20],[154,21,154,23],[154,24,154,26],[154,27,154,29],[155,7,156,8],[155,9,156,11],[155,12,156,14],[155,15,156,17],[155,18,156,20],[155,21,156,23],[155,24,156,26],[154,1,156,6],[154,7,154,8],[154,9,154,11],[154,12,154,14],[154,15,154,17],[154,18,154,20],[147,4,147,6],[147,9,147,10],[147,12,147,13],[147,15,147,16],[148,1,148,29],[149,1,152,29],[145,24,145,25],[145,27,145,28],[146,4,146,6],[146,9,146,10],[146,12,146,13],[146,15,146,16],[145,4,145,6],[145,9,145,10],[145,12,145,13],[145,15,145,16],[145,18,145,19],[145,21,145,22],[143,24,143,25],[143,27,143,28],[144,4,144,6],[144,9,144,10],[144,12,144,13],[144,15,144,16],[144,18,144,19],[144,21,144,22],[144,24,144,25],[144,27,144,28],[143,4,143,6],[143,9,143,10],[143,12,143,13],[143,15,143,16],[143,18,143,19],[143,21,143,22],[141,24,141,25],[141,27,141,28],[142,4,142,6],[142,9,142,10],[142,12,142,13],[142,15,142,16],[142,18,142,19],[142,21,142,22],[142,24,142,25],[142,27,142,28],[141,4,141,6],[141,9,141,10],[141,12,141,13],[141,15,141,16],[141,18,141,19],[141,21,141,22],[139,27,139,28],[140,4,140,6],[140,9,140,10],[140,12,140,13],[140,15,140,16],[140,18,140,19],[140,21,140,22],[140,24,140,25],[140,27,140,28],[137,24,137,25],[137,27,137,28],[138,2,138,6],[139,4,139,6],[139,9,139,10],[139,12,139,13],[139,15,139,16],[139,18,139,19],[139,21,139,22],[139,24,139,25],[137,1,137,6],[137,9,137,10],[137,12,137,13],[137,15,137,16],[137,18,137,19],[137,21,137,22],[135,24,135,25],[135,27,135,28],[136,1,136,6],[136,9,136,10],[136,12,136,13],[136,15,136,16],[136,18,136,19],[136,21,136,22],[136,24,136,25],[136,27,136,28],[135,1,135,6],[135,9,135,10],[135,12,135,13],[135,15,135,16],[135,18,135,19],[135,21,135,22],[133,24,133,25],[133,27,133,28],[134,4,134,6],[134,9,134,10],[134,12,134,13],[134,15,134,16],[134,18,134,19],[134,21,134,22],[134,24,134,25],[134,27,134,28],[133,4,133,6],[133,9,133,10],[133,12,133,13],[133,15,133,16],[133,18,133,19],[133,21,133,22],[131,24,131,25],[131,27,131,28],[132,4,132,6],[132,9,132,10],[132,12,132,13],[132,15,132,16],[132,18,132,19],[132,21,132,22],[132,24,132,25],[132,27,132,28],[131,4,131,6],[131,9,131,10],[131,12,131,13],[131,15,131,16],[131,18,131,19],[131,21,131,22],[129,24,129,25],[129,27,129,28],[130,4,130,6],[130,9,130,10],[130,12,130,13],[130,15,130,16],[130,18,130,19],[130,21,130,22],[130,24,130,25],[130,27,130,28],[129,4,129,6],[129,9,129,10],[129,12,129,13],[129,15,129,16],[129,18,129,19],[129,21,129,22],[127,27,127,28],[128,4,128,6],[128,9,128,10],[128,12,128,13],[128,15,128,16],[128,18,128,19],[128,21,128,22],[128,24,128,25],[128,27,128,28],[126,21,126,22],[126,24,126,25],[126,27,126,28],[127,4,127,6],[127,9,127,10],[127,12,127,13],[127,15,127,16],[127,18,127,19],[127,21,127,22],[127,24,127,25],[125,2,125,6],[126,4,126,6],[126,9,126,10],[126,12,126,13],[126,15,126,16],[126,18,126,19],[123,1,123,6],[123,9,123,10],[123,12,123,13],[123,15,123,16],[124,1,124,6],[124,9,124,10],[124,12,124,13],[124,15,124,16],[121,24,121,25],[121,27,121,28],[122,1,122,6],[122,9,122,10],[122,12,122,13],[122,15,122,16],[120,18,120,19],[120,21,120,22],[120,24,120,25],[120,27,120,28],[121,1,121,6],[121,9,121,10],[121,12,121,13],[121,15,121,16],[121,18,121,19],[121,21,121,22],[119,1,119,6],[119,9,119,10],[119,12,119,13],[119,15,119,16],[120,1,120,6],[120,9,120,10],[120,12,120,13],[120,15,120,16],[117,1,117,6],[117,9,117,10],[117,12,117,13],[117,15,117,16],[118,1,118,6],[118,9,118,10],[118,12,118,13],[118,15,118,16],[115,1,115,6],[115,9,115,10],[115,12,115,13],[115,15,115,16],[116,1,116,6],[116,9,116,10],[116,12,116,13],[116,15,116,16],[113,27,113,28],[114,1,114,6],[114,9,114,10],[114,12,114,13],[114,15,114,16],[114,18,114,19],[114,21,114,22],[114,24,114,25],[114,27,114,28],[113,1,113,6],[113,9,113,10],[113,15,113,16],[113,18,113,19],[113,21,113,22],[113,24,113,25],[111,24,111,25],[111,27,111,28],[112,1,112,6],[112,9,112,10],[112,12,112,13],[112,15,112,16],[112,18,112,19],[112,21,112,22],[112,24,112,25],[112,27,112,28],[111,1,111,6],[111,9,111,10],[111,12,111,13],[111,15,111,16],[111,18,111,19],[111,21,111,22],[109,27,109,28],[110,1,110,6],[110,9,110,10],[110,12,110,13],[110,15,110,16],[110,18,110,19],[110,21,110,22],[110,24,110,25],[110,27,110,28],[107,24,107,26],[107,27,107,29],[108,1,108,6],[109,1,109,6],[109,9,109,10],[109,12,109,13],[109,15,109,16],[109,18,109,19],[109,21,109,22],[109,24,109,25],[106,22,106,23],[106,25,106,26],[106,28,106,29],[107,1,107,6],[107,7,107,8],[107,9,107,11],[107,12,107,14],[107,15,107,17],[107,18,107,20],[107,21,107,23],[106,1,106,6],[106,7,106,8],[106,10,106,11],[106,13,106,14],[106,16,106,17],[106,19,106,20],[104,24,104,25],[104,27,104,28],[105,1,105,6],[105,9,105,10],[105,12,105,13],[105,15,105,16],[105,18,105,19],[105,21,105,22],[105,24,105,25],[105,27,105,28],[104,1,104,6],[104,9,104,10],[104,12,104,13],[104,15,104,16],[104,18,104,19],[104,21,104,22],[102,27,102,28],[103,1,103,6],[103,9,103,10],[103,12,103,13],[103,15,103,16],[103,18,103,19],[103,21,103,22],[103,24,103,25],[103,27,103,28],[100,24,100,26],[100,27,100,29],[101,1,101,6],[102,1,102,6],[102,9,102,10],[102,12,102,13],[102,15,102,16],[102,18,102,19],[102,21,102,22],[102,24,102,25],[99,22,99,23],[99,25,99,26],[99,28,99,29],[100,1,100,6],[100,7,100,8],[100,9,100,11],[100,12,100,14],[100,15,100,17],[100,18,100,20],[100,21,100,23],[99,1,99,6],[99,7,99,8],[99,10,99,11],[99,13,99,14],[99,16,99,17],[99,19,99,20],[97,24,97,25],[97,27,97,28],[98,1,98,6],[98,9,98,10],[98,12,98,13],[98,15,98,16],[98,18,98,19],[98,21,98,22],[98,24,98,25],[98,27,98,28],[97,1,97,6],[97,9,97,10],[97,12,97,13],[97,15,97,16],[97,18,97,19],[97,21,97,22],[95,24,95,25],[95,27,95,28],[96,1,96,6],[96,9,96,10],[96,12,96,13],[96,15,96,16],[96,18,96,19],[96,21,96,22],[96,24,96,25],[96,27,96,28],[95,1,95,6],[95,9,95,10],[95,12,95,13],[95,15,95,16],[95,18,95,19],[95,21,95,22],[93,24,93,25],[93,27,93,28],[94,1,94,6],[94,9,94,10],[94,12,94,13],[94,15,94,16],[94,18,94,19],[94,21,94,22],[94,24,94,25],[94,27,94,28],[93,1,93,6],[93,9,93,10],[93,12,93,13],[93,15,93,16],[93,18,93,19],[93,21,93,22],[91,21,91,22],[91,24,91,25],[91,27,91,28],[92,1,92,6],[92,9,92,10],[92,12,92,13],[92,15,92,16],[90,1,90,6],[91,1,91,6],[91,9,91,10],[91,12,91,13],[91,15,91,16],[91,18,91,19],[88,28,88,29],[89,1,89,6],[89,7,89,8],[89,9,89,11],[89,12,89,14],[89,15,89,17],[89,18,89,20],[89,21,89,23],[89,24,89,26],[89,27,89,29],[87,24,87,25],[87,27,87,28],[88,1,88,6],[88,7,88,8],[88,10,88,11],[88,13,88,14],[88,16,88,17],[88,19,88,20],[88,22,88,23],[88,25,88,26],[87,1,87,6],[87,9,87,10],[87,12,87,13],[87,15,87,16],[87,18,87,19],[87,21,87,22],[85,24,85,25],[85,27,85,28],[86,1,86,6],[86,9,86,10],[86,12,86,13],[86,15,86,16],[86,18,86,19],[86,21,86,22],[86,24,86,25],[86,27,86,28],[85,1,85,6],[85,9,85,10],[85,12,85,13],[85,15,85,16],[85,18,85,19],[85,21,85,22],[83,24,83,25],[83,27,83,28],[84,1,84,6],[84,9,84,10],[84,12,84,13],[84,15,84,16],[84,18,84,19],[84,21,84,22],[84,24,84,25],[84,27,84,28],[83,1,83,6],[83,9,83,10],[83,12,83,13],[83,15,83,16],[83,18,83,19],[83,21,83,22],[81,24,81,25],[81,27,81,28],[82,1,82,6],[82,9,82,10],[82,12,82,13],[82,15,82,16],[82,18,82,19],[82,21,82,22],[82,24,82,25],[82,27,82,28],[81,1,81,6],[81,9,81,10],[81,12,81,13],[81,15,81,16],[81,18,81,19],[81,21,81,22],[79,27,79,28],[80,1,80,6],[80,9,80,10],[80,12,80,13],[80,15,80,16],[80,18,80,19],[80,21,80,22],[80,24,80,25],[80,27,80,28],[78,21,78,22],[78,24,78,25],[78,27,78,28],[79,1,79,6],[79,9,79,10],[79,12,79,13],[79,15,79,16],[79,18,79,19],[79,21,79,22],[79,24,79,25],[77,1,77,6],[78,1,78,6],[78,9,78,10],[78,12,78,13],[78,15,78,16],[78,18,78,19],[75,28,75,29],[76,1,76,6],[76,7,76,8],[76,9,76,11],[76,12,76,14],[76,15,76,17],[76,18,76,20],[76,21,76,23],[76,24,76,26],[76,27,76,29],[74,24,74,26],[74,27,74,29],[75,1,75,6],[75,7,75,8],[75,10,75,11],[75,13,75,14],[75,16,75,17],[75,19,75,20],[75,22,75,23],[75,25,75,26],[74,1,74,6],[74,9,74,10],[74,12,74,13],[74,15,74,16],[74,18,74,20],[74,21,74,23],[72,24,72,26],[72,27,72,29],[73,1,73,6],[73,9,73,10],[73,12,73,13],[73,15,73,16],[73,18,73,20],[73,21,73,23],[73,24,73,26],[73,27,73,29],[72,1,72,6],[72,9,72,10],[72,12,72,13],[72,15,72,16],[72,18,72,20],[72,21,72,23],[70,24,70,26],[70,27,70,29],[71,1,71,6],[71,9,71,10],[71,12,71,13],[71,15,71,16],[71,18,71,20],[71,21,71,23],[71,24,71,26],[71,27,71,29],[70,1,70,6],[70,9,70,10],[70,12,70,13],[70,15,70,16],[70,18,70,20],[70,21,70,23],[68,24,68,26],[68,27,68,29],[69,1,69,6],[69,9,69,10],[69,12,69,13],[69,15,69,16],[69,18,69,20],[69,21,69,23],[69,24,69,26],[69,27,69,29],[68,1,68,6],[68,9,68,10],[68,12,68,13],[68,15,68,16],[68,18,68,20],[68,21,68,23],[66,27,66,29],[67,1,67,6],[67,9,67,10],[67,12,67,13],[67,15,67,16],[67,18,67,20],[67,21,67,23],[67,24,67,26],[67,27,67,29],[64,24,64,25],[64,27,64,28],[65,1,65,6],[66,1,66,6],[66,9,66,10],[66,12,66,13],[66,15,66,16],[66,18,66,20],[66,21,66,23],[66,24,66,26],[64,1,64,6],[64,9,64,10],[64,12,64,13],[64,15,64,16],[64,18,64,19],[64,21,64,22],[62,24,62,25],[62,27,62,28],[63,1,63,6],[63,9,63,10],[63,12,63,13],[63,15,63,16],[63,18,63,19],[63,21,63,22],[63,24,63,25],[63,27,63,28],[62,1,62,6],[62,9,62,10],[62,12,62,13],[62,15,62,16],[62,18,62,19],[62,21,62,22],[60,27,60,28],[61,1,61,6],[61,9,61,10],[61,12,61,13],[61,15,61,16],[61,18,61,19],[61,21,61,22],[61,24,61,25],[61,27,61,28],[58,24,58,26],[58,27,58,29],[59,1,59,6],[60,1,60,6],[60,9,60,10],[60,12,60,13],[60,15,60,16],[60,18,60,19],[60,21,60,22],[60,24,60,25],[57,22,57,23],[57,25,57,26],[57,28,57,29],[58,1,58,6],[58,7,58,8],[58,9,58,11],[58,12,58,14],[58,15,58,17],[58,18,58,20],[58,21,58,23],[57,1,57,6],[57,7,57,8],[57,10,57,11],[57,13,57,14],[57,16,57,17],[57,19,57,20],[55,1,55,29],[56,7,56,8],[56,9,56,11],[56,12,56,14],[56,15,56,17],[56,18,56,20],[56,21,56,23],[56,24,56,26],[56,27,56,29],[52,27,52,29],[53,1,53,6],[53,7,53,8],[53,9,53,11],[53,12,53,14],[53,15,53,17],[53,18,53,20],[53,21,53,23],[53,24,53,26],[53,27,53,29],[51,24,51,26],[51,27,51,29],[52,1,52,6],[52,7,52,8],[52,9,52,11],[52,12,52,14],[52,15,52,17],[52,18,52,20],[52,21,52,23],[52,24,52,26],[50,21,50,23],[50,24,50,26],[50,27,50,29],[51,1,51,6],[51,7,51,8],[51,9,51,11],[51,12,51,14],[51,15,51,17],[51,18,51,20],[51,21,51,23],[50,1,50,6],[50,7,50,8],[50,9,50,11],[50,12,50,14],[50,15,50,17],[50,18,50,20],[48,27,48,29],[49,1,49,6],[49,7,49,8],[49,9,49,11],[49,12,49,14],[49,15,49,17],[49,18,49,20],[49,21,49,23],[49,24,49,26],[49,27,49,29],[47,24,47,26],[47,27,47,29],[48,1,48,6],[48,7,48,8],[48,9,48,11],[48,12,48,14],[48,15,48,17],[48,18,48,20],[48,21,48,23],[48,24,48,26],[46,21,46,23],[46,24,46,26],[46,27,46,29],[47,1,47,6],[47,7,47,8],[47,9,47,11],[47,12,47,14],[47,15,47,17],[47,18,47,20],[47,21,47,23],[46,1,46,6],[46,7,46,8],[46,9,46,11],[46,12,46,14],[46,15,46,17],[46,18,46,20],[44,27,44,29],[45,1,45,6],[45,7,45,8],[45,9,45,11],[45,12,45,14],[45,15,45,17],[45,18,45,20],[45,21,45,23],[45,24,45,26],[45,27,45,29],[43,24,43,26],[43,27,43,29],[44,1,44,6],[44,7,44,8],[44,9,44,11],[44,12,44,14],[44,15,44,17],[44,18,44,20],[44,21,44,23],[44,24,44,26],[42,21,42,23],[42,24,42,26],[42,27,42,29],[43,1,43,6],[43,7,43,8],[43,9,43,11],[43,12,43,14],[43,15,43,17],[43,18,43,20],[43,21,43,23],[41,18,41,20],[41,21,41,23],[41,24,41,26],[41,27,41,29],[42,1,42,6],[42,7,42,8],[42,9,42,11],[42,12,42,14],[42,15,42,17],[42,18,42,20],[32,27,33,29],[36,1,36,8],[39,1,39,29],[40,1,41,6],[40,7,40,17],[40,19,40,29],[41,7,41,8],[41,9,41,11],[41,12,41,14],[41,15,41,17],[31,21,31,23],[31,24,31,26],[31,27,31,29],[32,7,33,8],[32,9,33,11],[32,12,33,14],[32,15,33,17],[32,18,33,20],[32,21,33,23],[32,24,33,26],[31,1,33,6],[31,7,31,8],[31,9,31,11],[31,12,31,14],[31,15,31,17],[31,18,31,20],[26,24,26,26],[26,27,26,29],[27,7,28,8],[27,9,28,11],[27,12,28,14],[27,15,28,17],[27,18,28,20],[27,21,28,23],[27,24,28,26],[27,27,28,29],[23,21,24,23],[23,24,24,26],[23,27,24,29],[26,1,28,6],[26,7,26,8],[26,9,26,11],[26,12,26,14],[26,15,26,17],[26,18,26,20],[26,21,26,23],[23,3,24,6],[23,7,24,8],[23,9,24,11],[23,12,24,14],[23,15,24,17],[23,18,24,20],[20,27,20,29],[21,7,22,8],[21,9,22,11],[21,12,22,14],[21,15,22,17],[21,18,22,20],[21,21,22,23],[21,24,22,26],[21,27,22,29],[16,24,17,26],[16,27,17,29],[20,1,22,6],[20,7,20,8],[20,9,20,11],[20,12,20,14],[20,15,20,17],[20,18,20,20],[20,21,20,23],[20,24,20,26],[16,7,17,8],[16,9,17,11],[16,12,17,14],[16,15,17,17],[16,18,17,20],[16,21,17,23],[13,27,13,29],[15,1,17,6],[15,7,15,8],[15,9,15,11],[15,12,15,14],[15,15,15,17],[15,18,15,20],[15,21,15,23],[15,24,15,26],[15,27,15,29],[11,24,12,26],[11,27,12,29],[13,3,13,6],[13,7,13,8],[13,9,13,11],[13,12,13,14],[13,15,13,17],[13,18,13,20],[13,21,13,23],[13,24,13,26],[10,18,10,20],[10,21,10,23],[10,24,10,26],[10,27,10,29],[11,7,12,8],[11,9,12,11],[11,12,12,14],[11,15,12,17],[11,18,12,20],[11,21,12,23],[8,3,8,6],[8,9,8,11],[8,12,8,14],[8,15,8,17],[9,8,9,29],[10,1,12,6],[10,7,10,8],[10,9,10,11],[10,12,10,14],[10,15,10,17],[0,13,0,30],[1,13,1,19],[1,23,1,29],[2,1,2,6],[2,8,7,17],[2,36,17,43],[5,1,5,2],[5,3,5,6],[7,1,7,2],[7,3,7,6]]}
[null,null,null,null,null,null,null,null,null,null,null,null,null,"Outcome Measurement Tool (OMT)\nMA - Victim Witness Assistance Board\n\nNeed Support? Contact MOVAstats@mass.gov."]
[null,"SAFEPLAN Individual Court Data",null,null,null,null,null,null,null,null,null,null,null,"Court Tab 1",null,null,null,null,null,null,null,null,null,"(#1) DATA ENTRY TAB",null,null,null,null,null,null,null,null,null,null,null,null,"NOTES:"]
[null,"Enter the court name and then specified data for this court in the fields below.",null,null,null,null,null,null,"\nINSTRUCTIONS: This section should be completed each reporting period and each tab in one court ONLY. Use the areas in beige to enter the specified information.\n\n Once you have assigned a court to each tab, you will continue to report on that court within the same tab for each reporting period similar to how data was tracked and submitted in the previous reports."]
[]
[]
[null,"Court Name:",null,"Insert COURT NAME Here"]
[]
[null,"Reporting Period:",null,{"$f":"'1. Overall Demographics'!D8","v":"Period 1 (July 1 - September 30 2023)"}]
[null,null,null,"period can be selected on tab 1. Overall Demographics",null,null,null,"Period 1 (July 1 - September 30 2022)",null,"Period 2 (October 1 - December 31 2022)",null,null,"Period 3 (January 1 - March 31 2023)",null,null,"Period 4 (April 1 - June 30 2023)"]
[null,null,null,null,null,null,null,null,"KEY DEFINITIONS: \n\nCount each NEW individual in only one race/ethnicity type as self-reported. Individuals who self-report in more than one category should be counted in the \"Multiple Races\" category. The total number in each demographic category should equal the number of NEW individuals reported in Section 3. This data is used for statistical purposes to comply with Federal regulations.\n\nAll \"0\" entries must represent a true value of zero.\n\nIf no data is collected for a category, select \"Not Tracked\" from the list of options in the associated race/ethnicity category. This means that as a subgrantee, you are not able to submit data in this category due to the need to update this in your data tracking system, but that efforts are underway to track data as requested. Report in the \"Not Tracked\" section the number of individuals whose demographic data were not tracked.\n\nIf no data is collected for an individual, count that individual in the Not Reported category. This means that this data is collected by your organization, but it was not provided by the person completing the intake form.\n\nIf you select \"Other\" from the dropdown options, enter an explanation next to your response or this will be marked as missing data in the system."]
[null,"SECTION 1: TOTAL number of individuals who received services during the reporting period:",null,null,null,null,null,"Period 1 (July 1 - September 30 2023)",null,"Period 2 (October 1 - December 31 2023)",null,null,"Period 3 (January 1 - March 31 2024)",null,null,"Period 4 (April 1 - June 30 2024)",null,null,"Reporting Period 5",null,null,"Reporting Period 6",null,null,"Reporting Period 7",null,null,"Reporting Period 8"]
[]
[]
[]
[]
[null,"SECTION 2: TOTAL number of anonymous contacts received during the reporting period: ",null,null,null,null,null,"Reporting Period 1",null,"Reporting Period 2",null,null,"Reporting Period 3",null,null,"Reporting Period 4",null,null,"Reporting Period 5",null,null,"Reporting Period 6",null,null,"Reporting Period 7",null,null,"Reporting Period 8"]
[]
[]
[]
[]
[null,"SECTION 3: Of the number of individuals entered in question 1, how many were NEW individuals who received services from your agency for the first time during the reporting period: ",null,null,null,null,null,"Reporting Period 1",null,"Reporting Period 2",null,null,"Reporting Period 3",null,null,"Reporting Period 4",null,null,"Reporting Period 5",null,null,"Reporting Period 6",null,null,"Reporting Period 7",null,null,"Reporting Period 8"]
[]
[]
[]
[]
[]
[null,"SECTION 4: TOTAL number of individuals with NO PRIOR CONTACT with a DV/SA Agency during the reporting period: ",null,null,null,null,null,"Reporting Period 1",null,"Reporting Period 2",null,null,"Reporting Period 3",null,null,"Reporting Period 4",null,null,"Reporting Period 5",null,null,"Reporting Period 6",null,null,"Reporting Period 7",null,null,"Reporting Period 8"]
[]
[]
[]
[]
[null,"SECTION 5: AUTOCALCULATED: TOTAL number of continuing individuals during the reporting period: ",null,null,null,null,null,"Reporting Period 1",null,"Reporting Period 2",null,null,"Reporting Period 3",null,null,"Reporting Period 4",null,null,"Reporting Period 5",null,null,"Reporting Period 6",null,null,"Reporting Period 7",null,null,"Reporting Period 8"]
[null,null,null,null,null,null,null,{"$f":"H12-H22","v":0},null,{"$f":"J12-J22","v":0},null,null,{"$f":"M12-M22","v":0},null,null,{"$f":"P12-P22","v":0},null,null,0,null,null,{"$f":"V12-V22","v":0},null,null,{"$f":"Y12-Y22","v":0},null,null,0]
[]
[]
[]
[null,"Is your agency able to track NEW individuals throughout the Fiscal Year?",null,null,null,null,null,null,null,null,"Select one."]
[]
[]
[null,"SECTION 6: Types of Abuse Alleged: Enter the number of Individuals who Received Services Based on the Type of Alleged Abuse During the Reporting Period - ALL individuals\nAn individual MAY be counted in more than one classification."]
[null,"Type of Alleged Abuse",null,null,null,null,null,"Number of Individuals",null,null,null,null,null,null,null,null,null,null,null,"Number of Individuals - Year 2"]
[null,null,null,null,null,null,null,"Reporting Period 1",null,"Reporting Period 2",null,null,"Reporting Period 3",null,null,"Reporting Period 4",null,null,"Reporting Period 5",null,null,"Reporting Period 6",null,null,"Reporting Period 7",null,null,"Reporting Period 8"]
[null,"Attempted physical harm (209A)"]
[null,"Caused physical harm (209A)"]
[null,"Imminent Fear (209A)"]
[null,"Sexual Assault (209A)"]
[null,"Stalking (258E)"]
[null,"Sexual Assault (258E)"]
[null,"Criminal Harassment (258E)"]
[null,"Other (please specify below): "]
[]
[]
[]
[]
[]
[null,"SECTION 7:  Services Received\n1) First select the types of services provided by the court covered within this tab and use the dropdown options to report Yes/No for services received during the reporting period in reference (e.g., select Yes or No for A. Information & Referral in Reporting Period 4)\n2) Then enter the total number of individuals who received that type of services within the service categories and programs\n3) Then enter the number of times each specific service was provided by this court during the reporting period within each of the provided categories (e.g., information about the criminal justice process) using the beige/yellow boxes only (note: some boxes automatically total the subcategories and entries from elsewhere in the column)\n"]
[null,null,null,null,null,null,null,"Reporting Period 1",null,"Reporting Period 2",null,null,"Reporting Period 3",null,null,"Reporting Period 4",null,null,"Reporting Period 5",null,null,"Reporting Period 6",null,null,"Reporting Period 7",null,null,"Reporting Period 8"]
[null,"A. Information & Referral",null,null,null,null,null,"Yes or No?",null,null,"Yes or No?",null,null,"Yes or No?",null,null,"Yes or No?",null,null,"Yes or No?",null,null,"Yes or No?",null,null,"Yes or No?",null,null,"Yes or No?"]
[null,"Number of Individuals"]
[null,"Number of Times/Occurrences",null,null,null,null,null,null,{"$f":"SUM(H62:H65)","v":0},null,null,{"$f":"SUM(J62:K65)","v":0},null,null,{"$f":"SUM(M62:N65)","v":0},null,null,{"$f":"SUM(P62:Q65)","v":0},null,null,{"$f":"SUM(S61:T65)","v":0},null,null,{"$f":"SUM(V61:W65)","v":0},null,null,{"$f":"SUM(Y61:Z65)","v":0},null,null,{"$f":"SUM(AB61:AC65)","v":0}]
[null,"SAFEPLAN Information & Referrals \nInclude counts of referrals made during in-person, virtual, or phone based service provision. Specify referral type in section below."]
[null,"1. Information about the criminal justice process"]
[null,"2. Information on victim rights/how to obtain notifications"]
[null,"3. Referral to other victim service programs"]
[null,"4. Referral to other services/supports/resources (includes legal, medical, faith-based organizations, address confidentiality programs, etc.)"]
[null,"Information & Referral - Referrals Descriptions\nSpecify type of referral provided for each referral counted above",null,null,null,null,null,null,{"$f":"SUM(H67,H68,H69,H70,H71,H72,H73,H74,H75)","v":0},null,null,{"$f":"SUM(J67:K75)","v":0},null,null,{"$f":"SUM(M67:N75)","v":0},null,null,{"$f":"SUM(P67:Q75)","v":0},null,null,{"$f":"SUM(S67,S68,S69,S70,S71,S72,#REF!,#REF!,S75)","v":{"$error":"#REF!"}},null,null,{"$f":"SUM(V67,V68,V69,V70,V71,V72,#REF!,#REF!,V75)","v":{"$error":"#REF!"}},null,null,{"$f":"SUM(Y67,Y68,Y69,Y70,Y71,Y72,#REF!,#REF!,Y75)","v":{"$error":"#REF!"}},null,null,{"$f":"SUM(AB67,AB68,AB69,AB70,AB71,AB72,#REF!,#REF!,AB75)","v":{"$error":"#REF!"}}]
[null,"DV Program"]
[null,"SA Program"]
[null,"DA's Office"]
[null,"Legal Services"]
[null,"Police"]
[null,"Other Court Personnel"]
[null,"Victim Compensation"]
[null,"Medical Referral"]
[null,"Other"]
[null,"B. Personal Advocacy/Accompaniment",null,null,null,null,null,"Yes or No?",null,null,"Yes or No?",null,null,"Yes or No?",null,null,"Yes or No?",null,null,"Yes or No?",null,null,"Yes or No?",null,null,"Yes or No?",null,null,"Yes or No?"]
[null,"Number of Individuals"]
[null,"Number of Times/Occurrences",null,null,null,null,null,null,{"$f":"SUM(H80:H88)","v":0},null,null,{"$f":"SUM(J80:K88)","v":0},null,null,{"$f":"SUM(M80:N88)","v":0},null,null,{"$f":"SUM(P80:Q88)","v":0},null,null,{"$f":"SUM(S78:S88)","v":0},null,null,{"$f":"SUM(V78:V88)","v":0},null,null,{"$f":"SUM(Y78:Y88)","v":0},null,null,{"$f":"SUM(AB78:AB88)","v":0}]
[null,"SAFEPLAN Personal Advocacy/Accompaniment"]
[null,"1. Victim advocacy/accompaniment to emergency medical care"]
[null,"2. Victim advocacy/accompaniment to medical forensic exam"]
[null,"3. Law enforcement interview advocacy/accompaniment"]
[null,"4. Individual advocacy"]
[null,"5. Performance of medical or nonmedical forensic exam or interview, or medical evidence collection"]
[null,"6. Immigration assistance (e.g., special visas, continued presence application, and other immigration relief)"]
[null,"7. Intervention with employer, creditor, landlord, or academic institution"]
[null,"8. Child or dependent care assistance (includes coordination of services)"]
[null,"9. Interpreter services"]
[null,"C. Emotional Support or Safety Services",null,null,null,null,null,"Yes or No?",null,null,"Yes or No?",null,null,"Yes or No?",null,null,"Yes or No?",null,null,"Yes or No?",null,null,"Yes or No?",null,null,"Yes or No?",null,null,"Yes or No?"]
[null,"Number of Individuals"]
[null,"Number of Times/Occurrences",null,null,null,null,null,null,{"$f":"SUM(H93:H99)","v":0},null,null,{"$f":"SUM(J93:K99)","v":0},null,null,{"$f":"SUM(M93:N99)","v":0},null,null,{"$f":"SUM(P93:Q99)","v":0},null,null,{"$f":"SUM(S92:S99)","v":0},null,null,{"$f":"SUM(V92:V99)","v":0},null,null,{"$f":"SUM(Y92:Y99)","v":0},null,null,{"$f":"SUM(AB92:AB99)","v":0}]
[null,"SAFEPLAN Emotional Support or Safety Services "]
[null,"1. Crisis intervention (in-person, includes safety planning, etc.)"]
[null,"2. Hotline/crisis line counseling"]
[null,"3. On-scene crisis response (e.g., community crisis response)"]
[null,"4. Individual counseling"]
[null,"5. Support groups (facilitated or peer)"]
[null,"6. Other therapy (traditional, cultural, or alternative healing; art, writing, or play therapy, etc.)"]
[null,"7. Emergency financial assistance (includes emergency loans and petty cash, payment for items such as food and/or clothing, changing windows and/or locks, taxis, prophylactic and nonprophylactic medications, durable medical equipment, etc.)"]
[null,"D. Shelter/Housing Services",null,null,null,null,null,"Yes or No?",null,null,"Yes or No?",null,null,"Yes or No?",null,null,"Yes or No?",null,null,"Yes or No?",null,null,"Yes or No?",null,null,"Yes or No?",null,null,"Yes or No?"]
[null,"Number of Individuals"]
[null,"Number of Times/Occurrences",null,null,null,null,null,null,{"$f":"SUM(H104:H106)","v":0},null,null,{"$f":"SUM(J104:K106)","v":0},null,null,{"$f":"SUM(M104:N106)","v":0},null,null,{"$f":"SUM(P104:Q106)","v":0},null,null,{"$f":"SUM(S103:S106)","v":0},null,null,{"$f":"SUM(V103:V106)","v":0},null,null,{"$f":"SUM(Y103:Y106)","v":0},null,null,{"$f":"SUM(AB103:AB106)","v":0}]
[null,"SAFEPLAN Shelter/Housing Services"]
[null,"1. Emergency shelter or safe house"]
[null,"2. Transitional housing"]
[null,"3. Relocation assistance (includes assistance with obtaining housing)"]
[null,"E. Criminal/Civil Justice System Assistance",null,null,null,null,null,"Yes or No?",null,null,"Yes or No?",null,null,"Yes or No?",null,null,"Yes or No?",null,null,"Yes or No?",null,null,"Yes or No?",null,null,"Yes or No?",null,null,"Yes or No?"]
[null,"Number of Individuals"]
[null,"Number of Times/Occurrences",null,null,null,null,null,null,{"$f":"SUM(H111:H113,H115:H121,I114)","v":0},null,null,{"$f":"SUM(J111:K113,J115:K121,L114)","v":0},null,null,{"$f":"SUM(M111:N113,M115:N121,O114)","v":0},null,null,{"$f":"SUM(P111:Q113,P115:Q121,R114)","v":0},null,null,{"$f":"SUM(S110:S121)","v":0},null,null,{"$f":"SUM(V110:V121)","v":0},null,null,{"$f":"SUM(Y110:Y121)","v":0},null,null,{"$f":"SUM(AB110:AB121)","v":0}]
[null,"SAFEPLAN Criminal/Civil Justice System Assistance ",null,null,null,null,null,null,null,null,null,null,null,null,null,null,null,null,null,null,{"$f":"SUM(T111:T150)","v":0},null,null,{"$f":"SUM(W111:W150)","v":0},null,null,{"$f":"SUM(Z111:Z150)","v":0},null,null,{"$f":"SUM(AC111:AC150)","v":0}]
[null,"1. Notification of criminal justice events (e.g., case status, arrest, court proceedings, case disposition, release, etc.)"]
[null,"2. Victim impact statement assistance"]
[null,"3. Assistance with restitution (includes assistance in requesting and when collection efforts are not successful)"]
[null,"4. Civil legal assistance in obtaining protection or restraining order (auto-calculated based on 209A and 258E advocacy & accompaniment counts reported in description section below)",null,null,null,null,null,null,{"$f":"SUM(I123,I136)","v":0},null,null,{"$f":"SUM(L123,L136)","v":0},null,null,{"$f":"SUM(O123,O136)","v":0},null,null,{"$f":"SUM(R123,R136)","v":0}]
[null,"5. Civil legal assistance with family law issues (e.g., custody, visitation, or support)"]
[null,"6. Other emergency justice‐related assistance"]
[null,"7. Immigration assistance (e.g., special visas, continued presence application, and other immigration relief)"]
[null,"8. Prosecution interview advocacy/accompaniment"]
[null,"9. Law enforcement interview advocacy/accompaniment"]
[null,"10. Criminal advocacy/accompaniment"]
[null,"11. Other legal advice and/or counsel"]
[null,"209A & 258E Events\nSpecify civil legal assistance provided for each 209A or 258E event"]
[null,"209A Abuse Prevention Order/Restraining Order Events",null,null,null,null,null,null,{"$f":"SUM(H124:H125)","v":0},null,null,{"$f":"SUM(J124:K125)","v":0},null,null,{"$f":"SUM(M124:N125)","v":0},null,null,{"$f":"SUM(P124:Q125)","v":0}]
[null,"1. 209A Advocacy"]
[null,"2. 209A Accompaniment"]
[null,null,"209A Accompaniment Detail - Provide additional details below about each accompaniment instance counted above"]
[null,null,null,null,"Motion to Terminate Granted (Plaintiff)"]
[null,null,null,null,"Motion to Terminate Denied (Plaintiff)"]
[null,null,null,null,"Temporary Restraining Order - Requested"]
[null,null,null,null,"Temporary Restraining Order - Granted"]
[null,null,null,null,"Temporary Restraining Order - Scheduled for Hearing after Notice"]
[null,null,null,null,"Temporary Restraining Order - Denied"]
[null,null,null,null,"Final Restraining Order - Requested"]
[null,null,null,null,"Final Restraining Order - Granted"]
[null,null,null,null,"Final Restraining Order - Denied"]
[null,"258E Harassment Prevention Order Events",null,null,null,null,null,null,{"$f":"SUM(H137:H138)","v":0},null,null,{"$f":"SUM(J137:K138)","v":0},null,null,{"$f":"SUM(M137:N138)","v":0},null,null,{"$f":"SUM(P137:Q138)","v":0}]
[null,"1. 258E Advocacy"]
[null,"2. 258E Accompaniment"]
[null,null,"258E Accompaniment Detail - Provide additional details below about each accompaniment instance counted above"]
[null,null,null,null,"Motion to Terminate Granted (Plaintiff)"]
[null,null,null,null,"Motion to Terminate Denied (Plaintiff)"]
[null,null,null,null,"Temporary Harassment Order - Requested"]
[null,null,null,null,"Temporary Harassment Order - Granted"]
[null,null,null,null,"Temporary Harassment Order - Scheduled for Hearing after Notice"]
[null,null,null,null,"Temporary Harassment Order - Denied"]
[null,null,null,null,"Final Harassment Order - Requested"]
[null,null,null,null,"Final Harassment Order - Granted"]
[null,null,null,null,"Final Harassment Order - Denied"]
[null,"Additional Comments: "]
[null,"Insert response here. "]
[]
[]
[]
[]
["O","8. Number of requests for services that were unmet because of organizational capacity issues: ",null,null,null,null,null,"Reporting Period 1",null,"Reporting Period 2",null,null,"Reporting Period 3",null,null,"Reporting Period 4",null,null,"Reporting Period 5",null,null,"Reporting Period 6",null,null,"Reporting Period 7",null,null,"Reporting Period 8"]
[]
[]
[null,"Please Explain. "]
[]
[]
[]
[]
[]
["O","9. Does your organization formally survey clients for feedback on services received? ",null,null,null,null,null,null,null,null,null,"Select one."]
[]
["O","10. Number of surveys distributed to clients (included, but not limited to, those distributed by hand, mail or electronic methods):",null,null,null,null,null,"Reporting Period 1",null,"Reporting Period 2",null,null,"Reporting Period 3",null,null,"Reporting Period 4",null,null,"Reporting Period 5",null,null,"Reporting Period 6",null,null,"Reporting Period 7",null,null,"Reporting Period 8"]
[]
[]
[]
["O","11. Number of surveys completed by clients: ",null,null,null,null,null,"Reporting Period 1",null,"Reporting Period 2",null,null,"Reporting Period 3",null,null,"Reporting Period 4",null,null,"Reporting Period 5",null,null,"Reporting Period 6",null,null,"Reporting Period 7",null,null,"Reporting Period 8"]
[]
[]
[]
["O","12. Does your organization formally survey staff for feedback on trainings received? ",null,null,null,null,null,null,null,null,null,"Select one."]
[]
["O","13. Number of surveys distributed to staff (included, but not limited to, those distributed by hand, mail or electronic methods):",null,null,null,null,null,"Reporting Period 1",null,"Reporting Period 2",null,null,"Reporting Period 3",null,null,"Reporting Period 4",null,null,"Reporting Period 5",null,null,"Reporting Period 6",null,null,"Reporting Period 7",null,null,"Reporting Period 8"]
[]
[]
[]
["O","14. Number of surveys completed by staff: ",null,null,null,null,null,"Reporting Period 1",null,"Reporting Period 2",null,null,"Reporting Period 3",null,null,"Reporting Period 4",null,null,"Reporting Period 5",null,null,"Reporting Period 6",null,null,"Reporting Period 7",null,null,"Reporting Period 8"]
[]
[]
[]
[]
[null,"15. Please discuss some of the challenges your victim assistance program faced during the course of the federal fiscal year: "]
["O"]
[null,"Year 1",null,null,null,null,null,null,null,null,null,null,null,null,null,null,"Year 2"]
[null,"Insert response here. ",null,null,null,null,null,null,null,null,null,null,null,null,null,null,"Insert response here. "]
[]
[]
[]
[]
[]
[]
[]
[]
[]
[]
[]
[]
[]
[null,"16. Please describe some of the services that victims needed but could not be provided. What were the challenges that prevented those services from being provided: "]
["O"]
[null,"Year 1",null,null,null,null,null,null,null,null,null,null,null,null,null,null,"Year 2"]
[null,"Insert response here. ",null,null,null,null,null,null,null,null,null,null,null,null,null,null,"Insert response here."]
[]
[]
[]
[]
[]
[]
[]
[]
[]
[]
[]
[]
[]
["O","OPTIONAL. Please share a success story or client spotlight in the space below. Do not include any identifying or confidential information. "]
[]
[null,"Year 1",null,null,null,null,null,null,null,null,null,null,null,null,null,null,"Year 2"]
[null,"Insert response here. ",null,null,null,null,null,null,null,null,null,null,null,null,null,null,"Insert response here."]

{"sheet":"1.6 Sample Court Tab","index":10,"n_rows":222,"n_cols":37,"rows_kept":222,"cut":false,"hidden":false,"merged":[[220,1,220,14],[220,16,220,30],[221,1,233,14],[221,16,233,30],[201,1,202,30],[203,1,203,14],[203,16,203,30],[204,1,216,14],[204,16,216,30],[218,0,219,0],[218,1,219,30],[180,27,181,29],[184,1,185,16],[186,1,186,14],[186,16,186,30],[187,1,199,14],[187,16,199,30],[179,21,179,23],[179,24,179,26],[179,27,179,29],[180,7,181,8],[180,9,181,11],[180,12,181,14],[180,15,181,17],[180,18,181,20],[180,21,181,23],[180,24,181,26],[179,1,181,6],[179,7,179,8],[179,9,179,11],[179,12,179,14],[179,15,179,17],[179,18,179,20],[175,24,175,26],[175,27,175,29],[176,7,177,8],[176,9,177,11],[176,12,177,14],[176,15,177,17],[176,18,177,20],[176,21,177,23],[176,24,177,26],[176,27,177,29],[170,24,171,26],[170,27,171,29],[173,11,173,14],[175,1,177,6],[175,7,175,8],[175,9,175,11],[175,12,175,14],[175,15,175,17],[175,18,175,20],[175,21,175,23],[170,7,171,8],[170,9,171,11],[170,12,171,14],[170,15,171,17],[170,18,171,20],[170,21,171,23],[166,27,167,29],[169,1,171,6],[169,7,169,8],[169,9,169,11],[169,12,169,14],[169,15,169,17],[169,18,169,20],[169,21,169,23],[169,24,169,26],[169,27,169,29],[165,21,165,23],[165,24,165,26],[165,27,165,29],[166,7,167,8],[166,9,167,11],[166,12,167,14],[166,15,167,17],[166,18,167,20],[166,21,167,23],[166,24,167,26],[155,27,156,29],[157,1,157,29],[158,1,161,29],[163,11,163,14],[165,1,167,6],[165,7,165,8],[165,9,165,11],[165,12,165,14],[165,15,165,17],[165,18,165,20],[154,21,154,23],[154,24,154,26],[154,27,154,29],[155,7,156,8],[155,9,156,11],[155,12,156,14],[155,15,156,17],[155,18,156,20],[155,21,156,23],[155,24,156,26],[154,1,156,6],[154,7,154,8],[154,9,154,11],[154,12,154,14],[154,15,154,17],[154,18,154,20],[147,4,147,6],[147,9,147,10],[147,12,147,13],[147,15,147,16],[148,1,148,29],[149,1,152,29],[145,24,145,25],[145,27,145,28],[146,4,146,6],[146,9,146,10],[146,12,146,13],[146,15,146,16],[145,4,145,6],[145,9,145,10],[145,12,145,13],[145,15,145,16],[145,18,145,19],[145,21,145,22],[143,24,143,25],[143,27,143,28],[144,4,144,6],[144,9,144,10],[144,12,144,13],[144,15,144,16],[144,18,144,19],[144,21,144,22],[144,24,144,25],[144,27,144,28],[143,4,143,6],[143,9,143,10],[143,12,143,13],[143,15,143,16],[143,18,143,19],[143,21,143,22],[141,24,141,25],[141,27,141,28],[142,4,142,6],[142,9,142,10],[142,12,142,13],[142,15,142,16],[142,18,142,19],[142,21,142,22],[142,24,142,25],[142,27,142,28],[141,4,141,6],[141,9,141,10],[141,12,141,13],[141,15,141,16],[141,18,141,19],[141,21,141,22],[139,27,139,28],[140,4,140,6],[140,9,140,10],[140,12,140,13],[140,15,140,16],[140,18,140,19],[140,21,140,22],[140,24,140,25],[140,27,140,28],[137,24,137,25],[137,27,137,28],[138,2,138,6],[139,4,139,6],[139,9,139,10],[139,12,139,13],[139,15,139,16],[139,18,139,19],[139,21,139,22],[139,24,139,25],[137,1,137,6],[137,9,137,10],[137,12,137,13],[137,15,137,16],[137,18,137,19],[137,21,137,22],[135,24,135,25],[135,27,135,28],[136,1,136,6],[136,9,136,10],[136,12,136,13],[136,15,136,16],[136,18,136,19],[136,21,136,22],[136,24,136,25],[136,27,136,28],[135,1,135,6],[135,9,135,10],[135,12,135,13],[135,15,135,16],[135,18,135,19],[135,21,135,22],[133,24,133,25],[133,27,133,28],[134,4,134,6],[134,9,134,10],[134,12,134,13],[134,15,134,16],[134,18,134,19],[134,21,134,22],[134,24,134,25],[134,27,134,28],[133,4,133,6],[133,9,133,10],[133,12,133,13],[133,15,133,16],[133,18,133,19],[133,21,133,22],[131,24,131,25],[131,27,131,28],[132,4,132,6],[132,9,132,10],[132,12,132,13],[132,15,132,16],[132,18,132,19],[132,21,132,22],[132,24,132,25],[132,27,132,28],[131,4,131,6],[131,9,131,10],[131,12,131,13],[131,15,131,16],[131,18,131,19],[131,21,131,22],[129,24,129,25],[129,27,129,28],[130,4,130,6],[130,9,130,10],[130,12,130,13],[130,15,130,16],[130,18,130,19],[130,21,130,22],[130,24,130,25],[130,27,130,28],[129,4,129,6],[129,9,129,10],[129,12,129,13],[129,15,129,16],[129,18,129,19],[129,21,129,22],[127,27,127,28],[128,4,128,6],[128,9,128,10],[128,12,128,13],[128,15,128,16],[128,18,128,19],[128,21,128,22],[128,24,128,25],[128,27,128,28],[126,21,126,22],[126,24,126,25],[126,27,126,28],[127,4,127,6],[127,9,127,10],[127,12,127,13],[127,15,127,16],[127,18,127,19],[127,21,127,22],[127,24,127,25],[125,2,125,6],[126,4,126,6],[126,9,126,10],[126,12,126,13],[126,15,126,16],[126,18,126,19],[123,1,123,6],[123,9,123,10],[123,12,123,13],[123,15,123,16],[124,1,124,6],[124,9,124,10],[124,12,124,13],[124,15,124,16],[121,24,121,25],[121,27,121,28],[122,1,122,6],[122,9,122,10],[122,12,122,13],[122,15,122,16],[120,18,120,19],[120,21,120,22],[120,24,120,25],[120,27,120,28],[121,1,121,6],[121,9,121,10],[121,12,121,13],[121,15,121,16],[121,18,121,19],[121,21,121,22],[119,1,119,6],[119,9,119,10],[119,12,119,13],[119,15,119,16],[120,1,120,6],[120,9,120,10],[120,12,120,13],[120,15,120,16],[117,1,117,6],[117,9,117,10],[117,12,117,13],[117,15,117,16],[118,1,118,6],[118,9,118,10],[118,12,118,13],[118,15,118,16],[115,1,115,6],[115,9,115,10],[115,12,115,13],[115,15,115,16],[116,1,116,6],[116,9,116,10],[116,12,116,13],[116,15,116,16],[113,27,113,28],[114,1,114,6],[114,9,114,10],[114,12,114,13],[114,15,114,16],[114,18,114,19],[114,21,114,22],[114,24,114,25],[114,27,114,28],[113,1,113,6],[113,9,113,10],[113,15,113,16],[113,18,113,19],[113,21,113,22],[113,24,113,25],[111,24,111,25],[111,27,111,28],[112,1,112,6],[112,9,112,10],[112,12,112,13],[112,15,112,16],[112,18,112,19],[112,21,112,22],[112,24,112,25],[112,27,112,28],[111,1,111,6],[111,9,111,10],[111,12,111,13],[111,15,111,16],[111,18,111,19],[111,21,111,22],[109,27,109,28],[110,1,110,6],[110,9,110,10],[110,12,110,13],[110,15,110,16],[110,18,110,19],[110,21,110,22],[110,24,110,25],[110,27,110,28],[107,24,107,26],[107,27,107,29],[108,1,108,6],[109,1,109,6],[109,9,109,10],[109,12,109,13],[109,15,109,16],[109,18,109,19],[109,21,109,22],[109,24,109,25],[106,22,106,23],[106,25,106,26],[106,28,106,29],[107,1,107,6],[107,7,107,8],[107,9,107,11],[107,12,107,14],[107,15,107,17],[107,18,107,20],[107,21,107,23],[106,1,106,6],[106,7,106,8],[106,10,106,11],[106,13,106,14],[106,16,106,17],[106,19,106,20],[104,24,104,25],[104,27,104,28],[105,1,105,6],[105,9,105,10],[105,12,105,13],[105,15,105,16],[105,18,105,19],[105,21,105,22],[105,24,105,25],[105,27,105,28],[104,1,104,6],[104,9,104,10],[104,12,104,13],[104,15,104,16],[104,18,104,19],[104,21,104,22],[102,27,102,28],[103,1,103,6],[103,9,103,10],[103,12,103,13],[103,15,103,16],[103,18,103,19],[103,21,103,22],[103,24,103,25],[103,27,103,28],[100,24,100,26],[100,27,100,29],[101,1,101,6],[102,1,102,6],[102,9,102,10],[102,12,102,13],[102,15,102,16],[102,18,102,19],[102,21,102,22],[102,24,102,25],[99,22,99,23],[99,25,99,26],[99,28,99,29],[100,1,100,6],[100,7,100,8],[100,9,100,11],[100,12,100,14],[100,15,100,17],[100,18,100,20],[100,21,100,23],[99,1,99,6],[99,7,99,8],[99,10,99,11],[99,13,99,14],[99,16,99,17],[99,19,99,20],[97,24,97,25],[97,27,97,28],[98,1,98,6],[98,9,98,10],[98,12,98,13],[98,15,98,16],[98,18,98,19],[98,21,98,22],[98,24,98,25],[98,27,98,28],[97,1,97,6],[97,9,97,10],[97,12,97,13],[97,15,97,16],[97,18,97,19],[97,21,97,22],[95,24,95,25],[95,27,95,28],[96,1,96,6],[96,9,96,10],[96,12,96,13],[96,15,96,16],[96,18,96,19],[96,21,96,22],[96,24,96,25],[96,27,96,28],[95,1,95,6],[95,9,95,10],[95,12,95,13],[95,15,95,16],[95,18,95,19],[95,21,95,22],[93,24,93,25],[93,27,93,28],[94,1,94,6],[94,9,94,10],[94,12,94,13],[94,15,94,16],[94,18,94,19],[94,21,94,22],[94,24,94,25],[94,27,94,28],[93,1,93,6],[93,9,93,10],[93,12,93,13],[93,15,93,16],[93,18,93,19],[93,21,93,22],[91,21,91,22],[91,24,91,25],[91,27,91,28],[92,1,92,6],[92,9,92,10],[92,12,92,13],[92,15,92,16],[90,1,90,6],[91,1,91,6],[91,9,91,10],[91,12,91,13],[91,15,91,16],[91,18,91,19],[88,28,88,29],[89,1,89,6],[89,7,89,8],[89,9,89,11],[89,12,89,14],[89,15,89,17],[89,18,89,20],[89,21,89,23],[89,24,89,26],[89,27,89,29],[87,24,87,25],[87,27,87,28],[88,1,88,6],[88,7,88,8],[88,10,88,11],[88,13,88,14],[88,16,88,17],[88,19,88,20],[88,22,88,23],[88,25,88,26],[87,1,87,6],[87,9,87,10],[87,12,87,13],[87,15,87,16],[87,18,87,19],[87,21,87,22],[85,24,85,25],[85,27,85,28],[86,1,86,6],[86,9,86,10],[86,12,86,13],[86,15,86,16],[86,18,86,19],[86,21,86,22],[86,24,86,25],[86,27,86,28],[85,1,85,6],[85,9,85,10],[85,12,85,13],[85,15,85,16],[85,18,85,19],[85,21,85,22],[83,24,83,25],[83,27,83,28],[84,1,84,6],[84,9,84,10],[84,12,84,13],[84,15,84,16],[84,18,84,19],[84,21,84,22],[84,24,84,25],[84,27,84,28],[83,1,83,6],[83,9,83,10],[83,12,83,13],[83,15,83,16],[83,18,83,19],[83,21,83,22],[81,24,81,25],[81,27,81,28],[82,1,82,6],[82,9,82,10],[82,12,82,13],[82,15,82,16],[82,18,82,19],[82,21,82,22],[82,24,82,25],[82,27,82,28],[81,1,81,6],[81,9,81,10],[81,12,81,13],[81,15,81,16],[81,18,81,19],[81,21,81,22],[79,27,79,28],[80,1,80,6],[80,9,80,10],[80,12,80,13],[80,15,80,16],[80,18,80,19],[80,21,80,22],[80,24,80,25],[80,27,80,28],[78,21,78,22],[78,24,78,25],[78,27,78,28],[79,1,79,6],[79,9,79,10],[79,12,79,13],[79,15,79,16],[79,18,79,19],[79,21,79,22],[79,24,79,25],[77,1,77,6],[78,1,78,6],[78,9,78,10],[78,12,78,13],[78,15,78,16],[78,18,78,19],[75,28,75,29],[76,1,76,6],[76,7,76,8],[76,9,76,11],[76,12,76,14],[76,15,76,17],[76,18,76,20],[76,21,76,23],[76,24,76,26],[76,27,76,29],[74,24,74,26],[74,27,74,29],[75,1,75,6],[75,7,75,8],[75,10,75,11],[75,13,75,14],[75,16,75,17],[75,19,75,20],[75,22,75,23],[75,25,75,26],[74,1,74,6],[74,9,74,10],[74,12,74,13],[74,15,74,16],[74,18,74,20],[74,21,74,23],[72,24,72,26],[72,27,72,29],[73,1,73,6],[73,9,73,10],[73,12,73,13],[73,15,73,16],[73,18,73,20],[73,21,73,23],[73,24,73,26],[73,27,73,29],[72,1,72,6],[72,9,72,10],[72,12,72,13],[72,15,72,16],[72,18,72,20],[72,21,72,23],[70,24,70,26],[70,27,70,29],[71,1,71,6],[71,9,71,10],[71,12,71,13],[71,15,71,16],[71,18,71,20],[71,21,71,23],[71,24,71,26],[71,27,71,29],[70,1,70,6],[70,9,70,10],[70,12,70,13],[70,15,70,16],[70,18,70,20],[70,21,70,23],[68,24,68,26],[68,27,68,29],[69,1,69,6],[69,9,69,10],[69,12,69,13],[69,15,69,16],[69,18,69,20],[69,21,69,23],[69,24,69,26],[69,27,69,29],[68,1,68,6],[68,9,68,10],[68,12,68,13],[68,15,68,16],[68,18,68,20],[68,21,68,23],[66,27,66,29],[67,1,67,6],[67,9,67,10],[67,12,67,13],[67,15,67,16],[67,18,67,20],[67,21,67,23],[67,24,67,26],[67,27,67,29],[64,24,64,25],[64,27,64,28],[65,1,65,6],[66,1,66,6],[66,9,66,10],[66,12,66,13],[66,15,66,16],[66,18,66,20],[66,21,66,23],[66,24,66,26],[64,1,64,6],[64,9,64,10],[64,12,64,13],[64,15,64,16],[64,18,64,19],[64,21,64,22],[62,24,62,25],[62,27,62,28],[63,1,63,6],[63,9,63,10],[63,12,63,13],[63,15,63,16],[63,18,63,19],[63,21,63,22],[63,24,63,25],[63,27,63,28],[62,1,62,6],[62,9,62,10],[62,12,62,13],[62,15,62,16],[62,18,62,19],[62,21,62,22],[60,27,60,28],[61,1,61,6],[61,9,61,10],[61,12,61,13],[61,15,61,16],[61,18,61,19],[61,21,61,22],[61,24,61,25],[61,27,61,28],[58,24,58,26],[58,27,58,29],[59,1,59,6],[60,1,60,6],[60,9,60,10],[60,12,60,13],[60,15,60,16],[60,18,60,19],[60,21,60,22],[60,24,60,25],[57,22,57,23],[57,25,57,26],[57,28,57,29],[58,1,58,6],[58,7,58,8],[58,9,58,11],[58,12,58,14],[58,15,58,17],[58,18,58,20],[58,21,58,23],[57,1,57,6],[57,7,57,8],[57,10,57,11],[57,13,57,14],[57,16,57,17],[57,19,57,20],[55,1,55,29],[56,7,56,8],[56,9,56,11],[56,12,56,14],[56,15,56,17],[56,18,56,20],[56,21,56,23],[56,24,56,26],[56,27,56,29],[52,27,52,29],[53,1,53,6],[53,7,53,8],[53,9,53,11],[53,12,53,14],[53,15,53,17],[53,18,53,20],[53,21,53,23],[53,24,53,26],[53,27,53,29],[51,24,51,26],[51,27,51,29],[52,1,52,6],[52,7,52,8],[52,9,52,11],[52,12,52,14],[52,15,52,17],[52,18,52,20],[52,21,52,23],[52,24,52,26],[50,21,50,23],[50,24,50,26],[50,27,50,29],[51,1,51,6],[51,7,51,8],[51,9,51,11],[51,12,51,14],[51,15,51,17],[51,18,51,20],[51,21,51,23],[50,1,50,6],[50,7,50,8],[50,9,50,11],[50,12,50,14],[50,15,50,17],[50,18,50,20],[48,27,48,29],[49,1,49,6],[49,7,49,8],[49,9,49,11],[49,12,49,14],[49,15,49,17],[49,18,49,20],[49,21,49,23],[49,24,49,26],[49,27,49,29],[47,24,47,26],[47,27,47,29],[48,1,48,6],[48,7,48,8],[48,9,48,11],[48,12,48,14],[48,15,48,17],[48,18,48,20],[48,21,48,23],[48,24,48,26],[46,21,46,23],[46,24,46,26],[46,27,46,29],[47,1,47,6],[47,7,47,8],[47,9,47,11],[47,12,47,14],[47,15,47,17],[47,18,47,20],[47,21,47,23],[46,1,46,6],[46,7,46,8],[46,9,46,11],[46,12,46,14],[46,15,46,17],[46,18,46,20],[44,27,44,29],[45,1,45,6],[45,7,45,8],[45,9,45,11],[45,12,45,14],[45,15,45,17],[45,18,45,20],[45,21,45,23],[45,24,45,26],[45,27,45,29],[43,24,43,26],[43,27,43,29],[44,1,44,6],[44,7,44,8],[44,9,44,11],[44,12,44,14],[44,15,44,17],[44,18,44,20],[44,21,44,23],[44,24,44,26],[42,21,42,23],[42,24,42,26],[42,27,42,29],[43,1,43,6],[43,7,43,8],[43,9,43,11],[43,12,43,14],[43,15,43,17],[43,18,43,20],[43,21,43,23],[41,18,41,20],[41,21,41,23],[41,24,41,26],[41,27,41,29],[42,1,42,6],[42,7,42,8],[42,9,42,11],[42,12,42,14],[42,15,42,17],[42,18,42,20],[32,27,33,29],[36,1,36,8],[39,1,39,29],[40,1,41,6],[40,7,40,17],[40,19,40,29],[41,7,41,8],[41,9,41,11],[41,12,41,14],[41,15,41,17],[31,21,31,23],[31,24,31,26],[31,27,31,29],[32,7,33,8],[32,9,33,11],[32,12,33,14],[32,15,33,17],[32,18,33,20],[32,21,33,23],[32,24,33,26],[31,1,33,6],[31,7,31,8],[31,9,31,11],[31,12,31,14],[31,15,31,17],[31,18,31,20],[26,24,26,26],[26,27,26,29],[27,7,28,8],[27,9,28,11],[27,12,28,14],[27,15,28,17],[27,18,28,20],[27,21,28,23],[27,24,28,26],[27,27,28,29],[23,21,24,23],[23,24,24,26],[23,27,24,29],[26,1,28,6],[26,7,26,8],[26,9,26,11],[26,12,26,14],[26,15,26,17],[26,18,26,20],[26,21,26,23],[23,3,24,6],[23,7,24,8],[23,9,24,11],[23,12,24,14],[23,15,24,17],[23,18,24,20],[20,27,20,29],[21,7,22,8],[21,9,22,11],[21,12,22,14],[21,15,22,17],[21,18,22,20],[21,21,22,23],[21,24,22,26],[21,27,22,29],[16,24,17,26],[16,27,17,29],[20,1,22,6],[20,7,20,8],[20,9,20,11],[20,12,20,14],[20,15,20,17],[20,18,20,20],[20,21,20,23],[20,24,20,26],[16,7,17,8],[16,9,17,11],[16,12,17,14],[16,15,17,17],[16,18,17,20],[16,21,17,23],[13,27,13,29],[15,1,17,6],[15,7,15,8],[15,9,15,11],[15,12,15,14],[15,15,15,17],[15,18,15,20],[15,21,15,23],[15,24,15,26],[15,27,15,29],[11,24,12,26],[11,27,12,29],[13,3,13,6],[13,7,13,8],[13,9,13,11],[13,12,13,14],[13,15,13,17],[13,18,13,20],[13,21,13,23],[13,24,13,26],[10,18,10,20],[10,21,10,23],[10,24,10,26],[10,27,10,29],[11,7,12,8],[11,9,12,11],[11,12,12,14],[11,15,12,17],[11,18,12,20],[11,21,12,23],[8,3,8,6],[8,9,8,11],[8,12,8,14],[8,15,8,17],[9,8,9,29],[10,1,12,6],[10,7,10,8],[10,9,10,11],[10,12,10,14],[10,15,10,17],[0,13,0,30],[1,13,1,19],[1,23,1,29],[2,1,2,6],[2,8,7,17],[2,36,17,43],[5,1,5,2],[5,3,5,6],[7,1,7,2],[7,3,7,6]]}
[null,null,null,null,null,null,null,null,null,null,null,null,null,"Outcome Measurement Tool (OMT)\nMA - Victim Witness Assistance Board\n\nNeed Support? Contact MOVAstats@mass.gov."]
[null,"SAFEPLAN Individual Court Data",null,null,null,null,null,null,null,null,null,null,null,"Court Tab 1",null,null,null,null,null,null,null,null,null,"(#1) DATA ENTRY TAB",null,null,null,null,null,null,null,null,null,null,null,null,"NOTES:"]
[null,"Enter the court name and then specified data for this court in the fields below.",null,null,null,null,null,null,"\nINSTRUCTIONS: This section should be completed each reporting period and each tab in one court ONLY. Use the areas in beige to enter the specified information.\n\n Once you have assigned a court to each tab, you will continue to report on that court within the same tab for each reporting period similar to how data was tracked and submitted in the previous reports."]
[]
[]
[null,"Court Name:",null,"Insert COURT NAME Here"]
[]
[null,"Reporting Period:",null,{"$f":"'1. Overall Demographics'!D8","v":"Period 1 (July 1 - September 30 2023)"}]
[null,null,null,"period can be selected on tab 1. Overall Demographics",null,null,null,"Period 1 (July 1 - September 30 2022)",null,"Period 2 (October 1 - December 31 2022)",null,null,"Period 3 (January 1 - March 31 2023)",null,null,"Period 4 (April 1 - June 30 2023)"]
[null,null,null,null,null,null,null,null,"KEY DEFINITIONS: \n\nCount each NEW individual in only one race/ethnicity type as self-reported. Individuals who self-report in more than one category should be counted in the \"Multiple Races\" category. The total number in each demographic category should equal the number of NEW individuals reported in Section 3. This data is used for statistical purposes to comply with Federal regulations.\n\nAll \"0\" entries must represent a true value of zero.\n\nIf no data is collected for a category, select \"Not Tracked\" from the list of options in the associated race/ethnicity category. This means that as a subgrantee, you are not able to submit data in this category due to the need to update this in your data tracking system, but that efforts are underway to track data as requested. Report in the \"Not Tracked\" section the number of individuals whose demographic data were not tracked.\n\nIf no data is collected for an individual, count that individual in the Not Reported category. This means that this data is collected by your organization, but it was not provided by the person completing the intake form.\n\nIf you select \"Other\" from the dropdown options, enter an explanation next to your response or this will be marked as missing data in the system."]
[null,"SECTION 1: TOTAL number of individuals who received services during the reporting period:",null,null,null,null,null,"Period 1 (July 1 - September 30 2023)",null,"Period 2 (October 1 - December 31 2023)",null,null,"Period 3 (January 1 - March 31 2024)",null,null,"Period 4 (April 1 - June 30 2024)",null,null,"Reporting Period 5",null,null,"Reporting Period 6",null,null,"Reporting Period 7",null,null,"Reporting Period 8"]
[]
[]
[]
[]
[null,"SECTION 2: TOTAL number of anonymous contacts received during the reporting period: ",null,null,null,null,null,"Reporting Period 1",null,"Reporting Period 2",null,null,"Reporting Period 3",null,null,"Reporting Period 4",null,null,"Reporting Period 5",null,null,"Reporting Period 6",null,null,"Reporting Period 7",null,null,"Reporting Period 8"]
[]
[]
[]
[]
[null,"SECTION 3: Of the number of individuals entered in question 1, how many were NEW individuals who received services from your agency for the first time during the reporting period: ",null,null,null,null,null,"Reporting Period 1",null,"Reporting Period 2",null,null,"Reporting Period 3",null,null,"Reporting Period 4",null,null,"Reporting Period 5",null,null,"Reporting Period 6",null,null,"Reporting Period 7",null,null,"Reporting Period 8"]
[]
[]
[]
[]
[]
[null,"SECTION 4: TOTAL number of individuals with NO PRIOR CONTACT with a DV/SA Agency during the reporting period: ",null,null,null,null,null,"Reporting Period 1",null,"Reporting Period 2",null,null,"Reporting Period 3",null,null,"Reporting Period 4",null,null,"Reporting Period 5",null,null,"Reporting Period 6",null,null,"Reporting Period 7",null,null,"Reporting Period 8"]
[]
[]
[]
[]
[null,"SECTION 5: AUTOCALCULATED: TOTAL number of continuing individuals during the reporting period: ",null,null,null,null,null,"Reporting Period 1",null,"Reporting Period 2",null,null,"Reporting Period 3",null,null,"Reporting Period 4",null,null,"Reporting Period 5",null,null,"Reporting Period 6",null,null,"Reporting Period 7",null,null,"Reporting Period 8"]
[null,null,null,null,null,null,null,{"$f":"H12-H22","v":0},null,{"$f":"J12-J22","v":0},null,null,{"$f":"M12-M22","v":0},null,null,{"$f":"P12-P22","v":0},null,null,0,null,null,{"$f":"V12-V22","v":0},null,null,{"$f":"Y12-Y22","v":0},null,null,0]
[]
[]
[]
[null,"Is your agency able to track NEW individuals throughout the Fiscal Year?",null,null,null,null,null,null,null,null,"Select one."]
[]
[]
[null,"SECTION 6: Types of Abuse Alleged: Enter the number of Individuals who Received Services Based on the Type of Alleged Abuse During the Reporting Period - ALL individuals\nAn individual MAY be counted in more than one classification."]
[null,"Type of Alleged Abuse",null,null,null,null,null,"Number of Individuals",null,null,null,null,null,null,null,null,null,null,null,"Number of Individuals - Year 2"]
[null,null,null,null,null,null,null,"Reporting Period 1",null,"Reporting Period 2",null,null,"Reporting Period 3",null,null,"Reporting Period 4",null,null,"Reporting Period 5",null,null,"Reporting Period 6",null,null,"Reporting Period 7",null,null,"Reporting Period 8"]
[null,"Attempted physical harm (209A)"]
[null,"Caused physical harm (209A)"]
[null,"Imminent Fear (209A)"]
[null,"Sexual Assault (209A)"]
[null,"Stalking (258E)"]
[null,"Sexual Assault (258E)"]
[null,"Criminal Harassment (258E)"]
[null,"Other (please specify below): "]
[]
[]
[]
[]
[]
[null,"SECTION 7:  Services Received\n1) First select the types of services provided by the court covered within this tab and use the dropdown options to report Yes/No for services received during the reporting period in reference (e.g., select Yes or No for A. Information & Referral in Reporting Period 4)\n2) Then enter the total number of individuals who received that type of services within the service categories and programs\n3) Then enter the number of times each specific service was provided by this court during the reporting period within each of the provided categories (e.g., information about the criminal justice process) using the beige/yellow boxes only (note: some boxes automatically total the subcategories and entries from elsewhere in the column)\n"]
[null,null,null,null,null,null,null,"Reporting Period 1",null,"Reporting Period 2",null,null,"Reporting Period 3",null,null,"Reporting Period 4",null,null,"Reporting Period 5",null,null,"Reporting Period 6",null,null,"Reporting Period 7",null,null,"Reporting Period 8"]
[null,"A. Information & Referral",null,null,null,null,null,"Yes or No?",null,null,"Yes or No?",null,null,"Yes or No?",null,null,"Yes or No?",null,null,"Yes or No?",null,null,"Yes or No?",null,null,"Yes or No?",null,null,"Yes or No?"]
[null,"Number of Individuals"]
[null,"Number of Times/Occurrences",null,null,null,null,null,null,{"$f":"SUM(H62:H65)","v":0},null,null,{"$f":"SUM(J62:K65)","v":0},null,null,{"$f":"SUM(M62:N65)","v":0},null,null,{"$f":"SUM(P62:Q65)","v":0},null,null,{"$f":"SUM(S61:T65)","v":0},null,null,{"$f":"SUM(V61:W65)","v":0},null,null,{"$f":"SUM(Y61:Z65)","v":0},null,null,{"$f":"SUM(AB61:AC65)","v":0}]
[null,"SAFEPLAN Information & Referrals \nInclude counts of referrals made during in-person, virtual, or phone based service provision. Specify referral type in section below."]
[null,"1. Information about the criminal justice process"]
[null,"2. Information on victim rights/how to obtain notifications"]
[null,"3. Referral to other victim service programs"]
[null,"4. Referral to other services/supports/resources (includes legal, medical, faith-based organizations, address confidentiality programs, etc.)"]
[null,"Information & Referral - Referrals Descriptions\nSpecify type of referral provided for each referral counted above",null,null,null,null,null,null,{"$f":"SUM(H67,H68,H69,H70,H71,H72,H73,H74,H75)","v":0},null,null,{"$f":"SUM(J67:K75)","v":0},null,null,{"$f":"SUM(M67:N75)","v":0},null,null,{"$f":"SUM(P67:Q75)","v":0},null,null,{"$f":"SUM(S67,S68,S69,S70,S71,S72,#REF!,#REF!,S75)","v":{"$error":"#REF!"}},null,null,{"$f":"SUM(V67,V68,V69,V70,V71,V72,#REF!,#REF!,V75)","v":{"$error":"#REF!"}},null,null,{"$f":"SUM(Y67,Y68,Y69,Y70,Y71,Y72,#REF!,#REF!,Y75)","v":{"$error":"#REF!"}},null,null,{"$f":"SUM(AB67,AB68,AB69,AB70,AB71,AB72,#REF!,#REF!,AB75)","v":{"$error":"#REF!"}}]
[null,"DV Program"]
[null,"SA Program"]
[null,"DA's Office"]
[null,"Legal Services"]
[null,"Police"]
[null,"Other Court Personnel"]
[null,"Victim Compensation"]
[null,"Medical Referral"]
[null,"Other"]
[null,"B. Personal Advocacy/Accompaniment",null,null,null,null,null,"Yes or No?",null,null,"Yes or No?",null,null,"Yes or No?",null,null,"Yes or No?",null,null,"Yes or No?",null,null,"Yes or No?",null,null,"Yes or No?",null,null,"Yes or No?"]
[null,"Number of Individuals"]
[null,"Number of Times/Occurrences",null,null,null,null,null,null,{"$f":"SUM(H80:H88)","v":0},null,null,{"$f":"SUM(J80:K88)","v":0},null,null,{"$f":"SUM(M80:N88)","v":0},null,null,{"$f":"SUM(P80:Q88)","v":0},null,null,{"$f":"SUM(S78:S88)","v":0},null,null,{"$f":"SUM(V78:V88)","v":0},null,null,{"$f":"SUM(Y78:Y88)","v":0},null,null,{"$f":"SUM(AB78:AB88)","v":0}]
[null,"SAFEPLAN Personal Advocacy/Accompaniment"]
[null,"1. Victim advocacy/accompaniment to emergency medical care"]
[null,"2. Victim advocacy/accompaniment to medical forensic exam"]
[null,"3. Law enforcement interview advocacy/accompaniment"]
[null,"4. Individual advocacy"]
[null,"5. Performance of medical or nonmedical forensic exam or interview, or medical evidence collection"]
[null,"6. Immigration assistance (e.g., special visas, continued presence application, and other immigration relief)"]
[null,"7. Intervention with employer, creditor, landlord, or academic institution"]
[null,"8. Child or dependent care assistance (includes coordination of services)"]
[null,"9. Interpreter services"]
[null,"C. Emotional Support or Safety Services",null,null,null,null,null,"Yes or No?",null,null,"Yes or No?",null,null,"Yes or No?",null,null,"Yes or No?",null,null,"Yes or No?",null,null,"Yes or No?",null,null,"Yes or No?",null,null,"Yes or No?"]
[null,"Number of Individuals"]
[null,"Number of Times/Occurrences",null,null,null,null,null,null,{"$f":"SUM(H93:H99)","v":0},null,null,{"$f":"SUM(J93:K99)","v":0},null,null,{"$f":"SUM(M93:N99)","v":0},null,null,{"$f":"SUM(P93:Q99)","v":0},null,null,{"$f":"SUM(S92:S99)","v":0},null,null,{"$f":"SUM(V92:V99)","v":0},null,null,{"$f":"SUM(Y92:Y99)","v":0},null,null,{"$f":"SUM(AB92:AB99)","v":0}]
[null,"SAFEPLAN Emotional Support or Safety Services "]
[null,"1. Crisis intervention (in-person, includes safety planning, etc.)"]
[null,"2. Hotline/crisis line counseling"]
[null,"3. On-scene crisis response (e.g., community crisis response)"]
[null,"4. Individual counseling"]
[null,"5. Support groups (facilitated or peer)"]
[null,"6. Other therapy (traditional, cultural, or alternative healing; art, writing, or play therapy, etc.)"]
[null,"7. Emergency financial assistance (includes emergency loans and petty cash, payment for items such as food and/or clothing, changing windows and/or locks, taxis, prophylactic and nonprophylactic medications, durable medical equipment, etc.)"]
[null,"D. Shelter/Housing Services",null,null,null,null,null,"Yes or No?",null,null,"Yes or No?",null,null,"Yes or No?",null,null,"Yes or No?",null,null,"Yes or No?",null,null,"Yes or No?",null,null,"Yes or No?",null,null,"Yes or No?"]
[null,"Number of Individuals"]
[null,"Number of Times/Occurrences",null,null,null,null,null,null,{"$f":"SUM(H104:H106)","v":0},null,null,{"$f":"SUM(J104:K106)","v":0},null,null,{"$f":"SUM(M104:N106)","v":0},null,null,{"$f":"SUM(P104:Q106)","v":0},null,null,{"$f":"SUM(S103:S106)","v":0},null,null,{"$f":"SUM(V103:V106)","v":0},null,null,{"$f":"SUM(Y103:Y106)","v":0},null,null,{"$f":"SUM(AB103:AB106)","v":0}]
[null,"SAFEPLAN Shelter/Housing Services"]
[null,"1. Emergency shelter or safe house"]
[null,"2. Transitional housing"]
[null,"3. Relocation assistance (includes assistance with obtaining housing)"]
[null,"E. Criminal/Civil Justice System Assistance",null,null,null,null,null,"Yes or No?",null,null,"Yes or No?",null,null,"Yes or No?",null,null,"Yes or No?",null,null,"Yes or No?",null,null,"Yes or No?",null,null,"Yes or No?",null,null,"Yes or No?"]
[null,"Number of Individuals"]
[null,"Number of Times/Occurrences",null,null,null,null,null,null,{"$f":"SUM(H111:H113,H115:H121,I114)","v":0},null,null,{"$f":"SUM(J111:K113,J115:K121,L114)","v":0},null,null,{"$f":"SUM(M111:N113,M115:N121,O114)","v":0},null,null,{"$f":"SUM(P111:Q113,P115:Q121,R114)","v":0},null,null,{"$f":"SUM(S110:S121)","v":0},null,null,{"$f":"SUM(V110:V121)","v":0},null,null,{"$f":"SUM(Y110:Y121)","v":0},null,null,{"$f":"SUM(AB110:AB121)","v":0}]
[null,"SAFEPLAN Criminal/Civil Justice System Assistance ",null,null,null,null,null,null,null,null,null,null,null,null,null,null,null,null,null,null,{"$f":"SUM(T111:T150)","v":0},null,null,{"$f":"SUM(W111:W150)","v":0},null,null,{"$f":"SUM(Z111:Z150)","v":0},null,null,{"$f":"SUM(AC111:AC150)","v":0}]
[null,"1. Notification of criminal justice events (e.g., case status, arrest, court proceedings, case disposition, release, etc.)"]
[null,"2. Victim impact statement assistance"]
[null,"3. Assistance with restitution (includes assistance in requesting and when collection efforts are not successful)"]
[null,"4. Civil legal assistance in obtaining protection or restraining order (auto-calculated based on 209A and 258E advocacy & accompaniment counts reported in description section below)",null,null,null,null,null,null,{"$f":"SUM(I123,I136)","v":0},null,null,{"$f":"SUM(L123,L136)","v":0},null,null,{"$f":"SUM(O123,O136)","v":0},null,null,{"$f":"SUM(R123,R136)","v":0}]
[null,"5. Civil legal assistance with family law issues (e.g., custody, visitation, or support)"]
[null,"6. Other emergency justice‐related assistance"]
[null,"7. Immigration assistance (e.g., special visas, continued presence application, and other immigration relief)"]
[null,"8. Prosecution interview advocacy/accompaniment"]
[null,"9. Law enforcement interview advocacy/accompaniment"]
[null,"10. Criminal advocacy/accompaniment"]
[null,"11. Other legal advice and/or counsel"]
[null,"209A & 258E Events\nSpecify civil legal assistance provided for each 209A or 258E event"]
[null,"209A Abuse Prevention Order/Restraining Order Events",null,null,null,null,null,null,{"$f":"SUM(H124:H125)","v":0},null,null,{"$f":"SUM(J124:K125)","v":0},null,null,{"$f":"SUM(M124:N125)","v":0},null,null,{"$f":"SUM(P124:Q125)","v":0}]
[null,"1. 209A Advocacy"]
[null,"2. 209A Accompaniment"]
[null,null,"209A Accompaniment Detail - Provide additional details below about each accompaniment instance counted above"]
[null,null,null,null,"Motion to Terminate Granted (Plaintiff)"]
[null,null,null,null,"Motion to Terminate Denied (Plaintiff)"]
[null,null,null,null,"Temporary Restraining Order - Requested"]
[null,null,null,null,"Temporary Restraining Order - Granted"]
[null,null,null,null,"Temporary Restraining Order - Scheduled for Hearing after Notice"]
[null,null,null,null,"Temporary Restraining Order - Denied"]
[null,null,null,null,"Final Restraining Order - Requested"]
[null,null,null,null,"Final Restraining Order - Granted"]
[null,null,null,null,"Final Restraining Order - Denied"]
[null,"258E Harassment Prevention Order Events",null,null,null,null,null,null,{"$f":"SUM(H137:H138)","v":0},null,null,{"$f":"SUM(J137:K138)","v":0},null,null,{"$f":"SUM(M137:N138)","v":0},null,null,{"$f":"SUM(P137:Q138)","v":0}]
[null,"1. 258E Advocacy"]
[null,"2. 258E Accompaniment"]
[null,null,"258E Accompaniment Detail - Provide additional details below about each accompaniment instance counted above"]
[null,null,null,null,"Motion to Terminate Granted (Plaintiff)"]
[null,null,null,null,"Motion to Terminate Denied (Plaintiff)"]
[null,null,null,null,"Temporary Harassment Order - Requested"]
[null,null,null,null,"Temporary Harassment Order - Granted"]
[null,null,null,null,"Temporary Harassment Order - Scheduled for Hearing after Notice"]
[null,null,null,null,"Temporary Harassment Order - Denied"]
[null,null,null,null,"Final Harassment Order - Requested"]
[null,null,null,null,"Final Harassment Order - Granted"]
[null,null,null,null,"Final Harassment Order - Denied"]
[null,"Additional Comments: "]
[null,"Insert response here. "]
[]
[]
[]
[]
["O","8. Number of requests for services that were unmet because of organizational capacity issues: ",null,null,null,null,null,"Reporting Period 1",null,"Reporting Period 2",null,null,"Reporting Period 3",null,null,"Reporting Period 4",null,null,"Reporting Period 5",null,null,"Reporting Period 6",null,null,"Reporting Period 7",null,null,"Reporting Period 8"]
[]
[]
[null,"Please Explain. "]
[]
[]
[]
[]
[]
["O","9. Does your organization formally survey clients for feedback on services received? ",null,null,null,null,null,null,null,null,null,"Select one."]
[]
["O","10. Number of surveys distributed to clients (included, but not limited to, those distributed by hand, mail or electronic methods):",null,null,null,null,null,"Reporting Period 1",null,"Reporting Period 2",null,null,"Reporting Period 3",null,null,"Reporting Period 4",null,null,"Reporting Period 5",null,null,"Reporting Period 6",null,null,"Reporting Period 7",null,null,"Reporting Period 8"]
[]
[]
[]
["O","11. Number of surveys completed by clients: ",null,null,null,null,null,"Reporting Period 1",null,"Reporting Period 2",null,null,"Reporting Period 3",null,null,"Reporting Period 4",null,null,"Reporting Period 5",null,null,"Reporting Period 6",null,null,"Reporting Period 7",null,null,"Reporting Period 8"]
[]
[]
[]
["O","12. Does your organization formally survey staff for feedback on trainings received? ",null,null,null,null,null,null,null,null,null,"Select one."]
[]
["O","13. Number of surveys distributed to staff (included, but not limited to, those distributed by hand, mail or electronic methods):",null,null,null,null,null,"Reporting Period 1",null,"Reporting Period 2",null,null,"Reporting Period 3",null,null,"Reporting Period 4",null,null,"Reporting Period 5",null,null,"Reporting Period 6",null,null,"Reporting Period 7",null,null,"Reporting Period 8"]
[]
[]
[]
["O","14. Number of surveys completed by staff: ",null,null,null,null,null,"Reporting Period 1",null,"Reporting Period 2",null,null,"Reporting Period 3",null,null,"Reporting Period 4",null,null,"Reporting Period 5",null,null,"Reporting Period 6",null,null,"Reporting Period 7",null,null,"Reporting Period 8"]
[]
[]
[]
[]
[null,"15. Please discuss some of the challenges your victim assistance program faced during the course of the federal fiscal year: "]
["O"]
[null,"Year 1",null,null,null,null,null,null,null,null,null,null,null,null,null,null,"Year 2"]
[null,"Insert response here. ",null,null,null,null,null,null,null,null,null,null,null,null,null,null,"Insert response here. "]
[]
[]
[]
[]
[]
[]
[]
[]
[]
[]
[]
[]
[]
[null,"16. Please describe some of the services that victims needed but could not be provided. What were the challenges that prevented those services from being provided: "]
["O"]
[null,"Year 1",null,null,null,null,null,null,null,null,null,null,null,null,null,null,"Year 2"]
[null,"Insert response here. ",null,null,null,null,null,null,null,null,null,null,null,null,null,null,"Insert response here."]
[]
[]
[]
[]
[]
[]
[]
[]
[]
[]
[]
[]
[]
["O","OPTIONAL. Please share a success story or client spotlight in the space below. Do not include any identifying or confidential information. "]
[]
[null,"Year 1",null,null,null,null,null,null,null,null,null,null,null,null,null,null,"Year 2"]
[null,"Insert response here. ",null,null,null,null,null,null,null,null,null,null,null,null,null,null,"Insert response here."]

{"sheet":"1.7 Sample Court Tab","index":11,"n_rows":222,"n_cols":37,"rows_kept":222,"cut":false,"hidden":false,"merged":[[220,1,220,14],[220,16,220,30],[221,1,233,14],[221,16,233,30],[201,1,202,30],[203,1,203,14],[203,16,203,30],[204,1,216,14],[204,16,216,30],[218,0,219,0],[218,1,219,30],[180,27,181,29],[184,1,185,16],[186,1,186,14],[186,16,186,30],[187,1,199,14],[187,16,199,30],[179,21,179,23],[179,24,179,26],[179,27,179,29],[180,7,181,8],[180,9,181,11],[180,12,181,14],[180,15,181,17],[180,18,181,20],[180,21,181,23],[180,24,181,26],[179,1,181,6],[179,7,179,8],[179,9,179,11],[179,12,179,14],[179,15,179,17],[179,18,179,20],[175,24,175,26],[175,27,175,29],[176,7,177,8],[176,9,177,11],[176,12,177,14],[176,15,177,17],[176,18,177,20],[176,21,177,23],[176,24,177,26],[176,27,177,29],[170,24,171,26],[170,27,171,29],[173,11,173,14],[175,1,177,6],[175,7,175,8],[175,9,175,11],[175,12,175,14],[175,15,175,17],[175,18,175,20],[175,21,175,23],[170,7,171,8],[170,9,171,11],[170,12,171,14],[170,15,171,17],[170,18,171,20],[170,21,171,23],[166,27,167,29],[169,1,171,6],[169,7,169,8],[169,9,169,11],[169,12,169,14],[169,15,169,17],[169,18,169,20],[169,21,169,23],[169,24,169,26],[169,27,169,29],[165,21,165,23],[165,24,165,26],[165,27,165,29],[166,7,167,8],[166,9,167,11],[166,12,167,14],[166,15,167,17],[166,18,167,20],[166,21,167,23],[166,24,167,26],[155,27,156,29],[157,1,157,29],[158,1,161,29],[163,11,163,14],[165,1,167,6],[165,7,165,8],[165,9,165,11],[165,12,165,14],[165,15,165,17],[165,18,165,20],[154,21,154,23],[154,24,154,26],[154,27,154,29],[155,7,156,8],[155,9,156,11],[155,12,156,14],[155,15,156,17],[155,18,156,20],[155,21,156,23],[155,24,156,26],[154,1,156,6],[154,7,154,8],[154,9,154,11],[154,12,154,14],[154,15,154,17],[154,18,154,20],[147,4,147,6],[147,9,147,10],[147,12,147,13],[147,15,147,16],[148,1,148,29],[149,1,152,29],[145,24,145,25],[145,27,145,28],[146,4,146,6],[146,9,146,10],[146,12,146,13],[146,15,146,16],[145,4,145,6],[145,9,145,10],[145,12,145,13],[145,15,145,16],[145,18,145,19],[145,21,145,22],[143,24,143,25],[143,27,143,28],[144,4,144,6],[144,9,144,10],[144,12,144,13],[144,15,144,16],[144,18,144,19],[144,21,144,22],[144,24,144,25],[144,27,144,28],[143,4,143,6],[143,9,143,10],[143,12,143,13],[143,15,143,16],[143,18,143,19],[143,21,143,22],[141,24,141,25],[141,27,141,28],[142,4,142,6],[142,9,142,10],[142,12,142,13],[142,15,142,16],[142,18,142,19],[142,21,142,22],[142,24,142,25],[142,27,142,28],[141,4,141,6],[141,9,141,10],[141,12,141,13],[141,15,141,16],[141,18,141,19],[141,21,141,22],[139,27,139,28],[140,4,140,6],[140,9,140,10],[140,12,140,13],[140,15,140,16],[140,18,140,19],[140,21,140,22],[140,24,140,25],[140,27,140,28],[137,24,137,25],[137,27,137,28],[138,2,138,6],[139,4,139,6],[139,9,139,10],[139,12,139,13],[139,15,139,16],[139,18,139,19],[139,21,139,22],[139,24,139,25],[137,1,137,6],[137,9,137,10],[137,12,137,13],[137,15,137,16],[137,18,137,19],[137,21,137,22],[135,24,135,25],[135,27,135,28],[136,1,136,6],[136,9,136,10],[136,12,136,13],[136,15,136,16],[136,18,136,19],[136,21,136,22],[136,24,136,25],[136,27,136,28],[135,1,135,6],[135,9,135,10],[135,12,135,13],[135,15,135,16],[135,18,135,19],[135,21,135,22],[133,24,133,25],[133,27,133,28],[134,4,134,6],[134,9,134,10],[134,12,134,13],[134,15,134,16],[134,18,134,19],[134,21,134,22],[134,24,134,25],[134,27,134,28],[133,4,133,6],[133,9,133,10],[133,12,133,13],[133,15,133,16],[133,18,133,19],[133,21,133,22],[131,24,131,25],[131,27,131,28],[132,4,132,6],[132,9,132,10],[132,12,132,13],[132,15,132,16],[132,18,132,19],[132,21,132,22],[132,24,132,25],[132,27,132,28],[131,4,131,6],[131,9,131,10],[131,12,131,13],[131,15,131,16],[131,18,131,19],[131,21,131,22],[129,24,129,25],[129,27,129,28],[130,4,130,6],[130,9,130,10],[130,12,130,13],[130,15,130,16],[130,18,130,19],[130,21,130,22],[130,24,130,25],[130,27,130,28],[129,4,129,6],[129,9,129,10],[129,12,129,13],[129,15,129,16],[129,18,129,19],[129,21,129,22],[127,27,127,28],[128,4,128,6],[128,9,128,10],[128,12,128,13],[128,15,128,16],[128,18,128,19],[128,21,128,22],[128,24,128,25],[128,27,128,28],[126,21,126,22],[126,24,126,25],[126,27,126,28],[127,4,127,6],[127,9,127,10],[127,12,127,13],[127,15,127,16],[127,18,127,19],[127,21,127,22],[127,24,127,25],[125,2,125,6],[126,4,126,6],[126,9,126,10],[126,12,126,13],[126,15,126,16],[126,18,126,19],[123,1,123,6],[123,9,123,10],[123,12,123,13],[123,15,123,16],[124,1,124,6],[124,9,124,10],[124,12,124,13],[124,15,124,16],[121,24,121,25],[121,27,121,28],[122,1,122,6],[122,9,122,10],[122,12,122,13],[122,15,122,16],[120,18,120,19],[120,21,120,22],[120,24,120,25],[120,27,120,28],[121,1,121,6],[121,9,121,10],[121,12,121,13],[121,15,121,16],[121,18,121,19],[121,21,121,22],[119,1,119,6],[119,9,119,10],[119,12,119,13],[119,15,119,16],[120,1,120,6],[120,9,120,10],[120,12,120,13],[120,15,120,16],[117,1,117,6],[117,9,117,10],[117,12,117,13],[117,15,117,16],[118,1,118,6],[118,9,118,10],[118,12,118,13],[118,15,118,16],[115,1,115,6],[115,9,115,10],[115,12,115,13],[115,15,115,16],[116,1,116,6],[116,9,116,10],[116,12,116,13],[116,15,116,16],[113,27,113,28],[114,1,114,6],[114,9,114,10],[114,12,114,13],[114,15,114,16],[114,18,114,19],[114,21,114,22],[114,24,114,25],[114,27,114,28],[113,1,113,6],[113,9,113,10],[113,15,113,16],[113,18,113,19],[113,21,113,22],[113,24,113,25],[111,24,111,25],[111,27,111,28],[112,1,112,6],[112,9,112,10],[112,12,112,13],[112,15,112,16],[112,18,112,19],[112,21,112,22],[112,24,112,25],[112,27,112,28],[111,1,111,6],[111,9,111,10],[111,12,111,13],[111,15,111,16],[111,18,111,19],[111,21,111,22],[109,27,109,28],[110,1,110,6],[110,9,110,10],[110,12,110,13],[110,15,110,16],[110,18,110,19],[110,21,110,22],[110,24,110,25],[110,27,110,28],[107,24,107,26],[107,27,107,29],[108,1,108,6],[109,1,109,6],[109,9,109,10],[109,12,109,13],[109,15,109,16],[109,18,109,19],[109,21,109,22],[109,24,109,25],[106,22,106,23],[106,25,106,26],[106,28,106,29],[107,1,107,6],[107,7,107,8],[107,9,107,11],[107,12,107,14],[107,15,107,17],[107,18,107,20],[107,21,107,23],[106,1,106,6],[106,7,106,8],[106,10,106,11],[106,13,106,14],[106,16,106,17],[106,19,106,20],[104,24,104,25],[104,27,104,28],[105,1,105,6],[105,9,105,10],[105,12,105,13],[105,15,105,16],[105,18,105,19],[105,21,105,22],[105,24,105,25],[105,27,105,28],[104,1,104,6],[104,9,104,10],[104,12,104,13],[104,15,104,16],[104,18,104,19],[104,21,104,22],[102,27,102,28],[103,1,103,6],[103,9,103,10],[103,12,103,13],[103,15,103,16],[103,18,103,19],[103,21,103,22],[103,24,103,25],[103,27,103,28],[100,24,100,26],[100,27,100,29],[101,1,101,6],[102,1,102,6],[102,9,102,10],[102,12,102,13],[102,15,102,16],[102,18,102,19],[102,21,102,22],[102,24,102,25],[99,22,99,23],[99,25,99,26],[99,28,99,29],[100,1,100,6],[100,7,100,8],[100,9,100,11],[100,12,100,14],[100,15,100,17],[100,18,100,20],[100,21,100,23],[99,1,99,6],[99,7,99,8],[99,10,99,11],[99,13,99,14],[99,16,99,17],[99,19,99,20],[97,24,97,25],[97,27,97,28],[98,1,98,6],[98,9,98,10],[98,12,98,13],[98,15,98,16],[98,18,98,19],[98,21,98,22],[98,24,98,25],[98,27,98,28],[97,1,97,6],[97,9,97,10],[97,12,97,13],[97,15,97,16],[97,18,97,19],[97,21,97,22],[95,24,95,25],[95,27,95,28],[96,1,96,6],[96,9,96,10],[96,12,96,13],[96,15,96,16],[96,18,96,19],[96,21,96,22],[96,24,96,25],[96,27,96,28],[95,1,95,6],[95,9,95,10],[95,12,95,13],[95,15,95,16],[95,18,95,19],[95,21,95,22],[93,24,93,25],[93,27,93,28],[94,1,94,6],[94,9,94,10],[94,12,94,13],[94,15,94,16],[94,18,94,19],[94,21,94,22],[94,24,94,25],[94,27,94,28],[93,1,93,6],[93,9,93,10],[93,12,93,13],[93,15,93,16],[93,18,93,19],[93,21,93,22],[91,21,91,22],[91,24,91,25],[91,27,91,28],[92,1,92,6],[92,9,92,10],[92,12,92,13],[92,15,92,16],[90,1,90,6],[91,1,91,6],[91,9,91,10],[91,12,91,13],[91,15,91,16],[91,18,91,19],[88,28,88,29],[89,1,89,6],[89,7,89,8],[89,9,89,11],[89,12,89,14],[89,15,89,17],[89,18,89,20],[89,21,89,23],[89,24,89,26],[89,27,89,29],[87,24,87,25],[87,27,87,28],[88,1,88,6],[88,7,88,8],[88,10,88,11],[88,13,88,14],[88,16,88,17],[88,19,88,20],[88,22,88,23],[88,25,88,26],[87,1,87,6],[87,9,87,10],[87,12,87,13],[87,15,87,16],[87,18,87,19],[87,21,87,22],[85,24,85,25],[85,27,85,28],[86,1,86,6],[86,9,86,10],[86,12,86,13],[86,15,86,16],[86,18,86,19],[86,21,86,22],[86,24,86,25],[86,27,86,28],[85,1,85,6],[85,9,85,10],[85,12,85,13],[85,15,85,16],[85,18,85,19],[85,21,85,22],[83,24,83,25],[83,27,83,28],[84,1,84,6],[84,9,84,10],[84,12,84,13],[84,15,84,16],[84,18,84,19],[84,21,84,22],[84,24,84,25],[84,27,84,28],[83,1,83,6],[83,9,83,10],[83,12,83,13],[83,15,83,16],[83,18,83,19],[83,21,83,22],[81,24,81,25],[81,27,81,28],[82,1,82,6],[82,9,82,10],[82,12,82,13],[82,15,82,16],[82,18,82,19],[82,21,82,22],[82,24,82,25],[82,27,82,28],[81,1,81,6],[81,9,81,10],[81,12,81,13],[81,15,81,16],[81,18,81,19],[81,21,81,22],[79,27,79,28],[80,1,80,6],[80,9,80,10],[80,12,80,13],[80,15,80,16],[80,18,80,19],[80,21,80,22],[80,24,80,25],[80,27,80,28],[78,21,78,22],[78,24,78,25],[78,27,78,28],[79,1,79,6],[79,9,79,10],[79,12,79,13],[79,15,79,16],[79,18,79,19],[79,21,79,22],[79,24,79,25],[77,1,77,6],[78,1,78,6],[78,9,78,10],[78,12,78,13],[78,15,78,16],[78,18,78,19],[75,28,75,29],[76,1,76,6],[76,7,76,8],[76,9,76,11],[76,12,76,14],[76,15,76,17],[76,18,76,20],[76,21,76,23],[76,24,76,26],[76,27,76,29],[74,24,74,26],[74,27,74,29],[75,1,75,6],[75,7,75,8],[75,10,75,11],[75,13,75,14],[75,16,75,17],[75,19,75,20],[75,22,75,23],[75,25,75,26],[74,1,74,6],[74,9,74,10],[74,12,74,13],[74,15,74,16],[74,18,74,20],[74,21,74,23],[72,24,72,26],[72,27,72,29],[73,1,73,6],[73,9,73,10],[73,12,73,13],[73,15,73,16],[73,18,73,20],[73,21,73,23],[73,24,73,26],[73,27,73,29],[72,1,72,6],[72,9,72,10],[72,12,72,13],[72,15,72,16],[72,18,72,20],[72,21,72,23],[70,24,70,26],[70,27,70,29],[71,1,71,6],[71,9,71,10],[71,12,71,13],[71,15,71,16],[71,18,71,20],[71,21,71,23],[71,24,71,26],[71,27,71,29],[70,1,70,6],[70,9,70,10],[70,12,70,13],[70,15,70,16],[70,18,70,20],[70,21,70,23],[68,24,68,26],[68,27,68,29],[69,1,69,6],[69,9,69,10],[69,12,69,13],[69,15,69,16],[69,18,69,20],[69,21,69,23],[69,24,69,26],[69,27,69,29],[68,1,68,6],[68,9,68,10],[68,12,68,13],[68,15,68,16],[68,18,68,20],[68,21,68,23],[66,27,66,29],[67,1,67,6],[67,9,67,10],[67,12,67,13],[67,15,67,16],[67,18,67,20],[67,21,67,23],[67,24,67,26],[67,27,67,29],[64,24,64,25],[64,27,64,28],[65,1,65,6],[66,1,66,6],[66,9,66,10],[66,12,66,13],[66,15,66,16],[66,18,66,20],[66,21,66,23],[66,24,66,26],[64,1,64,6],[64,9,64,10],[64,12,64,13],[64,15,64,16],[64,18,64,19],[64,21,64,22],[62,24,62,25],[62,27,62,28],[63,1,63,6],[63,9,63,10],[63,12,63,13],[63,15,63,16],[63,18,63,19],[63,21,63,22],[63,24,63,25],[63,27,63,28],[62,1,62,6],[62,9,62,10],[62,12,62,13],[62,15,62,16],[62,18,62,19],[62,21,62,22],[60,27,60,28],[61,1,61,6],[61,9,61,10],[61,12,61,13],[61,15,61,16],[61,18,61,19],[61,21,61,22],[61,24,61,25],[61,27,61,28],[58,24,58,26],[58,27,58,29],[59,1,59,6],[60,1,60,6],[60,9,60,10],[60,12,60,13],[60,15,60,16],[60,18,60,19],[60,21,60,22],[60,24,60,25],[57,22,57,23],[57,25,57,26],[57,28,57,29],[58,1,58,6],[58,7,58,8],[58,9,58,11],[58,12,58,14],[58,15,58,17],[58,18,58,20],[58,21,58,23],[57,1,57,6],[57,7,57,8],[57,10,57,11],[57,13,57,14],[57,16,57,17],[57,19,57,20],[55,1,55,29],[56,7,56,8],[56,9,56,11],[56,12,56,14],[56,15,56,17],[56,18,56,20],[56,21,56,23],[56,24,56,26],[56,27,56,29],[52,27,52,29],[53,1,53,6],[53,7,53,8],[53,9,53,11],[53,12,53,14],[53,15,53,17],[53,18,53,20],[53,21,53,23],[53,24,53,26],[53,27,53,29],[51,24,51,26],[51,27,51,29],[52,1,52,6],[52,7,52,8],[52,9,52,11],[52,12,52,14],[52,15,52,17],[52,18,52,20],[52,21,52,23],[52,24,52,26],[50,21,50,23],[50,24,50,26],[50,27,50,29],[51,1,51,6],[51,7,51,8],[51,9,51,11],[51,12,51,14],[51,15,51,17],[51,18,51,20],[51,21,51,23],[50,1,50,6],[50,7,50,8],[50,9,50,11],[50,12,50,14],[50,15,50,17],[50,18,50,20],[48,27,48,29],[49,1,49,6],[49,7,49,8],[49,9,49,11],[49,12,49,14],[49,15,49,17],[49,18,49,20],[49,21,49,23],[49,24,49,26],[49,27,49,29],[47,24,47,26],[47,27,47,29],[48,1,48,6],[48,7,48,8],[48,9,48,11],[48,12,48,14],[48,15,48,17],[48,18,48,20],[48,21,48,23],[48,24,48,26],[46,21,46,23],[46,24,46,26],[46,27,46,29],[47,1,47,6],[47,7,47,8],[47,9,47,11],[47,12,47,14],[47,15,47,17],[47,18,47,20],[47,21,47,23],[46,1,46,6],[46,7,46,8],[46,9,46,11],[46,12,46,14],[46,15,46,17],[46,18,46,20],[44,27,44,29],[45,1,45,6],[45,7,45,8],[45,9,45,11],[45,12,45,14],[45,15,45,17],[45,18,45,20],[45,21,45,23],[45,24,45,26],[45,27,45,29],[43,24,43,26],[43,27,43,29],[44,1,44,6],[44,7,44,8],[44,9,44,11],[44,12,44,14],[44,15,44,17],[44,18,44,20],[44,21,44,23],[44,24,44,26],[42,21,42,23],[42,24,42,26],[42,27,42,29],[43,1,43,6],[43,7,43,8],[43,9,43,11],[43,12,43,14],[43,15,43,17],[43,18,43,20],[43,21,43,23],[41,18,41,20],[41,21,41,23],[41,24,41,26],[41,27,41,29],[42,1,42,6],[42,7,42,8],[42,9,42,11],[42,12,42,14],[42,15,42,17],[42,18,42,20],[32,27,33,29],[36,1,36,8],[39,1,39,29],[40,1,41,6],[40,7,40,17],[40,19,40,29],[41,7,41,8],[41,9,41,11],[41,12,41,14],[41,15,41,17],[31,21,31,23],[31,24,31,26],[31,27,31,29],[32,7,33,8],[32,9,33,11],[32,12,33,14],[32,15,33,17],[32,18,33,20],[32,21,33,23],[32,24,33,26],[31,1,33,6],[31,7,31,8],[31,9,31,11],[31,12,31,14],[31,15,31,17],[31,18,31,20],[26,24,26,26],[26,27,26,29],[27,7,28,8],[27,9,28,11],[27,12,28,14],[27,15,28,17],[27,18,28,20],[27,21,28,23],[27,24,28,26],[27,27,28,29],[23,21,24,23],[23,24,24,26],[23,27,24,29],[26,1,28,6],[26,7,26,8],[26,9,26,11],[26,12,26,14],[26,15,26,17],[26,18,26,20],[26,21,26,23],[23,3,24,6],[23,7,24,8],[23,9,24,11],[23,12,24,14],[23,15,24,17],[23,18,24,20],[20,27,20,29],[21,7,22,8],[21,9,22,11],[21,12,22,14],[21,15,22,17],[21,18,22,20],[21,21,22,23],[21,24,22,26],[21,27,22,29],[16,24,17,26],[16,27,17,29],[20,1,22,6],[20,7,20,8],[20,9,20,11],[20,12,20,14],[20,15,20,17],[20,18,20,20],[20,21,20,23],[20,24,20,26],[16,7,17,8],[16,9,17,11],[16,12,17,14],[16,15,17,17],[16,18,17,20],[16,21,17,23],[13,27,13,29],[15,1,17,6],[15,7,15,8],[15,9,15,11],[15,12,15,14],[15,15,15,17],[15,18,15,20],[15,21,15,23],[15,24,15,26],[15,27,15,29],[11,24,12,26],[11,27,12,29],[13,3,13,6],[13,7,13,8],[13,9,13,11],[13,12,13,14],[13,15,13,17],[13,18,13,20],[13,21,13,23],[13,24,13,26],[10,18,10,20],[10,21,10,23],[10,24,10,26],[10,27,10,29],[11,7,12,8],[11,9,12,11],[11,12,12,14],[11,15,12,17],[11,18,12,20],[11,21,12,23],[8,3,8,6],[8,9,8,11],[8,12,8,14],[8,15,8,17],[9,8,9,29],[10,1,12,6],[10,7,10,8],[10,9,10,11],[10,12,10,14],[10,15,10,17],[0,13,0,30],[1,13,1,19],[1,23,1,29],[2,1,2,6],[2,8,7,17],[2,36,17,43],[5,1,5,2],[5,3,5,6],[7,1,7,2],[7,3,7,6]]}
[null,null,null,null,null,null,null,null,null,null,null,null,null,"Outcome Measurement Tool (OMT)\nMA - Victim Witness Assistance Board\n\nNeed Support? Contact MOVAstats@mass.gov."]
[null,"SAFEPLAN Individual Court Data",null,null,null,null,null,null,null,null,null,null,null,"Court Tab 1",null,null,null,null,null,null,null,null,null,"(#1) DATA ENTRY TAB",null,null,null,null,null,null,null,null,null,null,null,null,"NOTES:"]
[null,"Enter the court name and then specified data for this court in the fields below.",null,null,null,null,null,null,"\nINSTRUCTIONS: This section should be completed each reporting period and each tab in one court ONLY. Use the areas in beige to enter the specified information.\n\n Once you have assigned a court to each tab, you will continue to report on that court within the same tab for each reporting period similar to how data was tracked and submitted in the previous reports."]
[]
[]
[null,"Court Name:",null,"Insert COURT NAME Here"]
[]
[null,"Reporting Period:",null,{"$f":"'1. Overall Demographics'!D8","v":"Period 1 (July 1 - September 30 2023)"}]
[null,null,null,"period can be selected on tab 1. Overall Demographics",null,null,null,"Period 1 (July 1 - September 30 2022)",null,"Period 2 (October 1 - December 31 2022)",null,null,"Period 3 (January 1 - March 31 2023)",null,null,"Period 4 (April 1 - June 30 2023)"]
[null,null,null,null,null,null,null,null,"KEY DEFINITIONS: \n\nCount each NEW individual in only one race/ethnicity type as self-reported. Individuals who self-report in more than one category should be counted in the \"Multiple Races\" category. The total number in each demographic category should equal the number of NEW individuals reported in Section 3. This data is used for statistical purposes to comply with Federal regulations.\n\nAll \"0\" entries must represent a true value of zero.\n\nIf no data is collected for a category, select \"Not Tracked\" from the list of options in the associated race/ethnicity category. This means that as a subgrantee, you are not able to submit data in this category due to the need to update this in your data tracking system, but that efforts are underway to track data as requested. Report in the \"Not Tracked\" section the number of individuals whose demographic data were not tracked.\n\nIf no data is collected for an individual, count that individual in the Not Reported category. This means that this data is collected by your organization, but it was not provided by the person completing the intake form.\n\nIf you select \"Other\" from the dropdown options, enter an explanation next to your response or this will be marked as missing data in the system."]
[null,"SECTION 1: TOTAL number of individuals who received services during the reporting period:",null,null,null,null,null,"Period 1 (July 1 - September 30 2023)",null,"Period 2 (October 1 - December 31 2023)",null,null,"Period 3 (January 1 - March 31 2024)",null,null,"Period 4 (April 1 - June 30 2024)",null,null,"Reporting Period 5",null,null,"Reporting Period 6",null,null,"Reporting Period 7",null,null,"Reporting Period 8"]
[]
[]
[]
[]
[null,"SECTION 2: TOTAL number of anonymous contacts received during the reporting period: ",null,null,null,null,null,"Reporting Period 1",null,"Reporting Period 2",null,null,"Reporting Period 3",null,null,"Reporting Period 4",null,null,"Reporting Period 5",null,null,"Reporting Period 6",null,null,"Reporting Period 7",null,null,"Reporting Period 8"]
[]
[]
[]
[]
[null,"SECTION 3: Of the number of individuals entered in question 1, how many were NEW individuals who received services from your agency for the first time during the reporting period: ",null,null,null,null,null,"Reporting Period 1",null,"Reporting Period 2",null,null,"Reporting Period 3",null,null,"Reporting Period 4",null,null,"Reporting Period 5",null,null,"Reporting Period 6",null,null,"Reporting Period 7",null,null,"Reporting Period 8"]
[]
[]
[]
[]
[]
[null,"SECTION 4: TOTAL number of individuals with NO PRIOR CONTACT with a DV/SA Agency during the reporting period: ",null,null,null,null,null,"Reporting Period 1",null,"Reporting Period 2",null,null,"Reporting Period 3",null,null,"Reporting Period 4",null,null,"Reporting Period 5",null,null,"Reporting Period 6",null,null,"Reporting Period 7",null,null,"Reporting Period 8"]
[]
[]
[]
[]
[null,"SECTION 5: AUTOCALCULATED: TOTAL number of continuing individuals during the reporting period: ",null,null,null,null,null,"Reporting Period 1",null,"Reporting Period 2",null,null,"Reporting Period 3",null,null,"Reporting Period 4",null,null,"Reporting Period 5",null,null,"Reporting Period 6",null,null,"Reporting Period 7",null,null,"Reporting Period 8"]
[null,null,null,null,null,null,null,{"$f":"H12-H22","v":0},null,{"$f":"J12-J22","v":0},null,null,{"$f":"M12-M22","v":0},null,null,{"$f":"P12-P22","v":0},null,null,0,null,null,{"$f":"V12-V22","v":0},null,null,{"$f":"Y12-Y22","v":0},null,null,0]
[]
[]
[]
[null,"Is your agency able to track NEW individuals throughout the Fiscal Year?",null,null,null,null,null,null,null,null,"Select one."]
[]
[]
[null,"SECTION 6: Types of Abuse Alleged: Enter the number of Individuals who Received Services Based on the Type of Alleged Abuse During the Reporting Period - ALL individuals\nAn individual MAY be counted in more than one classification."]
[null,"Type of Alleged Abuse",null,null,null,null,null,"Number of Individuals",null,null,null,null,null,null,null,null,null,null,null,"Number of Individuals - Year 2"]
[null,null,null,null,null,null,null,"Reporting Period 1",null,"Reporting Period 2",null,null,"Reporting Period 3",null,null,"Reporting Period 4",null,null,"Reporting Period 5",null,null,"Reporting Period 6",null,null,"Reporting Period 7",null,null,"Reporting Period 8"]
[null,"Attempted physical harm (209A)"]
[null,"Caused physical harm (209A)"]
[null,"Imminent Fear (209A)"]
[null,"Sexual Assault (209A)"]
[null,"Stalking (258E)"]
[null,"Sexual Assault (258E)"]
[null,"Criminal Harassment (258E)"]
[null,"Other (please specify below): "]
[]
[]
[]
[]
[]
[null,"SECTION 7:  Services Received\n1) First select the types of services provided by the court covered within this tab and use the dropdown options to report Yes/No for services received during the reporting period in reference (e.g., select Yes or No for A. Information & Referral in Reporting Period 4)\n2) Then enter the total number of individuals who received that type of services within the service categories and programs\n3) Then enter the number of times each specific service was provided by this court during the reporting period within each of the provided categories (e.g., information about the criminal justice process) using the beige/yellow boxes only (note: some boxes automatically total the subcategories and entries from elsewhere in the column)\n"]
[null,null,null,null,null,null,null,"Reporting Period 1",null,"Reporting Period 2",null,null,"Reporting Period 3",null,null,"Reporting Period 4",null,null,"Reporting Period 5",null,null,"Reporting Period 6",null,null,"Reporting Period 7",null,null,"Reporting Period 8"]
[null,"A. Information & Referral",null,null,null,null,null,"Yes or No?",null,null,"Yes or No?",null,null,"Yes or No?",null,null,"Yes or No?",null,null,"Yes or No?",null,null,"Yes or No?",null,null,"Yes or No?",null,null,"Yes or No?"]
[null,"Number of Individuals"]
[null,"Number of Times/Occurrences",null,null,null,null,null,null,{"$f":"SUM(H62:H65)","v":0},null,null,{"$f":"SUM(J62:K65)","v":0},null,null,{"$f":"SUM(M62:N65)","v":0},null,null,{"$f":"SUM(P62:Q65)","v":0},null,null,{"$f":"SUM(S61:T65)","v":0},null,null,{"$f":"SUM(V61:W65)","v":0},null,null,{"$f":"SUM(Y61:Z65)","v":0},null,null,{"$f":"SUM(AB61:AC65)","v":0}]
[null,"SAFEPLAN Information & Referrals \nInclude counts of referrals made during in-person, virtual, or phone based service provision. Specify referral type in section below."]
[null,"1. Information about the criminal justice process"]
[null,"2. Information on victim rights/how to obtain notifications"]
[null,"3. Referral to other victim service programs"]
[null,"4. Referral to other services/supports/resources (includes legal, medical, faith-based organizations, address confidentiality programs, etc.)"]
[null,"Information & Referral - Referrals Descriptions\nSpecify type of referral provided for each referral counted above",null,null,null,null,null,null,{"$f":"SUM(H67,H68,H69,H70,H71,H72,H73,H74,H75)","v":0},null,null,{"$f":"SUM(J67:K75)","v":0},null,null,{"$f":"SUM(M67:N75)","v":0},null,null,{"$f":"SUM(P67:Q75)","v":0},null,null,{"$f":"SUM(S67,S68,S69,S70,S71,S72,#REF!,#REF!,S75)","v":{"$error":"#REF!"}},null,null,{"$f":"SUM(V67,V68,V69,V70,V71,V72,#REF!,#REF!,V75)","v":{"$error":"#REF!"}},null,null,{"$f":"SUM(Y67,Y68,Y69,Y70,Y71,Y72,#REF!,#REF!,Y75)","v":{"$error":"#REF!"}},null,null,{"$f":"SUM(AB67,AB68,AB69,AB70,AB71,AB72,#REF!,#REF!,AB75)","v":{"$error":"#REF!"}}]
[null,"DV Program"]
[null,"SA Program"]
[null,"DA's Office"]
[null,"Legal Services"]
[null,"Police"]
[null,"Other Court Personnel"]
[null,"Victim Compensation"]
[null,"Medical Referral"]
[null,"Other"]
[null,"B. Personal Advocacy/Accompaniment",null,null,null,null,null,"Yes or No?",null,null,"Yes or No?",null,null,"Yes or No?",null,null,"Yes or No?",null,null,"Yes or No?",null,null,"Yes or No?",null,null,"Yes or No?",null,null,"Yes or No?"]
[null,"Number of Individuals"]
[null,"Number of Times/Occurrences",null,null,null,null,null,null,{"$f":"SUM(H80:H88)","v":0},null,null,{"$f":"SUM(J80:K88)","v":0},null,null,{"$f":"SUM(M80:N88)","v":0},null,null,{"$f":"SUM(P80:Q88)","v":0},null,null,{"$f":"SUM(S78:S88)","v":0},null,null,{"$f":"SUM(V78:V88)","v":0},null,null,{"$f":"SUM(Y78:Y88)","v":0},null,null,{"$f":"SUM(AB78:AB88)","v":0}]
[null,"SAFEPLAN Personal Advocacy/Accompaniment"]
[null,"1. Victim advocacy/accompaniment to emergency medical care"]
[null,"2. Victim advocacy/accompaniment to medical forensic exam"]
[null,"3. Law enforcement interview advocacy/accompaniment"]
[null,"4. Individual advocacy"]
[null,"5. Performance of medical or nonmedical forensic exam or interview, or medical evidence collection"]
[null,"6. Immigration assistance (e.g., special visas, continued presence application, and other immigration relief)"]
[null,"7. Intervention with employer, creditor, landlord, or academic institution"]
[null,"8. Child or dependent care assistance (includes coordination of services)"]
[null,"9. Interpreter services"]
[null,"C. Emotional Support or Safety Services",null,null,null,null,null,"Yes or No?",null,null,"Yes or No?",null,null,"Yes or No?",null,null,"Yes or No?",null,null,"Yes or No?",null,null,"Yes or No?",null,null,"Yes or No?",null,null,"Yes or No?"]
[null,"Number of Individuals"]
[null,"Number of Times/Occurrences",null,null,null,null,null,null,{"$f":"SUM(H93:H99)","v":0},null,null,{"$f":"SUM(J93:K99)","v":0},null,null,{"$f":"SUM(M93:N99)","v":0},null,null,{"$f":"SUM(P93:Q99)","v":0},null,null,{"$f":"SUM(S92:S99)","v":0},null,null,{"$f":"SUM(V92:V99)","v":0},null,null,{"$f":"SUM(Y92:Y99)","v":0},null,null,{"$f":"SUM(AB92:AB99)","v":0}]
[null,"SAFEPLAN Emotional Support or Safety Services "]
[null,"1. Crisis intervention (in-person, includes safety planning, etc.)"]
[null,"2. Hotline/crisis line counseling"]
[null,"3. On-scene crisis response (e.g., community crisis response)"]
[null,"4. Individual counseling"]
[null,"5. Support groups (facilitated or peer)"]
[null,"6. Other therapy (traditional, cultural, or alternative healing; art, writing, or play therapy, etc.)"]
[null,"7. Emergency financial assistance (includes emergency loans and petty cash, payment for items such as food and/or clothing, changing windows and/or locks, taxis, prophylactic and nonprophylactic medications, durable medical equipment, etc.)"]
[null,"D. Shelter/Housing Services",null,null,null,null,null,"Yes or No?",null,null,"Yes or No?",null,null,"Yes or No?",null,null,"Yes or No?",null,null,"Yes or No?",null,null,"Yes or No?",null,null,"Yes or No?",null,null,"Yes or No?"]
[null,"Number of Individuals"]
[null,"Number of Times/Occurrences",null,null,null,null,null,null,{"$f":"SUM(H104:H106)","v":0},null,null,{"$f":"SUM(J104:K106)","v":0},null,null,{"$f":"SUM(M104:N106)","v":0},null,null,{"$f":"SUM(P104:Q106)","v":0},null,null,{"$f":"SUM(S103:S106)","v":0},null,null,{"$f":"SUM(V103:V106)","v":0},null,null,{"$f":"SUM(Y103:Y106)","v":0},null,null,{"$f":"SUM(AB103:AB106)","v":0}]
[null,"SAFEPLAN Shelter/Housing Services"]
[null,"1. Emergency shelter or safe house"]
[null,"2. Transitional housing"]
[null,"3. Relocation assistance (includes assistance with obtaining housing)"]
[null,"E. Criminal/Civil Justice System Assistance",null,null,null,null,null,"Yes or No?",null,null,"Yes or No?",null,null,"Yes or No?",null,null,"Yes or No?",null,null,"Yes or No?",null,null,"Yes or No?",null,null,"Yes or No?",null,null,"Yes or No?"]
[null,"Number of Individuals"]
[null,"Number of Times/Occurrences",null,null,null,null,null,null,{"$f":"SUM(H111:H113,H115:H121,I114)","v":0},null,null,{"$f":"SUM(J111:K113,J115:K121,L114)","v":0},null,null,{"$f":"SUM(M111:N113,M115:N121,O114)","v":0},null,null,{"$f":"SUM(P111:Q113,P115:Q121,R114)","v":0},null,null,{"$f":"SUM(S110:S121)","v":0},null,null,{"$f":"SUM(V110:V121)","v":0},null,null,{"$f":"SUM(Y110:Y121)","v":0},null,null,{"$f":"SUM(AB110:AB121)","v":0}]
[null,"SAFEPLAN Criminal/Civil Justice System Assistance ",null,null,null,null,null,null,null,null,null,null,null,null,null,null,null,null,null,null,{"$f":"SUM(T111:T150)","v":0},null,null,{"$f":"SUM(W111:W150)","v":0},null,null,{"$f":"SUM(Z111:Z150)","v":0},null,null,{"$f":"SUM(AC111:AC150)","v":0}]
[null,"1. Notification of criminal justice events (e.g., case status, arrest, court proceedings, case disposition, release, etc.)"]
[null,"2. Victim impact statement assistance"]
[null,"3. Assistance with restitution (includes assistance in requesting and when collection efforts are not successful)"]
[null,"4. Civil legal assistance in obtaining protection or restraining order (auto-calculated based on 209A and 258E advocacy & accompaniment counts reported in description section below)",null,null,null,null,null,null,{"$f":"SUM(I123,I136)","v":0},null,null,{"$f":"SUM(L123,L136)","v":0},null,null,{"$f":"SUM(O123,O136)","v":0},null,null,{"$f":"SUM(R123,R136)","v":0}]
[null,"5. Civil legal assistance with family law issues (e.g., custody, visitation, or support)"]
[null,"6. Other emergency justice‐related assistance"]
[null,"7. Immigration assistance (e.g., special visas, continued presence application, and other immigration relief)"]
[null,"8. Prosecution interview advocacy/accompaniment"]
[null,"9. Law enforcement interview advocacy/accompaniment"]
[null,"10. Criminal advocacy/accompaniment"]
[null,"11. Other legal advice and/or counsel"]
[null,"209A & 258E Events\nSpecify civil legal assistance provided for each 209A or 258E event"]
[null,"209A Abuse Prevention Order/Restraining Order Events",null,null,null,null,null,null,{"$f":"SUM(H124:H125)","v":0},null,null,{"$f":"SUM(J124:K125)","v":0},null,null,{"$f":"SUM(M124:N125)","v":0},null,null,{"$f":"SUM(P124:Q125)","v":0}]
[null,"1. 209A Advocacy"]
[null,"2. 209A Accompaniment"]
[null,null,"209A Accompaniment Detail - Provide additional details below about each accompaniment instance counted above"]
[null,null,null,null,"Motion to Terminate Granted (Plaintiff)"]
[null,null,null,null,"Motion to Terminate Denied (Plaintiff)"]
[null,null,null,null,"Temporary Restraining Order - Requested"]
[null,null,null,null,"Temporary Restraining Order - Granted"]
[null,null,null,null,"Temporary Restraining Order - Scheduled for Hearing after Notice"]
[null,null,null,null,"Temporary Restraining Order - Denied"]
[null,null,null,null,"Final Restraining Order - Requested"]
[null,null,null,null,"Final Restraining Order - Granted"]
[null,null,null,null,"Final Restraining Order - Denied"]
[null,"258E Harassment Prevention Order Events",null,null,null,null,null,null,{"$f":"SUM(H137:H138)","v":0},null,null,{"$f":"SUM(J137:K138)","v":0},null,null,{"$f":"SUM(M137:N138)","v":0},null,null,{"$f":"SUM(P137:Q138)","v":0}]
[null,"1. 258E Advocacy"]
[null,"2. 258E Accompaniment"]
[null,null,"258E Accompaniment Detail - Provide additional details below about each accompaniment instance counted above"]
[null,null,null,null,"Motion to Terminate Granted (Plaintiff)"]
[null,null,null,null,"Motion to Terminate Denied (Plaintiff)"]
[null,null,null,null,"Temporary Harassment Order - Requested"]
[null,null,null,null,"Temporary Harassment Order - Granted"]
[null,null,null,null,"Temporary Harassment Order - Scheduled for Hearing after Notice"]
[null,null,null,null,"Temporary Harassment Order - Denied"]
[null,null,null,null,"Final Harassment Order - Requested"]
[null,null,null,null,"Final Harassment Order - Granted"]
[null,null,null,null,"Final Harassment Order - Denied"]
[null,"Additional Comments: "]
[null,"Insert response here. "]
[]
[]
[]
[]
["O","8. Number of requests for services that were unmet because of organizational capacity issues: ",null,null,null,null,null,"Reporting Period 1",null,"Reporting Period 2",null,null,"Reporting Period 3",null,null,"Reporting Period 4",null,null,"Reporting Period 5",null,null,"Reporting Period 6",null,null,"Reporting Period 7",null,null,"Reporting Period 8"]
[]
[]
[null,"Please Explain. "]
[]
[]
[]
[]
[]
["O","9. Does your organization formally survey clients for feedback on services received? ",null,null,null,null,null,null,null,null,null,"Select one."]
[]
["O","10. Number of surveys distributed to clients (included, but not limited to, those distributed by hand, mail or electronic methods):",null,null,null,null,null,"Reporting Period 1",null,"Reporting Period 2",null,null,"Reporting Period 3",null,null,"Reporting Period 4",null,null,"Reporting Period 5",null,null,"Reporting Period 6",null,null,"Reporting Period 7",null,null,"Reporting Period 8"]
[]
[]
[]
["O","11. Number of surveys completed by clients: ",null,null,null,null,null,"Reporting Period 1",null,"Reporting Period 2",null,null,"Reporting Period 3",null,null,"Reporting Period 4",null,null,"Reporting Period 5",null,null,"Reporting Period 6",null,null,"Reporting Period 7",null,null,"Reporting Period 8"]
[]
[]
[]
["O","12. Does your organization formally survey staff for feedback on trainings received? ",null,null,null,null,null,null,null,null,null,"Select one."]
[]
["O","13. Number of surveys distributed to staff (included, but not limited to, those distributed by hand, mail or electronic methods):",null,null,null,null,null,"Reporting Period 1",null,"Reporting Period 2",null,null,"Reporting Period 3",null,null,"Reporting Period 4",null,null,"Reporting Period 5",null,null,"Reporting Period 6",null,null,"Reporting Period 7",null,null,"Reporting Period 8"]
[]
[]
[]
["O","14. Number of surveys completed by staff: ",null,null,null,null,null,"Reporting Period 1",null,"Reporting Period 2",null,null,"Reporting Period 3",null,null,"Reporting Period 4",null,null,"Reporting Period 5",null,null,"Reporting Period 6",null,null,"Reporting Period 7",null,null,"Reporting Period 8"]
[]
[]
[]
[]
[null,"15. Please discuss some of the challenges your victim assistance program faced during the course of the federal fiscal year: "]
["O"]
[null,"Year 1",null,null,null,null,null,null,null,null,null,null,null,null,null,null,"Year 2"]
[null,"Insert response here. ",null,null,null,null,null,null,null,null,null,null,null,null,null,null,"Insert response here. "]
[]
[]
[]
[]
[]
[]
[]
[]
[]
[]
[]
[]
[]
[null,"16. Please describe some of the services that victims needed but could not be provided. What were the challenges that prevented those services from being provided: "]
["O"]
[null,"Year 1",null,null,null,null,null,null,null,null,null,null,null,null,null,null,"Year 2"]
[null,"Insert response here. ",null,null,null,null,null,null,null,null,null,null,null,null,null,null,"Insert response here."]
[]
[]
[]
[]
[]
[]
[]
[]
[]
[]
[]
[]
[]
["O","OPTIONAL. Please share a success story or client spotlight in the space below. Do not include any identifying or confidential information. "]
[]
[null,"Year 1",null,null,null,null,null,null,null,null,null,null,null,null,null,null,"Year 2"]
[null,"Insert response here. ",null,null,null,null,null,null,null,null,null,null,null,null,null,null,"Insert response here."]

{"sheet":"1.8 Sample Court Tab","index":12,"n_rows":222,"n_cols":37,"rows_kept":222,"cut":false,"hidden":false,"merged":[[220,1,220,14],[220,16,220,30],[221,1,233,14],[221,16,233,30],[201,1,202,30],[203,1,203,14],[203,16,203,30],[204,1,216,14],[204,16,216,30],[218,0,219,0],[218,1,219,30],[180,27,181,29],[184,1,185,16],[186,1,186,14],[186,16,186,30],[187,1,199,14],[187,16,199,30],[179,21,179,23],[179,24,179,26],[179,27,179,29],[180,7,181,8],[180,9,181,11],[180,12,181,14],[180,15,181,17],[180,18,181,20],[180,21,181,23],[180,24,181,26],[179,1,181,6],[179,7,179,8],[179,9,179,11],[179,12,179,14],[179,15,179,17],[179,18,179,20],[175,24,175,26],[175,27,175,29],[176,7,177,8],[176,9,177,11],[176,12,177,14],[176,15,177,17],[176,18,177,20],[176,21,177,23],[176,24,177,26],[176,27,177,29],[170,24,171,26],[170,27,171,29],[173,11,173,14],[175,1,177,6],[175,7,175,8],[175,9,175,11],[175,12,175,14],[175,15,175,17],[175,18,175,20],[175,21,175,23],[170,7,171,8],[170,9,171,11],[170,12,171,14],[170,15,171,17],[170,18,171,20],[170,21,171,23],[166,27,167,29],[169,1,171,6],[169,7,169,8],[169,9,169,11],[169,12,169,14],[169,15,169,17],[169,18,169,20],[169,21,169,23],[169,24,169,26],[169,27,169,29],[165,21,165,23],[165,24,165,26],[165,27,165,29],[166,7,167,8],[166,9,167,11],[166,12,167,14],[166,15,167,17],[166,18,167,20],[166,21,167,23],[166,24,167,26],[155,27,156,29],[157,1,157,29],[158,1,161,29],[163,11,163,14],[165,1,167,6],[165,7,165,8],[165,9,165,11],[165,12,165,14],[165,15,165,17],[165,18,165,20],[154,21,154,23],[154,24,154,26],[154,27,154,29],[155,7,156,8],[155,9,156,11],[155,12,156,14],[155,15,156,17],[155,18,156,20],[155,21,156,23],[155,24,156,26],[154,1,156,6],[154,7,154,8],[154,9,154,11],[154,12,154,14],[154,15,154,17],[154,18,154,20],[147,4,147,6],[147,9,147,10],[147,12,147,13],[147,15,147,16],[148,1,148,29],[149,1,152,29],[145,24,145,25],[145,27,145,28],[146,4,146,6],[146,9,146,10],[146,12,146,13],[146,15,146,16],[145,4,145,6],[145,9,145,10],[145,12,145,13],[145,15,145,16],[145,18,145,19],[145,21,145,22],[143,24,143,25],[143,27,143,28],[144,4,144,6],[144,9,144,10],[144,12,144,13],[144,15,144,16],[144,18,144,19],[144,21,144,22],[144,24,144,25],[144,27,144,28],[143,4,143,6],[143,9,143,10],[143,12,143,13],[143,15,143,16],[143,18,143,19],[143,21,143,22],[141,24,141,25],[141,27,141,28],[142,4,142,6],[142,9,142,10],[142,12,142,13],[142,15,142,16],[142,18,142,19],[142,21,142,22],[142,24,142,25],[142,27,142,28],[141,4,141,6],[141,9,141,10],[141,12,141,13],[141,15,141,16],[141,18,141,19],[141,21,141,22],[139,27,139,28],[140,4,140,6],[140,9,140,10],[140,12,140,13],[140,15,140,16],[140,18,140,19],[140,21,140,22],[140,24,140,25],[140,27,140,28],[137,24,137,25],[137,27,137,28],[138,2,138,6],[139,4,139,6],[139,9,139,10],[139,12,139,13],[139,15,139,16],[139,18,139,19],[139,21,139,22],[139,24,139,25],[137,1,137,6],[137,9,137,10],[137,12,137,13],[137,15,137,16],[137,18,137,19],[137,21,137,22],[135,24,135,25],[135,27,135,28],[136,1,136,6],[136,9,136,10],[136,12,136,13],[136,15,136,16],[136,18,136,19],[136,21,136,22],[136,24,136,25],[136,27,136,28],[135,1,135,6],[135,9,135,10],[135,12,135,13],[135,15,135,16],[135,18,135,19],[135,21,135,22],[133,24,133,25],[133,27,133,28],[134,4,134,6],[134,9,134,10],[134,12,134,13],[134,15,134,16],[134,18,134,19],[134,21,134,22],[134,24,134,25],[134,27,134,28],[133,4,133,6],[133,9,133,10],[133,12,133,13],[133,15,133,16],[133,18,133,19],[133,21,133,22],[131,24,131,25],[131,27,131,28],[132,4,132,6],[132,9,132,10],[132,12,132,13],[132,15,132,16],[132,18,132,19],[132,21,132,22],[132,24,132,25],[132,27,132,28],[131,4,131,6],[131,9,131,10],[131,12,131,13],[131,15,131,16],[131,18,131,19],[131,21,131,22],[129,24,129,25],[129,27,129,28],[130,4,130,6],[130,9,130,10],[130,12,130,13],[130,15,130,16],[130,18,130,19],[130,21,130,22],[130,24,130,25],[130,27,130,28],[129,4,129,6],[129,9,129,10],[129,12,129,13],[129,15,129,16],[129,18,129,19],[129,21,129,22],[127,27,127,28],[128,4,128,6],[128,9,128,10],[128,12,128,13],[128,15,128,16],[128,18,128,19],[128,21,128,22],[128,24,128,25],[128,27,128,28],[126,21,126,22],[126,24,126,25],[126,27,126,28],[127,4,127,6],[127,9,127,10],[127,12,127,13],[127,15,127,16],[127,18,127,19],[127,21,127,22],[127,24,127,25],[125,2,125,6],[126,4,126,6],[126,9,126,10],[126,12,126,13],[126,15,126,16],[126,18,126,19],[123,1,123,6],[123,9,123,10],[123,12,123,13],[123,15,123,16],[124,1,124,6],[124,9,124,10],[124,12,124,13],[124,15,124,16],[121,24,121,25],[121,27,121,28],[122,1,122,6],[122,9,122,10],[122,12,122,13],[122,15,122,16],[120,18,120,19],[120,21,120,22],[120,24,120,25],[120,27,120,28],[121,1,121,6],[121,9,121,10],[121,12,121,13],[121,15,121,16],[121,18,121,19],[121,21,121,22],[119,1,119,6],[119,9,119,10],[119,12,119,13],[119,15,119,16],[120,1,120,6],[120,9,120,10],[120,12,120,13],[120,15,120,16],[117,1,117,6],[117,9,117,10],[117,12,117,13],[117,15,117,16],[118,1,118,6],[118,9,118,10],[118,12,118,13],[118,15,118,16],[115,1,115,6],[115,9,115,10],[115,12,115,13],[115,15,115,16],[116,1,116,6],[116,9,116,10],[116,12,116,13],[116,15,116,16],[113,27,113,28],[114,1,114,6],[114,9,114,10],[114,12,114,13],[114,15,114,16],[114,18,114,19],[114,21,114,22],[114,24,114,25],[114,27,114,28],[113,1,113,6],[113,9,113,10],[113,15,113,16],[113,18,113,19],[113,21,113,22],[113,24,113,25],[111,24,111,25],[111,27,111,28],[112,1,112,6],[112,9,112,10],[112,12,112,13],[112,15,112,16],[112,18,112,19],[112,21,112,22],[112,24,112,25],[112,27,112,28],[111,1,111,6],[111,9,111,10],[111,12,111,13],[111,15,111,16],[111,18,111,19],[111,21,111,22],[109,27,109,28],[110,1,110,6],[110,9,110,10],[110,12,110,13],[110,15,110,16],[110,18,110,19],[110,21,110,22],[110,24,110,25],[110,27,110,28],[107,24,107,26],[107,27,107,29],[108,1,108,6],[109,1,109,6],[109,9,109,10],[109,12,109,13],[109,15,109,16],[109,18,109,19],[109,21,109,22],[109,24,109,25],[106,22,106,23],[106,25,106,26],[106,28,106,29],[107,1,107,6],[107,7,107,8],[107,9,107,11],[107,12,107,14],[107,15,107,17],[107,18,107,20],[107,21,107,23],[106,1,106,6],[106,7,106,8],[106,10,106,11],[106,13,106,14],[106,16,106,17],[106,19,106,20],[104,24,104,25],[104,27,104,28],[105,1,105,6],[105,9,105,10],[105,12,105,13],[105,15,105,16],[105,18,105,19],[105,21,105,22],[105,24,105,25],[105,27,105,28],[104,1,104,6],[104,9,104,10],[104,12,104,13],[104,15,104,16],[104,18,104,19],[104,21,104,22],[102,27,102,28],[103,1,103,6],[103,9,103,10],[103,12,103,13],[103,15,103,16],[103,18,103,19],[103,21,103,22],[103,24,103,25],[103,27,103,28],[100,24,100,26],[100,27,100,29],[101,1,101,6],[102,1,102,6],[102,9,102,10],[102,12,102,13],[102,15,102,16],[102,18,102,19],[102,21,102,22],[102,24,102,25],[99,22,99,23],[99,25,99,26],[99,28,99,29],[100,1,100,6],[100,7,100,8],[100,9,100,11],[100,12,100,14],[100,15,100,17],[100,18,100,20],[100,21,100,23],[99,1,99,6],[99,7,99,8],[99,10,99,11],[99,13,99,14],[99,16,99,17],[99,19,99,20],[97,24,97,25],[97,27,97,28],[98,1,98,6],[98,9,98,10],[98,12,98,13],[98,15,98,16],[98,18,98,19],[98,21,98,22],[98,24,98,25],[98,27,98,28],[97,1,97,6],[97,9,97,10],[97,12,97,13],[97,15,97,16],[97,18,97,19],[97,21,97,22],[95,24,95,25],[95,27,95,28],[96,1,96,6],[96,9,96,10],[96,12,96,13],[96,15,96,16],[96,18,96,19],[96,21,96,22],[96,24,96,25],[96,27,96,28],[95,1,95,6],[95,9,95,10],[95,12,95,13],[95,15,95,16],[95,18,95,19],[95,21,95,22],[93,24,93,25],[93,27,93,28],[94,1,94,6],[94,9,94,10],[94,12,94,13],[94,15,94,16],[94,18,94,19],[94,21,94,22],[94,24,94,25],[94,27,94,28],[93,1,93,6],[93,9,93,10],[93,12,93,13],[93,15,93,16],[93,18,93,19],[93,21,93,22],[91,21,91,22],[91,24,91,25],[91,27,91,28],[92,1,92,6],[92,9,92,10],[92,12,92,13],[92,15,92,16],[90,1,90,6],[91,1,91,6],[91,9,91,10],[91,12,91,13],[91,15,91,16],[91,18,91,19],[88,28,88,29],[89,1,89,6],[89,7,89,8],[89,9,89,11],[89,12,89,14],[89,15,89,17],[89,18,89,20],[89,21,89,23],[89,24,89,26],[89,27,89,29],[87,24,87,25],[87,27,87,28],[88,1,88,6],[88,7,88,8],[88,10,88,11],[88,13,88,14],[88,16,88,17],[88,19,88,20],[88,22,88,23],[88,25,88,26],[87,1,87,6],[87,9,87,10],[87,12,87,13],[87,15,87,16],[87,18,87,19],[87,21,87,22],[85,24,85,25],[85,27,85,28],[86,1,86,6],[86,9,86,10],[86,12,86,13],[86,15,86,16],[86,18,86,19],[86,21,86,22],[86,24,86,25],[86,27,86,28],[85,1,85,6],[85,9,85,10],[85,12,85,13],[85,15,85,16],[85,18,85,19],[85,21,85,22],[83,24,83,25],[83,27,83,28],[84,1,84,6],[84,9,84,10],[84,12,84,13],[84,15,84,16],[84,18,84,19],[84,21,84,22],[84,24,84,25],[84,27,84,28],[83,1,83,6],[83,9,83,10],[83,12,83,13],[83,15,83,16],[83,18,83,19],[83,21,83,22],[81,24,81,25],[81,27,81,28],[82,1,82,6],[82,9,82,10],[82,12,82,13],[82,15,82,16],[82,18,82,19],[82,21,82,22],[82,24,82,25],[82,27,82,28],[81,1,81,6],[81,9,81,10],[81,12,81,13],[81,15,81,16],[81,18,81,19],[81,21,81,22],[79,27,79,28],[80,1,80,6],[80,9,80,10],[80,12,80,13],[80,15,80,16],[80,18,80,19],[80,21,80,22],[80,24,80,25],[80,27,80,28],[78,21,78,22],[78,24,78,25],[78,27,78,28],[79,1,79,6],[79,9,79,10],[79,12,79,13],[79,15,79,16],[79,18,79,19],[79,21,79,22],[79,24,79,25],[77,1,77,6],[78,1,78,6],[78,9,78,10],[78,12,78,13],[78,15,78,16],[78,18,78,19],[75,28,75,29],[76,1,76,6],[76,7,76,8],[76,9,76,11],[76,12,76,14],[76,15,76,17],[76,18,76,20],[76,21,76,23],[76,24,76,26],[76,27,76,29],[74,24,74,26],[74,27,74,29],[75,1,75,6],[75,7,75,8],[75,10,75,11],[75,13,75,14],[75,16,75,17],[75,19,75,20],[75,22,75,23],[75,25,75,26],[74,1,74,6],[74,9,74,10],[74,12,74,13],[74,15,74,16],[74,18,74,20],[74,21,74,23],[72,24,72,26],[72,27,72,29],[73,1,73,6],[73,9,73,10],[73,12,73,13],[73,15,73,16],[73,18,73,20],[73,21,73,23],[73,24,73,26],[73,27,73,29],[72,1,72,6],[72,9,72,10],[72,12,72,13],[72,15,72,16],[72,18,72,20],[72,21,72,23],[70,24,70,26],[70,27,70,29],[71,1,71,6],[71,9,71,10],[71,12,71,13],[71,15,71,16],[71,18,71,20],[71,21,71,23],[71,24,71,26],[71,27,71,29],[70,1,70,6],[70,9,70,10],[70,12,70,13],[70,15,70,16],[70,18,70,20],[70,21,70,23],[68,24,68,26],[68,27,68,29],[69,1,69,6],[69,9,69,10],[69,12,69,13],[69,15,69,16],[69,18,69,20],[69,21,69,23],[69,24,69,26],[69,27,69,29],[68,1,68,6],[68,9,68,10],[68,12,68,13],[68,15,68,16],[68,18,68,20],[68,21,68,23],[66,27,66,29],[67,1,67,6],[67,9,67,10],[67,12,67,13],[67,15,67,16],[67,18,67,20],[67,21,67,23],[67,24,67,26],[67,27,67,29],[64,24,64,25],[64,27,64,28],[65,1,65,6],[66,1,66,6],[66,9,66,10],[66,12,66,13],[66,15,66,16],[66,18,66,20],[66,21,66,23],[66,24,66,26],[64,1,64,6],[64,9,64,10],[64,12,64,13],[64,15,64,16],[64,18,64,19],[64,21,64,22],[62,24,62,25],[62,27,62,28],[63,1,63,6],[63,9,63,10],[63,12,63,13],[63,15,63,16],[63,18,63,19],[63,21,63,22],[63,24,63,25],[63,27,63,28],[62,1,62,6],[62,9,62,10],[62,12,62,13],[62,15,62,16],[62,18,62,19],[62,21,62,22],[60,27,60,28],[61,1,61,6],[61,9,61,10],[61,12,61,13],[61,15,61,16],[61,18,61,19],[61,21,61,22],[61,24,61,25],[61,27,61,28],[58,24,58,26],[58,27,58,29],[59,1,59,6],[60,1,60,6],[60,9,60,10],[60,12,60,13],[60,15,60,16],[60,18,60,19],[60,21,60,22],[60,24,60,25],[57,22,57,23],[57,25,57,26],[57,28,57,29],[58,1,58,6],[58,7,58,8],[58,9,58,11],[58,12,58,14],[58,15,58,17],[58,18,58,20],[58,21,58,23],[57,1,57,6],[57,7,57,8],[57,10,57,11],[57,13,57,14],[57,16,57,17],[57,19,57,20],[55,1,55,29],[56,7,56,8],[56,9,56,11],[56,12,56,14],[56,15,56,17],[56,18,56,20],[56,21,56,23],[56,24,56,26],[56,27,56,29],[52,27,52,29],[53,1,53,6],[53,7,53,8],[53,9,53,11],[53,12,53,14],[53,15,53,17],[53,18,53,20],[53,21,53,23],[53,24,53,26],[53,27,53,29],[51,24,51,26],[51,27,51,29],[52,1,52,6],[52,7,52,8],[52,9,52,11],[52,12,52,14],[52,15,52,17],[52,18,52,20],[52,21,52,23],[52,24,52,26],[50,21,50,23],[50,24,50,26],[50,27,50,29],[51,1,51,6],[51,7,51,8],[51,9,51,11],[51,12,51,14],[51,15,51,17],[51,18,51,20],[51,21,51,23],[50,1,50,6],[50,7,50,8],[50,9,50,11],[50,12,50,14],[50,15,50,17],[50,18,50,20],[48,27,48,29],[49,1,49,6],[49,7,49,8],[49,9,49,11],[49,12,49,14],[49,15,49,17],[49,18,49,20],[49,21,49,23],[49,24,49,26],[49,27,49,29],[47,24,47,26],[47,27,47,29],[48,1,48,6],[48,7,48,8],[48,9,48,11],[48,12,48,14],[48,15,48,17],[48,18,48,20],[48,21,48,23],[48,24,48,26],[46,21,46,23],[46,24,46,26],[46,27,46,29],[47,1,47,6],[47,7,47,8],[47,9,47,11],[47,12,47,14],[47,15,47,17],[47,18,47,20],[47,21,47,23],[46,1,46,6],[46,7,46,8],[46,9,46,11],[46,12,46,14],[46,15,46,17],[46,18,46,20],[44,27,44,29],[45,1,45,6],[45,7,45,8],[45,9,45,11],[45,12,45,14],[45,15,45,17],[45,18,45,20],[45,21,45,23],[45,24,45,26],[45,27,45,29],[43,24,43,26],[43,27,43,29],[44,1,44,6],[44,7,44,8],[44,9,44,11],[44,12,44,14],[44,15,44,17],[44,18,44,20],[44,21,44,23],[44,24,44,26],[42,21,42,23],[42,24,42,26],[42,27,42,29],[43,1,43,6],[43,7,43,8],[43,9,43,11],[43,12,43,14],[43,15,43,17],[43,18,43,20],[43,21,43,23],[41,18,41,20],[41,21,41,23],[41,24,41,26],[41,27,41,29],[42,1,42,6],[42,7,42,8],[42,9,42,11],[42,12,42,14],[42,15,42,17],[42,18,42,20],[32,27,33,29],[36,1,36,8],[39,1,39,29],[40,1,41,6],[40,7,40,17],[40,19,40,29],[41,7,41,8],[41,9,41,11],[41,12,41,14],[41,15,41,17],[31,21,31,23],[31,24,31,26],[31,27,31,29],[32,7,33,8],[32,9,33,11],[32,12,33,14],[32,15,33,17],[32,18,33,20],[32,21,33,23],[32,24,33,26],[31,1,33,6],[31,7,31,8],[31,9,31,11],[31,12,31,14],[31,15,31,17],[31,18,31,20],[26,24,26,26],[26,27,26,29],[27,7,28,8],[27,9,28,11],[27,12,28,14],[27,15,28,17],[27,18,28,20],[27,21,28,23],[27,24,28,26],[27,27,28,29],[23,21,24,23],[23,24,24,26],[23,27,24,29],[26,1,28,6],[26,7,26,8],[26,9,26,11],[26,12,26,14],[26,15,26,17],[26,18,26,20],[26,21,26,23],[23,3,24,6],[23,7,24,8],[23,9,24,11],[23,12,24,14],[23,15,24,17],[23,18,24,20],[20,27,20,29],[21,7,22,8],[21,9,22,11],[21,12,22,14],[21,15,22,17],[21,18,22,20],[21,21,22,23],[21,24,22,26],[21,27,22,29],[16,24,17,26],[16,27,17,29],[20,1,22,6],[20,7,20,8],[20,9,20,11],[20,12,20,14],[20,15,20,17],[20,18,20,20],[20,21,20,23],[20,24,20,26],[16,7,17,8],[16,9,17,11],[16,12,17,14],[16,15,17,17],[16,18,17,20],[16,21,17,23],[13,27,13,29],[15,1,17,6],[15,7,15,8],[15,9,15,11],[15,12,15,14],[15,15,15,17],[15,18,15,20],[15,21,15,23],[15,24,15,26],[15,27,15,29],[11,24,12,26],[11,27,12,29],[13,3,13,6],[13,7,13,8],[13,9,13,11],[13,12,13,14],[13,15,13,17],[13,18,13,20],[13,21,13,23],[13,24,13,26],[10,18,10,20],[10,21,10,23],[10,24,10,26],[10,27,10,29],[11,7,12,8],[11,9,12,11],[11,12,12,14],[11,15,12,17],[11,18,12,20],[11,21,12,23],[8,3,8,6],[8,9,8,11],[8,12,8,14],[8,15,8,17],[9,8,9,29],[10,1,12,6],[10,7,10,8],[10,9,10,11],[10,12,10,14],[10,15,10,17],[0,13,0,30],[1,13,1,19],[1,23,1,29],[2,1,2,6],[2,8,7,17],[2,36,17,43],[5,1,5,2],[5,3,5,6],[7,1,7,2],[7,3,7,6]]}
[null,null,null,null,null,null,null,null,null,null,null,null,null,"Outcome Measurement Tool (OMT)\nMA - Victim Witness Assistance Board\n\nNeed Support? Contact MOVAstats@mass.gov."]
[null,"SAFEPLAN Individual Court Data",null,null,null,null,null,null,null,null,null,null,null,"Court Tab 1",null,null,null,null,null,null,null,null,null,"(#1) DATA ENTRY TAB",null,null,null,null,null,null,null,null,null,null,null,null,"NOTES:"]
[null,"Enter the court name and then specified data for this court in the fields below.",null,null,null,null,null,null,"\nINSTRUCTIONS: This section should be completed each reporting period and each tab in one court ONLY. Use the areas in beige to enter the specified information.\n\n Once you have assigned a court to each tab, you will continue to report on that court within the same tab for each reporting period similar to how data was tracked and submitted in the previous reports."]
[]
[]
[null,"Court Name:",null,"Insert COURT NAME Here"]
[]
[null,"Reporting Period:",null,{"$f":"'1. Overall Demographics'!D8","v":"Period 1 (July 1 - September 30 2023)"}]
[null,null,null,"period can be selected on tab 1. Overall Demographics",null,null,null,"Period 1 (July 1 - September 30 2022)",null,"Period 2 (October 1 - December 31 2022)",null,null,"Period 3 (January 1 - March 31 2023)",null,null,"Period 4 (April 1 - June 30 2023)"]
[null,null,null,null,null,null,null,null,"KEY DEFINITIONS: \n\nCount each NEW individual in only one race/ethnicity type as self-reported. Individuals who self-report in more than one category should be counted in the \"Multiple Races\" category. The total number in each demographic category should equal the number of NEW individuals reported in Section 3. This data is used for statistical purposes to comply with Federal regulations.\n\nAll \"0\" entries must represent a true value of zero.\n\nIf no data is collected for a category, select \"Not Tracked\" from the list of options in the associated race/ethnicity category. This means that as a subgrantee, you are not able to submit data in this category due to the need to update this in your data tracking system, but that efforts are underway to track data as requested. Report in the \"Not Tracked\" section the number of individuals whose demographic data were not tracked.\n\nIf no data is collected for an individual, count that individual in the Not Reported category. This means that this data is collected by your organization, but it was not provided by the person completing the intake form.\n\nIf you select \"Other\" from the dropdown options, enter an explanation next to your response or this will be marked as missing data in the system."]
[null,"SECTION 1: TOTAL number of individuals who received services during the reporting period:",null,null,null,null,null,"Period 1 (July 1 - September 30 2023)",null,"Period 2 (October 1 - December 31 2023)",null,null,"Period 3 (January 1 - March 31 2024)",null,null,"Period 4 (April 1 - June 30 2024)",null,null,"Reporting Period 5",null,null,"Reporting Period 6",null,null,"Reporting Period 7",null,null,"Reporting Period 8"]
[]
[]
[]
[]
[null,"SECTION 2: TOTAL number of anonymous contacts received during the reporting period: ",null,null,null,null,null,"Reporting Period 1",null,"Reporting Period 2",null,null,"Reporting Period 3",null,null,"Reporting Period 4",null,null,"Reporting Period 5",null,null,"Reporting Period 6",null,null,"Reporting Period 7",null,null,"Reporting Period 8"]
[]
[]
[]
[]
[null,"SECTION 3: Of the number of individuals entered in question 1, how many were NEW individuals who received services from your agency for the first time during the reporting period: ",null,null,null,null,null,"Reporting Period 1",null,"Reporting Period 2",null,null,"Reporting Period 3",null,null,"Reporting Period 4",null,null,"Reporting Period 5",null,null,"Reporting Period 6",null,null,"Reporting Period 7",null,null,"Reporting Period 8"]
[]
[]
[]
[]
[]
[null,"SECTION 4: TOTAL number of individuals with NO PRIOR CONTACT with a DV/SA Agency during the reporting period: ",null,null,null,null,null,"Reporting Period 1",null,"Reporting Period 2",null,null,"Reporting Period 3",null,null,"Reporting Period 4",null,null,"Reporting Period 5",null,null,"Reporting Period 6",null,null,"Reporting Period 7",null,null,"Reporting Period 8"]
[]
[]
[]
[]
[null,"SECTION 5: AUTOCALCULATED: TOTAL number of continuing individuals during the reporting period: ",null,null,null,null,null,"Reporting Period 1",null,"Reporting Period 2",null,null,"Reporting Period 3",null,null,"Reporting Period 4",null,null,"Reporting Period 5",null,null,"Reporting Period 6",null,null,"Reporting Period 7",null,null,"Reporting Period 8"]
[null,null,null,null,null,null,null,{"$f":"H12-H22","v":0},null,{"$f":"J12-J22","v":0},null,null,{"$f":"M12-M22","v":0},null,null,{"$f":"P12-P22","v":0},null,null,0,null,null,{"$f":"V12-V22","v":0},null,null,{"$f":"Y12-Y22","v":0},null,null,0]
[]
[]
[]
[null,"Is your agency able to track NEW individuals throughout the Fiscal Year?",null,null,null,null,null,null,null,null,"Select one."]
[]
[]
[null,"SECTION 6: Types of Abuse Alleged: Enter the number of Individuals who Received Services Based on the Type of Alleged Abuse During the Reporting Period - ALL individuals\nAn individual MAY be counted in more than one classification."]
[null,"Type of Alleged Abuse",null,null,null,null,null,"Number of Individuals",null,null,null,null,null,null,null,null,null,null,null,"Number of Individuals - Year 2"]
[null,null,null,null,null,null,null,"Reporting Period 1",null,"Reporting Period 2",null,null,"Reporting Period 3",null,null,"Reporting Period 4",null,null,"Reporting Period 5",null,null,"Reporting Period 6",null,null,"Reporting Period 7",null,null,"Reporting Period 8"]
[null,"Attempted physical harm (209A)"]
[null,"Caused physical harm (209A)"]
[null,"Imminent Fear (209A)"]
[null,"Sexual Assault (209A)"]
[null,"Stalking (258E)"]
[null,"Sexual Assault (258E)"]
[null,"Criminal Harassment (258E)"]
[null,"Other (please specify below): "]
[]
[]
[]
[]
[]
[null,"SECTION 7:  Services Received\n1) First select the types of services provided by the court covered within this tab and use the dropdown options to report Yes/No for services received during the reporting period in reference (e.g., select Yes or No for A. Information & Referral in Reporting Period 4)\n2) Then enter the total number of individuals who received that type of services within the service categories and programs\n3) Then enter the number of times each specific service was provided by this court during the reporting period within each of the provided categories (e.g., information about the criminal justice process) using the beige/yellow boxes only (note: some boxes automatically total the subcategories and entries from elsewhere in the column)\n"]
[null,null,null,null,null,null,null,"Reporting Period 1",null,"Reporting Period 2",null,null,"Reporting Period 3",null,null,"Reporting Period 4",null,null,"Reporting Period 5",null,null,"Reporting Period 6",null,null,"Reporting Period 7",null,null,"Reporting Period 8"]
[null,"A. Information & Referral",null,null,null,null,null,"Yes or No?",null,null,"Yes or No?",null,null,"Yes or No?",null,null,"Yes or No?",null,null,"Yes or No?",null,null,"Yes or No?",null,null,"Yes or No?",null,null,"Yes or No?"]
[null,"Number of Individuals"]
[null,"Number of Times/Occurrences",null,null,null,null,null,null,{"$f":"SUM(H62:H65)","v":0},null,null,{"$f":"SUM(J62:K65)","v":0},null,null,{"$f":"SUM(M62:N65)","v":0},null,null,{"$f":"SUM(P62:Q65)","v":0},null,null,{"$f":"SUM(S61:T65)","v":0},null,null,{"$f":"SUM(V61:W65)","v":0},null,null,{"$f":"SUM(Y61:Z65)","v":0},null,null,{"$f":"SUM(AB61:AC65)","v":0}]
[null,"SAFEPLAN Information & Referrals \nInclude counts of referrals made during in-person, virtual, or phone based service provision. Specify referral type in section below."]
[null,"1. Information about the criminal justice process"]
[null,"2. Information on victim rights/how to obtain notifications"]
[null,"3. Referral to other victim service programs"]
[null,"4. Referral to other services/supports/resources (includes legal, medical, faith-based organizations, address confidentiality programs, etc.)"]
[null,"Information & Referral - Referrals Descriptions\nSpecify type of referral provided for each referral counted above",null,null,null,null,null,null,{"$f":"SUM(H67,H68,H69,H70,H71,H72,H73,H74,H75)","v":0},null,null,{"$f":"SUM(J67:K75)","v":0},null,null,{"$f":"SUM(M67:N75)","v":0},null,null,{"$f":"SUM(P67:Q75)","v":0},null,null,{"$f":"SUM(S67,S68,S69,S70,S71,S72,#REF!,#REF!,S75)","v":{"$error":"#REF!"}},null,null,{"$f":"SUM(V67,V68,V69,V70,V71,V72,#REF!,#REF!,V75)","v":{"$error":"#REF!"}},null,null,{"$f":"SUM(Y67,Y68,Y69,Y70,Y71,Y72,#REF!,#REF!,Y75)","v":{"$error":"#REF!"}},null,null,{"$f":"SUM(AB67,AB68,AB69,AB70,AB71,AB72,#REF!,#REF!,AB75)","v":{"$error":"#REF!"}}]
[null,"DV Program"]
[null,"SA Program"]
[null,"DA's Office"]
[null,"Legal Services"]
[null,"Police"]
[null,"Other Court Personnel"]
[null,"Victim Compensation"]
[null,"Medical Referral"]
[null,"Other"]
[null,"B. Personal Advocacy/Accompaniment",null,null,null,null,null,"Yes or No?",null,null,"Yes or No?",null,null,"Yes or No?",null,null,"Yes or No?",null,null,"Yes or No?",null,null,"Yes or No?",null,null,"Yes or No?",null,null,"Yes or No?"]
[null,"Number of Individuals"]
[null,"Number of Times/Occurrences",null,null,null,null,null,null,{"$f":"SUM(H80:H88)","v":0},null,null,{"$f":"SUM(J80:K88)","v":0},null,null,{"$f":"SUM(M80:N88)","v":0},null,null,{"$f":"SUM(P80:Q88)","v":0},null,null,{"$f":"SUM(S78:S88)","v":0},null,null,{"$f":"SUM(V78:V88)","v":0},null,null,{"$f":"SUM(Y78:Y88)","v":0},null,null,{"$f":"SUM(AB78:AB88)","v":0}]
[null,"SAFEPLAN Personal Advocacy/Accompaniment"]
[null,"1. Victim advocacy/accompaniment to emergency medical care"]
[null,"2. Victim advocacy/accompaniment to medical forensic exam"]
[null,"3. Law enforcement interview advocacy/accompaniment"]
[null,"4. Individual advocacy"]
[null,"5. Performance of medical or nonmedical forensic exam or interview, or medical evidence collection"]
[null,"6. Immigration assistance (e.g., special visas, continued presence application, and other immigration relief)"]
[null,"7. Intervention with employer, creditor, landlord, or academic institution"]
[null,"8. Child or dependent care assistance (includes coordination of services)"]
[null,"9. Interpreter services"]
[null,"C. Emotional Support or Safety Services",null,null,null,null,null,"Yes or No?",null,null,"Yes or No?",null,null,"Yes or No?",null,null,"Yes or No?",null,null,"Yes or No?",null,null,"Yes or No?",null,null,"Yes or No?",null,null,"Yes or No?"]
[null,"Number of Individuals"]
[null,"Number of Times/Occurrences",null,null,null,null,null,null,{"$f":"SUM(H93:H99)","v":0},null,null,{"$f":"SUM(J93:K99)","v":0},null,null,{"$f":"SUM(M93:N99)","v":0},null,null,{"$f":"SUM(P93:Q99)","v":0},null,null,{"$f":"SUM(S92:S99)","v":0},null,null,{"$f":"SUM(V92:V99)","v":0},null,null,{"$f":"SUM(Y92:Y99)","v":0},null,null,{"$f":"SUM(AB92:AB99)","v":0}]
[null,"SAFEPLAN Emotional Support or Safety Services "]
[null,"1. Crisis intervention (in-person, includes safety planning, etc.)"]
[null,"2. Hotline/crisis line counseling"]
[null,"3. On-scene crisis response (e.g., community crisis response)"]
[null,"4. Individual counseling"]
[null,"5. Support groups (facilitated or peer)"]
[null,"6. Other therapy (traditional, cultural, or alternative healing; art, writing, or play therapy, etc.)"]
[null,"7. Emergency financial assistance (includes emergency loans and petty cash, payment for items such as food and/or clothing, changing windows and/or locks, taxis, prophylactic and nonprophylactic medications, durable medical equipment, etc.)"]
[null,"D. Shelter/Housing Services",null,null,null,null,null,"Yes or No?",null,null,"Yes or No?",null,null,"Yes or No?",null,null,"Yes or No?",null,null,"Yes or No?",null,null,"Yes or No?",null,null,"Yes or No?",null,null,"Yes or No?"]
[null,"Number of Individuals"]
[null,"Number of Times/Occurrences",null,null,null,null,null,null,{"$f":"SUM(H104:H106)","v":0},null,null,{"$f":"SUM(J104:K106)","v":0},null,null,{"$f":"SUM(M104:N106)","v":0},null,null,{"$f":"SUM(P104:Q106)","v":0},null,null,{"$f":"SUM(S103:S106)","v":0},null,null,{"$f":"SUM(V103:V106)","v":0},null,null,{"$f":"SUM(Y103:Y106)","v":0},null,null,{"$f":"SUM(AB103:AB106)","v":0}]
[null,"SAFEPLAN Shelter/Housing Services"]
[null,"1. Emergency shelter or safe house"]
[null,"2. Transitional housing"]
[null,"3. Relocation assistance (includes assistance with obtaining housing)"]
[null,"E. Criminal/Civil Justice System Assistance",null,null,null,null,null,"Yes or No?",null,null,"Yes or No?",null,null,"Yes or No?",null,null,"Yes or No?",null,null,"Yes or No?",null,null,"Yes or No?",null,null,"Yes or No?",null,null,"Yes or No?"]
[null,"Number of Individuals"]
[null,"Number of Times/Occurrences",null,null,null,null,null,null,{"$f":"SUM(H111:H113,H115:H121,I114)","v":0},null,null,{"$f":"SUM(J111:K113,J115:K121,L114)","v":0},null,null,{"$f":"SUM(M111:N113,M115:N121,O114)","v":0},null,null,{"$f":"SUM(P111:Q113,P115:Q121,R114)","v":0},null,null,{"$f":"SUM(S110:S121)","v":0},null,null,{"$f":"SUM(V110:V121)","v":0},null,null,{"$f":"SUM(Y110:Y121)","v":0},null,null,{"$f":"SUM(AB110:AB121)","v":0}]
[null,"SAFEPLAN Criminal/Civil Justice System Assistance ",null,null,null,null,null,null,null,null,null,null,null,null,null,null,null,null,null,null,{"$f":"SUM(T111:T150)","v":0},null,null,{"$f":"SUM(W111:W150)","v":0},null,null,{"$f":"SUM(Z111:Z150)","v":0},null,null,{"$f":"SUM(AC111:AC150)","v":0}]
[null,"1. Notification of criminal justice events (e.g., case status, arrest, court proceedings, case disposition, release, etc.)"]
[null,"2. Victim impact statement assistance"]
[null,"3. Assistance with restitution (includes assistance in requesting and when collection efforts are not successful)"]
[null,"4. Civil legal assistance in obtaining protection or restraining order (auto-calculated based on 209A and 258E advocacy & accompaniment counts reported in description section below)",null,null,null,null,null,null,{"$f":"SUM(I123,I136)","v":0},null,null,{"$f":"SUM(L123,L136)","v":0},null,null,{"$f":"SUM(O123,O136)","v":0},null,null,{"$f":"SUM(R123,R136)","v":0}]
[null,"5. Civil legal assistance with family law issues (e.g., custody, visitation, or support)"]
[null,"6. Other emergency justice‐related assistance"]
[null,"7. Immigration assistance (e.g., special visas, continued presence application, and other immigration relief)"]
[null,"8. Prosecution interview advocacy/accompaniment"]
[null,"9. Law enforcement interview advocacy/accompaniment"]
[null,"10. Criminal advocacy/accompaniment"]
[null,"11. Other legal advice and/or counsel"]
[null,"209A & 258E Events\nSpecify civil legal assistance provided for each 209A or 258E event"]
[null,"209A Abuse Prevention Order/Restraining Order Events",null,null,null,null,null,null,{"$f":"SUM(H124:H125)","v":0},null,null,{"$f":"SUM(J124:K125)","v":0},null,null,{"$f":"SUM(M124:N125)","v":0},null,null,{"$f":"SUM(P124:Q125)","v":0}]
[null,"1. 209A Advocacy"]
[null,"2. 209A Accompaniment"]
[null,null,"209A Accompaniment Detail - Provide additional details below about each accompaniment instance counted above"]
[null,null,null,null,"Motion to Terminate Granted (Plaintiff)"]
[null,null,null,null,"Motion to Terminate Denied (Plaintiff)"]
[null,null,null,null,"Temporary Restraining Order - Requested"]
[null,null,null,null,"Temporary Restraining Order - Granted"]
[null,null,null,null,"Temporary Restraining Order - Scheduled for Hearing after Notice"]
[null,null,null,null,"Temporary Restraining Order - Denied"]
[null,null,null,null,"Final Restraining Order - Requested"]
[null,null,null,null,"Final Restraining Order - Granted"]
[null,null,null,null,"Final Restraining Order - Denied"]
[null,"258E Harassment Prevention Order Events",null,null,null,null,null,null,{"$f":"SUM(H137:H138)","v":0},null,null,{"$f":"SUM(J137:K138)","v":0},null,null,{"$f":"SUM(M137:N138)","v":0},null,null,{"$f":"SUM(P137:Q138)","v":0}]
[null,"1. 258E Advocacy"]
[null,"2. 258E Accompaniment"]
[null,null,"258E Accompaniment Detail - Provide additional details below about each accompaniment instance counted above"]
[null,null,null,null,"Motion to Terminate Granted (Plaintiff)"]
[null,null,null,null,"Motion to Terminate Denied (Plaintiff)"]
[null,null,null,null,"Temporary Harassment Order - Requested"]
[null,null,null,null,"Temporary Harassment Order - Granted"]
[null,null,null,null,"Temporary Harassment Order - Scheduled for Hearing after Notice"]
[null,null,null,null,"Temporary Harassment Order - Denied"]
[null,null,null,null,"Final Harassment Order - Requested"]
[null,null,null,null,"Final Harassment Order - Granted"]
[null,null,null,null,"Final Harassment Order - Denied"]
[null,"Additional Comments: "]
[null,"Insert response here. "]
[]
[]
[]
[]
["O","8. Number of requests for services that were unmet because of organizational capacity issues: ",null,null,null,null,null,"Reporting Period 1",null,"Reporting Period 2",null,null,"Reporting Period 3",null,null,"Reporting Period 4",null,null,"Reporting Period 5",null,null,"Reporting Period 6",null,null,"Reporting Period 7",null,null,"Reporting Period 8"]
[]
[]
[null,"Please Explain. "]
[]
[]
[]
[]
[]
["O","9. Does your organization formally survey clients for feedback on services received? ",null,null,null,null,null,null,null,null,null,"Select one."]
[]
["O","10. Number of surveys distributed to clients (included, but not limited to, those distributed by hand, mail or electronic methods):",null,null,null,null,null,"Reporting Period 1",null,"Reporting Period 2",null,null,"Reporting Period 3",null,null,"Reporting Period 4",null,null,"Reporting Period 5",null,null,"Reporting Period 6",null,null,"Reporting Period 7",null,null,"Reporting Period 8"]
[]
[]
[]
["O","11. Number of surveys completed by clients: ",null,null,null,null,null,"Reporting Period 1",null,"Reporting Period 2",null,null,"Reporting Period 3",null,null,"Reporting Period 4",null,null,"Reporting Period 5",null,null,"Reporting Period 6",null,null,"Reporting Period 7",null,null,"Reporting Period 8"]
[]
[]
[]
["O","12. Does your organization formally survey staff for feedback on trainings received? ",null,null,null,null,null,null,null,null,null,"Select one."]
[]
["O","13. Number of surveys distributed to staff (included, but not limited to, those distributed by hand, mail or electronic methods):",null,null,null,null,null,"Reporting Period 1",null,"Reporting Period 2",null,null,"Reporting Period 3",null,null,"Reporting Period 4",null,null,"Reporting Period 5",null,null,"Reporting Period 6",null,null,"Reporting Period 7",null,null,"Reporting Period 8"]
[]
[]
[]
["O","14. Number of surveys completed by staff: ",null,null,null,null,null,"Reporting Period 1",null,"Reporting Period 2",null,null,"Reporting Period 3",null,null,"Reporting Period 4",null,null,"Reporting Period 5",null,null,"Reporting Period 6",null,null,"Reporting Period 7",null,null,"Reporting Period 8"]
[]
[]
[]
[]
[null,"15. Please discuss some of the challenges your victim assistance program faced during the course of the federal fiscal year: "]
["O"]
[null,"Year 1",null,null,null,null,null,null,null,null,null,null,null,null,null,null,"Year 2"]
[null,"Insert response here. ",null,null,null,null,null,null,null,null,null,null,null,null,null,null,"Insert response here. "]
[]
[]
[]
[]
[]
[]
[]
[]
[]
[]
[]
[]
[]
[null,"16. Please describe some of the services that victims needed but could not be provided. What were the challenges that prevented those services from being provided: "]
["O"]
[null,"Year 1",null,null,null,null,null,null,null,null,null,null,null,null,null,null,"Year 2"]
[null,"Insert response here. ",null,null,null,null,null,null,null,null,null,null,null,null,null,null,"Insert response here."]
[]
[]
[]
[]
[]
[]
[]
[]
[]
[]
[]
[]
[]
["O","OPTIONAL. Please share a success story or client spotlight in the space below. Do not include any identifying or confidential information. "]
[]
[null,"Year 1",null,null,null,null,null,null,null,null,null,null,null,null,null,null,"Year 2"]
[null,"Insert response here. ",null,null,null,null,null,null,null,null,null,null,null,null,null,null,"Insert response here."]

{"sheet":"1.9 Sample Court Tab","index":13,"n_rows":222,"n_cols":37,"rows_kept":222,"cut":false,"hidden":false,"merged":[[220,1,220,14],[220,16,220,30],[221,1,233,14],[221,16,233,30],[201,1,202,30],[203,1,203,14],[203,16,203,30],[204,1,216,14],[204,16,216,30],[218,0,219,0],[218,1,219,30],[180,27,181,29],[184,1,185,16],[186,1,186,14],[186,16,186,30],[187,1,199,14],[187,16,199,30],[179,21,179,23],[179,24,179,26],[179,27,179,29],[180,7,181,8],[180,9,181,11],[180,12,181,14],[180,15,181,17],[180,18,181,20],[180,21,181,23],[180,24,181,26],[179,1,181,6],[179,7,179,8],[179,9,179,11],[179,12,179,14],[179,15,179,17],[179,18,179,20],[175,24,175,26],[175,27,175,29],[176,7,177,8],[176,9,177,11],[176,12,177,14],[176,15,177,17],[176,18,177,20],[176,21,177,23],[176,24,177,26],[176,27,177,29],[170,24,171,26],[170,27,171,29],[173,11,173,14],[175,1,177,6],[175,7,175,8],[175,9,175,11],[175,12,175,14],[175,15,175,17],[175,18,175,20],[175,21,175,23],[170,7,171,8],[170,9,171,11],[170,12,171,14],[170,15,171,17],[170,18,171,20],[170,21,171,23],[166,27,167,29],[169,1,171,6],[169,7,169,8],[169,9,169,11],[169,12,169,14],[169,15,169,17],[169,18,169,20],[169,21,169,23],[169,24,169,26],[169,27,169,29],[165,21,165,23],[165,24,165,26],[165,27,165,29],[166,7,167,8],[166,9,167,11],[166,12,167,14],[166,15,167,17],[166,18,167,20],[166,21,167,23],[166,24,167,26],[155,27,156,29],[157,1,157,29],[158,1,161,29],[163,11,163,14],[165,1,167,6],[165,7,165,8],[165,9,165,11],[165,12,165,14],[165,15,165,17],[165,18,165,20],[154,21,154,23],[154,24,154,26],[154,27,154,29],[155,7,156,8],[155,9,156,11],[155,12,156,14],[155,15,156,17],[155,18,156,20],[155,21,156,23],[155,24,156,26],[154,1,156,6],[154,7,154,8],[154,9,154,11],[154,12,154,14],[154,15,154,17],[154,18,154,20],[147,4,147,6],[147,9,147,10],[147,12,147,13],[147,15,147,16],[148,1,148,29],[149,1,152,29],[145,24,145,25],[145,27,145,28],[146,4,146,6],[146,9,146,10],[146,12,146,13],[146,15,146,16],[145,4,145,6],[145,9,145,10],[145,12,145,13],[145,15,145,16],[145,18,145,19],[145,21,145,22],[143,24,143,25],[143,27,143,28],[144,4,144,6],[144,9,144,10],[144,12,144,13],[144,15,144,16],[144,18,144,19],[144,21,144,22],[144,24,144,25],[144,27,144,28],[143,4,143,6],[143,9,143,10],[143,12,143,13],[143,15,143,16],[143,18,143,19],[143,21,143,22],[141,24,141,25],[141,27,141,28],[142,4,142,6],[142,9,142,10],[142,12,142,13],[142,15,142,16],[142,18,142,19],[142,21,142,22],[142,24,142,25],[142,27,142,28],[141,4,141,6],[141,9,141,10],[141,12,141,13],[141,15,141,16],[141,18,141,19],[141,21,141,22],[139,27,139,28],[140,4,140,6],[140,9,140,10],[140,12,140,13],[140,15,140,16],[140,18,140,19],[140,21,140,22],[140,24,140,25],[140,27,140,28],[137,24,137,25],[137,27,137,28],[138,2,138,6],[139,4,139,6],[139,9,139,10],[139,12,139,13],[139,15,139,16],[139,18,139,19],[139,21,139,22],[139,24,139,25],[137,1,137,6],[137,9,137,10],[137,12,137,13],[137,15,137,16],[137,18,137,19],[137,21,137,22],[135,24,135,25],[135,27,135,28],[136,1,136,6],[136,9,136,10],[136,12,136,13],[136,15,136,16],[136,18,136,19],[136,21,136,22],[136,24,136,25],[136,27,136,28],[135,1,135,6],[135,9,135,10],[135,12,135,13],[135,15,135,16],[135,18,135,19],[135,21,135,22],[133,24,133,25],[133,27,133,28],[134,4,134,6],[134,9,134,10],[134,12,134,13],[134,15,134,16],[134,18,134,19],[134,21,134,22],[134,24,134,25],[134,27,134,28],[133,4,133,6],[133,9,133,10],[133,12,133,13],[133,15,133,16],[133,18,133,19],[133,21,133,22],[131,24,131,25],[131,27,131,28],[132,4,132,6],[132,9,132,10],[132,12,132,13],[132,15,132,16],[132,18,132,19],[132,21,132,22],[132,24,132,25],[132,27,132,28],[131,4,131,6],[131,9,131,10],[131,12,131,13],[131,15,131,16],[131,18,131,19],[131,21,131,22],[129,24,129,25],[129,27,129,28],[130,4,130,6],[130,9,130,10],[130,12,130,13],[130,15,130,16],[130,18,130,19],[130,21,130,22],[130,24,130,25],[130,27,130,28],[129,4,129,6],[129,9,129,10],[129,12,129,13],[129,15,129,16],[129,18,129,19],[129,21,129,22],[127,27,127,28],[128,4,128,6],[128,9,128,10],[128,12,128,13],[128,15,128,16],[128,18,128,19],[128,21,128,22],[128,24,128,25],[128,27,128,28],[126,21,126,22],[126,24,126,25],[126,27,126,28],[127,4,127,6],[127,9,127,10],[127,12,127,13],[127,15,127,16],[127,18,127,19],[127,21,127,22],[127,24,127,25],[125,2,125,6],[126,4,126,6],[126,9,126,10],[126,12,126,13],[126,15,126,16],[126,18,126,19],[123,1,123,6],[123,9,123,10],[123,12,123,13],[123,15,123,16],[124,1,124,6],[124,9,124,10],[124,12,124,13],[124,15,124,16],[121,24,121,25],[121,27,121,28],[122,1,122,6],[122,9,122,10],[122,12,122,13],[122,15,122,16],[120,18,120,19],[120,21,120,22],[120,24,120,25],[120,27,120,28],[121,1,121,6],[121,9,121,10],[121,12,121,13],[121,15,121,16],[121,18,121,19],[121,21,121,22],[119,1,119,6],[119,9,119,10],[119,12,119,13],[119,15,119,16],[120,1,120,6],[120,9,120,10],[120,12,120,13],[120,15,120,16],[117,1,117,6],[117,9,117,10],[117,12,117,13],[117,15,117,16],[118,1,118,6],[118,9,118,10],[118,12,118,13],[118,15,118,16],[115,1,115,6],[115,9,115,10],[115,12,115,13],[115,15,115,16],[116,1,116,6],[116,9,116,10],[116,12,116,13],[116,15,116,16],[113,27,113,28],[114,1,114,6],[114,9,114,10],[114,12,114,13],[114,15,114,16],[114,18,114,19],[114,21,114,22],[114,24,114,25],[114,27,114,28],[113,1,113,6],[113,9,113,10],[113,15,113,16],[113,18,113,19],[113,21,113,22],[113,24,113,25],[111,24,111,25],[111,27,111,28],[112,1,112,6],[112,9,112,10],[112,12,112,13],[112,15,112,16],[112,18,112,19],[112,21,112,22],[112,24,112,25],[112,27,112,28],[111,1,111,6],[111,9,111,10],[111,12,111,13],[111,15,111,16],[111,18,111,19],[111,21,111,22],[109,27,109,28],[110,1,110,6],[110,9,110,10],[110,12,110,13],[110,15,110,16],[110,18,110,19],[110,21,110,22],[110,24,110,25],[110,27,110,28],[107,24,107,26],[107,27,107,29],[108,1,108,6],[109,1,109,6],[109,9,109,10],[109,12,109,13],[109,15,109,16],[109,18,109,19],[109,21,109,22],[109,24,109,25],[106,22,106,23],[106,25,106,26],[106,28,106,29],[107,1,107,6],[107,7,107,8],[107,9,107,11],[107,12,107,14],[107,15,107,17],[107,18,107,20],[107,21,107,23],[106,1,106,6],[106,7,106,8],[106,10,106,11],[106,13,106,14],[106,16,106,17],[106,19,106,20],[104,24,104,25],[104,27,104,28],[105,1,105,6],[105,9,105,10],[105,12,105,13],[105,15,105,16],[105,18,105,19],[105,21,105,22],[105,24,105,25],[105,27,105,28],[104,1,104,6],[104,9,104,10],[104,12,104,13],[104,15,104,16],[104,18,104,19],[104,21,104,22],[102,27,102,28],[103,1,103,6],[103,9,103,10],[103,12,103,13],[103,15,103,16],[103,18,103,19],[103,21,103,22],[103,24,103,25],[103,27,103,28],[100,24,100,26],[100,27,100,29],[101,1,101,6],[102,1,102,6],[102,9,102,10],[102,12,102,13],[102,15,102,16],[102,18,102,19],[102,21,102,22],[102,24,102,25],[99,22,99,23],[99,25,99,26],[99,28,99,29],[100,1,100,6],[100,7,100,8],[100,9,100,11],[100,12,100,14],[100,15,100,17],[100,18,100,20],[100,21,100,23],[99,1,99,6],[99,7,99,8],[99,10,99,11],[99,13,99,14],[99,16,99,17],[99,19,99,20],[97,24,97,25],[97,27,97,28],[98,1,98,6],[98,9,98,10],[98,12,98,13],[98,15,98,16],[98,18,98,19],[98,21,98,22],[98,24,98,25],[98,27,98,28],[97,1,97,6],[97,9,97,10],[97,12,97,13],[97,15,97,16],[97,18,97,19],[97,21,97,22],[95,24,95,25],[95,27,95,28],[96,1,96,6],[96,9,96,10],[96,12,96,13],[96,15,96,16],[96,18,96,19],[96,21,96,22],[96,24,96,25],[96,27,96,28],[95,1,95,6],[95,9,95,10],[95,12,95,13],[95,15,95,16],[95,18,95,19],[95,21,95,22],[93,24,93,25],[93,27,93,28],[94,1,94,6],[94,9,94,10],[94,12,94,13],[94,15,94,16],[94,18,94,19],[94,21,94,22],[94,24,94,25],[94,27,94,28],[93,1,93,6],[93,9,93,10],[93,12,93,13],[93,15,93,16],[93,18,93,19],[93,21,93,22],[91,21,91,22],[91,24,91,25],[91,27,91,28],[92,1,92,6],[92,9,92,10],[92,12,92,13],[92,15,92,16],[90,1,90,6],[91,1,91,6],[91,9,91,10],[91,12,91,13],[91,15,91,16],[91,18,91,19],[88,28,88,29],[89,1,89,6],[89,7,89,8],[89,9,89,11],[89,12,89,14],[89,15,89,17],[89,18,89,20],[89,21,89,23],[89,24,89,26],[89,27,89,29],[87,24,87,25],[87,27,87,28],[88,1,88,6],[88,7,88,8],[88,10,88,11],[88,13,88,14],[88,16,88,17],[88,19,88,20],[88,22,88,23],[88,25,88,26],[87,1,87,6],[87,9,87,10],[87,12,87,13],[87,15,87,16],[87,18,87,19],[87,21,87,22],[85,24,85,25],[85,27,85,28],[86,1,86,6],[86,9,86,10],[86,12,86,13],[86,15,86,16],[86,18,86,19],[86,21,86,22],[86,24,86,25],[86,27,86,28],[85,1,85,6],[85,9,85,10],[85,12,85,13],[85,15,85,16],[85,18,85,19],[85,21,85,22],[83,24,83,25],[83,27,83,28],[84,1,84,6],[84,9,84,10],[84,12,84,13],[84,15,84,16],[84,18,84,19],[84,21,84,22],[84,24,84,25],[84,27,84,28],[83,1,83,6],[83,9,83,10],[83,12,83,13],[83,15,83,16],[83,18,83,19],[83,21,83,22],[81,24,81,25],[81,27,81,28],[82,1,82,6],[82,9,82,10],[82,12,82,13],[82,15,82,16],[82,18,82,19],[82,21,82,22],[82,24,82,25],[82,27,82,28],[81,1,81,6],[81,9,81,10],[81,12,81,13],[81,15,81,16],[81,18,81,19],[81,21,81,22],[79,27,79,28],[80,1,80,6],[80,9,80,10],[80,12,80,13],[80,15,80,16],[80,18,80,19],[80,21,80,22],[80,24,80,25],[80,27,80,28],[78,21,78,22],[78,24,78,25],[78,27,78,28],[79,1,79,6],[79,9,79,10],[79,12,79,13],[79,15,79,16],[79,18,79,19],[79,21,79,22],[79,24,79,25],[77,1,77,6],[78,1,78,6],[78,9,78,10],[78,12,78,13],[78,15,78,16],[78,18,78,19],[75,28,75,29],[76,1,76,6],[76,7,76,8],[76,9,76,11],[76,12,76,14],[76,15,76,17],[76,18,76,20],[76,21,76,23],[76,24,76,26],[76,27,76,29],[74,24,74,26],[74,27,74,29],[75,1,75,6],[75,7,75,8],[75,10,75,11],[75,13,75,14],[75,16,75,17],[75,19,75,20],[75,22,75,23],[75,25,75,26],[74,1,74,6],[74,9,74,10],[74,12,74,13],[74,15,74,16],[74,18,74,20],[74,21,74,23],[72,24,72,26],[72,27,72,29],[73,1,73,6],[73,9,73,10],[73,12,73,13],[73,15,73,16],[73,18,73,20],[73,21,73,23],[73,24,73,26],[73,27,73,29],[72,1,72,6],[72,9,72,10],[72,12,72,13],[72,15,72,16],[72,18,72,20],[72,21,72,23],[70,24,70,26],[70,27,70,29],[71,1,71,6],[71,9,71,10],[71,12,71,13],[71,15,71,16],[71,18,71,20],[71,21,71,23],[71,24,71,26],[71,27,71,29],[70,1,70,6],[70,9,70,10],[70,12,70,13],[70,15,70,16],[70,18,70,20],[70,21,70,23],[68,24,68,26],[68,27,68,29],[69,1,69,6],[69,9,69,10],[69,12,69,13],[69,15,69,16],[69,18,69,20],[69,21,69,23],[69,24,69,26],[69,27,69,29],[68,1,68,6],[68,9,68,10],[68,12,68,13],[68,15,68,16],[68,18,68,20],[68,21,68,23],[66,27,66,29],[67,1,67,6],[67,9,67,10],[67,12,67,13],[67,15,67,16],[67,18,67,20],[67,21,67,23],[67,24,67,26],[67,27,67,29],[64,24,64,25],[64,27,64,28],[65,1,65,6],[66,1,66,6],[66,9,66,10],[66,12,66,13],[66,15,66,16],[66,18,66,20],[66,21,66,23],[66,24,66,26],[64,1,64,6],[64,9,64,10],[64,12,64,13],[64,15,64,16],[64,18,64,19],[64,21,64,22],[62,24,62,25],[62,27,62,28],[63,1,63,6],[63,9,63,10],[63,12,63,13],[63,15,63,16],[63,18,63,19],[63,21,63,22],[63,24,63,25],[63,27,63,28],[62,1,62,6],[62,9,62,10],[62,12,62,13],[62,15,62,16],[62,18,62,19],[62,21,62,22],[60,27,60,28],[61,1,61,6],[61,9,61,10],[61,12,61,13],[61,15,61,16],[61,18,61,19],[61,21,61,22],[61,24,61,25],[61,27,61,28],[58,24,58,26],[58,27,58,29],[59,1,59,6],[60,1,60,6],[60,9,60,10],[60,12,60,13],[60,15,60,16],[60,18,60,19],[60,21,60,22],[60,24,60,25],[57,22,57,23],[57,25,57,26],[57,28,57,29],[58,1,58,6],[58,7,58,8],[58,9,58,11],[58,12,58,14],[58,15,58,17],[58,18,58,20],[58,21,58,23],[57,1,57,6],[57,7,57,8],[57,10,57,11],[57,13,57,14],[57,16,57,17],[57,19,57,20],[55,1,55,29],[56,7,56,8],[56,9,56,11],[56,12,56,14],[56,15,56,17],[56,18,56,20],[56,21,56,23],[56,24,56,26],[56,27,56,29],[52,27,52,29],[53,1,53,6],[53,7,53,8],[53,9,53,11],[53,12,53,14],[53,15,53,17],[53,18,53,20],[53,21,53,23],[53,24,53,26],[53,27,53,29],[51,24,51,26],[51,27,51,29],[52,1,52,6],[52,7,52,8],[52,9,52,11],[52,12,52,14],[52,15,52,17],[52,18,52,20],[52,21,52,23],[52,24,52,26],[50,21,50,23],[50,24,50,26],[50,27,50,29],[51,1,51,6],[51,7,51,8],[51,9,51,11],[51,12,51,14],[51,15,51,17],[51,18,51,20],[51,21,51,23],[50,1,50,6],[50,7,50,8],[50,9,50,11],[50,12,50,14],[50,15,50,17],[50,18,50,20],[48,27,48,29],[49,1,49,6],[49,7,49,8],[49,9,49,11],[49,12,49,14],[49,15,49,17],[49,18,49,20],[49,21,49,23],[49,24,49,26],[49,27,49,29],[47,24,47,26],[47,27,47,29],[48,1,48,6],[48,7,48,8],[48,9,48,11],[48,12,48,14],[48,15,48,17],[48,18,48,20],[48,21,48,23],[48,24,48,26],[46,21,46,23],[46,24,46,26],[46,27,46,29],[47,1,47,6],[47,7,47,8],[47,9,47,11],[47,12,47,14],[47,15,47,17],[47,18,47,20],[47,21,47,23],[46,1,46,6],[46,7,46,8],[46,9,46,11],[46,12,46,14],[46,15,46,17],[46,18,46,20],[44,27,44,29],[45,1,45,6],[45,7,45,8],[45,9,45,11],[45,12,45,14],[45,15,45,17],[45,18,45,20],[45,21,45,23],[45,24,45,26],[45,27,45,29],[43,24,43,26],[43,27,43,29],[44,1,44,6],[44,7,44,8],[44,9,44,11],[44,12,44,14],[44,15,44,17],[44,18,44,20],[44,21,44,23],[44,24,44,26],[42,21,42,23],[42,24,42,26],[42,27,42,29],[43,1,43,6],[43,7,43,8],[43,9,43,11],[43,12,43,14],[43,15,43,17],[43,18,43,20],[43,21,43,23],[41,18,41,20],[41,21,41,23],[41,24,41,26],[41,27,41,29],[42,1,42,6],[42,7,42,8],[42,9,42,11],[42,12,42,14],[42,15,42,17],[42,18,42,20],[32,27,33,29],[36,1,36,8],[39,1,39,29],[40,1,41,6],[40,7,40,17],[40,19,40,29],[41,7,41,8],[41,9,41,11],[41,12,41,14],[41,15,41,17],[31,21,31,23],[31,24,31,26],[31,27,31,29],[32,7,33,8],[32,9,33,11],[32,12,33,14],[32,15,33,17],[32,18,33,20],[32,21,33,23],[32,24,33,26],[31,1,33,6],[31,7,31,8],[31,9,31,11],[31,12,31,14],[31,15,31,17],[31,18,31,20],[26,24,26,26],[26,27,26,29],[27,7,28,8],[27,9,28,11],[27,12,28,14],[27,15,28,17],[27,18,28,20],[27,21,28,23],[27,24,28,26],[27,27,28,29],[23,21,24,23],[23,24,24,26],[23,27,24,29],[26,1,28,6],[26,7,26,8],[26,9,26,11],[26,12,26,14],[26,15,26,17],[26,18,26,20],[26,21,26,23],[23,3,24,6],[23,7,24,8],[23,9,24,11],[23,12,24,14],[23,15,24,17],[23,18,24,20],[20,27,20,29],[21,7,22,8],[21,9,22,11],[21,12,22,14],[21,15,22,17],[21,18,22,20],[21,21,22,23],[21,24,22,26],[21,27,22,29],[16,24,17,26],[16,27,17,29],[20,1,22,6],[20,7,20,8],[20,9,20,11],[20,12,20,14],[20,15,20,17],[20,18,20,20],[20,21,20,23],[20,24,20,26],[16,7,17,8],[16,9,17,11],[16,12,17,14],[16,15,17,17],[16,18,17,20],[16,21,17,23],[13,27,13,29],[15,1,17,6],[15,7,15,8],[15,9,15,11],[15,12,15,14],[15,15,15,17],[15,18,15,20],[15,21,15,23],[15,24,15,26],[15,27,15,29],[11,24,12,26],[11,27,12,29],[13,3,13,6],[13,7,13,8],[13,9,13,11],[13,12,13,14],[13,15,13,17],[13,18,13,20],[13,21,13,23],[13,24,13,26],[10,18,10,20],[10,21,10,23],[10,24,10,26],[10,27,10,29],[11,7,12,8],[11,9,12,11],[11,12,12,14],[11,15,12,17],[11,18,12,20],[11,21,12,23],[8,3,8,6],[8,9,8,11],[8,12,8,14],[8,15,8,17],[9,8,9,29],[10,1,12,6],[10,7,10,8],[10,9,10,11],[10,12,10,14],[10,15,10,17],[0,13,0,30],[1,13,1,19],[1,23,1,29],[2,1,2,6],[2,8,7,17],[2,36,17,43],[5,1,5,2],[5,3,5,6],[7,1,7,2],[7,3,7,6]]}
[null,null,null,null,null,null,null,null,null,null,null,null,null,"Outcome Measurement Tool (OMT)\nMA - Victim Witness Assistance Board\n\nNeed Support? Contact MOVAstats@mass.gov."]
[null,"SAFEPLAN Individual Court Data",null,null,null,null,null,null,null,null,null,null,null,"Court Tab 1",null,null,null,null,null,null,null,null,null,"(#1) DATA ENTRY TAB",null,null,null,null,null,null,null,null,null,null,null,null,"NOTES:"]
[null,"Enter the court name and then specified data for this court in the fields below.",null,null,null,null,null,null,"\nINSTRUCTIONS: This section should be completed each reporting period and each tab in one court ONLY. Use the areas in beige to enter the specified information.\n\n Once you have assigned a court to each tab, you will continue to report on that court within the same tab for each reporting period similar to how data was tracked and submitted in the previous reports."]
[]
[]
[null,"Court Name:",null,"Insert COURT NAME Here"]
[]
[null,"Reporting Period:",null,{"$f":"'1. Overall Demographics'!D8","v":"Period 1 (July 1 - September 30 2023)"}]
[null,null,null,"period can be selected on tab 1. Overall Demographics",null,null,null,"Period 1 (July 1 - September 30 2022)",null,"Period 2 (October 1 - December 31 2022)",null,null,"Period 3 (January 1 - March 31 2023)",null,null,"Period 4 (April 1 - June 30 2023)"]
[null,null,null,null,null,null,null,null,"KEY DEFINITIONS: \n\nCount each NEW individual in only one race/ethnicity type as self-reported. Individuals who self-report in more than one category should be counted in the \"Multiple Races\" category. The total number in each demographic category should equal the number of NEW individuals reported in Section 3. This data is used for statistical purposes to comply with Federal regulations.\n\nAll \"0\" entries must represent a true value of zero.\n\nIf no data is collected for a category, select \"Not Tracked\" from the list of options in the associated race/ethnicity category. This means that as a subgrantee, you are not able to submit data in this category due to the need to update this in your data tracking system, but that efforts are underway to track data as requested. Report in the \"Not Tracked\" section the number of individuals whose demographic data were not tracked.\n\nIf no data is collected for an individual, count that individual in the Not Reported category. This means that this data is collected by your organization, but it was not provided by the person completing the intake form.\n\nIf you select \"Other\" from the dropdown options, enter an explanation next to your response or this will be marked as missing data in the system."]
[null,"SECTION 1: TOTAL number of individuals who received services during the reporting period:",null,null,null,null,null,"Period 1 (July 1 - September 30 2023)",null,"Period 2 (October 1 - December 31 2023)",null,null,"Period 3 (January 1 - March 31 2024)",null,null,"Period 4 (April 1 - June 30 2024)",null,null,"Reporting Period 5",null,null,"Reporting Period 6",null,null,"Reporting Period 7",null,null,"Reporting Period 8"]
[]
[]
[]
[]
[null,"SECTION 2: TOTAL number of anonymous contacts received during the reporting period: ",null,null,null,null,null,"Reporting Period 1",null,"Reporting Period 2",null,null,"Reporting Period 3",null,null,"Reporting Period 4",null,null,"Reporting Period 5",null,null,"Reporting Period 6",null,null,"Reporting Period 7",null,null,"Reporting Period 8"]
[]
[]
[]
[]
[null,"SECTION 3: Of the number of individuals entered in question 1, how many were NEW individuals who received services from your agency for the first time during the reporting period: ",null,null,null,null,null,"Reporting Period 1",null,"Reporting Period 2",null,null,"Reporting Period 3",null,null,"Reporting Period 4",null,null,"Reporting Period 5",null,null,"Reporting Period 6",null,null,"Reporting Period 7",null,null,"Reporting Period 8"]
[]
[]
[]
[]
[]
[null,"SECTION 4: TOTAL number of individuals with NO PRIOR CONTACT with a DV/SA Agency during the reporting period: ",null,null,null,null,null,"Reporting Period 1",null,"Reporting Period 2",null,null,"Reporting Period 3",null,null,"Reporting Period 4",null,null,"Reporting Period 5",null,null,"Reporting Period 6",null,null,"Reporting Period 7",null,null,"Reporting Period 8"]
[]
[]
[]
[]
[null,"SECTION 5: AUTOCALCULATED: TOTAL number of continuing individuals during the reporting period: ",null,null,null,null,null,"Reporting Period 1",null,"Reporting Period 2",null,null,"Reporting Period 3",null,null,"Reporting Period 4",null,null,"Reporting Period 5",null,null,"Reporting Period 6",null,null,"Reporting Period 7",null,null,"Reporting Period 8"]
[null,null,null,null,null,null,null,{"$f":"H12-H22","v":0},null,{"$f":"J12-J22","v":0},null,null,{"$f":"M12-M22","v":0},null,null,{"$f":"P12-P22","v":0},null,null,0,null,null,{"$f":"V12-V22","v":0},null,null,{"$f":"Y12-Y22","v":0},null,null,0]
[]
[]
[]
[null,"Is your agency able to track NEW individuals throughout the Fiscal Year?",null,null,null,null,null,null,null,null,"Select one."]
[]
[]
[null,"SECTION 6: Types of Abuse Alleged: Enter the number of Individuals who Received Services Based on the Type of Alleged Abuse During the Reporting Period - ALL individuals\nAn individual MAY be counted in more than one classification."]
[null,"Type of Alleged Abuse",null,null,null,null,null,"Number of Individuals",null,null,null,null,null,null,null,null,null,null,null,"Number of Individuals - Year 2"]
[null,null,null,null,null,null,null,"Reporting Period 1",null,"Reporting Period 2",null,null,"Reporting Period 3",null,null,"Reporting Period 4",null,null,"Reporting Period 5",null,null,"Reporting Period 6",null,null,"Reporting Period 7",null,null,"Reporting Period 8"]
[null,"Attempted physical harm (209A)"]
[null,"Caused physical harm (209A)"]
[null,"Imminent Fear (209A)"]
[null,"Sexual Assault (209A)"]
[null,"Stalking (258E)"]
[null,"Sexual Assault (258E)"]
[null,"Criminal Harassment (258E)"]
[null,"Other (please specify below): "]
[]
[]
[]
[]
[]
[null,"SECTION 7:  Services Received\n1) First select the types of services provided by the court covered within this tab and use the dropdown options to report Yes/No for services received during the reporting period in reference (e.g., select Yes or No for A. Information & Referral in Reporting Period 4)\n2) Then enter the total number of individuals who received that type of services within the service categories and programs\n3) Then enter the number of times each specific service was provided by this court during the reporting period within each of the provided categories (e.g., information about the criminal justice process) using the beige/yellow boxes only (note: some boxes automatically total the subcategories and entries from elsewhere in the column)\n"]
[null,null,null,null,null,null,null,"Reporting Period 1",null,"Reporting Period 2",null,null,"Reporting Period 3",null,null,"Reporting Period 4",null,null,"Reporting Period 5",null,null,"Reporting Period 6",null,null,"Reporting Period 7",null,null,"Reporting Period 8"]
[null,"A. Information & Referral",null,null,null,null,null,"Yes or No?",null,null,"Yes or No?",null,null,"Yes or No?",null,null,"Yes or No?",null,null,"Yes or No?",null,null,"Yes or No?",null,null,"Yes or No?",null,null,"Yes or No?"]
[null,"Number of Individuals"]
[null,"Number of Times/Occurrences",null,null,null,null,null,null,{"$f":"SUM(H62:H65)","v":0},null,null,{"$f":"SUM(J62:K65)","v":0},null,null,{"$f":"SUM(M62:N65)","v":0},null,null,{"$f":"SUM(P62:Q65)","v":0},null,null,{"$f":"SUM(S61:T65)","v":0},null,null,{"$f":"SUM(V61:W65)","v":0},null,null,{"$f":"SUM(Y61:Z65)","v":0},null,null,{"$f":"SUM(AB61:AC65)","v":0}]
[null,"SAFEPLAN Information & Referrals \nInclude counts of referrals made during in-person, virtual, or phone based service provision. Specify referral type in section below."]
[null,"1. Information about the criminal justice process"]
[null,"2. Information on victim rights/how to obtain notifications"]
[null,"3. Referral to other victim service programs"]
[null,"4. Referral to other services/supports/resources (includes legal, medical, faith-based organizations, address confidentiality programs, etc.)"]
[null,"Information & Referral - Referrals Descriptions\nSpecify type of referral provided for each referral counted above",null,null,null,null,null,null,{"$f":"SUM(H67,H68,H69,H70,H71,H72,H73,H74,H75)","v":0},null,null,{"$f":"SUM(J67:K75)","v":0},null,null,{"$f":"SUM(M67:N75)","v":0},null,null,{"$f":"SUM(P67:Q75)","v":0},null,null,{"$f":"SUM(S67,S68,S69,S70,S71,S72,#REF!,#REF!,S75)","v":{"$error":"#REF!"}},null,null,{"$f":"SUM(V67,V68,V69,V70,V71,V72,#REF!,#REF!,V75)","v":{"$error":"#REF!"}},null,null,{"$f":"SUM(Y67,Y68,Y69,Y70,Y71,Y72,#REF!,#REF!,Y75)","v":{"$error":"#REF!"}},null,null,{"$f":"SUM(AB67,AB68,AB69,AB70,AB71,AB72,#REF!,#REF!,AB75)","v":{"$error":"#REF!"}}]
[null,"DV Program"]
[null,"SA Program"]
[null,"DA's Office"]
[null,"Legal Services"]
[null,"Police"]
[null,"Other Court Personnel"]
[null,"Victim Compensation"]
[null,"Medical Referral"]
[null,"Other"]
[null,"B. Personal Advocacy/Accompaniment",null,null,null,null,null,"Yes or No?",null,null,"Yes or No?",null,null,"Yes or No?",null,null,"Yes or No?",null,null,"Yes or No?",null,null,"Yes or No?",null,null,"Yes or No?",null,null,"Yes or No?"]
[null,"Number of Individuals"]
[null,"Number of Times/Occurrences",null,null,null,null,null,null,{"$f":"SUM(H80:H88)","v":0},null,null,{"$f":"SUM(J80:K88)","v":0},null,null,{"$f":"SUM(M80:N88)","v":0},null,null,{"$f":"SUM(P80:Q88)","v":0},null,null,{"$f":"SUM(S78:S88)","v":0},null,null,{"$f":"SUM(V78:V88)","v":0},null,null,{"$f":"SUM(Y78:Y88)","v":0},null,null,{"$f":"SUM(AB78:AB88)","v":0}]
[null,"SAFEPLAN Personal Advocacy/Accompaniment"]
[null,"1. Victim advocacy/accompaniment to emergency medical care"]
[null,"2. Victim advocacy/accompaniment to medical forensic exam"]
[null,"3. Law enforcement interview advocacy/accompaniment"]
[null,"4. Individual advocacy"]
[null,"5. Performance of medical or nonmedical forensic exam or interview, or medical evidence collection"]
[null,"6. Immigration assistance (e.g., special visas, continued presence application, and other immigration relief)"]
[null,"7. Intervention with employer, creditor, landlord, or academic institution"]
[null,"8. Child or dependent care assistance (includes coordination of services)"]
[null,"9. Interpreter services"]
[null,"C. Emotional Support or Safety Services",null,null,null,null,null,"Yes or No?",null,null,"Yes or No?",null,null,"Yes or No?",null,null,"Yes or No?",null,null,"Yes or No?",null,null,"Yes or No?",null,null,"Yes or No?",null,null,"Yes or No?"]
[null,"Number of Individuals"]
[null,"Number of Times/Occurrences",null,null,null,null,null,null,{"$f":"SUM(H93:H99)","v":0},null,null,{"$f":"SUM(J93:K99)","v":0},null,null,{"$f":"SUM(M93:N99)","v":0},null,null,{"$f":"SUM(P93:Q99)","v":0},null,null,{"$f":"SUM(S92:S99)","v":0},null,null,{"$f":"SUM(V92:V99)","v":0},null,null,{"$f":"SUM(Y92:Y99)","v":0},null,null,{"$f":"SUM(AB92:AB99)","v":0}]
[null,"SAFEPLAN Emotional Support or Safety Services "]
[null,"1. Crisis intervention (in-person, includes safety planning, etc.)"]
[null,"2. Hotline/crisis line counseling"]
[null,"3. On-scene crisis response (e.g., community crisis response)"]
[null,"4. Individual counseling"]
[null,"5. Support groups (facilitated or peer)"]
[null,"6. Other therapy (traditional, cultural, or alternative healing; art, writing, or play therapy, etc.)"]
[null,"7. Emergency financial assistance (includes emergency loans and petty cash, payment for items such as food and/or clothing, changing windows and/or locks, taxis, prophylactic and nonprophylactic medications, durable medical equipment, etc.)"]
[null,"D. Shelter/Housing Services",null,null,null,null,null,"Yes or No?",null,null,"Yes or No?",null,null,"Yes or No?",null,null,"Yes or No?",null,null,"Yes or No?",null,null,"Yes or No?",null,null,"Yes or No?",null,null,"Yes or No?"]
[null,"Number of Individuals"]
[null,"Number of Times/Occurrences",null,null,null,null,null,null,{"$f":"SUM(H104:H106)","v":0},null,null,{"$f":"SUM(J104:K106)","v":0},null,null,{"$f":"SUM(M104:N106)","v":0},null,null,{"$f":"SUM(P104:Q106)","v":0},null,null,{"$f":"SUM(S103:S106)","v":0},null,null,{"$f":"SUM(V103:V106)","v":0},null,null,{"$f":"SUM(Y103:Y106)","v":0},null,null,{"$f":"SUM(AB103:AB106)","v":0}]
[null,"SAFEPLAN Shelter/Housing Services"]
[null,"1. Emergency shelter or safe house"]
[null,"2. Transitional housing"]
[null,"3. Relocation assistance (includes assistance with obtaining housing)"]
[null,"E. Criminal/Civil Justice System Assistance",null,null,null,null,null,"Yes or No?",null,null,"Yes or No?",null,null,"Yes or No?",null,null,"Yes or No?",null,null,"Yes or No?",null,null,"Yes or No?",null,null,"Yes or No?",null,null,"Yes or No?"]
[null,"Number of Individuals"]
[null,"Number of Times/Occurrences",null,null,null,null,null,null,{"$f":"SUM(H111:H113,H115:H121,I114)","v":0},null,null,{"$f":"SUM(J111:K113,J115:K121,L114)","v":0},null,null,{"$f":"SUM(M111:N113,M115:N121,O114)","v":0},null,null,{"$f":"SUM(P111:Q113,P115:Q121,R114)","v":0},null,null,{"$f":"SUM(S110:S121)","v":0},null,null,{"$f":"SUM(V110:V121)","v":0},null,null,{"$f":"SUM(Y110:Y121)","v":0},null,null,{"$f":"SUM(AB110:AB121)","v":0}]
[null,"SAFEPLAN Criminal/Civil Justice System Assistance ",null,null,null,null,null,null,null,null,null,null,null,null,null,null,null,null,null,null,{"$f":"SUM(T111:T150)","v":0},null,null,{"$f":"SUM(W111:W150)","v":0},null,null,{"$f":"SUM(Z111:Z150)","v":0},null,null,{"$f":"SUM(AC111:AC150)","v":0}]
[null,"1. Notification of criminal justice events (e.g., case status, arrest, court proceedings, case disposition, release, etc.)"]
[null,"2. Victim impact statement assistance"]
[null,"3. Assistance with restitution (includes assistance in requesting and when collection efforts are not successful)"]
[null,"4. Civil legal assistance in obtaining protection or restraining order (auto-calculated based on 209A and 258E advocacy & accompaniment counts reported in description section below)",null,null,null,null,null,null,{"$f":"SUM(I123,I136)","v":0},null,null,{"$f":"SUM(L123,L136)","v":0},null,null,{"$f":"SUM(O123,O136)","v":0},null,null,{"$f":"SUM(R123,R136)","v":0}]
[null,"5. Civil legal assistance with family law issues (e.g., custody, visitation, or support)"]
[null,"6. Other emergency justice‐related assistance"]
[null,"7. Immigration assistance (e.g., special visas, continued presence application, and other immigration relief)"]
[null,"8. Prosecution interview advocacy/accompaniment"]
[null,"9. Law enforcement interview advocacy/accompaniment"]
[null,"10. Criminal advocacy/accompaniment"]
[null,"11. Other legal advice and/or counsel"]
[null,"209A & 258E Events\nSpecify civil legal assistance provided for each 209A or 258E event"]
[null,"209A Abuse Prevention Order/Restraining Order Events",null,null,null,null,null,null,{"$f":"SUM(H124:H125)","v":0},null,null,{"$f":"SUM(J124:K125)","v":0},null,null,{"$f":"SUM(M124:N125)","v":0},null,null,{"$f":"SUM(P124:Q125)","v":0}]
[null,"1. 209A Advocacy"]
[null,"2. 209A Accompaniment"]
[null,null,"209A Accompaniment Detail - Provide additional details below about each accompaniment instance counted above"]
[null,null,null,null,"Motion to Terminate Granted (Plaintiff)"]
[null,null,null,null,"Motion to Terminate Denied (Plaintiff)"]
[null,null,null,null,"Temporary Restraining Order - Requested"]
[null,null,null,null,"Temporary Restraining Order - Granted"]
[null,null,null,null,"Temporary Restraining Order - Scheduled for Hearing after Notice"]
[null,null,null,null,"Temporary Restraining Order - Denied"]
[null,null,null,null,"Final Restraining Order - Requested"]
[null,null,null,null,"Final Restraining Order - Granted"]
[null,null,null,null,"Final Restraining Order - Denied"]
[null,"258E Harassment Prevention Order Events",null,null,null,null,null,null,{"$f":"SUM(H137:H138)","v":0},null,null,{"$f":"SUM(J137:K138)","v":0},null,null,{"$f":"SUM(M137:N138)","v":0},null,null,{"$f":"SUM(P137:Q138)","v":0}]
[null,"1. 258E Advocacy"]
[null,"2. 258E Accompaniment"]
[null,null,"258E Accompaniment Detail - Provide additional details below about each accompaniment instance counted above"]
[null,null,null,null,"Motion to Terminate Granted (Plaintiff)"]
[null,null,null,null,"Motion to Terminate Denied (Plaintiff)"]
[null,null,null,null,"Temporary Harassment Order - Requested"]
[null,null,null,null,"Temporary Harassment Order - Granted"]
[null,null,null,null,"Temporary Harassment Order - Scheduled for Hearing after Notice"]
[null,null,null,null,"Temporary Harassment Order - Denied"]
[null,null,null,null,"Final Harassment Order - Requested"]
[null,null,null,null,"Final Harassment Order - Granted"]
[null,null,null,null,"Final Harassment Order - Denied"]
[null,"Additional Comments: "]
[null,"Insert response here. "]
[]
[]
[]
[]
["O","8. Number of requests for services that were unmet because of organizational capacity issues: ",null,null,null,null,null,"Reporting Period 1",null,"Reporting Period 2",null,null,"Reporting Period 3",null,null,"Reporting Period 4",null,null,"Reporting Period 5",null,null,"Reporting Period 6",null,null,"Reporting Period 7",null,null,"Reporting Period 8"]
[]
[]
[null,"Please Explain. "]
[]
[]
[]
[]
[]
["O","9. Does your organization formally survey clients for feedback on services received? ",null,null,null,null,null,null,null,null,null,"Select one."]
[]
["O","10. Number of surveys distributed to clients (included, but not limited to, those distributed by hand, mail or electronic methods):",null,null,null,null,null,"Reporting Period 1",null,"Reporting Period 2",null,null,"Reporting Period 3",null,null,"Reporting Period 4",null,null,"Reporting Period 5",null,null,"Reporting Period 6",null,null,"Reporting Period 7",null,null,"Reporting Period 8"]
[]
[]
[]
["O","11. Number of surveys completed by clients: ",null,null,null,null,null,"Reporting Period 1",null,"Reporting Period 2",null,null,"Reporting Period 3",null,null,"Reporting Period 4",null,null,"Reporting Period 5",null,null,"Reporting Period 6",null,null,"Reporting Period 7",null,null,"Reporting Period 8"]
[]
[]
[]
["O","12. Does your organization formally survey staff for feedback on trainings received? ",null,null,null,null,null,null,null,null,null,"Select one."]
[]
["O","13. Number of surveys distributed to staff (included, but not limited to, those distributed by hand, mail or electronic methods):",null,null,null,null,null,"Reporting Period 1",null,"Reporting Period 2",null,null,"Reporting Period 3",null,null,"Reporting Period 4",null,null,"Reporting Period 5",null,null,"Reporting Period 6",null,null,"Reporting Period 7",null,null,"Reporting Period 8"]
[]
[]
[]
["O","14. Number of surveys completed by staff: ",null,null,null,null,null,"Reporting Period 1",null,"Reporting Period 2",null,null,"Reporting Period 3",null,null,"Reporting Period 4",null,null,"Reporting Period 5",null,null,"Reporting Period 6",null,null,"Reporting Period 7",null,null,"Reporting Period 8"]
[]
[]
[]
[]
[null,"15. Please discuss some of the challenges your victim assistance program faced during the course of the federal fiscal year: "]
["O"]
[null,"Year 1",null,null,null,null,null,null,null,null,null,null,null,null,null,null,"Year 2"]
[null,"Insert response here. ",null,null,null,null,null,null,null,null,null,null,null,null,null,null,"Insert response here. "]
[]
[]
[]
[]
[]
[]
[]
[]
[]
[]
[]
[]
[]
[null,"16. Please describe some of the services that victims needed but could not be provided. What were the challenges that prevented those services from being provided: "]
["O"]
[null,"Year 1",null,null,null,null,null,null,null,null,null,null,null,null,null,null,"Year 2"]
[null,"Insert response here. ",null,null,null,null,null,null,null,null,null,null,null,null,null,null,"Insert response here."]
[]
[]
[]
[]
[]
[]
[]
[]
[]
[]
[]
[]
[]
["O","OPTIONAL. Please share a success story or client spotlight in the space below. Do not include any identifying or confidential information. "]
[]
[null,"Year 1",null,null,null,null,null,null,null,null,null,null,null,null,null,null,"Year 2"]
[null,"Insert response here. ",null,null,null,null,null,null,null,null,null,null,null,null,null,null,"Insert response here."]

{"sheet":"1.10 Sample Court Tab","index":14,"n_rows":222,"n_cols":37,"rows_kept":222,"cut":false,"hidden":false,"merged":[[220,1,220,14],[220,16,220,30],[221,1,233,14],[221,16,233,30],[201,1,202,30],[203,1,203,14],[203,16,203,30],[204,1,216,14],[204,16,216,30],[218,0,219,0],[218,1,219,30],[180,27,181,29],[184,1,185,16],[186,1,186,14],[186,16,186,30],[187,1,199,14],[187,16,199,30],[179,21,179,23],[179,24,179,26],[179,27,179,29],[180,7,181,8],[180,9,181,11],[180,12,181,14],[180,15,181,17],[180,18,181,20],[180,21,181,23],[180,24,181,26],[179,1,181,6],[179,7,179,8],[179,9,179,11],[179,12,179,14],[179,15,179,17],[179,18,179,20],[175,24,175,26],[175,27,175,29],[176,7,177,8],[176,9,177,11],[176,12,177,14],[176,15,177,17],[176,18,177,20],[176,21,177,23],[176,24,177,26],[176,27,177,29],[170,24,171,26],[170,27,171,29],[173,11,173,14],[175,1,177,6],[175,7,175,8],[175,9,175,11],[175,12,175,14],[175,15,175,17],[175,18,175,20],[175,21,175,23],[170,7,171,8],[170,9,171,11],[170,12,171,14],[170,15,171,17],[170,18,171,20],[170,21,171,23],[166,27,167,29],[169,1,171,6],[169,7,169,8],[169,9,169,11],[169,12,169,14],[169,15,169,17],[169,18,169,20],[169,21,169,23],[169,24,169,26],[169,27,169,29],[165,21,165,23],[165,24,165,26],[165,27,165,29],[166,7,167,8],[166,9,167,11],[166,12,167,14],[166,15,167,17],[166,18,167,20],[166,21,167,23],[166,24,167,26],[155,27,156,29],[157,1,157,29],[158,1,161,29],[163,11,163,14],[165,1,167,6],[165,7,165,8],[165,9,165,11],[165,12,165,14],[165,15,165,17],[165,18,165,20],[154,21,154,23],[154,24,154,26],[154,27,154,29],[155,7,156,8],[155,9,156,11],[155,12,156,14],[155,15,156,17],[155,18,156,20],[155,21,156,23],[155,24,156,26],[154,1,156,6],[154,7,154,8],[154,9,154,11],[154,12,154,14],[154,15,154,17],[154,18,154,20],[147,4,147,6],[147,9,147,10],[147,12,147,13],[147,15,147,16],[148,1,148,29],[149,1,152,29],[145,24,145,25],[145,27,145,28],[146,4,146,6],[146,9,146,10],[146,12,146,13],[146,15,146,16],[145,4,145,6],[145,9,145,10],[145,12,145,13],[145,15,145,16],[145,18,145,19],[145,21,145,22],[143,24,143,25],[143,27,143,28],[144,4,144,6],[144,9,144,10],[144,12,144,13],[144,15,144,16],[144,18,144,19],[144,21,144,22],[144,24,144,25],[144,27,144,28],[143,4,143,6],[143,9,143,10],[143,12,143,13],[143,15,143,16],[143,18,143,19],[143,21,143,22],[141,24,141,25],[141,27,141,28],[142,4,142,6],[142,9,142,10],[142,12,142,13],[142,15,142,16],[142,18,142,19],[142,21,142,22],[142,24,142,25],[142,27,142,28],[141,4,141,6],[141,9,141,10],[141,12,141,13],[141,15,141,16],[141,18,141,19],[141,21,141,22],[139,27,139,28],[140,4,140,6],[140,9,140,10],[140,12,140,13],[140,15,140,16],[140,18,140,19],[140,21,140,22],[140,24,140,25],[140,27,140,28],[137,24,137,25],[137,27,137,28],[138,2,138,6],[139,4,139,6],[139,9,139,10],[139,12,139,13],[139,15,139,16],[139,18,139,19],[139,21,139,22],[139,24,139,25],[137,1,137,6],[137,9,137,10],[137,12,137,13],[137,15,137,16],[137,18,137,19],[137,21,137,22],[135,24,135,25],[135,27,135,28],[136,1,136,6],[136,9,136,10],[136,12,136,13],[136,15,136,16],[136,18,136,19],[136,21,136,22],[136,24,136,25],[136,27,136,28],[135,1,135,6],[135,9,135,10],[135,12,135,13],[135,15,135,16],[135,18,135,19],[135,21,135,22],[133,24,133,25],[133,27,133,28],[134,4,134,6],[134,9,134,10],[134,12,134,13],[134,15,134,16],[134,18,134,19],[134,21,134,22],[134,24,134,25],[134,27,134,28],[133,4,133,6],[133,9,133,10],[133,12,133,13],[133,15,133,16],[133,18,133,19],[133,21,133,22],[131,24,131,25],[131,27,131,28],[132,4,132,6],[132,9,132,10],[132,12,132,13],[132,15,132,16],[132,18,132,19],[132,21,132,22],[132,24,132,25],[132,27,132,28],[131,4,131,6],[131,9,131,10],[131,12,131,13],[131,15,131,16],[131,18,131,19],[131,21,131,22],[129,24,129,25],[129,27,129,28],[130,4,130,6],[130,9,130,10],[130,12,130,13],[130,15,130,16],[130,18,130,19],[130,21,130,22],[130,24,130,25],[130,27,130,28],[129,4,129,6],[129,9,129,10],[129,12,129,13],[129,15,129,16],[129,18,129,19],[129,21,129,22],[127,27,127,28],[128,4,128,6],[128,9,128,10],[128,12,128,13],[128,15,128,16],[128,18,128,19],[128,21,128,22],[128,24,128,25],[128,27,128,28],[126,21,126,22],[126,24,126,25],[126,27,126,28],[127,4,127,6],[127,9,127,10],[127,12,127,13],[127,15,127,16],[127,18,127,19],[127,21,127,22],[127,24,127,25],[125,2,125,6],[126,4,126,6],[126,9,126,10],[126,12,126,13],[126,15,126,16],[126,18,126,19],[123,1,123,6],[123,9,123,10],[123,12,123,13],[123,15,123,16],[124,1,124,6],[124,9,124,10],[124,12,124,13],[124,15,124,16],[121,24,121,25],[121,27,121,28],[122,1,122,6],[122,9,122,10],[122,12,122,13],[122,15,122,16],[120,18,120,19],[120,21,120,22],[120,24,120,25],[120,27,120,28],[121,1,121,6],[121,9,121,10],[121,12,121,13],[121,15,121,16],[121,18,121,19],[121,21,121,22],[119,1,119,6],[119,9,119,10],[119,12,119,13],[119,15,119,16],[120,1,120,6],[120,9,120,10],[120,12,120,13],[120,15,120,16],[117,1,117,6],[117,9,117,10],[117,12,117,13],[117,15,117,16],[118,1,118,6],[118,9,118,10],[118,12,118,13],[118,15,118,16],[115,1,115,6],[115,9,115,10],[115,12,115,13],[115,15,115,16],[116,1,116,6],[116,9,116,10],[116,12,116,13],[116,15,116,16],[113,27,113,28],[114,1,114,6],[114,9,114,10],[114,12,114,13],[114,15,114,16],[114,18,114,19],[114,21,114,22],[114,24,114,25],[114,27,114,28],[113,1,113,6],[113,9,113,10],[113,15,113,16],[113,18,113,19],[113,21,113,22],[113,24,113,25],[111,24,111,25],[111,27,111,28],[112,1,112,6],[112,9,112,10],[112,12,112,13],[112,15,112,16],[112,18,112,19],[112,21,112,22],[112,24,112,25],[112,27,112,28],[111,1,111,6],[111,9,111,10],[111,12,111,13],[111,15,111,16],[111,18,111,19],[111,21,111,22],[109,27,109,28],[110,1,110,6],[110,9,110,10],[110,12,110,13],[110,15,110,16],[110,18,110,19],[110,21,110,22],[110,24,110,25],[110,27,110,28],[107,24,107,26],[107,27,107,29],[108,1,108,6],[109,1,109,6],[109,9,109,10],[109,12,109,13],[109,15,109,16],[109,18,109,19],[109,21,109,22],[109,24,109,25],[106,22,106,23],[106,25,106,26],[106,28,106,29],[107,1,107,6],[107,7,107,8],[107,9,107,11],[107,12,107,14],[107,15,107,17],[107,18,107,20],[107,21,107,23],[106,1,106,6],[106,7,106,8],[106,10,106,11],[106,13,106,14],[106,16,106,17],[106,19,106,20],[104,24,104,25],[104,27,104,28],[105,1,105,6],[105,9,105,10],[105,12,105,13],[105,15,105,16],[105,18,105,19],[105,21,105,22],[105,24,105,25],[105,27,105,28],[104,1,104,6],[104,9,104,10],[104,12,104,13],[104,15,104,16],[104,18,104,19],[104,21,104,22],[102,27,102,28],[103,1,103,6],[103,9,103,10],[103,12,103,13],[103,15,103,16],[103,18,103,19],[103,21,103,22],[103,24,103,25],[103,27,103,28],[100,24,100,26],[100,27,100,29],[101,1,101,6],[102,1,102,6],[102,9,102,10],[102,12,102,13],[102,15,102,16],[102,18,102,19],[102,21,102,22],[102,24,102,25],[99,22,99,23],[99,25,99,26],[99,28,99,29],[100,1,100,6],[100,7,100,8],[100,9,100,11],[100,12,100,14],[100,15,100,17],[100,18,100,20],[100,21,100,23],[99,1,99,6],[99,7,99,8],[99,10,99,11],[99,13,99,14],[99,16,99,17],[99,19,99,20],[97,24,97,25],[97,27,97,28],[98,1,98,6],[98,9,98,10],[98,12,98,13],[98,15,98,16],[98,18,98,19],[98,21,98,22],[98,24,98,25],[98,27,98,28],[97,1,97,6],[97,9,97,10],[97,12,97,13],[97,15,97,16],[97,18,97,19],[97,21,97,22],[95,24,95,25],[95,27,95,28],[96,1,96,6],[96,9,96,10],[96,12,96,13],[96,15,96,16],[96,18,96,19],[96,21,96,22],[96,24,96,25],[96,27,96,28],[95,1,95,6],[95,9,95,10],[95,12,95,13],[95,15,95,16],[95,18,95,19],[95,21,95,22],[93,24,93,25],[93,27,93,28],[94,1,94,6],[94,9,94,10],[94,12,94,13],[94,15,94,16],[94,18,94,19],[94,21,94,22],[94,24,94,25],[94,27,94,28],[93,1,93,6],[93,9,93,10],[93,12,93,13],[93,15,93,16],[93,18,93,19],[93,21,93,22],[91,21,91,22],[91,24,91,25],[91,27,91,28],[92,1,92,6],[92,9,92,10],[92,12,92,13],[92,15,92,16],[90,1,90,6],[91,1,91,6],[91,9,91,10],[91,12,91,13],[91,15,91,16],[91,18,91,19],[88,28,88,29],[89,1,89,6],[89,7,89,8],[89,9,89,11],[89,12,89,14],[89,15,89,17],[89,18,89,20],[89,21,89,23],[89,24,89,26],[89,27,89,29],[87,24,87,25],[87,27,87,28],[88,1,88,6],[88,7,88,8],[88,10,88,11],[88,13,88,14],[88,16,88,17],[88,19,88,20],[88,22,88,23],[88,25,88,26],[87,1,87,6],[87,9,87,10],[87,12,87,13],[87,15,87,16],[87,18,87,19],[87,21,87,22],[85,24,85,25],[85,27,85,28],[86,1,86,6],[86,9,86,10],[86,12,86,13],[86,15,86,16],[86,18,86,19],[86,21,86,22],[86,24,86,25],[86,27,86,28],[85,1,85,6],[85,9,85,10],[85,12,85,13],[85,15,85,16],[85,18,85,19],[85,21,85,22],[83,24,83,25],[83,27,83,28],[84,1,84,6],[84,9,84,10],[84,12,84,13],[84,15,84,16],[84,18,84,19],[84,21,84,22],[84,24,84,25],[84,27,84,28],[83,1,83,6],[83,9,83,10],[83,12,83,13],[83,15,83,16],[83,18,83,19],[83,21,83,22],[81,24,81,25],[81,27,81,28],[82,1,82,6],[82,9,82,10],[82,12,82,13],[82,15,82,16],[82,18,82,19],[82,21,82,22],[82,24,82,25],[82,27,82,28],[81,1,81,6],[81,9,81,10],[81,12,81,13],[81,15,81,16],[81,18,81,19],[81,21,81,22],[79,27,79,28],[80,1,80,6],[80,9,80,10],[80,12,80,13],[80,15,80,16],[80,18,80,19],[80,21,80,22],[80,24,80,25],[80,27,80,28],[78,21,78,22],[78,24,78,25],[78,27,78,28],[79,1,79,6],[79,9,79,10],[79,12,79,13],[79,15,79,16],[79,18,79,19],[79,21,79,22],[79,24,79,25],[77,1,77,6],[78,1,78,6],[78,9,78,10],[78,12,78,13],[78,15,78,16],[78,18,78,19],[75,28,75,29],[76,1,76,6],[76,7,76,8],[76,9,76,11],[76,12,76,14],[76,15,76,17],[76,18,76,20],[76,21,76,23],[76,24,76,26],[76,27,76,29],[74,24,74,26],[74,27,74,29],[75,1,75,6],[75,7,75,8],[75,10,75,11],[75,13,75,14],[75,16,75,17],[75,19,75,20],[75,22,75,23],[75,25,75,26],[74,1,74,6],[74,9,74,10],[74,12,74,13],[74,15,74,16],[74,18,74,20],[74,21,74,23],[72,24,72,26],[72,27,72,29],[73,1,73,6],[73,9,73,10],[73,12,73,13],[73,15,73,16],[73,18,73,20],[73,21,73,23],[73,24,73,26],[73,27,73,29],[72,1,72,6],[72,9,72,10],[72,12,72,13],[72,15,72,16],[72,18,72,20],[72,21,72,23],[70,24,70,26],[70,27,70,29],[71,1,71,6],[71,9,71,10],[71,12,71,13],[71,15,71,16],[71,18,71,20],[71,21,71,23],[71,24,71,26],[71,27,71,29],[70,1,70,6],[70,9,70,10],[70,12,70,13],[70,15,70,16],[70,18,70,20],[70,21,70,23],[68,24,68,26],[68,27,68,29],[69,1,69,6],[69,9,69,10],[69,12,69,13],[69,15,69,16],[69,18,69,20],[69,21,69,23],[69,24,69,26],[69,27,69,29],[68,1,68,6],[68,9,68,10],[68,12,68,13],[68,15,68,16],[68,18,68,20],[68,21,68,23],[66,27,66,29],[67,1,67,6],[67,9,67,10],[67,12,67,13],[67,15,67,16],[67,18,67,20],[67,21,67,23],[67,24,67,26],[67,27,67,29],[64,24,64,25],[64,27,64,28],[65,1,65,6],[66,1,66,6],[66,9,66,10],[66,12,66,13],[66,15,66,16],[66,18,66,20],[66,21,66,23],[66,24,66,26],[64,1,64,6],[64,9,64,10],[64,12,64,13],[64,15,64,16],[64,18,64,19],[64,21,64,22],[62,24,62,25],[62,27,62,28],[63,1,63,6],[63,9,63,10],[63,12,63,13],[63,15,63,16],[63,18,63,19],[63,21,63,22],[63,24,63,25],[63,27,63,28],[62,1,62,6],[62,9,62,10],[62,12,62,13],[62,15,62,16],[62,18,62,19],[62,21,62,22],[60,27,60,28],[61,1,61,6],[61,9,61,10],[61,12,61,13],[61,15,61,16],[61,18,61,19],[61,21,61,22],[61,24,61,25],[61,27,61,28],[58,24,58,26],[58,27,58,29],[59,1,59,6],[60,1,60,6],[60,9,60,10],[60,12,60,13],[60,15,60,16],[60,18,60,19],[60,21,60,22],[60,24,60,25],[57,22,57,23],[57,25,57,26],[57,28,57,29],[58,1,58,6],[58,7,58,8],[58,9,58,11],[58,12,58,14],[58,15,58,17],[58,18,58,20],[58,21,58,23],[57,1,57,6],[57,7,57,8],[57,10,57,11],[57,13,57,14],[57,16,57,17],[57,19,57,20],[55,1,55,29],[56,7,56,8],[56,9,56,11],[56,12,56,14],[56,15,56,17],[56,18,56,20],[56,21,56,23],[56,24,56,26],[56,27,56,29],[52,27,52,29],[53,1,53,6],[53,7,53,8],[53,9,53,11],[53,12,53,14],[53,15,53,17],[53,18,53,20],[53,21,53,23],[53,24,53,26],[53,27,53,29],[51,24,51,26],[51,27,51,29],[52,1,52,6],[52,7,52,8],[52,9,52,11],[52,12,52,14],[52,15,52,17],[52,18,52,20],[52,21,52,23],[52,24,52,26],[50,21,50,23],[50,24,50,26],[50,27,50,29],[51,1,51,6],[51,7,51,8],[51,9,51,11],[51,12,51,14],[51,15,51,17],[51,18,51,20],[51,21,51,23],[50,1,50,6],[50,7,50,8],[50,9,50,11],[50,12,50,14],[50,15,50,17],[50,18,50,20],[48,27,48,29],[49,1,49,6],[49,7,49,8],[49,9,49,11],[49,12,49,14],[49,15,49,17],[49,18,49,20],[49,21,49,23],[49,24,49,26],[49,27,49,29],[47,24,47,26],[47,27,47,29],[48,1,48,6],[48,7,48,8],[48,9,48,11],[48,12,48,14],[48,15,48,17],[48,18,48,20],[48,21,48,23],[48,24,48,26],[46,21,46,23],[46,24,46,26],[46,27,46,29],[47,1,47,6],[47,7,47,8],[47,9,47,11],[47,12,47,14],[47,15,47,17],[47,18,47,20],[47,21,47,23],[46,1,46,6],[46,7,46,8],[46,9,46,11],[46,12,46,14],[46,15,46,17],[46,18,46,20],[44,27,44,29],[45,1,45,6],[45,7,45,8],[45,9,45,11],[45,12,45,14],[45,15,45,17],[45,18,45,20],[45,21,45,23],[45,24,45,26],[45,27,45,29],[43,24,43,26],[43,27,43,29],[44,1,44,6],[44,7,44,8],[44,9,44,11],[44,12,44,14],[44,15,44,17],[44,18,44,20],[44,21,44,23],[44,24,44,26],[42,21,42,23],[42,24,42,26],[42,27,42,29],[43,1,43,6],[43,7,43,8],[43,9,43,11],[43,12,43,14],[43,15,43,17],[43,18,43,20],[43,21,43,23],[41,18,41,20],[41,21,41,23],[41,24,41,26],[41,27,41,29],[42,1,42,6],[42,7,42,8],[42,9,42,11],[42,12,42,14],[42,15,42,17],[42,18,42,20],[32,27,33,29],[36,1,36,8],[39,1,39,29],[40,1,41,6],[40,7,40,17],[40,19,40,29],[41,7,41,8],[41,9,41,11],[41,12,41,14],[41,15,41,17],[31,21,31,23],[31,24,31,26],[31,27,31,29],[32,7,33,8],[32,9,33,11],[32,12,33,14],[32,15,33,17],[32,18,33,20],[32,21,33,23],[32,24,33,26],[31,1,33,6],[31,7,31,8],[31,9,31,11],[31,12,31,14],[31,15,31,17],[31,18,31,20],[26,24,26,26],[26,27,26,29],[27,7,28,8],[27,9,28,11],[27,12,28,14],[27,15,28,17],[27,18,28,20],[27,21,28,23],[27,24,28,26],[27,27,28,29],[23,21,24,23],[23,24,24,26],[23,27,24,29],[26,1,28,6],[26,7,26,8],[26,9,26,11],[26,12,26,14],[26,15,26,17],[26,18,26,20],[26,21,26,23],[23,3,24,6],[23,7,24,8],[23,9,24,11],[23,12,24,14],[23,15,24,17],[23,18,24,20],[20,27,20,29],[21,7,22,8],[21,9,22,11],[21,12,22,14],[21,15,22,17],[21,18,22,20],[21,21,22,23],[21,24,22,26],[21,27,22,29],[16,24,17,26],[16,27,17,29],[20,1,22,6],[20,7,20,8],[20,9,20,11],[20,12,20,14],[20,15,20,17],[20,18,20,20],[20,21,20,23],[20,24,20,26],[16,7,17,8],[16,9,17,11],[16,12,17,14],[16,15,17,17],[16,18,17,20],[16,21,17,23],[13,27,13,29],[15,1,17,6],[15,7,15,8],[15,9,15,11],[15,12,15,14],[15,15,15,17],[15,18,15,20],[15,21,15,23],[15,24,15,26],[15,27,15,29],[11,24,12,26],[11,27,12,29],[13,3,13,6],[13,7,13,8],[13,9,13,11],[13,12,13,14],[13,15,13,17],[13,18,13,20],[13,21,13,23],[13,24,13,26],[10,18,10,20],[10,21,10,23],[10,24,10,26],[10,27,10,29],[11,7,12,8],[11,9,12,11],[11,12,12,14],[11,15,12,17],[11,18,12,20],[11,21,12,23],[8,3,8,6],[8,9,8,11],[8,12,8,14],[8,15,8,17],[9,8,9,29],[10,1,12,6],[10,7,10,8],[10,9,10,11],[10,12,10,14],[10,15,10,17],[0,13,0,30],[1,13,1,19],[1,23,1,29],[2,1,2,6],[2,8,7,17],[2,36,17,43],[5,1,5,2],[5,3,5,6],[7,1,7,2],[7,3,7,6]]}
[null,null,null,null,null,null,null,null,null,null,null,null,null,"Outcome Measurement Tool (OMT)\nMA - Victim Witness Assistance Board\n\nNeed Support? Contact MOVAstats@mass.gov."]
[null,"SAFEPLAN Individual Court Data",null,null,null,null,null,null,null,null,null,null,null,"Court Tab 1",null,null,null,null,null,null,null,null,null,"(#1) DATA ENTRY TAB",null,null,null,null,null,null,null,null,null,null,null,null,"NOTES:"]
[null,"Enter the court name and then specified data for this court in the fields below.",null,null,null,null,null,null,"\nINSTRUCTIONS: This section should be completed each reporting period and each tab in one court ONLY. Use the areas in beige to enter the specified information.\n\n Once you have assigned a court to each tab, you will continue to report on that court within the same tab for each reporting period similar to how data was tracked and submitted in the previous reports."]
[]
[]
[null,"Court Name:",null,"Insert COURT NAME Here"]
[]
[null,"Reporting Period:",null,{"$f":"'1. Overall Demographics'!D8","v":"Period 1 (July 1 - September 30 2023)"}]
[null,null,null,"period can be selected on tab 1. Overall Demographics",null,null,null,"Period 1 (July 1 - September 30 2022)",null,"Period 2 (October 1 - December 31 2022)",null,null,"Period 3 (January 1 - March 31 2023)",null,null,"Period 4 (April 1 - June 30 2023)"]
[null,null,null,null,null,null,null,null,"KEY DEFINITIONS: \n\nCount each NEW individual in only one race/ethnicity type as self-reported. Individuals who self-report in more than one category should be counted in the \"Multiple Races\" category. The total number in each demographic category should equal the number of NEW individuals reported in Section 3. This data is used for statistical purposes to comply with Federal regulations.\n\nAll \"0\" entries must represent a true value of zero.\n\nIf no data is collected for a category, select \"Not Tracked\" from the list of options in the associated race/ethnicity category. This means that as a subgrantee, you are not able to submit data in this category due to the need to update this in your data tracking system, but that efforts are underway to track data as requested. Report in the \"Not Tracked\" section the number of individuals whose demographic data were not tracked.\n\nIf no data is collected for an individual, count that individual in the Not Reported category. This means that this data is collected by your organization, but it was not provided by the person completing the intake form.\n\nIf you select \"Other\" from the dropdown options, enter an explanation next to your response or this will be marked as missing data in the system."]
[null,"SECTION 1: TOTAL number of individuals who received services during the reporting period:",null,null,null,null,null,"Period 1 (July 1 - September 30 2023)",null,"Period 2 (October 1 - December 31 2023)",null,null,"Period 3 (January 1 - March 31 2024)",null,null,"Period 4 (April 1 - June 30 2024)",null,null,"Reporting Period 5",null,null,"Reporting Period 6",null,null,"Reporting Period 7",null,null,"Reporting Period 8"]
[]
[]
[]
[]
[null,"SECTION 2: TOTAL number of anonymous contacts received during the reporting period: ",null,null,null,null,null,"Reporting Period 1",null,"Reporting Period 2",null,null,"Reporting Period 3",null,null,"Reporting Period 4",null,null,"Reporting Period 5",null,null,"Reporting Period 6",null,null,"Reporting Period 7",null,null,"Reporting Period 8"]
[]
[]
[]
[]
[null,"SECTION 3: Of the number of individuals entered in question 1, how many were NEW individuals who received services from your agency for the first time during the reporting period: ",null,null,null,null,null,"Reporting Period 1",null,"Reporting Period 2",null,null,"Reporting Period 3",null,null,"Reporting Period 4",null,null,"Reporting Period 5",null,null,"Reporting Period 6",null,null,"Reporting Period 7",null,null,"Reporting Period 8"]
[]
[]
[]
[]
[]
[null,"SECTION 4: TOTAL number of individuals with NO PRIOR CONTACT with a DV/SA Agency during the reporting period: ",null,null,null,null,null,"Reporting Period 1",null,"Reporting Period 2",null,null,"Reporting Period 3",null,null,"Reporting Period 4",null,null,"Reporting Period 5",null,null,"Reporting Period 6",null,null,"Reporting Period 7",null,null,"Reporting Period 8"]
[]
[]
[]
[]
[null,"SECTION 5: AUTOCALCULATED: TOTAL number of continuing individuals during the reporting period: ",null,null,null,null,null,"Reporting Period 1",null,"Reporting Period 2",null,null,"Reporting Period 3",null,null,"Reporting Period 4",null,null,"Reporting Period 5",null,null,"Reporting Period 6",null,null,"Reporting Period 7",null,null,"Reporting Period 8"]
[null,null,null,null,null,null,null,{"$f":"H12-H22","v":0},null,{"$f":"J12-J22","v":0},null,null,{"$f":"M12-M22","v":0},null,null,{"$f":"P12-P22","v":0},null,null,0,null,null,{"$f":"V12-V22","v":0},null,null,{"$f":"Y12-Y22","v":0},null,null,0]
[]
[]
[]
[null,"Is your agency able to track NEW individuals throughout the Fiscal Year?",null,null,null,null,null,null,null,null,"Select one."]
[]
[]
[null,"SECTION 6: Types of Abuse Alleged: Enter the number of Individuals who Received Services Based on the Type of Alleged Abuse During the Reporting Period - ALL individuals\nAn individual MAY be counted in more than one classification."]
[null,"Type of Alleged Abuse",null,null,null,null,null,"Number of Individuals",null,null,null,null,null,null,null,null,null,null,null,"Number of Individuals - Year 2"]
[null,null,null,null,null,null,null,"Reporting Period 1",null,"Reporting Period 2",null,null,"Reporting Period 3",null,null,"Reporting Period 4",null,null,"Reporting Period 5",null,null,"Reporting Period 6",null,null,"Reporting Period 7",null,null,"Reporting Period 8"]
[null,"Attempted physical harm (209A)"]
[null,"Caused physical harm (209A)"]
[null,"Imminent Fear (209A)"]
[null,"Sexual Assault (209A)"]
[null,"Stalking (258E)"]
[null,"Sexual Assault (258E)"]
[null,"Criminal Harassment (258E)"]
[null,"Other (please specify below): "]
[]
[]
[]
[]
[]
[null,"SECTION 7:  Services Received\n1) First select the types of services provided by the court covered within this tab and use the dropdown options to report Yes/No for services received during the reporting period in reference (e.g., select Yes or No for A. Information & Referral in Reporting Period 4)\n2) Then enter the total number of individuals who received that type of services within the service categories and programs\n3) Then enter the number of times each specific service was provided by this court during the reporting period within each of the provided categories (e.g., information about the criminal justice process) using the beige/yellow boxes only (note: some boxes automatically total the subcategories and entries from elsewhere in the column)\n"]
[null,null,null,null,null,null,null,"Reporting Period 1",null,"Reporting Period 2",null,null,"Reporting Period 3",null,null,"Reporting Period 4",null,null,"Reporting Period 5",null,null,"Reporting Period 6",null,null,"Reporting Period 7",null,null,"Reporting Period 8"]
[null,"A. Information & Referral",null,null,null,null,null,"Yes or No?",null,null,"Yes or No?",null,null,"Yes or No?",null,null,"Yes or No?",null,null,"Yes or No?",null,null,"Yes or No?",null,null,"Yes or No?",null,null,"Yes or No?"]
[null,"Number of Individuals"]
[null,"Number of Times/Occurrences",null,null,null,null,null,null,{"$f":"SUM(H62:H65)","v":0},null,null,{"$f":"SUM(J62:K65)","v":0},null,null,{"$f":"SUM(M62:N65)","v":0},null,null,{"$f":"SUM(P62:Q65)","v":0},null,null,{"$f":"SUM(S61:T65)","v":0},null,null,{"$f":"SUM(V61:W65)","v":0},null,null,{"$f":"SUM(Y61:Z65)","v":0},null,null,{"$f":"SUM(AB61:AC65)","v":0}]
[null,"SAFEPLAN Information & Referrals \nInclude counts of referrals made during in-person, virtual, or phone based service provision. Specify referral type in section below."]
[null,"1. Information about the criminal justice process"]
[null,"2. Information on victim rights/how to obtain notifications"]
[null,"3. Referral to other victim service programs"]
[null,"4. Referral to other services/supports/resources (includes legal, medical, faith-based organizations, address confidentiality programs, etc.)"]
[null,"Information & Referral - Referrals Descriptions\nSpecify type of referral provided for each referral counted above",null,null,null,null,null,null,{"$f":"SUM(H67,H68,H69,H70,H71,H72,H73,H74,H75)","v":0},null,null,{"$f":"SUM(J67:K75)","v":0},null,null,{"$f":"SUM(M67:N75)","v":0},null,null,{"$f":"SUM(P67:Q75)","v":0},null,null,{"$f":"SUM(S67,S68,S69,S70,S71,S72,#REF!,#REF!,S75)","v":{"$error":"#REF!"}},null,null,{"$f":"SUM(V67,V68,V69,V70,V71,V72,#REF!,#REF!,V75)","v":{"$error":"#REF!"}},null,null,{"$f":"SUM(Y67,Y68,Y69,Y70,Y71,Y72,#REF!,#REF!,Y75)","v":{"$error":"#REF!"}},null,null,{"$f":"SUM(AB67,AB68,AB69,AB70,AB71,AB72,#REF!,#REF!,AB75)","v":{"$error":"#REF!"}}]
[null,"DV Program"]
[null,"SA Program"]
[null,"DA's Office"]
[null,"Legal Services"]
[null,"Police"]
[null,"Other Court Personnel"]
[null,"Victim Compensation"]
[null,"Medical Referral"]
[null,"Other"]
[null,"B. Personal Advocacy/Accompaniment",null,null,null,null,null,"Yes or No?",null,null,"Yes or No?",null,null,"Yes or No?",null,null,"Yes or No?",null,null,"Yes or No?",null,null,"Yes or No?",null,null,"Yes or No?",null,null,"Yes or No?"]
[null,"Number of Individuals"]
[null,"Number of Times/Occurrences",null,null,null,null,null,null,{"$f":"SUM(H80:H88)","v":0},null,null,{"$f":"SUM(J80:K88)","v":0},null,null,{"$f":"SUM(M80:N88)","v":0},null,null,{"$f":"SUM(P80:Q88)","v":0},null,null,{"$f":"SUM(S78:S88)","v":0},null,null,{"$f":"SUM(V78:V88)","v":0},null,null,{"$f":"SUM(Y78:Y88)","v":0},null,null,{"$f":"SUM(AB78:AB88)","v":0}]
[null,"SAFEPLAN Personal Advocacy/Accompaniment"]
[null,"1. Victim advocacy/accompaniment to emergency medical care"]
[null,"2. Victim advocacy/accompaniment to medical forensic exam"]
[null,"3. Law enforcement interview advocacy/accompaniment"]
[null,"4. Individual advocacy"]
[null,"5. Performance of medical or nonmedical forensic exam or interview, or medical evidence collection"]
[null,"6. Immigration assistance (e.g., special visas, continued presence application, and other immigration relief)"]
[null,"7. Intervention with employer, creditor, landlord, or academic institution"]
[null,"8. Child or dependent care assistance (includes coordination of services)"]
[null,"9. Interpreter services"]
[null,"C. Emotional Support or Safety Services",null,null,null,null,null,"Yes or No?",null,null,"Yes or No?",null,null,"Yes or No?",null,null,"Yes or No?",null,null,"Yes or No?",null,null,"Yes or No?",null,null,"Yes or No?",null,null,"Yes or No?"]
[null,"Number of Individuals"]
[null,"Number of Times/Occurrences",null,null,null,null,null,null,{"$f":"SUM(H93:H99)","v":0},null,null,{"$f":"SUM(J93:K99)","v":0},null,null,{"$f":"SUM(M93:N99)","v":0},null,null,{"$f":"SUM(P93:Q99)","v":0},null,null,{"$f":"SUM(S92:S99)","v":0},null,null,{"$f":"SUM(V92:V99)","v":0},null,null,{"$f":"SUM(Y92:Y99)","v":0},null,null,{"$f":"SUM(AB92:AB99)","v":0}]
[null,"SAFEPLAN Emotional Support or Safety Services "]
[null,"1. Crisis intervention (in-person, includes safety planning, etc.)"]
[null,"2. Hotline/crisis line counseling"]
[null,"3. On-scene crisis response (e.g., community crisis response)"]
[null,"4. Individual counseling"]
[null,"5. Support groups (facilitated or peer)"]
[null,"6. Other therapy (traditional, cultural, or alternative healing; art, writing, or play therapy, etc.)"]
[null,"7. Emergency financial assistance (includes emergency loans and petty cash, payment for items such as food and/or clothing, changing windows and/or locks, taxis, prophylactic and nonprophylactic medications, durable medical equipment, etc.)"]
[null,"D. Shelter/Housing Services",null,null,null,null,null,"Yes or No?",null,null,"Yes or No?",null,null,"Yes or No?",null,null,"Yes or No?",null,null,"Yes or No?",null,null,"Yes or No?",null,null,"Yes or No?",null,null,"Yes or No?"]
[null,"Number of Individuals"]
[null,"Number of Times/Occurrences",null,null,null,null,null,null,{"$f":"SUM(H104:H106)","v":0},null,null,{"$f":"SUM(J104:K106)","v":0},null,null,{"$f":"SUM(M104:N106)","v":0},null,null,{"$f":"SUM(P104:Q106)","v":0},null,null,{"$f":"SUM(S103:S106)","v":0},null,null,{"$f":"SUM(V103:V106)","v":0},null,null,{"$f":"SUM(Y103:Y106)","v":0},null,null,{"$f":"SUM(AB103:AB106)","v":0}]
[null,"SAFEPLAN Shelter/Housing Services"]
[null,"1. Emergency shelter or safe house"]
[null,"2. Transitional housing"]
[null,"3. Relocation assistance (includes assistance with obtaining housing)"]
[null,"E. Criminal/Civil Justice System Assistance",null,null,null,null,null,"Yes or No?",null,null,"Yes or No?",null,null,"Yes or No?",null,null,"Yes or No?",null,null,"Yes or No?",null,null,"Yes or No?",null,null,"Yes or No?",null,null,"Yes or No?"]
[null,"Number of Individuals"]
[null,"Number of Times/Occurrences",null,null,null,null,null,null,{"$f":"SUM(H111:H113,H115:H121,I114)","v":0},null,null,{"$f":"SUM(J111:K113,J115:K121,L114)","v":0},null,null,{"$f":"SUM(M111:N113,M115:N121,O114)","v":0},null,null,{"$f":"SUM(P111:Q113,P115:Q121,R114)","v":0},null,null,{"$f":"SUM(S110:S121)","v":0},null,null,{"$f":"SUM(V110:V121)","v":0},null,null,{"$f":"SUM(Y110:Y121)","v":0},null,null,{"$f":"SUM(AB110:AB121)","v":0}]
[null,"SAFEPLAN Criminal/Civil Justice System Assistance ",null,null,null,null,null,null,null,null,null,null,null,null,null,null,null,null,null,null,{"$f":"SUM(T111:T150)","v":0},null,null,{"$f":"SUM(W111:W150)","v":0},null,null,{"$f":"SUM(Z111:Z150)","v":0},null,null,{"$f":"SUM(AC111:AC150)","v":0}]
[null,"1. Notification of criminal justice events (e.g., case status, arrest, court proceedings, case disposition, release, etc.)"]
[null,"2. Victim impact statement assistance"]
[null,"3. Assistance with restitution (includes assistance in requesting and when collection efforts are not successful)"]
[null,"4. Civil legal assistance in obtaining protection or restraining order (auto-calculated based on 209A and 258E advocacy & accompaniment counts reported in description section below)",null,null,null,null,null,null,{"$f":"SUM(I123,I136)","v":0},null,null,{"$f":"SUM(L123,L136)","v":0},null,null,{"$f":"SUM(O123,O136)","v":0},null,null,{"$f":"SUM(R123,R136)","v":0}]
[null,"5. Civil legal assistance with family law issues (e.g., custody, visitation, or support)"]
[null,"6. Other emergency justice‐related assistance"]
[null,"7. Immigration assistance (e.g., special visas, continued presence application, and other immigration relief)"]
[null,"8. Prosecution interview advocacy/accompaniment"]
[null,"9. Law enforcement interview advocacy/accompaniment"]
[null,"10. Criminal advocacy/accompaniment"]
[null,"11. Other legal advice and/or counsel"]
[null,"209A & 258E Events\nSpecify civil legal assistance provided for each 209A or 258E event"]
[null,"209A Abuse Prevention Order/Restraining Order Events",null,null,null,null,null,null,{"$f":"SUM(H124:H125)","v":0},null,null,{"$f":"SUM(J124:K125)","v":0},null,null,{"$f":"SUM(M124:N125)","v":0},null,null,{"$f":"SUM(P124:Q125)","v":0}]
[null,"1. 209A Advocacy"]
[null,"2. 209A Accompaniment"]
[null,null,"209A Accompaniment Detail - Provide additional details below about each accompaniment instance counted above"]
[null,null,null,null,"Motion to Terminate Granted (Plaintiff)"]
[null,null,null,null,"Motion to Terminate Denied (Plaintiff)"]
[null,null,null,null,"Temporary Restraining Order - Requested"]
[null,null,null,null,"Temporary Restraining Order - Granted"]
[null,null,null,null,"Temporary Restraining Order - Scheduled for Hearing after Notice"]
[null,null,null,null,"Temporary Restraining Order - Denied"]
[null,null,null,null,"Final Restraining Order - Requested"]
[null,null,null,null,"Final Restraining Order - Granted"]
[null,null,null,null,"Final Restraining Order - Denied"]
[null,"258E Harassment Prevention Order Events",null,null,null,null,null,null,{"$f":"SUM(H137:H138)","v":0},null,null,{"$f":"SUM(J137:K138)","v":0},null,null,{"$f":"SUM(M137:N138)","v":0},null,null,{"$f":"SUM(P137:Q138)","v":0}]
[null,"1. 258E Advocacy"]
[null,"2. 258E Accompaniment"]
[null,null,"258E Accompaniment Detail - Provide additional details below about each accompaniment instance counted above"]
[null,null,null,null,"Motion to Terminate Granted (Plaintiff)"]
[null,null,null,null,"Motion to Terminate Denied (Plaintiff)"]
[null,null,null,null,"Temporary Harassment Order - Requested"]
[null,null,null,null,"Temporary Harassment Order - Granted"]
[null,null,null,null,"Temporary Harassment Order - Scheduled for Hearing after Notice"]
[null,null,null,null,"Temporary Harassment Order - Denied"]
[null,null,null,null,"Final Harassment Order - Requested"]
[null,null,null,null,"Final Harassment Order - Granted"]
[null,null,null,null,"Final Harassment Order - Denied"]
[null,"Additional Comments: "]
[null,"Insert response here. "]
[]
[]
[]
[]
["O","8. Number of requests for services that were unmet because of organizational capacity issues: ",null,null,null,null,null,"Reporting Period 1",null,"Reporting Period 2",null,null,"Reporting Period 3",null,null,"Reporting Period 4",null,null,"Reporting Period 5",null,null,"Reporting Period 6",null,null,"Reporting Period 7",null,null,"Reporting Period 8"]
[]
[]
[null,"Please Explain. "]
[]
[]
[]
[]
[]
["O","9. Does your organization formally survey clients for feedback on services received? ",null,null,null,null,null,null,null,null,null,"Select one."]
[]
["O","10. Number of surveys distributed to clients (included, but not limited to, those distributed by hand, mail or electronic methods):",null,null,null,null,null,"Reporting Period 1",null,"Reporting Period 2",null,null,"Reporting Period 3",null,null,"Reporting Period 4",null,null,"Reporting Period 5",null,null,"Reporting Period 6",null,null,"Reporting Period 7",null,null,"Reporting Period 8"]
[]
[]
[]
["O","11. Number of surveys completed by clients: ",null,null,null,null,null,"Reporting Period 1",null,"Reporting Period 2",null,null,"Reporting Period 3",null,null,"Reporting Period 4",null,null,"Reporting Period 5",null,null,"Reporting Period 6",null,null,"Reporting Period 7",null,null,"Reporting Period 8"]
[]
[]
[]
["O","12. Does your organization formally survey staff for feedback on trainings received? ",null,null,null,null,null,null,null,null,null,"Select one."]
[]
["O","13. Number of surveys distributed to staff (included, but not limited to, those distributed by hand, mail or electronic methods):",null,null,null,null,null,"Reporting Period 1",null,"Reporting Period 2",null,null,"Reporting Period 3",null,null,"Reporting Period 4",null,null,"Reporting Period 5",null,null,"Reporting Period 6",null,null,"Reporting Period 7",null,null,"Reporting Period 8"]
[]
[]
[]
["O","14. Number of surveys completed by staff: ",null,null,null,null,null,"Reporting Period 1",null,"Reporting Period 2",null,null,"Reporting Period 3",null,null,"Reporting Period 4",null,null,"Reporting Period 5",null,null,"Reporting Period 6",null,null,"Reporting Period 7",null,null,"Reporting Period 8"]
[]
[]
[]
[]
[null,"15. Please discuss some of the challenges your victim assistance program faced during the course of the federal fiscal year: "]
["O"]
[null,"Year 1",null,null,null,null,null,null,null,null,null,null,null,null,null,null,"Year 2"]
[null,"Insert response here. ",null,null,null,null,null,null,null,null,null,null,null,null,null,null,"Insert response here. "]
[]
[]
[]
[]
[]
[]
[]
[]
[]
[]
[]
[]
[]
[null,"16. Please describe some of the services that victims needed but could not be provided. What were the challenges that prevented those services from being provided: "]
["O"]
[null,"Year 1",null,null,null,null,null,null,null,null,null,null,null,null,null,null,"Year 2"]
[null,"Insert response here. ",null,null,null,null,null,null,null,null,null,null,null,null,null,null,"Insert response here."]
[]
[]
[]
[]
[]
[]
[]
[]
[]
[]
[]
[]
[]
["O","OPTIONAL. Please share a success story or client spotlight in the space below. Do not include any identifying or confidential information. "]
[]
[null,"Year 1",null,null,null,null,null,null,null,null,null,null,null,null,null,null,"Year 2"]
[null,"Insert response here. ",null,null,null,null,null,null,null,null,null,null,null,null,null,null,"Insert response here."]

{"sheet":"1. Overall Demographics","index":15,"n_rows":516,"n_cols":38,"rows_kept":516,"cut":false,"hidden":false,"merged":[[497,1,497,30],[498,1,510,30],[514,1,514,30],[515,1,527,30],[211,9,211,11],[210,9,210,11],[209,9,209,11],[166,9,166,11],[243,15,243,17],[211,18,211,20],[212,18,212,20],[205,21,205,22],[212,15,212,17],[221,15,221,16],[223,21,223,22],[195,18,195,20],[192,15,192,17],[189,15,189,17],[226,12,226,13],[229,9,229,11],[228,9,228,10],[236,12,236,14],[344,18,344,20],[329,24,329,26],[274,24,274,25],[166,12,166,14],[198,1,198,6],[192,1,192,6],[193,1,193,6],[194,1,194,6],[197,1,197,6],[273,21,273,22],[274,21,274,22],[276,21,276,22],[227,1,227,6],[306,21,306,22],[0,12,0,17],[135,7,135,17],[271,12,271,13],[270,12,270,13],[285,21,286,23],[261,18,261,19],[237,15,237,17],[228,1,228,6],[265,12,265,13],[202,21,202,22],[203,21,203,22],[204,21,204,22],[198,12,198,14],[194,12,194,14],[193,12,193,14],[195,12,195,14],[168,18,168,20],[168,21,168,23],[192,7,192,8],[190,15,190,17],[191,12,191,14],[193,21,193,23],[280,15,280,16],[192,9,192,11],[189,12,189,14],[192,21,192,23],[270,15,270,16],[265,15,265,16],[481,1,493,30],[480,1,480,30],[7,1,7,2],[165,15,165,17],[9,1,9,17],[2,8,8,16],[2,1,2,6],[169,18,169,20],[162,9,162,11],[316,10,316,11],[5,1,5,2],[322,21,322,22],[315,21,315,23],[319,22,319,23],[323,22,323,23],[328,24,328,26],[273,18,273,19],[323,10,323,11],[296,18,296,19],[296,21,296,22],[282,21,282,22],[318,9,318,11],[275,24,275,25],[303,27,303,28],[304,24,304,25],[304,15,304,16],[305,18,305,19],[306,18,306,19],[300,18,300,19],[309,19,309,20],[275,12,275,13],[275,15,275,16],[402,9,402,10],[401,9,401,10],[321,27,321,29],[322,27,322,28],[395,27,395,28],[370,24,370,25],[282,27,282,28],[324,27,324,29],[322,24,322,25],[421,27,421,28],[366,27,366,28],[385,27,385,28],[297,27,297,28],[396,27,396,28],[397,28,397,29],[298,27,298,28],[324,9,324,11],[409,24,409,25],[320,15,320,17],[311,15,311,17],[314,27,314,29],[354,27,354,28],[325,27,325,29],[339,28,339,29],[351,27,351,28],[352,27,352,28],[337,27,337,29],[348,27,348,28],[347,18,347,19],[383,21,383,22],[371,27,371,28],[372,27,372,28],[373,27,373,28],[420,27,420,28],[413,21,413,22],[427,21,427,22],[427,27,427,28],[418,24,418,25],[390,24,390,25],[405,27,405,28],[406,21,406,22],[404,21,404,22],[405,21,405,22],[411,21,411,22],[422,27,422,28],[424,24,424,25],[425,27,425,28],[402,21,402,22],[396,21,396,22],[391,24,391,25],[422,24,422,25],[423,21,423,22],[423,27,423,28],[377,21,377,22],[428,27,428,28],[429,27,429,28],[430,27,430,28],[404,27,404,28],[412,24,412,25],[412,27,412,28],[411,27,411,28],[424,27,424,28],[411,24,411,25],[408,24,408,25],[422,21,422,22],[417,21,417,22],[379,18,379,19],[379,21,379,22],[379,24,379,25],[410,24,410,25],[428,18,428,19],[406,27,406,28],[429,24,429,25],[430,24,430,25],[418,27,418,28],[409,18,409,19],[414,21,414,22],[393,18,393,19],[393,21,393,22],[426,27,426,28],[419,24,419,25],[428,24,428,25],[404,18,404,19],[398,27,398,29],[401,21,401,22],[406,18,406,19],[403,18,403,19],[324,21,324,23],[360,21,360,22],[378,24,378,25],[352,21,352,22],[343,19,343,20],[403,24,403,25],[387,21,387,23],[330,21,330,22],[332,24,332,26],[332,21,332,23],[371,18,371,19],[328,18,328,20],[355,18,355,19],[338,24,338,25],[402,24,402,25],[325,24,325,26],[373,21,373,22],[371,21,371,22],[364,18,364,19],[364,21,364,22],[398,18,398,20],[354,21,354,22],[401,18,401,19],[368,18,368,20],[370,18,370,19],[347,21,347,22],[348,21,348,22],[372,24,372,25],[325,21,325,23],[354,24,354,25],[348,18,348,19],[355,21,355,22],[343,22,343,23],[351,21,351,22],[339,22,339,23],[351,18,351,19],[346,24,346,25],[363,21,363,22],[319,25,319,26],[323,25,323,26],[320,21,320,23],[320,24,320,26],[321,21,321,23],[323,19,323,20],[321,24,321,26],[354,18,354,19],[362,18,362,19],[361,18,361,19],[333,27,333,29],[350,27,350,28],[340,27,340,29],[336,27,336,29],[347,27,347,28],[341,27,341,29],[324,24,324,26],[326,18,326,19],[326,21,326,22],[332,27,332,29],[334,27,334,28],[346,18,346,19],[331,22,331,23],[331,25,331,26],[346,21,346,22],[349,18,349,19],[344,24,344,26],[334,18,334,19],[327,25,327,26],[327,19,327,20],[332,18,332,20],[330,18,330,19],[350,21,350,22],[333,21,333,23],[333,24,333,26],[346,27,346,28],[335,22,335,23],[330,24,330,25],[329,18,329,20],[331,19,331,20],[294,27,294,28],[312,21,312,23],[310,28,310,29],[316,22,316,23],[316,25,316,26],[304,27,304,28],[311,27,311,29],[295,27,295,28],[300,27,300,28],[314,18,314,20],[343,25,343,26],[342,24,342,25],[327,28,327,29],[328,27,328,29],[319,28,319,29],[335,28,335,29],[329,21,329,23],[334,21,334,22],[338,27,338,28],[325,18,325,20],[309,22,309,23],[312,27,312,29],[313,28,313,29],[341,21,341,23],[341,18,341,20],[318,24,318,26],[327,22,327,23],[335,25,335,26],[336,24,336,26],[326,24,326,25],[316,28,316,29],[317,27,317,29],[278,15,278,16],[291,27,291,29],[301,27,301,28],[291,21,291,23],[289,15,289,17],[289,12,289,14],[290,28,290,29],[295,15,295,16],[323,13,323,14],[331,28,331,29],[330,27,330,28],[323,28,323,29],[326,27,326,28],[314,21,314,23],[317,15,317,17],[317,18,317,20],[317,21,317,23],[317,24,317,26],[312,24,312,26],[328,21,328,23],[324,12,324,14],[324,15,324,17],[315,24,315,26],[316,19,316,20],[318,18,318,20],[318,21,318,23],[290,22,290,23],[311,21,311,23],[329,27,329,29],[300,21,300,22],[296,27,296,28],[291,24,291,26],[317,12,317,14],[281,15,281,16],[308,18,308,19],[308,21,308,22],[308,24,308,25],[313,25,313,26],[295,9,295,10],[294,15,294,16],[299,15,299,16],[303,15,303,16],[303,18,303,19],[303,21,303,22],[295,21,295,22],[300,24,300,25],[293,9,293,10],[295,12,295,13],[302,15,302,16],[304,12,304,13],[313,13,313,14],[310,13,310,14],[309,25,309,26],[312,15,312,17],[309,13,309,14],[309,16,309,17],[300,9,300,10],[299,9,299,10],[278,27,278,28],[279,24,279,25],[297,24,297,25],[315,15,315,17],[302,24,302,25],[276,27,276,28],[276,18,276,19],[326,15,326,16],[296,15,296,16],[295,24,295,25],[303,24,303,25],[301,24,301,25],[314,15,314,17],[278,18,278,19],[294,18,294,19],[279,21,279,22],[293,27,293,28],[293,24,293,25],[296,24,296,25],[280,18,280,19],[279,18,279,19],[302,27,302,28],[309,28,309,29],[276,15,276,16],[279,15,279,16],[315,18,315,20],[320,27,320,29],[318,27,318,29],[308,27,308,28],[299,27,299,28],[300,15,300,16],[320,18,320,20],[270,27,270,28],[269,27,269,28],[268,27,268,28],[267,27,267,28],[261,24,261,25],[264,27,264,28],[263,27,263,28],[262,27,262,28],[264,15,264,16],[267,24,267,25],[263,24,263,25],[262,24,262,25],[274,27,274,28],[281,27,281,28],[281,21,281,22],[275,27,275,28],[280,24,280,25],[281,24,281,25],[275,18,275,19],[275,21,275,22],[277,18,277,19],[277,21,277,22],[273,27,273,28],[273,24,273,25],[271,27,271,28],[271,24,271,25],[269,24,269,25],[268,24,268,25],[271,15,271,16],[262,18,262,19],[270,18,270,19],[264,21,264,22],[269,18,269,19],[268,18,268,19],[263,15,263,16],[270,24,270,25],[271,18,271,19],[265,18,265,19],[264,18,264,19],[265,21,265,22],[262,15,262,16],[268,21,268,22],[267,21,267,22],[267,18,267,19],[271,21,271,22],[270,21,270,22],[269,21,269,22],[264,24,264,25],[206,27,206,29],[207,27,207,29],[215,24,215,26],[237,21,237,23],[238,27,238,29],[235,27,235,29],[237,27,237,29],[208,27,208,29],[223,24,223,25],[234,15,234,17],[225,27,225,28],[227,27,227,28],[220,24,220,25],[222,24,222,25],[226,24,226,25],[230,21,230,23],[236,27,236,29],[209,15,209,17],[212,27,212,29],[213,27,213,29],[216,27,216,29],[217,27,217,29],[212,24,212,26],[213,24,213,26],[220,18,220,19],[221,21,221,22],[216,24,216,26],[223,15,223,16],[220,27,220,28],[222,21,222,22],[233,7,233,17],[214,7,214,8],[217,7,217,8],[236,18,236,20],[228,15,228,16],[236,15,236,17],[227,15,227,16],[216,9,216,11],[216,15,216,17],[236,9,236,11],[235,7,235,8],[209,27,209,29],[235,24,235,26],[249,24,250,26],[254,24,254,26],[257,21,257,23],[255,21,255,23],[256,21,256,23],[257,18,257,20],[256,18,256,20],[214,27,214,29],[216,21,216,23],[221,27,221,28],[225,18,225,19],[225,21,225,22],[228,27,228,28],[241,27,241,29],[241,24,241,26],[215,27,215,29],[224,18,224,19],[224,27,224,28],[238,18,238,20],[219,27,219,28],[220,21,220,22],[228,21,228,22],[233,19,233,29],[223,27,223,28],[226,27,226,28],[223,18,223,19],[239,21,239,23],[217,18,217,20],[234,27,234,29],[256,27,256,29],[257,24,257,26],[256,24,256,26],[196,27,196,29],[197,27,197,29],[198,27,198,29],[197,15,197,17],[193,27,193,29],[194,27,194,29],[195,27,195,29],[193,24,193,26],[194,15,194,17],[194,18,194,20],[193,15,193,17],[203,15,203,16],[204,15,204,16],[205,15,205,16],[201,18,201,19],[199,27,199,29],[221,24,221,25],[202,24,202,25],[201,27,201,28],[202,27,202,28],[203,27,203,28],[204,27,204,28],[205,27,205,28],[211,21,211,23],[208,24,208,26],[209,24,209,26],[210,24,210,26],[211,27,211,29],[210,27,210,29],[206,24,206,26],[207,24,207,26],[213,18,213,20],[191,21,191,23],[189,1,189,6],[181,21,181,23],[180,21,180,23],[189,9,189,11],[191,15,191,17],[195,15,195,17],[204,24,204,25],[205,24,205,25],[198,15,198,17],[203,18,203,19],[196,18,196,20],[197,18,197,20],[198,18,198,20],[199,18,199,20],[203,24,203,25],[191,9,191,11],[190,9,190,11],[189,21,189,23],[190,12,190,14],[201,9,201,10],[201,12,201,13],[202,12,202,13],[203,12,203,13],[188,24,188,26],[191,18,191,20],[203,9,203,10],[202,9,202,10],[197,24,197,26],[196,24,196,26],[201,24,201,25],[202,18,202,19],[171,9,171,11],[179,1,179,3],[172,21,172,23],[171,12,171,14],[172,12,172,14],[189,27,189,29],[191,24,191,26],[186,1,187,6],[191,1,191,6],[172,1,172,3],[188,1,188,6],[180,1,180,3],[177,1,178,6],[190,1,190,6],[180,27,180,29],[189,24,189,26],[190,24,190,26],[188,21,188,23],[191,7,191,8],[173,27,174,29],[173,9,174,11],[173,12,174,14],[173,15,174,17],[173,18,174,20],[173,21,174,23],[179,24,179,26],[178,7,178,8],[178,18,178,20],[178,21,178,23],[179,9,179,11],[173,5,174,6],[173,7,174,8],[179,27,179,29],[180,18,180,20],[187,9,187,11],[172,15,172,17],[180,7,180,8],[178,24,178,26],[178,27,178,29],[187,27,187,29],[176,1,176,25],[181,24,181,26],[178,9,178,11],[177,19,177,29],[172,18,172,20],[187,24,187,26],[178,12,178,14],[172,24,172,26],[185,1,185,29],[181,12,181,14],[181,27,181,29],[187,15,187,17],[473,15,473,17],[473,18,473,20],[306,27,306,28],[342,27,342,28],[349,21,349,22],[330,9,330,10],[402,15,402,16],[327,10,327,11],[349,27,349,28],[327,16,327,17],[180,24,180,26],[179,7,179,8],[173,24,174,26],[178,15,178,17],[187,21,187,23],[172,9,172,11],[171,15,171,17],[190,21,190,23],[190,27,190,29],[188,27,188,29],[188,18,188,20],[192,12,192,14],[191,27,191,29],[192,27,192,29],[193,9,193,11],[192,18,192,20],[193,18,193,20],[193,7,193,8],[195,9,195,11],[192,24,192,26],[194,24,194,26],[195,24,195,26],[470,15,471,17],[470,18,471,20],[284,9,284,11],[284,12,284,14],[284,15,284,17],[284,18,284,20],[284,21,284,23],[284,24,284,26],[284,27,284,29],[289,27,289,29],[289,24,289,26],[289,21,289,23],[289,18,289,20],[344,12,344,14],[344,9,344,11],[355,9,355,10],[350,12,350,13],[307,18,307,19],[307,21,307,22],[307,24,307,25],[290,25,290,26],[285,27,286,29],[290,16,290,17],[337,24,337,26],[337,12,337,14],[348,12,348,13],[312,12,312,14],[316,13,316,14],[337,18,337,20],[339,25,339,26],[291,12,291,14],[294,21,294,22],[170,18,170,20],[188,9,188,11],[188,12,188,14],[187,12,187,14],[181,15,181,17],[180,15,180,17],[179,15,179,17],[183,1,184,29],[170,21,170,23],[171,21,171,23],[180,9,180,11],[171,27,171,29],[172,27,172,29],[171,18,171,20],[181,1,181,3],[181,7,181,8],[186,19,186,29],[171,24,171,26],[187,18,187,20],[179,12,179,14],[179,18,179,20],[186,7,186,17],[180,12,180,14],[170,27,170,29],[170,15,170,17],[170,7,170,8],[172,7,172,8],[170,24,170,26],[170,12,170,14],[181,18,181,20],[177,7,177,17],[187,7,187,8],[207,7,207,8],[214,9,214,11],[214,1,214,6],[194,9,194,11],[194,7,194,8],[198,7,198,8],[213,9,213,11],[199,7,199,8],[211,7,211,8],[199,21,199,23],[198,21,198,23],[194,21,194,23],[195,21,195,23],[208,9,208,11],[207,9,207,11],[199,9,199,11],[199,15,199,17],[199,12,199,14],[205,9,205,10],[201,21,201,22],[208,18,208,20],[196,7,196,8],[206,7,206,8],[205,4,205,6],[206,18,206,20],[213,1,213,6],[209,7,209,8],[210,7,210,8],[211,1,211,6],[205,1,205,3],[195,7,195,8],[214,21,214,23],[196,12,196,14],[197,12,197,14],[207,18,207,20],[196,15,196,17],[208,21,208,23],[209,21,209,23],[210,21,210,23],[206,15,206,17],[199,24,199,26],[206,12,206,14],[212,12,212,14],[198,24,198,26],[202,15,202,16],[196,21,196,23],[204,18,204,19],[208,15,208,17],[207,15,207,17],[211,24,211,26],[201,15,201,16],[205,12,205,13],[205,18,205,19],[204,9,204,10],[234,21,234,23],[239,18,239,20],[229,18,229,20],[215,15,215,17],[214,24,214,26],[217,24,217,26],[239,24,239,26],[234,24,234,26],[219,24,219,25],[215,9,215,11],[225,24,225,25],[236,21,236,23],[221,9,221,10],[214,18,214,20],[215,18,215,20],[224,21,224,22],[227,9,227,10],[219,15,219,16],[220,15,220,16],[219,18,219,19],[237,12,237,14],[219,12,219,13],[220,12,220,13],[228,12,228,13],[224,24,224,25],[248,9,248,11],[249,7,250,8],[242,15,242,17],[244,18,244,20],[245,18,245,20],[240,24,240,26],[245,12,245,14],[236,24,236,26],[214,12,214,14],[210,15,210,17],[209,18,209,20],[210,18,210,20],[213,15,213,17],[221,12,221,13],[222,12,222,13],[223,12,223,13],[224,15,224,16],[227,12,227,13],[225,15,225,16],[219,9,219,10],[220,9,220,10],[227,18,227,19],[222,15,222,16],[226,21,226,22],[219,21,219,22],[226,15,226,16],[225,12,225,13],[216,12,216,14],[211,12,211,14],[237,18,237,20],[237,24,237,26],[221,18,221,19],[245,7,245,8],[243,7,243,8],[244,7,244,8],[240,1,240,6],[240,18,240,20],[238,7,238,8],[239,7,239,8],[243,24,243,26],[242,24,242,26],[239,12,239,14],[238,1,238,6],[245,9,245,11],[238,21,238,23],[243,12,243,14],[244,12,244,14],[241,21,241,23],[246,15,246,17],[246,21,246,23],[243,18,243,20],[239,1,239,6],[168,1,168,3],[168,7,168,8],[168,9,168,11],[189,7,189,8],[190,7,190,8],[181,9,181,11],[220,1,220,6],[217,9,217,11],[242,1,242,6],[245,1,245,6],[236,1,236,6],[236,7,236,8],[241,9,241,11],[215,1,215,6],[241,15,241,17],[188,7,188,8],[213,12,213,14],[207,1,207,6],[208,1,208,6],[229,7,229,8],[230,7,230,8],[240,15,240,17],[229,15,229,17],[230,9,230,11],[225,9,225,10],[239,9,239,11],[209,12,209,14],[204,12,204,13],[197,7,197,8],[197,9,197,11],[196,9,196,11],[198,9,198,11],[169,27,169,29],[179,21,179,23],[208,7,208,8],[171,7,171,8],[238,9,238,11],[238,12,238,14],[238,15,238,17],[169,21,169,23],[162,7,162,8],[161,15,161,17],[158,24,158,26],[167,15,167,17],[166,21,166,23],[160,18,160,20],[161,12,161,14],[164,18,164,20],[159,18,159,20],[159,7,159,8],[161,18,161,20],[163,21,163,23],[163,24,163,26],[166,18,166,20],[164,7,164,8],[229,12,229,14],[169,15,169,17],[212,7,212,8],[213,7,213,8],[217,21,217,23],[216,7,216,8],[217,12,217,14],[206,21,206,23],[207,21,207,23],[169,7,169,8],[71,21,71,22],[68,21,68,22],[169,24,169,26],[90,24,90,25],[94,18,94,19],[91,15,91,16],[74,18,74,19],[81,18,81,19],[79,21,79,22],[112,24,112,25],[107,24,107,25],[157,15,157,17],[157,18,157,20],[157,21,157,23],[137,12,137,14],[147,7,147,8],[148,7,148,8],[146,9,146,11],[163,7,163,8],[147,12,147,14],[149,12,149,14],[150,12,150,14],[151,12,151,14],[152,9,153,11],[168,15,168,17],[168,12,168,14],[89,9,89,10],[93,12,93,13],[94,21,94,22],[129,9,129,10],[130,9,130,10],[105,27,105,28],[107,27,107,28],[111,27,111,28],[103,27,103,28],[100,24,100,25],[102,24,102,25],[110,24,110,25],[167,7,167,8],[167,9,167,11],[167,12,167,14],[163,18,163,20],[164,21,164,23],[143,12,143,14],[141,7,141,8],[142,7,142,8],[111,24,111,25],[146,15,146,17],[141,27,141,29],[145,18,145,20],[111,18,111,19],[138,12,138,14],[138,18,138,20],[139,12,139,14],[110,21,110,22],[106,18,106,19],[159,27,159,29],[146,7,146,8],[129,12,129,13],[100,27,100,28],[104,27,104,28],[99,27,99,28],[91,21,91,22],[90,18,90,19],[93,27,93,28],[66,27,66,28],[66,24,66,25],[97,27,97,28],[58,24,58,25],[98,24,98,25],[89,15,89,16],[81,24,81,25],[81,27,81,28],[77,18,77,19],[79,18,79,19],[91,18,91,19],[102,27,102,28],[50,27,50,28],[35,15,35,17],[42,21,42,22],[44,18,44,19],[38,24,38,25],[39,24,39,25],[50,15,50,16],[50,24,50,25],[45,12,45,13]],"merged_total":3359,"flags":["merged_cut"]}
[null,null,null,null,null,null,null,null,null,null,null,null,"Outcome Measurement Tool (OMT)\nMA - Victim Witness Assistance Board\n\nNeed Support? Contact MOVAstats@mass.gov."]
[null,"SAFEPLAN POPULATION DEMOGRAPHICS AND DIRECT SERVICES",null,null,null,null,null,null,null,null,null,null,null,"(#1) DATA ENTRY TAB",null,null,null,null,null,null,null,null,null,null,null,null,null,null,null,null,null,null,null,null,null,null,"NOTES:"]
[null,"First select \"in progress\" to begin entering data and the reporting period your agency is entering information about. Then follow the instructions to the right in reference to the fields below.",null,null,null,null,null,null,"INSTRUCTIONS: This section should be completed each reporting period. Use the areas in beige to enter the specified information. Once you have specified the race/ethnicity fields that align with your reporting structure, they will remain in your workbook for subsequent reporting periods.\n"]
[]
[]
[null,"Completion Status:",null,"Enter Status"]
[]
[null,"Reporting Period:",null,"Period 1 (July 1 - September 30 2023)"]
[]
[null,"KEY DEFINITIONS: \n\nCount each NEW individual in only one race/ethnicity type as self-reported. Individuals who self-report in more than one category should be counted in the \"Multiple Races\" category. The total number in each demographic category should equal the number of NEW individuals reported in Section 3. This data is used for statistical purposes to comply with Federal regulations.\n\nAll \"0\" entries must represent a true value of zero.\n\nIf no data is collected for a category, select \"Not Tracked\" from the list of options in the associated race/ethnicity category. This means that as a subgrantee, you are not able to submit data in this category due to the need to update this in your data tracking system, but that efforts are underway to track data as requested. Report in the \"Not Tracked\" section the number of individuals whose demographic data were not tracked.\n\nIf no data is collected for an individual, count that individual in the Not Reported category. This means that this data is collected by your organization, but it was not provided by the person completing the intake form.\n\nIf you select \"Other\" from the dropdown options, enter an explanation next to your response or this will be marked as missing data in the system."]
[null,"SECTION 1: TOTAL number of individuals who received services during the reporting period:",null,null,null,null,null,"Period 1 (July 1 - September 30 2023)",null,"Period 2 (October 1 - December 31 2023)",null,null,"Period 3 (January 1 - March 31 2024)",null,null,"Period 4 (April 1 - June 30 2024)",null,null,"Period 5 (October – December 2021)",null,null,"Period 6 (January – March 2022)",null,null,"Period 7 (April – June 2022)",null,null,"Period 8 (July – September 2022)"]
[null,null,null,null,null,null,null,{"$f":"SUM('1.1 Sample Court Tab'!H12:I13+'1.2 Sample Court Tab'!H12:I13+'1.3 Sample Court Tab'!H12:I13+'1.4 Sample Court Tab'!H12:I13+'1.5 Sample Court Tab'!H12:I13+'1.6 Sample Court Tab'!H12:I13+'1.7 Sample Court Tab'!H12:I13+'1.8 Sample Court Tab'!H12:I13+'1.9 Sample Court Tab'!H12:I13+'1.10 Sample Court Tab'!H12:I13)","v":0},null,{"$f":"SUM('1.1 Sample Court Tab'!J12:L13+'1.2 Sample Court Tab'!J12:L13+'1.3 Sample Court Tab'!J12:L13+'1.4 Sample Court Tab'!J12:L13+'1.5 Sample Court Tab'!J12:L13+'1.6 Sample Court Tab'!J12:L13+'1.7 Sample Court Tab'!J12:L13+'1.8 Sample Court Tab'!J12:L13+'1.9 Sample Court Tab'!J12:L13+'1.10 Sample Court Tab'!J12:L13)","v":0},null,null,{"$f":"SUM('1.1 Sample Court Tab'!M12:O13+'1.2 Sample Court Tab'!M12:O13+'1.3 Sample Court Tab'!M12:O13+'1.4 Sample Court Tab'!M12:O13+'1.5 Sample Court Tab'!M12:O13+'1.6 Sample Court Tab'!M12:O13+'1.7 Sample Court Tab'!M12:O13+'1.8 Sample Court Tab'!M12:O13+'1.9 Sample Court Tab'!M12:O13+'1.10 Sample Court Tab'!M12:O13)","v":0},null,null,{"$f":"SUM('1.1 Sample Court Tab'!P12:R13+'1.2 Sample Court Tab'!P12:R13+'1.3 Sample Court Tab'!P12:R13+'1.4 Sample Court Tab'!P12:R13+'1.5 Sample Court Tab'!P12:R13+'1.6 Sample Court Tab'!P12:R13+'1.7 Sample Court Tab'!P12:R13+'1.8 Sample Court Tab'!P12:R13+'1.9 Sample Court Tab'!P12:R13+'1.10 Sample Court Tab'!P12:R13)","v":0}]
[]
[]
[]
[null,"SECTION 2: TOTAL number of anonymous contacts received during the reporting period: ",null,null,null,null,null,"Reporting Period 1",null,"Reporting Period 2",null,null,"Reporting Period 3",null,null,"Reporting Period 4",null,null,"Reporting Period 5",null,null,"Reporting Period 6",null,null,"Reporting Period 7",null,null,"Reporting Period 8"]
[null,null,null,null,null,null,null,{"$f":"SUM('1.1 Sample Court Tab'!H17+'1.2 Sample Court Tab'!H17+'1.3 Sample Court Tab'!H17+'1.4 Sample Court Tab'!H17+'1.5 Sample Court Tab'!H17+'1.6 Sample Court Tab'!H17+'1.7 Sample Court Tab'!H17+'1.8 Sample Court Tab'!H17+'1.9 Sample Court Tab'!H17+'1.10 Sample Court Tab'!H17)","v":0},null,{"$f":"SUM('1.1 Sample Court Tab'!J17+'1.2 Sample Court Tab'!J17+'1.3 Sample Court Tab'!J17+'1.4 Sample Court Tab'!J17+'1.5 Sample Court Tab'!J17+'1.6 Sample Court Tab'!J17+'1.7 Sample Court Tab'!J17+'1.8 Sample Court Tab'!J17+'1.9 Sample Court Tab'!J17+'1.10 Sample Court Tab'!J17)","v":0},null,null,{"$f":"SUM('1.1 Sample Court Tab'!M17+'1.2 Sample Court Tab'!M17+'1.3 Sample Court Tab'!M17+'1.4 Sample Court Tab'!M17+'1.5 Sample Court Tab'!M17+'1.6 Sample Court Tab'!M17+'1.7 Sample Court Tab'!M17+'1.8 Sample Court Tab'!M17+'1.9 Sample Court Tab'!M17+'1.10 Sample Court Tab'!M17)","v":0},null,null,{"$f":"SUM('1.1 Sample Court Tab'!P17+'1.2 Sample Court Tab'!P17+'1.3 Sample Court Tab'!P17+'1.4 Sample Court Tab'!P17+'1.5 Sample Court Tab'!P17+'1.6 Sample Court Tab'!P17+'1.7 Sample Court Tab'!P17+'1.8 Sample Court Tab'!P17+'1.9 Sample Court Tab'!P17+'1.10 Sample Court Tab'!P17)","v":0}]
[]
[]
[]
[null,"SECTION 3: Of the number of individuals entered in question 1, how many were NEW individuals who received services from your agency for the first time during the reporting period: ",null,null,null,null,null,"Reporting Period 1",null,"Reporting Period 2",null,null,"Reporting Period 3",null,null,"Reporting Period 4",null,null,"Reporting Period 5",null,null,"Reporting Period 6",null,null,"Reporting Period 7",null,null,"Reporting Period 8"]
[null,null,null,null,null,null,null,{"$f":"SUM('1.1 Sample Court Tab'!H22+'1.2 Sample Court Tab'!H22+'1.3 Sample Court Tab'!H22+'1.4 Sample Court Tab'!H22+'1.5 Sample Court Tab'!H22+'1.6 Sample Court Tab'!H22+'1.7 Sample Court Tab'!H22+'1.8 Sample Court Tab'!H22+'1.9 Sample Court Tab'!H22+'1.10 Sample Court Tab'!H22)","v":0},null,{"$f":"SUM('1.1 Sample Court Tab'!J22+'1.2 Sample Court Tab'!J22+'1.3 Sample Court Tab'!J22+'1.4 Sample Court Tab'!J22+'1.5 Sample Court Tab'!J22+'1.6 Sample Court Tab'!J22+'1.7 Sample Court Tab'!J22+'1.8 Sample Court Tab'!J22+'1.9 Sample Court Tab'!J22+'1.10 Sample Court Tab'!J22)","v":0},null,null,{"$f":"SUM('1.1 Sample Court Tab'!M22+'1.2 Sample Court Tab'!M22+'1.3 Sample Court Tab'!M22+'1.4 Sample Court Tab'!M22+'1.5 Sample Court Tab'!M22+'1.6 Sample Court Tab'!M22+'1.7 Sample Court Tab'!M22+'1.8 Sample Court Tab'!M22+'1.9 Sample Court Tab'!M22+'1.10 Sample Court Tab'!M22)","v":0},null,null,{"$f":"SUM('1.1 Sample Court Tab'!P22+'1.2 Sample Court Tab'!P22+'1.3 Sample Court Tab'!P22+'1.4 Sample Court Tab'!P22+'1.5 Sample Court Tab'!P22+'1.6 Sample Court Tab'!P22+'1.7 Sample Court Tab'!P22+'1.8 Sample Court Tab'!P22+'1.9 Sample Court Tab'!P22+'1.10 Sample Court Tab'!P22)","v":0}]
[]
[null,null,null,"Validation check against race/ethnicity below. Totals under Section 4A should equal question 3 total.",null,null,null,{"$f":"SUM(I37,I49,I61,I73,I85,I97,I109,I118,H130,H131)-H22","v":0},null,{"$f":"SUM(L37,L49,L61,L73,L85,L97,L109,L118,J130,J131)-J22","v":0},null,null,{"$f":"SUM(O37,O49,O61,O73,O85,O97,O109,O118,M130,M131)-M22","v":0},null,null,{"$f":"SUM(R37,R49,R61,R73,R85,R97,R109,R118,P130,P131)-P22","v":0},null,null,{"$f":"SUM(U37,U49,U61,U73,U85,U97,U109,U118,S130,S131)-S22","v":0},null,null,{"$f":"SUM(X37,X49,X61,X73,X85,X97,X109,X118,V130,V131)-V22","v":0},null,null,{"$f":"SUM(AA37,AA49,AA61,AA73,AA85,AA97,AA109,AA118,Y130,Y131)-Y22","v":0},null,null,{"$f":"SUM(AD37,AD49,AD61,AD73,AD85,AD97,AD109,AD118,AB130,AB131)-AB22","v":0}]
[]
[]
[null,"Is your agency able to track NEW individuals throughout the Fiscal Year?",null,null,null,null,null,null,null,"Select one."]
[null,"Of the number of individuals entered in question 1, how many received services from multiple courts within your agency during the reporting period:",null,null,null,null,null,"Reporting Period 1",null,"Reporting Period 2",null,null,"Reporting Period 3",null,null,"Reporting Period 4"]
[]
[]
[]
[null,"SECTION 4: Demographics\nEnter the totals for NEW individuals identified in Question 3 by the following demographic descriptors. "]
[]
[null,"A. Race/Ethnicity (Self-Reported) - NEW individuals"]
[null,"Population",null,null,null,null,null,"Number of NEW Individuals",null,null,null,null,null,null,null,null,null,null,null,"Number of NEW Individuals - Year 2"]
[null,null,null,null,null,null,null,"Reporting Period 1",null,"Reporting Period 2",null,null,"Reporting Period 3",null,null,"Reporting Period 4",null,null,"Reporting Period 5",null,null,"Reporting Period 6",null,null,"Reporting Period 7",null,null,"Reporting Period 8"]
[null,"American Indian or Alaska Native Total",null,null,null,null,null,null,{"$f":"SUM(H38:H48)","v":0},null,null,{"$f":"SUM(J38:K48)","v":0},null,null,{"$f":"SUM(M38:N48)","v":0},null,null,{"$f":"SUM(P38:Q48)","v":0},null,null,{"$f":"SUM(S38:T48)","v":0},null,null,{"$f":"SUM(V38:W48)","v":0},null,null,{"$f":"SUM(Y38:Z48)","v":0},null,null,{"$f":"SUM(AB38:AC48)","v":0}]
[null,"American Indian/Alaska Native (general)"]
[null,"Select from Options"]
[null,"Select from Options"]
[null,"Select from Options"]
[null,"Select from Options"]
[null,"Select from Options"]
[null,"Select from Options"]
[null,"Select from Options"]
[null,"Select from Options"]
[null,"Select from Options"]
[null,"Select from Options"]
[null,"Asian Total",null,null,null,null,null,null,{"$f":"SUM(H50:H60)","v":0},null,null,{"$f":"SUM(J50:K60)","v":0},null,null,{"$f":"SUM(M50:N60)","v":0},null,null,{"$f":"SUM(P50:Q60)","v":0},null,null,{"$f":"SUM(S50:T60)","v":0},null,null,{"$f":"SUM(V50:W60)","v":0},null,null,{"$f":"SUM(Y50:Z60)","v":0},null,null,{"$f":"SUM(AB50:AC60)","v":0}]
[null,"Asian (general)"]
[null,"Select from Options"]
[null,"Select from Options"]
[null,"Select from Options"]
[null,"Select from Options"]
[null,"Select from Options"]
[null,"Select from Options"]
[null,"Select from Options"]
[null,"Select from Options"]
[null,"Select from Options"]
[null,"Select from Options"]
[null,"Black or African American Total",null,null,null,null,null,null,{"$f":"SUM(H62:H72)","v":0},null,null,{"$f":"SUM(J62:K72)","v":0},null,null,{"$f":"SUM(M62:N72)","v":0},null,null,{"$f":"SUM(P62:Q72)","v":0},null,null,{"$f":"SUM(S62:T72)","v":0},null,null,{"$f":"SUM(V62:W72)","v":0},null,null,{"$f":"SUM(Y62:Z72)","v":0},null,null,{"$f":"SUM(AB62:AC72)","v":0}]
[null,"Black/African America (general)"]
[null,"Select from Options"]
[null,"Select from Options"]
[null,"Select from Options"]
[null,"Select from Options"]
[null,"Select from Options"]
[null,"Select from Options"]
[null,"Select from Options"]
[null,"Select from Options"]
[null,"Select from Options"]
[null,"Select from Options"]
[null,"Hispanic or Latino Total",null,null,null,null,null,null,{"$f":"SUM(H74:H84)","v":0},null,null,{"$f":"SUM(J74:K84)","v":0},null,null,{"$f":"SUM(M74:N84)","v":0},null,null,{"$f":"SUM(P74:Q84)","v":0},null,null,{"$f":"SUM(S74:T84)","v":0},null,null,{"$f":"SUM(V74:W84)","v":0},null,null,{"$f":"SUM(Y74:Z84)","v":0},null,null,{"$f":"SUM(AB74:AC84)","v":0}]
[null,"Hispanic/Latino (general)"]
[null,"Select from Options"]
[null,"Select from Options"]
[null,"Select from Options"]
[null,"Select from Options"]
[null,"Select from Options"]
[null,"Select from Options"]
[null,"Select from Options"]
[null,"Select from Options"]
[null,"Select from Options"]
[null,"Select from Options"]
[null,"Native Hawaiian or Pacific Islander Total",null,null,null,null,null,null,{"$f":"SUM(H86:H96)","v":0},null,null,{"$f":"SUM(J86:K96)","v":0},null,null,{"$f":"SUM(M86:N96)","v":0},null,null,{"$f":"SUM(P86:Q96)","v":0},null,null,{"$f":"SUM(S86:T96)","v":0},null,null,{"$f":"SUM(V86:W96)","v":0},null,null,{"$f":"SUM(Y86:Z96)","v":0},null,null,{"$f":"SUM(AB86:AC96)","v":0}]
[null,"Native Hawaiian/Pacific Islander (general)"]
[null,"Select from Options"]
[null,"Select from Options"]
[null,"Select from Options"]
[null,"Select from Options"]
[null,"Select from Options"]
[null,"Select from Options"]
[null,"Select from Options"]
[null,"Select from Options"]
[null,"Select from Options"]
[null,"Select from Options"]
[null,"White Non-Latino or Caucasian Total",null,null,null,null,null,null,{"$f":"SUM(H98:H108)","v":0},null,null,{"$f":"SUM(J98:K108)","v":0},null,null,{"$f":"SUM(M98:N108)","v":0},null,null,{"$f":"SUM(P98:Q108)","v":0},null,null,{"$f":"SUM(S98:T108)","v":0},null,null,{"$f":"SUM(V98:W108)","v":0},null,null,{"$f":"SUM(Y98:Z108)","v":0},null,null,{"$f":"SUM(AB98:AC108)","v":0}]
[null,"White Non-Latino/Caucasian (general)"]
[null,"Select from Options"]
[null,"Select from Options"]
[null,"Select from Options"]
[null,"Select from Options"]
[null,"Select from Options"]
[null,"Select from Options"]
[null,"Select from Options"]
[null,"Select from Options"]
[null,"Select from Options"]
[null,"Select from Options"]
[null,"Some Other Race/Ethnicity (please specify below):",null,null,null,null,null,null,{"$f":"SUM(H110:H117)","v":0},null,null,{"$f":"SUM(J110:K117)","v":0},null,null,{"$f":"SUM(M110:N117)","v":0},null,null,{"$f":"SUM(P110:Q117)","v":0},null,null,{"$f":"SUM(S110:T117)","v":0},null,null,{"$f":"SUM(V110:W117)","v":0},null,null,{"$f":"SUM(Y110:Z117)","v":0},null,null,{"$f":"SUM(AB110:AC117)","v":0}]
[]
[]
[]
[]
[]
[]
[]
[]
[null,"Multiple Races",null,null,null,null,null,null,{"$f":"SUM(H119:H129)","v":0},null,null,{"$f":"SUM(J119:K129)","v":0},null,null,{"$f":"SUM(M119:N129)","v":0},null,null,{"$f":"SUM(P119:Q129)","v":0},null,null,{"$f":"SUM(S119:T129)","v":0},null,null,{"$f":"SUM(V119:W129)","v":0},null,null,{"$f":"SUM(Y119:Z129)","v":0},null,null,{"$f":"SUM(AB119:AC129)","v":0}]
[null,"Multiple Races (general)"]
[null,"Select from Options"]
[null,"Select from Options"]
[null,"Select from Options"]
[null,"Select from Options"]
[null,"Select from Options"]
[null,"Select from Options"]
[null,"Select from Options"]
[null,"Select from Options"]
[null,"Select from Options"]
[null,"Select from Options"]
[null,"Individuals Not Reported"]
[null,"Individuals Not Tracked"]
[null,null,null,null,null,"ERROR IN \nSECTION ABOVE",null,{"$f":"H22-SUM(I37,I49,I61,I73,I85,I97,I109,I118,H130,H131)","v":0},null,{"$f":"J22-SUM(L37,L49,L61,L73,L85,L97,L109,L118,J130,J131)","v":0},null,null,{"$f":"M22-SUM(O37,O49,O61,O73,O85,O97,O109,O118,M130,M131)","v":0},null,null,{"$f":"P22-SUM(R37,R49,R61,R73,R85,R97,R109,R118,P130,P131)","v":0},null,null,{"$f":"S22-SUM(U37,U49,U61,U73,U85,U97,U109,U118,S130,S131)","v":0},null,null,{"$f":"V22-SUM(X37,X49,X61,X73,X85,X97,X109,X118,V130,V131)","v":0},null,null,{"$f":"Y22-SUM(AA37,AA49,AA61,AA73,AA85,AA97,AA109,AA118,Y130,Y131)","v":0},null,null,{"$f":"AB22-SUM(AD37,AD49,AD61,AD73,AD85,AD97,AD109,AD118,AB130,AB131)","v":0}]
[]
[]
[null,"B. Gender Identity (Self-Reported) - NEW individuals"]
[null,"Population",null,null,null,null,null,"Number of New Individuals",null,null,null,null,null,null,null,null,null,null,null,"Number of New Individuals - Year 2"]
[null,null,null,null,null,null,null,"Reporting Period 1",null,"Reporting Period 2",null,null,"Reporting Period 3",null,null,"Reporting Period 4",null,null,"Reporting Period 5",null,null,"Reporting Period 6",null,null,"Reporting Period 7",null,null,"Reporting Period 8"]
[null,"Male"]
[null,"Female"]
[null,"Transgender Male"]
[null,"Transgender Female"]
[null,"Genderqueer/Non-Conforming/Non-Binary"]
[null,"Other Gender (please specify below):"]
[]
[]
[]
[]
[]
[]
[]
[null,"Not Reported"]
[null,"Not Tracked"]
[null,null,null,null,null,"ERROR IN \nSECTION ABOVE",null,{"$f":"H22-SUM(H138:I142,H144:I152)","v":0},null,{"$f":"J22-SUM(J138:L142,J144:L152)","v":0},null,null,{"$f":"M22-SUM(M138:O142,M144:O152)","v":0},null,null,{"$f":"P22-SUM(P138:R142,P144:R152)","v":0},null,null,{"$f":"S22-SUM(S138:U142,S144:U152)","v":0},null,null,{"$f":"V22-SUM(V138:X142,V144:X152)","v":0},null,null,{"$f":"Y22-SUM(Y138:AA142,Y144:AA152)","v":0},null,null,{"$f":"AB22-SUM(AB138:AD142,AB144:AD152)","v":0}]
[]
[]
[null,"C. Age (Self-Reported) - NEW individuals. Report the age of the victim at the time of the victimization."]
[null,"Population",null,null,null,null,null,"Number of New Individuals",null,null,null,null,null,null,null,null,null,null,null,"Number of New Individuals - Year 2"]
[null,null,null,null,null,null,null,"Reporting Period 1",null,"Reporting Period 2",null,null,"Reporting Period 3",null,null,"Reporting Period 4",null,null,"Reporting Period 5",null,null,"Reporting Period 6",null,null,"Reporting Period 7",null,null,"Reporting Period 8"]
[null,"Age 0-12"]
[null,"Age 13-17"]
[null,"Age 18-24"]
[null,"Age 25-59 (total)",null,null,null,null,null,{"$f":"SUM(H163:I167)","v":0},null,{"$f":"SUM(J163:L167)","v":0},null,null,{"$f":"SUM(M163:O167)","v":0},null,null,{"$f":"SUM(P163:R167)","v":0},null,null,{"$f":"SUM(S163:U167)","v":0},null,null,{"$f":"SUM(V163:X167)","v":0},null,null,{"$f":"SUM(Y163:AA167)","v":0},null,null,{"$f":"SUM(AB163:AD167)","v":0}]
[null,"      Age 25-59 (general)"]
[null,"      Optional: Age 25-29"]
[null,"      Optional: Age 30-39"]
[null,"      Optional: Age 40-49"]
[null,"      Optional: Age 50-59"]
[null,"Age 60 and Older (total)",null,null,null,null,null,{"$f":"SUM(H169:I171)","v":0},null,{"$f":"SUM(J169:L171)","v":0},null,null,{"$f":"SUM(M169:O171)","v":0},null,null,{"$f":"SUM(P169:R171)","v":0},null,null,{"$f":"SUM(S169:U171)","v":0},null,null,{"$f":"SUM(V169:X171)","v":0},null,null,{"$f":"SUM(Y169:AA171)","v":0},null,null,{"$f":"SUM(AB169:AD171)","v":0}]
[null,"      Age 60 and Older (general)"]
[null,"      Optional: Age 60-65"]
[null,"      Optional: Age 66 and Older"]
[null,"Not Reported"]
[null,"Not Tracked"]
[null,null,null,null,null,"ERROR IN \nSECTION ABOVE",null,{"$f":"H22-SUM(H159:I162,H168,H172:J173)","v":0},null,{"$f":"J22-SUM(J159:L162,J168,J172:L173)","v":0},null,null,{"$f":"M22-SUM(M159:O162,M168,M172:O173)","v":0},null,null,{"$f":"P22-SUM(P159:R162,P168,P172:R173)","v":0},null,null,{"$f":"S22-SUM(S159:U162,S168,S172:U173)","v":0},null,null,{"$f":"V22-SUM(V159:X162,V168,V172:X173)","v":0},null,null,{"$f":"Y22-SUM(Y159:AA162,Y168,Y172:AA173)","v":0},null,null,{"$f":"AB22-SUM(AB159:AD162,AB168,AB172:AD173)","v":0}]
[]
[]
[null,"D. Geographic Region (Self-Reported) - NEW individuals living in the following areas - \nCategories presented are guides and definitions for each may vary by program. Please use the categories based on your program's use of either the main group labels (i.e., application of rural) or the estimated size."]
[null,"Population",null,null,null,null,null,"Number of New Individuals",null,null,null,null,null,null,null,null,null,null,null,"Number of New Individuals - Year 2"]
[null,null,null,null,null,null,null,"Reporting Period 1",null,"Reporting Period 2",null,null,"Reporting Period 3",null,null,"Reporting Period 4",null,null,"Reporting Period 5",null,null,"Reporting Period 6",null,null,"Reporting Period 7",null,null,"Reporting Period 8"]
[null,"Urban Area (50,000 or more)"]
[null,"Suburban Area (2,500-49,000)"]
[null,"Rural Area (less than 2,500)"]
[]
[null,"SECTION 5: Types of Victimization\nEnter the totals for the specified reporting period for ALL individuals identified in Question 1 and 2. An individual MAY be counted in more than one victimization type. An individual MAY NOT be counted more than once within the same victimization type. The information in this section corresponds to the previous reporting tool within the VOCA tab."]
[]
[null,"A. Number of Individuals who Received Services Based on a Presenting Victimization During the Reporting Period - ALL individuals"]
[null,"Victimization Type",null,null,null,null,null,"Number of Individuals",null,null,null,null,null,null,null,null,null,null,null,"Number of Individuals - Year 2"]
[null,null,null,null,null,null,null,"Reporting Period 1",null,"Reporting Period 2",null,null,"Reporting Period 3",null,null,"Reporting Period 4",null,null,"Reporting Period 5",null,null,"Reporting Period 6",null,null,"Reporting Period 7",null,null,"Reporting Period 8"]
[null,"Adult Physical Assault (Includes Aggravated and Simple Assault)"]
[null,"Adult Sexual Assault"]
[null,"Adults Sexually Abused/Assaulted as Children"]
[null,"Arson"]
[null,"Bullying (Verbal, Cyber, or Physical)"]
[null,"Burglary"]
[null,"Child Physical Abuse or Neglect"]
[null,"Child Pornography"]
[null,"Child Sexual Abuse/Assault"]
[null,"Domestic and/or Family Violence"]
[null,"DUI/DWI Incidents"]
[null,"Elder Abuse or Neglect"]
[null,"Hate Crime",null,null,"Explanation Required Below:",null,null,null,{"$f":"SUM(H202:H206)","v":0},null,null,{"$f":"SUM(J202:K206)","v":0},null,null,{"$f":"SUM(M202:N206)","v":0},null,null,{"$f":"SUM(P202:Q206)","v":0},null,null,{"$f":"SUM(S202:T206)","v":0},null,null,{"$f":"SUM(V202:W206)","v":0},null,null,{"$f":"SUM(Y202:Z206)","v":0},null,null,{"$f":"SUM(AB202:AC206)","v":0}]
[null,"Hate Crime: Racial"]
[null,"Hate Crime: Religious"]
[null,"Hate Crime: Gender"]
[null,"Hate Crime: Sexual Orientation"]
[null,"Hate Crime: Other"]
[null,"Human Trafficking: Labor"]
[null,"Human Trafficking: Sex"]
[null,"Identity Theft/Fraud/Financial Crime"]
[null,"Kidnapping (non-custodial)"]
[null,"Kidnapping (custodial)"]
[null,"Mass Violence (Domestic/International)"]
[null,"Other Vehicular Victimization (e.g., Hit and Run) "]
[null,"Robbery"]
[null,"Stalking/Harassment"]
[null,"Survivors of Homicide Victims "]
[null,"Teen Dating Victimization"]
[null,"Terrorism (Domestic/International)"]
[null,"Other Victimization (please specify below):",null,null,null,null,null,null,{"$f":"SUM(H220:H229)","v":0},null,null,{"$f":"SUM(J220:K229)","v":0},null,null,{"$f":"SUM(M220:N229)","v":0},null,null,{"$f":"SUM(P220:Q229)","v":0},null,null,{"$f":"SUM(S220:T229)","v":0},null,null,{"$f":"SUM(V220:W229)","v":0},null,null,{"$f":"SUM(Y220:Z229)","v":0},null,null,{"$f":"SUM(AB220:AC229)","v":0}]
[]
[]
[]
[]
[]
[]
[]
[]
[]
[]
[null,"Not Reported"]
[null,"Not Tracked"]
[]
[null,"SUMMARY ONLY - This section summarizes what has been entered in each of the individual court tabs to provide an overview of the types of abuse alleged. No data entry is needed in this section!\nB. Types of Abuse Alleged: Enter the number of Individuals who Received Services Based on the Type of Alleged Abuse During the Reporting Period - ALL individuals\nAn individual MAY be counted in more than one classification."]
[null,"Type of Alleged Abuse",null,null,null,null,null,"Number of Individuals",null,null,null,null,null,null,null,null,null,null,null,"Number of Individuals - Year 2"]
[null,null,null,null,null,null,null,"Reporting Period 1",null,"Reporting Period 2",null,null,"Reporting Period 3",null,null,"Reporting Period 4",null,null,"Reporting Period 5",null,null,"Reporting Period 6",null,null,"Reporting Period 7",null,null,"Reporting Period 8"]
[null,"Attempted physical harm (209A)",null,null,null,null,null,{"$f":"SUM('1.1 Sample Court Tab'!H43+'1.2 Sample Court Tab'!H43+'1.3 Sample Court Tab'!H43+'1.4 Sample Court Tab'!H43+'1.5 Sample Court Tab'!H43+'1.6 Sample Court Tab'!H43+'1.7 Sample Court Tab'!H43+'1.8 Sample Court Tab'!H43+'1.9 Sample Court Tab'!H43+'1.10 Sample Court Tab'!H43)","v":0},null,{"$f":"SUM('1.1 Sample Court Tab'!J43+'1.2 Sample Court Tab'!J43+'1.3 Sample Court Tab'!J43+'1.4 Sample Court Tab'!J43+'1.5 Sample Court Tab'!J43+'1.6 Sample Court Tab'!J43+'1.7 Sample Court Tab'!J43+'1.8 Sample Court Tab'!J43+'1.9 Sample Court Tab'!J43+'1.10 Sample Court Tab'!J43)","v":0},null,null,{"$f":"SUM('1.1 Sample Court Tab'!M43+'1.2 Sample Court Tab'!M43+'1.3 Sample Court Tab'!M43+'1.4 Sample Court Tab'!M43+'1.5 Sample Court Tab'!M43+'1.6 Sample Court Tab'!M43+'1.7 Sample Court Tab'!M43+'1.8 Sample Court Tab'!M43+'1.9 Sample Court Tab'!M43+'1.10 Sample Court Tab'!M43)","v":0},null,null,{"$f":"SUM('1.1 Sample Court Tab'!P43+'1.2 Sample Court Tab'!P43+'1.3 Sample Court Tab'!P43+'1.4 Sample Court Tab'!P43+'1.5 Sample Court Tab'!P43+'1.6 Sample Court Tab'!P43+'1.7 Sample Court Tab'!P43+'1.8 Sample Court Tab'!P43+'1.9 Sample Court Tab'!P43+'1.10 Sample Court Tab'!P43)","v":0}]
[null,"Caused physical harm (209A)",null,null,null,null,null,{"$f":"SUM('1.1 Sample Court Tab'!H44+'1.2 Sample Court Tab'!H44+'1.3 Sample Court Tab'!H44+'1.4 Sample Court Tab'!H44+'1.5 Sample Court Tab'!H44+'1.6 Sample Court Tab'!H44+'1.7 Sample Court Tab'!H44+'1.8 Sample Court Tab'!H44+'1.9 Sample Court Tab'!H44+'1.10 Sample Court Tab'!H44)","v":0},null,{"$f":"SUM('1.1 Sample Court Tab'!J44+'1.2 Sample Court Tab'!J44+'1.3 Sample Court Tab'!J44+'1.4 Sample Court Tab'!J44+'1.5 Sample Court Tab'!J44+'1.6 Sample Court Tab'!J44+'1.7 Sample Court Tab'!J44+'1.8 Sample Court Tab'!J44+'1.9 Sample Court Tab'!J44+'1.10 Sample Court Tab'!J44)","v":0},null,null,{"$f":"SUM('1.1 Sample Court Tab'!M44+'1.2 Sample Court Tab'!M44+'1.3 Sample Court Tab'!M44+'1.4 Sample Court Tab'!M44+'1.5 Sample Court Tab'!M44+'1.6 Sample Court Tab'!M44+'1.7 Sample Court Tab'!M44+'1.8 Sample Court Tab'!M44+'1.9 Sample Court Tab'!M44+'1.10 Sample Court Tab'!M44)","v":0},null,null,{"$f":"SUM('1.1 Sample Court Tab'!P44+'1.2 Sample Court Tab'!P44+'1.3 Sample Court Tab'!P44+'1.4 Sample Court Tab'!P44+'1.5 Sample Court Tab'!P44+'1.6 Sample Court Tab'!P44+'1.7 Sample Court Tab'!P44+'1.8 Sample Court Tab'!P44+'1.9 Sample Court Tab'!P44+'1.10 Sample Court Tab'!P44)","v":0}]
[null,"Imminent Fear (209A)",null,null,null,null,null,{"$f":"SUM('1.1 Sample Court Tab'!H45+'1.2 Sample Court Tab'!H45+'1.3 Sample Court Tab'!H45+'1.4 Sample Court Tab'!H45+'1.5 Sample Court Tab'!H45+'1.6 Sample Court Tab'!H45+'1.7 Sample Court Tab'!H45+'1.8 Sample Court Tab'!H45+'1.9 Sample Court Tab'!H45+'1.10 Sample Court Tab'!H45)","v":0},null,{"$f":"SUM('1.1 Sample Court Tab'!J45+'1.2 Sample Court Tab'!J45+'1.3 Sample Court Tab'!J45+'1.4 Sample Court Tab'!J45+'1.5 Sample Court Tab'!J45+'1.6 Sample Court Tab'!J45+'1.7 Sample Court Tab'!J45+'1.8 Sample Court Tab'!J45+'1.9 Sample Court Tab'!J45+'1.10 Sample Court Tab'!J45)","v":0},null,null,{"$f":"SUM('1.1 Sample Court Tab'!M45+'1.2 Sample Court Tab'!M45+'1.3 Sample Court Tab'!M45+'1.4 Sample Court Tab'!M45+'1.5 Sample Court Tab'!M45+'1.6 Sample Court Tab'!M45+'1.7 Sample Court Tab'!M45+'1.8 Sample Court Tab'!M45+'1.9 Sample Court Tab'!M45+'1.10 Sample Court Tab'!M45)","v":0},null,null,{"$f":"SUM('1.1 Sample Court Tab'!P45+'1.2 Sample Court Tab'!P45+'1.3 Sample Court Tab'!P45+'1.4 Sample Court Tab'!P45+'1.5 Sample Court Tab'!P45+'1.6 Sample Court Tab'!P45+'1.7 Sample Court Tab'!P45+'1.8 Sample Court Tab'!P45+'1.9 Sample Court Tab'!P45+'1.10 Sample Court Tab'!P45)","v":0}]
[null,"Sexual Assault (209A)",null,null,null,null,null,{"$f":"SUM('1.1 Sample Court Tab'!H46+'1.2 Sample Court Tab'!H46+'1.3 Sample Court Tab'!H46+'1.4 Sample Court Tab'!H46+'1.5 Sample Court Tab'!H46+'1.6 Sample Court Tab'!H46+'1.7 Sample Court Tab'!H46+'1.8 Sample Court Tab'!H46+'1.9 Sample Court Tab'!H46+'1.10 Sample Court Tab'!H46)","v":0},null,{"$f":"SUM('1.1 Sample Court Tab'!J46+'1.2 Sample Court Tab'!J46+'1.3 Sample Court Tab'!J46+'1.4 Sample Court Tab'!J46+'1.5 Sample Court Tab'!J46+'1.6 Sample Court Tab'!J46+'1.7 Sample Court Tab'!J46+'1.8 Sample Court Tab'!J46+'1.9 Sample Court Tab'!J46+'1.10 Sample Court Tab'!J46)","v":0},null,null,{"$f":"SUM('1.1 Sample Court Tab'!M46+'1.2 Sample Court Tab'!M46+'1.3 Sample Court Tab'!M46+'1.4 Sample Court Tab'!M46+'1.5 Sample Court Tab'!M46+'1.6 Sample Court Tab'!M46+'1.7 Sample Court Tab'!M46+'1.8 Sample Court Tab'!M46+'1.9 Sample Court Tab'!M46+'1.10 Sample Court Tab'!M46)","v":0},null,null,{"$f":"SUM('1.1 Sample Court Tab'!P46+'1.2 Sample Court Tab'!P46+'1.3 Sample Court Tab'!P46+'1.4 Sample Court Tab'!P46+'1.5 Sample Court Tab'!P46+'1.6 Sample Court Tab'!P46+'1.7 Sample Court Tab'!P46+'1.8 Sample Court Tab'!P46+'1.9 Sample Court Tab'!P46+'1.10 Sample Court Tab'!P46)","v":0}]
[null,"Stalking (258E)",null,null,null,null,null,{"$f":"SUM('1.1 Sample Court Tab'!H47+'1.2 Sample Court Tab'!H47+'1.3 Sample Court Tab'!H47+'1.4 Sample Court Tab'!H47+'1.5 Sample Court Tab'!H47+'1.6 Sample Court Tab'!H47+'1.7 Sample Court Tab'!H47+'1.8 Sample Court Tab'!H47+'1.9 Sample Court Tab'!H47+'1.10 Sample Court Tab'!H47)","v":0},null,{"$f":"SUM('1.1 Sample Court Tab'!J47+'1.2 Sample Court Tab'!J47+'1.3 Sample Court Tab'!J47+'1.4 Sample Court Tab'!J47+'1.5 Sample Court Tab'!J47+'1.6 Sample Court Tab'!J47+'1.7 Sample Court Tab'!J47+'1.8 Sample Court Tab'!J47+'1.9 Sample Court Tab'!J47+'1.10 Sample Court Tab'!J47)","v":0},null,null,{"$f":"SUM('1.1 Sample Court Tab'!M47+'1.2 Sample Court Tab'!M47+'1.3 Sample Court Tab'!M47+'1.4 Sample Court Tab'!M47+'1.5 Sample Court Tab'!M47+'1.6 Sample Court Tab'!M47+'1.7 Sample Court Tab'!M47+'1.8 Sample Court Tab'!M47+'1.9 Sample Court Tab'!M47+'1.10 Sample Court Tab'!M47)","v":0},null,null,{"$f":"SUM('1.1 Sample Court Tab'!P47+'1.2 Sample Court Tab'!P47+'1.3 Sample Court Tab'!P47+'1.4 Sample Court Tab'!P47+'1.5 Sample Court Tab'!P47+'1.6 Sample Court Tab'!P47+'1.7 Sample Court Tab'!P47+'1.8 Sample Court Tab'!P47+'1.9 Sample Court Tab'!P47+'1.10 Sample Court Tab'!P47)","v":0}]
[null,"Sexual Assault (258E)",null,null,null,null,null,{"$f":"SUM('1.1 Sample Court Tab'!H48+'1.2 Sample Court Tab'!H48+'1.3 Sample Court Tab'!H48+'1.4 Sample Court Tab'!H48+'1.5 Sample Court Tab'!H48+'1.6 Sample Court Tab'!H48+'1.7 Sample Court Tab'!H48+'1.8 Sample Court Tab'!H48+'1.9 Sample Court Tab'!H48+'1.10 Sample Court Tab'!H48)","v":0},null,{"$f":"SUM('1.1 Sample Court Tab'!J48+'1.2 Sample Court Tab'!J48+'1.3 Sample Court Tab'!J48+'1.4 Sample Court Tab'!J48+'1.5 Sample Court Tab'!J48+'1.6 Sample Court Tab'!J48+'1.7 Sample Court Tab'!J48+'1.8 Sample Court Tab'!J48+'1.9 Sample Court Tab'!J48+'1.10 Sample Court Tab'!J48)","v":0},null,null,{"$f":"SUM('1.1 Sample Court Tab'!M48+'1.2 Sample Court Tab'!M48+'1.3 Sample Court Tab'!M48+'1.4 Sample Court Tab'!M48+'1.5 Sample Court Tab'!M48+'1.6 Sample Court Tab'!M48+'1.7 Sample Court Tab'!M48+'1.8 Sample Court Tab'!M48+'1.9 Sample Court Tab'!M48+'1.10 Sample Court Tab'!M48)","v":0},null,null,{"$f":"SUM('1.1 Sample Court Tab'!P48+'1.2 Sample Court Tab'!P48+'1.3 Sample Court Tab'!P48+'1.4 Sample Court Tab'!P48+'1.5 Sample Court Tab'!P48+'1.6 Sample Court Tab'!P48+'1.7 Sample Court Tab'!P48+'1.8 Sample Court Tab'!P48+'1.9 Sample Court Tab'!P48+'1.10 Sample Court Tab'!P48)","v":0}]
[null,"Criminal Harassment (258E)",null,null,null,null,null,{"$f":"SUM('1.1 Sample Court Tab'!H49+'1.2 Sample Court Tab'!H49+'1.3 Sample Court Tab'!H49+'1.4 Sample Court Tab'!H49+'1.5 Sample Court Tab'!H49+'1.6 Sample Court Tab'!H49+'1.7 Sample Court Tab'!H49+'1.8 Sample Court Tab'!H49+'1.9 Sample Court Tab'!H49+'1.10 Sample Court Tab'!H49)","v":0},null,{"$f":"SUM('1.1 Sample Court Tab'!J49+'1.2 Sample Court Tab'!J49+'1.3 Sample Court Tab'!J49+'1.4 Sample Court Tab'!J49+'1.5 Sample Court Tab'!J49+'1.6 Sample Court Tab'!J49+'1.7 Sample Court Tab'!J49+'1.8 Sample Court Tab'!J49+'1.9 Sample Court Tab'!J49+'1.10 Sample Court Tab'!J49)","v":0},null,null,{"$f":"SUM('1.1 Sample Court Tab'!M49+'1.2 Sample Court Tab'!M49+'1.3 Sample Court Tab'!M49+'1.4 Sample Court Tab'!M49+'1.5 Sample Court Tab'!M49+'1.6 Sample Court Tab'!M49+'1.7 Sample Court Tab'!M49+'1.8 Sample Court Tab'!M49+'1.9 Sample Court Tab'!M49+'1.10 Sample Court Tab'!M49)","v":0},null,null,{"$f":"SUM('1.1 Sample Court Tab'!P49+'1.2 Sample Court Tab'!P49+'1.3 Sample Court Tab'!P49+'1.4 Sample Court Tab'!P49+'1.5 Sample Court Tab'!P49+'1.6 Sample Court Tab'!P49+'1.7 Sample Court Tab'!P49+'1.8 Sample Court Tab'!P49+'1.9 Sample Court Tab'!P49+'1.10 Sample Court Tab'!P49)","v":0}]
[null,"Other (please specify below): "]
[null,null,null,null,null,null,null,{"$f":"SUM('1.1 Sample Court Tab'!H51+'1.2 Sample Court Tab'!H51+'1.3 Sample Court Tab'!H51+'1.4 Sample Court Tab'!H51+'1.5 Sample Court Tab'!H51+'1.6 Sample Court Tab'!H51+'1.7 Sample Court Tab'!H51+'1.8 Sample Court Tab'!H51+'1.9 Sample Court Tab'!H51+'1.10 Sample Court Tab'!H51)","v":0},null,{"$f":"SUM('1.1 Sample Court Tab'!J51+'1.2 Sample Court Tab'!J51+'1.3 Sample Court Tab'!J51+'1.4 Sample Court Tab'!J51+'1.5 Sample Court Tab'!J51+'1.6 Sample Court Tab'!J51+'1.7 Sample Court Tab'!J51+'1.8 Sample Court Tab'!J51+'1.9 Sample Court Tab'!J51+'1.10 Sample Court Tab'!J51)","v":0},null,null,{"$f":"SUM('1.1 Sample Court Tab'!M51+'1.2 Sample Court Tab'!M51+'1.3 Sample Court Tab'!M51+'1.4 Sample Court Tab'!M51+'1.5 Sample Court Tab'!M51+'1.6 Sample Court Tab'!M51+'1.7 Sample Court Tab'!M51+'1.8 Sample Court Tab'!M51+'1.9 Sample Court Tab'!M51+'1.10 Sample Court Tab'!M51)","v":0},null,null,{"$f":"SUM('1.1 Sample Court Tab'!P51+'1.2 Sample Court Tab'!P51+'1.3 Sample Court Tab'!P51+'1.4 Sample Court Tab'!P51+'1.5 Sample Court Tab'!P51+'1.6 Sample Court Tab'!P51+'1.7 Sample Court Tab'!P51+'1.8 Sample Court Tab'!P51+'1.9 Sample Court Tab'!P51+'1.10 Sample Court Tab'!P51)","v":0}]
[null,null,null,null,null,null,null,{"$f":"SUM('1.1 Sample Court Tab'!H52+'1.2 Sample Court Tab'!H52+'1.3 Sample Court Tab'!H52+'1.4 Sample Court Tab'!H52+'1.5 Sample Court Tab'!H52+'1.6 Sample Court Tab'!H52+'1.7 Sample Court Tab'!H52+'1.8 Sample Court Tab'!H52+'1.9 Sample Court Tab'!H52+'1.10 Sample Court Tab'!H52)","v":0},null,{"$f":"SUM('1.1 Sample Court Tab'!J52+'1.2 Sample Court Tab'!J52+'1.3 Sample Court Tab'!J52+'1.4 Sample Court Tab'!J52+'1.5 Sample Court Tab'!J52+'1.6 Sample Court Tab'!J52+'1.7 Sample Court Tab'!J52+'1.8 Sample Court Tab'!J52+'1.9 Sample Court Tab'!J52+'1.10 Sample Court Tab'!J52)","v":0},null,null,{"$f":"SUM('1.1 Sample Court Tab'!M52+'1.2 Sample Court Tab'!M52+'1.3 Sample Court Tab'!M52+'1.4 Sample Court Tab'!M52+'1.5 Sample Court Tab'!M52+'1.6 Sample Court Tab'!M52+'1.7 Sample Court Tab'!M52+'1.8 Sample Court Tab'!M52+'1.9 Sample Court Tab'!M52+'1.10 Sample Court Tab'!M52)","v":0},null,null,{"$f":"SUM('1.1 Sample Court Tab'!P52+'1.2 Sample Court Tab'!P52+'1.3 Sample Court Tab'!P52+'1.4 Sample Court Tab'!P52+'1.5 Sample Court Tab'!P52+'1.6 Sample Court Tab'!P52+'1.7 Sample Court Tab'!P52+'1.8 Sample Court Tab'!P52+'1.9 Sample Court Tab'!P52+'1.10 Sample Court Tab'!P52)","v":0}]
[null,null,null,null,null,null,null,{"$f":"SUM('1.1 Sample Court Tab'!H53+'1.2 Sample Court Tab'!H53+'1.3 Sample Court Tab'!H53+'1.4 Sample Court Tab'!H53+'1.5 Sample Court Tab'!H53+'1.6 Sample Court Tab'!H53+'1.7 Sample Court Tab'!H53+'1.8 Sample Court Tab'!H53+'1.9 Sample Court Tab'!H53+'1.10 Sample Court Tab'!H53)","v":0},null,{"$f":"SUM('1.1 Sample Court Tab'!J53+'1.2 Sample Court Tab'!J53+'1.3 Sample Court Tab'!J53+'1.4 Sample Court Tab'!J53+'1.5 Sample Court Tab'!J53+'1.6 Sample Court Tab'!J53+'1.7 Sample Court Tab'!J53+'1.8 Sample Court Tab'!J53+'1.9 Sample Court Tab'!J53+'1.10 Sample Court Tab'!J53)","v":0},null,null,{"$f":"SUM('1.1 Sample Court Tab'!M53+'1.2 Sample Court Tab'!M53+'1.3 Sample Court Tab'!M53+'1.4 Sample Court Tab'!M53+'1.5 Sample Court Tab'!M53+'1.6 Sample Court Tab'!M53+'1.7 Sample Court Tab'!M53+'1.8 Sample Court Tab'!M53+'1.9 Sample Court Tab'!M53+'1.10 Sample Court Tab'!M53)","v":0},null,null,{"$f":"SUM('1.1 Sample Court Tab'!P53+'1.2 Sample Court Tab'!P53+'1.3 Sample Court Tab'!P53+'1.4 Sample Court Tab'!P53+'1.5 Sample Court Tab'!P53+'1.6 Sample Court Tab'!P53+'1.7 Sample Court Tab'!P53+'1.8 Sample Court Tab'!P53+'1.9 Sample Court Tab'!P53+'1.10 Sample Court Tab'!P53)","v":0}]
[null,null,null,null,null,null,null,{"$f":"SUM('1.1 Sample Court Tab'!H54+'1.2 Sample Court Tab'!H54+'1.3 Sample Court Tab'!H54+'1.4 Sample Court Tab'!H54+'1.5 Sample Court Tab'!H54+'1.6 Sample Court Tab'!H54+'1.7 Sample Court Tab'!H54+'1.8 Sample Court Tab'!H54+'1.9 Sample Court Tab'!H54+'1.10 Sample Court Tab'!H54)","v":0},null,{"$f":"SUM('1.1 Sample Court Tab'!J54+'1.2 Sample Court Tab'!J54+'1.3 Sample Court Tab'!J54+'1.4 Sample Court Tab'!J54+'1.5 Sample Court Tab'!J54+'1.6 Sample Court Tab'!J54+'1.7 Sample Court Tab'!J54+'1.8 Sample Court Tab'!J54+'1.9 Sample Court Tab'!J54+'1.10 Sample Court Tab'!J54)","v":0},null,null,{"$f":"SUM('1.1 Sample Court Tab'!M54+'1.2 Sample Court Tab'!M54+'1.3 Sample Court Tab'!M54+'1.4 Sample Court Tab'!M54+'1.5 Sample Court Tab'!M54+'1.6 Sample Court Tab'!M54+'1.7 Sample Court Tab'!M54+'1.8 Sample Court Tab'!M54+'1.9 Sample Court Tab'!M54+'1.10 Sample Court Tab'!M54)","v":0},null,null,{"$f":"SUM('1.1 Sample Court Tab'!P54+'1.2 Sample Court Tab'!P54+'1.3 Sample Court Tab'!P54+'1.4 Sample Court Tab'!P54+'1.5 Sample Court Tab'!P54+'1.6 Sample Court Tab'!P54+'1.7 Sample Court Tab'!P54+'1.8 Sample Court Tab'!P54+'1.9 Sample Court Tab'!P54+'1.10 Sample Court Tab'!P54)","v":0}]
[]
[null,"C. Of the individuals who received services, how many presented with more than one type of victimization during the reporting period?",null,null,null,null,null,"Reporting Period 1",null,"Reporting Period 2",null,null,"Reporting Period 3",null,null,"Reporting Period 4",null,null,"Reporting Period 5",null,null,"Reporting Period 6",null,null,"Reporting Period 7",null,null,"Reporting Period 8"]
[null,null,null,null,null,null,null,null,null,null,null,null,null,null,null,null,null,null,null,null,null,null,null,null,null,null,null,8]
[]
[]
[null,"D. Special Classification of Individuals (Self-Reported) - ALL individuals"]
[null,"Special Classification Type",null,null,null,null,null,"Number of Individuals",null,null,null,null,null,null,null,null,null,null,null,"Number of Individuals - Year 2"]
[null,null,null,null,null,null,null,"Reporting Period 1",null,"Reporting Period 2",null,null,"Reporting Period 3",null,null,"Reporting Period 4",null,null,"Reporting Period 5",null,null,"Reporting Period 6",null,null,"Reporting Period 7",null,null,"Reporting Period 8"]
[null,"Deaf/Hard of Hearing"]
[null,"Homeless"]
[null,"Immigrants/Refugees/Asylum Seekers"]
[null,"LGBTQ"]
[null,"Veterans"]
[null,"Victims with Disabilities: Cognitive/Physical/Mental (total)",null,null,null,null,null,null,{"$f":"SUM(H262:H266)","v":0},null,null,{"$f":"SUM(J262:K266)","v":0},null,null,{"$f":"SUM(M262:N266)","v":0},null,null,{"$f":"SUM(P262:Q266)","v":0},null,null,{"$f":"SUM(S262:T266)","v":0},null,null,{"$f":"SUM(V262:W266)","v":0},null,null,{"$f":"SUM(Y262:Z266)","v":0},null,null,{"$f":"SUM(AB262:AC266)","v":0}]
[null,"Victims with Disabilities: Cognitive/Physical/Mental (general)"]
[null,"Select from Options"]
[null,"Select from Options"]
[null,"Select from Options"]
[null,"Select from Options"]
[null,"Victims with Limited English Proficiency (total)",null,null,null,null,null,null,{"$f":"SUM(H268:H272)","v":0},null,null,{"$f":"SUM(J268:K272)","v":0},null,null,{"$f":"SUM(M268:N272)","v":0},null,null,{"$f":"SUM(P268:Q272)","v":0},null,null,{"$f":"SUM(S268:T272)","v":0},null,null,{"$f":"SUM(V268:W272)","v":0},null,null,{"$f":"SUM(Y268:Z272)","v":0},null,null,{"$f":"SUM(AB268:AC272)","v":0}]
[null,"Victims with Limited English Proficiency (general)"]
[null,"Select from Options"]
[null,"Select from Options"]
[null,"Select from Options"]
[null,"Select from Options"]
[null,"Other Special Classification Type (please specify below):",null,null,null,null,null,null,{"$f":"SUM(H274:H283)","v":0},null,null,{"$f":"SUM(J274:K283)","v":0},null,null,{"$f":"SUM(M274:N283)","v":0},null,null,{"$f":"SUM(P274:Q283)","v":0},null,null,{"$f":"SUM(S274:T283)","v":0},null,null,{"$f":"SUM(V274:W283)","v":0},null,null,{"$f":"SUM(Y274:Z283)","v":0},null,null,{"$f":"SUM(AB274:AC283)","v":0}]
[]
[]
[]
[]
[]
[]
[]
[]
[]
[]
[]
[null,"SECTION 6: Number of individuals assisted with a victim compensation application during the reporting period: ",null,null,null,null,null,"Reporting Period 1",null,"Reporting Period 2",null,null,"Reporting Period 3",null,null,"Reporting Period 4",null,null,"Reporting Period 5",null,null,"Reporting Period 6",null,null,"Reporting Period 7",null,null,"Reporting Period 8"]
[]
[]
[null,null,null,null,null,null,null,"Period 1 (July 1 - September 30 2022)",null,"Period 2 (October 1 - December 31 2022)",null,null,null,"Period 3 (January 1 - March 31 2023)",null,null,"Period 4 (April 1 - June 30 2023)",null,null,"Period 5 (October – December 2021)",null,null,"Period 6 (January – March 2022)",null,null,"Period 7 (April – June 2022)",null,null,"Period 8 (July – September 2022)"]
[null,"SECTION 7:  Services Received\n1) First select the types of services provided by your organization from the dropdown options using Yes/No under the reporting period in reference (e.g., select Yes or No for A. Information & Referral in Reporting Period 4)\n2) Then enter the total number of individuals who received services within the general types of service categories (labeled with a letter, such as A. Information & Referral) \n3) Then enter the number of times each specific service was provided by your organization during the reporting period within each of the provided categories (e.g., information about the criminal justice process) using the beign/yellow boxes only (note: some boxes automatically total the subcategories and entries from elsewhere in the column)\n"]
[null,null,null,null,null,null,null,"Reporting Period 1",null,"Reporting Period 2",null,null,"Reporting Period 3",null,null,"Reporting Period 4",null,null,"Reporting Period 5",null,null,"Reporting Period 6",null,null,"Reporting Period 7",null,null,"Reporting Period 8"]
[null,"A. Information & Referral ",null,null,null,null,null,"Yes or No?",null,"Yes or No?",null,null,null,"Yes or No?",null,null,"Yes or No?",null,null,"Yes or No?",null,null,"Yes or No?",null,null,"Yes or No?",null,null,"Yes or No?"]
[null,"Number of Individuals",null,null,null,null,null,{"$f":"SUM('1.1 Sample Court Tab'!H59:I59)","v":0}]
[null,"Number of Times/Occurrences",null,null,null,null,null,null,{"$f":"SUM(H294:H309)","v":0},null,null,{"$f":"SUM(J294:K309)","v":0},null,null,{"$f":"SUM(M294:N309)","v":0},null,null,{"$f":"SUM(P294:Q309)","v":0},null,null,{"$f":"SUM(S294:T309)","v":0},null,null,{"$f":"SUM(V294:W309)","v":0},null,null,{"$f":"SUM(Y294:Z309)","v":0},null,null,{"$f":"SUM(AB294:AB309)","v":0}]
[null,"1. Information about the criminal justice process",null,null,null,null,null,{"$f":"SUM('1.1 Sample Court Tab'!H62)","v":0}]
[null,"2. Information on victim rights/how to obtain notifications",null,null,null,null,null,{"$f":"SUM('1.1 Sample Court Tab'!H63)","v":0}]
[null,"3. Referral to other victim service programs",null,null,null,null,null,{"$f":"SUM('1.1 Sample Court Tab'!H64)","v":0}]
[null,"4. Referral to other services/supports/resources",null,null,null,null,null,{"$f":"SUM('1.1 Sample Court Tab'!H65)","v":0}]
[null,"5. SAFEPLAN Phone Calls (general)"]
[null,"a. Information about the criminal justice process"]
[null,"b. Information on victim rights/how to obtain notifications"]
[null,"c. Referral to other victim service programs"]
[null,"d. Referral to other services/supports/resources (includes legal, medical, faith-based organizations, address confidentiality programs, etc.)"]
[null,"e. Other"]
[null,"6. SAFEPLAN Consultation (general)"]
[null,"a. Information about the criminal justice process"]
[null,"b. Information on victim rights/how to obtain notifications"]
[null,"c. Referral to other victim service programs"]
[null,"d. Referral to other services/supports/resources (includes legal, medical, faith-based organizations, address confidentiality programs, etc.)"]
[null,"e. Other"]
[null,"7.  Information & Referral - Referrals Given"]
[null,"DV Program",null,null,null,null,null,"Yes or No?",null,null,"Yes or No?",null,null,"Yes or No?",null,null,"Yes or No?",null,null,"Yes or No?",null,null,"Yes or No?",null,null,"Yes or No?",null,null,"Yes or No?"]
[null,"Number of Individuals"]
[null,"Number of Times/Occurrences"]
[null,"SA Program",null,null,null,null,null,"Yes or No?",null,null,"Yes or No?",null,null,"Yes or No?",null,null,"Yes or No?",null,null,"Yes or No?",null,null,"Yes or No?",null,null,"Yes or No?",null,null,"Yes or No?"]
[null,"Number of Individuals"]
[null,"Number of Times/Occurrences"]
[null,"DA's Office",null,null,null,null,null,"Yes or No?",null,null,"Yes or No?",null,null,"Yes or No?",null,null,"Yes or No?",null,null,"Yes or No?",null,null,"Yes or No?",null,null,"Yes or No?",null,null,"Yes or No?"]
[null,"Number of Individuals"]
[null,"Number of Times/Occurrences"]
[null,"Legal Services",null,null,null,null,null,"Yes or No?",null,null,"Yes or No?",null,null,"Yes or No?",null,null,"Yes or No?",null,null,"Yes or No?",null,null,"Yes or No?",null,null,"Yes or No?",null,null,"Yes or No?"]
[null,"Number of Individuals"]
[null,"Number of Times/Occurrences"]
[]
[null,"Police",null,null,null,null,null,"Yes or No?",null,null,"Yes or No?",null,null,"Yes or No?",null,null,"Yes or No?",null,null,"Yes or No?",null,null,"Yes or No?",null,null,"Yes or No?",null,null,"Yes or No?"]
[null,"Number of Individuals"]
[null,"Number of Times/Occurrences"]
[]
[null,"Other Court Personnel",null,null,null,null,null,"Yes or No?",null,null,"Yes or No?",null,null,"Yes or No?",null,null,"Yes or No?",null,null,"Yes or No?",null,null,"Yes or No?",null,null,"Yes or No?",null,null,"Yes or No?"]
[null,"Number of Individuals"]
[null,"Number of Times/Occurrences"]
[]
[null,"Victim Compensation",null,null,null,null,null,"Yes or No?",null,null,"Yes or No?",null,null,"Yes or No?",null,null,"Yes or No?",null,null,"Yes or No?",null,null,"Yes or No?",null,null,"Yes or No?",null,null,"Yes or No?"]
[null,"Number of Individuals"]
[null,"Number of Times/Occurrences"]
[]
[null,"Medical Referral",null,null,null,null,null,"Yes or No?",null,null,"Yes or No?",null,null,"Yes or No?",null,null,"Yes or No?",null,null,"Yes or No?",null,null,"Yes or No?",null,null,"Yes or No?",null,null,"Yes or No?"]
[null,"Number of Individuals"]
[null,"Number of Times/Occurrences"]
[]
[null,"Other",null,null,null,null,null,"Yes or No?",null,null,"Yes or No?",null,null,"Yes or No?",null,null,"Yes or No?",null,null,"Yes or No?",null,null,"Yes or No?",null,null,"Yes or No?",null,null,"Yes or No?"]
[null,"Number of Individuals"]
[null,"Number of Times/Occurrences"]
[]
[null,"B. Personal Advocacy/Accompaniment",null,null,null,null,null,"Yes or No?",null,null,"Yes or No?",null,null,"Yes or No?",null,null,"Yes or No?",null,null,"Yes or No?",null,null,"Yes or No?",null,null,"Yes or No?",null,null,"Yes or No?"]
[null,"Number of Individuals",null,null,null,null,null,{"$f":"SUM('1.1 Sample Court Tab'!H77:I77)","v":0}]
[null,"Number of Times/Occurrences",null,null,null,null,null,null,{"$f":"SUM(H346:H366)","v":0},null,null,{"$f":"SUM(J346:J366)","v":0},null,null,{"$f":"SUM(M346:M366)","v":0},null,null,{"$f":"SUM(P346:P366)","v":0},null,null,{"$f":"SUM(S346:S366)","v":0},null,null,{"$f":"SUM(V346:V366)","v":0},null,null,{"$f":"SUM(Y346:Y366)","v":0},null,null,{"$f":"SUM(AB346:AB366)","v":0}]
[null,"1. Victim advocacy/accompaniment to emergency medical care",null,null,null,null,null,{"$f":"SUM('1.1 Sample Court Tab'!H80)","v":0}]
[null,"2. Victim advocacy/accompaniment to medical forensic exam",null,null,null,null,null,{"$f":"SUM('1.1 Sample Court Tab'!H81)","v":0}]
[null,"3. Law enforcement interview advocacy/accompaniment",null,null,null,null,null,{"$f":"SUM('1.1 Sample Court Tab'!H82)","v":0}]
[null,"4. Individual advocacy",null,null,null,null,null,{"$f":"SUM('1.1 Sample Court Tab'!H83)","v":0}]
[null,"5. Performance of medical or nonmedical forensic exam or interview, or medical evidence collection",null,null,null,null,null,{"$f":"SUM('1.1 Sample Court Tab'!H84)","v":0}]
[null,"6. Immigration assistance (e.g., special visas, continued presence application, and other immigration relief)",null,null,null,null,null,{"$f":"SUM('1.1 Sample Court Tab'!H85)","v":0}]
[null,"7. Intervention with employer, creditor, landlord, or academic institution",null,null,null,null,null,{"$f":"SUM('1.1 Sample Court Tab'!H86)","v":0}]
[null,"8. Child or dependent care assistance (includes coordination of services)",null,null,null,null,null,{"$f":"SUM('1.1 Sample Court Tab'!H87)","v":0}]
[null,"9. Transportation assistance (includes coordination of services)",null,null,null,null,null,0]
[null,"10. Interpreter services",null,null,null,null,null,{"$f":"SUM('1.1 Sample Court Tab'!H88)","v":0}]
[null,"11. Other Personal Advocacy/Accompaniment - \n      Please explain in Columns AF/AL to the far right for each entry.",null,null,null,null,null,{"$f":"SUM(H358:H366)","v":0},null,{"$f":"SUM(J358:K366)","v":0},null,null,{"$f":"SUM(M358:N366)","v":0},null,null,null,null,null,{"$f":"SUM(S358:T366)","v":0},null,null,{"$f":"SUM(V358:W366)","v":0},null,null,{"$f":"SUM(Y358:Z366)","v":0},null,null,{"$f":"SUM(AB358:AC366)","v":0},null,null,null,"11. If Other Personal Advocacy/Accompaniment provided during the quarter, use the spaces below to provide additional detail:"]
[null,"a. Victim advocacy/accompaniment to emergency medical care",null,null,null,null,null,null,null,null,null,null,null,null,null,null,null,null,null,null,null,null,null,null,null,null,null,null,null,null,"S","a. Victim advocacy/accompaniment to emergency medical care",null,null,null,null,null,"Please explain here if applicable for quarter."]
[null,"b. Victim advocacy/accompaniment to medical forensic exam",null,null,null,null,null,null,null,null,null,null,null,null,null,null,null,null,null,null,null,null,null,null,null,null,null,null,null,null,"S","b. Victim advocacy/accompaniment to medical forensic exam",null,null,null,null,null,"Please explain here if applicable for quarter."]
[null,"c. Law enforcement interview advocacy/accompaniment",null,null,null,null,null,null,null,null,null,null,null,null,null,null,null,null,null,null,null,null,null,null,null,null,null,null,null,null,"S","c. Law enforcement interview advocacy/accompaniment",null,null,null,null,null,"Please explain here if applicable for quarter."]
[null,"d. Individual advocacy",null,null,null,null,null,null,null,null,null,null,null,null,null,null,null,null,null,null,null,null,null,null,null,null,null,null,null,null,"S","d. Individual advocacy",null,null,null,null,null,"Please explain here if applicable for quarter."]
[null,"e. Performance of medical or nonmedical forensic exam or interview, or medical evidence collection",null,null,null,null,null,null,null,null,null,null,null,null,null,null,null,null,null,null,null,null,null,null,null,null,null,null,null,null,"S","e. Performance of medical or nonmedical forensic exam or interview, or medical evidence collection",null,null,null,null,null,"Please explain here if applicable for quarter."]
[null,"f. Immigration assistance (e.g., special visas, continued presence application, and other immigration relief)",null,null,null,null,null,null,null,null,null,null,null,null,null,null,null,null,null,null,null,null,null,null,null,null,null,null,null,null,"S","f. Immigration assistance (e.g., special visas, continued presence application, and other immigration relief)",null,null,null,null,null,"Please explain here if applicable for quarter."]
[null,"g. Intervention with employer, creditor, landlord, or academic institution",null,null,null,null,null,null,null,null,null,null,null,null,null,null,null,null,null,null,null,null,null,null,null,null,null,null,null,null,"S","g. Intervention with employer, creditor, landlord, or academic institution",null,null,null,null,null,"Please explain here if applicable for quarter."]
[null,"h. Child or dependent care assistance (includes coordination of services)",null,null,null,null,null,null,null,null,null,null,null,null,null,null,null,null,null,null,null,null,null,null,null,null,null,null,null,null,"S","h. Child or dependent care assistance (includes coordination of services)",null,null,null,null,null,"Please explain here if applicable for quarter."]
[null,"i. Interpreter services",null,null,null,null,null,null,null,null,null,null,null,null,null,null,null,null,null,null,null,null,null,null,null,null,null,null,null,null,"S","i. Interpreter services",null,null,null,null,null,"Please explain here if applicable for quarter."]
[]
[null,"C. Emotional Support or Safety Services",null,null,null,null,null,"Yes or No?",null,null,"Yes or No?",null,null,"Yes or No?",null,null,"Yes or No?",null,null,"Yes or No?",null,null,"Yes or No?",null,null,"Yes or No?",null,null,"Yes or No?"]
[null,"Number of Individuals",null,null,null,null,null,{"$f":"SUM('1.1 Sample Court Tab'!H90:I90)","v":0}]
[null,"Number of Times/Occurrences",null,null,null,null,null,null,{"$f":"SUM(H371:H385)","v":0},null,null,{"$f":"SUM(J371:K385)","v":0},null,null,{"$f":"SUM(M371:N385)","v":0},null,null,{"$f":"SUM(P371:Q385)","v":0},null,null,{"$f":"SUM(S371:S385)","v":0},null,null,{"$f":"SUM(V371:V385)","v":0},null,null,{"$f":"SUM(Y371:Y385)","v":0},null,null,{"$f":"SUM(AB371:AB385)","v":0}]
[null,"1. Crisis intervention (in-person, includes safety planning, etc.)",null,null,null,null,null,{"$f":"SUM('1.1 Sample Court Tab'!H93)","v":0}]
[null,"a. Safety Planning: Crisis intervention (in-person, includes safety planning, etc.)",null,null,null,null,null,{"$f":"SUM('1.1 Sample Court Tab'!H94)","v":0}]
[null,"2. Hotline/crisis line counseling",null,null,null,null,null,{"$f":"SUM('1.1 Sample Court Tab'!H95)","v":0}]
[null,"3. On-scene crisis response (e.g., community crisis response)",null,null,null,null,null,{"$f":"SUM('1.1 Sample Court Tab'!H96)","v":0}]
[null,"4. Individual counseling",null,null,null,null,null,{"$f":"SUM('1.1 Sample Court Tab'!H97)","v":0}]
[null,"5. Support groups (facilitated or peer)",null,null,null,null,null,{"$f":"SUM('1.1 Sample Court Tab'!H98)","v":0}]
[null,"6. Other therapy (traditional, cultural, or alternative healing; art, writing, or play therapy, etc.)",null,null,null,null,null,{"$f":"SUM('1.1 Sample Court Tab'!H99)","v":0}]
[null,"7. Emergency financial assistance",null,null,null,null,null,{"$f":"SUM('1.1 Sample Court Tab'!H100)","v":0}]
[null,"8. SAFEPLAN Other Emotional Support or Safety Services (If other, please explain in Columns AF/AL to the right for each entry)",null,null,null,null,null,null,null,null,null,null,null,null,null,null,null,null,null,null,null,null,null,null,null,null,null,null,null,null,null,"8. If Other Emotional Support or Safety Services provided during the quarter, use the spaces below to provide additional detail:"]
[null,"a. Hotline/crisis line counseling",null,null,null,null,null,null,null,null,null,null,null,null,null,null,null,null,null,null,null,null,null,null,null,null,null,null,null,null,"S","a. Hotline/crisis line counseling",null,null,null,null,null,"Please explain here if applicable for quarter."]
[null,"b. On-scene crisis response (e.g., community crisis response)",null,null,null,null,null,null,null,null,null,null,null,null,null,null,null,null,null,null,null,null,null,null,null,null,null,null,null,null,"S","b. On-scene crisis response (e.g., community crisis response)",null,null,null,null,null,"Please explain here if applicable for quarter."]
[null,"c. Individual counseling",null,null,null,null,null,null,null,null,null,null,null,null,null,null,null,null,null,null,null,null,null,null,null,null,null,null,null,null,"S","c. Individual counseling",null,null,null,null,null,"Please explain here if applicable for quarter."]
[null,"d. Support groups (facilitated or peer)",null,null,null,null,null,null,null,null,null,null,null,null,null,null,null,null,null,null,null,null,null,null,null,null,null,null,null,null,"S","d. Support groups (facilitated or peer)",null,null,null,null,null,"Please explain here if applicable for quarter."]
[null,"e. Other therapy (traditional, cultural, or alternative healing; art, writing, or play therapy, etc.)",null,null,null,null,null,null,null,null,null,null,null,null,null,null,null,null,null,null,null,null,null,null,null,null,null,null,null,null,"S","e. Other therapy (traditional, cultural, or alternative healing; art, writing, or play therapy, etc.)",null,null,null,null,null,"Please explain here if applicable for quarter."]
[null,"f. Emergency financial assistance",null,null,null,null,null,null,null,null,null,null,null,null,null,null,null,null,null,null,null,null,null,null,null,null,null,null,null,null,"S","f. Emergency financial assistance (includes emergency loans and petty cash, payment for items such as food and/or clothing, changing windows and/or locks, taxis, prophylactic and nonprophylactic medications, durable medical equipment, etc.)",null,null,null,null,null,"Please explain here if applicable for quarter."]
[]
[null,"D. Shelter/Housing Services",null,null,null,null,null,"Yes or No?",null,null,"Yes or No?",null,null,"Yes or No?",null,null,"Yes or No?",null,null,"Yes or No?",null,null,"Yes or No?",null,null,"Yes or No?",null,null,"Yes"]
[null,"Number of Individuals",null,null,null,null,null,{"$f":"SUM('1.1 Sample Court Tab'!H101:I101)","v":0}]
[null,"Number of Times/Occurrences",null,null,null,null,null,null,{"$f":"SUM(H390:H396)","v":0},null,null,{"$f":"SUM(J390:J396)","v":0},null,null,{"$f":"SUM(M390:M396)","v":0},null,null,{"$f":"SUM(P390:P396)","v":0},null,null,{"$f":"SUM(S390:S396)","v":0},null,null,{"$f":"SUM(V390:V396)","v":0},null,null,{"$f":"SUM(Y390:Y396)","v":0},null,null,{"$f":"SUM(AB390:AB396)","v":0}]
[null,"1. Emergency shelter or safe house",null,null,null,null,null,{"$f":"SUM('1.1 Sample Court Tab'!H104)","v":0}]
[null,"2. Transitional housing",null,null,null,null,null,{"$f":"SUM('1.1 Sample Court Tab'!H105)","v":0}]
[null,"3. Relocation assistance (includes assistance with obtaining housing)",null,null,null,null,null,{"$f":"SUM('1.1 Sample Court Tab'!H106)","v":0}]
[null,"4. SAFEPLAN Other Shelter/Housing Services (If other, please explain in Columns AF/AL to the right for each entry)",null,null,null,null,null,null,null,null,null,null,null,null,null,null,null,null,null,null,null,null,null,null,null,null,null,null,null,null,null,"4. If SAFEPLAN Other Shelter/Housing Services provided during the quarter, use the spaces below to provide additional detail:"]
[null,"a. Emergency shelter or safe house",null,null,null,null,null,null,null,null,null,null,null,null,null,null,null,null,null,null,null,null,null,null,null,null,null,null,null,null,"S","a. Emergency shelter or safe house",null,null,null,null,null,"Please explain here if applicable for quarter."]
[null,"b. Transitional housing",null,null,null,null,null,null,null,null,null,null,null,null,null,null,null,null,null,null,null,null,null,null,null,null,null,null,null,null,"S","b. Transitional housing",null,null,null,null,null,"Please explain here if applicable for quarter."]
[null,"c. Relocation assistance (includes assistance with obtaining housing)",null,null,null,null,null,null,null,null,null,null,null,null,null,null,null,null,null,null,null,null,null,null,null,null,null,null,null,null,"S","c. Relocation assistance (includes assistance with obtaining housing)",null,null,null,null,null,"Please explain here if applicable for quarter."]
[]
[null,"E. Criminal/Civil Justice System Assistance",null,null,null,null,null,"Yes or No?",null,null,"Yes or No?",null,null,"Yes or No?",null,null,"Yes or No?",null,null,"Yes or No?",null,null,"Yes or No?",null,null,"Yes or No?",null,null,"Yes or No?"]
[null,"Number of Individuals"]
[null,"Number of Times/Occurrences",null,null,null,null,null,null,{"$f":"SUM(H401:H440)","v":0},null,null,{"$f":"SUM(J401:J440)","v":0},null,null,{"$f":"SUM(M401:M440)","v":0},null,null,{"$f":"SUM(P401:P440)","v":0},null,null,{"$f":"SUM(S401:S440)","v":0},null,null,{"$f":"SUM(V401:V440)","v":0},null,null,{"$f":"SUM(Y401:Y440)","v":0},null,null,{"$f":"SUM(AB401:AB440)","v":0}]
[null,"1. Notification of criminal justice events (e.g., case status, arrest, court proceedings, case disposition, release, etc.)"]
[null,"2. Victim impact statement assistance"]
[null,"3. Assistance with restitution (includes assistance in requesting and when collection efforts are not successful)"]
[null,"4. Civil legal assistance in obtaining protection or restraining order"]
[null,"a. 209A Advocacy"]
[null,"b. 258E Advocacy"]
[null,"c. Motion to Terminate Granted (Plaintiff)"]
[null,"d. Motion to Terminate Denied (Plaintiff)"]
[null,"e. Temporary Harassment Order - Requested"]
[null,"f. Temporary Harassment Order - Scheduled for Hearing after Notice"]
[null,"g. Temporary Harassment Order - Granted"]
[null,"h. Temporary Harassment Order - Denied"]
[null,"i. Final Harassment Order - Requested"]
[null,"j. Final Harassment Order - Granted"]
[null,"k. Final Harassment Order - Denied"]
[null,"l. Temporary Restraining Order - Requested"]
[null,"m. Temporary Restraining Order - Granted"]
[null,"n. Temporary Restraining Order - Denied"]
[null,"o. Final Restraining Order - Requested"]
[null,"p. Final Restraining Order - Granted"]
[null,"q. Final Restraining Order - Denied"]
[null,"r. SAFEPLAN Phone Calls: Civil legal assistance in obtaining protection or restraining order"]
[null,"5. Civil legal assistance with family law issues (e.g., custody, visitation, or support)"]
[null,"6. Other emergency justice‐related assistance"]
[null,"a. 209A Advocacy"]
[null,"b. 258E Advocacy"]
[null,"c. SAFEPLAN Phone Calls: Other emergency justice‐related assistance"]
[null,"d. SAFEPLAN Consultation: Other emergency justice‐related assistance"]
[null,"7. Immigration assistance (e.g., special visas, continued presence application, and other immigration relief)"]
[null,"8. Prosecution interview advocacy/accompaniment"]
[null,"9. Law enforcement interview advocacy/accompaniment"]
[null,"10. Criminal advocacy/accompaniment"]
[null,"11. Other legal advice and/or counsel"]
[null,"12. SAFEPLAN Other Criminal/Civil Justice System Assistance (If other, please explain in Columns AF/AL to the right for each entry)",null,null,null,null,null,null,null,null,null,null,null,null,null,null,null,null,null,null,null,null,null,null,null,null,null,null,null,null,"S","12. If SAFEPLAN Other Criminal/Civil Justice System Assistance provided during the quarter, use the spaces below to provide additional detail:"]
[null,"a. Assistance with restitution (includes assistance in requesting and when collection efforts are not successful)",null,null,null,null,null,null,null,null,null,null,null,null,null,null,null,null,null,null,null,null,null,null,null,null,null,null,null,null,"S","b. Assistance with restitution (includes assistance in requesting and when collection efforts are not successful)",null,null,null,null,null,"Please explain here if applicable for quarter."]
[null,"b. Immigration assistance (e.g., special visas, continued presence application, and other immigration relief)",null,null,null,null,null,null,null,null,null,null,null,null,null,null,null,null,null,null,null,null,null,null,null,null,null,null,null,null,"S","c. Immigration assistance (e.g., special visas, continued presence application, and other immigration relief)",null,null,null,null,null,"Please explain here if applicable for quarter."]
[null,"c. Prosecution interview advocacy/accompaniment (includes accompaniment with prosecuting attorney and with victim/witness)",null,null,null,null,null,null,null,null,null,null,null,null,null,null,null,null,null,null,null,null,null,null,null,null,null,null,null,null,"S","d. Prosecution interview advocacy/accompaniment (includes accompaniment with prosecuting attorney and with victim/witness)",null,null,null,null,null,"Please explain here if applicable for quarter."]
[null,"d. Law enforcement interview advocacy/accompaniment",null,null,null,null,null,null,null,null,null,null,null,null,null,null,null,null,null,null,null,null,null,null,null,null,null,null,null,null,"S","e. Law enforcement interview advocacy/accompaniment",null,null,null,null,null,"Please explain here if applicable for quarter."]
[null,"e. Criminal advocacy/accompaniment",null,null,null,null,null,null,null,null,null,null,null,null,null,null,null,null,null,null,null,null,null,null,null,null,null,null,null,null,"S","f. Criminal advocacy/accompaniment",null,null,null,null,null,"Please explain here if applicable for quarter."]
[null,"f. Other legal advice and/or counsel",null,null,null,null,null,null,null,null,null,null,null,null,null,null,null,null,null,null,null,null,null,null,null,null,null,null,null,null,"S","g. Other legal advice and/or counsel",null,null,null,null,null,"Please explain here if applicable for quarter."]
[]
[null,"Additional Comments: "]
[]
[]
[]
[]
[null,"SECTION 7: Annual Reponses are due with October 31 submission"]
[]
[null,"8. Number of requests for services that were unmet because of organizational capacity issues: ",null,null,null,null,null,"Reporting Period 1",null,"Reporting Period 2",null,null,"Reporting Period 3",null,null,"Reporting Period 4",null,null,"Reporting Period 5",null,null,"Reporting Period 6",null,null,"Reporting Period 7",null,null,"Reporting Period 8"]
[]
[]
[null,"Please Explain. "]
[]
[]
[]
[]
[]
[null,"9. Does your organization formally survey clients for feedback on services received? ",null,null,null,null,null,null,null,null,null,"Select one."]
[]
[null,"10. Number of surveys distributed to clients (included, but not limited to, those distributed by hand, mail or electronic methods):",null,null,null,null,null,"Reporting Period 1",null,"Reporting Period 2",null,null,"Reporting Period 3",null,null,"Reporting Period 4",null,null,"Reporting Period 5",null,null,"Reporting Period 6",null,null,"Reporting Period 7",null,null,"Reporting Period 8"]
[]
[]
[]
[null,"11. Number of surveys completed by clients: ",null,null,null,null,null,"Reporting Period 1",null,"Reporting Period 2",null,null,"Reporting Period 3",null,null,"Reporting Period 4",null,null,"Reporting Period 5",null,null,"Reporting Period 6",null,null,"Reporting Period 7",null,null,"Reporting Period 8"]
[]
[]
[]
[null,"12. Does your organization formally survey staff for feedback on trainings received? ",null,null,null,null,null,null,null,null,null,"Select one."]
[]
[null,"13. Number of surveys distributed to staff (included, but not limited to, those distributed by hand, mail or electronic methods):",null,null,null,null,null,"Reporting Period 1",null,"Reporting Period 2",null,null,"Reporting Period 3",null,null,"Reporting Period 4",null,null,"Reporting Period 5",null,null,"Reporting Period 6",null,null,"Reporting Period 7",null,null,"Reporting Period 8"]
[]
[]
[]
[null,"14. Number of surveys completed by staff: ",null,null,null,null,null,"Reporting Period 1",null,"Reporting Period 2",null,null,"Reporting Period 3",null,null,"Reporting Period 4",null,null,"Reporting Period 5",null,null,"Reporting Period 6",null,null,"Reporting Period 7",null,null,"Reporting Period 8"]
[]
[]
[]
[]
[null,"15. Please discuss some of the challenges your victim assistance program faced during the course of the federal fiscal year: "]
[]
[null,"Annual Reponses are due with October 31 submission"]
[null,"Insert response here. "]
[]
[]
[]
[]
[]
[]
[]
[]
[]
[]
[]
[]
[]
[null,"16. Please describe some of the services that victims needed but could not be provided. What were the challenges that prevented those services from being provided: "]
[]
[null,"Annual Reponses are due with October 31 submission"]
[null,"Insert response here. "]
[]
[]
[]
[]
[]
[]
[]
[]
[]
[]
[]
[]
[]
[null,"OPTIONAL. Please share a success story or client spotlight in the space below. Do not include any identifying or confidential information. "]
[]
[null,"Annual Reponses are due with October 31 submission"]
[null,"Insert response here. "]

{"sheet":"2. Goals","index":16,"n_rows":328,"n_cols":30,"rows_kept":328,"cut":false,"hidden":false,"merged":[[7,29,21,36],[15,1,15,2],[15,3,15,4],[7,3,7,4],[6,3,6,4],[7,9,7,11],[6,9,6,11],[7,22,7,23],[14,1,14,2],[6,5,6,6],[5,22,6,23],[15,8,15,9],[15,10,15,11],[15,12,15,13],[177,1,177,2],[177,3,177,4],[1,11,1,22],[176,1,176,2],[176,21,176,22],[27,8,27,9],[28,8,28,9],[29,8,29,9],[30,8,30,9],[31,8,31,9],[27,10,27,11],[28,10,28,11],[29,10,29,11],[30,10,30,11],[31,10,31,11],[27,12,27,13],[28,12,28,13],[29,12,29,13],[30,12,30,13],[31,12,31,13],[32,12,32,13],[37,8,37,9],[34,12,34,13],[35,12,35,13],[36,12,36,13],[37,12,37,13],[37,10,37,11],[32,8,32,9],[32,10,32,11],[34,10,34,11],[35,10,35,11],[36,10,36,11],[34,8,34,9],[35,8,35,9],[36,8,36,9],[38,10,38,11],[38,12,38,13],[39,12,39,13],[42,8,42,9],[42,10,42,11],[42,12,42,13],[38,8,38,9],[39,8,39,9],[39,10,39,11],[43,8,43,9],[43,10,43,11],[43,12,43,13],[44,8,44,9],[44,10,44,11],[44,12,44,13],[45,8,45,9],[45,10,45,11],[45,12,45,13],[46,12,46,13],[46,10,46,11],[46,8,46,9],[47,8,47,9],[47,10,47,11],[47,12,47,13],[49,8,49,9],[50,8,50,9],[49,12,49,13],[50,12,50,13],[49,10,49,11],[50,10,50,11],[54,12,54,13],[51,8,51,9],[52,8,52,9],[53,8,53,9],[54,8,54,9],[54,10,54,11],[51,10,51,11],[52,10,52,11],[53,10,53,11],[51,12,51,13],[52,12,52,13],[53,12,53,13]]}
[]
[null,null,null,null,null,null,null,null,null,null,null,"Outcome Measurement Tool (OMT)\nMA - Victim Witness Assistance Board\n\nNeed Support? Contact MOVAstats@mass.gov.\n"]
[null,null," ESTABLISHING GOALS, STRATEGIC AREAS, AND OUTPUT MEASURES"]
[]
[null,"Subgrantee Organization"]
[null,null,"Organization Name",null,null,null,null,null,null,null,null,null,null,null,null,null,null,null,null,null,null,null,{"$f":"'1. Overall Demographics'!D8","v":"Period 1 (July 1 - September 30 2023)"}]
[null,"User Contact Information"," ",null,null,null,null,null,null,null,null,null,null,null,null,null,null,null,null,null,null,null,null,null,null,null,null,null,null,"NOTES:"]
[null,null,"User Name (First Name and Last Name)","Email Address",null,null,"Phone",null,null,"New User?",null,null,null,null,null,null,null,null,null,null,null,null,"Reporting Period"]
[]
[null,"Organization Category:"]
[null,"Agency Type:",null,"*Note this field requires a response to the Organization Category first."]
[]
[]
[null,"SECTION 15: Goals \nDuring the first reporting period, complete the chart below to outline at least 2-3 strategic areas of focus within your award and the associated goals for each areas. It is recommended to have 1-2 goals per strategic area with measurable milestones to track throughout your award. Please consult your logic model when constructing your goals for the award. Once these are entered, each reporting period will be for updates only and entering the values for each period to track your progress. This report is an outline of what you hope to achieve through your grant funding."]
[null,"During the contracting period, set measurable milestones to track throughout your award. Please consult your logic model when constructing your milestones for the award. Once these are entered, each reporting period will be for updates only and entering the values for each period to track your progress. This report is an outline of what you hope to achieve through your grant funding."]
[null,"After reviewing the SAFEPLAN Goals and Outputs set for you by MOVA:\n\n- Enter your predicted Milestones for each measure to show what you plan to achieve by the end of your award.\n- During each reporting period, enter the values (numeric) for each established measure in the Outcome Measurement Tool.",null,"OUTPUT TYPE\nThe Outputs set are Service Types, Volume of Services, and Collaboration & Referrals. Each row will measure either 209As or 258Es. The values entered at the end of the reporting period should be combined data for all courts.",null,"REPORTING TIMELINE\nAll measurements will be captured quarterly.","MILESTONE","Period 1","Period 2",null,"Period 3",null,"Period 4",null,null,"Period 5",null,"Period 6",null,"Period 7",null,"Period 8","Progress Toward Goal \n(auto-calculated)"]
[null,"Sample Strategic Area:"," "]
[null,"Sample: What is your Goal?","To reduce trauma symptoms of victims of crimes who are engaged in mental health services"]
[null,"Output Measure #1","Number of support groups (facilitated or peer) instances","Service types",null,"Quarterly",40,2,null,5,null,3,null,0,null,4,null,6,null,1,null,2,{"$f":"(SUM(H19:V19))/G19","v":0.57499999999999996}]
[null,"Output Measure #2","Number of individuals served through individual counseling instances","Volume of services",null,"Quarterly",100,10,null,22,null,12,null,6,null,5,null,20,null,15,null,8,{"$f":"(SUM(H20:V20))/G20","v":0.98}]
[null,"Output Measure #3","Number of support groups (facilitated or peer) instances","Sub-population",null,"Quarterly",100,10,null,22,null,12,null,6,null,5,null,20,null,15,null,8,{"$f":"(SUM(H21:V21))/G21","v":0.98}]
[null,"Output Measure #4","Number of victims that engaged in a screening or intake process during the reporting quarter","Volume of services",null,"Annually",40,2,null,5,null,3,null,0,null,4,null,6,null,1,null,2,{"$f":"(SUM(H22:V22))/G22","v":0.57499999999999996}]
[null,"Output Measure #5","Number of victims that were screened and referred to another mental health provider during the reporting quarter","Collaboration and referrals",null,"Quarterly",30,1,null,2,null,3,null,2,null,2,null,4,null,2,null,2,{"$f":"(SUM(H23:V23))/G23","v":0.6}]
[]
[]
[null,"Strategic Area #1:","Legal Services and Legal Advocacy",null,null,null,null,"Period 1 (July 1 – September 30 2022)"]
[null,"What is your Goal?","To support the client/victim’s through accompaniment and legal advocacy",null,null,null,null,"Period 1 (July 1 - September 30 2022)","Period 2 (October 1 - December 31 2022)",null,"Period 3 (January 1 - March 31 2023)",null,"Period 4 (April 1 - June 30 2023)",null,null,"Period 5 (October – December 2021)",null,"Period 6 (January – March 2022)",null,"Period 7 (April – June 2022)",null,"Period 8 (July – September 2022)"]
[null,"Output Measure #1","Number of civil advocacy/accompaniments","Service types","209As","Quarterly",null,null,null,null,null,null,null,null,null,null,null,null,null,null,null,null,{"$f":"(SUM(H28:V28))/G28","v":{"$error":"#DIV/0!"}}]
[null,"Output Measure #2","Number of individuals served through civil advocacy/accompaniment","Volume of services","209As","Quarterly",null,null,null,null,null,null,null,null,null,null,null,null,null,null,null,null,{"$f":"(SUM(H29:V29))/G29","v":{"$error":"#DIV/0!"}}]
[null,"Output Measure #3"]
[null,"Output Measure #4"]
[null,"Output Measure #5"]
[null,"Output Measure #6"]
[null,"What is another Goal?","To support the client/victim’s through accompaniment and legal advocacy"]
[null,"Output Measure #1","Number of civil advocacy/accompaniments","Service types","258Es","Quarterly",null,null,null,null,null,null,null,null,null,null,null,null,null,null,null,null,{"$f":"(SUM(H35:V35))/G35","v":{"$error":"#DIV/0!"}}]
[null,"Output Measure #2","Number of individuals served through civil advocacy/accompaniment","Volume of services","258Es","Quarterly",null,null,null,null,null,null,null,null,null,null,null,null,null,null,null,null,{"$error":"#DIV/0!"}]
[null,"Output Measure #3"]
[null,"Output Measure #4"]
[null,"Output Measure #5"]
[null,"Output Measure #6"]
[null,"Strategic Area #2:","Crisis Intervention and Hotline"]
[null,"What is your Goal?","To provide information and referrals to services to support meeting basic needs and health from victimization"]
[null,"Output Measure #1","Number of referrals to other services, supports, or resources","Collaboration and referrals","258Es","Quarterly",null,null,null,null,null,null,null,null,null,null,null,null,null,null,null,null,{"$f":"(SUM(H43:V43))/G43","v":{"$error":"#DIV/0!"}}]
[null,"Output Measure #2","Number of individuals who received referrals to other services, supports, or resources","Volume of services","258Es","Quarterly",null,null,null,null,null,null,null,null,null,null,null,null,null,null,null,null,{"$error":"#DIV/0!"}]
[null,"Output Measure #3","Number of referrals to other services, supports, or resources","Collaboration and referrals","209As","Quarterly",null,null,null,null,null,null,null,null,null,null,null,null,null,null,null,null,{"$error":"#DIV/0!"}]
[null,"Output Measure #4","Number of individuals who received referrals to other services, supports, or resources","Volume of services","209As","Quarterly",null,null,null,null,null,null,null,null,null,null,null,null,null,null,null,null,{"$f":"(SUM(H46:V46))/G46","v":{"$error":"#DIV/0!"}}]
[null,"Output Measure #5"]
[null,"Output Measure #6"]
[null,"What is another Goal?","To enhance the safety of the client/victim"]
[null,"Output Measure #1","Number of instances of safety planning","Service types","258E","Quarterly",null,null,null,null,null,null,null,null,null,null,null,null,null,null,null,null,{"$f":"(SUM(H50:V50))/G50","v":{"$error":"#DIV/0!"}}]
[null,"Output Measure #2","Number of individuals who received safety planning","Volume of services","258E","Quarterly",null,null,null,null,null,null,null,null,null,null,null,null,null,null,null,null,{"$error":"#DIV/0!"}]
[null,"Output Measure #3","Number of instances of safety planning","Service types","209As","Quarterly",null,null,null,null,null,null,null,null,null,null,null,null,null,null,null,null,{"$error":"#DIV/0!"}]
[null,"Output Measure #4","Number of individuals who received safety planning","Volume of services","209As","Quarterly",null,null,null,null,null,null,null,null,null,null,null,null,null,null,null,null,{"$error":"#DIV/0!"}]
[null,"Output Measure #5"]
[null,"Output Measure #6"]
[null,"Strategic Area #3:","Select Strategic Area"]
[null,"What is your Goal?"]
[null,"Output Measure #1",null,null,null,null,null,null,null,null,null,null,null,null,null,null,null,null,null,null,null,null,{"$f":"(SUM(H58:V58))/G58","v":{"$error":"#DIV/0!"}}]
[null,"Output Measure #2",null,null,null,null,null,null,null,null,null,null,null,null,null,null,null,null,null,null,null,null,{"$error":"#DIV/0!"}]
[null,"Output Measure #3",null,null,null,null,null,null,null,null,null,null,null,null,null,null,null,null,null,null,null,null,{"$error":"#DIV/0!"}]
[null,"Output Measure #4",null,null,null,null,null,null,null,null,null,null,null,null,null,null,null,null,null,null,null,null,{"$error":"#DIV/0!"}]
[null,"Output Measure #5",null,null,null,null,null,null,null,null,null,null,null,null,null,null,null,null,null,null,null,null,{"$error":"#DIV/0!"}]
[null,"Output Measure #6",null,null,null,null,null,null,null,null,null,null,null,null,null,null,null,null,null,null,null,null,{"$error":"#DIV/0!"}]
[null,"What is another Goal?"]
[null,"Output Measure #1",null,null,null,null,null,null,null,null,null,null,null,null,null,null,null,null,null,null,null,null,{"$f":"(SUM(H65:V65))/G65","v":{"$error":"#DIV/0!"}}]
[null,"Output Measure #2",null,null,null,null,null,null,null,null,null,null,null,null,null,null,null,null,null,null,null,null,{"$error":"#DIV/0!"}]
[null,"Output Measure #3",null,null,null,null,null,null,null,null,null,null,null,null,null,null,null,null,null,null,null,null,{"$error":"#DIV/0!"}]
[null,"Output Measure #4",null,null,null,null,null,null,null,null,null,null,null,null,null,null,null,null,null,null,null,null,{"$error":"#DIV/0!"}]
[null,"Output Measure #5",null,null,null,null,null,null,null,null,null,null,null,null,null,null,null,null,null,null,null,null,{"$error":"#DIV/0!"}]
[null,"Output Measure #6",null,null,null,null,null,null,null,null,null,null,null,null,null,null,null,null,null,null,null,null,{"$error":"#DIV/0!"}]
[null,"Strategic Area #4:","Select Strategic Area"]
[null,"What is your Goal?"]
[null,"Output Measure #1",null,null,null,null,null,null,null,null,null,null,null,null,null,null,null,null,null,null,null,null,{"$f":"(SUM(H73:V73))/G73","v":{"$error":"#DIV/0!"}}]
[null,"Output Measure #2",null,null,null,null,null,null,null,null,null,null,null,null,null,null,null,null,null,null,null,null,{"$error":"#DIV/0!"}]
[null,"Output Measure #3",null,null,null,null,null,null,null,null,null,null,null,null,null,null,null,null,null,null,null,null,{"$error":"#DIV/0!"}]
[null,"Output Measure #4",null,null,null,null,null,null,null,null,null,null,null,null,null,null,null,null,null,null,null,null,{"$error":"#DIV/0!"}]
[null,"Output Measure #5",null,null,null,null,null,null,null,null,null,null,null,null,null,null,null,null,null,null,null,null,{"$error":"#DIV/0!"}]
[null,"Output Measure #6",null,null,null,null,null,null,null,null,null,null,null,null,null,null,null,null,null,null,null,null,{"$error":"#DIV/0!"}]
[null,"What is another Goal?"]
[null,"Output Measure #1",null,null,null,null,null,null,null,null,null,null,null,null,null,null,null,null,null,null,null,null,{"$f":"(SUM(H80:V80))/G80","v":{"$error":"#DIV/0!"}}]
[null,"Output Measure #2",null,null,null,null,null,null,null,null,null,null,null,null,null,null,null,null,null,null,null,null,{"$error":"#DIV/0!"}]
[null,"Output Measure #3",null,null,null,null,null,null,null,null,null,null,null,null,null,null,null,null,null,null,null,null,{"$error":"#DIV/0!"}]
[null,"Output Measure #4",null,null,null,null,null,null,null,null,null,null,null,null,null,null,null,null,null,null,null,null,{"$error":"#DIV/0!"}]
[null,"Output Measure #5",null,null,null,null,null,null,null,null,null,null,null,null,null,null,null,null,null,null,null,null,{"$error":"#DIV/0!"}]
[null,"Output Measure #6",null,null,null,null,null,null,null,null,null,null,null,null,null,null,null,null,null,null,null,null,{"$error":"#DIV/0!"}]
[null,"Strategic Area #5:","Select Strategic Area"]
[null,"What is your Goal?"]
[null,"Output Measure #1",null,null,null,null,null,null,null,null,null,null,null,null,null,null,null,null,null,null,null,null,{"$f":"(SUM(H88:V88))/G88","v":{"$error":"#DIV/0!"}}]
[null,"Output Measure #2",null,null,null,null,null,null,null,null,null,null,null,null,null,null,null,null,null,null,null,null,{"$error":"#DIV/0!"}]
[null,"Output Measure #3",null,null,null,null,null,null,null,null,null,null,null,null,null,null,null,null,null,null,null,null,{"$error":"#DIV/0!"}]
[null,"Output Measure #4",null,null,null,null,null,null,null,null,null,null,null,null,null,null,null,null,null,null,null,null,{"$error":"#DIV/0!"}]
[null,"Output Measure #5",null,null,null,null,null,null,null,null,null,null,null,null,null,null,null,null,null,null,null,null,{"$error":"#DIV/0!"}]
[null,"Output Measure #6",null,null,null,null,null,null,null,null,null,null,null,null,null,null,null,null,null,null,null,null,{"$error":"#DIV/0!"}]
[null,"What is another Goal?"]
[null,"Output Measure #1",null,null,null,null,null,null,null,null,null,null,null,null,null,null,null,null,null,null,null,null,{"$f":"(SUM(H95:V95))/G95","v":{"$error":"#DIV/0!"}}]
[null,"Output Measure #2",null,null,null,null,null,null,null,null,null,null,null,null,null,null,null,null,null,null,null,null,{"$error":"#DIV/0!"}]
[null,"Output Measure #3",null,null,null,null,null,null,null,null,null,null,null,null,null,null,null,null,null,null,null,null,{"$error":"#DIV/0!"}]
[null,"Output Measure #4",null,null,null,null,null,null,null,null,null,null,null,null,null,null,null,null,null,null,null,null,{"$error":"#DIV/0!"}]
[null,"Output Measure #5",null,null,null,null,null,null,null,null,null,null,null,null,null,null,null,null,null,null,null,null,{"$error":"#DIV/0!"}]
[null,"Output Measure #6",null,null,null,null,null,null,null,null,null,null,null,null,null,null,null,null,null,null,null,null,{"$error":"#DIV/0!"}]
[null,"Strategic Area #6:","Select Strategic Area"]
[null,"What is your Goal?"]
[null,"Output Measure #1",null,null,null,null,null,null,null,null,null,null,null,null,null,null,null,null,null,null,null,null,{"$f":"(SUM(H103:V103))/G103","v":{"$error":"#DIV/0!"}}]
[null,"Output Measure #2",null,null,null,null,null,null,null,null,null,null,null,null,null,null,null,null,null,null,null,null,{"$error":"#DIV/0!"}]
[null,"Output Measure #3",null,null,null,null,null,null,null,null,null,null,null,null,null,null,null,null,null,null,null,null,{"$error":"#DIV/0!"}]
[null,"Output Measure #4",null,null,null,null,null,null,null,null,null,null,null,null,null,null,null,null,null,null,null,null,{"$error":"#DIV/0!"}]
[null,"Output Measure #5",null,null,null,null,null,null,null,null,null,null,null,null,null,null,null,null,null,null,null,null,{"$error":"#DIV/0!"}]
[null,"Output Measure #6",null,null,null,null,null,null,null,null,null,null,null,null,null,null,null,null,null,null,null,null,{"$error":"#DIV/0!"}]
[null,"What is another Goal?"]
[null,"Output Measure #1",null,null,null,null,null,null,null,null,null,null,null,null,null,null,null,null,null,null,null,null,{"$f":"(SUM(H110:V110))/G110","v":{"$error":"#DIV/0!"}}]
[null,"Output Measure #2",null,null,null,null,null,null,null,null,null,null,null,null,null,null,null,null,null,null,null,null,{"$error":"#DIV/0!"}]
[null,"Output Measure #3",null,null,null,null,null,null,null,null,null,null,null,null,null,null,null,null,null,null,null,null,{"$error":"#DIV/0!"}]
[null,"Output Measure #4",null,null,null,null,null,null,null,null,null,null,null,null,null,null,null,null,null,null,null,null,{"$error":"#DIV/0!"}]
[null,"Output Measure #5",null,null,null,null,null,null,null,null,null,null,null,null,null,null,null,null,null,null,null,null,{"$error":"#DIV/0!"}]
[null,"Output Measure #6",null,null,null,null,null,null,null,null,null,null,null,null,null,null,null,null,null,null,null,null,{"$error":"#DIV/0!"}]
[null,"Strategic Area #7:","Select Strategic Area"]
[null,"What is your Goal?"]
[null,"Output Measure #1",null,null,null,null,null,null,null,null,null,null,null,null,null,null,null,null,null,null,null,null,{"$f":"(SUM(H118:V118))/G118","v":{"$error":"#DIV/0!"}}]
[null,"Output Measure #2",null,null,null,null,null,null,null,null,null,null,null,null,null,null,null,null,null,null,null,null,{"$error":"#DIV/0!"}]
[null,"Output Measure #3",null,null,null,null,null,null,null,null,null,null,null,null,null,null,null,null,null,null,null,null,{"$error":"#DIV/0!"}]
[null,"Output Measure #4",null,null,null,null,null,null,null,null,null,null,null,null,null,null,null,null,null,null,null,null,{"$error":"#DIV/0!"}]
[null,"Output Measure #5",null,null,null,null,null,null,null,null,null,null,null,null,null,null,null,null,null,null,null,null,{"$error":"#DIV/0!"}]
[null,"Output Measure #6",null,null,null,null,null,null,null,null,null,null,null,null,null,null,null,null,null,null,null,null,{"$error":"#DIV/0!"}]
[null,"What is another Goal?"]
[null,"Output Measure #1",null,null,null,null,null,null,null,null,null,null,null,null,null,null,null,null,null,null,null,null,{"$f":"(SUM(H125:V125))/G125","v":{"$error":"#DIV/0!"}}]
[null,"Output Measure #2",null,null,null,null,null,null,null,null,null,null,null,null,null,null,null,null,null,null,null,null,{"$error":"#DIV/0!"}]
[null,"Output Measure #3",null,null,null,null,null,null,null,null,null,null,null,null,null,null,null,null,null,null,null,null,{"$error":"#DIV/0!"}]
[null,"Output Measure #4",null,null,null,null,null,null,null,null,null,null,null,null,null,null,null,null,null,null,null,null,{"$error":"#DIV/0!"}]
[null,"Output Measure #5",null,null,null,null,null,null,null,null,null,null,null,null,null,null,null,null,null,null,null,null,{"$error":"#DIV/0!"}]
[null,"Output Measure #6",null,null,null,null,null,null,null,null,null,null,null,null,null,null,null,null,null,null,null,null,{"$error":"#DIV/0!"}]
[null,"Strategic Area #8:","Select Strategic Area"]
[null,"What is your Goal?"]
[null,"Output Measure #1",null,null,null,null,null,null,null,null,null,null,null,null,null,null,null,null,null,null,null,null,{"$f":"(SUM(H133:V133))/G133","v":{"$error":"#DIV/0!"}}]
[null,"Output Measure #2",null,null,null,null,null,null,null,null,null,null,null,null,null,null,null,null,null,null,null,null,{"$error":"#DIV/0!"}]
[null,"Output Measure #3",null,null,null,null,null,null,null,null,null,null,null,null,null,null,null,null,null,null,null,null,{"$error":"#DIV/0!"}]
[null,"Output Measure #4",null,null,null,null,null,null,null,null,null,null,null,null,null,null,null,null,null,null,null,null,{"$error":"#DIV/0!"}]
[null,"Output Measure #5",null,null,null,null,null,null,null,null,null,null,null,null,null,null,null,null,null,null,null,null,{"$error":"#DIV/0!"}]
[null,"Output Measure #6",null,null,null,null,null,null,null,null,null,null,null,null,null,null,null,null,null,null,null,null,{"$error":"#DIV/0!"}]
[null,"What is another Goal?"]
[null,"Output Measure #1",null,null,null,null,null,null,null,null,null,null,null,null,null,null,null,null,null,null,null,null,{"$f":"(SUM(H140:V140))/G140","v":{"$error":"#DIV/0!"}}]
[null,"Output Measure #2",null,null,null,null,null,null,null,null,null,null,null,null,null,null,null,null,null,null,null,null,{"$error":"#DIV/0!"}]
[null,"Output Measure #3",null,null,null,null,null,null,null,null,null,null,null,null,null,null,null,null,null,null,null,null,{"$error":"#DIV/0!"}]
[null,"Output Measure #4",null,null,null,null,null,null,null,null,null,null,null,null,null,null,null,null,null,null,null,null,{"$error":"#DIV/0!"}]
[null,"Output Measure #5",null,null,null,null,null,null,null,null,null,null,null,null,null,null,null,null,null,null,null,null,{"$error":"#DIV/0!"}]
[null,"Output Measure #6",null,null,null,null,null,null,null,null,null,null,null,null,null,null,null,null,null,null,null,null,{"$error":"#DIV/0!"}]
[null,"Strategic Area #9:","Select Strategic Area"]
[null,"What is your Goal?"]
[null,"Output Measure #1",null,null,null,null,null,null,null,null,null,null,null,null,null,null,null,null,null,null,null,null,{"$f":"(SUM(H148:V148))/G148","v":{"$error":"#DIV/0!"}}]
[null,"Output Measure #2",null,null,null,null,null,null,null,null,null,null,null,null,null,null,null,null,null,null,null,null,{"$error":"#DIV/0!"}]
[null,"Output Measure #3",null,null,null,null,null,null,null,null,null,null,null,null,null,null,null,null,null,null,null,null,{"$error":"#DIV/0!"}]
[null,"Output Measure #4",null,null,null,null,null,null,null,null,null,null,null,null,null,null,null,null,null,null,null,null,{"$error":"#DIV/0!"}]
[null,"Output Measure #5",null,null,null,null,null,null,null,null,null,null,null,null,null,null,null,null,null,null,null,null,{"$error":"#DIV/0!"}]
[null,"Output Measure #6",null,null,null,null,null,null,null,null,null,null,null,null,null,null,null,null,null,null,null,null,{"$error":"#DIV/0!"}]
[null,"What is another Goal?"]
[null,"Output Measure #1",null,null,null,null,null,null,null,null,null,null,null,null,null,null,null,null,null,null,null,null,{"$f":"(SUM(H155:V155))/G155","v":{"$error":"#DIV/0!"}}]
[null,"Output Measure #2",null,null,null,null,null,null,null,null,null,null,null,null,null,null,null,null,null,null,null,null,{"$error":"#DIV/0!"}]
[null,"Output Measure #3",null,null,null,null,null,null,null,null,null,null,null,null,null,null,null,null,null,null,null,null,{"$error":"#DIV/0!"}]
[null,"Output Measure #4",null,null,null,null,null,null,null,null,null,null,null,null,null,null,null,null,null,null,null,null,{"$error":"#DIV/0!"}]
[null,"Output Measure #5",null,null,null,null,null,null,null,null,null,null,null,null,null,null,null,null,null,null,null,null,{"$error":"#DIV/0!"}]
[null,"Output Measure #6",null,null,null,null,null,null,null,null,null,null,null,null,null,null,null,null,null,null,null,null,{"$error":"#DIV/0!"}]
[null,"Strategic Area #10:","Select Strategic Area"]
[null,"What is your Goal?"]
[null,"Output Measure #1",null,null,null,null,null,null,null,null,null,null,null,null,null,null,null,null,null,null,null,null,{"$f":"(SUM(H163:V163))/G163","v":{"$error":"#DIV/0!"}}]
[null,"Output Measure #2",null,null,null,null,null,null,null,null,null,null,null,null,null,null,null,null,null,null,null,null,{"$error":"#DIV/0!"}]
[null,"Output Measure #3",null,null,null,null,null,null,null,null,null,null,null,null,null,null,null,null,null,null,null,null,{"$error":"#DIV/0!"}]
[null,"Output Measure #4",null,null,null,null,null,null,null,null,null,null,null,null,null,null,null,null,null,null,null,null,{"$error":"#DIV/0!"}]
[null,"Output Measure #5",null,null,null,null,null,null,null,null,null,null,null,null,null,null,null,null,null,null,null,null,{"$error":"#DIV/0!"}]
[null,"Output Measure #6",null,null,null,null,null,null,null,null,null,null,null,null,null,null,null,null,null,null,null,null,{"$error":"#DIV/0!"}]
[null,"What is another Goal?"]
[null,"Output Measure #1",null,null,null,null,null,null,null,null,null,null,null,null,null,null,null,null,null,null,null,null,{"$f":"(SUM(H170:V170))/G170","v":{"$error":"#DIV/0!"}}]
[null,"Output Measure #2",null,null,null,null,null,null,null,null,null,null,null,null,null,null,null,null,null,null,null,null,{"$error":"#DIV/0!"}]
[null,"Output Measure #3",null,null,null,null,null,null,null,null,null,null,null,null,null,null,null,null,null,null,null,null,{"$error":"#DIV/0!"}]
[null,"Output Measure #4",null,null,null,null,null,null,null,null,null,null,null,null,null,null,null,null,null,null,null,null,{"$error":"#DIV/0!"}]
[null,"Output Measure #5",null,null,null,null,null,null,null,null,null,null,null,null,null,null,null,null,null,null,null,null,{"$error":"#DIV/0!"}]
[null,"Output Measure #6",null,null,null,null,null,null,null,null,null,null,null,null,null,null,null,null,null,null,null,null,{"$error":"#DIV/0!"}]
[]
[null,"CUSTOMIZATION SECTION: Options below allow for customized or open-ended entries that require typing new information into goals and measures.\nIf your goal is custom but the measures overlap with what is presented in the dropdown menus above, please enter those items in this section too. This section requires all information about goals and measures to be entered and no dropdowns are provided. Only the Strategic Areas overlap with the options presented above.\n",null,null,null,null,null,null,null,null,null,null,null,null,null,null,null,null,null,null,null,"Note: Progress tracking below may need to be updated following the first submission depending on the type of information provided."]
[null,"Step 1: Choose 2-3 Strategic Areas using the dropdown menu of categories.\nStep 2: Provide 1-2 Goals under each Strategic Area.\nStep 3: Select how you will measure each goal over the course of your award by providing at least 2-3 Measures to assess your outcomes.\nStep 4: Enter your predicted Milestones for each measure to show what you plan to achieve by the end of your award. \nStep 5: Specify the Output Type to present additional information about each measure and potential sub-populations.\nStep 6: During each reporting period, enter the values (numeric) for each established measure in the correct column.",null,"OUTPUT TYPE\nSelect from the dropdown who or what the output is focused on and then provide additional detail in the corresponding cell. If you have multiple awards, use the open-ended field here to specify which award the entries apply to.\n",null,"REPORTING TIMELINE\nSpecify if the measure is captured quarterly, annually, or some other increment. ","MILESTONE","Period 1",null,"Period 2",null,"Period 3",null,"Period 4",null,"Period 5",null,"Period 6",null,"Period 7",null,"Period 8","Progress Toward Goal \n(auto-calculated)"]
[null,"Custom Strategic Area #1 - OTHER:","Select Strategic Area"]
[null,"What is your Goal?"]
[null,"Output Measure #1",null,"Select from the options","Specify here",null,null,null,null,null,null,null,null,null,null,null,null,null,null,null,null,null,{"$f":"(SUM(H181:V181))/G181","v":{"$error":"#DIV/0!"}}]
[null,"Output Measure #2",null,"Select from the options","Specify here",null,null,null,null,null,null,null,null,null,null,null,null,null,null,null,null,null,{"$error":"#DIV/0!"}]
[null,"Output Measure #3",null,"Select from the options","Specify here",null,null,null,null,null,null,null,null,null,null,null,null,null,null,null,null,null,{"$error":"#DIV/0!"}]
[null,"Output Measure #4",null,"Select from the options","Specify here",null,null,null,null,null,null,null,null,null,null,null,null,null,null,null,null,null,{"$error":"#DIV/0!"}]
[null,"Output Measure #5",null,"Select from the options","Specify here",null,null,null,null,null,null,null,null,null,null,null,null,null,null,null,null,null,{"$error":"#DIV/0!"}]
[null,"Output Measure #6",null,"Select from the options","Specify here",null,null,null,null,null,null,null,null,null,null,null,null,null,null,null,null,null,{"$error":"#DIV/0!"}]
[null,"What is another Goal?"]
[null,"Output Measure #1",null,"Select from the options","Specify here",null,null,null,null,null,null,null,null,null,null,null,null,null,null,null,null,null,{"$f":"(SUM(H188:V188))/G188","v":{"$error":"#DIV/0!"}}]
[null,"Output Measure #2",null,"Select from the options","Specify here",null,null,null,null,null,null,null,null,null,null,null,null,null,null,null,null,null,{"$error":"#DIV/0!"}]
[null,"Output Measure #3",null,"Select from the options","Specify here",null,null,null,null,null,null,null,null,null,null,null,null,null,null,null,null,null,{"$error":"#DIV/0!"}]
[null,"Output Measure #4",null,"Select from the options","Specify here",null,null,null,null,null,null,null,null,null,null,null,null,null,null,null,null,null,{"$error":"#DIV/0!"}]
[null,"Output Measure #5",null,"Select from the options","Specify here",null,null,null,null,null,null,null,null,null,null,null,null,null,null,null,null,null,{"$error":"#DIV/0!"}]
[null,"Output Measure #6",null,"Select from the options","Specify here",null,null,null,null,null,null,null,null,null,null,null,null,null,null,null,null,null,{"$error":"#DIV/0!"}]
[null,"Custom Strategic Area #2 - OTHER:","Select Strategic Area"]
[null,"What is your Goal?"]
[null,"Output Measure #1",null,"Select from the options","Specify here",null,null,null,null,null,null,null,null,null,null,null,null,null,null,null,null,null,{"$f":"(SUM(H196:V196))/G196","v":{"$error":"#DIV/0!"}}]
[null,"Output Measure #2",null,"Select from the options","Specify here",null,null,null,null,null,null,null,null,null,null,null,null,null,null,null,null,null,{"$error":"#DIV/0!"}]
[null,"Output Measure #3",null,"Select from the options","Specify here",null,null,null,null,null,null,null,null,null,null,null,null,null,null,null,null,null,{"$error":"#DIV/0!"}]
[null,"Output Measure #4",null,"Select from the options","Specify here",null,null,null,null,null,null,null,null,null,null,null,null,null,null,null,null,null,{"$error":"#DIV/0!"}]
[null,"Output Measure #5",null,"Select from the options","Specify here",null,null,null,null,null,null,null,null,null,null,null,null,null,null,null,null,null,{"$error":"#DIV/0!"}]
[null,"Output Measure #6",null,"Select from the options","Specify here",null,null,null,null,null,null,null,null,null,null,null,null,null,null,null,null,null,{"$error":"#DIV/0!"}]
[null,"What is another Goal?"]
[null,"Output Measure #1",null,"Select from the options","Specify here",null,null,null,null,null,null,null,null,null,null,null,null,null,null,null,null,null,{"$f":"(SUM(H203:V203))/G203","v":{"$error":"#DIV/0!"}}]
[null,"Output Measure #2",null,"Select from the options","Specify here",null,null,null,null,null,null,null,null,null,null,null,null,null,null,null,null,null,{"$error":"#DIV/0!"}]
[null,"Output Measure #3",null,"Select from the options","Specify here",null,null,null,null,null,null,null,null,null,null,null,null,null,null,null,null,null,{"$error":"#DIV/0!"}]
[null,"Output Measure #4",null,"Select from the options","Specify here",null,null,null,null,null,null,null,null,null,null,null,null,null,null,null,null,null,{"$error":"#DIV/0!"}]
[null,"Output Measure #5",null,"Select from the options","Specify here",null,null,null,null,null,null,null,null,null,null,null,null,null,null,null,null,null,{"$error":"#DIV/0!"}]
[null,"Output Measure #6",null,"Select from the options","Specify here",null,null,null,null,null,null,null,null,null,null,null,null,null,null,null,null,null,{"$error":"#DIV/0!"}]
[null,"Custom Strategic Area #3 - OTHER:","Select Strategic Area"]
[null,"What is your Goal?"]
[null,"Output Measure #1",null,"Select from the options","Specify here",null,null,null,null,null,null,null,null,null,null,null,null,null,null,null,null,null,{"$f":"(SUM(H211:V211))/G211","v":{"$error":"#DIV/0!"}}]
[null,"Output Measure #2",null,"Select from the options","Specify here",null,null,null,null,null,null,null,null,null,null,null,null,null,null,null,null,null,{"$error":"#DIV/0!"}]
[null,"Output Measure #3",null,"Select from the options","Specify here",null,null,null,null,null,null,null,null,null,null,null,null,null,null,null,null,null,{"$error":"#DIV/0!"}]
[null,"Output Measure #4",null,"Select from the options","Specify here",null,null,null,null,null,null,null,null,null,null,null,null,null,null,null,null,null,{"$error":"#DIV/0!"}]
[null,"Output Measure #5",null,"Select from the options","Specify here",null,null,null,null,null,null,null,null,null,null,null,null,null,null,null,null,null,{"$error":"#DIV/0!"}]
[null,"Output Measure #6",null,"Select from the options","Specify here",null,null,null,null,null,null,null,null,null,null,null,null,null,null,null,null,null,{"$error":"#DIV/0!"}]
[null,"What is another Goal?"]
[null,"Output Measure #1",null,"Select from the options","Specify here",null,null,null,null,null,null,null,null,null,null,null,null,null,null,null,null,null,{"$f":"(SUM(H218:V218))/G218","v":{"$error":"#DIV/0!"}}]
[null,"Output Measure #2",null,"Select from the options","Specify here",null,null,null,null,null,null,null,null,null,null,null,null,null,null,null,null,null,{"$error":"#DIV/0!"}]
[null,"Output Measure #3",null,"Select from the options","Specify here",null,null,null,null,null,null,null,null,null,null,null,null,null,null,null,null,null,{"$error":"#DIV/0!"}]
[null,"Output Measure #4",null,"Select from the options","Specify here",null,null,null,null,null,null,null,null,null,null,null,null,null,null,null,null,null,{"$error":"#DIV/0!"}]
[null,"Output Measure #5",null,"Select from the options","Specify here",null,null,null,null,null,null,null,null,null,null,null,null,null,null,null,null,null,{"$error":"#DIV/0!"}]
[null,"Output Measure #6",null,"Select from the options","Specify here",null,null,null,null,null,null,null,null,null,null,null,null,null,null,null,null,null,{"$error":"#DIV/0!"}]
[null,"Custom Strategic Area #4 - OTHER:","Select Strategic Area"]
[null,"What is your Goal?"]
[null,"Output Measure #1",null,"Select from the options","Specify here",null,null,null,null,null,null,null,null,null,null,null,null,null,null,null,null,null,{"$f":"(SUM(H226:V226))/G226","v":{"$error":"#DIV/0!"}}]
[null,"Output Measure #2",null,"Select from the options","Specify here",null,null,null,null,null,null,null,null,null,null,null,null,null,null,null,null,null,{"$error":"#DIV/0!"}]
[null,"Output Measure #3",null,"Select from the options","Specify here",null,null,null,null,null,null,null,null,null,null,null,null,null,null,null,null,null,{"$error":"#DIV/0!"}]
[null,"Output Measure #4",null,"Select from the options","Specify here",null,null,null,null,null,null,null,null,null,null,null,null,null,null,null,null,null,{"$error":"#DIV/0!"}]
[null,"Output Measure #5",null,"Select from the options","Specify here",null,null,null,null,null,null,null,null,null,null,null,null,null,null,null,null,null,{"$error":"#DIV/0!"}]
[null,"Output Measure #6",null,"Select from the options","Specify here",null,null,null,null,null,null,null,null,null,null,null,null,null,null,null,null,null,{"$error":"#DIV/0!"}]
[null,"What is another Goal?"]
[null,"Output Measure #1",null,"Select from the options","Specify here",null,null,null,null,null,null,null,null,null,null,null,null,null,null,null,null,null,{"$f":"(SUM(H233:V233))/G233","v":{"$error":"#DIV/0!"}}]
[null,"Output Measure #2",null,"Select from the options","Specify here",null,null,null,null,null,null,null,null,null,null,null,null,null,null,null,null,null,{"$error":"#DIV/0!"}]
[null,"Output Measure #3",null,"Select from the options","Specify here",null,null,null,null,null,null,null,null,null,null,null,null,null,null,null,null,null,{"$error":"#DIV/0!"}]
[null,"Output Measure #4",null,"Select from the options","Specify here",null,null,null,null,null,null,null,null,null,null,null,null,null,null,null,null,null,{"$error":"#DIV/0!"}]
[null,"Output Measure #5",null,"Select from the options","Specify here",null,null,null,null,null,null,null,null,null,null,null,null,null,null,null,null,null,{"$error":"#DIV/0!"}]
[null,"Output Measure #6",null,"Select from the options","Specify here",null,null,null,null,null,null,null,null,null,null,null,null,null,null,null,null,null,{"$error":"#DIV/0!"}]
[null,"Custom Strategic Area #5 - OTHER:","Select Strategic Area"]
[null,"What is your Goal?",null,null,"Specify here"]
[null,"Output Measure #1",null,"Select from the options","Specify here",null,null,null,null,null,null,null,null,null,null,null,null,null,null,null,null,null,{"$f":"(SUM(H241:V241))/G241","v":{"$error":"#DIV/0!"}}]
[null,"Output Measure #2",null,"Select from the options","Specify here",null,null,null,null,null,null,null,null,null,null,null,null,null,null,null,null,null,{"$error":"#DIV/0!"}]
[null,"Output Measure #3",null,"Select from the options","Specify here",null,null,null,null,null,null,null,null,null,null,null,null,null,null,null,null,null,{"$error":"#DIV/0!"}]
[null,"Output Measure #4",null,"Select from the options","Specify here",null,null,null,null,null,null,null,null,null,null,null,null,null,null,null,null,null,{"$error":"#DIV/0!"}]
[null,"Output Measure #5",null,"Select from the options","Specify here",null,null,null,null,null,null,null,null,null,null,null,null,null,null,null,null,null,{"$error":"#DIV/0!"}]
[null,"Output Measure #6",null,"Select from the options","Specify here",null,null,null,null,null,null,null,null,null,null,null,null,null,null,null,null,null,{"$error":"#DIV/0!"}]
[null,"What is another Goal?"]
[null,"Output Measure #1",null,"Select from the options","Specify here",null,null,null,null,null,null,null,null,null,null,null,null,null,null,null,null,null,{"$f":"(SUM(H248:V248))/G248","v":{"$error":"#DIV/0!"}}]
[null,"Output Measure #2",null,"Select from the options","Specify here",null,null,null,null,null,null,null,null,null,null,null,null,null,null,null,null,null,{"$error":"#DIV/0!"}]
[null,"Output Measure #3",null,"Select from the options","Specify here",null,null,null,null,null,null,null,null,null,null,null,null,null,null,null,null,null,{"$error":"#DIV/0!"}]
[null,"Output Measure #4",null,"Select from the options","Specify here",null,null,null,null,null,null,null,null,null,null,null,null,null,null,null,null,null,{"$error":"#DIV/0!"}]
[null,"Output Measure #5",null,"Select from the options","Specify here",null,null,null,null,null,null,null,null,null,null,null,null,null,null,null,null,null,{"$error":"#DIV/0!"}]
[null,"Output Measure #6",null,"Select from the options","Specify here",null,null,null,null,null,null,null,null,null,null,null,null,null,null,null,null,null,{"$error":"#DIV/0!"}]
[null,"Custom Strategic Area #6 - OTHER:","Select Strategic Area"]
[null,"What is your Goal?",null,null,"Specify here"]
[null,"Output Measure #1",null,"Select from the options","Specify here",null,null,null,null,null,null,null,null,null,null,null,null,null,null,null,null,null,{"$f":"(SUM(H256:V256))/G256","v":{"$error":"#DIV/0!"}}]
[null,"Output Measure #2",null,"Select from the options","Specify here",null,null,null,null,null,null,null,null,null,null,null,null,null,null,null,null,null,{"$error":"#DIV/0!"}]
[null,"Output Measure #3",null,"Select from the options","Specify here",null,null,null,null,null,null,null,null,null,null,null,null,null,null,null,null,null,{"$error":"#DIV/0!"}]
[null,"Output Measure #4",null,"Select from the options","Specify here",null,null,null,null,null,null,null,null,null,null,null,null,null,null,null,null,null,{"$error":"#DIV/0!"}]
[null,"Output Measure #5",null,"Select from the options","Specify here",null,null,null,null,null,null,null,null,null,null,null,null,null,null,null,null,null,{"$error":"#DIV/0!"}]
[null,"Output Measure #6",null,"Select from the options","Specify here",null,null,null,null,null,null,null,null,null,null,null,null,null,null,null,null,null,{"$error":"#DIV/0!"}]
[null,"What is another Goal?"]
[null,"Output Measure #1",null,"Select from the options","Specify here",null,null,null,null,null,null,null,null,null,null,null,null,null,null,null,null,null,{"$f":"(SUM(H263:V263))/G263","v":{"$error":"#DIV/0!"}}]
[null,"Output Measure #2",null,"Select from the options","Specify here",null,null,null,null,null,null,null,null,null,null,null,null,null,null,null,null,null,{"$error":"#DIV/0!"}]
[null,"Output Measure #3",null,"Select from the options","Specify here",null,null,null,null,null,null,null,null,null,null,null,null,null,null,null,null,null,{"$error":"#DIV/0!"}]
[null,"Output Measure #4",null,"Select from the options","Specify here",null,null,null,null,null,null,null,null,null,null,null,null,null,null,null,null,null,{"$error":"#DIV/0!"}]
[null,"Output Measure #5",null,"Select from the options","Specify here",null,null,null,null,null,null,null,null,null,null,null,null,null,null,null,null,null,{"$error":"#DIV/0!"}]
[null,"Output Measure #6",null,"Select from the options","Specify here",null,null,null,null,null,null,null,null,null,null,null,null,null,null,null,null,null,{"$error":"#DIV/0!"}]
[null,"Custom Strategic Area #7 - OTHER:","Select Strategic Area"]
[null,"What is your Goal?",null,null,"Specify here"]
[null,"Output Measure #1",null,"Select from the options","Specify here",null,null,null,null,null,null,null,null,null,null,null,null,null,null,null,null,null,{"$f":"(SUM(H271:V271))/G271","v":{"$error":"#DIV/0!"}}]
[null,"Output Measure #2",null,"Select from the options","Specify here",null,null,null,null,null,null,null,null,null,null,null,null,null,null,null,null,null,{"$error":"#DIV/0!"}]
[null,"Output Measure #3",null,"Select from the options","Specify here",null,null,null,null,null,null,null,null,null,null,null,null,null,null,null,null,null,{"$error":"#DIV/0!"}]
[null,"Output Measure #4",null,"Select from the options","Specify here",null,null,null,null,null,null,null,null,null,null,null,null,null,null,null,null,null,{"$error":"#DIV/0!"}]
[null,"Output Measure #5",null,"Select from the options","Specify here",null,null,null,null,null,null,null,null,null,null,null,null,null,null,null,null,null,{"$error":"#DIV/0!"}]
[null,"Output Measure #6",null,"Select from the options","Specify here",null,null,null,null,null,null,null,null,null,null,null,null,null,null,null,null,null,{"$error":"#DIV/0!"}]
[null,"What is another Goal?"]
[null,"Output Measure #1",null,"Select from the options","Specify here",null,null,null,null,null,null,null,null,null,null,null,null,null,null,null,null,null,{"$f":"(SUM(H278:V278))/G278","v":{"$error":"#DIV/0!"}}]
[null,"Output Measure #2",null,"Select from the options","Specify here",null,null,null,null,null,null,null,null,null,null,null,null,null,null,null,null,null,{"$error":"#DIV/0!"}]
[null,"Output Measure #3",null,"Select from the options","Specify here",null,null,null,null,null,null,null,null,null,null,null,null,null,null,null,null,null,{"$error":"#DIV/0!"}]
[null,"Output Measure #4",null,"Select from the options","Specify here",null,null,null,null,null,null,null,null,null,null,null,null,null,null,null,null,null,{"$error":"#DIV/0!"}]
[null,"Output Measure #5",null,"Select from the options","Specify here",null,null,null,null,null,null,null,null,null,null,null,null,null,null,null,null,null,{"$error":"#DIV/0!"}]
[null,"Output Measure #6",null,"Select from the options","Specify here",null,null,null,null,null,null,null,null,null,null,null,null,null,null,null,null,null,{"$error":"#DIV/0!"}]
[null,"Custom Strategic Area #8 - OTHER:","Select Strategic Area"]
[null,"What is your Goal?",null,null,"Specify here"]
[null,"Output Measure #1",null,"Select from the options","Specify here",null,null,null,null,null,null,null,null,null,null,null,null,null,null,null,null,null,{"$f":"(SUM(H286:V286))/G286","v":{"$error":"#DIV/0!"}}]
[null,"Output Measure #2",null,"Select from the options","Specify here",null,null,null,null,null,null,null,null,null,null,null,null,null,null,null,null,null,{"$error":"#DIV/0!"}]
[null,"Output Measure #3",null,"Select from the options","Specify here",null,null,null,null,null,null,null,null,null,null,null,null,null,null,null,null,null,{"$error":"#DIV/0!"}]
[null,"Output Measure #4",null,"Select from the options","Specify here",null,null,null,null,null,null,null,null,null,null,null,null,null,null,null,null,null,{"$error":"#DIV/0!"}]
[null,"Output Measure #5",null,"Select from the options","Specify here",null,null,null,null,null,null,null,null,null,null,null,null,null,null,null,null,null,{"$error":"#DIV/0!"}]
[null,"Output Measure #6",null,"Select from the options","Specify here",null,null,null,null,null,null,null,null,null,null,null,null,null,null,null,null,null,{"$error":"#DIV/0!"}]
[null,"What is another Goal?"]
[null,"Output Measure #1",null,"Select from the options","Specify here",null,null,null,null,null,null,null,null,null,null,null,null,null,null,null,null,null,{"$f":"(SUM(H293:V293))/G293","v":{"$error":"#DIV/0!"}}]
[null,"Output Measure #2",null,"Select from the options","Specify here",null,null,null,null,null,null,null,null,null,null,null,null,null,null,null,null,null,{"$error":"#DIV/0!"}]
[null,"Output Measure #3",null,"Select from the options","Specify here",null,null,null,null,null,null,null,null,null,null,null,null,null,null,null,null,null,{"$error":"#DIV/0!"}]
[null,"Output Measure #4",null,"Select from the options","Specify here",null,null,null,null,null,null,null,null,null,null,null,null,null,null,null,null,null,{"$error":"#DIV/0!"}]
[null,"Output Measure #5",null,"Select from the options","Specify here",null,null,null,null,null,null,null,null,null,null,null,null,null,null,null,null,null,{"$error":"#DIV/0!"}]
[null,"Output Measure #6",null,"Select from the options","Specify here",null,null,null,null,null,null,null,null,null,null,null,null,null,null,null,null,null,{"$error":"#DIV/0!"}]
[null,"Custom Strategic Area #9 - OTHER:","Select Strategic Area"]
[null,"What is your Goal?",null,null,"Specify here"]
[null,"Output Measure #1",null,"Select from the options","Specify here",null,null,null,null,null,null,null,null,null,null,null,null,null,null,null,null,null,{"$f":"(SUM(H301:V301))/G301","v":{"$error":"#DIV/0!"}}]
[null,"Output Measure #2",null,"Select from the options","Specify here",null,null,null,null,null,null,null,null,null,null,null,null,null,null,null,null,null,{"$error":"#DIV/0!"}]
[null,"Output Measure #3",null,"Select from the options","Specify here",null,null,null,null,null,null,null,null,null,null,null,null,null,null,null,null,null,{"$error":"#DIV/0!"}]
[null,"Output Measure #4",null,"Select from the options","Specify here",null,null,null,null,null,null,null,null,null,null,null,null,null,null,null,null,null,{"$error":"#DIV/0!"}]
[null,"Output Measure #5",null,"Select from the options","Specify here",null,null,null,null,null,null,null,null,null,null,null,null,null,null,null,null,null,{"$error":"#DIV/0!"}]
[null,"Output Measure #6",null,"Select from the options","Specify here",null,null,null,null,null,null,null,null,null,null,null,null,null,null,null,null,null,{"$error":"#DIV/0!"}]
[null,"What is another Goal?"]
[null,"Output Measure #1",null,"Select from the options","Specify here",null,null,null,null,null,null,null,null,null,null,null,null,null,null,null,null,null,{"$f":"(SUM(H308:V308))/G308","v":{"$error":"#DIV/0!"}}]
[null,"Output Measure #2",null,"Select from the options","Specify here",null,null,null,null,null,null,null,null,null,null,null,null,null,null,null,null,null,{"$error":"#DIV/0!"}]
[null,"Output Measure #3",null,"Select from the options","Specify here",null,null,null,null,null,null,null,null,null,null,null,null,null,null,null,null,null,{"$error":"#DIV/0!"}]
[null,"Output Measure #4",null,"Select from the options","Specify here",null,null,null,null,null,null,null,null,null,null,null,null,null,null,null,null,null,{"$error":"#DIV/0!"}]
[null,"Output Measure #5",null,"Select from the options","Specify here",null,null,null,null,null,null,null,null,null,null,null,null,null,null,null,null,null,{"$error":"#DIV/0!"}]
[null,"Output Measure #6",null,"Select from the options","Specify here",null,null,null,null,null,null,null,null,null,null,null,null,null,null,null,null,null,{"$error":"#DIV/0!"}]
[null,"Custom Strategic Area #10 - OTHER:","Select Strategic Area"]
[null,"What is your Goal?",null,null,"Specify here"]
[null,"Output Measure #1",null,"Select from the options","Specify here",null,null,null,null,null,null,null,null,null,null,null,null,null,null,null,null,null,{"$f":"(SUM(H316:V316))/G316","v":{"$error":"#DIV/0!"}}]
[null,"Output Measure #2",null,"Select from the options","Specify here",null,null,null,null,null,null,null,null,null,null,null,null,null,null,null,null,null,{"$error":"#DIV/0!"}]
[null,"Output Measure #3",null,"Select from the options","Specify here",null,null,null,null,null,null,null,null,null,null,null,null,null,null,null,null,null,{"$error":"#DIV/0!"}]
[null,"Output Measure #4",null,"Select from the options","Specify here",null,null,null,null,null,null,null,null,null,null,null,null,null,null,null,null,null,{"$error":"#DIV/0!"}]
[null,"Output Measure #5",null,"Select from the options","Specify here",null,null,null,null,null,null,null,null,null,null,null,null,null,null,null,null,null,{"$error":"#DIV/0!"}]
[null,"Output Measure #6",null,"Select from the options","Specify here",null,null,null,null,null,null,null,null,null,null,null,null,null,null,null,null,null,{"$error":"#DIV/0!"}]
[null,"What is another Goal?",null,null,"Specify here"]
[null,"Output Measure #1",null,"Select from the options","Specify here",null,null,null,null,null,null,null,null,null,null,null,null,null,null,null,null,null,{"$f":"(SUM(H323:V323))/G323","v":{"$error":"#DIV/0!"}}]
[null,"Output Measure #2",null,"Select from the options","Specify here",null,null,null,null,null,null,null,null,null,null,null,null,null,null,null,null,null,{"$error":"#DIV/0!"}]
[null,"Output Measure #3",null,"Select from the options","Specify here",null,null,null,null,null,null,null,null,null,null,null,null,null,null,null,null,null,{"$error":"#DIV/0!"}]
[null,"Output Measure #4",null,"Select from the options","Specify here",null,null,null,null,null,null,null,null,null,null,null,null,null,null,null,null,null,{"$error":"#DIV/0!"}]
[null,"Output Measure #5",null,"Select from the options","Specify here",null,null,null,null,null,null,null,null,null,null,null,null,null,null,null,null,null,{"$error":"#DIV/0!"}]
[null,"Output Measure #6",null,"Select from the options","Specify here",null,null,null,null,null,null,null,null,null,null,null,null,null,null,null,null,null,{"$error":"#DIV/0!"}]

{"sheet":"3. Key Outcomes","index":17,"n_rows":174,"n_cols":37,"rows_kept":174,"cut":false,"hidden":false,"merged":[[1,10,1,16],[12,25,12,26],[12,28,12,29],[12,31,12,32],[12,34,12,35],[2,13,2,16],[11,1,11,5],[8,1,10,36],[3,1,7,36],[2,4,2,7],[12,13,12,15],[12,16,12,18],[12,19,12,21],[12,22,12,24],[94,22,94,23],[94,25,94,26],[94,28,94,29],[94,31,94,32],[94,34,94,35],[94,13,94,14],[94,16,94,17],[94,19,94,20],[94,5,94,7],[94,9,95,9],[104,5,104,7],[105,5,105,7],[106,5,106,7],[107,5,107,7],[108,5,108,7],[109,5,109,7],[110,5,110,7],[156,5,156,7],[96,5,96,7],[97,5,97,7],[98,5,98,7],[99,5,99,7],[100,5,100,7],[101,5,101,7],[102,5,102,7],[103,5,103,7],[111,5,111,7],[112,5,112,7],[113,5,113,7],[114,5,114,7],[115,5,115,7],[116,5,116,7],[117,5,117,7],[118,5,118,7],[93,1,93,12],[92,1,92,5],[12,7,13,7],[12,8,13,8],[12,9,13,9],[12,1,13,1],[12,3,13,3],[12,4,13,4],[12,5,13,5],[12,6,13,6],[12,10,13,10],[12,11,13,11],[12,12,13,12],[119,5,119,7],[120,5,120,7],[121,5,121,7],[122,5,122,7],[123,5,123,7],[124,5,124,7],[125,5,125,7],[126,5,126,7],[127,5,127,7],[128,5,128,7],[129,5,129,7],[130,5,130,7],[131,5,131,7],[132,5,132,7],[133,5,133,7],[134,5,134,7],[135,5,135,7],[136,5,136,7],[137,5,137,7],[138,5,138,7],[139,5,139,7],[140,5,140,7],[141,5,141,7],[142,5,142,7],[143,5,143,7],[144,5,144,7],[145,5,145,7],[146,5,146,7],[147,5,147,7],[148,5,148,7],[149,5,149,7],[150,5,150,7],[151,5,151,7],[152,5,152,7],[153,5,153,7],[154,5,154,7],[155,5,155,7],[166,5,166,7],[167,5,167,7],[168,5,168,7],[169,5,169,7],[170,5,170,7],[171,5,171,7],[172,5,172,7],[173,5,173,7],[157,5,157,7],[158,5,158,7],[159,5,159,7],[160,5,160,7],[161,5,161,7],[162,5,162,7],[163,5,163,7],[164,5,164,7],[165,5,165,7],[98,15,98,16],[99,15,99,16],[101,15,101,16],[102,15,102,16],[104,15,104,16],[105,15,105,16],[107,15,107,16],[108,15,108,16],[110,15,110,16],[111,15,111,16],[113,15,113,16],[114,15,114,16],[116,15,116,16],[117,15,117,16],[119,15,119,16],[120,15,120,16],[122,15,122,16],[123,15,123,16],[125,15,125,16],[126,15,126,16],[128,15,128,16],[129,15,129,16],[131,15,131,16],[132,15,132,16],[134,15,134,16],[135,15,135,16],[137,15,137,16],[138,15,138,16],[140,15,140,16],[141,15,141,16],[143,15,143,16],[144,15,144,16],[146,15,146,16],[147,15,147,16],[149,15,149,16],[150,15,150,16],[152,15,152,16],[153,15,153,16],[155,15,155,16],[156,15,156,16],[158,15,158,16],[159,15,159,16],[161,15,161,16],[162,15,162,16],[164,15,164,16],[165,15,165,16],[167,15,167,16],[168,15,168,16],[170,15,170,16],[171,15,171,16],[172,15,172,16],[173,15,173,16],[98,18,98,19],[99,18,99,19],[100,18,100,19],[101,18,101,19],[102,18,102,19],[103,18,103,19],[104,18,104,19],[105,18,105,19],[106,18,106,19],[107,18,107,19],[108,18,108,19],[109,18,109,19],[110,18,110,19],[111,18,111,19],[112,18,112,19],[113,18,113,19],[114,18,114,19],[115,18,115,19],[116,18,116,19],[117,18,117,19],[118,18,118,19],[119,18,119,19],[120,18,120,19],[121,18,121,19],[122,18,122,19],[123,18,123,19],[124,18,124,19],[125,18,125,19],[126,18,126,19],[127,18,127,19],[128,18,128,19],[129,18,129,19],[130,18,130,19],[131,18,131,19],[132,18,132,19],[133,18,133,19],[134,18,134,19],[135,18,135,19],[136,18,136,19],[137,18,137,19],[138,18,138,19],[139,18,139,19],[140,18,140,19],[141,18,141,19],[142,18,142,19],[143,18,143,19],[144,18,144,19],[145,18,145,19],[146,18,146,19],[147,18,147,19],[148,18,148,19],[149,18,149,19],[150,18,150,19],[151,18,151,19],[152,18,152,19],[153,18,153,19],[154,18,154,19],[155,18,155,19],[156,18,156,19],[157,18,157,19],[158,18,158,19],[159,18,159,19],[160,18,160,19],[161,18,161,19],[162,18,162,19],[163,18,163,19],[164,18,164,19],[165,18,165,19],[166,18,166,19],[167,18,167,19],[168,18,168,19],[169,18,169,19],[170,18,170,19],[171,18,171,19],[172,18,172,19],[173,18,173,19],[98,21,98,22],[99,21,99,22],[100,21,100,22],[101,21,101,22],[102,21,102,22],[103,21,103,22],[104,21,104,22],[105,21,105,22],[106,21,106,22],[107,21,107,22],[108,21,108,22],[109,21,109,22],[110,21,110,22],[111,21,111,22],[112,21,112,22],[113,21,113,22],[114,21,114,22],[115,21,115,22],[116,21,116,22],[117,21,117,22],[118,21,118,22],[119,21,119,22],[120,21,120,22],[121,21,121,22],[122,21,122,22],[123,21,123,22],[124,21,124,22],[125,21,125,22],[126,21,126,22],[127,21,127,22],[128,21,128,22],[129,21,129,22],[130,21,130,22],[131,21,131,22],[132,21,132,22],[133,21,133,22],[134,21,134,22],[135,21,135,22],[136,21,136,22],[137,21,137,22],[138,21,138,22],[139,21,139,22],[140,21,140,22],[141,21,141,22],[142,21,142,22],[143,21,143,22],[144,21,144,22],[145,21,145,22],[146,21,146,22],[147,21,147,22],[148,21,148,22],[149,21,149,22],[150,21,150,22],[151,21,151,22],[152,21,152,22],[153,21,153,22],[154,21,154,22],[155,21,155,22],[156,21,156,22],[157,21,157,22],[158,21,158,22],[159,21,159,22],[160,21,160,22],[161,21,161,22],[162,21,162,22],[163,21,163,22],[164,21,164,22],[165,21,165,22],[166,21,166,22],[167,21,167,22],[168,21,168,22],[169,21,169,22],[170,21,170,22],[171,21,171,22],[172,21,172,22],[173,21,173,22],[98,24,98,25],[99,24,99,25],[100,24,100,25],[101,24,101,25],[102,24,102,25],[103,24,103,25],[104,24,104,25],[105,24,105,25],[106,24,106,25],[107,24,107,25],[108,24,108,25],[109,24,109,25],[110,24,110,25],[111,24,111,25],[112,24,112,25],[113,24,113,25],[114,24,114,25],[115,24,115,25],[116,24,116,25],[117,24,117,25],[118,24,118,25],[119,24,119,25],[120,24,120,25],[121,24,121,25],[122,24,122,25],[123,24,123,25],[124,24,124,25],[125,24,125,25],[126,24,126,25],[127,24,127,25],[128,24,128,25],[129,24,129,25],[130,24,130,25],[131,24,131,25],[132,24,132,25],[133,24,133,25],[134,24,134,25],[135,24,135,25],[136,24,136,25],[137,24,137,25],[138,24,138,25],[139,24,139,25],[140,24,140,25],[141,24,141,25],[142,24,142,25],[143,24,143,25],[144,24,144,25],[145,24,145,25],[146,24,146,25],[147,24,147,25],[148,24,148,25],[149,24,149,25],[150,24,150,25],[151,24,151,25],[152,24,152,25],[153,24,153,25],[154,24,154,25],[155,24,155,25],[156,24,156,25],[157,24,157,25],[158,24,158,25],[159,24,159,25],[160,24,160,25],[161,24,161,25],[162,24,162,25],[163,24,163,25],[164,24,164,25],[165,24,165,25],[166,24,166,25],[167,24,167,25],[168,24,168,25],[169,24,169,25],[170,24,170,25],[171,24,171,25],[172,24,172,25],[173,24,173,25],[98,27,98,28],[99,27,99,28],[100,27,100,28],[101,27,101,28],[102,27,102,28],[103,27,103,28],[104,27,104,28],[105,27,105,28],[106,27,106,28],[107,27,107,28],[108,27,108,28],[109,27,109,28],[110,27,110,28],[111,27,111,28],[112,27,112,28],[113,27,113,28],[114,27,114,28],[115,27,115,28],[116,27,116,28],[117,27,117,28],[118,27,118,28],[119,27,119,28],[120,27,120,28],[121,27,121,28],[122,27,122,28],[123,27,123,28],[124,27,124,28],[125,27,125,28],[126,27,126,28],[127,27,127,28],[128,27,128,28],[129,27,129,28],[130,27,130,28],[131,27,131,28],[132,27,132,28],[133,27,133,28],[134,27,134,28],[135,27,135,28],[136,27,136,28],[137,27,137,28],[138,27,138,28],[139,27,139,28],[140,27,140,28],[141,27,141,28],[142,27,142,28],[143,27,143,28],[144,27,144,28],[145,27,145,28],[146,27,146,28],[147,27,147,28],[148,27,148,28],[149,27,149,28],[150,27,150,28],[151,27,151,28],[152,27,152,28],[153,27,153,28],[154,27,154,28],[155,27,155,28],[156,27,156,28],[157,27,157,28],[158,27,158,28],[159,27,159,28],[160,27,160,28],[161,27,161,28],[162,27,162,28],[163,27,163,28],[164,27,164,28],[165,27,165,28],[166,27,166,28],[167,27,167,28],[168,27,168,28],[169,27,169,28],[170,27,170,28],[171,27,171,28],[172,27,172,28],[173,27,173,28],[98,30,98,31],[99,30,99,31],[100,30,100,31],[101,30,101,31],[102,30,102,31],[103,30,103,31],[104,30,104,31],[105,30,105,31],[106,30,106,31],[107,30,107,31],[108,30,108,31],[109,30,109,31],[110,30,110,31],[111,30,111,31],[112,30,112,31],[113,30,113,31],[114,30,114,31],[115,30,115,31],[116,30,116,31],[117,30,117,31],[118,30,118,31],[119,30,119,31],[120,30,120,31],[121,30,121,31],[122,30,122,31],[123,30,123,31],[124,30,124,31],[125,30,125,31],[126,30,126,31],[127,30,127,31],[128,30,128,31],[129,30,129,31],[130,30,130,31],[131,30,131,31],[132,30,132,31],[133,30,133,31],[134,30,134,31],[135,30,135,31],[136,30,136,31],[137,30,137,31],[138,30,138,31],[139,30,139,31],[140,30,140,31],[141,30,141,31],[142,30,142,31],[143,30,143,31],[144,30,144,31],[145,30,145,31],[146,30,146,31],[147,30,147,31],[148,30,148,31],[149,30,149,31],[150,30,150,31],[151,30,151,31],[152,30,152,31],[153,30,153,31],[154,30,154,31],[155,30,155,31],[156,30,156,31],[157,30,157,31],[158,30,158,31],[159,30,159,31],[160,30,160,31],[161,30,161,31],[162,30,162,31],[163,30,163,31],[164,30,164,31],[165,30,165,31],[166,30,166,31],[167,30,167,31],[168,30,168,31],[169,30,169,31],[170,30,170,31],[171,30,171,31],[172,30,172,31],[173,30,173,31],[98,33,98,34],[99,33,99,34],[100,33,100,34],[101,33,101,34],[102,33,102,34],[103,33,103,34],[104,33,104,34],[105,33,105,34],[106,33,106,34],[107,33,107,34],[108,33,108,34],[109,33,109,34],[110,33,110,34],[111,33,111,34],[112,33,112,34],[113,33,113,34],[114,33,114,34],[115,33,115,34],[116,33,116,34],[117,33,117,34],[118,33,118,34],[119,33,119,34],[120,33,120,34],[121,33,121,34],[122,33,122,34],[123,33,123,34],[124,33,124,34],[125,33,125,34],[126,33,126,34],[127,33,127,34],[128,33,128,34],[129,33,129,34],[130,33,130,34],[131,33,131,34],[132,33,132,34],[133,33,133,34],[134,33,134,34],[135,33,135,34],[136,33,136,34],[137,33,137,34],[138,33,138,34],[139,33,139,34],[140,33,140,34],[141,33,141,34],[142,33,142,34],[143,33,143,34],[144,33,144,34],[145,33,145,34],[146,33,146,34],[147,33,147,34],[148,33,148,34],[149,33,149,34],[150,33,150,34],[151,33,151,34],[153,33,153,34],[171,33,171,34],[154,33,154,34],[155,33,155,34],[156,33,156,34],[157,33,157,34],[158,33,158,34],[159,33,159,34],[160,33,160,34],[161,33,161,34],[162,33,162,34],[172,33,172,34],[173,33,173,34],[97,18,97,19],[97,21,97,22],[97,24,97,25],[97,27,97,28],[97,30,97,31],[97,33,97,34],[96,15,96,16],[96,18,96,19],[96,21,96,22],[96,24,96,25],[96,27,96,28],[96,30,96,31],[96,33,96,34],[163,33,163,34],[164,33,164,34],[165,33,165,34],[166,33,166,34],[167,33,167,34],[168,33,168,34],[169,33,169,34],[170,33,170,34],[152,33,152,34]]}
[]
[null,null,null,null,null,{"$f":"SUBSTITUTE(SUBSTITUTE(SUBSTITUTE(D16,\" \",\"_\"), \"/\", \"_\"),\"-\",\"_\")","v":"Client_Participant_Self_Reported"},null,null,null,null,"Outcome Measurement Tool (OMT)\nMA - Victim Witness Assistance Board\n\nNeed Support? Contact MOVAstats@mass.gov.\n"]
[null,null,null,null,"SHORT- AND LONG-TERM OUTCOMES",null,null,null,null,null,null,null,null,"(#3) DATA ENTRY TAB"]
[null,"Subrecipients are expected to implement the Key Outcomes set by MOVA to demonstrate what has been achieved by their program. This section is meant to capture what you may already be collecting. It also provides recommendations for potential areas based on what we know about the impact of VOCA across the Commonwealth and utilizing existing logic models. This will allow for similar programs to select common measures, while maintaining options for unique contributions. During each reporting period, you will provide the average or overall outcome for each measure entered in this section for that period. How many times that question was administered is captured in the \"Demographics\" tab to auto-calculate the response rate."]
[]
[]
[]
[]
[null,"SECTION 16: Short and Long-term Outcomes\n\nDuring Contract Period:\nEnter Milestone: Provide the milestone included in the program logic model for the corresponding item to show what you plan to achieve by the end of your award.\n\nDuring each reporting period:\nUpdate finding for current reporting period: Update finding for current reporting period: Enter the results for the specified outcome during each reporting period. For example, if you had 50 victims that were appropriate for SAFEPLAN services and you provide information and referrals to 45 of them, you would enter 90% in the left column and 45 50 in the right column."]
[]
[]
[null,"Section 16a: Numeric/Quantitative Section",null,null,null,null,null,null,null,null,null,null,null,null,"Period 1 (July 1 - September 30 2022)",null,null,"Period 2 (October 1 – December 31 2022)",null,null,"Period 3 (January 1 - March 31 2023)",null,null,"Period 4 (April 1 - June 30 2023)",null,null,"Period 5 (October – December 2021)",null,null,"Period 6 (January – March 2022)",null,null,"Period 7 (April – June 2022)",null,null,"Period 8 (July – September 2022)"]
[null,"STRATEGIC AREA\n\nThe strategic area related to the outcome.",null,"OUTCOME TYPE\n\nWho/What is the outcome \nfocused on?","SUB-CATEGORY\n\nFurther classify outcomes.","QUESTION/MEASURE/ITEM\n\n","DEFINE MEASURE\n\nType of response options to the specified question.","SCALE RANGE\n\nWhat are the response options?\n \nMilestone should be within the scale range and match the type of response","SHORT OR LONG-TERM OUTCOME\n\nSelect the timing for when this outcome is measured in terms of whether it is listed as short- or long-term within your logic model.","REPORTING TIMELINE\n\nThis represents how often you will report data to MOVA.","MILESTONE\n\nNumeric target set to assist with tracking progress toward your goals. ","MILESTONE NOTE\n\nProvide description or additional information to help interpret the milestone and details contained within this row. ","DATA COLLECTION / ADMINISTRATION\n\nOptional - Provide a brief description for how this information was collected (e.g., surveys, interviews, case data, after each session).","Period 1 (July 1 - September 30 2023)",null,null,"Period 2 (October 1 - December 31 2023)",null,null,"Period 3 (January 1 - March 31 2024)",null,null,"Period 4 (April 1 - June 30 2024)",null,null,"Period 5 (October – December 2021)",null,null,"Period 6 (January – March 2022)",null,null,"Period 7 (April – June 2022)",null,null,"Period 8 (July – September 2022)",null,"Overall Average\n(auto-calculated)"]
[null,null,null,null,null,null,null,null,null,null,null,null,null,"Number of SP Clients who received measured service","Total Number of SP eligible clients","Percentage of Measure Met","Number of SP Clients who received measured service","Total Number of SP eligible clients","Percentage of Measure Met","Number of SP Clients who received measured service","Total Number of SP eligible clients","Percentage of Measure Met","Number of SP Clients who received measured service","Total Number of SP eligible clients","Percentage of Measure Met","Input Score Below","Total Number of Times Collected/ Individuals",null,"Input Score Below","Total Number of Times Collected/ Individuals",null,"Input Score Below","Total Number of Times Collected/ Individuals",null,"Input Score Below","Total Number of Times Collected/ Individuals"]
[null,"Case Management and Advocacy","To empower the victim post-trauma","Client/Participant/Self-Reported","Example: Improve Well-Being OR Safety and Protection","The services I received helped improve my sense of safety and security.","Ordered scale (Likert)","0% - 100%","Short-term outcome","Quarterly",0.85,"Percentage of individuals that responded with Yes","Administered as a paper-pencil questionnaire after each session with clients; voluntary and based on readiness to be included",39,45,{"$f":"N15/O15","v":0.8666666666666667},19,20,{"$f":"SUM(Q15/R15)","v":0.95},8,10,{"$f":"SUM(T15/U15)","v":0.8},11,14,{"$f":"SUM(W15/X15)","v":0.7857142857142857},3.5,62,null,3.5,12,null,4.5,19,null,4,10,{"$f":"AVERAGE(P15,S15,V15,Y15)","v":0.85059523809523807}]
[null,"Legal Services and Legal Advocacy",null,"Client/Participant/Self-Reported","Access Systems (i.e., justice, medical)","Percentage of individuals appropriate for SAFEPLAN services that received civil advocacy and/or accompaniment","Other, specify in scale range","0% - 100%","Short-term Outcome","Quarterly",0.9,"Percentage of individuals that were provided with this SAFEPLAN service ","Review of SAFEPLAN records of service provision",null,null,{"$f":"N16/O16","v":{"$error":"#DIV/0!"}},null,null,{"$f":"Q16/R16","v":{"$error":"#DIV/0!"}},null,null,{"$f":"SUM(T16/U16)","v":{"$error":"#DIV/0!"}},null,null,{"$f":"SUM(W16/X16)","v":{"$error":"#DIV/0!"}},null,null,null,null,null,null,null,null,null,null,null,{"$f":"AVERAGE(P16,S16,V16,Y16)","v":{"$error":"#DIV/0!"}}]
[null,"Crisis Intervention and Hotline",null,"Client/Participant/Self-Reported","Connections to Community Resources","Percentage of individuals appropriate for SAFEPLAN services that received information and referrals","Other, specify in scale range","0% - 100%","Short-term Outcome","Quarterly",0.9,"Percentage of individuals that were provided with this SAFEPLAN service ","Review of SAFEPLAN records of service provision",null,null,{"$f":"N17/O17","v":{"$error":"#DIV/0!"}},null,null,{"$f":"Q17/R17","v":{"$error":"#DIV/0!"}},null,null,{"$f":"SUM(T17/U17)","v":{"$error":"#DIV/0!"}},null,null,{"$f":"SUM(W17/X17)","v":{"$error":"#DIV/0!"}},null,null,null,null,null,null,null,null,null,null,null,{"$f":"AVERAGE(P17,S17,V17,Y17)","v":{"$error":"#DIV/0!"}}]
[null,"Crisis Intervention and Hotline",null,"Client/Participant/Self-Reported","Safety and Protection","Percentage of individuals appropriate for SAFEPLAN services that received safety planning ","Other, specify in scale range","0% - 100%","Short-term Outcome","Quarterly",0.9,"Percentage of individuals that were provided with this SAFEPLAN service ","Review of SAFEPLAN records of service provision",null,null,{"$error":"#DIV/0!"},null,null,{"$f":"Q18/R18","v":{"$error":"#DIV/0!"}},null,null,{"$f":"SUM(T18/U18)","v":{"$error":"#DIV/0!"}},null,null,{"$error":"#DIV/0!"},null,null,null,null,null,null,null,null,null,null,null,{"$f":"AVERAGE(P18,S18,V18,Y18)","v":{"$error":"#DIV/0!"}}]
[null,null,null,null,null,null,null,null,null,null,null,null,null,null,null,{"$error":"#DIV/0!"}]
[null,null,null,null,null,null,null,null,null,null,null,null,null,null,null,{"$error":"#DIV/0!"}]
[null,null,null,null,null,null,null,null,null,null,null,null,null,null,null,{"$error":"#DIV/0!"}]
[null,null,null,null,null,null,null,null,null,null,null,null,null,null,null,{"$error":"#DIV/0!"}]
[null,null,null,null,null,null,null,null,null,null,null,null,null,null,null,{"$f":"N23/O23","v":{"$error":"#DIV/0!"}}]
[]
[]
[]
[]
[]
[]
[]
[]
[]
[]
[]
[]
[]
[]
[null,"Select Strategic Area",null,"Select one. ",null,null,"Select type.",null,"Select option.",null,null,null,null,null,null,null,null,null,null,null,null,null,null,null,null,null,null,null,null,null,null,null,null,null,null,null,{"$f":"AVERAGE(N38,Q38,T38,W38,Z38,AC38,AF38,AI38)","v":{"$error":"#DIV/0!"}}]
[null,"Select Strategic Area","To reduce trauma symptoms of crime victims who are engaged in mental health services","Select one. ",null,null,"Select type.",null,"Select option.",null,null,null,null,null,null,null,null,null,null,null,null,null,null,null,null,null,null,null,null,null,null,null,null,null,null,null,{"$error":"#DIV/0!"}]
[null,"Select Strategic Area",null,"Select one. ",null,null,"Select type.",null,"Select option.",null,null,null,null,null,null,null,null,null,null,null,null,null,null,null,null,null,null,null,null,null,null,null,null,null,null,null,{"$error":"#DIV/0!"}]
[null,"Select Strategic Area",null,"Select one. ",null,null,"Select type.",null,"Select option.",null,null,null,null,null,null,null,null,null,null,null,null,null,null,null,null,null,null,null,null,null,null,null,null,null,null,null,{"$error":"#DIV/0!"}]
[null,"Select Strategic Area",null,"Select one. ",null,null,"Select type.",null,"Select option.",null,null,null,null,null,null,null,null,null,null,null,null,null,null,null,null,null,null,null,null,null,null,null,null,null,null,null,{"$error":"#DIV/0!"}]
[null,"Select Strategic Area",null,"Select one. ",null,null,"Select type.",null,"Select option.",null,null,null,null,null,null,null,null,null,null,null,null,null,null,null,null,null,null,null,null,null,null,null,null,null,null,null,{"$error":"#DIV/0!"}]
[null,"Select Strategic Area",null,"Select one. ",null,null,"Select type.",null,"Select option.",null,null,null,null,null,null,null,null,null,null,null,null,null,null,null,null,null,null,null,null,null,null,null,null,null,null,null,{"$error":"#DIV/0!"}]
[null,"Select Strategic Area",null,"Select one. ",null,null,"Select type.",null,"Select option.",null,null,null,null,null,null,null,null,null,null,null,null,null,null,null,null,null,null,null,null,null,null,null,null,null,null,null,{"$error":"#DIV/0!"}]
[null,"Select Strategic Area",null,"Select one. ",null,null,"Select type.",null,"Select option.",null,null,null,null,null,null,null,null,null,null,null,null,null,null,null,null,null,null,null,null,null,null,null,null,null,null,null,{"$error":"#DIV/0!"}]
[null,"Select Strategic Area","To reduce trauma symptoms of crime victims who are engaged in mental health services","Select one. ",null,null,"Select type.",null,"Select option.",null,null,null,null,null,null,null,null,null,null,null,null,null,null,null,null,null,null,null,null,null,null,null,null,null,null,null,{"$error":"#DIV/0!"}]
[null,"Select Strategic Area","To reduce trauma symptoms of crime victims who are engaged in mental health services","Select one. ",null,null,"Select type.",null,"Select option.",null,null,null,null,null,null,null,null,null,null,null,null,null,null,null,null,null,null,null,null,null,null,null,null,null,null,null,{"$error":"#DIV/0!"}]
[null,"Select Strategic Area",null,"Select one. ",null,null,"Select type.",null,"Select option.",null,null,null,null,null,null,null,null,null,null,null,null,null,null,null,null,null,null,null,null,null,null,null,null,null,null,null,{"$error":"#DIV/0!"}]
[null,"Select Strategic Area",null,"Select one. ",null,null,"Select type.",null,"Select option.",null,null,null,null,null,null,null,null,null,null,null,null,null,null,null,null,null,null,null,null,null,null,null,null,null,null,null,{"$error":"#DIV/0!"}]
[null,"Select Strategic Area",null,"Select one. ",null,null,"Select type.",null,"Select option.",null,null,null,null,null,null,null,null,null,null,null,null,null,null,null,null,null,null,null,null,null,null,null,null,null,null,null,{"$error":"#DIV/0!"}]
[null,"Select Strategic Area",null,"Select one. ",null,null,"Select type.",null,"Select option.",null,null,null,null,null,null,null,null,null,null,null,null,null,null,null,null,null,null,null,null,null,null,null,null,null,null,null,{"$error":"#DIV/0!"}]
[null,"Select Strategic Area",null,"Select one. ",null,null,"Select type.",null,"Select option.",null,null,null,null,null,null,null,null,null,null,null,null,null,null,null,null,null,null,null,null,null,null,null,null,null,null,null,{"$error":"#DIV/0!"}]
[null,"Select Strategic Area",null,"Select one. ",null,null,"Select type.",null,"Select option.",null,null,null,null,null,null,null,null,null,null,null,null,null,null,null,null,null,null,null,null,null,null,null,null,null,null,null,{"$error":"#DIV/0!"}]
[null,"Select Strategic Area",null,"Select one. ",null,null,"Select type.",null,"Select option.",null,null,null,null,null,null,null,null,null,null,null,null,null,null,null,null,null,null,null,null,null,null,null,null,null,null,null,{"$error":"#DIV/0!"}]
[null,"Select Strategic Area","To reduce trauma symptoms of crime victims who are engaged in mental health services","Select one. ",null,null,"Select type.",null,"Select option.",null,null,null,null,null,null,null,null,null,null,null,null,null,null,null,null,null,null,null,null,null,null,null,null,null,null,null,{"$error":"#DIV/0!"}]
[null,"Select Strategic Area","To reduce trauma symptoms of crime victims who are engaged in mental health services","Select one. ",null,null,"Select type.",null,"Select option.",null,null,null,null,null,null,null,null,null,null,null,null,null,null,null,null,null,null,null,null,null,null,null,null,null,null,null,{"$error":"#DIV/0!"}]
[null,"Select Strategic Area",null,"Select one. ",null,null,"Select type.",null,"Select option.",null,null,null,null,null,null,null,null,null,null,null,null,null,null,null,null,null,null,null,null,null,null,null,null,null,null,null,{"$error":"#DIV/0!"}]
[null,"Select Strategic Area",null,"Select one. ",null,null,"Select type.",null,"Select option.",null,null,null,null,null,null,null,null,null,null,null,null,null,null,null,null,null,null,null,null,null,null,null,null,null,null,null,{"$error":"#DIV/0!"}]
[null,"Select Strategic Area",null,"Select one. ",null,null,"Select type.",null,"Select option.",null,null,null,null,null,null,null,null,null,null,null,null,null,null,null,null,null,null,null,null,null,null,null,null,null,null,null,{"$error":"#DIV/0!"}]
[null,"Select Strategic Area",null,"Select one. ",null,null,"Select type.",null,"Select option.",null,null,null,null,null,null,null,null,null,null,null,null,null,null,null,null,null,null,null,null,null,null,null,null,null,null,null,{"$error":"#DIV/0!"}]
[null,"Select Strategic Area",null,"Select one. ",null,null,"Select type.",null,"Select option.",null,null,null,null,null,null,null,null,null,null,null,null,null,null,null,null,null,null,null,null,null,null,null,null,null,null,null,{"$error":"#DIV/0!"}]
[null,"Select Strategic Area",null,"Select one. ",null,null,"Select type.",null,"Select option.",null,null,null,null,null,null,null,null,null,null,null,null,null,null,null,null,null,null,null,null,null,null,null,null,null,null,null,{"$error":"#DIV/0!"}]
[null,"Select Strategic Area",null,"Select one. ",null,null,"Select type.",null,"Select option.",null,null,null,null,null,null,null,null,null,null,null,null,null,null,null,null,null,null,null,null,null,null,null,null,null,null,null,{"$error":"#DIV/0!"}]
[null,"Select Strategic Area","To reduce trauma symptoms of crime victims who are engaged in mental health services","Select one. ",null,null,"Select type.",null,"Select option.",null,null,null,null,null,null,null,null,null,null,null,null,null,null,null,null,null,null,null,null,null,null,null,null,null,null,null,{"$error":"#DIV/0!"}]
[null,"Select Strategic Area",null,"Select one. ",null,null,"Select type.",null,"Select option.",null,null,null,null,null,null,null,null,null,null,null,null,null,null,null,null,null,null,null,null,null,null,null,null,null,null,null,{"$error":"#DIV/0!"}]
[null,"Select Strategic Area",null,"Select one. ",null,null,"Select type.",null,"Select option.",null,null,null,null,null,null,null,null,null,null,null,null,null,null,null,null,null,null,null,null,null,null,null,null,null,null,null,{"$error":"#DIV/0!"}]
[null,"Select Strategic Area",null,"Select one. ",null,null,"Select type.",null,"Select option.",null,null,null,null,null,null,null,null,null,null,null,null,null,null,null,null,null,null,null,null,null,null,null,null,null,null,null,{"$error":"#DIV/0!"}]
[null,"Select Strategic Area",null,"Select one. ",null,null,"Select type.",null,"Select option.",null,null,null,null,null,null,null,null,null,null,null,null,null,null,null,null,null,null,null,null,null,null,null,null,null,null,null,{"$error":"#DIV/0!"}]
[null,"Select Strategic Area",null,"Select one. ",null,null,"Select type.",null,"Select option.",null,null,null,null,null,null,null,null,null,null,null,null,null,null,null,null,null,null,null,null,null,null,null,null,null,null,null,{"$error":"#DIV/0!"}]
[null,"Select Strategic Area",null,"Select one. ",null,null,"Select type.",null,"Select option.",null,null,null,null,null,null,null,null,null,null,null,null,null,null,null,null,null,null,null,null,null,null,null,null,null,null,null,{"$error":"#DIV/0!"}]
[null,"Select Strategic Area",null,"Select one. ",null,null,"Select type.",null,"Select option.",null,null,null,null,null,null,null,null,null,null,null,null,null,null,null,null,null,null,null,null,null,null,null,null,null,null,null,{"$error":"#DIV/0!"}]
[null,"Select Strategic Area","To reduce trauma symptoms of crime victims who are engaged in mental health services","Select one. ",null,null,"Select type.",null,"Select option.",null,null,null,null,null,null,null,null,null,null,null,null,null,null,null,null,null,null,null,null,null,null,null,null,null,null,null,{"$error":"#DIV/0!"}]
[null,"Select Strategic Area",null,"Select one. ",null,null,"Select type.",null,"Select option.",null,null,null,null,null,null,null,null,null,null,null,null,null,null,null,null,null,null,null,null,null,null,null,null,null,null,null,{"$error":"#DIV/0!"}]
[null,"Select Strategic Area",null,"Select one. ",null,null,"Select type.",null,"Select option.",null,null,null,null,null,null,null,null,null,null,null,null,null,null,null,null,null,null,null,null,null,null,null,null,null,null,null,{"$error":"#DIV/0!"}]
[null,"Select Strategic Area",null,"Select one. ",null,null,"Select type.",null,"Select option.",null,null,null,null,null,null,null,null,null,null,null,null,null,null,null,null,null,null,null,null,null,null,null,null,null,null,null,{"$error":"#DIV/0!"}]
[null,"Select Strategic Area",null,"Select one. ",null,null,"Select type.",null,"Select option.",null,null,null,null,null,null,null,null,null,null,null,null,null,null,null,null,null,null,null,null,null,null,null,null,null,null,null,{"$error":"#DIV/0!"}]
[null,"Select Strategic Area",null,"Select one. ",null,null,"Select type.",null,"Select option.",null,null,null,null,null,null,null,null,null,null,null,null,null,null,null,null,null,null,null,null,null,null,null,null,null,null,null,{"$error":"#DIV/0!"}]
[null,"Select Strategic Area",null,"Select one. ",null,null,"Select type.",null,"Select option.",null,null,null,null,null,null,null,null,null,null,null,null,null,null,null,null,null,null,null,null,null,null,null,null,null,null,null,{"$error":"#DIV/0!"}]
[null,"Select Strategic Area",null,"Select one. ",null,null,"Select type.",null,"Select option.",null,null,null,null,null,null,null,null,null,null,null,null,null,null,null,null,null,null,null,null,null,null,null,null,null,null,null,{"$f":"AVERAGE(N80,Q80,T80,W80,Z80,AC80,AF80,AI80)","v":{"$error":"#DIV/0!"}}]
[null,"Select Strategic Area","To reduce trauma symptoms of crime victims who are engaged in mental health services","Select one. ",null,null,"Select type.",null,"Select option.",null,null,null,null,null,null,null,null,null,null,null,null,null,null,null,null,null,null,null,null,null,null,null,null,null,null,null,{"$error":"#DIV/0!"}]
[null,"Select Strategic Area",null,"Select one. ",null,null,"Select type.",null,"Select option.",null,null,null,null,null,null,null,null,null,null,null,null,null,null,null,null,null,null,null,null,null,null,null,null,null,null,null,{"$error":"#DIV/0!"}]
[null,"Select Strategic Area",null,"Select one. ",null,null,"Select type.",null,"Select option.",null,null,null,null,null,null,null,null,null,null,null,null,null,null,null,null,null,null,null,null,null,null,null,null,null,null,null,{"$error":"#DIV/0!"}]
[null,"Select Strategic Area",null,"Select one. ",null,null,"Select type.",null,"Select option.",null,null,null,null,null,null,null,null,null,null,null,null,null,null,null,null,null,null,null,null,null,null,null,null,null,null,null,{"$error":"#DIV/0!"}]
[null,"Select Strategic Area",null,"Select one. ",null,null,"Select type.",null,"Select option.",null,null,null,null,null,null,null,null,null,null,null,null,null,null,null,null,null,null,null,null,null,null,null,null,null,null,null,{"$error":"#DIV/0!"}]
[null,"Select Strategic Area",null,"Select one. ",null,null,"Select type.",null,"Select option.",null,null,null,null,null,null,null,null,null,null,null,null,null,null,null,null,null,null,null,null,null,null,null,null,null,null,null,{"$error":"#DIV/0!"}]
[null,"Select Strategic Area",null,"Select one. ",null,null,"Select type.",null,"Select option.",null,null,null,null,null,null,null,null,null,null,null,null,null,null,null,null,null,null,null,null,null,null,null,null,null,null,null,{"$error":"#DIV/0!"}]
[null,"Select Strategic Area",null,"Select one. ",null,null,"Select type.",null,"Select option.",null,null,null,null,null,null,null,null,null,null,null,null,null,null,null,null,null,null,null,null,null,null,null,null,null,null,null,{"$error":"#DIV/0!"}]
[null,"Select Strategic Area",null,"Select one. ",null,null,"Select type.",null,"Select option.",null,null,null,null,null,null,null,null,null,null,null,null,null,null,null,null,null,null,null,null,null,null,null,null,null,null,null,{"$error":"#DIV/0!"}]
[null,"Select Strategic Area",null,"Select one. ",null,null,"Select type.",null,"Select option.",null,null,null,null,null,null,null,null,null,null,null,null,null,null,null,null,null,null,null,null,null,null,null,null,null,null,null,{"$error":"#DIV/0!"}]
[null,"Select Strategic Area",null,"Select one. ",null,null,"Select type.",null,"Select option.",null,null,null,null,null,null,null,null,null,null,null,null,null,null,null,null,null,null,null,null,null,null,null,null,null,null,null,{"$error":"#DIV/0!"}]
[null,"Select Strategic Area",null,"Select one. ",null,null,"Select type.",null,"Select option.",null,null,null,null,null,null,null,null,null,null,null,null,null,null,null,null,null,null,null,null,null,null,null,null,null,null,null,{"$error":"#DIV/0!"}]
[null,"Section 16b: Open-Ended/Qualitative Section"]
[null,"SECTION 16b: Open Ended Responses\nFor some agencies, open ended responses from victims, staff and community members may provide additional information about short- and long-term outcome achievement. \n1.) Examine any open-ended questions asked in surveys, evaluations or other methods of collecting feedback. \n2.) Determine the related strategic area and goal and enter the information in the appropriate area. \n3.) For each outcome, determine the focus of it (clients, perception of staff or quality of services) from Outcome Type and the main theme of the outcome from Category. \n4.) In the Question column write the question you are asking staff, clients or community members to determine your organization's performance for the selected outcome. \n5.)Each reporting period, review your open ended comments and find the most prevalent theme for that reporting period. Write the top theme under the correct reporting tab and indicate how many of the responses included that theme. "]
[null,"Strategic Area\n\nThe strategic area related to the outcomes.\n","Goal\nThe goal related to the outcomes","Outcome Type\n\nWho/What is the outcome focused on?","Category\n\nMain themes of outcomes.","Question\n\nInclude the full text for the questions that are \nadministered to assess outcomes.",null,null,"Short or Long-Term\n\nSelect the timing for when this outcome is measured in terms of whether it is listed as short- or long-term within your logic model.","Reporting Timeline\n\nSpecify if the measure is captured quarterly, annually, or some other increment. This is also where notes about future reporting and follow-up timelines can be noted.","Milestone\n\nTarget set to assist with tracking progress toward your goals. For example, what is the expected theme to emerge.","Milestone Note \n\nProvide description or additional information to help interpret the milestone and details contained within this row. ","Data Collection/Administration \n\nOptional - Provide a brief description for how this information was collected (e.g., surveys, interviews, case data, after each session).","Reporting Period 1",null,null,"Reporting Period 2",null,null,"Reporting Period 3",null,null,"Reporting Period 4",null,null,"Reporting Period 5",null,null,"Reporting Period 6",null,null,"Reporting Period 7",null,null,"Reporting Period 8"]
[null,null,null,null,null,null,null,null,null,null,null,null,null,"Top Theme","%",null,"Top Theme","%",null,"Top Theme","%",null,"Top Theme","%",null,"Top Theme","%",null,"Top Theme","%",null,"Top Theme","%",null,"Top Theme","%"]
[null,"Case Management and Advocacy",null,"Client/Participant/Self-Reported","Client/Victim Well-Being","What was most helpful about the program? ",null,null,"Short-term outcome","Annually","Responsive Staff","Focused on staff training, diversification, and lived experience - goal of higher satisfaction with staff engaged","Closeout survey - 5 items asking about areas to improve the program",null,0.8,"Staff",null,0.74,"Staff",null,0.74,"Staff",null,0.65,"Staff",null,0.8,"Staff",null,0.82,"Staff",null,0.79,"Staff",null,0.8]
[null,"Select Strategic Area","To empower the victim post-trauma","Select one. ",null,null,null,null,"Select option."]
[null,"Select Strategic Area",null,"Select one. ",null,null,null,null,"Select option."]
[null,"Select Strategic Area",null,"Select one. ",null,null,null,null,"Select option."]
[null,"Select Strategic Area","To empower the victim post-trauma","Select one. ",null,null,null,null,"Select option."]
[null,"Select Strategic Area",null,"Select one. ",null,null,null,null,"Select option."]
[null,"Select Strategic Area",null,"Select one. ",null,null,null,null,"Select option."]
[null,"Select Strategic Area","To empower the victim post-trauma","Select one. ",null,null,null,null,"Select option."]
[null,"Select Strategic Area",null,"Select one. ",null,null,null,null,"Select option."]
[null,"Select Strategic Area",null,"Select one. ",null,null,null,null,"Select option."]
[null,"Select Strategic Area","To empower the victim post-trauma","Select one. ",null,null,null,null,"Select option."]
[null,"Select Strategic Area",null,"Select one. ",null,null,null,null,"Select option."]
[null,"Select Strategic Area",null,"Select one. ",null,null,null,null,"Select option."]
[null,"Select Strategic Area","To empower the victim post-trauma","Select one. ",null,null,null,null,"Select option."]
[null,"Select Strategic Area",null,"Select one. ",null,null,null,null,"Select option."]
[null,"Select Strategic Area",null,"Select one. ",null,null,null,null,"Select option."]
[null,"Select Strategic Area","To empower the victim post-trauma","Select one. ",null,null,null,null,"Select option."]
[null,"Select Strategic Area",null,"Select one. ",null,null,null,null,"Select option."]
[null,"Select Strategic Area",null,"Select one. ",null,null,null,null,"Select option."]
[null,"Select Strategic Area","To empower the victim post-trauma","Select one. ",null,null,null,null,"Select option."]
[null,"Select Strategic Area",null,"Select one. ",null,null,null,null,"Select option."]
[null,"Select Strategic Area",null,"Select one. ",null,null,null,null,"Select option."]
[null,"Select Strategic Area","To empower the victim post-trauma","Select one. ",null,null,null,null,"Select option."]
[null,"Select Strategic Area",null,"Select one. ",null,null,null,null,"Select option."]
[null,"Select Strategic Area",null,"Select one. ",null,null,null,null,"Select option."]
[null,"Select Strategic Area","To empower the victim post-trauma","Select one. ",null,null,null,null,"Select option."]
[null,"Select Strategic Area",null,"Select one. ",null,null,null,null,"Select option."]
[null,"Select Strategic Area",null,"Select one. ",null,null,null,null,"Select option."]
[null,"Select Strategic Area","To empower the victim post-trauma","Select one. ",null,null,null,null,"Select option."]
[null,"Select Strategic Area",null,"Select one. ",null,null,null,null,"Select option."]
[null,"Select Strategic Area",null,"Select one. ",null,null,null,null,"Select option."]
[null,"Select Strategic Area","To empower the victim post-trauma","Select one. ",null,null,null,null,"Select option."]
[null,"Select Strategic Area",null,"Select one. ",null,null,null,null,"Select option."]
[null,"Select Strategic Area",null,"Select one. ",null,null,null,null,"Select option."]
[null,"Select Strategic Area","To empower the victim post-trauma","Select one. ",null,null,null,null,"Select option."]
[null,"Select Strategic Area",null,"Select one. ",null,null,null,null,"Select option."]
[null,"Select Strategic Area",null,"Select one. ",null,null,null,null,"Select option."]
[null,"Select Strategic Area","To empower the victim post-trauma","Select one. ",null,null,null,null,"Select option."]
[null,"Select Strategic Area",null,"Select one. ",null,null,null,null,"Select option."]
[null,"Select Strategic Area",null,"Select one. ",null,null,null,null,"Select option."]
[null,"Select Strategic Area","To empower the victim post-trauma","Select one. ",null,null,null,null,"Select option."]
[null,"Select Strategic Area",null,"Select one. ",null,null,null,null,"Select option."]
[null,"Select Strategic Area",null,"Select one. ",null,null,null,null,"Select option."]
[null,"Select Strategic Area","To empower the victim post-trauma","Select one. ",null,null,null,null,"Select option."]
[null,"Select Strategic Area",null,"Select one. ",null,null,null,null,"Select option."]
[null,"Select Strategic Area",null,"Select one. ",null,null,null,null,"Select option."]
[null,"Select Strategic Area","To empower the victim post-trauma","Select one. ",null,null,null,null,"Select option."]
[null,"Select Strategic Area",null,"Select one. ",null,null,null,null,"Select option."]
[null,"Select Strategic Area",null,"Select one. ",null,null,null,null,"Select option."]
[null,"Select Strategic Area","To empower the victim post-trauma","Select one. ",null,null,null,null,"Select option."]
[null,"Select Strategic Area",null,"Select one. ",null,null,null,null,"Select option."]
[null,"Select Strategic Area",null,"Select one. ",null,null,null,null,"Select option."]
[null,"Select Strategic Area","To empower the victim post-trauma","Select one. ",null,null,null,null,"Select option."]
[null,"Select Strategic Area",null,"Select one. ",null,null,null,null,"Select option."]
[null,"Select Strategic Area",null,"Select one. ",null,null,null,null,"Select option."]
[null,"Select Strategic Area","To empower the victim post-trauma","Select one. ",null,null,null,null,"Select option."]
[null,"Select Strategic Area",null,"Select one. ",null,null,null,null,"Select option."]
[null,"Select Strategic Area",null,"Select one. ",null,null,null,null,"Select option."]
[null,"Select Strategic Area","To empower the victim post-trauma","Select one. ",null,null,null,null,"Select option."]
[null,"Select Strategic Area",null,"Select one. ",null,null,null,null,"Select option."]
[null,"Select Strategic Area",null,"Select one. ",null,null,null,null,"Select option."]
[null,"Select Strategic Area","To empower the victim post-trauma","Select one. ",null,null,null,null,"Select option."]
[null,"Select Strategic Area",null,"Select one. ",null,null,null,null,"Select option."]
[null,"Select Strategic Area",null,"Select one. ",null,null,null,null,"Select option."]
[null,"Select Strategic Area","To empower the victim post-trauma","Select one. ",null,null,null,null,"Select option."]
[null,"Select Strategic Area",null,"Select one. ",null,null,null,null,"Select option."]
[null,"Select Strategic Area",null,"Select one. ",null,null,null,null,"Select option."]
[null,"Select Strategic Area","To empower the victim post-trauma","Select one. ",null,null,null,null,"Select option."]
[null,"Select Strategic Area",null,"Select one. ",null,null,null,null,"Select option."]
[null,"Select Strategic Area",null,"Select one. ",null,null,null,null,"Select option."]
[null,"Select Strategic Area","To empower the victim post-trauma","Select one. ",null,null,null,null,"Select option."]
[null,"Select Strategic Area",null,"Select one. ",null,null,null,null,"Select option."]
[null,"Select Strategic Area",null,"Select one. ",null,null,null,null,"Select option."]
[null,"Select Strategic Area","To empower the victim post-trauma","Select one. ",null,null,null,null,"Select option."]
[null,"Select Strategic Area",null,"Select one. ",null,null,null,null,"Select option."]
[null,"Select Strategic Area",null,"Select one. ",null,null,null,null,"Select option."]
[null,"Select Strategic Area",null,"Select one. ",null,null,null,null,"Select option."]
[null,"Select Strategic Area",null,"Select one. ",null,null,null,null,"Select option."]

{"sheet":"Lists Hidden","index":18,"n_rows":86,"n_cols":11,"rows_kept":86,"cut":false,"hidden":true,"merged":[[3,10,14,17],[0,10,0,17]]}
["American Indian or Alaska Native","Asian (Most Popular 2012)","Black or African American","Hispanic or Latino (Most Popular 2010)","Native Hawaiian or Pacific Islander","White Non-Latino or Caucasian","Multiple Races (general)","Languages (Client Survey 4H)","Disabilities","Multiple Races","Sources"]
["Select from Options","Select from Options","Select from Options","Select from Options","Select from Options","Select from Options","Select from Options"]
["American Indian/Alaska Native (general)","Asian (general)","Black/African America (general)","Hispanic/Latino (general)","Native Hawaiian/Pacific Islander (general)","White Non-Latino/Caucasian (general)","American Indian or Alaska Native/Asian","Select from Options","Select from Options"]
["Aztec","Asian Indian","African American","Colombian","Carolinian","Cajun","American Indian or Alaska Native/Black or African American","Albanian","Arthritis/rheumatism",null,"https://2020census.gov/en/about-questions/2020-census-questions-race.html\nhttps://www.pewresearch.org/interactives/what-census-calls-us/\nhttps://icfonline.sharepoint.com/sites/MOVATeam/Shared%20Documents/General/Resources/Client%20Surveys/4.%20Child%20Abuse%20Service/4h%20_JRI_SMART.pdf?CT=1589563103968&OR=ItemsView\nhttps://www.pewresearch.org/hispanic/2012/06/27/the-10-largest-hispanic-origin-groups-characteristics-rankings-top-counties/\nhttps://www.api-gbv.org/resources/census-data-api-identities/\nhttps://apps.npr.org/documents/document.html?id=4365082-2020-Memo-2018-02-Questionnaire#document/\nhttps://www.census.gov/quickfacts/fact/note/US/RHI425218\nhttps://www.pewresearch.org/interactives/what-census-calls-us/"]
["Blackfeet Tribe","Bangladeshi","Bahamian","Cuban","Chamorro","Chaldean","American Indian or Alaska Native/Hispanic or Latino","American Sign Language","Asthma"]
["Chappaquiddick Wampanoag","Bhutanese","Barbadian","Dominican","Chuukese","Egyptian","American Indian or Alaska Native/Native Hawaiian or Pacific Islander","Amharic","Cancer"]
["Chaubunnagungamaug Nipmucks","Burmese","Ethiopian","Ecuadorian","Fijian","English ","American Indian or Alaska Native/White Non-Latino or Caucasian","Arabic","Chronic respiratory conditions"]
["Hassanamisco Nipmucs","Cambodian","Ghanaian","Guatemalan","Guamanian","French","Asian/Black or African American","Armenian","Alzheimer's disease, dementia or other conitive impairment disorder"]
["Herring Pond Wampanoag Tribe","Chinese","Haitian","Honduran","Hawaiian","German ","Asian/Hispanic or Latino","Bosnian","Developmental disabilites "]
["Mashpee Wampanoag Tribe","Filipino","Jamaican","Mexican","Kosraean","Iranian","Asian/ Native Hawaiian or Pacific Islander","Cantonese","Diabetes"]
["Mayan","Hmong","Kenyan","Peruvian","Marshallesse","Irish","Asian/White Non-Latino or Caucasian","Cape Verdean","Heart disease, hypertension, stroke"]
["Native Village of Barrow Inupiat Traditional Government","Indonesian","Kenyan","Puerto Rican","Native Hawaiian","Italian ","Black or African American/Hispanic or Latino","Chinese","H.I.V."]
["Navajo Nation","Japanese","Liberian","Salvadoran","Niuean","Lebanese","Black or African American/Native Hawaiian or Pacific Islander","Farsi/Iranian/Persian","Mental illnesses"]
["Nome Eskimo Community","Korean","Nigerian","Other Hispanic/Latino Identity","Palauan","Polish","Black or African American/White Non-Latino or Caucasian","Finnish ","Other organ failure or diseases"]
["Pocasset Wampanoag Tribe","Laotian","Somali","Not Tracked","Pohnpeian","Slavic","Hispanic or Latino/Native Hawaiian or Pacific Islander","French","Substance abuse or addiction disorders"]
["Seaconke Wampanoag Tribe                ","Malaysian","South African ",null,"Saipanese","Other White/Caucasian Identity","Hispanic or Latino/White Non-Latino or Caucasian","German","Injuries including broken bones",null,"https://www.cdc.gov/brfss/questionnaires/pdf-ques/2019-BRFSS-Questionnaire-508.pdf"]
["Wampanoag Tribe of Gay Head/Aquinnah","Mongolian","Other Black/African American Identity",null,"Samoan","Multiple Non-Latino or Caucasian Identities","Native Hawaiian or Pacific Islander/White Non-Latino or Caucasian","Greek","Old age/infirmity/frailty"]
["Yup'ik","Nepalese","Multiple Black/African American Identities",null,"Tahitian","Not Tracked","Other Races/Ethnicities (specify)","Haitian Creole","Multiple disabilities"]
["Other American Indian/Alaska Native Identity","Okinawan","Not Tracked","Select from Options","Tokelauan","Select Period",null,"Hebrew","Other disability"]
["Multiple AI/AN Identities","Pakistani",null,"Period 1 (July 1 - September 30 2023)","Other Native Hawaiian/Pacific Islander Identity",1,null,"Polish"]
["Not Tracked","Sri Lankan",null,"Period 2 (October 1 - December 31 2023)","Multiple Native Hawaiian/Pacific Islander Identities",null,null,"Portuguese"]
[null,"Taiwanese",null,"Period 3 (January 1 - March 31 2024)","Not Tracked",null,null,"Russian"]
[null,"Thai",null,"Period 4 (April 1 - June 30 2024)",null,null,null,"Serbian-Croatian"]
[null,"Vietnamese",null,null,null,null,null,"Somali"]
[null,"Other Asian Identity",null,null,null,null,null,"Spanish"]
[null,"Multiple Asian Identities",null,null,null,null,null,"Tagalog/Filipino"]
[null,"Not Tracked",null,null,null,null,null,"Tamil"]
[null,null,null,null,null,null,null,"Thai"]
[null,null,null,null,null,null,null,"Tigrigna"]
[null,null,null,null,null,null,null,"Turkish"]
[null,null,null,null,"Yes or No?","Enter Status",null,"Urdu"]
[null,null,null,null,"Yes","Not Started",null,"Vietnamese"]
[null,"New",null,null,"No","In Progress",null,"Yiddish"]
["Attleboro District Court","Returning",null,null,"Select one.","Completed",null,"Multiple Languages"]
["Ayer District Court",null,null,null,"Yes",null,null,"Other Language"]
["Barnstable County Probate & Family Court (Barnstable)",null,null,null,"No (go to question #12)"]
["Barnstable District Court"]
["Berkshire Probate & Family Court (Pittsfield)",null,null,null,"Select one."]
["Bristol County Family & Probate Court (Fall River) ",null,null,null,"Yes"]
["Bristol County Probate & Family Court (New Bedford)",null,null,null,"No (go to question #15)"]
["Bristol County Probate & Family Court (Taunton)"]
["Brockton District Court"]
["Chicopee District Court"]
["Clinton District Court"]
["Dudley District Court",null,null,null,"Likert Scale","Dichotomous",null,"Other"]
["East Brookfield District Court",null,null,null,"5=Strongly Agree, 4=Agree, 3=Undecided, 2=Disagree, 1=Strongly Disagree","1=Fair, 2=Unfair",null,"Select type."]
["Eastern Hampshire District Court (Belchertown)",null,null,null,"5=Excellent, 4=Above Average, 3=Average, 2=Below Average, 1=Poor","1=Agree, 2=Disagree",null,"Categorical - nominal scale with options that are non-numeric, such as gender, race, place of birth"]
["Essex County Probate & Family Court (Lawrence)",null,null,null,"4=High, 3=Moderate, 2=Low, 1=None","1=True, 2=False",null,"Ordered Scale - ordinal or Likert scale with options have have an order or rank and without standardized units, such as 5-point agreement scale (1 = strongly disagree, 5 = strongly agree)"]
["Essex County Probate & Family Court (Salem)",null,null,null,"6=Very Frequently, 5=Frequently, 4=Occasionally, 3=Rarely, 2=Very Rarely, 1=Never","1=Yes, 2= No",null,"Numeric Scale - interval or ratio scale includes an order or rank as well as standaridized units between each option, such as income, age, assessment scores"]
["Fall River District Court",null,null,null,"5=Very Good, 4=Good, 3=Acceptable, 2=Poor, 1=Very Poor",null,null,"Other, specify in scale range"]
["Falmouth District Court",null,null,null,"5=Almost Always, 4=Often, 3=Sometimes, 2=Seldom, 1=Never"]
["Fitchburg District Court",null,null,null,null,null,null,"Dichotomous (e.g., True/False, Yes/No, Agree/Disagree)"]
["Franklin County Probate & Family Court (Greenfield)",null,null,null,null,null,null,"Agreement"]
["Gardner District Court ",null,null,null,null,null,null,"Frequency"]
["Greenfield District Court",null,null,null,null,null,null,"Satisfaction"]
["Hampden County Probate & Family Court (Springfield)"]
["Hampshire County Probate & Family Court (Northampton)"]
["Haverhill District Court"]
["Hingham District Court"]
["Holyoke District Court",null,null,null,"Output Types"]
["Lawrence District Court ",null,null,null,"Select from the options"]
["Leominster District Court",null,null,null,"Volume of services"]
["Lynn District Court",null,null,null,"Sub-population"]
["Middlesex Probate & Family Court (Woburn)",null,null,null,"Service types"]
["Milford District Court",null,null,null,"Staff-based"]
["New Bedford District Court",null,null,null,"Organizational-level"]
["Northampton District Court",null,null,null,"Community Engagement/Outreach"]
["Northern Berkshire District Court (North Adams)",null,null,null,"Collaboration and referrals"]
["Orange District Court",null,null,null,"Other"]
["Orleans District Court"]
["Palmer District Court"]
["Pittsfield District Court"]
["Plymouth County Probate & Family Court (Brockton)"]
["Plymouth County Probate & Family Court (Plymouth)"]
["Plymouth District Court"]
["Salem District Court"]
["Southern Berkshire District Court (Great Barrington)"]
["Springfield District Court"]
["Taunton District Court"]
["Uxbridge District Court"]
["Wareham District Court"]
["Westborough District Court"]
["Westfield District Court"]
["Winchendon District Court"]
["Worcester County Family & Probate Court (Worcester)"]
["Worcester District Court"]

{"sheet":"Key Outcomes Hidden","index":19,"n_rows":41,"n_cols":10,"rows_kept":41,"cut":false,"hidden":true,"merged":[]}
["Select Strategic Area","Select one. ","Client/Participant/Self-Reported","Staff-Based/Staff Reported","Quality of Service Provision","Community Engagement/Outreach","Organizational-level","Collaboration/Referral","Service Population","Other"]
["Select Strategic Area",null,"Access Systems (i.e., justice, medical)","Ability to Provide Needed Service(s)","Accessibility of Services","Access to Services by Marginalized Communities","Board Governance","Awareness of Available Resources","Expand within Existing Service Population","Other"]
["Administrative Capacity",null,"Connections to Community Resources","Confidence in Providing Service(s)","Availability of Services","Access to Services by Underserved Communities","Culture and Values","Community Partnerships","Geographic Reach"]
["Case Management and Client/Victim Advocacy",null,"Client/Victim Well-Being","Individual Goal Achievement","Availability of Staff/Timeliness","Communication Strategy and Tools","Data Collection and Evaluative Capacity","Engagement with Existing Partners","New Racial/Ethnic Population"]
["Community Engagement and Outreach",null,"Economic Supports","Knowledge Building","Awareness of Services","Community Awareness of Issue","Financial Management","New Partnerships","Marginalized Population"]
["Crisis Intervention and Hotline",null,"Housing Stability","Program Accessibility and Responsiveness","Challenges and Barriers","Community Awareness of Services","Human Resources","Partner Awareness of Our Program/Services","Underserved Population"]
["Education and Training",null,"Independence and Empowerment","Represent Diversity of Experience","Confidential and Private","Community Wide-Response to Issue Impacting Victims of Crime","Infrastructure and Technology","Other","Other"]
["Financial Reimbursement or Compensation",null,"Individual Goal Achievement","Skill Building","Implementation of Best Practices","Materials and Website","Leadership Capacity"]
["Housing and Shelter",null,"Knowledge Building","Staff Well-Being","Language Access","Social Media Presence","Policies and Practices"]
["Language Access and Disabilities",null,"Network and Personal Relationship Supports","Volunteer Management","Location and Facility","Volunteer Recruitment","Program Implementation and Best Practices"]
["Legal Services and Legal Advocacy",null,"Mental Health and Well Being Physical Behavior","Other","Met Client Needs","Other","Strategy and Planning"]
["Medical and Forensic Services",null,"Safety and Protection",null,"Program Engagement",null,"Succession and Sustainability"]
["Mental Health Services",null,"Skill Building",null,"Program Satisfaction",null,"Vision and Mission"]
["Other",null,"Other",null,"Quality of Services",null,"Other"]
[null,null,null,null,"Respectful and Supportive Staff and Services"]
[null,null,null,null,"Survivor-Centered Practices"]
[null,null,null,null,"Trauma-Informed Care"]
[null,null,null,null,"Other"]
[]
["Administrative Capacity"]
["Case Management and Advocacy"]
["Community Engagement and Outreach"]
["Crisis Intervention and Hotline"]
["Education and Training"]
["Financial Reimbursement or Compensation"]
["Housing and Shelter"]
["Language Access"]
["Legal Services"]
["Medical and Forensic Services"]
["Mental Health Services"]
["Other"]
[]
[]
[]
[]
[]
[]
["Select option."]
["Short-term Outcome"]
["Long-term Outcome"]
["Unknown"]

{"sheet":"County Summary","index":20,"n_rows":16,"n_cols":207,"rows_kept":16,"cut":false,"hidden":true,"merged":[]}
["Reporting Period","SubId","Agency Name","STATE","Date","TOTAL number of individuals who received services during the reporting period.","TOTAL number of anonymous contacts received during the reporting period.","Of the number of individuals entered in question 1, how many were NEW individuals who received services from your agency for the first time during the reporting period?","If your organization can track new individuals, please enter 0. If your organization cannot track new individuals, please enter 1.  ","American Indian/Alaska Native ","Asian","Black/African American","Hispanic or Latino","Native Hawaiian or Other Pacific Islander","White Non-Latino/Caucasian ","Some Other Race","Multiple Races","Not Reported","Not Tracked","Male","Female","Other (brief description, if applicable) ","Description: ","Not Reported","Not Tracked","0-12","13-17","18-24","25-59","60 and Older","Not Reported","Not Tracked","Adult Physical Assault (Includes Aggravated and Simple Assault)","Adult Sexual Assault","Adults Sexually Abused/Assaulted as Children","Arson","Bullying (Verbal, Cyber, or Physical)","Burglary","Child Physical Abuse or Neglect","Child Pornography","Child Sexual Abuse/Assault","Domestic and/or Family Violence","DUI/DWI Incidents","Elder Abuse or Neglect","Hate Crime: Racial/Religious/Gender/Sexual Orientation/Other: (Explanation required)","Please explain","Human Trafficking: Labor","Human Trafficking: Sex","Identity Theft/Fraud/Financial Crime","Kidnapping (noncustodial)","Kidnapping (custodial)","Mass Violence (Domestic/ International)","Other Vehicular Victimization (e.g., Hit and Run)","Robbery","Stalking/Harassment","Survivors of Homicide Victims","Teen Dating Victimization ","Terrorism (Domestic/International)","Other","If other, please explain","Of the individuals who received services, how many were presented with more than one type of victimization during the reporting period?","Deaf/Hard of Hearing","Homeless","Immigrants/Refugees/Asylum Seekers","LGBTQ","Veterans","Victims with Disabilities: Cognitive/Physical/Mental","Victims with Limited English Proficiency","Other","If other, please explain","Number of individuals assisted with a victim compensation application during the reporting period","Select the types of services provided by your organization during the reporting period: A. Information & Referral","Select the types of services provided by your organization during the reporting period: B. Personal Advocacy/Accompaniment","Select the types of services provided by your organization during the reporting period: C. Emotional Support or Safety Services","Select the types of services provided by your organization during the reporting period: D. Shelter/Housing Services","Select the types of services provided by your organization during the reporting period: E. Criminal/Civil Justice System Assistance ","A. INFORMATION AND REFERRAL (Enter the number of individuals who received services)","A1. Information about the criminal justice process (Enter the number of times services were provided)","A2. Information about victim rights, how to obtain notifications, etc. (Enter the number of times services were provided)","A3. Referral to other victim service programs (Enter the number of times services were provided)","A4. Referral to other services, supports, and resources (includes legal, medical, faith-based organizations, address-confidentiality programs, etc.) (Enter the number of times services were provided)  ","B. PERSONAL ADVOCACY/ACCOMPANIMENT (Enter the number of individuals who received services)","B1. Victim advocacy/accompaniment to emergency medical care (Enter the number of times services were provided)","B2. Victim advocacy/accompaniment to medical forensic exam (Enter the number of times services were provided)","B3. Law enforcement interview advocacy/accompaniment (Enter the number of times services were provided)","B4. Individual advocacy (e.g., assistance in applying for public benefits, return of personal property or effects) (Enter the number of times services were provided)","B5. Performance or medical or nonmedical forensic exam or interview, or medical evidence collection (Enter the number of times services were provided)","B6. Immigration assistance (e.g., special visas, continued presence application, and other immigration relief) (Enter the number of times services were provided)","B7. Intervention with employer, creditor, landlord, or academic institution (Enter the number of times services were provided)","B8. Child or dependent care assistance (includes coordination of services) (Enter the number of times services were provided)","B9. Transportation assistance (includes coordination of services) (Enter the number of times services were provided)","B10. Interpreter services (Enter the number of times services were provided)","C. EMOTIONAL SUPPORT OR SAFETY SERVICES (Enter the number of individuals who received services)","C1. Crisis Intervention (in-person, includes safety planning, etc.) (Enter the number of times services were provided)","C2. Hotline/crisis line counseling (Enter the number of times services were provided)","C3. On-scene crisis response (e.g., community crisis response) (Enter the number of times services were provided)","C4. Individual Counseling (Enter the number of times services were provided)","C5. Support groups (facilitated or peer) (Enter the number of times services were provided)","C6. Other therapy (traditional, cultural, or alternative healing; art, writing, or play therapy, etc.) (Enter the number of times services were provided)","C7. Emergency financial assistance (includes emergency loans and petty cash, payment for items such as food and/or clothing, changing windows and/or locks, taxis, prophylactic and non prophylactic medications, durable medical equipment, etc.) (Enter the number of times services were provided)","D. SHELTER/HOUSING SERVICES (Enter the number of individuals who received services in this category)","D1. Emergency shelter or safe house (Enter the number of times services were provided) ","D2. Transitional housing (Enter the number of times services were provided) ","D3. Relocation assistance (includes assistance with obtaining housing) (Enter the number of times services were provided) ","E. CRIMINAL/CIVIL JUSTICE SYSTEM ASSISTANCE (Enter the number of individuals who received services) ","E1. Notification of criminal justice events (e.g., case status, arrest, court proceedings, case disposition, release, etc.) (Enter the number of times services were provided)","E2. Victim impact statement assistance (Enter the number of times services were provided)","E3. Assistance with restitution (includes assistance in requesting and when collection efforts are not successful) (Enter the number of times services were provided)","E4. Civil legal assistance in obtaining protection or restraining order (Enter the number of times services were provided)","E5. Civil legal assistance with family law issues (e.g., custody, visitation, or support) (Enter the number of times services were provided)","E6. Other emergency justice-related assistance (Enter the number of times services were provided)","E7. Immigration assistance (e.g., special visas, continued presence application, and other immigration relief) (Enter the number of times services were provided)","E8. Prosecution interview advocacy/accompaniment (includes accompaniment with prosecuting attorney and with victim/witness) (Enter the number of times services were provided)","E9. Law enforcement interview advocacy/accompaniment (Enter the number of times services were provided)","E10. Criminal advocacy/accompaniment (Enter the number of times services were provided)","E11. Other legal advice and/or counsel (Enter the number of times services were provided)","COURT TABS SUMMARY \nBEGINS HERE: \n\n\n\n\nF. INFORMATION AND REFERRAL (Enter the number of individuals who received services)","F.  INFORMATION AND REFERRAL (Enter the total times/occurences)","SAFEPLAN Phone Calls (Enter general phone calls here or use the lines below to provided a specific type of phone calls. Only count each phone call once.)","a. Information about the criminal justice process","b. Information on victim rights/how to obtain notifications","c. Referral to other victim service programs","d. Referral to other services/supports/resources (includes legal, medical, faith-based organizations, address confidentiality programs, etc.)","e. Other","SAFEPLAN Consultation (Enter general consultation here or use the lines below to provided a specific type of consultation. Only count each consultation once.)","a. Information about the criminal justice process","b. Information on victim rights/how to obtain notifications","c. Referral to other victim service programs","d. Referral to other services/supports/resources (includes legal, medical, faith-based organizations, address confidentiality programs, etc.)","e. Other","Information & Referral - Referrals Given","DV Program Referrals Given","SA Program Referrals Given","DA's Office Referrals Given","Legal Services Referrals Given","Police Referrals Given","Other Court Personnel Referrals Given","Victim Compensation Referrals Given","Medical Referral Given","Other Referrals Given","B. Personal Advocacy/Accompaniment (Enter the number of times/occurances)","11. SAFEPLAN Other Personal Advocacy/Accompaniment","a. Victim advocacy/accompaniment to emergency medical care","b. Victim advocacy/accompaniment to medical forensic exam","c. Law enforcement interview advocacy/accompaniment","d. Individual advocacy","e. Performance of medical or nonmedical forensic exam or interview, or medical evidence collection","f. Immigration assistance (e.g., special visas, continued presence application, and other immigration relief)","g. Intervention with employer, creditor, landlord, or academic institution","h. Child or dependent care assistance (includes coordination of services)","i. Interpreter services","C. Emotional Support or Safety Services (Enter the number of times/occurances)","SAFEPLAN Other Emotional Support or Safety Services (If other, please explain in Columns AF/AL to the right for each entry)","a. Hotline/crisis line counseling","b. On-scene crisis response (e.g., community crisis response)","c. Individual counseling","d. Support groups (facilitated or peer)","e. Other therapy (traditional, cultural, or alternative healing; art, writing, or play therapy, etc.)","f. Emergency financial assistance (includes emergency loans and petty cash, payment for items such as food and/or clothing, changing windows and/or locks, taxis, prophylactic and nonprophylactic medications, durable medical equipment, etc.)","D. Shelter/Housing Services (Enter the number of times/occurances)","4. SAFEPLAN Other Shelter/Housing Services (If other, please explain in Columns AF/AL to the right for each entry)","a. Emergency shelter or safe house","b. Transitional housing","c. Relocation assistance (includes assistance with obtaining housing)","E. Criminal/Civil Justice System Assistance (Enter the number of times/occurances)","4. Civil legal assistance in obtaining protection or restraining order","a. 209A Advocacy","b. 258E Advocacy","c. Motion to Terminate Granted (Plaintiff)","d. Motion to Terminate Denied (Plaintiff)","e. Temporary Harassment Order - Requested","f. Temporary Harassment Order - Granted","g. Temporary Harassment Order - Scheduled for Hearing after Notice","h. Temporary Harassment Order - Denied","i. Final Harassment Order - Requested","j. Final Harassment Order - Granted","k. Final Harassment Order - Denied","l. Temporary Restraining Order - Requested","m. Temporary Restraining Order - Granted","n. Temporary Restraining Order - Scheduled for Hearing after Notice","o. Temporary Restraining Order - Denied","p. Final Restraining Order - Requested","q. Final Restraining Order - Granted","r. Final Restraining Order - Denied","s. SAFEPLAN Phone Calls: Civil legal assistance in obtaining protection or restraining order","12. SAFEPLAN Other Criminal/Civil Justice System Assistance (If other, please explain in Columns AF/AL to the right for each entry)","a. Assistance with restitution (includes assistance in requesting and when collection efforts are not successful)","b. Immigration assistance (e.g., special visas, continued presence application, and other immigration relief)","c. Prosecution interview advocacy/accompaniment (includes accompaniment with prosecuting attorney and with victim/witness)","d. Law enforcement interview advocacy/accompaniment","e. Criminal advocacy/accompaniment","f. Other legal advice and/or counsel","B. Types of Abuse Alleged: Enter the number of Individuals who Received Services Based on the Type of Alleged Abuse During the Reporting Period - ALL individuals","Attempted physical harm (209A)","Caused physical harm (209A)","Imminent Fear (209A)","Sexual Assault (209A)","Stalking (258E)","Sexual Assault (258E)","Criminal Harassment (258E)","Other (please specify below): ","Additional Comments","County Table Autogenerated: \nCourt Summaries","Court","Number of New Clients","Number of New Clients w/out Prior DVP Contact","Number of Total Client Contacts"]
[1,null,{"$f":"'2. Goals'!C5","v":0},"MA",null,{"$f":"#REF!","v":{"$error":"#REF!"}},{"$f":"#REF!","v":{"$error":"#REF!"}},{"$f":"#REF!","v":{"$error":"#REF!"}},{"$f":"#REF!","v":{"$error":"#REF!"}},{"$f":"#REF!","v":{"$error":"#REF!"}},{"$f":"#REF!","v":{"$error":"#REF!"}},{"$f":"#REF!","v":{"$error":"#REF!"}},{"$f":"#REF!","v":{"$error":"#REF!"}},{"$f":"#REF!","v":{"$error":"#REF!"}},{"$f":"#REF!","v":{"$error":"#REF!"}},{"$f":"#REF!","v":{"$error":"#REF!"}},{"$f":"#REF!","v":{"$error":"#REF!"}},{"$f":"#REF!","v":{"$error":"#REF!"}},{"$f":"#REF!","v":{"$error":"#REF!"}},{"$f":"#REF!","v":{"$error":"#REF!"}},{"$f":"#REF!","v":{"$error":"#REF!"}},{"$f":"#REF!","v":{"$error":"#REF!"}},{"$f":"_xlfn.CONCAT('1. Overall Demographics'!B144:F144,'1. Overall Demographics'!B145:F145,'1. Overall Demographics'!B146:F146,'1. Overall Demographics'!B147:F147,'1. Overall Demographics'!B148:F148,'1. Overall Demographics'!B149:F149,'1. Overall Demographics'!B150:F150)","v":""},{"$f":"#REF!","v":{"$error":"#REF!"}},{"$f":"#REF!","v":{"$error":"#REF!"}},{"$f":"#REF!","v":{"$error":"#REF!"}},{"$f":"#REF!","v":{"$error":"#REF!"}},{"$f":"#REF!","v":{"$error":"#REF!"}},{"$f":"#REF!","v":{"$error":"#REF!"}},{"$f":"#REF!","v":{"$error":"#REF!"}},{"$f":"#REF!","v":{"$error":"#REF!"}},{"$f":"#REF!","v":{"$error":"#REF!"}},{"$f":"#REF!","v":{"$error":"#REF!"}},{"$f":"#REF!","v":{"$error":"#REF!"}},{"$f":"#REF!","v":{"$error":"#REF!"}},{"$f":"#REF!","v":{"$error":"#REF!"}},{"$f":"#REF!","v":{"$error":"#REF!"}},{"$f":"#REF!","v":{"$error":"#REF!"}},{"$f":"#REF!","v":{"$error":"#REF!"}},{"$f":"#REF!","v":{"$error":"#REF!"}},{"$f":"#REF!","v":{"$error":"#REF!"}},{"$f":"#REF!","v":{"$error":"#REF!"}},{"$f":"#REF!","v":{"$error":"#REF!"}},{"$f":"#REF!","v":{"$error":"#REF!"}},{"$f":"#REF!","v":{"$error":"#REF!"}},{"$f":"#REF!","v":{"$error":"#REF!"}},{"$f":"#REF!","v":{"$error":"#REF!"}},{"$f":"#REF!","v":{"$error":"#REF!"}},{"$f":"#REF!","v":{"$error":"#REF!"}},{"$f":"#REF!","v":{"$error":"#REF!"}},{"$f":"#REF!","v":{"$error":"#REF!"}},{"$f":"#REF!","v":{"$error":"#REF!"}},{"$f":"#REF!","v":{"$error":"#REF!"}},{"$f":"#REF!","v":{"$error":"#REF!"}},{"$f":"#REF!","v":{"$error":"#REF!"}},{"$f":"#REF!","v":{"$error":"#REF!"}},{"$f":"#REF!","v":{"$error":"#REF!"}},{"$f":"#REF!","v":{"$error":"#REF!"}},{"$f":"#REF!","v":{"$error":"#REF!"}},{"$f":"_xlfn.CONCAT('1. Overall Demographics'!B220:B229)","v":""},{"$f":"#REF!","v":{"$error":"#REF!"}},{"$f":"#REF!","v":{"$error":"#REF!"}},{"$f":"#REF!","v":{"$error":"#REF!"}},{"$f":"#REF!","v":{"$error":"#REF!"}},{"$f":"#REF!","v":{"$error":"#REF!"}},{"$f":"#REF!","v":{"$error":"#REF!"}},{"$f":"#REF!","v":{"$error":"#REF!"}},{"$f":"#REF!","v":{"$error":"#REF!"}},{"$f":"#REF!","v":{"$error":"#REF!"}},{"$f":"_xlfn.CONCAT(#REF!)","v":{"$error":"#REF!"}},{"$f":"#REF!","v":{"$error":"#REF!"}},{"$f":"#REF!","v":{"$error":"#REF!"}},{"$f":"#REF!","v":{"$error":"#REF!"}},{"$f":"#REF!","v":{"$error":"#REF!"}},{"$f":"#REF!","v":{"$error":"#REF!"}},{"$f":"#REF!","v":{"$error":"#REF!"}},{"$f":"#REF!","v":{"$error":"#REF!"}},{"$f":"#REF!","v":{"$error":"#REF!"}},{"$f":"#REF!","v":{"$error":"#REF!"}},{"$f":"#REF!","v":{"$error":"#REF!"}},{"$f":"#REF!","v":{"$error":"#REF!"}},{"$f":"#REF!","v":{"$error":"#REF!"}},{"$f":"#REF!","v":{"$error":"#REF!"}},{"$f":"#REF!","v":{"$error":"#REF!"}},{"$f":"#REF!","v":{"$error":"#REF!"}},{"$f":"#REF!","v":{"$error":"#REF!"}},{"$f":"#REF!","v":{"$error":"#REF!"}},{"$f":"#REF!","v":{"$error":"#REF!"}},{"$f":"#REF!","v":{"$error":"#REF!"}},{"$f":"#REF!","v":{"$error":"#REF!"}},{"$f":"#REF!","v":{"$error":"#REF!"}},{"$f":"#REF!","v":{"$error":"#REF!"}},{"$f":"#REF!","v":{"$error":"#REF!"}},{"$f":"#REF!","v":{"$error":"#REF!"}},{"$f":"#REF!","v":{"$error":"#REF!"}},{"$f":"#REF!","v":{"$error":"#REF!"}},{"$f":"#REF!","v":{"$error":"#REF!"}},{"$f":"#REF!","v":{"$error":"#REF!"}},{"$f":"#REF!","v":{"$error":"#REF!"}},{"$f":"#REF!","v":{"$error":"#REF!"}},{"$f":"#REF!","v":{"$error":"#REF!"}},{"$f":"#REF!","v":{"$error":"#REF!"}},{"$f":"#REF!","v":{"$error":"#REF!"}},{"$f":"#REF!","v":{"$error":"#REF!"}},{"$f":"#REF!","v":{"$error":"#REF!"}},{"$f":"#REF!","v":{"$error":"#REF!"}},{"$f":"#REF!","v":{"$error":"#REF!"}},{"$f":"#REF!","v":{"$error":"#REF!"}},{"$f":"#REF!","v":{"$error":"#REF!"}},{"$f":"#REF!","v":{"$error":"#REF!"}},{"$f":"#REF!","v":{"$error":"#REF!"}},{"$f":"#REF!","v":{"$error":"#REF!"}},{"$f":"#REF!","v":{"$error":"#REF!"}},{"$f":"#REF!","v":{"$error":"#REF!"}},{"$f":"#REF!","v":{"$error":"#REF!"}},{"$f":"#REF!","v":{"$error":"#REF!"}},{"$f":"#REF!","v":{"$error":"#REF!"}},{"$f":"#REF!","v":{"$error":"#REF!"}},{"$f":"#REF!","v":{"$error":"#REF!"}},{"$f":"#REF!","v":{"$error":"#REF!"}},{"$f":"#REF!","v":{"$error":"#REF!"}},{"$f":"#REF!","v":{"$error":"#REF!"}},{"$f":"#REF!","v":{"$error":"#REF!"}},{"$f":"#REF!","v":{"$error":"#REF!"}},{"$f":"#REF!","v":{"$error":"#REF!"}},{"$f":"#REF!","v":{"$error":"#REF!"}},{"$f":"#REF!","v":{"$error":"#REF!"}},{"$f":"#REF!","v":{"$error":"#REF!"}},{"$f":"#REF!","v":{"$error":"#REF!"}},{"$f":"#REF!","v":{"$error":"#REF!"}},{"$f":"#REF!","v":{"$error":"#REF!"}},{"$f":"#REF!","v":{"$error":"#REF!"}},{"$f":"#REF!","v":{"$error":"#REF!"}},{"$f":"#REF!","v":{"$error":"#REF!"}},{"$f":"#REF!","v":{"$error":"#REF!"}},{"$f":"#REF!","v":{"$error":"#REF!"}},{"$f":"#REF!","v":{"$error":"#REF!"}},{"$f":"#REF!","v":{"$error":"#REF!"}},{"$f":"#REF!","v":{"$error":"#REF!"}},{"$f":"#REF!","v":{"$error":"#REF!"}},null,null,{"$f":"#REF!","v":{"$error":"#REF!"}},{"$f":"#REF!","v":{"$error":"#REF!"}},{"$f":"#REF!","v":{"$error":"#REF!"}},{"$f":"#REF!","v":{"$error":"#REF!"}},{"$f":"#REF!","v":{"$error":"#REF!"}},{"$f":"#REF!","v":{"$error":"#REF!"}},{"$f":"#REF!","v":{"$error":"#REF!"}},{"$f":"#REF!","v":{"$error":"#REF!"}},{"$f":"#REF!","v":{"$error":"#REF!"}},null,null,{"$f":"#REF!","v":{"$error":"#REF!"}},{"$f":"#REF!","v":{"$error":"#REF!"}},{"$f":"#REF!","v":{"$error":"#REF!"}},{"$f":"#REF!","v":{"$error":"#REF!"}},{"$f":"#REF!","v":{"$error":"#REF!"}},{"$f":"#REF!","v":{"$error":"#REF!"}},null,null,{"$f":"#REF!","v":{"$error":"#REF!"}},{"$f":"#REF!","v":{"$error":"#REF!"}},{"$f":"#REF!","v":{"$error":"#REF!"}},null,null,{"$f":"#REF!","v":{"$error":"#REF!"}},{"$f":"#REF!","v":{"$error":"#REF!"}},{"$f":"#REF!","v":{"$error":"#REF!"}},{"$f":"#REF!","v":{"$error":"#REF!"}},{"$f":"#REF!","v":{"$error":"#REF!"}},{"$f":"#REF!","v":{"$error":"#REF!"}},{"$f":"#REF!","v":{"$error":"#REF!"}},{"$f":"#REF!","v":{"$error":"#REF!"}},{"$f":"#REF!","v":{"$error":"#REF!"}},{"$f":"#REF!","v":{"$error":"#REF!"}},{"$f":"#REF!","v":{"$error":"#REF!"}},{"$f":"#REF!","v":{"$error":"#REF!"}},{"$f":"#REF!","v":{"$error":"#REF!"}},{"$f":"#REF!","v":{"$error":"#REF!"}},{"$f":"#REF!","v":{"$error":"#REF!"}},{"$f":"#REF!","v":{"$error":"#REF!"}},{"$f":"#REF!","v":{"$error":"#REF!"}},{"$f":"#REF!","v":{"$error":"#REF!"}},{"$f":"#REF!","v":{"$error":"#REF!"}},null,{"$f":"#REF!","v":{"$error":"#REF!"}},{"$f":"#REF!","v":{"$error":"#REF!"}},{"$f":"#REF!","v":{"$error":"#REF!"}},{"$f":"#REF!","v":{"$error":"#REF!"}},{"$f":"#REF!","v":{"$error":"#REF!"}},{"$f":"#REF!","v":{"$error":"#REF!"}},null,{"$f":"'1. Overall Demographics'!H236","v":0},{"$f":"'1. Overall Demographics'!H237","v":0},{"$f":"'1. Overall Demographics'!H238","v":0},{"$f":"'1. Overall Demographics'!H239","v":0},{"$f":"'1. Overall Demographics'!H240","v":0},{"$f":"'1. Overall Demographics'!H241","v":0},{"$f":"'1. Overall Demographics'!H242","v":0},{"$f":"'1. Overall Demographics'!H243","v":0},null,null,{"$f":"'1.1 Sample Court Tab'!D6","v":"Insert COURT NAME Here"},{"$f":"'1.1 Sample Court Tab'!H22","v":0},{"$f":"'1.1 Sample Court Tab'!H28","v":0},{"$f":"'1.1 Sample Court Tab'!H33","v":0}]
[2,null,{"$f":"'2. Goals'!C5","v":0},"MA",null,{"$f":"#REF!","v":{"$error":"#REF!"}},{"$f":"#REF!","v":{"$error":"#REF!"}},{"$f":"#REF!","v":{"$error":"#REF!"}},{"$f":"#REF!","v":{"$error":"#REF!"}},{"$f":"#REF!","v":{"$error":"#REF!"}},{"$f":"#REF!","v":{"$error":"#REF!"}},{"$f":"#REF!","v":{"$error":"#REF!"}},{"$f":"#REF!","v":{"$error":"#REF!"}},{"$f":"#REF!","v":{"$error":"#REF!"}},{"$f":"#REF!","v":{"$error":"#REF!"}},{"$f":"#REF!","v":{"$error":"#REF!"}},{"$f":"#REF!","v":{"$error":"#REF!"}},{"$f":"#REF!","v":{"$error":"#REF!"}},{"$f":"#REF!","v":{"$error":"#REF!"}},{"$f":"#REF!","v":{"$error":"#REF!"}},{"$f":"#REF!","v":{"$error":"#REF!"}},{"$f":"#REF!","v":{"$error":"#REF!"}},{"$f":"_xlfn.CONCAT('1. Overall Demographics'!B144:F144,'1. Overall Demographics'!B145:F145,'1. Overall Demographics'!B146:F146,'1. Overall Demographics'!B147:F147,'1. Overall Demographics'!B148:F148,'1. Overall Demographics'!B149:F149,'1. Overall Demographics'!B150:F150)","v":""},{"$f":"#REF!","v":{"$error":"#REF!"}},{"$f":"#REF!","v":{"$error":"#REF!"}},{"$f":"#REF!","v":{"$error":"#REF!"}},{"$f":"#REF!","v":{"$error":"#REF!"}},{"$f":"#REF!","v":{"$error":"#REF!"}},{"$f":"#REF!","v":{"$error":"#REF!"}},{"$f":"#REF!","v":{"$error":"#REF!"}},{"$f":"#REF!","v":{"$error":"#REF!"}},{"$f":"#REF!","v":{"$error":"#REF!"}},{"$f":"#REF!","v":{"$error":"#REF!"}},{"$f":"#REF!","v":{"$error":"#REF!"}},{"$f":"#REF!","v":{"$error":"#REF!"}},{"$f":"#REF!","v":{"$error":"#REF!"}},{"$f":"#REF!","v":{"$error":"#REF!"}},{"$f":"#REF!","v":{"$error":"#REF!"}},{"$f":"#REF!","v":{"$error":"#REF!"}},{"$f":"#REF!","v":{"$error":"#REF!"}},{"$f":"#REF!","v":{"$error":"#REF!"}},{"$f":"#REF!","v":{"$error":"#REF!"}},{"$f":"#REF!","v":{"$error":"#REF!"}},{"$f":"#REF!","v":{"$error":"#REF!"}},{"$f":"#REF!","v":{"$error":"#REF!"}},{"$f":"#REF!","v":{"$error":"#REF!"}},{"$f":"#REF!","v":{"$error":"#REF!"}},{"$f":"#REF!","v":{"$error":"#REF!"}},{"$f":"#REF!","v":{"$error":"#REF!"}},{"$f":"#REF!","v":{"$error":"#REF!"}},{"$f":"#REF!","v":{"$error":"#REF!"}},{"$f":"#REF!","v":{"$error":"#REF!"}},{"$f":"#REF!","v":{"$error":"#REF!"}},{"$f":"#REF!","v":{"$error":"#REF!"}},{"$f":"#REF!","v":{"$error":"#REF!"}},{"$f":"#REF!","v":{"$error":"#REF!"}},{"$f":"#REF!","v":{"$error":"#REF!"}},{"$f":"#REF!","v":{"$error":"#REF!"}},{"$f":"#REF!","v":{"$error":"#REF!"}},{"$f":"_xlfn.CONCAT('1. Overall Demographics'!B220:B229)","v":""},{"$f":"#REF!","v":{"$error":"#REF!"}},{"$f":"#REF!","v":{"$error":"#REF!"}},{"$f":"#REF!","v":{"$error":"#REF!"}},{"$f":"#REF!","v":{"$error":"#REF!"}},{"$f":"#REF!","v":{"$error":"#REF!"}},{"$f":"#REF!","v":{"$error":"#REF!"}},{"$f":"#REF!","v":{"$error":"#REF!"}},{"$f":"#REF!","v":{"$error":"#REF!"}},{"$f":"#REF!","v":{"$error":"#REF!"}},{"$f":"_xlfn.CONCAT(#REF!)","v":{"$error":"#REF!"}},{"$f":"#REF!","v":{"$error":"#REF!"}},{"$f":"#REF!","v":{"$error":"#REF!"}},{"$f":"#REF!","v":{"$error":"#REF!"}},{"$f":"#REF!","v":{"$error":"#REF!"}},{"$f":"#REF!","v":{"$error":"#REF!"}},{"$f":"#REF!","v":{"$error":"#REF!"}},{"$f":"#REF!","v":{"$error":"#REF!"}},{"$f":"#REF!","v":{"$error":"#REF!"}},{"$f":"#REF!","v":{"$error":"#REF!"}},{"$f":"#REF!","v":{"$error":"#REF!"}},{"$f":"#REF!","v":{"$error":"#REF!"}},{"$f":"#REF!","v":{"$error":"#REF!"}},{"$f":"#REF!","v":{"$error":"#REF!"}},{"$f":"#REF!","v":{"$error":"#REF!"}},{"$f":"#REF!","v":{"$error":"#REF!"}},{"$f":"#REF!","v":{"$error":"#REF!"}},{"$f":"#REF!","v":{"$error":"#REF!"}},{"$f":"#REF!","v":{"$error":"#REF!"}},{"$f":"#REF!","v":{"$error":"#REF!"}},{"$f":"#REF!","v":{"$error":"#REF!"}},{"$f":"#REF!","v":{"$error":"#REF!"}},{"$f":"#REF!","v":{"$error":"#REF!"}},{"$f":"#REF!","v":{"$error":"#REF!"}},{"$f":"#REF!","v":{"$error":"#REF!"}},{"$f":"#REF!","v":{"$error":"#REF!"}},{"$f":"#REF!","v":{"$error":"#REF!"}},{"$f":"#REF!","v":{"$error":"#REF!"}},{"$f":"#REF!","v":{"$error":"#REF!"}},{"$f":"#REF!","v":{"$error":"#REF!"}},{"$f":"#REF!","v":{"$error":"#REF!"}},{"$f":"#REF!","v":{"$error":"#REF!"}},{"$f":"#REF!","v":{"$error":"#REF!"}},{"$f":"#REF!","v":{"$error":"#REF!"}},{"$f":"#REF!","v":{"$error":"#REF!"}},{"$f":"#REF!","v":{"$error":"#REF!"}},{"$f":"#REF!","v":{"$error":"#REF!"}},{"$f":"#REF!","v":{"$error":"#REF!"}},{"$f":"#REF!","v":{"$error":"#REF!"}},{"$f":"#REF!","v":{"$error":"#REF!"}},{"$f":"#REF!","v":{"$error":"#REF!"}},{"$f":"#REF!","v":{"$error":"#REF!"}},{"$f":"#REF!","v":{"$error":"#REF!"}},{"$f":"#REF!","v":{"$error":"#REF!"}},{"$f":"#REF!","v":{"$error":"#REF!"}},{"$f":"#REF!","v":{"$error":"#REF!"}},{"$f":"#REF!","v":{"$error":"#REF!"}},{"$f":"#REF!","v":{"$error":"#REF!"}},{"$f":"#REF!","v":{"$error":"#REF!"}},{"$f":"#REF!","v":{"$error":"#REF!"}},{"$f":"#REF!","v":{"$error":"#REF!"}},{"$f":"#REF!","v":{"$error":"#REF!"}},{"$f":"#REF!","v":{"$error":"#REF!"}},{"$f":"#REF!","v":{"$error":"#REF!"}},{"$f":"#REF!","v":{"$error":"#REF!"}},{"$f":"#REF!","v":{"$error":"#REF!"}},{"$f":"#REF!","v":{"$error":"#REF!"}},{"$f":"#REF!","v":{"$error":"#REF!"}},{"$f":"#REF!","v":{"$error":"#REF!"}},{"$f":"#REF!","v":{"$error":"#REF!"}},{"$f":"#REF!","v":{"$error":"#REF!"}},{"$f":"#REF!","v":{"$error":"#REF!"}},{"$f":"#REF!","v":{"$error":"#REF!"}},{"$f":"#REF!","v":{"$error":"#REF!"}},{"$f":"#REF!","v":{"$error":"#REF!"}},{"$f":"#REF!","v":{"$error":"#REF!"}},{"$f":"#REF!","v":{"$error":"#REF!"}},{"$f":"#REF!","v":{"$error":"#REF!"}},{"$f":"#REF!","v":{"$error":"#REF!"}},{"$f":"#REF!","v":{"$error":"#REF!"}},{"$f":"#REF!","v":{"$error":"#REF!"}},null,null,{"$f":"#REF!","v":{"$error":"#REF!"}},{"$f":"#REF!","v":{"$error":"#REF!"}},{"$f":"#REF!","v":{"$error":"#REF!"}},{"$f":"#REF!","v":{"$error":"#REF!"}},{"$f":"#REF!","v":{"$error":"#REF!"}},{"$f":"#REF!","v":{"$error":"#REF!"}},{"$f":"#REF!","v":{"$error":"#REF!"}},{"$f":"#REF!","v":{"$error":"#REF!"}},{"$f":"#REF!","v":{"$error":"#REF!"}},null,null,{"$f":"#REF!","v":{"$error":"#REF!"}},{"$f":"#REF!","v":{"$error":"#REF!"}},{"$f":"#REF!","v":{"$error":"#REF!"}},{"$f":"#REF!","v":{"$error":"#REF!"}},{"$f":"#REF!","v":{"$error":"#REF!"}},{"$f":"#REF!","v":{"$error":"#REF!"}},null,null,{"$f":"#REF!","v":{"$error":"#REF!"}},{"$f":"#REF!","v":{"$error":"#REF!"}},{"$f":"#REF!","v":{"$error":"#REF!"}},null,null,{"$f":"#REF!","v":{"$error":"#REF!"}},{"$f":"#REF!","v":{"$error":"#REF!"}},{"$f":"#REF!","v":{"$error":"#REF!"}},{"$f":"#REF!","v":{"$error":"#REF!"}},{"$f":"#REF!","v":{"$error":"#REF!"}},{"$f":"#REF!","v":{"$error":"#REF!"}},{"$f":"#REF!","v":{"$error":"#REF!"}},{"$f":"#REF!","v":{"$error":"#REF!"}},{"$f":"#REF!","v":{"$error":"#REF!"}},{"$f":"#REF!","v":{"$error":"#REF!"}},{"$f":"#REF!","v":{"$error":"#REF!"}},{"$f":"#REF!","v":{"$error":"#REF!"}},{"$f":"#REF!","v":{"$error":"#REF!"}},{"$f":"#REF!","v":{"$error":"#REF!"}},{"$f":"#REF!","v":{"$error":"#REF!"}},{"$f":"#REF!","v":{"$error":"#REF!"}},{"$f":"#REF!","v":{"$error":"#REF!"}},{"$f":"#REF!","v":{"$error":"#REF!"}},{"$f":"#REF!","v":{"$error":"#REF!"}},null,{"$f":"#REF!","v":{"$error":"#REF!"}},{"$f":"#REF!","v":{"$error":"#REF!"}},{"$f":"#REF!","v":{"$error":"#REF!"}},{"$f":"#REF!","v":{"$error":"#REF!"}},{"$f":"#REF!","v":{"$error":"#REF!"}},{"$f":"#REF!","v":{"$error":"#REF!"}},null,{"$f":"'1. Overall Demographics'!J236","v":0},{"$f":"'1. Overall Demographics'!J237","v":0},{"$f":"'1. Overall Demographics'!J238","v":0},{"$f":"'1. Overall Demographics'!J239","v":0},{"$f":"'1. Overall Demographics'!J240","v":0},{"$f":"'1. Overall Demographics'!J241","v":0},{"$f":"'1. Overall Demographics'!J242","v":0},{"$f":"'1. Overall Demographics'!J243","v":0},null,null,{"$f":"#REF!","v":{"$error":"#REF!"}},{"$f":"#REF!","v":{"$error":"#REF!"}},{"$f":"#REF!","v":{"$error":"#REF!"}},{"$f":"#REF!","v":{"$error":"#REF!"}}]
[3,null,{"$f":"'2. Goals'!C5","v":0},"MA",null,{"$f":"#REF!","v":{"$error":"#REF!"}},{"$f":"#REF!","v":{"$error":"#REF!"}},{"$f":"#REF!","v":{"$error":"#REF!"}},{"$f":"#REF!","v":{"$error":"#REF!"}},{"$f":"#REF!","v":{"$error":"#REF!"}},{"$f":"#REF!","v":{"$error":"#REF!"}},{"$f":"#REF!","v":{"$error":"#REF!"}},{"$f":"#REF!","v":{"$error":"#REF!"}},{"$f":"#REF!","v":{"$error":"#REF!"}},{"$f":"#REF!","v":{"$error":"#REF!"}},{"$f":"#REF!","v":{"$error":"#REF!"}},{"$f":"#REF!","v":{"$error":"#REF!"}},{"$f":"#REF!","v":{"$error":"#REF!"}},{"$f":"#REF!","v":{"$error":"#REF!"}},{"$f":"#REF!","v":{"$error":"#REF!"}},{"$f":"#REF!","v":{"$error":"#REF!"}},{"$f":"#REF!","v":{"$error":"#REF!"}},{"$f":"_xlfn.CONCAT('1. Overall Demographics'!B144:F144,'1. Overall Demographics'!B145:F145,'1. Overall Demographics'!B146:F146,'1. Overall Demographics'!B147:F147,'1. Overall Demographics'!B148:F148,'1. Overall Demographics'!B149:F149,'1. Overall Demographics'!B150:F150)","v":""},{"$f":"#REF!","v":{"$error":"#REF!"}},{"$f":"#REF!","v":{"$error":"#REF!"}},{"$f":"#REF!","v":{"$error":"#REF!"}},{"$f":"#REF!","v":{"$error":"#REF!"}},{"$f":"#REF!","v":{"$error":"#REF!"}},{"$f":"#REF!","v":{"$error":"#REF!"}},{"$f":"#REF!","v":{"$error":"#REF!"}},{"$f":"#REF!","v":{"$error":"#REF!"}},{"$f":"#REF!","v":{"$error":"#REF!"}},{"$f":"#REF!","v":{"$error":"#REF!"}},{"$f":"#REF!","v":{"$error":"#REF!"}},{"$f":"#REF!","v":{"$error":"#REF!"}},{"$f":"#REF!","v":{"$error":"#REF!"}},{"$f":"#REF!","v":{"$error":"#REF!"}},{"$f":"#REF!","v":{"$error":"#REF!"}},{"$f":"#REF!","v":{"$error":"#REF!"}},{"$f":"#REF!","v":{"$error":"#REF!"}},{"$f":"#REF!","v":{"$error":"#REF!"}},{"$f":"#REF!","v":{"$error":"#REF!"}},{"$f":"#REF!","v":{"$error":"#REF!"}},{"$f":"#REF!","v":{"$error":"#REF!"}},{"$f":"#REF!","v":{"$error":"#REF!"}},{"$f":"#REF!","v":{"$error":"#REF!"}},{"$f":"#REF!","v":{"$error":"#REF!"}},{"$f":"#REF!","v":{"$error":"#REF!"}},{"$f":"#REF!","v":{"$error":"#REF!"}},{"$f":"#REF!","v":{"$error":"#REF!"}},{"$f":"#REF!","v":{"$error":"#REF!"}},{"$f":"#REF!","v":{"$error":"#REF!"}},{"$f":"#REF!","v":{"$error":"#REF!"}},{"$f":"#REF!","v":{"$error":"#REF!"}},{"$f":"#REF!","v":{"$error":"#REF!"}},{"$f":"#REF!","v":{"$error":"#REF!"}},{"$f":"#REF!","v":{"$error":"#REF!"}},{"$f":"#REF!","v":{"$error":"#REF!"}},{"$f":"#REF!","v":{"$error":"#REF!"}},{"$f":"_xlfn.CONCAT('1. Overall Demographics'!B220:B229)","v":""},{"$f":"#REF!","v":{"$error":"#REF!"}},{"$f":"#REF!","v":{"$error":"#REF!"}},{"$f":"#REF!","v":{"$error":"#REF!"}},{"$f":"#REF!","v":{"$error":"#REF!"}},{"$f":"#REF!","v":{"$error":"#REF!"}},{"$f":"#REF!","v":{"$error":"#REF!"}},{"$f":"#REF!","v":{"$error":"#REF!"}},{"$f":"#REF!","v":{"$error":"#REF!"}},{"$f":"#REF!","v":{"$error":"#REF!"}},{"$f":"_xlfn.CONCAT(#REF!)","v":{"$error":"#REF!"}},{"$f":"#REF!","v":{"$error":"#REF!"}},{"$f":"#REF!","v":{"$error":"#REF!"}},{"$f":"#REF!","v":{"$error":"#REF!"}},{"$f":"#REF!","v":{"$error":"#REF!"}},{"$f":"#REF!","v":{"$error":"#REF!"}},{"$f":"#REF!","v":{"$error":"#REF!"}},{"$f":"#REF!","v":{"$error":"#REF!"}},{"$f":"#REF!","v":{"$error":"#REF!"}},{"$f":"#REF!","v":{"$error":"#REF!"}},{"$f":"#REF!","v":{"$error":"#REF!"}},{"$f":"#REF!","v":{"$error":"#REF!"}},{"$f":"#REF!","v":{"$error":"#REF!"}},{"$f":"#REF!","v":{"$error":"#REF!"}},{"$f":"#REF!","v":{"$error":"#REF!"}},{"$f":"#REF!","v":{"$error":"#REF!"}},{"$f":"#REF!","v":{"$error":"#REF!"}},{"$f":"#REF!","v":{"$error":"#REF!"}},{"$f":"#REF!","v":{"$error":"#REF!"}},{"$f":"#REF!","v":{"$error":"#REF!"}},{"$f":"#REF!","v":{"$error":"#REF!"}},{"$f":"#REF!","v":{"$error":"#REF!"}},{"$f":"#REF!","v":{"$error":"#REF!"}},{"$f":"#REF!","v":{"$error":"#REF!"}},{"$f":"#REF!","v":{"$error":"#REF!"}},{"$f":"#REF!","v":{"$error":"#REF!"}},{"$f":"#REF!","v":{"$error":"#REF!"}},{"$f":"#REF!","v":{"$error":"#REF!"}},{"$f":"#REF!","v":{"$error":"#REF!"}},{"$f":"#REF!","v":{"$error":"#REF!"}},{"$f":"#REF!","v":{"$error":"#REF!"}},{"$f":"#REF!","v":{"$error":"#REF!"}},{"$f":"#REF!","v":{"$error":"#REF!"}},{"$f":"#REF!","v":{"$error":"#REF!"}},{"$f":"#REF!","v":{"$error":"#REF!"}},{"$f":"#REF!","v":{"$error":"#REF!"}},{"$f":"#REF!","v":{"$error":"#REF!"}},{"$f":"#REF!","v":{"$error":"#REF!"}},{"$f":"#REF!","v":{"$error":"#REF!"}},{"$f":"#REF!","v":{"$error":"#REF!"}},{"$f":"#REF!","v":{"$error":"#REF!"}},{"$f":"#REF!","v":{"$error":"#REF!"}},{"$f":"#REF!","v":{"$error":"#REF!"}},{"$f":"#REF!","v":{"$error":"#REF!"}},{"$f":"#REF!","v":{"$error":"#REF!"}},{"$f":"#REF!","v":{"$error":"#REF!"}},{"$f":"#REF!","v":{"$error":"#REF!"}},{"$f":"#REF!","v":{"$error":"#REF!"}},{"$f":"#REF!","v":{"$error":"#REF!"}},{"$f":"#REF!","v":{"$error":"#REF!"}},{"$f":"#REF!","v":{"$error":"#REF!"}},{"$f":"#REF!","v":{"$error":"#REF!"}},{"$f":"#REF!","v":{"$error":"#REF!"}},{"$f":"#REF!","v":{"$error":"#REF!"}},{"$f":"#REF!","v":{"$error":"#REF!"}},{"$f":"#REF!","v":{"$error":"#REF!"}},{"$f":"#REF!","v":{"$error":"#REF!"}},{"$f":"#REF!","v":{"$error":"#REF!"}},{"$f":"#REF!","v":{"$error":"#REF!"}},{"$f":"#REF!","v":{"$error":"#REF!"}},{"$f":"#REF!","v":{"$error":"#REF!"}},{"$f":"#REF!","v":{"$error":"#REF!"}},{"$f":"#REF!","v":{"$error":"#REF!"}},{"$f":"#REF!","v":{"$error":"#REF!"}},{"$f":"#REF!","v":{"$error":"#REF!"}},{"$f":"#REF!","v":{"$error":"#REF!"}},{"$f":"#REF!","v":{"$error":"#REF!"}},{"$f":"#REF!","v":{"$error":"#REF!"}},{"$f":"#REF!","v":{"$error":"#REF!"}},{"$f":"#REF!","v":{"$error":"#REF!"}},{"$f":"#REF!","v":{"$error":"#REF!"}},null,null,{"$f":"#REF!","v":{"$error":"#REF!"}},{"$f":"#REF!","v":{"$error":"#REF!"}},{"$f":"#REF!","v":{"$error":"#REF!"}},{"$f":"#REF!","v":{"$error":"#REF!"}},{"$f":"#REF!","v":{"$error":"#REF!"}},{"$f":"#REF!","v":{"$error":"#REF!"}},{"$f":"#REF!","v":{"$error":"#REF!"}},{"$f":"#REF!","v":{"$error":"#REF!"}},{"$f":"#REF!","v":{"$error":"#REF!"}},null,null,{"$f":"#REF!","v":{"$error":"#REF!"}},{"$f":"#REF!","v":{"$error":"#REF!"}},{"$f":"#REF!","v":{"$error":"#REF!"}},{"$f":"#REF!","v":{"$error":"#REF!"}},{"$f":"#REF!","v":{"$error":"#REF!"}},{"$f":"#REF!","v":{"$error":"#REF!"}},null,null,{"$f":"#REF!","v":{"$error":"#REF!"}},{"$f":"#REF!","v":{"$error":"#REF!"}},{"$f":"#REF!","v":{"$error":"#REF!"}},null,null,{"$f":"#REF!","v":{"$error":"#REF!"}},{"$f":"#REF!","v":{"$error":"#REF!"}},{"$f":"#REF!","v":{"$error":"#REF!"}},{"$f":"#REF!","v":{"$error":"#REF!"}},{"$f":"#REF!","v":{"$error":"#REF!"}},{"$f":"#REF!","v":{"$error":"#REF!"}},{"$f":"#REF!","v":{"$error":"#REF!"}},{"$f":"#REF!","v":{"$error":"#REF!"}},{"$f":"#REF!","v":{"$error":"#REF!"}},{"$f":"#REF!","v":{"$error":"#REF!"}},{"$f":"#REF!","v":{"$error":"#REF!"}},{"$f":"#REF!","v":{"$error":"#REF!"}},{"$f":"#REF!","v":{"$error":"#REF!"}},{"$f":"#REF!","v":{"$error":"#REF!"}},{"$f":"#REF!","v":{"$error":"#REF!"}},{"$f":"#REF!","v":{"$error":"#REF!"}},{"$f":"#REF!","v":{"$error":"#REF!"}},{"$f":"#REF!","v":{"$error":"#REF!"}},{"$f":"#REF!","v":{"$error":"#REF!"}},null,{"$f":"#REF!","v":{"$error":"#REF!"}},{"$f":"#REF!","v":{"$error":"#REF!"}},{"$f":"#REF!","v":{"$error":"#REF!"}},{"$f":"#REF!","v":{"$error":"#REF!"}},{"$f":"#REF!","v":{"$error":"#REF!"}},{"$f":"#REF!","v":{"$error":"#REF!"}},null,{"$f":"'1. Overall Demographics'!M236","v":0},{"$f":"'1. Overall Demographics'!M237","v":0},{"$f":"'1. Overall Demographics'!M238","v":0},{"$f":"'1. Overall Demographics'!M239","v":0},{"$f":"'1. Overall Demographics'!M240","v":0},{"$f":"'1. Overall Demographics'!M241","v":0},{"$f":"'1. Overall Demographics'!M242","v":0},{"$f":"'1. Overall Demographics'!M243","v":0},null,null,{"$f":"#REF!","v":{"$error":"#REF!"}},{"$f":"#REF!","v":{"$error":"#REF!"}},{"$f":"#REF!","v":{"$error":"#REF!"}},{"$f":"#REF!","v":{"$error":"#REF!"}}]
[4,null,{"$f":"'2. Goals'!C5","v":0},"MA",null,{"$f":"#REF!","v":{"$error":"#REF!"}},{"$f":"#REF!","v":{"$error":"#REF!"}},{"$f":"#REF!","v":{"$error":"#REF!"}},{"$f":"#REF!","v":{"$error":"#REF!"}},{"$f":"#REF!","v":{"$error":"#REF!"}},{"$f":"#REF!","v":{"$error":"#REF!"}},{"$f":"#REF!","v":{"$error":"#REF!"}},{"$f":"#REF!","v":{"$error":"#REF!"}},{"$f":"#REF!","v":{"$error":"#REF!"}},{"$f":"#REF!","v":{"$error":"#REF!"}},{"$f":"#REF!","v":{"$error":"#REF!"}},{"$f":"#REF!","v":{"$error":"#REF!"}},{"$f":"#REF!","v":{"$error":"#REF!"}},{"$f":"#REF!","v":{"$error":"#REF!"}},{"$f":"#REF!","v":{"$error":"#REF!"}},{"$f":"#REF!","v":{"$error":"#REF!"}},{"$f":"#REF!","v":{"$error":"#REF!"}},{"$f":"_xlfn.CONCAT('1. Overall Demographics'!B144:F144,'1. Overall Demographics'!B145:F145,'1. Overall Demographics'!B146:F146,'1. Overall Demographics'!B147:F147,'1. Overall Demographics'!B148:F148,'1. Overall Demographics'!B149:F149,'1. Overall Demographics'!B150:F150)","v":""},{"$f":"#REF!","v":{"$error":"#REF!"}},{"$f":"#REF!","v":{"$error":"#REF!"}},{"$f":"#REF!","v":{"$error":"#REF!"}},{"$f":"#REF!","v":{"$error":"#REF!"}},{"$f":"#REF!","v":{"$error":"#REF!"}},{"$f":"#REF!","v":{"$error":"#REF!"}},{"$f":"#REF!","v":{"$error":"#REF!"}},{"$f":"#REF!","v":{"$error":"#REF!"}},{"$f":"#REF!","v":{"$error":"#REF!"}},{"$f":"#REF!","v":{"$error":"#REF!"}},{"$f":"#REF!","v":{"$error":"#REF!"}},{"$f":"#REF!","v":{"$error":"#REF!"}},{"$f":"#REF!","v":{"$error":"#REF!"}},{"$f":"#REF!","v":{"$error":"#REF!"}},{"$f":"#REF!","v":{"$error":"#REF!"}},{"$f":"#REF!","v":{"$error":"#REF!"}},{"$f":"#REF!","v":{"$error":"#REF!"}},{"$f":"#REF!","v":{"$error":"#REF!"}},{"$f":"#REF!","v":{"$error":"#REF!"}},{"$f":"#REF!","v":{"$error":"#REF!"}},{"$f":"#REF!","v":{"$error":"#REF!"}},{"$f":"#REF!","v":{"$error":"#REF!"}},{"$f":"#REF!","v":{"$error":"#REF!"}},{"$f":"#REF!","v":{"$error":"#REF!"}},{"$f":"#REF!","v":{"$error":"#REF!"}},{"$f":"#REF!","v":{"$error":"#REF!"}},{"$f":"#REF!","v":{"$error":"#REF!"}},{"$f":"#REF!","v":{"$error":"#REF!"}},{"$f":"#REF!","v":{"$error":"#REF!"}},{"$f":"#REF!","v":{"$error":"#REF!"}},{"$f":"#REF!","v":{"$error":"#REF!"}},{"$f":"#REF!","v":{"$error":"#REF!"}},{"$f":"#REF!","v":{"$error":"#REF!"}},{"$f":"#REF!","v":{"$error":"#REF!"}},{"$f":"#REF!","v":{"$error":"#REF!"}},{"$f":"#REF!","v":{"$error":"#REF!"}},{"$f":"_xlfn.CONCAT('1. Overall Demographics'!B220:B229)","v":""},{"$f":"#REF!","v":{"$error":"#REF!"}},{"$f":"#REF!","v":{"$error":"#REF!"}},{"$f":"#REF!","v":{"$error":"#REF!"}},{"$f":"#REF!","v":{"$error":"#REF!"}},{"$f":"#REF!","v":{"$error":"#REF!"}},{"$f":"#REF!","v":{"$error":"#REF!"}},{"$f":"#REF!","v":{"$error":"#REF!"}},{"$f":"#REF!","v":{"$error":"#REF!"}},{"$f":"#REF!","v":{"$error":"#REF!"}},{"$f":"_xlfn.CONCAT(#REF!)","v":{"$error":"#REF!"}},{"$f":"#REF!","v":{"$error":"#REF!"}},{"$f":"#REF!","v":{"$error":"#REF!"}},{"$f":"#REF!","v":{"$error":"#REF!"}},{"$f":"#REF!","v":{"$error":"#REF!"}},{"$f":"#REF!","v":{"$error":"#REF!"}},{"$f":"#REF!","v":{"$error":"#REF!"}},{"$f":"#REF!","v":{"$error":"#REF!"}},{"$f":"#REF!","v":{"$error":"#REF!"}},{"$f":"#REF!","v":{"$error":"#REF!"}},{"$f":"#REF!","v":{"$error":"#REF!"}},{"$f":"#REF!","v":{"$error":"#REF!"}},{"$f":"#REF!","v":{"$error":"#REF!"}},{"$f":"#REF!","v":{"$error":"#REF!"}},{"$f":"#REF!","v":{"$error":"#REF!"}},{"$f":"#REF!","v":{"$error":"#REF!"}},{"$f":"#REF!","v":{"$error":"#REF!"}},{"$f":"#REF!","v":{"$error":"#REF!"}},{"$f":"#REF!","v":{"$error":"#REF!"}},{"$f":"#REF!","v":{"$error":"#REF!"}},{"$f":"#REF!","v":{"$error":"#REF!"}},{"$f":"#REF!","v":{"$error":"#REF!"}},{"$f":"#REF!","v":{"$error":"#REF!"}},{"$f":"#REF!","v":{"$error":"#REF!"}},{"$f":"#REF!","v":{"$error":"#REF!"}},{"$f":"#REF!","v":{"$error":"#REF!"}},{"$f":"#REF!","v":{"$error":"#REF!"}},{"$f":"#REF!","v":{"$error":"#REF!"}},{"$f":"#REF!","v":{"$error":"#REF!"}},{"$f":"#REF!","v":{"$error":"#REF!"}},{"$f":"#REF!","v":{"$error":"#REF!"}},{"$f":"#REF!","v":{"$error":"#REF!"}},{"$f":"#REF!","v":{"$error":"#REF!"}},{"$f":"#REF!","v":{"$error":"#REF!"}},{"$f":"#REF!","v":{"$error":"#REF!"}},{"$f":"#REF!","v":{"$error":"#REF!"}},{"$f":"#REF!","v":{"$error":"#REF!"}},{"$f":"#REF!","v":{"$error":"#REF!"}},{"$f":"#REF!","v":{"$error":"#REF!"}},{"$f":"#REF!","v":{"$error":"#REF!"}},{"$f":"#REF!","v":{"$error":"#REF!"}},{"$f":"#REF!","v":{"$error":"#REF!"}},{"$f":"#REF!","v":{"$error":"#REF!"}},{"$f":"#REF!","v":{"$error":"#REF!"}},{"$f":"#REF!","v":{"$error":"#REF!"}},{"$f":"#REF!","v":{"$error":"#REF!"}},{"$f":"#REF!","v":{"$error":"#REF!"}},{"$f":"#REF!","v":{"$error":"#REF!"}},{"$f":"#REF!","v":{"$error":"#REF!"}},{"$f":"#REF!","v":{"$error":"#REF!"}},{"$f":"#REF!","v":{"$error":"#REF!"}},{"$f":"#REF!","v":{"$error":"#REF!"}},{"$f":"#REF!","v":{"$error":"#REF!"}},{"$f":"#REF!","v":{"$error":"#REF!"}},{"$f":"#REF!","v":{"$error":"#REF!"}},{"$f":"#REF!","v":{"$error":"#REF!"}},{"$f":"#REF!","v":{"$error":"#REF!"}},{"$f":"#REF!","v":{"$error":"#REF!"}},{"$f":"#REF!","v":{"$error":"#REF!"}},{"$f":"#REF!","v":{"$error":"#REF!"}},{"$f":"#REF!","v":{"$error":"#REF!"}},{"$f":"#REF!","v":{"$error":"#REF!"}},{"$f":"#REF!","v":{"$error":"#REF!"}},{"$f":"#REF!","v":{"$error":"#REF!"}},{"$f":"#REF!","v":{"$error":"#REF!"}},{"$f":"#REF!","v":{"$error":"#REF!"}},{"$f":"#REF!","v":{"$error":"#REF!"}},{"$f":"#REF!","v":{"$error":"#REF!"}},{"$f":"#REF!","v":{"$error":"#REF!"}},{"$f":"#REF!","v":{"$error":"#REF!"}},{"$f":"#REF!","v":{"$error":"#REF!"}},null,null,{"$f":"#REF!","v":{"$error":"#REF!"}},{"$f":"#REF!","v":{"$error":"#REF!"}},{"$f":"#REF!","v":{"$error":"#REF!"}},{"$f":"#REF!","v":{"$error":"#REF!"}},{"$f":"#REF!","v":{"$error":"#REF!"}},{"$f":"#REF!","v":{"$error":"#REF!"}},{"$f":"#REF!","v":{"$error":"#REF!"}},{"$f":"#REF!","v":{"$error":"#REF!"}},{"$f":"#REF!","v":{"$error":"#REF!"}},null,null,{"$f":"#REF!","v":{"$error":"#REF!"}},{"$f":"#REF!","v":{"$error":"#REF!"}},{"$f":"#REF!","v":{"$error":"#REF!"}},{"$f":"#REF!","v":{"$error":"#REF!"}},{"$f":"#REF!","v":{"$error":"#REF!"}},{"$f":"#REF!","v":{"$error":"#REF!"}},null,null,{"$f":"#REF!","v":{"$error":"#REF!"}},{"$f":"#REF!","v":{"$error":"#REF!"}},{"$f":"#REF!","v":{"$error":"#REF!"}},null,null,{"$f":"#REF!","v":{"$error":"#REF!"}},{"$f":"#REF!","v":{"$error":"#REF!"}},{"$f":"#REF!","v":{"$error":"#REF!"}},{"$f":"#REF!","v":{"$error":"#REF!"}},{"$f":"#REF!","v":{"$error":"#REF!"}},{"$f":"#REF!","v":{"$error":"#REF!"}},{"$f":"#REF!","v":{"$error":"#REF!"}},{"$f":"#REF!","v":{"$error":"#REF!"}},{"$f":"#REF!","v":{"$error":"#REF!"}},{"$f":"#REF!","v":{"$error":"#REF!"}},{"$f":"#REF!","v":{"$error":"#REF!"}},{"$f":"#REF!","v":{"$error":"#REF!"}},{"$f":"#REF!","v":{"$error":"#REF!"}},{"$f":"#REF!","v":{"$error":"#REF!"}},{"$f":"#REF!","v":{"$error":"#REF!"}},{"$f":"#REF!","v":{"$error":"#REF!"}},{"$f":"#REF!","v":{"$error":"#REF!"}},{"$f":"#REF!","v":{"$error":"#REF!"}},{"$f":"#REF!","v":{"$error":"#REF!"}},null,{"$f":"#REF!","v":{"$error":"#REF!"}},{"$f":"#REF!","v":{"$error":"#REF!"}},{"$f":"#REF!","v":{"$error":"#REF!"}},{"$f":"#REF!","v":{"$error":"#REF!"}},{"$f":"#REF!","v":{"$error":"#REF!"}},{"$f":"#REF!","v":{"$error":"#REF!"}},null,{"$f":"'1. Overall Demographics'!P236","v":0},{"$f":"'1. Overall Demographics'!P237","v":0},{"$f":"'1. Overall Demographics'!P238","v":0},{"$f":"'1. Overall Demographics'!P239","v":0},{"$f":"'1. Overall Demographics'!P240","v":0},{"$f":"'1. Overall Demographics'!P241","v":0},{"$f":"'1. Overall Demographics'!P242","v":0},{"$f":"'1. Overall Demographics'!P243","v":0},null,null,{"$f":"#REF!","v":{"$error":"#REF!"}},{"$f":"#REF!","v":{"$error":"#REF!"}},{"$f":"#REF!","v":{"$error":"#REF!"}},{"$f":"#REF!","v":{"$error":"#REF!"}}]
[5,null,{"$f":"'2. Goals'!C5","v":0},"MA",null,{"$f":"#REF!","v":{"$error":"#REF!"}},{"$f":"#REF!","v":{"$error":"#REF!"}},{"$f":"#REF!","v":{"$error":"#REF!"}},{"$f":"#REF!","v":{"$error":"#REF!"}},{"$f":"#REF!","v":{"$error":"#REF!"}},{"$f":"#REF!","v":{"$error":"#REF!"}},{"$f":"#REF!","v":{"$error":"#REF!"}},{"$f":"#REF!","v":{"$error":"#REF!"}},{"$f":"#REF!","v":{"$error":"#REF!"}},{"$f":"#REF!","v":{"$error":"#REF!"}},{"$f":"#REF!","v":{"$error":"#REF!"}},{"$f":"#REF!","v":{"$error":"#REF!"}},{"$f":"#REF!","v":{"$error":"#REF!"}},{"$f":"#REF!","v":{"$error":"#REF!"}},{"$f":"#REF!","v":{"$error":"#REF!"}},{"$f":"#REF!","v":{"$error":"#REF!"}},{"$f":"#REF!","v":{"$error":"#REF!"}},{"$f":"_xlfn.CONCAT('1. Overall Demographics'!B144:F144,'1. Overall Demographics'!B145:F145,'1. Overall Demographics'!B146:F146,'1. Overall Demographics'!B147:F147,'1. Overall Demographics'!B148:F148,'1. Overall Demographics'!B149:F149,'1. Overall Demographics'!B150:F150)","v":""},{"$f":"#REF!","v":{"$error":"#REF!"}},{"$f":"#REF!","v":{"$error":"#REF!"}},{"$f":"#REF!","v":{"$error":"#REF!"}},{"$f":"#REF!","v":{"$error":"#REF!"}},{"$f":"#REF!","v":{"$error":"#REF!"}},{"$f":"#REF!","v":{"$error":"#REF!"}},{"$f":"#REF!","v":{"$error":"#REF!"}},{"$f":"#REF!","v":{"$error":"#REF!"}},{"$f":"#REF!","v":{"$error":"#REF!"}},{"$f":"#REF!","v":{"$error":"#REF!"}},{"$f":"#REF!","v":{"$error":"#REF!"}},{"$f":"#REF!","v":{"$error":"#REF!"}},{"$f":"#REF!","v":{"$error":"#REF!"}},{"$f":"#REF!","v":{"$error":"#REF!"}},{"$f":"#REF!","v":{"$error":"#REF!"}},{"$f":"#REF!","v":{"$error":"#REF!"}},{"$f":"#REF!","v":{"$error":"#REF!"}},{"$f":"#REF!","v":{"$error":"#REF!"}},{"$f":"#REF!","v":{"$error":"#REF!"}},{"$f":"#REF!","v":{"$error":"#REF!"}},{"$f":"#REF!","v":{"$error":"#REF!"}},{"$f":"#REF!","v":{"$error":"#REF!"}},{"$f":"#REF!","v":{"$error":"#REF!"}},{"$f":"#REF!","v":{"$error":"#REF!"}},{"$f":"#REF!","v":{"$error":"#REF!"}},{"$f":"#REF!","v":{"$error":"#REF!"}},{"$f":"#REF!","v":{"$error":"#REF!"}},{"$f":"#REF!","v":{"$error":"#REF!"}},{"$f":"#REF!","v":{"$error":"#REF!"}},{"$f":"#REF!","v":{"$error":"#REF!"}},{"$f":"#REF!","v":{"$error":"#REF!"}},{"$f":"#REF!","v":{"$error":"#REF!"}},{"$f":"#REF!","v":{"$error":"#REF!"}},{"$f":"#REF!","v":{"$error":"#REF!"}},{"$f":"#REF!","v":{"$error":"#REF!"}},{"$f":"#REF!","v":{"$error":"#REF!"}},{"$f":"_xlfn.CONCAT('1. Overall Demographics'!B220:B229)","v":""},{"$f":"#REF!","v":{"$error":"#REF!"}},{"$f":"#REF!","v":{"$error":"#REF!"}},{"$f":"#REF!","v":{"$error":"#REF!"}},{"$f":"#REF!","v":{"$error":"#REF!"}},{"$f":"#REF!","v":{"$error":"#REF!"}},{"$f":"#REF!","v":{"$error":"#REF!"}},{"$f":"#REF!","v":{"$error":"#REF!"}},{"$f":"#REF!","v":{"$error":"#REF!"}},{"$f":"#REF!","v":{"$error":"#REF!"}},{"$f":"_xlfn.CONCAT(#REF!)","v":{"$error":"#REF!"}},{"$f":"#REF!","v":{"$error":"#REF!"}},{"$f":"#REF!","v":{"$error":"#REF!"}},{"$f":"#REF!","v":{"$error":"#REF!"}},{"$f":"#REF!","v":{"$error":"#REF!"}},{"$f":"#REF!","v":{"$error":"#REF!"}},{"$f":"#REF!","v":{"$error":"#REF!"}},{"$f":"#REF!","v":{"$error":"#REF!"}},{"$f":"#REF!","v":{"$error":"#REF!"}},{"$f":"#REF!","v":{"$error":"#REF!"}},{"$f":"#REF!","v":{"$error":"#REF!"}},{"$f":"#REF!","v":{"$error":"#REF!"}},{"$f":"#REF!","v":{"$error":"#REF!"}},{"$f":"#REF!","v":{"$error":"#REF!"}},{"$f":"#REF!","v":{"$error":"#REF!"}},{"$f":"#REF!","v":{"$error":"#REF!"}},{"$f":"#REF!","v":{"$error":"#REF!"}},{"$f":"#REF!","v":{"$error":"#REF!"}},{"$f":"#REF!","v":{"$error":"#REF!"}},{"$f":"#REF!","v":{"$error":"#REF!"}},{"$f":"#REF!","v":{"$error":"#REF!"}},{"$f":"#REF!","v":{"$error":"#REF!"}},{"$f":"#REF!","v":{"$error":"#REF!"}},{"$f":"#REF!","v":{"$error":"#REF!"}},{"$f":"#REF!","v":{"$error":"#REF!"}},{"$f":"#REF!","v":{"$error":"#REF!"}},{"$f":"#REF!","v":{"$error":"#REF!"}},{"$f":"#REF!","v":{"$error":"#REF!"}},{"$f":"#REF!","v":{"$error":"#REF!"}},{"$f":"#REF!","v":{"$error":"#REF!"}},{"$f":"#REF!","v":{"$error":"#REF!"}},{"$f":"#REF!","v":{"$error":"#REF!"}},{"$f":"#REF!","v":{"$error":"#REF!"}},{"$f":"#REF!","v":{"$error":"#REF!"}},{"$f":"#REF!","v":{"$error":"#REF!"}},{"$f":"#REF!","v":{"$error":"#REF!"}},{"$f":"#REF!","v":{"$error":"#REF!"}},{"$f":"#REF!","v":{"$error":"#REF!"}},{"$f":"#REF!","v":{"$error":"#REF!"}},{"$f":"#REF!","v":{"$error":"#REF!"}},{"$f":"#REF!","v":{"$error":"#REF!"}},{"$f":"#REF!","v":{"$error":"#REF!"}},{"$f":"#REF!","v":{"$error":"#REF!"}},{"$f":"#REF!","v":{"$error":"#REF!"}},{"$f":"#REF!","v":{"$error":"#REF!"}},{"$f":"#REF!","v":{"$error":"#REF!"}},{"$f":"#REF!","v":{"$error":"#REF!"}},{"$f":"#REF!","v":{"$error":"#REF!"}},{"$f":"#REF!","v":{"$error":"#REF!"}},{"$f":"#REF!","v":{"$error":"#REF!"}},{"$f":"#REF!","v":{"$error":"#REF!"}},{"$f":"#REF!","v":{"$error":"#REF!"}},{"$f":"#REF!","v":{"$error":"#REF!"}},{"$f":"#REF!","v":{"$error":"#REF!"}},{"$f":"#REF!","v":{"$error":"#REF!"}},{"$f":"#REF!","v":{"$error":"#REF!"}},{"$f":"#REF!","v":{"$error":"#REF!"}},{"$f":"#REF!","v":{"$error":"#REF!"}},{"$f":"#REF!","v":{"$error":"#REF!"}},{"$f":"#REF!","v":{"$error":"#REF!"}},{"$f":"#REF!","v":{"$error":"#REF!"}},{"$f":"#REF!","v":{"$error":"#REF!"}},{"$f":"#REF!","v":{"$error":"#REF!"}},{"$f":"#REF!","v":{"$error":"#REF!"}},{"$f":"#REF!","v":{"$error":"#REF!"}},{"$f":"#REF!","v":{"$error":"#REF!"}},{"$f":"#REF!","v":{"$error":"#REF!"}},{"$f":"#REF!","v":{"$error":"#REF!"}},{"$f":"#REF!","v":{"$error":"#REF!"}},{"$f":"#REF!","v":{"$error":"#REF!"}},{"$f":"#REF!","v":{"$error":"#REF!"}},{"$f":"#REF!","v":{"$error":"#REF!"}},{"$f":"#REF!","v":{"$error":"#REF!"}},{"$f":"#REF!","v":{"$error":"#REF!"}},{"$f":"#REF!","v":{"$error":"#REF!"}},{"$f":"#REF!","v":{"$error":"#REF!"}},{"$f":"#REF!","v":{"$error":"#REF!"}},{"$f":"#REF!","v":{"$error":"#REF!"}},{"$f":"#REF!","v":{"$error":"#REF!"}},{"$f":"#REF!","v":{"$error":"#REF!"}},{"$f":"#REF!","v":{"$error":"#REF!"}},{"$f":"#REF!","v":{"$error":"#REF!"}},{"$f":"#REF!","v":{"$error":"#REF!"}},{"$f":"#REF!","v":{"$error":"#REF!"}},{"$f":"#REF!","v":{"$error":"#REF!"}},{"$f":"#REF!","v":{"$error":"#REF!"}},{"$f":"#REF!","v":{"$error":"#REF!"}},{"$f":"#REF!","v":{"$error":"#REF!"}},{"$f":"#REF!","v":{"$error":"#REF!"}},{"$f":"#REF!","v":{"$error":"#REF!"}},{"$f":"#REF!","v":{"$error":"#REF!"}},{"$f":"#REF!","v":{"$error":"#REF!"}},{"$f":"#REF!","v":{"$error":"#REF!"}},{"$f":"#REF!","v":{"$error":"#REF!"}},{"$f":"#REF!","v":{"$error":"#REF!"}},{"$f":"#REF!","v":{"$error":"#REF!"}},{"$f":"#REF!","v":{"$error":"#REF!"}},{"$f":"#REF!","v":{"$error":"#REF!"}},{"$f":"#REF!","v":{"$error":"#REF!"}},{"$f":"#REF!","v":{"$error":"#REF!"}},{"$f":"#REF!","v":{"$error":"#REF!"}},{"$f":"#REF!","v":{"$error":"#REF!"}},{"$f":"#REF!","v":{"$error":"#REF!"}},{"$f":"#REF!","v":{"$error":"#REF!"}},{"$f":"#REF!","v":{"$error":"#REF!"}},{"$f":"#REF!","v":{"$error":"#REF!"}},{"$f":"#REF!","v":{"$error":"#REF!"}},{"$f":"#REF!","v":{"$error":"#REF!"}},{"$f":"#REF!","v":{"$error":"#REF!"}},{"$f":"#REF!","v":{"$error":"#REF!"}},{"$f":"#REF!","v":{"$error":"#REF!"}},{"$f":"#REF!","v":{"$error":"#REF!"}},{"$f":"#REF!","v":{"$error":"#REF!"}},{"$f":"#REF!","v":{"$error":"#REF!"}},{"$f":"#REF!","v":{"$error":"#REF!"}},{"$f":"#REF!","v":{"$error":"#REF!"}},{"$f":"#REF!","v":{"$error":"#REF!"}},{"$f":"#REF!","v":{"$error":"#REF!"}},{"$f":"#REF!","v":{"$error":"#REF!"}},{"$f":"#REF!","v":{"$error":"#REF!"}},{"$f":"#REF!","v":{"$error":"#REF!"}},{"$f":"#REF!","v":{"$error":"#REF!"}},{"$f":"#REF!","v":{"$error":"#REF!"}},{"$f":"#REF!","v":{"$error":"#REF!"}},{"$f":"#REF!","v":{"$error":"#REF!"}},{"$f":"#REF!","v":{"$error":"#REF!"}},{"$f":"#REF!","v":{"$error":"#REF!"}},{"$f":"#REF!","v":{"$error":"#REF!"}},{"$f":"#REF!","v":{"$error":"#REF!"}},{"$f":"#REF!","v":{"$error":"#REF!"}},{"$f":"#REF!","v":{"$error":"#REF!"}},{"$f":"#REF!","v":{"$error":"#REF!"}},null,null,{"$f":"'1.1 Sample Court Tab'!D10","v":0},{"$f":"'1.1 Sample Court Tab'!H26","v":0},{"$f":"#REF!","v":{"$error":"#REF!"}}]
[6,null,{"$f":"'2. Goals'!C5","v":0},"MA",null,{"$f":"#REF!","v":{"$error":"#REF!"}},{"$f":"#REF!","v":{"$error":"#REF!"}},{"$f":"#REF!","v":{"$error":"#REF!"}},{"$f":"#REF!","v":{"$error":"#REF!"}},{"$f":"#REF!","v":{"$error":"#REF!"}},{"$f":"#REF!","v":{"$error":"#REF!"}},{"$f":"#REF!","v":{"$error":"#REF!"}},{"$f":"#REF!","v":{"$error":"#REF!"}},{"$f":"#REF!","v":{"$error":"#REF!"}},{"$f":"#REF!","v":{"$error":"#REF!"}},{"$f":"#REF!","v":{"$error":"#REF!"}},{"$f":"#REF!","v":{"$error":"#REF!"}},{"$f":"#REF!","v":{"$error":"#REF!"}},{"$f":"#REF!","v":{"$error":"#REF!"}},{"$f":"#REF!","v":{"$error":"#REF!"}},{"$f":"#REF!","v":{"$error":"#REF!"}},{"$f":"#REF!","v":{"$error":"#REF!"}},{"$f":"_xlfn.CONCAT('1. Overall Demographics'!B144:F144,'1. Overall Demographics'!B145:F145,'1. Overall Demographics'!B146:F146,'1. Overall Demographics'!B147:F147,'1. Overall Demographics'!B148:F148,'1. Overall Demographics'!B149:F149,'1. Overall Demographics'!B150:F150)","v":""},{"$f":"#REF!","v":{"$error":"#REF!"}},{"$f":"#REF!","v":{"$error":"#REF!"}},{"$f":"#REF!","v":{"$error":"#REF!"}},{"$f":"#REF!","v":{"$error":"#REF!"}},{"$f":"#REF!","v":{"$error":"#REF!"}},{"$f":"#REF!","v":{"$error":"#REF!"}},{"$f":"#REF!","v":{"$error":"#REF!"}},{"$f":"#REF!","v":{"$error":"#REF!"}},{"$f":"#REF!","v":{"$error":"#REF!"}},{"$f":"#REF!","v":{"$error":"#REF!"}},{"$f":"#REF!","v":{"$error":"#REF!"}},{"$f":"#REF!","v":{"$error":"#REF!"}},{"$f":"#REF!","v":{"$error":"#REF!"}},{"$f":"#REF!","v":{"$error":"#REF!"}},{"$f":"#REF!","v":{"$error":"#REF!"}},{"$f":"#REF!","v":{"$error":"#REF!"}},{"$f":"#REF!","v":{"$error":"#REF!"}},{"$f":"#REF!","v":{"$error":"#REF!"}},{"$f":"#REF!","v":{"$error":"#REF!"}},{"$f":"#REF!","v":{"$error":"#REF!"}},{"$f":"#REF!","v":{"$error":"#REF!"}},{"$f":"#REF!","v":{"$error":"#REF!"}},{"$f":"#REF!","v":{"$error":"#REF!"}},{"$f":"#REF!","v":{"$error":"#REF!"}},{"$f":"#REF!","v":{"$error":"#REF!"}},{"$f":"#REF!","v":{"$error":"#REF!"}},{"$f":"#REF!","v":{"$error":"#REF!"}},{"$f":"#REF!","v":{"$error":"#REF!"}},{"$f":"#REF!","v":{"$error":"#REF!"}},{"$f":"#REF!","v":{"$error":"#REF!"}},{"$f":"#REF!","v":{"$error":"#REF!"}},{"$f":"#REF!","v":{"$error":"#REF!"}},{"$f":"#REF!","v":{"$error":"#REF!"}},{"$f":"#REF!","v":{"$error":"#REF!"}},{"$f":"#REF!","v":{"$error":"#REF!"}},{"$f":"#REF!","v":{"$error":"#REF!"}},{"$f":"_xlfn.CONCAT('1. Overall Demographics'!B220:B229)","v":""},{"$f":"#REF!","v":{"$error":"#REF!"}},{"$f":"#REF!","v":{"$error":"#REF!"}},{"$f":"#REF!","v":{"$error":"#REF!"}},{"$f":"#REF!","v":{"$error":"#REF!"}},{"$f":"#REF!","v":{"$error":"#REF!"}},{"$f":"#REF!","v":{"$error":"#REF!"}},{"$f":"#REF!","v":{"$error":"#REF!"}},{"$f":"#REF!","v":{"$error":"#REF!"}},{"$f":"#REF!","v":{"$error":"#REF!"}},{"$f":"_xlfn.CONCAT(#REF!)","v":{"$error":"#REF!"}},{"$f":"#REF!","v":{"$error":"#REF!"}},{"$f":"#REF!","v":{"$error":"#REF!"}},{"$f":"#REF!","v":{"$error":"#REF!"}},{"$f":"#REF!","v":{"$error":"#REF!"}},{"$f":"#REF!","v":{"$error":"#REF!"}},{"$f":"#REF!","v":{"$error":"#REF!"}},{"$f":"#REF!","v":{"$error":"#REF!"}},{"$f":"#REF!","v":{"$error":"#REF!"}},{"$f":"#REF!","v":{"$error":"#REF!"}},{"$f":"#REF!","v":{"$error":"#REF!"}},{"$f":"#REF!","v":{"$error":"#REF!"}},{"$f":"#REF!","v":{"$error":"#REF!"}},{"$f":"#REF!","v":{"$error":"#REF!"}},{"$f":"#REF!","v":{"$error":"#REF!"}},{"$f":"#REF!","v":{"$error":"#REF!"}},{"$f":"#REF!","v":{"$error":"#REF!"}},{"$f":"#REF!","v":{"$error":"#REF!"}},{"$f":"#REF!","v":{"$error":"#REF!"}},{"$f":"#REF!","v":{"$error":"#REF!"}},{"$f":"#REF!","v":{"$error":"#REF!"}},{"$f":"#REF!","v":{"$error":"#REF!"}},{"$f":"#REF!","v":{"$error":"#REF!"}},{"$f":"#REF!","v":{"$error":"#REF!"}},{"$f":"#REF!","v":{"$error":"#REF!"}},{"$f":"#REF!","v":{"$error":"#REF!"}},{"$f":"#REF!","v":{"$error":"#REF!"}},{"$f":"#REF!","v":{"$error":"#REF!"}},{"$f":"#REF!","v":{"$error":"#REF!"}},{"$f":"#REF!","v":{"$error":"#REF!"}},{"$f":"#REF!","v":{"$error":"#REF!"}},{"$f":"#REF!","v":{"$error":"#REF!"}},{"$f":"#REF!","v":{"$error":"#REF!"}},{"$f":"#REF!","v":{"$error":"#REF!"}},{"$f":"#REF!","v":{"$error":"#REF!"}},{"$f":"#REF!","v":{"$error":"#REF!"}},{"$f":"#REF!","v":{"$error":"#REF!"}},{"$f":"#REF!","v":{"$error":"#REF!"}},{"$f":"#REF!","v":{"$error":"#REF!"}},{"$f":"#REF!","v":{"$error":"#REF!"}},{"$f":"#REF!","v":{"$error":"#REF!"}},{"$f":"#REF!","v":{"$error":"#REF!"}},{"$f":"#REF!","v":{"$error":"#REF!"}},{"$f":"#REF!","v":{"$error":"#REF!"}},{"$f":"#REF!","v":{"$error":"#REF!"}},{"$f":"#REF!","v":{"$error":"#REF!"}},{"$f":"#REF!","v":{"$error":"#REF!"}},{"$f":"#REF!","v":{"$error":"#REF!"}},{"$f":"#REF!","v":{"$error":"#REF!"}},{"$f":"#REF!","v":{"$error":"#REF!"}},{"$f":"#REF!","v":{"$error":"#REF!"}},{"$f":"#REF!","v":{"$error":"#REF!"}},{"$f":"#REF!","v":{"$error":"#REF!"}},{"$f":"#REF!","v":{"$error":"#REF!"}},{"$f":"#REF!","v":{"$error":"#REF!"}},{"$f":"#REF!","v":{"$error":"#REF!"}},{"$f":"#REF!","v":{"$error":"#REF!"}},{"$f":"#REF!","v":{"$error":"#REF!"}},{"$f":"#REF!","v":{"$error":"#REF!"}},{"$f":"#REF!","v":{"$error":"#REF!"}},{"$f":"#REF!","v":{"$error":"#REF!"}},{"$f":"#REF!","v":{"$error":"#REF!"}},{"$f":"#REF!","v":{"$error":"#REF!"}},{"$f":"#REF!","v":{"$error":"#REF!"}},{"$f":"#REF!","v":{"$error":"#REF!"}},{"$f":"#REF!","v":{"$error":"#REF!"}},{"$f":"#REF!","v":{"$error":"#REF!"}},{"$f":"#REF!","v":{"$error":"#REF!"}},{"$f":"#REF!","v":{"$error":"#REF!"}},{"$f":"#REF!","v":{"$error":"#REF!"}},{"$f":"#REF!","v":{"$error":"#REF!"}},{"$f":"#REF!","v":{"$error":"#REF!"}},{"$f":"#REF!","v":{"$error":"#REF!"}},{"$f":"#REF!","v":{"$error":"#REF!"}},{"$f":"#REF!","v":{"$error":"#REF!"}},{"$f":"#REF!","v":{"$error":"#REF!"}},{"$f":"#REF!","v":{"$error":"#REF!"}},{"$f":"#REF!","v":{"$error":"#REF!"}},{"$f":"#REF!","v":{"$error":"#REF!"}},{"$f":"#REF!","v":{"$error":"#REF!"}},{"$f":"#REF!","v":{"$error":"#REF!"}},{"$f":"#REF!","v":{"$error":"#REF!"}},{"$f":"#REF!","v":{"$error":"#REF!"}},{"$f":"#REF!","v":{"$error":"#REF!"}},{"$f":"#REF!","v":{"$error":"#REF!"}},{"$f":"#REF!","v":{"$error":"#REF!"}},{"$f":"#REF!","v":{"$error":"#REF!"}},{"$f":"#REF!","v":{"$error":"#REF!"}},{"$f":"#REF!","v":{"$error":"#REF!"}},{"$f":"#REF!","v":{"$error":"#REF!"}},{"$f":"#REF!","v":{"$error":"#REF!"}},{"$f":"#REF!","v":{"$error":"#REF!"}},{"$f":"#REF!","v":{"$error":"#REF!"}},{"$f":"#REF!","v":{"$error":"#REF!"}},{"$f":"#REF!","v":{"$error":"#REF!"}},{"$f":"#REF!","v":{"$error":"#REF!"}},{"$f":"#REF!","v":{"$error":"#REF!"}},{"$f":"#REF!","v":{"$error":"#REF!"}},{"$f":"#REF!","v":{"$error":"#REF!"}},{"$f":"#REF!","v":{"$error":"#REF!"}},{"$f":"#REF!","v":{"$error":"#REF!"}},{"$f":"#REF!","v":{"$error":"#REF!"}},{"$f":"#REF!","v":{"$error":"#REF!"}},{"$f":"#REF!","v":{"$error":"#REF!"}},{"$f":"#REF!","v":{"$error":"#REF!"}},{"$f":"#REF!","v":{"$error":"#REF!"}},{"$f":"#REF!","v":{"$error":"#REF!"}},{"$f":"#REF!","v":{"$error":"#REF!"}},{"$f":"#REF!","v":{"$error":"#REF!"}},{"$f":"#REF!","v":{"$error":"#REF!"}},{"$f":"#REF!","v":{"$error":"#REF!"}},{"$f":"#REF!","v":{"$error":"#REF!"}},{"$f":"#REF!","v":{"$error":"#REF!"}},{"$f":"#REF!","v":{"$error":"#REF!"}},{"$f":"#REF!","v":{"$error":"#REF!"}},{"$f":"#REF!","v":{"$error":"#REF!"}},{"$f":"#REF!","v":{"$error":"#REF!"}},{"$f":"#REF!","v":{"$error":"#REF!"}},{"$f":"#REF!","v":{"$error":"#REF!"}},{"$f":"#REF!","v":{"$error":"#REF!"}},{"$f":"#REF!","v":{"$error":"#REF!"}},{"$f":"#REF!","v":{"$error":"#REF!"}},{"$f":"#REF!","v":{"$error":"#REF!"}},{"$f":"#REF!","v":{"$error":"#REF!"}},{"$f":"#REF!","v":{"$error":"#REF!"}},{"$f":"#REF!","v":{"$error":"#REF!"}},{"$f":"#REF!","v":{"$error":"#REF!"}},{"$f":"#REF!","v":{"$error":"#REF!"}},{"$f":"#REF!","v":{"$error":"#REF!"}},{"$f":"#REF!","v":{"$error":"#REF!"}},{"$f":"#REF!","v":{"$error":"#REF!"}},{"$f":"#REF!","v":{"$error":"#REF!"}},null,null,{"$f":"'1.1 Sample Court Tab'!D11","v":0},{"$f":"#REF!","v":{"$error":"#REF!"}},{"$f":"#REF!","v":{"$error":"#REF!"}}]
[7,null,{"$f":"'2. Goals'!C5","v":0},"MA",null,{"$f":"#REF!","v":{"$error":"#REF!"}},{"$f":"#REF!","v":{"$error":"#REF!"}},{"$f":"#REF!","v":{"$error":"#REF!"}},{"$f":"#REF!","v":{"$error":"#REF!"}},{"$f":"#REF!","v":{"$error":"#REF!"}},{"$f":"#REF!","v":{"$error":"#REF!"}},{"$f":"#REF!","v":{"$error":"#REF!"}},{"$f":"#REF!","v":{"$error":"#REF!"}},{"$f":"#REF!","v":{"$error":"#REF!"}},{"$f":"#REF!","v":{"$error":"#REF!"}},{"$f":"#REF!","v":{"$error":"#REF!"}},{"$f":"#REF!","v":{"$error":"#REF!"}},{"$f":"#REF!","v":{"$error":"#REF!"}},{"$f":"#REF!","v":{"$error":"#REF!"}},{"$f":"#REF!","v":{"$error":"#REF!"}},{"$f":"#REF!","v":{"$error":"#REF!"}},{"$f":"#REF!","v":{"$error":"#REF!"}},{"$f":"_xlfn.CONCAT('1. Overall Demographics'!B144:F144,'1. Overall Demographics'!B145:F145,'1. Overall Demographics'!B146:F146,'1. Overall Demographics'!B147:F147,'1. Overall Demographics'!B148:F148,'1. Overall Demographics'!B149:F149,'1. Overall Demographics'!B150:F150)","v":""},{"$f":"#REF!","v":{"$error":"#REF!"}},{"$f":"#REF!","v":{"$error":"#REF!"}},{"$f":"#REF!","v":{"$error":"#REF!"}},{"$f":"#REF!","v":{"$error":"#REF!"}},{"$f":"#REF!","v":{"$error":"#REF!"}},{"$f":"#REF!","v":{"$error":"#REF!"}},{"$f":"#REF!","v":{"$error":"#REF!"}},{"$f":"#REF!","v":{"$error":"#REF!"}},{"$f":"#REF!","v":{"$error":"#REF!"}},{"$f":"#REF!","v":{"$error":"#REF!"}},{"$f":"#REF!","v":{"$error":"#REF!"}},{"$f":"#REF!","v":{"$error":"#REF!"}},{"$f":"#REF!","v":{"$error":"#REF!"}},{"$f":"#REF!","v":{"$error":"#REF!"}},{"$f":"#REF!","v":{"$error":"#REF!"}},{"$f":"#REF!","v":{"$error":"#REF!"}},{"$f":"#REF!","v":{"$error":"#REF!"}},{"$f":"#REF!","v":{"$error":"#REF!"}},{"$f":"#REF!","v":{"$error":"#REF!"}},{"$f":"#REF!","v":{"$error":"#REF!"}},{"$f":"#REF!","v":{"$error":"#REF!"}},{"$f":"#REF!","v":{"$error":"#REF!"}},{"$f":"#REF!","v":{"$error":"#REF!"}},{"$f":"#REF!","v":{"$error":"#REF!"}},{"$f":"#REF!","v":{"$error":"#REF!"}},{"$f":"#REF!","v":{"$error":"#REF!"}},{"$f":"#REF!","v":{"$error":"#REF!"}},{"$f":"#REF!","v":{"$error":"#REF!"}},{"$f":"#REF!","v":{"$error":"#REF!"}},{"$f":"#REF!","v":{"$error":"#REF!"}},{"$f":"#REF!","v":{"$error":"#REF!"}},{"$f":"#REF!","v":{"$error":"#REF!"}},{"$f":"#REF!","v":{"$error":"#REF!"}},{"$f":"#REF!","v":{"$error":"#REF!"}},{"$f":"#REF!","v":{"$error":"#REF!"}},{"$f":"#REF!","v":{"$error":"#REF!"}},{"$f":"_xlfn.CONCAT('1. Overall Demographics'!B220:B229)","v":""},{"$f":"#REF!","v":{"$error":"#REF!"}},{"$f":"#REF!","v":{"$error":"#REF!"}},{"$f":"#REF!","v":{"$error":"#REF!"}},{"$f":"#REF!","v":{"$error":"#REF!"}},{"$f":"#REF!","v":{"$error":"#REF!"}},{"$f":"#REF!","v":{"$error":"#REF!"}},{"$f":"#REF!","v":{"$error":"#REF!"}},{"$f":"#REF!","v":{"$error":"#REF!"}},{"$f":"#REF!","v":{"$error":"#REF!"}},{"$f":"_xlfn.CONCAT(#REF!)","v":{"$error":"#REF!"}},{"$f":"#REF!","v":{"$error":"#REF!"}},{"$f":"#REF!","v":{"$error":"#REF!"}},{"$f":"#REF!","v":{"$error":"#REF!"}},{"$f":"#REF!","v":{"$error":"#REF!"}},{"$f":"#REF!","v":{"$error":"#REF!"}},{"$f":"#REF!","v":{"$error":"#REF!"}},{"$f":"#REF!","v":{"$error":"#REF!"}},{"$f":"#REF!","v":{"$error":"#REF!"}},{"$f":"#REF!","v":{"$error":"#REF!"}},{"$f":"#REF!","v":{"$error":"#REF!"}},{"$f":"#REF!","v":{"$error":"#REF!"}},{"$f":"#REF!","v":{"$error":"#REF!"}},{"$f":"#REF!","v":{"$error":"#REF!"}},{"$f":"#REF!","v":{"$error":"#REF!"}},{"$f":"#REF!","v":{"$error":"#REF!"}},{"$f":"#REF!","v":{"$error":"#REF!"}},{"$f":"#REF!","v":{"$error":"#REF!"}},{"$f":"#REF!","v":{"$error":"#REF!"}},{"$f":"#REF!","v":{"$error":"#REF!"}},{"$f":"#REF!","v":{"$error":"#REF!"}},{"$f":"#REF!","v":{"$error":"#REF!"}},{"$f":"#REF!","v":{"$error":"#REF!"}},{"$f":"#REF!","v":{"$error":"#REF!"}},{"$f":"#REF!","v":{"$error":"#REF!"}},{"$f":"#REF!","v":{"$error":"#REF!"}},{"$f":"#REF!","v":{"$error":"#REF!"}},{"$f":"#REF!","v":{"$error":"#REF!"}},{"$f":"#REF!","v":{"$error":"#REF!"}},{"$f":"#REF!","v":{"$error":"#REF!"}},{"$f":"#REF!","v":{"$error":"#REF!"}},{"$f":"#REF!","v":{"$error":"#REF!"}},{"$f":"#REF!","v":{"$error":"#REF!"}},{"$f":"#REF!","v":{"$error":"#REF!"}},{"$f":"#REF!","v":{"$error":"#REF!"}},{"$f":"#REF!","v":{"$error":"#REF!"}},{"$f":"#REF!","v":{"$error":"#REF!"}},{"$f":"#REF!","v":{"$error":"#REF!"}},{"$f":"#REF!","v":{"$error":"#REF!"}},{"$f":"#REF!","v":{"$error":"#REF!"}},{"$f":"#REF!","v":{"$error":"#REF!"}},{"$f":"#REF!","v":{"$error":"#REF!"}},{"$f":"#REF!","v":{"$error":"#REF!"}},{"$f":"#REF!","v":{"$error":"#REF!"}},{"$f":"#REF!","v":{"$error":"#REF!"}},{"$f":"#REF!","v":{"$error":"#REF!"}},{"$f":"#REF!","v":{"$error":"#REF!"}},{"$f":"#REF!","v":{"$error":"#REF!"}},{"$f":"#REF!","v":{"$error":"#REF!"}},{"$f":"#REF!","v":{"$error":"#REF!"}},{"$f":"#REF!","v":{"$error":"#REF!"}},{"$f":"#REF!","v":{"$error":"#REF!"}},{"$f":"#REF!","v":{"$error":"#REF!"}},{"$f":"#REF!","v":{"$error":"#REF!"}},{"$f":"#REF!","v":{"$error":"#REF!"}},{"$f":"#REF!","v":{"$error":"#REF!"}},{"$f":"#REF!","v":{"$error":"#REF!"}},{"$f":"#REF!","v":{"$error":"#REF!"}},{"$f":"#REF!","v":{"$error":"#REF!"}},{"$f":"#REF!","v":{"$error":"#REF!"}},{"$f":"#REF!","v":{"$error":"#REF!"}},{"$f":"#REF!","v":{"$error":"#REF!"}},{"$f":"#REF!","v":{"$error":"#REF!"}},{"$f":"#REF!","v":{"$error":"#REF!"}},{"$f":"#REF!","v":{"$error":"#REF!"}},{"$f":"#REF!","v":{"$error":"#REF!"}},{"$f":"#REF!","v":{"$error":"#REF!"}},{"$f":"#REF!","v":{"$error":"#REF!"}},{"$f":"#REF!","v":{"$error":"#REF!"}},{"$f":"#REF!","v":{"$error":"#REF!"}},{"$f":"#REF!","v":{"$error":"#REF!"}},{"$f":"#REF!","v":{"$error":"#REF!"}},{"$f":"#REF!","v":{"$error":"#REF!"}},{"$f":"#REF!","v":{"$error":"#REF!"}},{"$f":"#REF!","v":{"$error":"#REF!"}},{"$f":"#REF!","v":{"$error":"#REF!"}},{"$f":"#REF!","v":{"$error":"#REF!"}},{"$f":"#REF!","v":{"$error":"#REF!"}},{"$f":"#REF!","v":{"$error":"#REF!"}},{"$f":"#REF!","v":{"$error":"#REF!"}},{"$f":"#REF!","v":{"$error":"#REF!"}},{"$f":"#REF!","v":{"$error":"#REF!"}},{"$f":"#REF!","v":{"$error":"#REF!"}},{"$f":"#REF!","v":{"$error":"#REF!"}},{"$f":"#REF!","v":{"$error":"#REF!"}},{"$f":"#REF!","v":{"$error":"#REF!"}},{"$f":"#REF!","v":{"$error":"#REF!"}},{"$f":"#REF!","v":{"$error":"#REF!"}},{"$f":"#REF!","v":{"$error":"#REF!"}},{"$f":"#REF!","v":{"$error":"#REF!"}},{"$f":"#REF!","v":{"$error":"#REF!"}},{"$f":"#REF!","v":{"$error":"#REF!"}},{"$f":"#REF!","v":{"$error":"#REF!"}},{"$f":"#REF!","v":{"$error":"#REF!"}},{"$f":"#REF!","v":{"$error":"#REF!"}},{"$f":"#REF!","v":{"$error":"#REF!"}},{"$f":"#REF!","v":{"$error":"#REF!"}},{"$f":"#REF!","v":{"$error":"#REF!"}},{"$f":"#REF!","v":{"$error":"#REF!"}},{"$f":"#REF!","v":{"$error":"#REF!"}},{"$f":"#REF!","v":{"$error":"#REF!"}},{"$f":"#REF!","v":{"$error":"#REF!"}},{"$f":"#REF!","v":{"$error":"#REF!"}},{"$f":"#REF!","v":{"$error":"#REF!"}},{"$f":"#REF!","v":{"$error":"#REF!"}},{"$f":"#REF!","v":{"$error":"#REF!"}},{"$f":"#REF!","v":{"$error":"#REF!"}},{"$f":"#REF!","v":{"$error":"#REF!"}},{"$f":"#REF!","v":{"$error":"#REF!"}},{"$f":"#REF!","v":{"$error":"#REF!"}},{"$f":"#REF!","v":{"$error":"#REF!"}},{"$f":"#REF!","v":{"$error":"#REF!"}},{"$f":"#REF!","v":{"$error":"#REF!"}},{"$f":"#REF!","v":{"$error":"#REF!"}},{"$f":"#REF!","v":{"$error":"#REF!"}},{"$f":"#REF!","v":{"$error":"#REF!"}},{"$f":"#REF!","v":{"$error":"#REF!"}},{"$f":"#REF!","v":{"$error":"#REF!"}},{"$f":"#REF!","v":{"$error":"#REF!"}},{"$f":"#REF!","v":{"$error":"#REF!"}},{"$f":"#REF!","v":{"$error":"#REF!"}},{"$f":"#REF!","v":{"$error":"#REF!"}},{"$f":"#REF!","v":{"$error":"#REF!"}},{"$f":"#REF!","v":{"$error":"#REF!"}},{"$f":"#REF!","v":{"$error":"#REF!"}},{"$f":"#REF!","v":{"$error":"#REF!"}},{"$f":"#REF!","v":{"$error":"#REF!"}},{"$f":"#REF!","v":{"$error":"#REF!"}},{"$f":"#REF!","v":{"$error":"#REF!"}},{"$f":"#REF!","v":{"$error":"#REF!"}},{"$f":"#REF!","v":{"$error":"#REF!"}},{"$f":"#REF!","v":{"$error":"#REF!"}},null,null,{"$f":"'1.1 Sample Court Tab'!D12","v":0},{"$f":"'1.1 Sample Court Tab'!H28","v":0},{"$f":"'1.1 Sample Court Tab'!H31","v":0}]
[8,null,{"$f":"'2. Goals'!C5","v":0},"MA",null,{"$f":"#REF!","v":{"$error":"#REF!"}},{"$f":"#REF!","v":{"$error":"#REF!"}},{"$f":"#REF!","v":{"$error":"#REF!"}},{"$f":"#REF!","v":{"$error":"#REF!"}},{"$f":"#REF!","v":{"$error":"#REF!"}},{"$f":"#REF!","v":{"$error":"#REF!"}},{"$f":"#REF!","v":{"$error":"#REF!"}},{"$f":"#REF!","v":{"$error":"#REF!"}},{"$f":"#REF!","v":{"$error":"#REF!"}},{"$f":"#REF!","v":{"$error":"#REF!"}},{"$f":"#REF!","v":{"$error":"#REF!"}},{"$f":"#REF!","v":{"$error":"#REF!"}},{"$f":"#REF!","v":{"$error":"#REF!"}},{"$f":"#REF!","v":{"$error":"#REF!"}},{"$f":"#REF!","v":{"$error":"#REF!"}},{"$f":"#REF!","v":{"$error":"#REF!"}},{"$f":"#REF!","v":{"$error":"#REF!"}},{"$f":"_xlfn.CONCAT('1. Overall Demographics'!B144:F144,'1. Overall Demographics'!B145:F145,'1. Overall Demographics'!B146:F146,'1. Overall Demographics'!B147:F147,'1. Overall Demographics'!B148:F148,'1. Overall Demographics'!B149:F149,'1. Overall Demographics'!B150:F150)","v":""},{"$f":"#REF!","v":{"$error":"#REF!"}},{"$f":"#REF!","v":{"$error":"#REF!"}},{"$f":"#REF!","v":{"$error":"#REF!"}},{"$f":"#REF!","v":{"$error":"#REF!"}},{"$f":"#REF!","v":{"$error":"#REF!"}},{"$f":"#REF!","v":{"$error":"#REF!"}},{"$f":"#REF!","v":{"$error":"#REF!"}},{"$f":"#REF!","v":{"$error":"#REF!"}},{"$f":"#REF!","v":{"$error":"#REF!"}},null,null,null,null,null,null,null,null,null,null,null,null,null,null,null,null,null,null,null,null,null,null,null,null,null,null,null,null,null,null,null,null,null,null,null,null,null,null,null,null,null,null,null,null,null,null,null,null,null,null,null,null,null,null,null,null,null,null,null,null,null,null,null,null,null,null,null,null,null,null,null,null,null,null,null,null,null,null,null,null,null,null,null,null,null,null,null,null,null,null,null,null,null,null,null,null,null,null,null,null,null,null,null,null,null,null,null,null,null,null,null,null,null,null,null,null,null,null,null,null,null,null,null,null,null,null,null,null,null,null,null,null,null,null,null,null,null,null,null,null,null,null,null,null,null,null,null,null,null,null,null,null,null,null,null,null,null,null,null,null,null,null,null,null,null,null,null,null,null,null,null,{"$f":"'1.1 Sample Court Tab'!D13","v":0},{"$f":"#REF!","v":{"$error":"#REF!"}},{"$f":"#REF!","v":{"$error":"#REF!"}}]
[null,null,null,null,null,null,null,null,null,null,null,null,null,null,null,null,null,null,null,null,null,null,null,null,null,null,null,null,null,null,null,null,null,null,null,null,null,null,null,null,null,null,null,null,null,null,null,null,null,null,null,null,null,null,null,null,null,null,null,null,null,null,null,null,null,null,null,null,null,null,null,null,null,null,null,null,null,null,null,null,null,null,null,null,null,null,null,null,null,null,null,null,null,null,null,null,null,null,null,null,null,null,null,null,null,null,null,null,null,null,null,null,null,null,null,null,null,null,null,null,null,null,null,null,null,null,null,null,null,null,null,null,null,null,null,null,null,null,null,null,null,null,null,null,null,null,null,null,null,null,null,null,null,null,null,null,null,null,null,null,null,null,null,null,null,null,null,null,null,null,null,null,null,null,null,null,null,null,null,null,null,null,null,null,null,null,null,null,null,null,null,null,null,null,null,null,null,null,null,null,null,null,null,{"$f":"#REF!","v":{"$error":"#REF!"}},{"$f":"#REF!","v":{"$error":"#REF!"}},{"$f":"#REF!","v":{"$error":"#REF!"}},{"$f":"#REF!","v":{"$error":"#REF!"}}]
[null,null,null,null,null,null,null,null,null,null,null,null,null,null,null,null,null,null,null,null,null,null,null,null,null,null,null,null,null,null,null,null,null,null,null,null,null,null,null,null,null,null,null,null,null,null,null,null,null,null,null,null,null,null,null,null,null,null,null,null,null,null,null,null,null,null,null,null,null,null,null,null,null,null,null,null,null,null,null,null,null,null,null,null,null,null,null,null,null,null,null,null,null,null,null,null,null,null,null,null,null,null,null,null,null,null,null,null,null,null,null,null,null,null,null,null,null,null,null,null,null,null,null,null,null,null,null,null,null,null,null,null,null,null,null,null,null,null,null,null,null,null,null,null,null,null,null,null,null,null,null,null,null,null,null,null,null,null,null,null,null,null,null,null,null,null,null,null,null,null,null,null,null,null,null,null,null,null,null,null,null,null,null,null,null,null,null,null,null,null,null,null,null,null,null,null,null,null,null,null,null,null,null,{"$f":"#REF!","v":{"$error":"#REF!"}},{"$f":"#REF!","v":{"$error":"#REF!"}},{"$f":"#REF!","v":{"$error":"#REF!"}},{"$f":"#REF!","v":{"$error":"#REF!"}}]
[null,null,null,null,null,null,null,null,null,null,null,null,null,null,null,null,null,null,null,null,null,null,null,null,null,null,null,null,null,null,null,null,null,null,null,null,null,null,null,null,null,null,null,null,null,null,null,null,null,null,null,null,null,null,null,null,null,null,null,null,null,null,null,null,null,null,null,null,null,null,null,null,null,null,null,null,null,null,null,null,null,null,null,null,null,null,null,null,null,null,null,null,null,null,null,null,null,null,null,null,null,null,null,null,null,null,null,null,null,null,null,null,null,null,null,null,null,null,null,null,null,null,null,null,null,null,null,null,null,null,null,null,null,null,null,null,null,null,null,null,null,null,null,null,null,null,null,null,null,null,null,null,null,null,null,null,null,null,null,null,null,null,null,null,null,null,null,null,null,null,null,null,null,null,null,null,null,null,null,null,null,null,null,null,null,null,null,null,null,null,null,null,null,null,null,null,null,null,null,null,null,null,null,{"$f":"#REF!","v":{"$error":"#REF!"}},{"$f":"#REF!","v":{"$error":"#REF!"}},{"$f":"#REF!","v":{"$error":"#REF!"}},{"$f":"#REF!","v":{"$error":"#REF!"}}]
[null,null,null,null,null,null,null,null,null,null,null,null,null,null,null,null,null,null,null,null,null,null,null,null,null,null,null,null,null,null,null,null,null,null,null,null,null,null,null,null,null,null,null,null,null,null,null,null,null,null,null,null,null,null,null,null,null,null,null,null,null,null,null,null,null,null,null,null,null,null,null,null,null,null,null,null,null,null,null,null,null,null,null,null,null,null,null,null,null,null,null,null,null,null,null,null,null,null,null,null,null,null,null,null,null,null,null,null,null,null,null,null,null,null,null,null,null,null,null,null,null,null,null,null,null,null,null,null,null,null,null,null,null,null,null,null,null,null,null,null,null,null,null,null,null,null,null,null,null,null,null,null,null,null,null,null,null,null,null,null,null,null,null,null,null,null,null,null,null,null,null,null,null,null,null,null,null,null,null,null,null,null,null,null,null,null,null,null,null,null,null,null,null,null,null,null,null,null,null,null,null,null,null,{"$f":"#REF!","v":{"$error":"#REF!"}},{"$f":"#REF!","v":{"$error":"#REF!"}},{"$f":"#REF!","v":{"$error":"#REF!"}},{"$f":"#REF!","v":{"$error":"#REF!"}}]
[null,null,null,null,null,null,null,null,null,null,null,null,null,null,null,null,null,null,null,null,null,null,null,null,null,null,null,null,null,null,null,null,null,null,null,null,null,null,null,null,null,null,null,null,null,null,null,null,null,null,null,null,null,null,null,null,null,null,null,null,null,null,null,null,null,null,null,null,null,null,null,null,null,null,null,null,null,null,null,null,null,null,null,null,null,null,null,null,null,null,null,null,null,null,null,null,null,null,null,null,null,null,null,null,null,null,null,null,null,null,null,null,null,null,null,null,null,null,null,null,null,null,null,null,null,null,null,null,null,null,null,null,null,null,null,null,null,null,null,null,null,null,null,null,null,null,null,null,null,null,null,null,null,null,null,null,null,null,null,null,null,null,null,null,null,null,null,null,null,null,null,null,null,null,null,null,null,null,null,null,null,null,null,null,null,null,null,null,null,null,null,null,null,null,null,null,null,null,null,null,null,null,null,{"$f":"#REF!","v":{"$error":"#REF!"}},{"$f":"#REF!","v":{"$error":"#REF!"}},{"$f":"#REF!","v":{"$error":"#REF!"}},{"$f":"#REF!","v":{"$error":"#REF!"}}]
[null,null,null,null,null,null,null,null,null,null,null,null,null,null,null,null,null,null,null,null,null,null,null,null,null,null,null,null,null,null,null,null,null,null,null,null,null,null,null,null,null,null,null,null,null,null,null,null,null,null,null,null,null,null,null,null,null,null,null,null,null,null,null,null,null,null,null,null,null,null,null,null,null,null,null,null,null,null,null,null,null,null,null,null,null,null,null,null,null,null,null,null,null,null,null,null,null,null,null,null,null,null,null,null,null,null,null,null,null,null,null,null,null,null,null,null,null,null,null,null,null,null,null,null,null,null,null,null,null,null,null,null,null,null,null,null,null,null,null,null,null,null,null,null,null,null,null,null,null,null,null,null,null,null,null,null,null,null,null,null,null,null,null,null,null,null,null,null,null,null,null,null,null,null,null,null,null,null,null,null,null,null,null,null,null,null,null,null,null,null,null,null,null,null,null,null,null,null,null,null,null,null,null,{"$f":"#REF!","v":{"$error":"#REF!"}},{"$f":"#REF!","v":{"$error":"#REF!"}},{"$f":"#REF!","v":{"$error":"#REF!"}},{"$f":"#REF!","v":{"$error":"#REF!"}}]
[null,null,null,null,null,null,null,null,null,null,null,null,null,null,null,null,null,null,null,null,null,null,null,null,null,null,null,null,null,null,null,null,null,null,null,null,null,null,null,null,null,null,null,null,null,null,null,null,null,null,null,null,null,null,null,null,null,null,null,null,null,null,null,null,null,null,null,null,null,null,null,null,null,null,null,null,null,null,null,null,null,null,null,null,null,null,null,null,null,null,null,null,null,null,null,null,null,null,null,null,null,null,null,null,null,null,null,null,null,null,null,null,null,null,null,null,null,null,null,null,null,null,null,null,null,null,null,null,null,null,null,null,null,null,null,null,null,null,null,null,null,null,null,null,null,null,null,null,null,null,null,null,null,null,null,null,null,null,null,null,null,null,null,null,null,null,null,null,null,null,null,null,null,null,null,null,null,null,null,null,null,null,null,null,null,null,null,null,null,null,null,null,null,null,null,null,null,null,null,null,null,null,null,"Grand Total",{"$f":"SUM(GW2:GW15)","v":{"$error":"#REF!"}},{"$f":"SUM(GX2:GX15)","v":{"$error":"#REF!"}},{"$error":"#REF!"}]

{"sheet":"Appendix","index":21,"n_rows":645,"n_cols":2,"rows_kept":645,"cut":false,"hidden":false,"merged":[[475,0,475,21],[466,0,466,21],[469,0,469,21],[472,0,472,21],[110,1,110,21],[118,1,118,21],[119,1,119,21],[122,1,122,21],[125,1,125,21],[134,1,134,21],[135,1,135,21],[131,1,131,20],[142,1,142,21],[52,1,52,21],[55,1,55,21],[58,1,58,21],[50,1,50,21],[65,1,65,21],[32,1,32,21],[35,1,35,21],[38,1,38,21],[41,1,41,21],[47,1,47,21],[44,1,44,21],[45,0,45,21],[8,1,8,21],[20,1,20,21],[23,1,23,21],[11,1,11,21],[14,1,14,21],[17,1,17,21],[26,1,26,21],[29,1,29,21],[3,0,3,21],[5,1,5,21],[240,1,240,20],[213,1,213,21],[179,1,179,21],[186,1,186,21],[143,1,143,21],[162,1,162,21],[163,1,163,21],[148,1,148,20],[211,1,211,20],[95,0,96,21],[108,1,108,21],[109,1,109,21],[494,0,495,21],[496,0,496,21],[576,0,576,21],[311,0,312,21],[313,0,313,21],[330,0,330,21],[375,0,375,21],[406,0,406,21],[418,0,418,21],[478,0,478,21],[481,0,481,21],[484,0,484,21],[487,0,487,21],[490,0,490,21],[461,0,462,21],[463,0,463,21],[90,1,90,21],[93,1,93,21],[81,1,81,21],[86,1,86,21],[87,1,87,21],[102,1,102,20],[1,0,1,21],[640,0,641,21],[642,0,642,21],[613,0,613,21],[493,0,493,21],[2,0,2,21],[63,1,63,21],[60,0,61,21],[64,1,64,21],[67,1,67,21],[68,1,68,21],[72,1,72,21],[73,1,73,21],[76,1,76,21],[69,1,69,21]]}
[]
["APPENDIX"]
["POPULATION DEMOGRAPHICS AND DIRECT SERVICES"]
["A. General Terms"]
["Child/Minor"]
[null,"A person under the age of 18 or as otherwise defined by state law."]
[]
["Crime Victim, Victim of Crime, Victim"]
[null,"A person who has suffered physical, sexual, financial, or emotional harm as the result of a crime. Services can be provided to an individual who represents a business or institution, however businesses, organizations, and other institutions or entities are not eligible crime victims under the Victims of Crime Act (VOCA), the authorization for VA, VC, and TVS grant programs."]
[]
["Federal Fiscal Year"]
[null,"The period of October 1–September 30. For example, federal fiscal year 2019 is the period of October 1, 2018–September 30, 2019."]
[]
["Grantee"]
[null,"The primary grant recipient of funds directly from OVC."]
[]
["Grants Management System (GMS)"]
[null,"The online data collection system maintained by the Office of Justice Programs (OJP) for all grants administered through OJP. GMS is the priority system of record for information about grants."]
[]
["Individual Receiving Victim Services"]
[null,"A crime victim, secondary victim, surviving family member, or other individual who receives services or benefits funded by the award."]
[]
["Match"]
[null,"A financial contribution by a grantee or subgrantee to a VOCA-funded project to meet financial match requirements identified in a program solicitation. Match contribution may be cash (dollars) or in-kind (staff time, goods, or services with a monetary value)."]
[]
["Performance Management"]
[null,"The systematic use of strategic planning, goals, performance indicators, evaluation, analysis, and data driven reviews, evaluations, and reporting to improve the results of programs and the effectiveness and efficiency of agency operations."]
[]
["Performance Measurement Tool (PMT)"]
[null,"The online system maintained by the Office for Victims of Crime (OVC) for collecting performance measure data from grantees and subgrantees."]
[]
["PMT Point of Contact (PMT POC)"]
[null,"The individual(s) responding to the required performance measurement questions in the PMT on behalf of their organization. This includes both grantee and subgrantee organizations. (OJP) for all grants administered through OJP. GMS is the priority system of record for information about grants."]
[]
["Secondary Victim"]
[null,"Individuals, other than the person directly victimized, who also experience harm as the result of a crime. For example, a family member or close friend of a victim."]
[]
["State Administering Agency (SAA)"]
[null,"The state office responsible for receiving VOCA victim assistance and victim compensation funds and reporting data."]
[]
["Subgrantee"]
[null,"An entity that receives a portion of the grantee’s award (through a formal subaward agreement) for the purpose of implementing a portion of the grantee’s federal grant program."]
[]
["Subgrantee Agency Service Area(s)"]
[null,"Counties that cover the service area affected by the VOCA funded program or project"]
[]
["Teen"]
[null,"A person between the ages of 13–17. Use this definition to capture individuals aged 13–17 who present for services for a victimization where applicable, such as teen dating victimization."]
[]
["Underserved"]
[null,"According to the preamble to the VOCA Final Rule: “Underserved victims may differ between jurisdictions, but some examples of victim populations often underserved at the time of this rulemaking may include, but are not limited to, DUI/DWI victims; survivors of homicide victims; American Indian/Alaskan Native victims in certain jurisdictions with insufficient victim service resources; victims of physical assault; adults molested as children; victims of elder abuse; victims of hate and bias crimes; victims of kidnapping; child victims and adult survivors of child pornography; child victims of sex trafficking; victims of violent crime in high crime areas; LGBTQ victims; victims of federal crimes, victims of robbery; and victims of gang violence.”"]
["Victim Services (as defined by program guidelines)"]
[null,"Victim services:\n1. respond to the emotional and physical needs of crime victims;\n2. assist primary and secondary victims of crime to stabilize their lives after a victimization;\n3. assist victims to understand and participate in the criminal justice system;\n4. provide victims of crime with a measure of safety and security such as boarding up broken windows and replacing or repairing locks. Program guidelines often provide additional guidance on services related to program goals and objectives. Specific victim services reported in the performance measures are defined in section IV: Services below."]
[]
["Victim Services Program"]
[null,"All of a grantee or subgrantee’s services and activities offered on behalf of victims of crime. An organization’s victim services program includes both OVC-funded projects and projects for victims funded outside of OVC through other sources (e.g., other federal agency or foundation grant awards, state or local contributions, private donations)."]
[]
["VOCA-Funded"]
[null,"Any grantee or subgrantee project or program funded in whole or in part with VOCA funds plus any applicable match funding."]
[]
["B. Race and Ethnicity"]
[]
["American Indian or Alaska Native"]
[null,"Refers to a person having origins in any of the original peoples of North and South America (including Central America) and who maintains tribal affiliation or community attachment. \n"]
[null,"This category includes people who indicated their race(s) as American Indian or Alaska Native or reported their enrolled or principal tribe, such as Navajo, Blackfeet, Inupiat, Yup’ik, or Central American Indian groups or South American Indian groups."]
[]
["Asian"]
[null,"Refers to a person having origins in any of the original peoples of the Far East, Southeast Asia, or the Indian subcontinent, including, Cambodia, China, India, Japan, Korea, Malaysia, Pakistan, the Philippine Islands, "]
[null,"Thailand, and Vietnam. "]
[null,"It includes people who indicated their race(s) as Asian or reported entries such as Asian Indian, Chinese, Filipino, Korean, Japanese, Vietnamese, and Other Asian or provided other detailed Asian responses."]
[]
["Black or African-American"]
[null,"Refers to a person having origins in any of the Black racial groups of Africa. "]
[null,"It includes people who indicated their race(s) as Black, African-American, or Negro or reported entries such as Kenyan, Nigerian, or Haitian."]
[]
["Hispanic or Latino"]
[null,"Refers to an individual who self-reports in one of the specific Spanish, Hispanic, or Latino categories: Mexican, Puerto Rican, Cuban, or another Hispanic, Latino, or Spanish origin."]
[null,"This also includes people who indicate that they are another Hispanic, Latino, or Spanish origin are those whose origins are from Spain, the Spanish-speaking countries of Central or South America, or the  "]
[null,"Dominican Republic. The terms Hispanic, Latino, and Spanish are used interchangeably."]
[]
["Native Hawaiian or Other Pacific Islander"]
[null,"Refers to a person having origins in any of the original peoples of Hawaii, Guam, Samoa, or other Pacific Islands."]
[null,"It includes people who indicated their race(s) as Pacific Islander or reported entries such as Native Hawaiian, Guamanian or Chamorro, Samoan, and Other Pacific Islander or provided other detailed "]
[null,"Pacific Islander responses."]
[]
["White Non-Latino or Caucasian"]
[null,"Refers to a person having origins in any of the original peoples of Europe, the Middle East, or North Africa. "]
[null,"It includes people who indicated their race(s) as White or reported entries such as Irish, German, Italian, Lebanese, Arab, Moroccan, or Caucasian."]
[]
["Some Other Race or Ethnicity "]
[null,"Includes all other responses not included in the race categories described above. "]
[]
["Multiple Races"]
[null,"Refers to a person who may self-identify in more than one race or ethnicity category"]
[]
["C. Types of Victimization"]
[]
["Adult Physical Assault (Includes Aggravated and Simple Assault)"]
["Simple Assault:"]
[null,"Assaults and attempted assaults where no weapon was used, or no serious or aggravated injury resulted to the victim. Intimidation, coercion, and hazing are included.\n"]
[]
["Aggravated Assault:"]
[null,"An unlawful attack by one person upon another, inflicting severe or aggravated bodily injury. This type of assault usually is accompanied with the use of a weapon or by means likely to produce death or great bodily harm."]
[]
["Examples: "]
[null,"Affray, aggravated assault, aggravated battery, attempted homicide, attempted murder, battery, brandishing a weapon, gun violence, simple assault, strangulation, threat with a weapon\n"]
[]
["Adult Sexual Assault"]
[null,"Includes a wide range of victimizations/crimes that include attacks or attempted attacks generally involving unwanted sexual contact between victim and offender. "]
[null,"Sexual assaults may or may not involve force and include such things as grabbing, fondling, and verbal threats.  "]
[null,"Also included is rape, which is defined as penetration of any kind, of the vagina or anus with any body part or object, or oral penetration of a sex organ by another person, without the consent of the victim;"]
[null,"may also include penetration of the mouth by a sex organ by another person."]
[]
["Examples: "]
[null,"Attempted rape, attempted sexual assault, fondling, forcible sex offense, incest, indecent liberties, indecent exposure, non-forcible sex offenses, rape, rape by instrument, sexual assault/misconduct, \n"]
[null," sexual assault with an object, sodomy"]
[]
["Adult Sexually Abused/Assaulted as Children"]
[null,"Adult survivors of sexual abuse and/or assault which was suffered while they were children."]
[null,"For examples of sexual abuse/assault that may have been experienced, see child pornography and child sexual assault. "]
[]
["Arson"]
[null,"Any willful or malicious burning or attempting to burn, with or without intent to defraud, a dwelling, house, public building, motor vehicle or aircraft, personal property of another, among others."]
[]
["Bullying (Verbal, Cyber, or Physical)"]
[null,"Repeated, negative acts committed by one or more children against another child. "]
[null,"These negative acts may be physical or verbal in nature—for example, hitting or kicking, teasing or taunting—or they may involve indirect actions such as manipulating friendships or purposely excluding other"]
[null," children from activities. "]
[null,"Implicit in this definition is an imbalance in real or perceived power between the bully and victim. Similar conduct conducted by an adult against another adult would likely be considered “stalking/harassment.”"]
[]
["Examples: "]
[null,"Bullying through emails, creating fake profiles, hitting or kicking, posting embarrassing pictures/videos online through social media, spreading rumors, testing or taunting\n"]
[]
["Burglary"]
[null,"The unlawful entry of a structure to commit a felony or theft. "]
[null,"The FBI’s Uniform Crime Reporting (UCR) program includes three subclassifications: forcible entry, unlawful entry where no force is used, and attempted forcible entry. "]
[null,"The UCR definition of structure includes apartment, barn, house trailer or houseboat when used as a permanent dwelling, office, railroad car (but not automobile), stable, and vessel (i.e., ship)."]
[]
["Examples: "]
[null,"Aggravated burglary, attempted forcible entry, breaking and entering, forcible entry, nonforcible entry, unlawful entry\n"]
[]
["Child Physical Abuse or Neglect"]
[null,"Physical abuse that is nonaccidental physical injury (ranging from minor bruises to severe fractures or death) because of punching, beating, kicking, biting, shaking, throwing, stabbing, choking, hitting (with a hand, "]
[null,"stick, strap, or other object), burning, or otherwise harming a child, that is inflicted by a parent, caregiver, or other person."]
[null,"Such injury is considered abuse regardless of whether the caregiver intended to hurt the child."]
[null,"Physical discipline, such as spanking or paddling, is not considered abuse as long as it is reasonable and causes no bodily injury to the child."]
[]
["Examples: "]
[null,"Abandonment, child neglect, endangering the welfare of a child, exposure to drugs/alcohol, nonviolent child abuse, nonviolent child cruelty, violent child abuse, violent child cruelty\n"]
[]
["Child Pornography"]
[null,"Any visual depiction of sexually explicit conduct, including any photograph, film, video, picture, drawing, or computer-generated image or picture, which is produced by electronic, mechanical,\n"]
[null," or other means, where:"]
[null,"1. its production involved the use of a minor engaging in sexually explicit conduct;"]
[null,"2. such visual depiction is, or appears to be, of a minor engaging in sexually explicit conduct;"]
[null,"3. such visual depiction has been created, adapted, or modified to appear that an identifiable minor is engaging in sexually explicit conduct; or"]
[null,"4. it is advertised, distributed, promoted, or presented in such a manner as to convey the impression that it is a visual depiction of a minor engaging in sexually explicit conduct."]
[]
["Examples: "]
[null,"Child pornography, possession, distribution and receipt of child pornography, production of child pornography, sexual exploitation of a child\n"]
[]
["Child Sexual Abuse/Assault"]
[null,"This may include activities such as fondling a child’s genitals, penetration, incest, rape, sodomy, indecent exposure, and exploitation through prostitution by a parent, caregiver, or other person. "]
[null,"This definition includes teen sexual assault.\nincludes teen sexual assault."]
[]
["Examples: "]
[null,"Child exploitation through prostitution, child molesting, rape of a child, teen sexual assault, statutory rape\n"]
[]
["Domestic and/or Family Violence"]
[null,"A crime in which there is a past or present familial, household, or other intimate relationship between the victim and the offender, including spouses, ex-spouses, boyfriends and girlfriends, ex-boyfriends and "]
[null,"ex-girlfriends, and any family members or persons residing in the same household as the victim. "]
[null,"Involves a pattern of abusive behavior in any relationship that is used by one to gain or maintain power and control over another intimate partner. "]
[null,"Domestic violence can be physical, sexual, emotional, economic, or psychological actions or threats of actions that influence another person."]
[null,"This includes any behaviors that intimidate, manipulate, humiliate, isolate, frighten, terrorize, coerce, threaten, blame, hurt, injure, or wound someone. "]
[]
["Examples: "]
[null,"Blame, frighten, humiliation, hurt/injured, intimidation, isolation, manipulation, terrorize\n"]
[]
["DUI/DWI Incidents"]
[null,"Driving under the influence (DUI) or driving while impaired (DWI) includes driving or operating a motor vehicle or common carrier while mentally or physically impaired as the result of consuming alcoholic beverages "]
[null,"or using drugs or narcotics"]
[]
["Examples: "]
[null,"DUI hit and run, DUI motor vehicle crash, DUI resulting in death\n"]
[]
["Elder Abuse or Neglect (Physical or Emotional)"]
[null,"Also known as elder mistreatment, generally refers to any knowing, intentional, or negligent act by a family member, caregiver, or other person in a trusting relationship that causes harm or creates a serious risk of "]
[null,"harm to an older person. "]
[null,"Elder abuse may include abuse that is physical, emotional/psychological (including threats), or sexual; neglect (including abandonment); and financial exploitation."]
[null,"This is a general definition; state definitions of elder abuse vary. Some definitions may also include fraud, scams, or financial crimes targeted at older people."]
[]
["Gang Violence"]
[null,"Violence and crime perpetuated by a gang. A gang is defined as:"]
[null,"1. an association of three or more individuals;"]
[null,"2. whose members collectively identify themselves by adopting a group identity which they use to create an atmosphere of fear or intimidation frequently by employing one or more of the following: a common "]
[null,"name, slogan, identifying sign, symbol, tattoo or other physical marking, style or color of clothing, hairstyle, hand sign or graffiti;"]
[null,"3. the association's purpose, in part, is to engage in criminal activity and the association uses violence or intimidation to further its criminal objectives."]
[]
["Hate Crime"]
[null,"A criminal offense against a person or property motivated in whole or in part by an offender’s bias against a race, religion, disability, ethnic origin, or sexual orientation."]
[null,"PMT POCs that report this victimization type under the VA or TVS programs will be prompted to enter the type of hate crime (e.g., race, religion) in the PMT."]
[]
["Homicide"]
[null,"Murder and voluntary manslaughter, which are the willful (intent is present) killing of one human being by another."]
[null,"VC grantees report on this as the “homicide” crime type; VA and TVS grantees report on this as the “survivors of homicide victims” victimization type."]
[]
["Human Trafficking (Labor) "]
[null,"Obtaining a person through recruitment, harboring, transportation, or provision, and subjecting such a person by force, fraud, or coercion into involuntary servitude, peonage, debt bondage, or slavery "]
[null,"(not to include commercial sex acts)."]
[]
["Examples: "]
[null,"Forced labor, labor trafficking, human trafficking - involuntary servitude\n"]
["Human Trafficking (Sex)"]
[null,"Inducing a person by force, fraud, or coercion to participate in commercial sex acts, or the person induced to perform such act(s) has not attained 18 years of age."]
[]
["Examples: "]
[null,"Commercialized sex, commercialized vice, human trafficking - commercial sex acts, sex trafficking, seduction, transporting persons for prostitution\n"]
[]
["Identity Theft/Fraud/Financial Crime "]
[null,"Identity theft occurs when someone wrongfully obtains another’s personal information without their knowledge to commit theft or fraud."]
[null,"Fraud and financial crimes include illegal acts characterized by deceit, concealment, or violation of trust and that are not dependent upon the application or threat of physical force or violence. "]
[null,"Individuals and organizations commit these acts to obtain money, property, or services; to avoid the payment or loss of money or services; or to secure personal or business advantage."]
[]
["Examples: "]
[null,"ATM fraud, bad checks, bribery, checks - insufficient funds, confidence game, conversion, counterfeiting, credit card fraud, embezzlement, extortion, false pretense, false report, forgery, fraud,\n"]
[null," fraudulent checks, hacking/computer invasion, home improvement fraud, impersonation, insurance fraud, identity theft, mail fraud, misappropriation, procumbent fraud, swindle, telephone fraud, "]
[null,"uttering, welfare fraud, wire fraud"]
[]
["Kidnapping (Noncustodial) "]
[null,"Occurs when someone unlawfully seizes, confines, inveigles, decoys, abducts, or carries away and holds for ransom or reward, by any person, except in the case of a minor by the parent thereof."]
[]
["Examples: "]
[null,"Abduction, forcible detention, hostage-taking, kidnapping, unlawful detention, unlawful restraint\n"]
[]
["Kidnapping (Custodial)"]
[null,"Occurs when one parent or guardian deprives another of his or her legal right to custody or visitation of a minor by unlawfully taking the child."]
[null,"The definition and penalties of custodial kidnapping vary by state."]
[null,"In some states, kidnapping occurs only if a child is taken outside of the state and/or if an existing custody order is intentionally violated."]
[]
["Examples: "]
[null,"Abduction, forcible detention, hostage-taking, parental kidnapping, unlawful detention, unlawful restraint\n"]
[]
["Mass Violence (Domestic/International)"]
[null,"An intentional violent criminal act that results in physical, emotional, or psychological injury to a sufficiently large number of people to significantly increase the burden of victim assistance and"]
[null," compensation for the responding jurisdiction."]
[]
["Other Vehicular Victimization"]
[null,"May include hit and run crimes, and other vehicular assault. Do not report victimizations resulting from DUI—those should be reported as DUI/DWI."]
[]
["Examples: "]
[null,"Hit and run, motor vehicle crash, reckless driving, vehicular assault\n"]
[]
["Robbery"]
[null,"Taking or attempting to take anything of value from the care, custody, or control of a person or persons by force or threat of force or violence and/or by putting the victim in fear, including carjacking."]
[]
["Examples: "]
[null,"Armed robbery, attempted robbery, carjacking, robbery, strong-arm robbery \n"]
[]
["Stalking/Harassment"]
[null,"Individuals are classified as victims of stalking or harassment if they experienced at least one of the behaviors listed below on at least two separate occasions."]
[null,"In addition, the individuals must have feared for their safety or that of a family member as a result of the course of conduct or have experienced additional threatening behaviors that would cause a  "]
[null,"reasonable person to feel fear."]
[null,"This is a general definition; state definitions of elder abuse vary. Some definitions may also include fraud, scams, or financial crimes targeted at older people."]
[]
["Examples of Stalking: "]
[null,"Making unwanted phone calls, sending unsolicited or unwanted letters or e-mails, following or spying on the victim, showing up at places without a legitimate reason, waiting at places for the victim, "]
[null,"leaving unwanted items or presents, posting information or spreading rumors about the victim on the Internet/social media, public place, or by word of mouth"]
[]
["Examples of Harassment: "]
[null,"Harassing phone calls, intimidation, menacing, stalking, terroristic threats, threatening behavior, threatening conduct, threatening gesture, threatening telephone call, threatening words or statements"]
[]
["Survivors of Homicide Victims"]
[null,"Murder and voluntary manslaughter, which are the willful (intent is present) killing of one human being by another."]
[null,"VC grantees report on this as the “homicide” crime type; VA and TVS grantees report on this as the “survivors of homicide victims” victimization type."]
[]
["Teen Dating Victimization"]
[null,"The occurrence of physical, sexual, psychological, or emotional violence within a teen dating relationship, including stalking."]
[null,"It can occur in person or electronically and might occur between a current or former dating partner."]
[]
["Examples of Harassment: "]
[null,"Emotional violence, physical violence, psychological violence, sexual violence, stalking"]
[]
["Terrorism (Domestic/International)"]
["Domestic: "]
[null,"The term terrorism means an activity that:"]
[null,"1. involves a violent act or an act dangerous to human life that is a violation of the criminal laws of the United States or of any State, or that would be a criminal violation if committed within the jurisdiction of the "]
[null,"United States or any State, and"]
[null,"2. appears to be intended to:"]
[null,"a. intimidate or coerce a civilian population"]
[null,"b. influence the policy of a government by intimidation or coercion"]
[null,"c. affect the conduct of a government by assassination or kidnapping (18 U.S.C. 3077)."]
[]
["International: "]
[null,"The Antiterrorism and Emergency Reserve Fund Guidelines for Terrorism and Mass Violence Crimes refers to the term terrorism, when occurring outside of the United States, as international terrorism to mean an"]
[null,"activity that:"]
[null,"1. involves a violent act or an act dangerous to human life that is a violation of the criminal laws of the United States of any State or that would be a criminal violation if committed within the jurisdiction of the "]
[null,"United States or of any State,"]
[null,"2. appears to be intended to:"]
[null,"a. intimidate or coerce a civilian population"]
[null,"b. influence the policy of a government by intimidation or coercion"]
[null,"c. affect the conduct of a government by assassination or kidnapping, and"]
[null,"3. occur primarily outside the territorial jurisdiction of the United States, or transcend national boundaries in terms of the means by which they are accomplished, the persons they appear intended to "]
[null,"intimidate or coerce, or the locale in which their perpetrators operate or seek asylum (18 U.S.C. 2331)."]
[]
["Other"]
[null,"If none of the above victimization types apply, select Other."]
[]
["Examples:"]
[null,"False imprisonment, property crimes (destruction of property, damage to property, vandalism), theft, violation of a court order (temporary restraining order, order of protection, harassment restraining order, "]
[null,"final restraining order)"]
[]
["C. Services Received "]
[]
["Information & Referral Services"]
["Information About the Criminal Justice Process"]
[null,"Informing victims about the criminal justice system and process could include information on how to file a police report, request a protective order, or how a case might progress through the legal system."]
[null,"This service includes explanation of legal terminology. In addition, this includes post-sentencing services and information regarding assistance with property return."]
[]
["Information on Victim Rights/How to Obtain Notification"]
[null,"Informing the victim about the existence of the Federal Crime Victim Rights Act (2004), state laws regarding victim rights, state victim compensation programs, and/or the Victim Notification System."]
[]
["Referral to Other Victim Service Programs"]
[null,"Referring victims to other victim service providers if their specific agency lacks capacity to provide needed support."]
[null,"This could also occur if another agency is better able to provide the type of service needed, developmentally or culturally appropriate services, or services that correlate with the offense experienced."]
[]
["Referral to Other Services/Supports/Resources"]
[null,"Referring a victim to other services to meet a victim’s needs."]
[null,"Includes assessment of service needs and provisions of referrals or providing victims with information and contacts to obtain services on their own."]
[null,"Includes legal, medical, faith-based organizations, address confidentiality programs, etc. "]
[]
["Personal Advocacy/Accompaniment"]
["Victim Advocacy/Accompaniment to Emergency Medical Care"]
[null,"Coordinating/helping a victim to obtain emergency medical care. This includes emotional and/or physical support during care."]
[]
["Victim Advocacy/Accompaniment to Medical Forensic Exam"]
[null,"Coordinating/helping a victim to obtain a forensic interview or medical forensic exam."]
[null,"Includes emotional and/or physical support during forensic interviews or medical forensic exam."]
[]
["Law Enforcement Interview Advocacy/Accompaniment"]
[null,"Coordinating and/or helping a victim prepare for an interview with law enforcement."]
[null,"This includes emotional and/or physical support during interviews with law enforcement."]
[null,"Note: Law enforcement interview advocacy/accompaniment is listed in both the Personal Advocacy/Accompaniment and Criminal/Civil Justice System Assistance categories so that agencies that provide "]
[null,"only Personal  Advocacy/Accompaniment but not Criminal/Civil Justice System Assistance (or vice versa) will have the opportunity to report on that specific service."]
[null,"If an agency provides both categories of service, it should report on Law enforcement interview advocacy/accompaniment only once, in whichever category best applies."]
[]
["Individual Advocacy"]
[null,"Helping a victim access needed services (beyond providing information or a referral)."]
[null,"This may include assistance recovering property collected as evidence, assistance managing practical issues created by the victimization, accompanying the victim to appointments with social services."]
[null,"E.g., assistance in applying for public benefits, return of personal property or effects. "]
[]
["Performance of Medical or Nonmedical Forensic Exam or Interview, or Medical Evidence Collection"]
[null,"Performing/conducting a forensic exam, interview, or medical evidence collection in accordance with any requirements or guidelines identified by the applicable jurisdiction."]
[null,"Individuals performing the exams, interviews, or medical evidence collection should be trained to conduct these activities in a trauma-informed and developmentally and culturally appropriate manner."]
[]
["Immigration Assistance (e.g., special visas, continued presence application, and other immigration relief)"]
[null,"Providing assistance for refugee and immigrant victims with specific immigration issues."]
[]
["Intervention with Employer, Creditor, Landlord, or Academic Institution"]
[null,"Advocating for a victim to secure rights, remedies, and services from non-criminal justice system providers on behalf of a victim."]
[null,"This includes responding to requests for records from other service providers, intervening with employers, school administrators, creditors, bill collectors, and landlords on behalf of the victim."]
[null,"This also includes advocacy to help the victim maintain financial and/or academic stability in the aftermath of a victimization."]
[]
["Child or Dependent Care Assistance (includes coordination of services)"]
[null,"Coordinating and/or providing child care so that a victim may participate in the criminal justice process or other public proceedings arising from the crime or attend victim service appointments "]
[null,"or counseling sessions."]
[]
["Transportation Assistance (includes coordination of services)"]
[null,"Coordinating and/or providing transportation service so that a victim may attend court hearings or medical appointments, or access agency services."]
[null,"Staff members transporting victims, taxis or rideshare (Uber, Lyft, etc.), and public transportation are included."]
[]
["Interpreter Services"]
[null,"Providing communication services for victims that have a limited English proficiency or a disability that affects their ability to communicate."]
[null,"This includes translating, using sign language, or providing braille."]
[null,"In addition, this includes language line, texting, or distributing translated documents, as well as translations provided via staff/volunteers or a contract with an outside agency/service."]
[]
["Emotional Support or Safety Services"]
["Crisis Intervention (in-person, includes safety planning, etc.)"]
[null,"Communicating among professionals and victims regarding activities resulting from the victimization."]
[null,"This includes actions necessary to expedite a case for victim protection, initiation of legal actions needed to protect the victim such as probation revocation, etc."]
[]
["Hotline/Crisis Line Counseling"]
[null,"Providing live hotline services by trained professionals or volunteers."]
[null,"Services may be provided via telephone, instant messaging, mobile application, or website contact; individuals may be identified or may be anonymous contacts."]
[]
["On-scene Crisis Response (e.g., community crisis response)"]
[null,"Providing immediate, in-person crisis intervention, emotional support, guidance, and counseling."]
[null,"These services must occur at the scene of a crime, immediately after a crime, or become immediately necessary due to the crime."]
[]
["Individual Counseling"]
[null,"Providing psychological, psychiatric, and/or other counseling-related treatment for individuals, couples, and family members."]
[null,"This service must be provided by a person who meets professional standards to provide these services in the jurisdiction in which the care is administered."]
[]
["Support Groups (facilitated or peer)"]
[null,"Providing or facilitating supportive group activities led by staff or peer."]
[null,"This can include group counseling sessions, peer support groups, or other groups that bring victims together to aid in the healing process."]
[]
["Other Therapy (traditional, cultural or alternative healing; art, writing or play therapy, etc.)"]
[null,"Providing therapy (not covered in the individual counseling or support group categories above) to improve and promote healing that responds to the emotional, social, financial, or physical needs or the victim."]
[null,"Must be based on targeted needs of individual victim and be provided by the agency."]
[]
["Emergency Financial Assistance"]
[null,"Providing cash outlays for food, clothing, short-term alternative emergency housing (e.g., hotel due to capacity at shelter), and other support services such as toiletries provided to primary and "]
[null,"secondary victims."]
[null,"Emergency financial assistance may also include emergency loans, payments for items such as food and/or clothing, changing windows and/or locks, taxis, prophylactic and nonprophylactic"]
[null," medications, durable medical equipment, and other similar items allowable under program guidelines."]
[]
["Shelter/Housing Services"]
["Emergency Shelter or Safe House"]
[null,"Providing emergency short-term shelter to individuals and families following victimization."]
[]
["Transitional Housing"]
[null,"Providing temporary housing for victims who, due to the nature of the victimization, cannot safely return to their former housing and need more time to stabilize themselves before living independently."]
[null,"Note: Referrals to transitional housing should be counted under section A, Information and Referral."]
[]
["Relocation Assistance (includes assistance with obtaining housing)"]
[null,"Coordinating assistance with rental expenses, utility deposits, security deposits, and/or moving fees."]
[null,"This includes assistance locating long-term housing for the victim, regardless of distance, based on safety needs."]
[]
["Criminal/Civil Justice System Assistance"]
["Notification of Criminal Justice Events (e.g., case status, arrest, court proceedings, case disposition, release, etc.)"]
[null,"Communicating with victims to notify them of hearings and appearances, the defendant’s release from jail, the status of the case, bond hearings, grand jury decisions, disposition options, "]
[null,"appellate decisions, etc. "]
[null,"This includes assisting victims in contacting probation/parole offices, community supervision, department of corrections, etc. to get information of any changes in the convicted defendant’s status."]
[]
["Victim Impact Statement Assistance"]
[null,"Assisting victim to prepare an impact statement, and assistance on receiving and submitting their statement."]
[null,"This also includes preparing supporting letters, registering for impact panels, facilitating participation in clemency hearings, etc."]
[]
["Assistance with Restitution"]
[null,"Assisting victims in requesting restitution when collection efforts are not successful."]
[]
["Civil Legal Assistance in Obtaining Protection or Restraining Order"]
[null,"Advising and/or assisting a victim in obtaining a protection/restraining order as well as follow-up hearings associated with finalizing such order"]
[]
["Civil Legal Assistance with Family Law Issues (e.g., custody, visitation, or support)"]
[null,"Assisting with custody and visitation support, or other family law issues."]
[]
["Other Emergency Justice-Related Assistance"]
[null,"Providing legal assistance that cannot be classified as another type of service in this category."]
[]
["Immigration Assistance (e.g., special visas, continued presence application, and other immigration relief)"]
[null,"Providing assistance for refugee and immigrant victims with specific immigration issues such as obtaining a visa."]
[]
["Prosecution Interview Advocacy/Accompaniment (includes accompaniment with prosecuting attorney and with victim/witness)"]
[null,"Providing emotional support and/or physical accompaniment in preparation for and/or during interviews with prosecutors or other agents for prosecutorial investigation."]
[]
["Law Enforcement Interview Advocacy/Accompaniment"]
[null,"Providing emotional support and/or physical accompaniment in preparation for and/or during interviews with law enforcement."]
[null,"Note: Law enforcement interview advocacy/accompaniment is listed in both the Personal Advocacy/Accompaniment and Criminal/Civil Justice System Assistance categories so that agencies that provide "]
[null,"only Personal  Advocacy/Accompaniment but not Criminal/Civil Justice System Assistance (or vice versa) will have the opportunity to report on that specific service."]
[null,"If an agency provides both categories of service, it should report on Law enforcement interview advocacy/accompaniment only once, in whichever category best applies."]
[]
["Criminal Advocacy/Accompaniment"]
[null,"Providing support, assistance, accompaniment and/or advocacy to victims at any stage of the criminal justice process."]
[null,"This includes filing an initial police report, testimony, post-sentencing services, and support."]
[]
["Other Legal Advice and/or Counsel"]
[null,"Providing legal advice not captured in the above categories."]
[null,"This could include converting exported protection order to permanent orders, eviction or adversary employment actions arising from the victimization, or responding to requests for records by the courts. "]
[null,"Civil matters related to the victimization are also included (custody, dependency, juvenile court actions, etc.)."]
[]
["D. Service/Expensive Types (Victim Compensation)"]
[]
["Crime Scene Clean Up"]
[null,"Expenses related to cleaning a crime scene."]
[]
["Dependent Care"]
[null,"In-home or at-agency care, that is not medical, provided to any individual (of any age) including children and older people."]
[]
["Economic Support"]
[null,"Payments made to cover lost wages, loss of support, education benefits, annuities, and other related subsistence payments."]
[]
["Funeral/Burial"]
[null,"Payments for funeral, burial and all other related expenses."]
[]
["Medical/Dental (except mental health)"]
[null,"Expenses including doctors, dentists, hospitals, physical therapy, ambulance, and other medically related expenses such as transportation costs, prosthetic devices, and pharmaceuticals."]
[]
["Mental Health"]
[null,"Mental health treatment, both in-patient and out-patient, including psychiatric care, counseling, therapy, and medication management."]
[]
["Relocation"]
[null,"Victims who need immediate assistance to move who may receive financial assistance to relocate that is consistent with state law."]
[]
["Replacement Services"]
[null,"Costs for clothing, bedding, or property seized as evidence or rendered unusable as a result of the investigation."]
[]
["Sexual Assault Forensic Exams"]
[null,"Costs for sexual assault forensic exams. These includes all amounts payed regardless of whether each payment is part of a compensation claim or paid through a separate process."]
[]
["Travel"]
[null,"Travel-related costs to seek medical treatment or other services consistent with state law."]
[]
["KEY OUTCOMES"]
["A. Client Satisfaction Category Definitions and Sample Survey Questions"]
[]
["Sample Client Outcomes"]
["Connections to Community Supports: Items that measure connections to resources or community supports. "]
[null,"Sample 1: Because of my experiences in the program, I know more about community resources that might be useful."]
[null,"Sample 2: I was connected to community resources as needed (e.g., legal, medical, childcare, etc.). "]
[null,"Sample 3: The staff provided support and referrals to outside victim service agencies."]
[null,"Sample 4: Do you feel you were provided with appropriate referrals?"]
[null,"Sample 5: I know who to reach out to for help."]
[]
["Improve Well-Being: Items that measure how the client has improved as a result of the program. "]
[null,"Sample 1: After working with the program, I have increased my well-being."]
[null,"Sample 2: I have a healthier lifestyle in at least one area (i.e., sleeping exercise, substance use)."]
[null,"Sample 3: I am better able to control my life."]
[null,"Sample 4: I can cope with whatever challenges come to me as I work to keep safe."]
[null,"Sample 5: My child has demonstrated less at risk behaviors since receiving services."]
[null,"Sample 6: My housing situation has improved."]
[]
["Independence and Empowerment: Items that measure whether the client feels in control of their decisions or choices, or self-sufficient. "]
[null,"Sample 1: I felt progress toward feeling in control and empowered in my life."]
[null,"Sample 2: I have an understanding of my rights and options."]
[null,"Sample 3: I, not staff, decided my treatment goals."]
[null,"Sample 4: The program supports your decisions as a parent/guardian. "]
[null,"Sample 5: I was actively involved in treatment planning and decisions. "]
[]
["Individual Goal Achievement: Items that measure whether the client was able to receive services based on their personal goals or needs. \n"]
[null,"Sample 1: The services I received met my needs. "]
[null,"Sample 2: The agency has hoped me to focus on a goal that is important to me. "]
[null,"Sample 3: The agency gave me information that was timely and practical to my situation. "]
[null,"Sample 4 : My child and/or family has made progress toward achieving goals as a result of services. "]
[null,"Sample 5: The staff did everything they could for me. "]
[null,"Sample 6 : I felt like the situation was minimized. "]
[]
["Knowledge Building: Criminal Justice System: Items that measure how much the client has learned about the criminal justice system. "]
[null,"Sample 1: I understand my rights presented to me."]
[null,"Sample 2: I have a better understanding of what is going on with the case. "]
[null,"Sample 3: Because of the services I received, I have an understanding of how the legal process/criminal justice process works."]
[null,"Sample 4: Do you understand your rights as presented to you by the officer(s) to apply for a criminal complaint and to speak to a victim witness advocate?"]
[null,"Sample 5: I received support and knowledge around navigating the criminal justice system, including filing a police report, applying for a restraining order, connecting with the District Attorney's office, etc. "]
[]
["Knowledge Building: Relationships: Items that measure how much the client has learned about their personal relationships."]
[null,"Sample 1: I have gained an understanding of the dynamics of safe and healthy relationships. "]
[null,"Sample 2: This program creates opportunities to learn how abuse and other hardships affect people's relationships. "]
[null,"Sample 3: How has working with the program affected your understanding of partner abuse? "]
[null,"Sample 4: I am learning more about how my own experience of abuse can influence my relationships with my children. "]
[null,"Sample 5: I know when I am being manipulated. "]
[]
["Knowledge Building: Sexual Exploitation: Items that measure how much the client has learned about sexual exploitation of themselves or others.  "]
[null,"Sample 1 : I feel more informed about sexual exploitation as a result of this program. "]
[null,"Sample 2: The program has increased my knowledge and awareness on Commercial Sexual Exploitation of Children."]
[null,"Sample 3: I feel like I understand what sexual exploitation is and my options for exiting the life. "]
[null,"Sample 4: I understand my own exploitation. "]
[null,"Sample 5: Are you familiar with the federal laws pertaining to the Commercial Sexual Exploitation of Children (CSEC)? "]
[]
["Personal Supports"]
[null,"Sample 1: I am happy with the friendships I have. "]
[null,"Sample 2: I feel I belong in my community."]
[null,"Sample 3: I have someone to confide in when I am in need of support. "]
[null,"Sample 4: How connected do you feel with peers? "]
[null,"Sample 5: In a crisis, I would have the support I need from family or friends. "]
[]
["Physical and Emotional Behavior"]
[null,"Sample 1: I am learning more about how children react emotionally when they have witnessed or experienced abuse, and other hardships. "]
[null,"Sample 2: I have knowledge of emotional health (depression, anxiety, trauma). "]
[null,"Sample 3: How capable do you feel about handling difficult emotions (stress, sadness, worry, loneliness)? "]
[null,"Sample 4: I have difficulty understanding why I have certain thoughts and feelings. "]
[null,"Sample 5: I have the opportunity to learn how abuse and other difficulties affect responses in the body and people's mental health. "]
[]
["Safety and Protection: Items that measure client safety as a result of involvement in the program. "]
[null,"Sample 1: I felt the staff addressed my safety and/or emergency medical needs. "]
[null,"Sample 2: After working with the program, I know more ways to plan for my safety. "]
[null,"Sample 3: I believe my child felt safe at the program. "]
[null,"Sample 4 : I feel safer as a result of the police response. "]
[null,"Sample 5: I know what my next steps are on the path to keeping safe. "]
[]
["Skill Building: Items that measure how much the client has learned about skills and tools they can use for their well-being."]
[null,"Sample 1: I have learned one or more strategies to cope with my trauma, grief and/or loss. "]
[null,"Sample 2: Because of the services I have received from the program, I feel I have tools to help me achieve my goals. "]
[null,"Sample 3: I have learned skills in this program that I use regularly. "]
[null,"Sample 4: What is something you have learned since you started working with the program? "]
[null,"Sample 5: Were there any skills you wanted to learn that weren't addressed? "]
[]
["Professional Staff"]
["Accessible and Responsive: Items that measure whether the staff are easy to contact. "]
[null,"Sample 1: Staff have been responsive to my requests, questions, and preferences."]
[null,"Sample 2: The services that are offered are available at times that are convenient for me. "]
[null,"Sample 3: If there was an update in the case, I felt confident I would be contacted by the staff."]
[null,"Sample 4: The staff were easy to get a hold of. "]
[null,"Sample 5: Staff were willing to see me as often as I felt it was necessary. "]
[]
["Diversity of Experience: Items that measure whether the staff can understand and be sensitive to clients with different backgrounds."]
[null,"Sample 1: My identity (e.g., age, gender, race, ethnicity, sexual orientation, etc.) was respected by staff. "]
[null,"Sample 2: The staff and program are trauma-informed. "]
[null,"Sample 3: Staff are culturally and linguistically informed, and programs can meet the needs of diverse populations. "]
[null,"Sample 4: I felt the staff were sensitive to the issues surrounding the case. "]
[null,"Sample 5: I felt there was no indication of bias, assumptions or stereotypes applied to my situation. "]
[null,"Sample 6: The staff adequality addressed any cultural issues I felt they should have. "]
[]
["Information Easy to Understand: Items that measure whether the staff presented the client with information in a way that the client could understand. "]
[null,"Sample 1: Staff provides a clear and helpful description of the program services and expectations. "]
[null,"Sample 2: Staff speaks with me in a way that I understand. "]
[null,"Sample 3: The structure of a program made sense and was easy to follow. "]
[null,"Sample 4: If any policies are unclear, which ones need better explanation? "]
[null,"Sample 5: The process for the interview of my child as the program was clearly explained to me. "]
[]
["Knowledgeable: Items that measure whether the staff know about other resources, the program, or victimization."]
[null,"Sample 1: The staff was knowledgeable about my situation. "]
[null,"Sample 2: The staff assisting understood the child's problem/concerns/needs. "]
[null,"Sample 3: How satisfied were you with the staff's insight into your needs? "]
[null,"Sample 4: The staff is resourceful in finding answers to difficult child-related problems. "]
[null,"Sample 5: The staff can handle difficult situations. "]
[]
["Respectful and Supportive: Items that measure whether the staff respected and supported the clients. "]
[null,"Sample 1: The staff provided a comfortable and welcoming environment for you and your children. "]
[null,"Sample 2: Staff are professional. "]
[null,"Sample 3: I felt like I was treated with respect. "]
[null,"Sample 4: The staff put me at ease when discussing the case. "]
[null,"Sample 5: I felt welcomed when I attended the program. "]
[]
["Quality of Services"]
["Confidentiality and Privacy: Items that measure whether the client's confidentiality and privacy was protected. "]
[null,"Sample 1: My confidentiality and privacy are respected by staff. "]
[null,"Sample 2: Staff obtained written permission to discuss information with outside parties. "]
[null,"Sample 3: The staff respected my wishes about who is and who is not to be given information about my treatment. "]
[null,"Sample 4: The staff kept my personal information confidential. "]
[]
["Gaps in Services: Items meant to determine what services where missing that could benefit the client. "]
[null,"Sample 1: In what ways did the program not meet your needs?"]
[null,"Sample 2: What other services/additional programs should we offer? "]
[null,"Sample 3: Please identify anything that made it difficult for you to access services. "]
[]
["Location and Facility: Items that measure the location and quality of the program facility. "]
[null,"Sample 1: I feel the physical facilities are pleasant and attractive. "]
[null,"Sample 2: The program site is clean and inviting."]
[null,"Sample 3: How satisfied are you with our facilities? "]
[null,"Sample 4: The office location is easy to find. "]
[null,"Sample 5: The location of services was convenient (parking, public transportation, distance, etc.)."]
[]
["Program Satisfaction: Items that measure whether the client enjoyed the program or specific services of the program. "]
[null,"Sample 1: I am satisfied with the services I received overall. "]
[null,"Sample 2: I had a positive experience with the agency. "]
[null,"Sample 3: I would recommend this agency to a friend or family member. "]
[null,"Sample 4: If I had other choices, I would still get services from this agency. "]
[null,"Sample 5: What parts of the group were most helpful/meaningful to you?"]
[null,"Sample 6: Is there anything that you would add or change  about individual counseling sessions?"]
[]
["B. Client Satisfaction Milestones"]
[]
["Milestones: Used to specifically measure success for your organization. "]
[null,"Sample 1: 30% response rate from clients who receive surveys with a goal of a 50% are positive "]
[null,"Sample 2: 10% response rate from clients who receive surveys with the goal of a 90% positive response rate"]

{"sheet":"Need Support","index":22,"n_rows":23,"n_cols":4,"rows_kept":23,"cut":false,"hidden":false,"merged":[[6,2,6,14],[20,3,20,13],[22,3,22,13],[15,3,15,13],[17,3,17,13],[10,3,10,13],[12,3,12,13]]}
[]
[]
[]
[null,null,"Need Assistance?"]
[]
[]
[null,null,"Your MOVA Program Coordinator is your first point of contact for any questions or concerns about the data contained in the OMT and performance data tracking."]
[]
[]
[null,null,"Schedule a Virtual Session to Meet with MOVA Support Staff"]
[null,null,null,"MOVA support staff will be available for virtual meetings to answer questions, troubleshoot issues and use screen-sharing to assist with OMT completion. "]
[]
[null,null,null,"Email MOVAstats@mass.gov with the name of your organization, a brief description of your question and three dates and times to meet."]
[]
[null,null,"Email Your Question"]
[null,null,null,"If you have a question, you can email MOVAstats@mass.gov and a MOVA support staff will respond to your email Monday through Friday between the hours of 9am-5pmEST. "]
[]
[null,null,null,"In your email please include any details pertinent to your question. "]
[]
[null,null,"Speak with an MOVA Support Staff Member"]
[null,null,null,"Please consult the open office hours calendar if you would like to join group discussions or ask a question related to the topical area being featured. "]
[]
[null,null,null,"Support staff will also be available to respond to questions by phone at 703-251-0368 Monday through Friday between the hours of 9am-5pm EST. If you are unable to connect to a support staff member due to the high volume of calls, please leave a voicemail with your contact information and details about your request."]

{"sheet":"Tracker","index":23,"n_rows":9,"n_cols":272,"rows_kept":9,"cut":false,"hidden":false,"merged":[[2,1,2,8],[4,1,4,8],[4,246,5,252],[4,257,5,263],[6,265,7,265],[4,197,5,201],[4,178,5,181],[4,165,5,168],[4,131,5,134],[4,128,5,130],[4,113,5,117],[4,99,5,103],[4,12,5,16],[6,246,7,246],[6,202,7,202],[6,216,7,216],[6,217,7,217],[6,218,7,218],[6,219,7,219],[6,220,7,220],[6,234,7,234],[6,235,7,235],[6,236,7,236],[6,237,7,237],[1,0,1,8],[6,262,7,262],[6,263,7,263],[6,1,7,1],[6,256,7,256],[6,257,7,257],[6,258,7,258],[6,259,7,259],[6,260,7,260],[6,261,7,261],[6,250,7,250],[6,251,7,251],[6,252,7,252],[6,253,7,253],[6,254,7,254],[6,255,7,255],[6,207,7,207],[6,208,7,208],[6,221,7,221],[6,222,7,222],[6,223,7,223],[6,224,7,224],[6,225,7,225],[6,226,7,226],[6,238,7,238],[6,227,7,227],[6,228,7,228],[6,229,7,229],[6,230,7,230],[6,231,7,231],[6,232,7,232],[6,165,7,165],[6,166,7,166],[6,167,7,167],[6,168,7,168],[6,169,7,169],[6,170,7,170],[6,200,7,200],[6,201,7,201],[6,177,7,177],[6,178,7,178],[6,179,7,179],[6,180,7,180],[6,181,7,181],[6,182,7,182],[6,183,7,183],[6,188,7,188],[6,196,7,196],[6,197,7,197],[6,198,7,198],[6,199,7,199],[6,271,7,271],[6,9,7,9],[6,245,7,245],[6,266,7,266],[6,267,7,267],[6,268,7,268],[6,269,7,269],[6,270,7,270],[6,264,7,264],[6,247,7,247],[6,248,7,248],[6,249,7,249],[6,239,7,239],[6,240,7,240],[6,241,7,241],[6,242,7,242],[6,243,7,243],[6,244,7,244],[6,233,7,233],[6,212,7,212],[6,213,7,213],[6,214,7,214],[6,215,7,215],[6,209,7,209],[6,210,7,210],[6,211,7,211],[6,203,7,203],[6,204,7,204],[6,205,7,205],[6,206,7,206],[6,156,7,156],[6,157,7,157],[6,158,7,158],[6,159,7,159],[6,163,7,163],[6,164,7,164],[6,150,7,150],[6,151,7,151],[6,152,7,152],[6,153,7,153],[6,154,7,154],[6,155,7,155],[6,139,7,139],[6,140,7,140],[6,141,7,141],[6,142,7,142],[6,148,7,148],[6,149,7,149],[6,133,7,133],[6,134,7,134],[6,135,7,135],[6,136,7,136],[6,137,7,137],[6,138,7,138],[6,116,7,116],[6,121,7,121],[6,124,7,124],[6,125,7,125],[6,131,7,131],[6,132,7,132],[6,103,7,103],[6,111,7,111],[6,112,7,112],[6,113,7,113],[6,114,7,114],[6,115,7,115],[6,97,7,97],[6,98,7,98],[6,99,7,99],[6,100,7,100],[6,101,7,101],[6,102,7,102],[6,23,7,23],[6,34,7,34],[6,45,7,45],[6,56,7,56],[6,67,7,67],[6,86,7,86],[6,2,7,2],[6,3,7,3],[6,4,7,4],[6,5,7,5],[6,6,7,6],[6,8,7,8],[6,11,7,11],[6,12,7,12],[6,7,7,7],[6,10,7,10],[1,180,1,192],[1,193,1,216],[1,217,1,228],[1,229,1,241],[1,99,1,113],[1,114,1,128],[1,129,1,141],[1,142,1,154],[1,155,1,179]]}
[]
["MOVA Outcome Measurement Tool (OMT) SAFEPLAN Supplement\nData Tracker for Demographic Data - Not Required"]
[null,"\nINSTRUCTIONS: The document below provides a framework to assist with tracking individuals served. If printing, complete the optional selections in row 7 before printing to ensure accuracy of data tracking. "]
[]
[null,"KEY DEFINITIONS: \n\nIf no data is collected for a category, indicate it in the \"Not Tracked\" column in the associated category. This means that as a subgrantee, you are not able to submit data in this category due to the need to update this in your data tracking system, but that efforts are underway to track data as requested. Report in the \"Not Tracked\" section the number of individuals whose demographic data were not tracked.\n\nIf no data is collected for an individual, count that individual in the Not Reported category. This means that this data is collected by your organization, but it was not provided by the person completing the intake form.\n",null,null,null,null,null,null,null,null,null,null,"RACE/ETHNICITY: Select from the dropdown menu to include sub-populations with each Race/Ethnicity column to reflect what you plan to capture in the OMT. Main categories and subcategories are included. Use +/- signs at the top of the page to hide additional race subcategories if not collected.\n\nCount each NEW individual in only one race/ethnicity type as self-reported. Individuals who self-report in more than one category should be counted in the \"Multiple Races\" category.",null,null,null,null,null,null,null,null,null,null,null,null,null,null,null,null,null,null,null,null,null,null,null,null,null,null,null,null,null,null,null,null,null,null,null,null,null,null,null,null,null,null,null,null,null,null,null,null,null,null,null,null,null,null,null,null,null,null,null,null,null,null,null,null,null,null,null,null,null,null,null,null,null,null,null,null,null,null,null,null,null,null,null,null,null,null,"GENDER IDENTITY: Write additional descriptors about other genders to reflect what you plan to capture in the OMT. Main categories and subcategories are included.",null,null,null,null,null,null,null,null,null,null,null,null,null,"AGE: Complete the information for the age subcategories to reflect what you plan to capture in the OMT.",null,null,null,null,null,null,null,null,null,null,null,null,null,null,"GEOGRAPHIC REGION: Complete the information for the geographic subcategories to reflect what you plan to capture in the OMT.",null,null,"TYPES OF VICTIMIZATION: Enter the victimization type for the individual served. Multiple victimization types can be counted for each individual. ",null,null,null,null,null,null,null,null,null,null,null,null,null,null,null,null,null,null,null,null,null,null,null,null,null,null,null,null,null,null,null,null,null,"TYPES OF ALLEGED ABUSE: Indicate the categories for the types of alleged abuse. ",null,null,null,null,null,null,null,null,null,null,null,null,"SPECIAL CLASSIFICATION OF INDIVIDUALS: Select from the dropdown menu to include sub-categorization to reflect what you plan to capture in the OMT. Main categories and subcategories are included.",null,null,null,null,null,null,null,null,null,null,null,null,null,null,null,null,null,null,"SERVICES RECEIVED: Enter the total number of times the individual received each service. ",null,null,null,null,null,null,null,null,null,null,null,null,null,null,null,null,null,null,null,null,null,null,null,null,null,null,null,null,null,null,null,null,null,null,null,null,null,null,null,null,null,null,null,null,null,null,null,null,"  209A Advocacy Abuse Prevention Order/Restraining Order Accompaniment Events: Specify civil legal assistance events provided for each 209A ",null,null,null,null,null,null,null,null,null,null,"258E Harassment Prevention Order Accompaniment Events: Specify civil legal assistance events provided for each 258E"]
[]
[null,"SAFEPLAN: Court Name","Reporting Period","SubId","Program Name","Individual ID/Unique Identifier","Anonymous Contact?","New Individual? ","Returning Individual? ","SAFEPLAN: Prior Contact with DV/SA Agency? ","SAFEPLAN: Individual served in more than one court within the agency during this reporting period?","Date\n\nSuch as date of entry or date of service, if needed","American Indian/Alaska Native (General) ","American Indian/Alaska Native (Other) ","American Indian/Alaska Native (Other) ","American Indian/Alaska Native (Other) ","American Indian/Alaska Native (Other) ","American Indian/Alaska Native (Other) ","American Indian/Alaska Native (Other) ","American Indian/Alaska Native (Other) ","American Indian/Alaska Native (Other) ","American Indian/Alaska Native (Other) ","American Indian/Alaska Native (Other) ","Asian \n(General)","Asian\n(Other)","Asian\n(Other)","Asian\n(Other)","Asian\n(Other)","Asian\n(Other)","Asian\n(Other)","Asian\n(Other)","Asian\n(Other)","Asian\n(Other)","Asian\n(Other)","Black/African American\n(General)","Black/African American\n(Other)","Black/African American\n(Other)","Black/African American\n(Other)","Black/African American\n(Other)","Black/African American\n(Other)","Black/African American\n(Other)","Black/African American\n(Other)","Black/African American\n(Other)","Black/African American\n(Other)","Black/African American\n(Other)","Hispanic or Latino\n(General)","Hispanic or Latino\n(Other)","Hispanic or Latino\n(Other)","Hispanic or Latino\n(Other)","Hispanic or Latino\n(Other)","Hispanic or Latino\n(Other)","Hispanic or Latino\n(Other)","Hispanic or Latino\n(Other)","Hispanic or Latino\n(Other)","Hispanic or Latino\n(Other)","Hispanic or Latino\n(Other)","Native Hawaiian or Other Pacific Islander \n(General)","Native Hawaiian or Other Pacific Islander \n(Other)","Native Hawaiian or Other Pacific Islander \n(Other)","Native Hawaiian or Other Pacific Islander \n(Other)","Native Hawaiian or Other Pacific Islander \n(Other)","Native Hawaiian or Other Pacific Islander \n(Other)","Native Hawaiian or Other Pacific Islander \n(Other)","Native Hawaiian or Other Pacific Islander \n(Other)","Native Hawaiian or Other Pacific Islander \n(Other)","Native Hawaiian or Other Pacific Islander \n(Other)","Native Hawaiian or Other Pacific Islander \n(Other)","White Non-Latino/Caucasian \n(General)","White Non-Latino/Caucasian \n(Other)","White Non-Latino/Caucasian \n(Other)","White Non-Latino/Caucasian \n(Other)","White Non-Latino/Caucasian \n(Other)","White Non-Latino/Caucasian \n(Other)","White Non-Latino/Caucasian \n(Other)","White Non-Latino/Caucasian \n(Other)","White Non-Latino/Caucasian \n(Other)","White Non-Latino/Caucasian \n(Other)","White Non-Latino/Caucasian \n(Other)","Some Other Race","Some Other Race","Some Other Race","Some Other Race","Some Other Race","Some Other Race","Some Other Race","Some Other Race","Multiple Races\n(General)","Multiple Races\n(Other)","Multiple Races\n(Other)","Multiple Races\n(Other)","Multiple Races\n(Other)","Multiple Races\n(Other)","Multiple Races\n(Other)","Multiple Races\n(Other)","Multiple Races\n(Other)","Multiple Races\n(Other)","Multiple Races\n(Other)","Not Reported","Not Tracked","Male","Female","Transgender Male","Transgender Female","Genderqueer/\nNon-Conforming/\nNon-Binary","Other Gender","Other Gender","Other Gender","Other Gender","Other Gender","Other Gender","Other Gender","Not Reported","Not Tracked","Age\n0-12","Age\n13-17","Age\n18-24","Age\n25-59\n(General)","Age\n25-59\n(Specific)","Age\n25-59\n(Specific)","Age\n25-59\n(Specific)","Age\n25-59\n(Specific)","Age\n60 and Older\n(General)","Age\n60 and Older\n(Specific)","Age\n60 and Older\n(Specific)","Not Reported","Not Tracked","Age\n60 and Older\n(Specific)","Age\n60 and Older\n(Specific)","Geographic Region\n(Self Reported)","Geographic Region\n(Self Reported)","Geographic Region\n(Self Reported)","Adult Physical Assault (Includes Aggravated and Simple Assault)","Adult Sexual Assault","Adults Sexually Abused/Assaulted as Children","Arson","Bullying (Verbal, Cyber, or Physical)","Burglary","Child Physical Abuse or Neglect","Child Pornography","Child Sexual Abuse/Assault","Domestic and/or Family Violence","DUI/DWI Incidents","Elder Abuse or Neglect","Hate Crime","Hate Crime","Hate Crime","Hate Crime","Hate Crime","Human Trafficking: Labor","Human Trafficking: Sex","Identity Theft/Fraud/Financial Crime","Kidnapping (noncustodial)","Kidnapping (custodial) ","Mass Violence (Domestic/ International)","Other Vehicular Victimization (e.g., Hit and Run)","Robbery","Stalking/Harassment","Survivors of Homicide Victims","Teen Dating Victimization ","Terrorism (Domestic/International)","Other Victimization","Other Victimization","Other Victimization","Not Reported","Not Tracked","SAFEPLAN: Attempted Physical Harm (209A)","SAFEPLAN: Caused Physical Harm (209A)","SAFEPLAN: Imminent Fear (209A)","SAFEPLAN: Sexual Assault (209A)","SAFEPLAN: Stalking (258E)","SAFEPLAN: Criminal Harassment (258E)","SAFEPLAN: Other Alleged Abuse","SAFEPLAN: Other Alleged Abuse","SAFEPLAN: Other Alleged Abuse","SAFEPLAN: Other Alleged Abuse","SAFEPLAN: Other Alleged Abuse","SAFEPLAN: Other Alleged Abuse","Has the individual presented with more than one type of victimization during the reporting period?","Deaf/Hard of Hearing","Homeless","Immigrants/Refugees/Asylum Seekers","LGBTQ","Veterans","Victims with Disabilities: Cognitive/Physical/Mental\n(General)","Victims with Disabilities: Cognitive/Physical/Mental\n(Other)","Victims with Disabilities: Cognitive/Physical/Mental\n(Other)","Victims with Disabilities: Cognitive/Physical/Mental\n(Other)","Victims with Disabilities: Cognitive/Physical/Mental\n(Other)","Victims with Limited English Proficiency\n(General)","Victims with Limited English Proficiency\n(Other)","Victims with Limited English Proficiency\n(Other)","Victims with Limited English Proficiency\n(Other)","Victims with Limited English Proficiency\n(Other)","Other Special Classification Type","Other Special Classification Type","Other Special Classification Type","Did the individual receive assistance with a victim compensation application?","A. INFORMATION AND REFERRAL Did the individual receive information and referral services?","A1. Information about the criminal justice process \nEnter the number of times services were provided","A2. Information about victim rights, how to obtain notifications, etc.\n Enter the number of times services were provided","A3. Referral to other victim service programs \nEnter the number of times services were provided","A4. Referral to other services, supports, and resources (includes legal, medical, faith-based organizations, address-confidentiality programs, etc.) Enter the number of times services were provided","A. SAFEPLAN Referrals\nIF individual received referrals, count the number and source in the columns to the right.","A. SAFEPLAN Referrals\nDV Program","A. SAFEPLAN Referrals\nSA Program","A. SAFEPLAN Referrals\nDA's Office","A. SAFEPLAN Referrals\nLegal Services","A. SAFEPLAN Referrals\nPolice","A. SAFEPLAN Referrals\nOther Court Personnel","A. SAFEPLAN Referrals\nVictim Compensation","A. SAFEPLAN Referrals\nMedical Referral","A. SAFEPLAN Referrals\nOther","B. PERSONAL ADVOCACY/\nACCOMPANIMENT\n Did the individual receive personal advocacy/\naccompaniment services?","B1. Victim advocacy/accompaniment to emergency medical care\n Enter the number of times services were provided","B2. Victim advocacy/accompaniment to medical forensic exam\n Enter the number of times services were provided","B3. Law enforcement interview advocacy/accompaniment \nEnter the number of times services were provided","B4. Individual advocacy (e.g., assistance in applying for public benefits, return of personal property or effects) \nEnter the number of times services were provided","B5. Performance or medical or nonmedical forensic exam or interview, or medical evidence collection \nEnter the number of times services were provided","B6. Immigration assistance (e.g., special visas, continued presence application, and other immigration relief) \nEnter the number of times services were provided","B7. Intervention with employer, creditor, landlord, or academic institution \nEnter the number of times services were provided","B8. Child or dependent care assistance (includes coordination of services) \nEnter the number of times services were provided","B9. Interpreter services \nEnter the number of times services were provided","C. EMOTIONAL SUPPORT OR SAFETY SERVICES \nDid the individual receive emotional support or safety services?","C1. SAFEPLAN Crisis Intervention (in-person, includes safety planning, etc.) \nEnter the number of times services were provided","C2. Hotline/crisis line counseling \nEnter the number of times services were provided","C3. On-scene crisis response (e.g., community crisis response) \nEnter the number of times services were provided","C4. Individual Counseling \nEnter the number of times services were provided","C5. Support groups (facilitated or peer) \nEnter the number of times services were provided","C6. Other therapy (traditional, cultural, or alternative healing; art, writing, or play therapy, etc.) \nEnter the number of times services were provided","C7. Emergency financial assistance (includes emergency loans and petty cash, payment for items such as food and/or clothing, changing windows and/or locks, taxis, prophylactic and non prophylactic medications, durable medical equipment, etc.) \nEnter the number of times services were provided","D. SHELTER/HOUSING SERVICES \nDid the individual receive shelter/housing services?","D1. Emergency shelter or safe house \nEnter the number of times services were provided","D2. Transitional housing \nEnter the number of times services were provided ","D3. Relocation assistance (includes assistance with obtaining housing) \nEnter the number of times services were provided ","E. CRIMINAL/CIVIL JUSTICE SYSTEM ASSISTANCE \nDid the individual receive criminal/civil justice services?","E1. SAFEPLAN Notification of criminal justice events (e.g., case status, arrest, court proceedings, case disposition, release, etc.) \nEnter the number of times services were provided","E2. Victim impact statement assistance \nEnter the number of times services were provided","E3. Assistance with restitution (includes assistance in requesting and when collection efforts are not successful) \nEnter the number of times services were provided","E4. SAFEPLAN Civil legal assistance in obtaining protection or restraining order \nEnter the number of times services were provided","E5. SAFEPLAN Civil legal assistance with family law issues (e.g., custody, visitation, or support) \nEnter the number of times services were provided","E6. SAFEPLAN Other emergency justice-related assistance \nEnter the number of times services were provided","E7. Immigration assistance (e.g., special visas, continued presence application, and other immigration relief) \nEnter the number of times services were provided","E8. Prosecution interview advocacy/accompaniment (includes accompaniment with prosecuting attorney and with victim/witness) \nEnter the number of times services were provided","E9. Law enforcement interview advocacy/accompaniment \nEnter the number of times services were provided","E10. Criminal advocacy/accompaniment \nEnter the number of times services were provided","E11. Other legal advice and/or counsel \nEnter the number of times services were provided","209A\n  \n1. SAFEPLAN 209A Advocacy","  209A\n  \n 2. 209A Accompaniment","209A\n  \n 3. Motion to Terminate Granted (Plaintiff)","  209A\n\n   4. Motion to Terminate Denied (Plaintiff)"," 209A\n\n 5. Temporary Harassment Order - Requested","   209A\n  \n6. Temporary Harassment Order - Granted","  209A\n\n   7. Temporary Harassment Order - Scheduled for Hearing after Notice","   209A\n  \n8. Temporary Harassment Order - Denied","209A\n\n     9. Final Harassment Order - Requested"," 209A\n  \n10. Final Harassment Order - Granted","209A\n\n11. Final Harassment Order - Denied","258E\n\n1. 258E Advocacy","258E\n\n2. 258E Accompaniment","258E\n\n3. Temporary Restraining Order - Requested","258E \n\n4. Temporary Restraining Order - Granted","258E\n\n5. Temporary Restraining Order - Scheduled for Hearing after Notice","258E\n\n6. Temporary Restraining Order - Denied","258E\n\n7. Final Restraining Order - Requested","258E\n\n8. Final Restraining Order - Granted","258E\n\n9. Final Restraining Order - Denied","Was there a request for services  unmet because of organizational capacity issues?","If your organization formally surveys clients for feedback on services received, number of surveys distributed to clients (included, but not limited to, those distributed by hand, mail, or electronic issues).","If your organization formally surveys clients for feedback on services received, number of surveys completed by client.","If your organization formally surveys staff for feedback on trainings received, number of surveys distributed to staff (included, but not limited to, those distributed by hand, mail, or electronic issues).","If your organization formally surveys staff for feedback on trainings received, number of surveys completed by staff.","Additional Comments"]
[null,null,null,null,null,null,null,null,null,null,null,null,null,"Select from Options","Select from Options","Select from Options","Select from Options","Select from Options","Select from Options","Select from Options","Select from Options","Select from Options","Select from Options",null,"Select from Options","Select from Options","Select from Options","Select from Options","Select from Options","Select from Options","Select from Options","Select from Options","Select from Options","Select from Options",null,"Select from Options","Select from Options","Select from Options","Select from Options","Select from Options","Select from Options","Select from Options","Select from Options","Select from Options","Select from Options",null,"Select from Options","Select from Options","Select from Options","Select from Options","Select from Options","Select from Options","Select from Options","Select from Options","Select from Options","Select from Options",null,"Select from Options","Select from Options","Select from Options","Select from Options","Select from Options","Select from Options","Select from Options","Select from Options","Select from Options","Select from Options",null,"Select from Options","Select from Options","Select from Options","Select from Options","Select from Options","Select from Options","Select from Options","Select from Options","Select from Options","Select from Options","Please Specify:","Please Specify:","Please Specify:","Please Specify:","Please Specify:","Please Specify:","Please Specify:","Please Specify:",null,"Select from Options","Select from Options","Select from Options","Select from Options","Select from Options","Select from Options","Select from Options","Select from Options","Select from Options","Select from Options",null,null,null,null,null,null,null,"Brief description, if applicable: ","Brief description, if applicable: ","Brief description, if applicable: ","Brief description, if applicable: ","Brief description, if applicable: ","Brief description, if applicable: ","Brief description, if applicable: ",null,null,null,null,null,null,"Age\n25-29","Age\n30-39","Age\n40-49","Age\n50-59",null,"Age\n60-65","Age\n66 and Older",null,null,"Age \n60-65","Age\n66 and Older","Urban Area\n(50,000 or more)","Suburban Area\n(2,500-49,000)","Rural Area\n(less than 2,500)",null,null,null,null,null,null,null,null,null,null,null,null,"Racial","Religious","Gender","Sexual Orientation","Other",null,null,null,null,null,null,null,null,null,null,null,null,"Please Specify:","Please Specify:","Please Specify:",null,null,null,null,null,null,null,null,"Please Specify:","Please Specify:","Please Specify:","Please Specify:","Please Specify:","Please Specify:",null,null,null,null,null,null,null,"Select from Options","Select from Options","Select from Options","Select from Options",null,"Select from Options","Select from Options","Select from Options","Select from Options","Please Specify:","Please Specify:","Please Specify:",null,null,null,null,null,null,null,null,null,null,null,null,null,null,null,null,null,null,null,null,null,null,null,null,null,null,null,null,null,null,null,null,null,null,null,null,null,null,null,null,null,null,null,null,null,null,null,null,null,null,null,null,null,null,null,null,null,null,null,null,null,null,null,null,null,null,null,null,null,"Please Specify:"]
["Summary Row: Select a court name and a reporting period. Data will then automatically populate for each category. ","Attleboro District Court","Period 1 (July 1 - September 30 2023)","N/A","N/A","N/A",{"$f":"COUNTIFS(G10:G2001,\"yes\",$B$10:$B$2001,$B$9,$C$10:$C$2001,$C$9)","v":0},{"$f":"COUNTIFS(H10:H2001,\"yes\",$B$10:$B$2001,$B$9,$C$10:$C$2001,$C$9)","v":0},{"$f":"COUNTIFS(I10:I2001,\"yes\",$B$10:$B$2001,$B$9,$C$10:$C$2001,$C$9)","v":0},{"$f":"COUNTIFS(J10:J2001,\"yes\",$B$10:$B$2001,$B$9,$C$10:$C$2001,$C$9)","v":0},{"$f":"COUNTIFS(K10:K2001,\"yes\",$B$10:$B$2001,$B$9,$C$10:$C$2001,$C$9)","v":0},"N/A",{"$f":"SUMIFS(M10:M2001,$B$10:$B$2001,$B$9,$C$10:$C$2001,$C$9)","v":0},0,0,0,0,0,0,0,0,0,0,0,0,0,0,0,0,0,0,0,0,0,0,0,0,0,0,0,0,0,0,0,{"$f":"SUMIFS(AS10:AS2001,$B$10:$B$2001,$B$9,$C$10:$C$2001,$C$9)","v":0},0,0,0,0,0,0,0,0,0,0,0,0,0,0,0,0,0,0,0,0,0,0,0,0,0,0,0,0,0,0,0,{"$f":"SUMIFS(BY10:BY2001,$B$10:$B$2001,$B$9,$C$10:$C$2001,$C$9)","v":0},0,0,0,0,0,0,0,0,0,0,0,0,0,0,0,0,0,0,0,0,0,0,0,0,0,0,0,0,0,0,0,{"$f":"SUMIFS(DE10:DE2001,$B$10:$B$2001,$B$9,$C$10:$C$2001,$C$9)","v":0},0,0,0,0,0,0,0,0,0,0,0,0,0,0,0,0,0,0,0,0,0,0,0,0,0,0,0,0,0,0,0,{"$f":"SUMIFS(EK10:EK2001,$B$10:$B$2001,$B$9,$C$10:$C$2001,$C$9)","v":0},0,0,0,0,0,0,0,0,0,0,0,0,0,0,0,0,0,0,0,0,0,0,0,0,0,0,0,0,0,0,0,{"$f":"SUMIFS(FQ10:FQ2001,$B$10:$B$2001,$B$9,$C$10:$C$2001,$C$9)","v":0},0,0,0,0,{"$f":"COUNTIFS(FV10:FV2001,\"yes\",$B$10:$B$2001,$B$9,$C$10:$C$2001,$C$9)","v":0},{"$f":"SUMIFS(FW10:FW2001,$B$10:$B$2001,$B$9,$C$10:$C$2001,$C$9)","v":0},0,0,0,0,0,0,0,0,0,0,0,0,0,0,0,0,0,{"$f":"COUNTIFS(GO10:GO2001,\"yes\",$B$10:$B$2001,$B$9,$C$10:$C$2001,$C$9)","v":0},{"$f":"COUNTIFS(GP10:GP2001,\"yes\",$B$10:$B$2001,$B$9,$C$10:$C$2001,$C$9)","v":0},{"$f":"SUMIFS(GQ10:GQ2001,$B$10:$B$2001,$B$9,$C$10:$C$2001,$C$9)","v":0},{"$f":"SUMIFS(GR10:GR2001,$B$10:$B$2001,$B$9,$C$10:$C$2001,$C$9)","v":0},{"$f":"SUMIFS(GS10:GS2001,$B$10:$B$2001,$B$9,$C$10:$C$2001,$C$9)","v":0},{"$f":"SUMIFS(GT10:GT2001,$B$10:$B$2001,$B$9,$C$10:$C$2001,$C$9)","v":0},null,{"$f":"SUMIFS(GV10:GV2001,$B$10:$B$2001,$B$9,$C$10:$C$2001,$C$9)","v":0},0,0,0,0,0,0,0,0,{"$f":"COUNTIFS(HE10:HE2001,\"yes\",$B$10:$B$2001,$B$9,$C$10:$C$2001,$C$9)","v":0},{"$f":"SUMIFS(HF10:HF2001,$B$10:$B$2001,$B$9,$C$10:$C$2001,$C$9)","v":0},0,0,0,0,0,0,0,0,{"$f":"COUNTIFS(HO10:HO2001,\"yes\",$B$10:$B$2001,$B$9,$C$10:$C$2001,$C$9)","v":0},{"$f":"SUMIFS(HP10:HP2001,$B$10:$B$2001,$B$9,$C$10:$C$2001,$C$9)","v":0},0,0,0,0,0,0,{"$f":"COUNTIFS(HW10:HW2001,\"yes\",$B$10:$B$2001,$B$9,$C$10:$C$2001,$C$9)","v":0},{"$f":"SUMIFS(HX10:HX2001,$B$10:$B$2001,$B$9,$C$10:$C$2001,$C$9)","v":0},{"$f":"SUMIFS(HY10:HY2001,$B$10:$B$2001,$B$9,$C$10:$C$2001,$C$9)","v":0},{"$f":"SUMIFS(HZ10:HZ2001,$B$10:$B$2001,$B$9,$C$10:$C$2001,$C$9)","v":0},{"$f":"COUNTIFS(IA10:IA2001,\"yes\",$B$10:$B$2001,$B$9,$C$10:$C$2001,$C$9)","v":0},{"$f":"SUMIFS(IB10:IB2001,$B$10:$B$2001,$B$9,$C$10:$C$2001,$C$9)","v":0},0,0,0,0,0,0,0,0,0,0,0,0,0,0,0,0,0,0,0,0,0,0,0,0,0,0,0,0,0,0,{"$f":"COUNTIFS(JG10:JG2001,\"yes\",$B$10:$B$2001,$B$9,$C$10:$C$2001,$C$9)","v":0},{"$f":"SUMIFS(JH10:JH2001,$B$10:$B$2001,$B$9,$C$10:$C$2001,$C$9)","v":0},{"$f":"SUMIFS(JI10:JI2001,$B$10:$B$2001,$B$9,$C$10:$C$2001,$C$9)","v":0},{"$f":"SUMIFS(JJ10:JJ2001,$B$10:$B$2001,$B$9,$C$10:$C$2001,$C$9)","v":0},{"$f":"SUMIFS(JK10:JK2001,$B$10:$B$2001,$B$9,$C$10:$C$2001,$C$9)","v":0},"N/A"]