Workbook

Sheet Contents
A1: Contents: This document is set up to provide access to all information by proceeding through Column A from Cell A1 until End of Worksheet is reached. The AQ31 Form and AQ31 Instructions can be found on the AQ31, 32: Retail Seller of Electricity Greenhouse Gas Emissions Reporting webpage at the link in Cell A2. Various acronyms can be found in Cells A3 through A7. The link to the next worksheet where you may begin entering information is in Cell A8.
A2: AQ31, 32: Retail Seller of Electricity Greenhouse Gas Emissions Reporting
A3: New England Power Pool Generation Information System (NEPOOL GIS)
A4: Carbon Dioxide equivalents (CO2e)
A5: Carbon Dioxide (CO2)
A6: Methane (CH4)
A7: Nitrogen Dioxide (N2O)
A8: Proceed to the AQ31Report Information Worksheet.
A9: End of Worksheet

Sheet AQ31 Report Information
A1: AQ31 Retail Sellers of Electricity Optional Greenhouse Gas (GHG) Reporting Spreadsheet
A2: This spreadsheet is for Municipal Retail Sellers to report unit-specific Megawatt Hours (MWh) and GHG emissions in accordance with 310 CMR 7.75(9)(c)2.d.
A3: Begin here to complete the following six steps (A through F):
A4: A. Enter the following Retail Seller Information.
A5: Retail Seller Information to be entered | B5: Enter requested information here
A6: Municipal Retail Seller Name
A7: Emissions Reporting Year
A8: Date this spreadsheet was completed
A9: End of Table
A11: B. Enter the MWh information from page 57 of the Annual Return to DPU. [310 CMR 7.75 (9)(c)5.a.]
A12: DPU Return Information to be entered | B12: Enter requested information here
A13: Sources of Energy: Total MWh (from line 15)
A14: Disposition of Energy: Sales for Resale MWh (from line 18)
A15: End of Table
A17: C. Complete the following three Worksheets, as applicable, for any unit-specific generation claimed. [310 CMR 7.75 (9)(c)5.b. and 5.c.]
A18: Unit-Specific RPS Certificates
A19: Unit-Specific Owned MWh
A20: Unit-Specific Contracted MWh
A22: D. Confirm that the Non-Emitting plus Emitting Unit-Specific MWh are not greater than the Total MWh for the AQ32 Report. [310 CMR 7.75 (9)(c)5.d.]
A23: MWh Check | B23: Result (automatically calculates)
A24: Are 'Unit-Specific MWh' less than or equal to 'Total MWh for AQ32 Report'? | B24: =IF((B38+B39)>B37,"No, MWh data must be revised.","OK") -> OK
A25: End of Table
A27: E. Review the Unit-Specific Summary Worksheet.
A28: Unit-Specific Summary Worksheet
A30: F. Use this AQ31 Summary Table data to complete the AQ31 Form. The AQ31 Form and Spreadsheet are due by November 15th following the Reporting Year. [310 CMR 7.75 (9)(c)2.d.]
A31: Retain this AQ31 Spreadsheet in order to complete the AQ32 Spreadsheet. The AQ32 Form and Spreadsheet are due by the second September 15th following the Reporting Year. [ 310 CMR 7.75(9)(c)2.b.]
A32: This table automatically calculates values.
A33: AQ31 Summary Table
A34: Value Type | B34: Summary Values (Rounded) | C34: AQ31 Worksheet data source | D34: Required for the AQ31 Form | E34: Where to enter on the AQ32 Spreadsheet
A35: Emissions Reporting Year | B35: ='AQ31 Report Information'!B7 -> 0 | C35: AQ31 Report Information | D35: Yes | E35: N/A
A36: Municipal Retail Seller Name | B36: ='AQ31 Report Information'!B6 -> 0 | C36: AQ31 Report Information | D36: Yes | E36: Name
A37: Total MWh for AQ32 Report | B37: =ROUND('AQ31 Report Information'!B13-'AQ31 Report Information'!B14, 0) -> 0 | C37: AQ31 Report Information | D37: No | E37: Step 1
A38: Unit-Specific Non-Emitting MWh | B38: ='Unit-Specific Summary'!F13 -> 0 | C38: Unit-Specific Summary | D38: Yes | E38: Step 2
A39: Unit-Specific Emitting MWh | B39: ='Unit-Specific Summary'!H21 -> 0 | C39: Unit-Specific Summary | D39: Yes | E39: Step 3
A40: Unit-Specific Non-Biogenic CO2e (short tons) | B40: =ROUND('Unit-Specific Summary'!H27+'Unit-Specific Summary'!H28+'Unit-Specific Summary'!H29, 0) -> 0 | C40: Unit-Specific Summary | D40: Yes | E40: Step 3
A41: Unit-Specific Biogenic CO2 (short tons) | B41: =ROUND('Unit-Specific Summary'!H30,0) -> 0 | C41: Unit-Specific Summary | D41: Yes | E41: Step 3
A42: End of Table
A43: Non-Biogenic CO2e consists of Non-Biogenic CO2, plus CH4 and N2O.
A44: End of Worksheet

Sheet Unit-Specfic RPS Certificates
A1: NEPOOL GIS Certificates eligible as Massachusetts Renewable Portfolio Standard (RPS) Class I or Class II as per 310 CMR 7.75 (9)(c)5.b.i. and c.i
A2: Return to the AQ31 Report Information Worksheet at step C.
A3: Advance to the Unit-Specific Owned MWh Worksheet
A4: Information required in the table:
A5: Columns 1 through 5 require information from the NEPOOL GIS Certificate report (state/province and fuel type must be chosen from the drop down list).
A6: Documentation required for this table:
A7: NEPOOL GIS Certificate report: The report for the calendar year must be provided showing the certificates retired into a Massachusetts subaccount.
A9: 1. NEPOOL GIS Unit ID (MSS, NON or IMP and number) | B9: 2. NEPOOL GIS Unit Name | C9: 3. State or Province (select choice from drop down list) | D9: 4. Fuel Type (select choice from drop down list) | E9: 5. Number of NEPOOL GIS Certificates Retired
A42: End of Table
A44: RPS Certrificate Summary Table
A45: This table automatically calculates values.
A46: Fuel Type | B46: Certificates
A47: Hydroelectric/Hydropower/Hydrokinetic/Ocean | B47: =SUMIF(D$10:D$41,A47,E$10:E$41) -> 0
A48: Nuclear | B48: =SUMIF(D$10:D$41,A48,E$10:E$41) -> 0
A49: Solar Photovoltaic | B49: =SUMIF(D$10:D$41,A49,E$10:E$41) -> 0
A50: Wind | B50: =SUMIF(D$10:D$41,A50,E$10:E$41) -> 0
A51: Biogas/Digester Gas/Landfill Gas | B51: =SUMIF(D$10:D$41,A51,E$10:E$41) -> 0
A52: Biomass/Wood | B52: =SUMIF(D$10:D$41,A52,E$10:E$41) -> 0
A53: Fuel Cell | B53: =SUMIF(D$10:D$41,A53,E$10:E$41) -> 0
A54: Municipal Solid Waste/Trash | B54: =SUMIF(D$10:D$41,A54,E$10:E$41) -> 0
A55: End of Table
A57: End of Worksheet

Sheet Unit-Specific Owned MWh
A1: Megawatt Hours (MWh) from Owned Generation [310 CMR 7.75 (9)(c)5.b.ii. and c.ii]
A2: Return to the AQ31 Report Information Worksheet at step C.
A3: Advance to the Unit-Specific Contracted Worksheet
A4: Instructions
A5: Columns 1 through 5 require information from the NEPOOL GIS Certificate report (state/province and fuel type must be chosen from the drop down list).
A6: Columns 6 and 7 require information from the DPU Return's Generating Station page or Sources of Energy section from the Electric Energy Account page (the page number of the DPU Return must be chosen from the drop down list).
A7: Column 8 converts kWh to MWh and rounds the value to the nearest whole number.
A8: Column 9 requires the number of MWh being claimed in this AQ31 report and should not be greater than Column 8.
A9: Documentation required for this table:
A10: NEPOOL GIS Certificate report: The report for the calendar year must be provided showing the certificates retired into a Massachusetts subaccount, or not used by others.
A11: DPU Return: The "Generating station statistics (Large Stations)" pages 58 & 59, "Generating Station Statistics (Small Stations)" page 66," and/or "Electric Energy Account" page 57 from Annual Return to DPU, must be provided to MassDEP if the Return is not posted on the DPU MLP Return webpage.
A13: 1. NEPOOL GIS Unit ID (MSS, NON or IMP and number) | B13: 2. NEPOOL GIS Unit Name | C13: 3. State or Province (select choice from drop down list) | D13: 4. Fuel Type (select choice from drop down list) | E13: 5. Number of NEPOOL GIS Certificates Retired (enter zero if certificates are Unsettled) | F13: 6. DPU Return: "Generating Station Statistics" or "Electric Energy Account" page number (select choice from drop down list) | G13: 7. DPU Return: kWh from "Generating Station Statistics" or "Electric Energy Account" pages | H13: 8. MWh (kWh from Column 5 automatically rounded to MWh) | I13: 9. Unit-Specific MWh claimed for the reporting year (must not be greater than Column 8)
H14: =ROUND(G14/1000,0) -> 0
H15: =ROUND(G15/1000,0) -> 0
H16: =ROUND(G16/1000,0) -> 0
H17: =ROUND(G17/1000,0) -> 0
H18: =ROUND(G18/1000,0) -> 0
H19: =ROUND(G19/1000,0) -> 0
H20: =ROUND(G20/1000,0) -> 0
H21: =ROUND(G21/1000,0) -> 0
H22: =ROUND(G22/1000,0) -> 0
H23: =ROUND(G23/1000,0) -> 0
H24: =ROUND(G24/1000,0) -> 0
A25: End of Table
A27: Owned Generation Summary Table
A28: This table automatically calculates values.
A29: Fuel Type | B29: MWh
A30: Hydroelectric/Hydropower/Hydrokinetic/Ocean | B30: =SUMIF(D$14:D$24,A30,I$14:I$24) -> 0
A31: Nuclear | B31: =SUMIF(D$14:D$24,A31,I$14:I$24) -> 0
A32: Solar Photovoltaic | B32: =SUMIF(D$14:D$24,A32,I$14:I$24) -> 0
A33: Wind | B33: =SUMIF(D$14:D$24,A33,I$14:I$24) -> 0
A34: Biogas/Digester Gas/Landfill Gas | B34: =SUMIF(D$14:D$24,A34,I$14:I$24) -> 0
A35: Biomass/Wood | B35: =SUMIF(D$14:D$24,A35,I$14:I$24) -> 0
A36: Fuel Cell | B36: =SUMIF(D$14:D$24,A36,I$14:I$24) -> 0
A37: Municipal Solid Waste/Trash | B37: =SUMIF(D$14:D$24,A37,I$14:I$24) -> 0
A38: Natural Gas | B38: =SUMIF(D$14:D$24,A38,I$14:I$24) -> 0
A39: Petroleum Fuels | B39: =SUMIF(D$14:D$24,A39,I$14:I$24) -> 0
A40: End of Table
A42: End of Worksheet

Sheet Unit-Specific Contracted MWh
A1: Megawatt Hours (MWh) from Contracted Power [310 CMR 7.75 (9)(c)5.b.ii. and c.ii]
A2: Return to the AQ31 Report Information Worksheet at step C.
A4: Information required in the table:
A5: Columns 1 through 5 require information from the NEPOOL GIS Certificate report (state/province and fuel type must be chosen from the drop down list).
A6: Columns 6 through 9 require information from the DPU Return's Purchased Power page (the page number of the DPU Return must be chosen from the drop down list).
A7: Column 10 converts kWh to MWh and rounds the value to the nearest whole number.
A8: Column 11 requires the number of MWh being claimed in this AQ31 report and should not be greater than Column 10.
A9: Columns 12 through 15 require information from the Contract.
A10: If multiple contracts are combined in the same line on the DPU Return, MassDEP may request additional information.
A11: Documentation required for this table:
A12: NEPOOL GIS Certificate report: The report for the calendar year must be provided showing the certificates retired into a Massachusetts subaccount, or not used by others.
A13: DPU Return: The “Purchased Power” on pages 54 & 55 or page 22 from Annual Return to DPU must be provided to MassDEP if the Return is not posted on the DPU MLP Return webpage.
A14: Contract: A copy of each contract must be provided to MassDEP with this report if it has not been previously provided.
A16: 1. NEPOOL GIS Unit ID (MSS, NON or IMP and number) | B16: 2. NEPOOL GIS Unit Name | C16: 3. State or Province (select choice from drop down list) | D16: 4. Fuel Type (select choice from drop down list) | E16: 5. Number of NEPOOL GIS Certificates Retired (enter zero if certificates are Unsettled) | F16: 6. DPU Return: Purchased Power page number (select choice from drop down list) | G16: 7. DPU Return: Purchased Power line number of Page 22 or Page 54 and 55 | H16: 8. DPU Return: Purchased Power Resource name as shown in column (a) of Page 22 or Page 54 | I16: 9. DPU Return: kWh from column (c) of Page 22 or column (k) of Page 55 | J16: 10. MWh (kWh from Column 9 automatically rounded to MWh) | K16: 11. Unit-Specific MWh claimed for the reporting year (must not be greater than Column 10) | L16: 12. Contract: Seller's Name | M16: 13. Contract Start Date (provide at least month and year) | N16: 14. Contract End Date (provide at least month and year) | O16: 15. Has a copy of this contract previously been submitted to MassDEP? (select choice from drop down list)
J17: =ROUND(I17/1000,0) -> 0
J18: =ROUND(I18/1000,0) -> 0
J19: =ROUND(I19/1000,0) -> 0
J20: =ROUND(I20/1000,0) -> 0
J21: =ROUND(I21/1000,0) -> 0
J22: =ROUND(I22/1000,0) -> 0
J23: =ROUND(I23/1000,0) -> 0
J24: =ROUND(I24/1000,0) -> 0
J25: =ROUND(I25/1000,0) -> 0
J26: =ROUND(I26/1000,0) -> 0
J27: =ROUND(I27/1000,0) -> 0
J28: =ROUND(I28/1000,0) -> 0
... J41: =ROUND(I41/1000,0) -> 0
A42: End of Table
A44: Contracted Generation Summary Table
A45: This table automatically calculates values.
A46: Fuel Type | B46: MWh
A47: Hydroelectric/Hydropower/Hydrokinetic/Ocean | B47: =SUMIF(D$17:D$41,A47,K$17:K$41) -> 0
A48: Nuclear | B48: =SUMIF(D$17:D$41,A48,K$17:K$41) -> 0
A49: Solar Photovoltaic | B49: =SUMIF(D$17:D$41,A49,K$17:K$41) -> 0
A50: Wind | B50: =SUMIF(D$17:D$41,A50,K$17:K$41) -> 0
A51: Biogas/Digester Gas/Landfill Gas | B51: =SUMIF(D$17:D$41,A51,K$17:K$41) -> 0
A52: Biomass/Wood | B52: =SUMIF(D$17:D$41,A52,K$17:K$41) -> 0
A53: Fuel Cell | B53: =SUMIF(D$17:D$41,A53,K$17:K$41) -> 0
A54: Municipal Solid Waste/Trash | B54: =SUMIF(D$17:D$41,A54,K$17:K$41) -> 0
A55: Natural Gas | B55: =SUMIF(D$17:D$41,A55,K$17:K$41) -> 0
...

Sheet Unit-Specific Summary
A1: Unit-Specific Worksheet Summary
A2: Return to the final Step of the AQ31 Report Information Worksheet
A3: These tables automatically calculate values. Do not edit this Worksheet.
A4: This Worksheet summarizes the MWh from the three Unit-Specific Worksheets and calculates GHG Emissions from those Unit-Specific MWh.
A5: The MWh and GHG Emissions are further summarized for Retail Seller reporting on the AQ31 Report Information Worksheet.
A7: MWh/Certificate Summaries from Unit-Specific Worksheets
A8: MWh/Certificates from Non-Emitting Fuel Types
A9: From Unit Specific Worksheet | B9: Hydroelectric Hydropower Hydrokinetic Ocean | C9: Nuclear | D9: Solar Photovoltaic | E9: Wind | F9: TOTAL
A10: RPS certificates | B10: ='Unit-Specfic RPS Certificates'!B47 -> 0 | C10: N/A | D10: ='Unit-Specfic RPS Certificates'!B49 -> 0 | E10: ='Unit-Specfic RPS Certificates'!B50 -> 0 | F10: =SUM(B10:E10) -> 0
A11: Owned MWh | B11: ='Unit-Specific Owned MWh'!B30 -> 0 | C11: ='Unit-Specific Owned MWh'!B31 -> 0 | D11: ='Unit-Specific Owned MWh'!B32 -> 0 | E11: ='Unit-Specific Owned MWh'!B33 -> 0 | F11: =SUM(B11:E11) -> 0
A12: Contract MWh | B12: ='Unit-Specific Contracted MWh'!B47 -> 0 | C12: ='Unit-Specific Contracted MWh'!B48 -> 0 | D12: ='Unit-Specific Contracted MWh'!B49 -> 0 | E12: ='Unit-Specific Contracted MWh'!B50 -> 0 | F12: =SUM(B12:E12) -> 0
A13: TOTAL | B13: =SUM(B10:B12) -> 0 | C13: =SUM(C10:C12) -> 0 | D13: =SUM(D10:D12) -> 0 | E13: =SUM(E10:E12) -> 0 | F13: =SUM(B13:E13) -> 0
A14: End of Table
A16: MWh/Certificates from Emitting Fuel Types
A17: From Unit Specific Worksheet | B17: Biogas Digester Gas Landfill Gas | C17: Biomass Wood | D17: Fuel Cell | E17: Municipal Solid Waste Trash | F17: Natural Gas | G17: Petroleum Fuels (Diesel, Jet Fuel, Kerosene, Residual) | H17: TOTAL
A18: RPS certificates | B18: ='Unit-Specfic RPS Certificates'!B51 -> 0 | C18: ='Unit-Specfic RPS Certificates'!B52 -> 0 | D18: ='Unit-Specfic RPS Certificates'!B53 -> 0 | E18: ='Unit-Specfic RPS Certificates'!B54 -> 0 | F18: N/A | G18: N/A | H18: =SUM(B18:G18) -> 0
A19: Owned MWh | B19: ='Unit-Specific Owned MWh'!B34 -> 0 | C19: ='Unit-Specific Owned MWh'!B35 -> 0 | D19: ='Unit-Specific Owned MWh'!B36 -> 0 | E19: ='Unit-Specific Owned MWh'!B37 -> 0 | F19: ='Unit-Specific Owned MWh'!B38 -> 0 | G19: ='Unit-Specific Owned MWh'!B39 -> 0 | H19: =SUM(B19:G19) -> 0
A20: Contract MWh | B20: ='Unit-Specific Contracted MWh'!B51 -> 0 | C20: ='Unit-Specific Contracted MWh'!B52 -> 0 | D20: ='Unit-Specific Contracted MWh'!B53 -> 0 | E20: ='Unit-Specific Contracted MWh'!B54 -> 0 | F20: ='Unit-Specific Contracted MWh'!B55 -> 0 | G20: ='Unit-Specific Contracted MWh'!B56 -> 0 | H20: =SUM(B20:G20) -> 0
A21: TOTAL | B21: =SUM(B18:B20) -> 0 | C21: =SUM(C18:C20) -> 0 | D21: =SUM(D18:D20) -> 0 | E21: =SUM(E18:E20) -> 0 | F21: =SUM(F18:F20) -> 0 | G21: =SUM(G18:G20) -> 0 | H21: =SUM(B21:G21) -> 0
A22: End of Table
A24: Calculation of Biogenic and Non-Biogenic GHG Emissions from Unit-Specific Emitting Generation
A25: GHG (CO2e) Emissions Summary by GHG and Fuel Type
A26: Emissions by GHG (short tons of CO2e) | B26: Biogas Digester Gas Landfill Gas | C26: Biomass Wood | D26: Fuel Cell | E26: Municipal Solid Waste Trash | F26: Natural Gas | G26: Petroleum Fuels (Diesel, Jet Fuel, Kerosene, Residual) | H26: TOTAL
A27: Non-Biogenic Carbon Dioxide (CO2) | B27: N/A | C27: N/A | D27: =(D21*D48/2000)*$B$60 -> 0 | E27: =((E39*$B$54)*E45/2000)*$B$60 -> 0 | F27: =(F39*F45/2000)*$B$60 -> 0 | G27: =(G39*G45/2000)*$B$60 -> 0 | H27: =SUM(B27:G27) -> 0
A28: Methane (CH4) | B28: =(B39*B46/2000)*$B$61 -> 0 | C28: =(C39*C46/2000)*$B$61 -> 0 | D28: N/A | E28: =(E39*E46/2000)*$B$61 -> 0 | F28: =(F39*F46/2000)*$B$61 -> 0 | G28: =(G39*G46/2000)*$B$61 -> 0 | H28: =SUM(B28:G28) -> 0
A29: Nitrous Oxide (N2O) | B29: =(B39*B47/2000)*$B$62 -> 0 | C29: =(C39*C47/2000)*$B$62 -> 0 | D29: N/A | E29: =(E39*E47/2000)*$B$62 -> 0 | F29: =(F39*F47/2000)*$B$62 -> 0 | G29: =(G39*G47/2000)*$B$62 -> 0 | H29: =SUM(B29:G29) -> 0
A30: Biogenic Carbon Dioxide (CO2) | B30: =(B39*B49/2000)*$B$60 -> 0 | C30: =(C39*C49/2000)*$B$60 -> 0 | D30: N/A | E30: =((E39*$B$55)*E49/2000)*$B$60 -> 0 | F30: N/A | G30: N/A | H30: =SUM(B30:G30) -> 0
A31: End of Table
A33: Data Sources, Calculations and Information
A34: The Heat Rates (Millions of British Thermal Units per megawatt hour, or MMBTU/MWh), Emission Factors (lb/MMBTU), and Municipal Solid Waste Biogenic and Non-Biogenic ratios are from various sources as identified in the MA Retail Seller Emission Factor spreadsheet.
A35: Heat Rates are a 5-year average derived from the United States Energy Information Administration (EIA) Form 923 data for New England and New York, except Municipal Solid Waste, Natural Gas and Petroleum Fuels which are specific to Massachusetts.
A36: Conversion from MWh to MMBTU
A37: Heat Rates and MMBTUs by Emitting Fuel Type | B37: Biogas Digester Gas Landfill Gas | C37: Biomass Wood | D37: Fuel Cell | E37: Municipal Solid Waste Trash | F37: Natural Gas | G37: Petroleum Fuels (Diesel, Jet Fuel, Kerosene, Residual)
A38: Average heat rate (MMBTU/MWh) | B38: 11.641088 | C38: 14.466854 | D38: N/A | E38: 18.088778 | F38: 7.6077121 | G38: 9.9309279
A39: MMBTUs | B39: =B21*B38 -> 0 | C39: =C21*C38 -> 0 | D39: N/A | E39: =E21*E38 -> 0 | F39: =F21*F38 -> 0 | G39: =G21*G38 -> 0
A40: End of Table
A42: The GHG emission factors for Petroleum Fuels are the average emission factor of the four petroleum fuels listed.
A43: GHG Emission Factors by Fuel Type
A44: GHGs | B44: Biogas Digester Gas Landfill Gas | C44: Biomass Wood | D44: Fuel Cell | E44: Municipal Solid Waste | F44: Natural Gas | G44: Petroleum Fuels (Diesel, Jet, Kerosene, Residual)
A45: Non-Biogenic CO2 (lb CO2/MMBTU) | B45: N/A | C45: N/A | D45: N/A | E45: 199.95927 | F45: 116.99918 | G45: 162.67
...
