Workbook

Sheet Form
A1: Community-Based Detoxification Filing
A3: Form Instructions:
A4: - Only report data related to Community-Based Detoxification Center programs. - Enter data in the white boxes. Green boxes will automatically calculate. - For Patient Days & Revenue (lines 4-7), only report data for patients aged 22 - 64. - If operating multiple CBDC programs, complete a separate form for each program. - See additional instructions in accompanying PDF document.
A7: SECTION A: DEMOGRAPHIC INFORMATION
A9: Provider Name:
A10: Provider Address:
A11: Provider City, State, Zip:
A13: Organization Name:
A14: Organization Address:
A15: Organization City, State, Zip:
A17: MassHealth Provider Number:
A18: DPH License Number:
... A22: SECTION B: COST AND UTILIZATION DATA
C23: Fiscal Year 2025 | E23: Fiscal Year 2026 | G23: Fiscal Year 2027 | I23: Fiscal Year 2028
B24: Date of UFR Used (mm/dd/yyyy):
B25: UFR Program #:
B26: Status of UFR (select one):
B27: FY Begin (mm/dd/yyyy):
B28: FY End (mm/dd/yyyy):
A30: Report only data related to Community-Based Detoxication Center programs. Green boxes will be automatically calculated.
A32: 1 | B32: Total Reimbursable Program Expense UFR Schedule B, line 53E
A33: 2 | B33: Number of Service Units Delivered (days) UFR Schedule B, line 6SS
A34: 3 | B34: Program per diem Line 1 / Line 2 | C34: =C32/C33 -> #DIV/0! | E34: =E32/E33 -> #DIV/0! | G34: =G32/G33 -> #DIV/0! | I34: =I32/I33 -> #DIV/0!
A36: For lines 4 through 7, report data for patients aged 22 though 64 only.
C37: (A) Patient Days | D37: (B) Revenue | E37: (A) Patient Days | F37: (B) Revenue | G37: (A) Patient Days | H37: (B) Revenue | I37: (A) Patient Days | J37: (B) Revenue
A38: 4 | B38: MassHealth Primary Care Clinician/Fee-for-Service
A39: 5 | B39: Medicaid Managed Care
A40: 6 | B40: Medicare & Medicaid Dual-Eligibles
A41: 7 | B41: Uninsured
A42: 8 | B42: Total | C42: =SUM(C38:C41) -> 0 | D42: =SUM(D38:D41) -> 0 | E42: =SUM(E38:E41) -> 0 | F42: =SUM(F38:F41) -> 0 | G42: =SUM(G38:G41) -> 0 | H42: =SUM(H38:H41) -> 0 | I42: =SUM(I38:I41) -> 0 | J42: =SUM(J38:J41) -> 0
A44: 9 | B44: Total expenses for public and uninsured 22-64 Line 3 * Line 8A | C44: =C34*C42 -> #DIV/0! | E44: =E34*E42 -> #DIV/0! | G44: =G34*G42 -> #DIV/0! | I44: =I34*I42 -> #DIV/0!
A45: 10 | B45: Total revenue for public and uninsured 22-64 Line 8B | C45: =D42 -> 0 | E45: =F42 -> 0 | G45: =H42 -> 0 | I45: =J42 -> 0
A46: 11 | B46: Total unreimbursed expenses Line 9 - Line 10 | C46: =C44-C45 -> #DIV/0! | E46: =E44-E45 -> #DIV/0! | G46: =G44-G45 -> #DIV/0! | I46: =I44-I45 -> #DIV/0!

Sheet List
A1: As-Filed
A2: Under Review
A3: Audited
A4: Accepted

Sheet DataExtract
A1: Prov Name | B1: Prov Address | C1: Prov City,State,Zip | D1: Org Name | E1: Org Address | F1: Org City,State,Zip | G1: MH Prov Numb | H1: DPH Lic Numb | I1: Info Change? | J1: FY25 DateUFR | K1: FY25 UFR Prog No. | L1: FY25 UFR Status | M1: FY25 Begin | N1: FY25 End | O1: FY25 Ln1 | P1: FY25 Ln2 | Q1: FY25 Ln3 | R1: FY25 Ln 4A | S1: FY25 Ln 4B | T1: FY25 Ln 5A | U1: FY25 Ln 5B | V1: FY25 Ln 6A | W1: FY25 Ln 6B | X1: FY25 Ln 7A | Y1: FY25 Ln 7B | Z1: FY25 Ln 8A | AA1: FY25 Ln 8B | AB1: FY25 Ln 9 | AC1: FY25 Ln 10 | AD1: FY25 Ln 11 | AE1: FY26 DateUFR | AF1: FY26 UFR Prog No. | AG1: FY26 UFR Status | AH1: FY26 Begin | AI1: FY26 End | AJ1: FY26 Ln1 | AK1: FY26 Ln2 | AL1: FY26 Ln3 | AM1: FY26 Ln 4A | AN1: FY26 Ln 4B | AO1: FY26 Ln 5A | AP1: FY26 Ln 5B | AQ1: FY26 Ln 6A | AR1: FY26 Ln 6B | AS1: FY26 Ln 7A | AT1: FY26 Ln 7B | AU1: FY26 Ln 8A | AV1: FY26 Ln 8B | AW1: FY26 Ln 9 | AX1: FY26 Ln 10 | AY1: FY26 Ln 11 | AZ1: FY27 DateUFR | BA1: FY27 UFR Prog No. | BB1: FY27 UFR Status | BC1: FY27 Begin | BD1: FY27 End | BE1: FY27 Ln1 | BF1: FY27 Ln2 | BG1: FY27 Ln3 | BH1: FY27 Ln 4A | BI1: FY27 Ln 4B | BJ1: FY27 Ln 5A | BK1: FY27 Ln 5B | BL1: FY27 Ln 6A | BM1: FY27 Ln 6B | BN1: FY27 Ln 7A | BO1: FY27 Ln 7B | BP1: FY27 Ln 8A | BQ1: FY27 Ln 8B | BR1: FY27 Ln 9 | BS1: FY27 Ln 10 | BT1: FY27 Ln 11 | BU1: FY28 DateUFR | BV1: FY28 UFR Prog No. | BW1: FY28 UFR Status | BX1: FY28 Begin | BY1: FY28 End | BZ1: FY28 Ln1 | CA1: FY28 Ln2 | CB1: FY28 Ln3 | CC1: FY28 Ln 4A | CD1: FY28 Ln 4B | CE1: FY28 Ln 5A | CF1: FY28 Ln 5B | CG1: FY28 Ln 6A | CH1: FY28 Ln 6B | CI1: FY28 Ln 7A | CJ1: FY28 Ln 7B | CK1: FY28 Ln 8A | CL1: FY28 Ln 8B | CM1: FY28 Ln 9 | CN1: FY28 Ln 10 | CO1: FY28 Ln 11
A2: =Form!B9 -> 0 | B2: =Form!B10 -> 0 | C2: =Form!B11 -> 0 | D2: =Form!B13 -> 0 | E2: =Form!B14 -> 0 | F2: =Form!B15 -> 0 | G2: =Form!B17 -> 0 | H2: =Form!B18 -> 0 | I2: =Form!B20 -> 0 | J2: =Form!C24 -> 0 | K2: =Form!C25 -> 0 | L2: =Form!C26 -> 0 | M2: =Form!C27 -> 0 | N2: =Form!C28 -> 0 | O2: =Form!C32 -> 0 | P2: =Form!C33 -> 0 | Q2: =Form!C34 -> #DIV/0! | R2: =Form!C38 -> 0 | S2: =Form!D38 -> 0 | T2: =Form!C39 -> 0 | U2: =Form!D39 -> 0 | V2: =Form!C40 -> 0 | W2: =Form!D40 -> 0 | X2: =Form!C41 -> 0 | Y2: =Form!D41 -> 0 | Z2: =Form!C42 -> 0 | AA2: =Form!D42 -> 0 | AB2: =Form!C44 -> #DIV/0! | AC2: =Form!C45 -> 0 | AD2: =Form!C46 -> #DIV/0! | AE2: =Form!E24 -> 0 | AF2: =Form!E25 -> 0 | AG2: =Form!E26 -> 0 | AH2: =Form!E27 -> 0 | AI2: =Form!E28 -> 0 | AJ2: =Form!E32 -> 0 | AK2: =Form!E33 -> 0 | AL2: =Form!E34 -> #DIV/0! | AM2: =Form!E38 -> 0 | AN2: =Form!F38 -> 0 | AO2: =Form!E39 -> 0 | AP2: =Form!F39 -> 0 | AQ2: =Form!E40 -> 0 | AR2: =Form!F40 -> 0 | AS2: =Form!E41 -> 0 | AT2: =Form!F41 -> 0 | AU2: =Form!E42 -> 0 | AV2: =Form!F42 -> 0 | AW2: =Form!E44 -> #DIV/0! | AX2: =Form!E45 -> 0 | AY2: =Form!E46 -> #DIV/0! | AZ2: =Form!G24 -> 0 | BA2: =Form!G25 -> 0 | BB2: =Form!G26 -> 0 | BC2: =Form!G27 -> 0 | BD2: =Form!G28 -> 0 | BE2: =Form!G32 -> 0 | BF2: =Form!G33 -> 0 | BG2: =Form!G34 -> #DIV/0! | BH2: =Form!G38 -> 0 | BI2: =Form!H38 -> 0 | BJ2: =Form!G39 -> 0 | BK2: =Form!H39 -> 0 | BL2: =Form!G40 -> 0 | BM2: =Form!H40 -> 0 | BN2: =Form!G41 -> 0 | BO2: =Form!H41 -> 0 | BP2: =Form!G42 -> 0 | BQ2: =Form!H42 -> 0 | BR2: =Form!G44 -> #DIV/0! | BS2: =Form!G45 -> 0 | BT2: =Form!G46 -> #DIV/0! | BU2: =Form!I24 -> 0 | BV2: =Form!I25 -> 0 | BW2: =Form!I26 -> 0 | BX2: =Form!I27 -> 0 | BY2: =Form!I28 -> 0 | BZ2: =Form!I32 -> 0 | CA2: =Form!I33 -> 0 | CB2: =Form!I34 -> #DIV/0! | CC2: =Form!I38 -> 0 | CD2: =Form!J38 -> 0 | CE2: =Form!I39 -> 0 | CF2: =Form!J39 -> 0 | CG2: =Form!I40 -> 0 | CH2: =Form!J40 -> 0 | CI2: =Form!I41 -> 0 | CJ2: =Form!J41 -> 0 | CK2: =Form!I42 -> 0 | CL2: =Form!J42 -> 0 | CM2: =Form!I44 -> #DIV/0! | CN2: =Form!I45 -> 0 | CO2: =Form!I46 -> #DIV/0!
